Workbook
Name Cap_mahzam: ' עלויות חח"י'!$N$40
Name Cap_piker: ' עלויות חח"י'!$N$41
Name FC_mahzam: ' עלויות חח"י'!$M$40
Name FC_piker: ' עלויות חח"י'!$M$41

Sheet סיכום
A4: עלויות עודפות ביחס למדיניות נוכחית (מהוון) [מלש״ח]
D5: סגירת 1-4 ללא מדיניות הפחתה | E5: סגירת 1-4 עם מדיניות הפחתה | F5: 25% מתחדשות | G5: הסבה לגז | H5: שימור והקמה | I5: גריטה והקמה
A6: עלויות עודפות ישירות | B6: עלויות חח"י | D6: 0 | E6: 0 | F6: 0 | G6: =+' עלויות חח"י'!C21 -> 1238.7524 | H6: =+' עלויות חח"י'!G14 -> 558.85963 | I6: =+' עלויות חח"י'!K14 -> 859.56836
B7: עלות הקמה | D7: 0 | E7: 0 | F7: 0 | G7: ='עלויות הקמת יחידות חדשות'!B16 -> 0 | H7: ='עלויות הקמת יחידות חדשות'!$B$15 -> 8747.1857 | I7: ='עלויות הקמת יחידות חדשות'!$B$15 -> 8747.1857
B8: עלות תפעול קבועה | D8: 0 | E8: 0 | F8: 0 | G8: =+' עלויות תפעול'!M31-' עלויות תפעול'!H31 -> 238.93779 | H8: =+' עלויות תפעול'!R31-' עלויות תפעול'!H31 -> 1143.6216 | I8: =+' עלויות תפעול'!V31-' עלויות תפעול'!H31 -> -572.87702
B9: ערך קרקע | D9: 0 | E9: 0 | F9: 0 | G9: 0 | H9: 0 | I9: =-'הנחות עבודה'!E45*'הנחות עבודה'!E46 -> -700
B10: דלקים | C10: תרחיש מרכזי | D10: =' עלות דלקים - לתקופה'!E41 -> 0 | E10: 0 | F10: =' עלות דלקים - לתקופה'!AE41 -> 3047.4035 | G10: =' עלות דלקים - לתקופה'!N41 -> 2030.1055 | H10: =' עלות דלקים - לתקופה'!T41 -> -3336.9627 | I10: =' עלות דלקים - לתקופה'!Z41 -> -3367.674
C11: תרחיש פחם זול, גז יקר | D11: =' עלות דלקים - לתקופה'!E74 -> -2821.262 | E11: 0 | F11: =' עלות דלקים - לתקופה'!AE74 -> 2226.0426 | G11: =' עלות דלקים - לתקופה'!N74 -> 7949.6839 | H11: =' עלות דלקים - לתקופה'!T74 -> 2290.8547 | I11: =' עלות דלקים - לתקופה'!Z74 -> 2477.7847
C12: תרחיש פחם יקר, גז זול | D12: =' עלות דלקים - לתקופה'!E107 -> 0 | E12: 0 | F12: =' עלות דלקים - לתקופה'!AE107 -> 4963.9124 | G12: =' עלות דלקים - לתקופה'!N107 -> -5860.1662 | H12: =' עלות דלקים - לתקופה'!T107 -> -10455.647 | I12: =' עלות דלקים - לתקופה'!Z107 -> -10768.117
A13: עלות ביטחון אנרגטי | D13: 0 | E13: 0 | F13: =+' ביטחון אנרגטי'!C22*$A$15 -> -1812.9955 | G13: =+' ביטחון אנרגטי'!D22*$A$15 -> 74.243696 | H13: =+' ביטחון אנרגטי'!E22*$A$15 -> 296.97479 | I13: =+' ביטחון אנרגטי'!F22*$A$15 -> 3563.6974
A14: הסתברות תרחיש:
A15: 1
A16: סך עלויות עודפות לפי תרחישים | B16: תרחיש מרכזי | D16: =D6+D7+D8+D9+D10+D13 -> 0 | E16: =E6+E7+E8+E9+E10+E13 -> 0 | F16: =F6+F7+F8+F9+F10+F13 -> 1234.4081 | G16: =G6+G7+G8+G9+G10+G13 -> 3582.0394 | H16: =H6+H7+H8+H9+H10+H13 -> 7409.679 | I16: =I6+I7+I8+I9+I10+I13 -> 8529.9004
B17: פחם זול וגז יקר | D17: =D6+D7+D8+D9+D11+D13 -> -2821.262 | E17: =E6+E7+E8+E9+E11+E13 -> 0 | F17: =F6+F7+F8+F9+F11+F13 -> 413.04713 | G17: =G6+G7+G8+G9+G11+G13 -> 9501.6178 | H17: =H6+H7+H8+H9+H11+H13 -> 13037.496 | I17: =I6+I7+I8+I9+I11+I13 -> 14375.359
B18: פחם יקר וגז זול | D18: =D6+D7+D8+D9+D12+D13 -> 0 | E18: =E6+E7+E8+E9+E12+E13 -> 0 | F18: =F6+F7+F8+F9+F12+F13 -> 3150.9169 | G18: =G6+G7+G8+G9+G12+G13 -> -4308.2323 | H18: =H6+H7+H8+H9+H12+H13 -> 290.9944 | I18: =I6+I7+I8+I9+I12+I13 -> 1129.4573
A22: עלות עודפת ביחס למדיניות נוכחית בניכוי תועלות מהפחתת מזהמים מקומיים (מהוון) [מלש"ח]
D23: =D5 -> סגירת 1-4 ללא מדיניות הפחתה | E23: =E5 -> סגירת 1-4 עם מדיניות הפחתה | F23: =F5 -> 25% מתחדשות | G23: =G5 -> הסבה לגז | H23: =H5 -> שימור והקמה | I23: =I5 -> גריטה והקמה
A24: שינוי בפליטות לאורך התקופה (מהוון) | B24: שינוי בפליטות גזי חממה לכל התקופה ביחס למדיניות קיימת (מהוון) [מליון טון] | D24: =' פליטות - גזי חממה'!B36 -> 45.647534 | E24: - | F24: =' פליטות - גזי חממה'!Q36 -> -38.899067 | G24: =' פליטות - גזי חממה'!F36 -> -67.052095 | H24: =' פליטות - גזי חממה'!I36 -> -85.772166 | I24: =' פליטות - גזי חממה'!M36 -> -88.796662
B25: שינוי בפליטות SOX לכל התקופה ביחס למדיניות קיימת (מהוון) (אלפי טון) | D25: ='פליטות - SO2'!B35 -> 26.824746 | E25: - | F25: ='פליטות - SO2'!Q35 -> -0.51453792 | G25: ='פליטות - SO2'!F35 -> -35.777377 | H25: ='פליטות - SO2'!I35 -> -47.272553 | I25: ='פליטות - SO2'!M35 -> -49.049896
B26: שינוי בפליטות NOX לכל התקופה ביחס למדיניות קיימת (מהוון) (אלפי טון) | D26: ='פליטות - NOX'!B36 -> 16.822298 | E26: - | F26: ='פליטות - NOX'!Q36 -> -16.979751 | G26: ='פליטות - NOX'!F36 -> -15.879782 | H26: ='פליטות - NOX'!I36 -> -29.645499 | I26: ='פליטות - NOX'!M36 -> -30.760104 | M26: נתונים לגרף:
B27: שינוי בפליטות חלקיקים לכל התקופה ביחס למדיניות קיימת (מהוון) (אלפי טון) | D27: ='פליטות- חלקיקים'!B36 -> 1.2912251 | E27: - | F27: ='פליטות- חלקיקים'!Q36 -> -1.6259398 | G27: ='פליטות- חלקיקים'!F36 -> -2.5962723 | H27: ='פליטות- חלקיקים'!I36 -> -2.2754924 | I27: ='פליטות- חלקיקים'!M36 -> -2.3610458
A28: תועלת | B28: תועלת מהפחתת זיהום מקומית [מש״ח] | F28: =F25*'הנחות עבודה'!$B$98/10^3+F26*'הנחות עבודה'!$B$99/10^3+F27*'הנחות עבודה'!$B$100/10^3 -> -629.30647 | G28: =G25*'הנחות עבודה'!$B$98/10^3+G26*'הנחות עבודה'!$B$99/10^3+G27*'הנחות עבודה'!$B$100/10^3 -> -2320.9712 | H28: =H25*'הנחות עבודה'!$B$98/10^3+H26*'הנחות עבודה'!$B$99/10^3+H27*'הנחות עבודה'!$B$100/10^3 -> -3191.8238 | I28: =I25*'הנחות עבודה'!$B$98/10^3+I26*'הנחות עבודה'!$B$99/10^3+I27*'הנחות עבודה'!$B$100/10^3 -> -3311.8293 | N28: סגירת 1-4 ללא מדיניות הפחתה | O28: סגירת 1-4 עם מדיניות הפחתה | P28: 25% מתחדשות | Q28: הסבה לגז | R28: שימור והקמה | S28: גריטה והקמה
A29: עלת ההפחתה (מהוון) | B29: עלות נטו בניכוי תועלת מהפחתת זיהום מקומית - תרחיש מרכזי [מש״ח] | D29: =D16+D28 -> 0 | E29: =E16+E28 -> 0 | F29: =F16+F28 -> 605.10159 | G29: =G16+G28 -> 1261.0682 | H29: =H16+H28 -> 4217.8552 | I29: =I16+I28 -> 5218.0711 | L29: גזי חממה בממוצע לתקופה [גר׳/קוט״ש] | N29: =' פליטות - גזי חממה'!Z5 -> 407.26013 | O29: =' פליטות - גזי חממה'!AA5 -> 381.12379 | P29: =' פליטות - גזי חממה'!AB5 -> 354.56017 | Q29: =' פליטות - גזי חממה'!AC5 -> 339.10876 | R29: =' פליטות - גזי חממה'!AD5 -> 327.42607 | S29: =' פליטות - גזי חממה'!AE5 -> 325.43195
B30: עלות נטו בניכוי תועלת מהפחתת זיהום מקומית - פחם זול וגז יקר [מש״ח] | D30: =D17+D28 -> -2821.262 | E30: =E17+E28 -> 0 | F30: =F17+F28 -> -216.25934 | G30: =G17+G28 -> 7180.6465 | H30: =H17+H28 -> 9845.6726 | I30: =I17+I28 -> 11063.53 | L30: תרחיש מרכזי | N30: =D29 -> 0 | O30: =E29 -> 0 | P30: =F29 -> 605.10159 | Q30: =G29 -> 1261.0682 | R30: =H29 -> 4217.8552 | S30: =I29 -> 5218.0711 | AB30: ניתוח עלות תועלת
B31: עלות נטו בניכוי תועלת מהפחתת זיהום מקומית - פחם יקר וגז זול [מש״ח] | D31: =D18+D28 -> 0 | E31: =E18+E28 -> 0 | F31: =F18+F28 -> 2521.6104 | G31: =G18+G28 -> -6629.2035 | H31: =H18+H28 -> -2900.8294 | I31: =I18+I28 -> -2182.372 | L31: פחם זול וגז יקר | N31: =D30 -> -2821.262 | O31: =E30 -> 0 | P31: =F30 -> -216.25934 | Q31: =G30 -> 7180.6465 | R31: =H30 -> 9845.6726 | S31: =I30 -> 11063.53
L32: פחם יקר וגז זול | N32: =D31 -> 0 | O32: =E31 -> 0 | P32: =F31 -> 2521.6104 | Q32: =G31 -> -6629.2035 | R32: =H31 -> -2900.8294 | S32: =I31 -> -2182.372
B33: עלות שולית להפחתת גזי חממה
B34: תרחיש מרכזי | E34: תרחיש פחם זול וגז יקר | H34: תרחיש פחם יקר וגז זול
B35: תוספת עלות [מש״ח] | C35: הפחתת פליטות [מליון טון] | D35: עלות שולית להפחתת גזי חממה [₪/טון] | E35: תוספת עלות [מש״ח] | F35: הפחתה [מליון טון] | G35: עלות שולית להפחתת גזי חממה [₪/טון] | H35: תוספת עלות [מש״ח] | I35: הפחתה [מליון טון] | J35: עלות שולית להפחתת גזי חממה [₪/טון]
A36: עלות שולית של הפחתה באמצעות הסבה, ביחס למדיניות הנוכחית | B36: =G29 -> 1261.0682 | C36: =G24 -> -67.052095 | D36: =-B36/C36 -> 18.80729 | E36: =G30 -> 7180.6465 | F36: =G24 -> -67.052095 | G36: =-E36/F36 -> 107.09056 | H36: =G31 -> -6629.2035 | I36: =G24 -> -67.052095 | J36: =-H36/I36 -> -98.866464
A37: עלות שולית של הפחתה באמצעות שימור ביחס להסבה | B37: =H29-G29 -> 2956.787 | C37: =H24-G24 -> -18.720072 | D37: =-B37/C37 -> 157.94742 | E37: =H30-G30 -> 2665.0261 | F37: =H24-G24 -> -18.720072 | G37: =-E37/F37 -> 142.36196 | H37: =H31-G31 -> 3728.3741 | I37: =H24-G24 -> -18.720072 | J37: =-H37/I37 -> 199.16452
A38: עלות שולית של הפחתה באמצעות גריטה ביחס להסבה | B38: =I29-G29 -> 3957.0029 | C38: =I24-G24 -> -21.744567 | D38: =-B38/C38 -> 181.97663 | E38: =I30-G30 -> 3882.8834 | F38: =I24-G24 -> -21.744567 | G38: =-E38/F38 -> 178.56798 | H38: =I31-G31 -> 4446.8315 | I38: =I24-G24 -> -21.744567 | J38: =-H38/I38 -> 204.50311

Sheet הנחות עבודה
A1: הנחות עבודה
A2: תחזית ביקוש משקי -TWH | D2: נתוני דלקים ועלויות יצור | F2: מקור | H2: אתרים פחמיים | I2: הספק [מ״ו] | J2: שנת הקמה | K2: שנת גריטה מתוכננת במדיניות קיימת | L2: שנת הסבה במדיניות מוצעתֿ | M2: שנת שימור הקמה במדיניות המוצעת | N2: עלות קבועה (₪ לקוו"ט לשנה) | O2: תוספת בהסבה (₪ לקוו"ט)
A3: קצב גידול ביקוש | B3: 0.027 | D3: אחוז מתחדשות 2030 | E3: 0.17 | F3: החלטת ממשלה משנת 2015 | H3: רבין 1-4 | I3: 1440 | J3: 1981-1984 | K3: 2022
A4: שנה | B4: יצור [TWh] | D4: אחוז מתחדשות ב 2025 | E4: 0.13 | F4: החלטת ממשלה משנת 2015 | H4: רבין 5-6 | I4: 1150 | J4: 1995-1996 | K4: 2045 | L4: 2024 | M4: 2026 | N4: 188.26213 | O4: 7.9317322
A5: 2020 | B5: 73.405 | D5: עלות ב-₪ לקוו"ט מותקן מחז"מ | E5: =3947 -> 3947 | F5: הסדרה 914 | H5: רוטנברג 1-2 | I5: 1150 | J5: 1990-19991 | K5: 2040 | L5: 2022 | M5: 2024 | N5: 206.523 | O5: -1.2410071
A6: 2021 | B6: 74.593 | D6: עלות ב-₪ לקוו"ט מותקן מחזור פתוח | E6: =2867 -> 2867 | F6: הסדרה 914 | H6: רוטנברג 3-4 | I6: 1100 | J6: 2000-2001 | K6: 2049 | L6: 2026 | M6: 2028 | N6: 186.19385 | O6: 11.910159
A7: 2022 | B7: 77.029 | D7: מקדם תוספת עלות בגין ריבית בזמן הקמה | E7: =(1+B37)^(3/2) -> 1.0605961 | F7: חישוב הרשות | H7: סה״כ מ"ו מותקן פחמי לפני גריטת 1-4 | I7: =SUM(I3:I6) -> 4840
A8: 2023 | B8: 79.544 | D8: עלות ב-₪ לקוו"ט ליחידת יצור משוקללת בגז | E8: =(E24*E6+(1-E24)*E5)*E7 -> 3785.2673 | F8: מחושב לפי תמהיל העלויות | H8: סה״כ/ממוצע | I8: 3400 | N8: =SUMPRODUCT(N4:N6,I4:I6)/I8 -> 193.76945 | O8: 6.1163261
A9: 2024 | B9: 82.142 | D9: עלות תפעול קבועה ב-₪ לקוו"ט פחמי | E9: =N8 -> 193.76945 | F9: ממוצע נתוני חח"י בפועל
A10: 2025 | B10: 84.824 | D10: עלות תפעול קבועה ב-₪ לקוו"ט מוסב | E10: =+E9+O8 -> 199.88578 | F10: ממוצע הערכת חח"י
A11: 2026 | B11: =B10*(1+$B$3) -> 87.114248 | D11: עלות תפעול קבועה ב-₪ לקוו"ט מחז"מ | E11: =165 -> 165 | F11: הסדרה 914
A12: 2027 | B12: =B11*(1+$B$3) -> 89.466333 | D12: עלות תפעול קבועה ב-₪ לקוו"ט מחזור פתוח | E12: =163 -> 163 | F12: הסדרה 914
A13: 2028 | B13: =B12*(1+$B$3) -> 91.881924 | D13: עלות תפעול קבועה ב-₪ לקוו"ט לתמהיל מחז״ם ופיקר | E13: =E12*E24+E11*(1-E24) -> 164.3 | F13: מחושב לפי תמהיל העלויות
A14: 2029 | B14: =B13*(1+$B$3) -> 94.362736 | D14: תפעול משתנה באג׳ לקוט״ש של מתקנים להפחתת פליטות | E14: 0.27710356 | F14: העלות המוכרת לחח"י לתפעול המתקנים
A15: 2030 | B15: =B14*(1+$B$3) -> 96.910529 | D15: תפעול משתנה באג׳ לקוט״ש של מתקנים להפחתת פליטות ללא FGD | E15: 0.19818182 | F15: העלות המוכרת לחח"י לתפעול המתקנים
A16: 2031 | B16: =B15*(1+$B$3) -> 99.527114 | D16: תפעול משתנה ללא מתקנים להפחתת פליטות (דולר ל-MWH) | E16: 0.6 | F16: עדכון תוכנית פיתוח חח"י 2016
A17: 2032 | B17: =B16*(1+$B$3) -> 102.21435 | D17: תפעול משתנה באג' לקוט"ש פחמי | E17: =E16*B36/1000*100+E14 -> 0.49310356 | F17: נתוני חח"י
A18: 2033 | B18: =B17*(1+$B$3) -> 104.97413 | D18: תפעול משתנה באג' לקוט"ש מוסב | E18: =E16*B36/1000*100+E15 -> 0.41418182 | F18: נתוני חח"י בניכוי FGD
A19: 2034 | B19: =B18*(1+$B$3) -> 107.80843 | D19: תפעול משתנה באג' לקוט"ש מחז"מ | E19: =1.03 -> 1.03 | F19: הסדרה 914
A20: 2035 | B20: =B19*(1+$B$3) -> 110.71926 | D20: תפעול משתנה באג' לקוט"ש מחזור פתוח | E20: =0.55 -> 0.55 | F20: הסדרה 914
A21: 2036 | B21: =B20*(1+$B$3) -> 113.70868 | D21: תפעול משתנה באג' לקוט"ש ליחידת גז משוקללת | E21: =E20*E25+E19*(1-E25) -> 0.958 | F21: מחושב לפי תמהיל העלויות
A22: 2037 | B22: =B21*(1+$B$3) -> 116.77882 | D22: הספק בגז נדרש בתרחישי שימור וגריטה (מגה וואט) | E22: 3660 | F22: הרצת תפ״ט
A23: 2038 | B23: =B22*(1+$B$3) -> 119.93185 | D23: משך פחת למתקן יצור חשמל בגז (שנה) | E23: 25 | F23: בסיס תעריף חח״י
A24: 2039 | B24: =B23*(1+$B$3) -> 123.17 | D24: אחוז פיקר מתוך ההספק המותקן הנוסף | E24: 0.35 | F24: נתוני תפ"ט ועיבודי רשות החשמל
A25: 2040 | B25: =B24*(1+$B$3) -> 126.4956 | D25: אחוז פיקר מתוך האנרגיה המיוצרת בגז | E25: 0.15 | F25: עיבוד רשות החשמל מחובות הדיווח
A26: 2041 | B26: =B25*(1+$B$3) -> 129.91098 | D26: מקדם הספק למחז״ם חדש | E26: =6500/8760 -> 0.74200913 | F26: הערכה
A27: 2042 | B27: =B26*(1+$B$3) -> 133.41857 | D27: מקדם הספק לפיקר חדש | E27: =1500/8760 -> 0.17123288 | F27: הערכה
A28: 2043 | B28: =B27*(1+$B$3) -> 137.02087 | D28: נצילות מחז״ם חדש LHV | E28: 0.65 | F28: נתוני יצרנים + 2% שיפור עתידי
A29: 2044 | B29: =B28*(1+$B$3) -> 140.72044 | D29: נצילות מחז״ם חדש HHV | E29: =E28/1.11 -> 0.58558559 | F29: חישוב
A30: 2045 | B30: =B29*(1+$B$3) -> 144.51989 | D30: נצילות מחז״ם חדש HHV עם פקטור טמפרטורה, עבודה בעומס חלקי והזדקנות | E30: =E28*$E$34*$E$35*E36/$B$45 -> 0.54271282 | F30: חישוב
A31: 2040 | B31: =B24*(1+$B$3) -> 126.4956 | D31: נצילות פיקר חדש LHV | E31: 0.43 | F31: נתוני יצרנים +2% מקדם שיפור עתידי
A32: סך הכל לתקופה | B32: =SUM(B5:B31) -> 2868.6873 | D32: נצילות פיקר חדש HHV | E32: =E31/1.11 -> 0.38738739
A33: מקור: סטטיסטיקאי ראשי חח״י, הנחות הרצת תפ"ט בסימוכין 794/16/2019 | D33: נצילות פיקר חדש HHV עם פקטור טמפרטורה | E33: =E31*E34/B45 -> 0.37576577 | F33: חישוב
D34: מקדם הפחתת נצילות בגין טמפרטורת אתר (20 מעלות בממוצע שנתי) | E34: 0.97 | F34: הסדרה 914
A35: נתונים כלכליים | D35: מקדם הפחתת נצילות בגין הזדקנות | E35: 0.985 | F35: הסדרה 914
A36: שער הדולר | B36: 3.6 | D36: מקדם הפחתת נצילות בגין עומס חלקי והתנעות | E36: 0.97 | F36: הסדרה 914
A37: ריבית היוון | B37: 0.04 | D37: נצילות פחם במדיניות ההפחתה HHV | E37: =AVERAGE(F61,F62)/1.04 -> 0.36678125 | F37: חישוב
D38: נצילות פחמית מוסבת לגז (כולל חסכון בצריכה עצמית) | E38: =E37+1.3% -> 0.37978125 | F38: הערכת ינ״ם
D39: ממוצע צריכת דלק ליצור בגז טבעי (MMBTU/MWH) HHV | E39: =AVERAGE(E67,E68) -> 7.3658587 | F39: חישוב
A40: המרות | D40: ממוצע צריכת דלק ליצור ביחידה מוסבת (MMBTU/MWH ) | E40: =1.04*B41/E38 -> 9.343484 | F40: חישוב
A41: MMBTU in MWh | B41: 3.412 | D41: נצילות ייצור ממוצעת ביחידות גז קיימות HHV | E41: =F69 -> 0.46168538 | F41: חישוב
A42: MMBTU in a ton of coal | B42: 23.8 | D42: נצילות יצור ממוצעת ביחידות גז קיימות LHV | E42: =E41*B45 -> 0.51247077 | F42: חישוב
A43: MMBTU in BCM | B43: =1000000000/27.8 -> 35971223 | D43: עומס מינימום בתחנה פחמית (MW) | E43: 300 | F43: תפ"ט
A44: MMBTU per TON OF NATURAL GAS | B44: 47.2 | D44: עומס מינימום בתחנה מוסבת (MW) | E44: 240 | F44: תפ"ט
A45: HHV ל- LHV | B45: 1.11 | D45: ערך קרקע תחנת כוח (מיליון ש״ח/דונם) | E45: 1 | F45: הערכת שמאי - מתקן התפלה
D46: שטח מתפנה בגריטת תחנות פחם (דונם) | E46: 700 | F46: הערכת רשות החשמל
A53: אוכלוסיה (תחזית למ״ס)
A54: אוכלוסיה 2030 (מליוני איש) | B54: 11.1
A55: אוכלוסיה 2040 (מליוני איש) | B55: 13.2
A59: נצילות ממוצעת של יחידות פחמיות במדיניות ההפחתה
A60: שנה | B60: צריכת פחם (אלפי טון) | C60: מליוני MMBTU נצרך בשנה בפחם | D60: אנרגיה מיוצרת בפחם (TWH) | E60: נצילות יחידות פחם (MMBTU/MWH) | F60: נצילות %
A61: 2017 | B61: 7833.7 | C61: =B61*$B$42/1000 -> 186.44206 | D61: 20.6 | E61: =C61/D61 -> 9.0505854 | F61: =B41/$E$61 -> 0.37699219
A62: 2018 | B62: 8172.7 | C62: =B62*$B$42/1000 -> 194.51026 | D62: 22 | E62: =C62/D62 -> 8.8413755 | F62: =B41/$E$62 -> 0.3859128
A65: נצילות ממוצעת של יחידות יצור קיימות בגז לפי נתונים בפועל ב 2018
A66: יצרן חשמל | B66: צריכת גז BCM 2018 | C66: צריכת גז מליוני MMBTU | D66: יצור בגז | E66: נצילות יצור בגז HHV (MMBTU/MWH) | F66: נצילות % HHV
A67: חחי | B67: 5.6 | C67: =B67*$B$43/10^6 -> 201.43885 | D67: 27 | E67: =C67/D67 -> 7.4606981 | F67: =$B$41/E67 -> 0.45732986
A68: יצרני חשמל פרטיים (ללא קוגנרציה) | B68: 3.22 | C68: =B68*$B$43/10^6 -> 115.82734 | D68: 15.93 | E68: =C68/D68 -> 7.2710193 | F68: =$B$41/E68 -> 0.4692602
A69: סה"כ | B69: =B68+B67 -> 8.82 | C69: =C68+C67 -> 317.26619 | D69: =D68+D67 -> 42.93 | E69: =C69/D69 -> 7.3903142 | F69: =$B$41/E69 -> 0.46168538
A73: מקדמי פליטות - לפי תקן (גר׳/קוט״ש)
B74: CO2 | C74: NOX | D74: SOX | E74: חלקיקים
A75: יחידות פחמיות לאחר הפחתת פליטות. הערה מס' 1 | B75: 880 | C75: 0.46 | D75: 0.46 | E75: 0.15
A76: יחידות פחמיות לאחר הסבה לגז עם הפחתת פליטות. הערה מס' 2 | B76: 474 | C76: 0.24 | D76: 0.08 | E76: 0.01
A77: פיקר בעבודה בגז טבעי. הערות 3,4,5 | B77: =53*3.412/E33 -> 481.24661 | C77: 0.452 | D77: 0.05 | E77: 0.045
A78: מחז"ם. הערות, מס' 3, 6 | B78: =53*3.412/E30 -> 333.20754 | C78: 0.22 | D78: 0.05 | E78: 0.02
A79: יחידת גז משוקללת | B79: 378 | C79: =C77*$E$25+(1-$E$25)*C78 -> 0.2548 | D79: =D77*$E$25+(1-$E$25)*D78 -> 0.05 | E79: =E77*$E$25+(1-$E$25)*E78 -> 0.02375
A81: הערות:
A82: 1* Boiler Coal firing. (dry nm3@6%O2). Unit Load 575 MW. Orot Rabin 5&6, Rutenberg 1&2
A83: 2* Boiler Gas Firing. (dry nm3@3%O2). Unit Load 575 MW. Orot Rabin 5&6, Rutenberg 1&2
A84: 3. פליטות פחמן דו חמצני מחושבות מחושבות לפי מקדם פליטה סגולית של 53 ק״ג ל - BTU
A85: 4* פליטות מזהמים לפי Gas Turbine (dry nm3@15%O2)
A86: 5*פליטות מזהמים לפי Siemens V.94.2. Open Cycle. 150 MW
A87: 6*פליטות מזהמים לפי Combined Cycle with Gas Turbine 9FA. Unit Load 397 MW
A89: מקדמי פליטות - בפועל (גר׳/קוט״ש)
B90: CO2 | C90: NOX | D90: SOX | E90: חלקיקים
A91: יחידות פחמיות לאחר הפחתת פליטות. | B91: 880 | C91: 0.35 | D91: 0.3 | E91: 0.03 | F91: חח״י
A92: יחידות פחמיות לאחר הסבה לגז עם הפחתת פליטות. | B92: 474 | C92: 0.27 | D92: 0.09 | E92: 0.013 | F92: חח״י
A93: יחידת גז משוקללת | B93: 390 | C93: 0.165 | D93: 0.005 | E93: =0.0158 -> 0.0158 | F93: עיבוד הרשות לפי דיווח פליטות מפל״ס ב 2017 מחולק בסך היצור בגז באותה שנה
A96: מזהם | B96: עלות חיצונית לפי הגנ״ס (עדכון מיום 16.7.2019)
B97: ש״ח לטון
A98: SO2 | B98: 46260
A99: NOx | B99: 26791
A100: חלקיקים | B100: 92623
A101: CO2 | B101: 130.96

Sheet הספק לפי חלופה
A1: הספק פחם והספק חליפי לפי חלופה ולפי שנה
A2: שנה | B2: סגירת 1-4 ללא מדיניות הפחתה | E2: סגירת 1-4 ומדיניות הפחתה | H2: הסבה | K2: שימור והקמה | O2: גריטה והקמה | R2: 25% מתחדשות
B3: הספק פחם (MW) | C3: הספק גז מוקם מצטבר (MW) | E3: הספק פחם (MW) | F3: הספק גז מוקם מצטבר (MW) | H3: הספק פחם (MW) | I3: הספק מוסב (MW) | J3: הספק גז מוקם מצטבר (MW) | K3: הספק פחם (MW) | L3: הספק פחם בשימור (MW) | M3: הספק גז מוקם מצטבר (MW) | O3: הספק פחם (MW) | P3: =M3 -> הספק גז מוקם מצטבר (MW) | R3: הספק פחם (MW) | S3: =P3 -> הספק גז מוקם מצטבר (MW)
A4: 2020 | B4: ='הנחות עבודה'!I8 -> 3400 | E4: =B4 -> 3400 | F4: =C4 -> 0 | H4: 3400 | I4: 0 | J4: =F4 -> 0 | K4: 3400 | L4: 0 | M4: 0 | O4: 3400 | P4: 0 | R4: =E4 -> 3400 | S4: =F4 -> 0
A5: 2021 | B5: =B4 -> 3400 | E5: =B5 -> 3400 | F5: =C5 -> 0 | H5: 3400 | I5: 0 | J5: =F5 -> 0 | K5: 3400 | L5: 0 | M5: 0 | O5: 3400 | P5: 0 | R5: =E5 -> 3400 | S5: =F5 -> 0
A6: 2022 | B6: =B5 -> 3400 | E6: =B6 -> 3400 | F6: =C6 -> 0 | H6: ='הנחות עבודה'!$I$8-'הספק לפי חלופה'!I6 -> 2250 | I6: ='הנחות עבודה'!I4 -> 1150 | J6: =F6 -> 0 | K6: 3400 | L6: 0 | M6: 0 | O6: 3400 | P6: 0 | R6: =E6 -> 3400 | S6: =F6 -> 0
A7: =A6+1 -> 2023 | B7: =B4 -> 3400 | E7: =B7 -> 3400 | F7: =C7 -> 0 | H7: ='הנחות עבודה'!$I$8-'הספק לפי חלופה'!I7 -> 2250 | I7: =I6 -> 1150 | J7: =F7 -> 0 | K7: 3400 | L7: 0 | M7: 0 | O7: 3400 | P7: 0 | R7: =E7 -> 3400 | S7: =F7 -> 0
A8: =A7+1 -> 2024 | B8: =B7 -> 3400 | E8: =B8 -> 3400 | F8: =C8 -> 0 | H8: ='הנחות עבודה'!$I$8-'הספק לפי חלופה'!I8 -> 1100 | I8: =I7+'הנחות עבודה'!I5 -> 2300 | J8: =F8 -> 0 | K8: =MAX('הנחות עבודה'!$I$8-'הספק לפי חלופה'!L8,0) -> 2250 | L8: ='הנחות עבודה'!I4 -> 1150 | M8: ='הנחות עבודה'!E22/3 -> 1220 | O8: =K8 -> 2250 | P8: =M8 -> 1220 | R8: =E8 -> 3400 | S8: =F8 -> 0
A9: =A8+1 -> 2025 | B9: =B8 -> 3400 | E9: =B9 -> 3400 | F9: =C9 -> 0 | H9: ='הנחות עבודה'!$I$8-'הספק לפי חלופה'!I9 -> 1100 | I9: =I8 -> 2300 | J9: =F9 -> 0 | K9: =MAX('הנחות עבודה'!$I$8-'הספק לפי חלופה'!L9,0) -> 2250 | L9: =L8 -> 1150 | M9: =M8 -> 1220 | O9: =K9 -> 2250 | P9: =M9 -> 1220 | R9: =E9 -> 3400 | S9: =F9 -> 0
A10: =A9+1 -> 2026 | B10: =B9 -> 3400 | E10: =B10 -> 3400 | F10: =C10 -> 0 | I10: =I9+'הנחות עבודה'!I6 -> 3400 | J10: =F10 -> 0 | K10: =MAX('הנחות עבודה'!$I$8-'הספק לפי חלופה'!L10,0) -> 1100 | L10: =L9+'הנחות עבודה'!I5 -> 2300 | M10: =M9*2 -> 2440 | O10: =K10 -> 1100 | P10: =M10 -> 2440 | R10: =E10 -> 3400 | S10: =F10 -> 0
A11: =A10+1 -> 2027 | B11: =B10 -> 3400 | E11: =B11 -> 3400 | F11: =C11 -> 0 | H11: =H10 -> 0 | I11: 3400 | J11: =F11 -> 0 | K11: =MAX('הנחות עבודה'!$I$8-'הספק לפי חלופה'!L11,0) -> 1100 | L11: =L10 -> 2300 | M11: =M10 -> 2440 | O11: =K11 -> 1100 | P11: =M11 -> 2440 | R11: =E11 -> 3400 | S11: =F11 -> 0
A12: =A11+1 -> 2028 | B12: =B11 -> 3400 | E12: =B12 -> 3400 | F12: =C12 -> 0 | H12: =H11 -> 0 | I12: =I10 -> 3400 | J12: =F12 -> 0 | K12: =MAX('הנחות עבודה'!$I$8-'הספק לפי חלופה'!L12,0) -> 0 | L12: 3400 | M12: =M9*3 -> 3660 | O12: =K12 -> 0 | P12: =M12 -> 3660 | R12: =E12 -> 3400 | S12: =F12 -> 0
A13: =A12+1 -> 2029 | B13: =B12 -> 3400 | E13: =B13 -> 3400 | F13: =C13 -> 0 | H13: =H12 -> 0 | I13: =I12 -> 3400 | J13: =F13 -> 0 | K13: =K12 -> 0 | L13: =B12 -> 3400 | M13: =M12 -> 3660 | O13: =K13 -> 0 | P13: =M13 -> 3660 | R13: =E13 -> 3400 | S13: =F13 -> 0
A14: =A13+1 -> 2030 | B14: =B13 -> 3400 | E14: =B14 -> 3400 | F14: =C14 -> 0 | H14: =H13 -> 0 | I14: =I13 -> 3400 | J14: =F14 -> 0 | K14: =K13 -> 0 | L14: =B13 -> 3400 | M14: =M13 -> 3660 | O14: =K14 -> 0 | P14: =M14 -> 3660 | R14: =E14 -> 3400 | S14: =F14 -> 0
A15: =A14+1 -> 2031 | B15: =B14 -> 3400 | E15: =B15 -> 3400 | F15: =C15 -> 0 | H15: =H14 -> 0 | I15: =I14 -> 3400 | J15: =F15 -> 0 | K15: =K14 -> 0 | L15: =B14 -> 3400 | M15: =M14 -> 3660 | O15: =K15 -> 0 | P15: =M15 -> 3660 | R15: =E15 -> 3400 | S15: =F15 -> 0
A16: =A15+1 -> 2032 | B16: =B15 -> 3400 | E16: =B16 -> 3400 | F16: =C16 -> 0 | H16: =H15 -> 0 | I16: =I15 -> 3400 | J16: =F16 -> 0 | K16: =K15 -> 0 | L16: =B15 -> 3400 | M16: =M15 -> 3660 | O16: =K16 -> 0 | P16: =M16 -> 3660 | R16: =E16 -> 3400 | S16: =F16 -> 0
A17: =A16+1 -> 2033 | B17: =B16 -> 3400 | E17: =B17 -> 3400 | F17: =C17 -> 0 | H17: =H16 -> 0 | I17: =I16 -> 3400 | J17: =F17 -> 0 | K17: =K16 -> 0 | L17: =B16 -> 3400 | M17: =M16 -> 3660 | O17: =K17 -> 0 | P17: =M17 -> 3660 | R17: =E17 -> 3400 | S17: =F17 -> 0
A18: =A17+1 -> 2034 | B18: =B17 -> 3400 | E18: =B18 -> 3400 | F18: =C18 -> 0 | H18: =H17 -> 0 | I18: =I17 -> 3400 | J18: =F18 -> 0 | K18: =K17 -> 0 | L18: =B17 -> 3400 | M18: =M17 -> 3660 | O18: =K18 -> 0 | P18: =M18 -> 3660 | R18: =E18 -> 3400 | S18: =F18 -> 0
A19: =A18+1 -> 2035 | B19: =B18 -> 3400 | E19: =B19 -> 3400 | F19: =C19 -> 0 | H19: =H18 -> 0 | I19: =I18 -> 3400 | J19: =F19 -> 0 | K19: =K18 -> 0 | L19: =B18 -> 3400 | M19: =M18 -> 3660 | O19: =K19 -> 0 | P19: =M19 -> 3660 | R19: =E19 -> 3400 | S19: =F19 -> 0
A20: =A19+1 -> 2036 | B20: =B19 -> 3400 | E20: =B20 -> 3400 | F20: =C20 -> 0 | H20: =H19 -> 0 | I20: =I19 -> 3400 | J20: =F20 -> 0 | K20: =K19 -> 0 | L20: =B19 -> 3400 | M20: =M19 -> 3660 | O20: =K20 -> 0 | P20: =M20 -> 3660 | R20: =E20 -> 3400 | S20: =F20 -> 0
A21: =A20+1 -> 2037 | B21: =B20 -> 3400 | E21: =B21 -> 3400 | F21: =C21 -> 0 | H21: =H20 -> 0 | I21: =I20 -> 3400 | J21: =F21 -> 0 | K21: =K20 -> 0 | L21: =B20 -> 3400 | M21: =M20 -> 3660 | O21: =K21 -> 0 | P21: =M21 -> 3660 | R21: =E21 -> 3400 | S21: =F21 -> 0
A22: =A21+1 -> 2038 | B22: =B21 -> 3400 | E22: =B22 -> 3400 | F22: =C22 -> 0 | H22: =H21 -> 0 | I22: =I21 -> 3400 | J22: =F22 -> 0 | K22: =K21 -> 0 | L22: =B21 -> 3400 | M22: =M21 -> 3660 | O22: =K22 -> 0 | P22: =M22 -> 3660 | R22: =E22 -> 3400 | S22: =F22 -> 0
A23: =A22+1 -> 2039 | B23: =B22 -> 3400 | E23: =B23 -> 3400 | F23: =C23 -> 0 | H23: =H22 -> 0 | I23: =B23 -> 3400 | J23: =F23 -> 0 | K23: =K22 -> 0 | L23: =B22 -> 3400 | M23: =M22 -> 3660 | O23: =K23 -> 0 | P23: =M23 -> 3660 | R23: =E23 -> 3400 | S23: =F23 -> 0
A24: =A23+1 -> 2040 | B24: =B23-'הנחות עבודה'!I5 -> 2250 | C24: ='הנחות עבודה'!$E$22/3 -> 1220 | E24: =B24 -> 2250 | F24: =C24 -> 1220 | H24: =H23 -> 0 | I24: =B24 -> 2250 | J24: =F24 -> 1220 | K24: =K23 -> 0 | L24: =B23 -> 3400 | M24: =M23 -> 3660 | O24: =K24 -> 0 | P24: =M24 -> 3660 | R24: =E24 -> 2250 | S24: =F24 -> 1220
A25: =A24+1 -> 2041 | B25: =B24 -> 2250 | C25: ='הנחות עבודה'!$E$22/3 -> 1220 | E25: =B25 -> 2250 | F25: =C25 -> 1220 | H25: =H24 -> 0 | I25: =B25 -> 2250 | J25: =F25 -> 1220 | K25: =K24 -> 0 | L25: =B24 -> 2250 | M25: =M24 -> 3660 | O25: =K25 -> 0 | P25: =M25 -> 3660 | R25: =E25 -> 2250 | S25: =F25 -> 1220
A26: =A25+1 -> 2042 | B26: =B25 -> 2250 | C26: ='הנחות עבודה'!$E$22/3 -> 1220 | E26: =B26 -> 2250 | F26: =C26 -> 1220 | H26: =H25 -> 0 | I26: =B26 -> 2250 | J26: =F26 -> 1220 | K26: =K25 -> 0 | L26: =B25 -> 2250 | M26: =M25 -> 3660 | O26: =K26 -> 0 | P26: =M26 -> 3660 | R26: =E26 -> 2250 | S26: =F26 -> 1220
A27: =A26+1 -> 2043 | B27: =B26 -> 2250 | C27: ='הנחות עבודה'!$E$22/3 -> 1220 | E27: =B27 -> 2250 | F27: =C27 -> 1220 | H27: =H26 -> 0 | I27: =B27 -> 2250 | J27: =F27 -> 1220 | K27: =K26 -> 0 | L27: =B26 -> 2250 | M27: =M26 -> 3660 | O27: =K27 -> 0 | P27: =M27 -> 3660 | R27: =E27 -> 2250 | S27: =F27 -> 1220
A28: =A27+1 -> 2044 | B28: =B27 -> 2250 | C28: ='הנחות עבודה'!$E$22/3 -> 1220 | E28: =B28 -> 2250 | F28: =C28 -> 1220 | H28: =H27 -> 0 | I28: =B28 -> 2250 | J28: =F28 -> 1220 | K28: =K27 -> 0 | L28: =B27 -> 2250 | M28: =M27 -> 3660 | O28: =K28 -> 0 | P28: =M28 -> 3660 | R28: =E28 -> 2250 | S28: =F28 -> 1220
A29: =A28+1 -> 2045 | B29: =B28-'הנחות עבודה'!I4 -> 1100 | C29: ='הנחות עבודה'!$E$22*2/3 -> 2440 | E29: =B29 -> 1100 | F29: =C29 -> 2440 | H29: =H28 -> 0 | I29: =B29 -> 1100 | J29: =F29 -> 2440 | K29: =K28 -> 0 | L29: =B28 -> 2250 | M29: =M23 -> 3660 | O29: =O23 -> 0 | P29: =M29 -> 3660 | R29: =E29 -> 1100 | S29: =F29 -> 2440
A30: הערות:
A31: בחלופות השימור והגריטה נדרשת תוספת הספק בהקף של כ 3660 מ״ו. הספק זה נפרס בהתאם לשנות הגריטה/שימור
A32: הגיליון מתמקד בחלופות להספק הפחמי ואינו כולל את ההספק הנוסף הנדרש למשק בכל החלופות לאור הגידול בביקוש

Sheet תמהיל יצור
A1: תמהיל הדלקים לפי חלופה ולפי שנה
B2: ייצור משקי ומתחדשות | G2: סגירת 1-4 ללא מדיניות הפחתה | K2: סגירת 1-4 עם מדיניות הפחתה | O2: הסבה | U2: שימור והקמה | AB2: גריטה והקמה | AH2: 25% מתחדשות
B3: שנה | C3: יצור משקי - Twh | D3: אחוז מתחדשות | E3: מתחדשות TWH | G3: =E3 -> מתחדשות TWH | H3: פחם - TWH | I3: גז - TWH | K3: =E3 -> מתחדשות TWH | L3: פחם TWH | M3: גז - TWH | O3: מתחדשות TWh | P3: פחם ביחידה פחמית TWh | Q3: פחם ביחידה מוסבת TWh | R3: גז ביחידה מוסבת - TWH | S3: =X3 -> גז ביחידות קיימות TWH | U3: מתחדשות TWh | V3: פחם ביחידה פחמית TWh | W3: פחם ביחידה בשימור TWh | X3: גז ביחידות קיימות TWH | Y3: גז במחז״מים חדשים TWH | Z3: גז בפיקרים חדשים TWH | AB3: מתחדשות | AC3: פחם TWh | AD3: גז ביחידות קיימות TWH | AE3: גז במחז״מים חדשים TWH | AF3: גז בפיקרים חדשים TWH | AH3: אחוז מתחדשות | AI3: תוספת מתחדשות - TWH | AJ3: מתחדשות כולל-TWH | AK3: פחם - TWH | AL3: גז - TWH
B4: 2020 | C4: =+'הנחות עבודה'!B5 -> 73.405 | D4: 0.1 | E4: =D4*C4 -> 7.3405 | G4: =E4 -> 7.3405 | H4: =$E$38*('הספק לפי חלופה'!B4/$E$36) -> 20.512397 | I4: =C4-H4-E4 -> 45.552103 | K4: =E4 -> 7.3405 | L4: =$E$39*'הספק לפי חלופה'!E4/$E$36 -> 14.471074 | M4: =C4-E4-L4 -> 51.593426 | O4: =E4 -> 7.3405 | P4: =('הספק לפי חלופה'!H4/$E$36)*'תמהיל יצור'!$E$39 -> 14.471074 | Q4: =$E$42*'הספק לפי חלופה'!I4 -> 0 | R4: =($E$41/$E$40)*('הספק לפי חלופה'!I4/'תמהיל יצור'!$E$37)*L4 -> 0 | S4: =C4-E4-Q4-R4-P4 -> 51.593426 | U4: =E4 -> 7.3405 | V4: =P4 -> 14.471074 | W4: =$E$43*'הספק לפי חלופה'!L4 -> 0 | X4: =C4-W4-V4-U4-Y4-Z4 -> 51.593426 | Y4: ='הספק לפי חלופה'!M4*(1-'הנחות עבודה'!$E$24)*'הנחות עבודה'!$E$26*8760/10^6 -> 0 | Z4: ='הספק לפי חלופה'!M4*'הנחות עבודה'!$E$24*'הנחות עבודה'!$E$27*8760/10^6 -> 0 | AB4: =E4 -> 7.3405 | AC4: =V4 -> 14.471074 | AD4: =C4-AB4-AC4-AE4-AF4 -> 51.593426 | AE4: ='הספק לפי חלופה'!P4*(1-'הנחות עבודה'!$E$24)*'הנחות עבודה'!$E$26*8760/10^6 -> 0 | AF4: ='הספק לפי חלופה'!P4*'הנחות עבודה'!$E$24*'הנחות עבודה'!$E$27*8760/10^6 -> 0 | AH4: =D4 -> 0.1 | AI4: =AJ4-E4 -> 0 | AJ4: =AB4 -> 7.3405 | AK4: =L4 -> 14.471074 | AL4: =C4-AK4-AJ4 -> 51.593426
B5: 2021 | C5: =+'הנחות עבודה'!B6 -> 74.593 | D5: 0.11 | E5: =D5*C5 -> 8.20523 | G5: =E5 -> 8.20523 | H5: =$E$38*('הספק לפי חלופה'!B5/$E$36) -> 20.512397 | I5: =C5-H5-E5 -> 45.875373 | K5: =E5 -> 8.20523 | L5: =$E$39*'הספק לפי חלופה'!E5/$E$36 -> 14.471074 | M5: =C5-E5-L5 -> 51.916696 | O5: =E5 -> 8.20523 | P5: =('הספק לפי חלופה'!H5/$E$36)*'תמהיל יצור'!$E$39 -> 14.471074 | Q5: =$E$42*'הספק לפי חלופה'!I5 -> 0 | R5: =($E$41/$E$40)*('הספק לפי חלופה'!I5/'תמהיל יצור'!$E$37)*L5 -> 0 | S5: =C5-E5-Q5-R5-P5 -> 51.916696 | U5: =E5 -> 8.20523 | V5: =P5 -> 14.471074 | W5: =$E$43*'הספק לפי חלופה'!L5 -> 0 | X5: =C5-W5-V5-U5-Y5-Z5 -> 51.916696 | Y5: ='הספק לפי חלופה'!M5*(1-'הנחות עבודה'!$E$24)*'הנחות עבודה'!$E$26*8760/10^6 -> 0 | Z5: ='הספק לפי חלופה'!M5*'הנחות עבודה'!$E$24*'הנחות עבודה'!$E$27*8760/10^6 -> 0 | AB5: =E5 -> 8.20523 | AC5: =V5 -> 14.471074 | AD5: =C5-AB5-AC5-AE5-AF5 -> 51.916696 | AE5: ='הספק לפי חלופה'!P5*(1-'הנחות עבודה'!$E$24)*'הנחות עבודה'!$E$26*8760/10^6 -> 0 | AF5: ='הספק לפי חלופה'!P5*'הנחות עבודה'!$E$24*'הנחות עבודה'!$E$27*8760/10^6 -> 0 | AH5: =D5 -> 0.11 | AI5: =AJ5-E5 -> 0 | AJ5: =AB5 -> 8.20523 | AK5: =L5 -> 14.471074 | AL5: =C5-AK5-AJ5 -> 51.916696
B6: 2022 | C6: =+'הנחות עבודה'!B7 -> 77.029 | D6: 0.11 | E6: =D6*C6 -> 8.47319 | G6: =E6 -> 8.47319 | H6: =$E$38*('הספק לפי חלופה'!B6/$E$36) -> 20.512397 | I6: =C6-H6-E6 -> 48.043413 | K6: =E6 -> 8.47319 | L6: =$E$39*'הספק לפי חלופה'!E6/$E$36 -> 14.471074 | M6: =C6-E6-L6 -> 54.084736 | O6: =E6 -> 8.47319 | P6: =('הספק לפי חלופה'!H6/$E$36)*'תמהיל יצור'!$E$39 -> 9.5764463 | Q6: =$E$42*'הספק לפי חלופה'!I6 -> 0.24860294 | R6: =($E$41/$E$40)*('הספק לפי חלופה'!I6/'תמהיל יצור'!$E$37)*L6 -> 3.9157025 | S6: =C6-E6-Q6-R6-P6 -> 54.815058 | U6: =E6 -> 8.47319 | V6: =P6 -> 9.5764463 | W6: =$E$43*'הספק לפי חלופה'!L6 -> 0 | X6: =C6-W6-V6-U6-Y6-Z6 -> 58.979364 | Y6: ='הספק לפי חלופה'!M6*(1-'הנחות עבודה'!$E$24)*'הנחות עבודה'!$E$26*8760/10^6 -> 0 | Z6: ='הספק לפי חלופה'!M6*'הנחות עבודה'!$E$24*'הנחות עבודה'!$E$27*8760/10^6 -> 0 | AB6: =E6 -> 8.47319 | AC6: =V6 -> 9.5764463 | AD6: =C6-AB6-AC6-AE6-AF6 -> 58.979364 | AE6: ='הספק לפי חלופה'!P6*(1-'הנחות עבודה'!$E$24)*'הנחות עבודה'!$E$26*8760/10^6 -> 0 | AF6: ='הספק לפי חלופה'!P6*'הנחות עבודה'!$E$24*'הנחות עבודה'!$E$27*8760/10^6 -> 0 | AH6: 0.12 | AI6: =AJ6-E6 -> 0 | AJ6: =AB6 -> 8.47319 | AK6: =L6 -> 14.471074 | AL6: =C6-AK6-AJ6 -> 54.084736
B7: =B6+1 -> 2023 | C7: =+'הנחות עבודה'!B8 -> 79.544 | D7: 0.12 | E7: =D7*C7 -> 9.54528 | G7: =E7 -> 9.54528 | H7: =$E$38*('הספק לפי חלופה'!B7/$E$36) -> 20.512397 | I7: =C7-H7-E7 -> 49.486323 | K7: =E7 -> 9.54528 | L7: =$E$39*'הספק לפי חלופה'!E7/$E$36 -> 14.471074 | M7: =C7-E7-L7 -> 55.527646 | O7: =E7 -> 9.54528 | P7: =('הספק לפי חלופה'!H7/$E$36)*'תמהיל יצור'!$E$39 -> 9.5764463 | Q7: =$E$42*'הספק לפי חלופה'!I7 -> 0.24860294 | R7: =($E$41/$E$40)*('הספק לפי חלופה'!I7/'תמהיל יצור'!$E$37)*L7 -> 3.9157025 | S7: =C7-E7-Q7-R7-P7 -> 56.257968 | U7: =E7 -> 9.54528 | V7: =P7 -> 9.5764463 | W7: =$E$43*'הספק לפי חלופה'!L7 -> 0 | X7: =C7-W7-V7-U7-Y7-Z7 -> 60.422274 | Y7: ='הספק לפי חלופה'!M7*(1-'הנחות עבודה'!$E$24)*'הנחות עבודה'!$E$26*8760/10^6 -> 0 | Z7: ='הספק לפי חלופה'!M7*'הנחות עבודה'!$E$24*'הנחות עבודה'!$E$27*8760/10^6 -> 0 | AB7: =E7 -> 9.54528 | AC7: =V7 -> 9.5764463 | AD7: =C7-AB7-AC7-AE7-AF7 -> 60.422274 | AE7: ='הספק לפי חלופה'!P7*(1-'הנחות עבודה'!$E$24)*'הנחות עבודה'!$E$26*8760/10^6 -> 0 | AF7: ='הספק לפי חלופה'!P7*'הנחות עבודה'!$E$24*'הנחות עבודה'!$E$27*8760/10^6 -> 0 | AH7: =AH6+0.02 -> 0.14 | AI7: =AJ7-E7 -> 1.59088 | AJ7: =AH7*C7 -> 11.13616 | AK7: =L7 -> 14.471074 | AL7: =C7-AK7-AJ7 -> 53.936766
B8: =B7+1 -> 2024 | C8: =+'הנחות עבודה'!B9 -> 82.142 | D8: =D9-0.01 -> 0.12 | E8: =D8*C8 -> 9.85704 | G8: =E8 -> 9.85704 | H8: =$E$38*('הספק לפי חלופה'!B8/$E$36) -> 20.512397 | I8: =C8-H8-E8 -> 51.772563 | K8: =E8 -> 9.85704 | L8: =$E$39*'הספק לפי חלופה'!E8/$E$36 -> 14.471074 | M8: =C8-E8-L8 -> 57.813886 | O8: =E8 -> 9.85704 | P8: =('הספק לפי חלופה'!H8/$E$36)*'תמהיל יצור'!$E$39 -> 4.6818182 | Q8: =$E$42*'הספק לפי חלופה'!I8 -> 0.49720588 | R8: =($E$41/$E$40)*('הספק לפי חלופה'!I8/'תמהיל יצור'!$E$37)*L8 -> 7.831405 | S8: =C8-E8-Q8-R8-P8 -> 59.274531 | U8: =E8 -> 9.85704 | V8: =P8 -> 4.6818182 | W8: =$E$43*'הספק לפי חלופה'!L8 -> 0.20091176 | X8: =C8-W8-V8-U8-Y8-Z8 -> 61.60723 | Y8: ='הספק לפי חלופה'!M8*(1-'הנחות עבודה'!$E$24)*'הנחות עבודה'!$E$26*8760/10^6 -> 5.1545 | Z8: ='הספק לפי חלופה'!M8*'הנחות עבודה'!$E$24*'הנחות עבודה'!$E$27*8760/10^6 -> 0.6405 | AB8: =E8 -> 9.85704 | AC8: =V8 -> 4.6818182 | AD8: =C8-AB8-AC8-AE8-AF8 -> 61.808142 | AE8: ='הספק לפי חלופה'!P8*(1-'הנחות עבודה'!$E$24)*'הנחות עבודה'!$E$26*8760/10^6 -> 5.1545 | AF8: ='הספק לפי חלופה'!P8*'הנחות עבודה'!$E$24*'הנחות עבודה'!$E$27*8760/10^6 -> 0.6405 | AH8: =AH7+0.02 -> 0.16 | AI8: =AJ8-E8 -> 3.28568 | AJ8: =AH8*C8 -> 13.14272 | AK8: =L8 -> 14.471074 | AL8: =C8-AK8-AJ8 -> 54.528206
B9: =B8+1 -> 2025 | C9: =+'הנחות עבודה'!B10 -> 84.824 | D9: =+'הנחות עבודה'!E4 -> 0.13 | E9: =D9*C9 -> 11.02712 | G9: =E9 -> 11.02712 | H9: =$E$38*('הספק לפי חלופה'!B9/$E$36) -> 20.512397 | I9: =C9-H9-E9 -> 53.284483 | K9: =E9 -> 11.02712 | L9: =$E$39*'הספק לפי חלופה'!E9/$E$36 -> 14.471074 | M9: =C9-E9-L9 -> 59.325806 | O9: =E9 -> 11.02712 | P9: =('הספק לפי חלופה'!H9/$E$36)*'תמהיל יצור'!$E$39 -> 4.6818182 | Q9: =$E$42*'הספק לפי חלופה'!I9 -> 0.49720588 | R9: =($E$41/$E$40)*('הספק לפי חלופה'!I9/'תמהיל יצור'!$E$37)*L9 -> 7.831405 | S9: =C9-E9-Q9-R9-P9 -> 60.786451 | U9: =E9 -> 11.02712 | V9: =P9 -> 4.6818182 | W9: =$E$43*'הספק לפי חלופה'!L9 -> 0.20091176 | X9: =C9-W9-V9-U9-Y9-Z9 -> 63.11915 | Y9: ='הספק לפי חלופה'!M9*(1-'הנחות עבודה'!$E$24)*'הנחות עבודה'!$E$26*8760/10^6 -> 5.1545 | Z9: ='הספק לפי חלופה'!M9*'הנחות עבודה'!$E$24*'הנחות עבודה'!$E$27*8760/10^6 -> 0.6405 | AB9: =E9 -> 11.02712 | AC9: =V9 -> 4.6818182 | AD9: =C9-AB9-AC9-AE9-AF9 -> 63.320062 | AE9: ='הספק לפי חלופה'!P9*(1-'הנחות עבודה'!$E$24)*'הנחות עבודה'!$E$26*8760/10^6 -> 5.1545 | AF9: ='הספק לפי חלופה'!P9*'הנחות עבודה'!$E$24*'הנחות עבודה'!$E$27*8760/10^6 -> 0.6405 | AH9: =AH8+0.02 -> 0.18 | AI9: =AJ9-E9 -> 4.2412 | AJ9: =AH9*C9 -> 15.26832 | AK9: =L9 -> 14.471074 | AL9: =C9-AK9-AJ9 -> 55.084606
B10: =B9+1 -> 2026 | C10: =+'הנחות עבודה'!B11 -> 87.114248 | D10: =D11-0.01 -> 0.13 | E10: =D10*C10 -> 11.324852 | G10: =E10 -> 11.324852 | H10: =$E$38*('הספק לפי חלופה'!B10/$E$36) -> 20.512397 | I10: =C10-H10-E10 -> 55.276999 | K10: =E10 -> 11.324852 | L10: =$E$39*'הספק לפי חלופה'!E10/$E$36 -> 14.471074 | M10: =C10-E10-L10 -> 61.318321 | O10: =E10 -> 11.324852 | P10: =('הספק לפי חלופה'!H10/$E$36)*'תמהיל יצור'!$E$39 -> 0 | Q10: =$E$42*'הספק לפי חלופה'!I10 -> 0.735 | R10: =($E$41/$E$40)*('הספק לפי חלופה'!I10/'תמהיל יצור'!$E$37)*L10 -> 11.57686 | S10: =C10-E10-Q10-R10-P10 -> 63.477536 | U10: =E10 -> 11.324852 | V10: =P10 -> 0 | W10: =$E$43*'הספק לפי חלופה'!L10 -> 0.40182353 | X10: =C10-W10-V10-U10-Y10-Z10 -> 63.797572 | Y10: ='הספק לפי חלופה'!M10*(1-'הנחות עבודה'!$E$24)*'הנחות עבודה'!$E$26*8760/10^6 -> 10.309 | Z10: ='הספק לפי חלופה'!M10*'הנחות עבודה'!$E$24*'הנחות עבודה'!$E$27*8760/10^6 -> 1.281 | AB10: =E10 -> 11.324852 | AC10: =V10 -> 0 | AD10: =C10-AB10-AC10-AE10-AF10 -> 64.199396 | AE10: ='הספק לפי חלופה'!P10*(1-'הנחות עבודה'!$E$24)*'הנחות עבודה'!$E$26*8760/10^6 -> 10.309 | AF10: ='הספק לפי חלופה'!P10*'הנחות עבודה'!$E$24*'הנחות עבודה'!$E$27*8760/10^6 -> 1.281 | AH10: =AH9+0.02 -> 0.2 | AI10: =AJ10-E10 -> 6.0979974 | AJ10: =AH10*C10 -> 17.42285 | AK10: =L10 -> 14.471074 | AL10: =C10-AK10-AJ10 -> 55.220324
B11: =B10+1 -> 2027 | C11: =+'הנחות עבודה'!B12 -> 89.466333 | D11: =D12-0.01 -> 0.14 | E11: =D11*C11 -> 12.525287 | G11: =E11 -> 12.525287 | H11: =$E$38*('הספק לפי חלופה'!B11/$E$36) -> 20.512397 | I11: =C11-H11-E11 -> 56.428649 | K11: =E11 -> 12.525287 | L11: =$E$39*'הספק לפי חלופה'!E11/$E$36 -> 14.471074 | M11: =C11-E11-L11 -> 62.469972 | O11: =E11 -> 12.525287 | P11: =('הספק לפי חלופה'!H11/$E$36)*'תמהיל יצור'!$E$39 -> 0 | Q11: =$E$42*'הספק לפי חלופה'!I11 -> 0.735 | R11: =($E$41/$E$40)*('הספק לפי חלופה'!I11/'תמהיל יצור'!$E$37)*L11 -> 11.57686 | S11: =C11-E11-Q11-R11-P11 -> 64.629187 | U11: =E11 -> 12.525287 | V11: =P11 -> 0 | W11: =$E$43*'הספק לפי חלופה'!L11 -> 0.40182353 | X11: =C11-W11-V11-U11-Y11-Z11 -> 64.949223 | Y11: ='הספק לפי חלופה'!M11*(1-'הנחות עבודה'!$E$24)*'הנחות עבודה'!$E$26*8760/10^6 -> 10.309 | Z11: ='הספק לפי חלופה'!M11*'הנחות עבודה'!$E$24*'הנחות עבודה'!$E$27*8760/10^6 -> 1.281 | AB11: =E11 -> 12.525287 | AC11: =V11 -> 0 | AD11: =C11-AB11-AC11-AE11-AF11 -> 65.351046 | AE11: ='הספק לפי חלופה'!P11*(1-'הנחות עבודה'!$E$24)*'הנחות עבודה'!$E$26*8760/10^6 -> 10.309 | AF11: ='הספק לפי חלופה'!P11*'הנחות עבודה'!$E$24*'הנחות עבודה'!$E$27*8760/10^6 -> 1.281 | AH11: =AH10+0.02 -> 0.22 | AI11: =AJ11-E11 -> 7.1573066 | AJ11: =AH11*C11 -> 19.682593 | AK11: =L11 -> 14.471074 | AL11: =C11-AK11-AJ11 -> 55.312665
B12: =B11+1 -> 2028 | C12: =+'הנחות עבודה'!B13 -> 91.881924 | D12: =D13-0.01 -> 0.15 | E12: =D12*C12 -> 13.782289 | G12: =E12 -> 13.782289 | H12: =$E$38*('הספק לפי חלופה'!B12/$E$36) -> 20.512397 | I12: =C12-H12-E12 -> 57.587238 | K12: =E12 -> 13.782289 | L12: =$E$39*'הספק לפי חלופה'!E12/$E$36 -> 14.471074 | M12: =C12-E12-L12 -> 63.628561 | O12: =E12 -> 13.782289 | P12: =('הספק לפי חלופה'!H12/$E$36)*'תמהיל יצור'!$E$39 -> 0 | Q12: =$E$42*'הספק לפי חלופה'!I12 -> 0.735 | R12: =($E$41/$E$40)*('הספק לפי חלופה'!I12/'תמהיל יצור'!$E$37)*L12 -> 11.57686 | S12: =C12-E12-Q12-R12-P12 -> 65.787776 | U12: =E12 -> 13.782289 | V12: =P12 -> 0 | W12: =$E$43*'הספק לפי חלופה'!L12 -> 0.594 | X12: =C12-W12-V12-U12-Y12-Z12 -> 60.120635 | Y12: ='הספק לפי חלופה'!M12*(1-'הנחות עבודה'!$E$24)*'הנחות עבודה'!$E$26*8760/10^6 -> 15.4635 | Z12: ='הספק לפי חלופה'!M12*'הנחות עבודה'!$E$24*'הנחות עבודה'!$E$27*8760/10^6 -> 1.9215 | AB12: =E12 -> 13.782289 | AC12: =V12 -> 0 | AD12: =C12-AB12-AC12-AE12-AF12 -> 60.714635 | AE12: ='הספק לפי חלופה'!P12*(1-'הנחות עבודה'!$E$24)*'הנחות עבודה'!$E$26*8760/10^6 -> 15.4635 | AF12: ='הספק לפי חלופה'!P12*'הנחות עבודה'!$E$24*'הנחות עבודה'!$E$27*8760/10^6 -> 1.9215 | AH12: =AH11+0.02 -> 0.24 | AI12: =AJ12-E12 -> 8.2693731 | AJ12: =AH12*C12 -> 22.051662 | AK12: =L12 -> 14.471074 | AL12: =C12-AK12-AJ12 -> 55.359188
B13: =B12+1 -> 2029 | C13: =+'הנחות עבודה'!B14 -> 94.362736 | D13: =D14-0.01 -> 0.16 | E13: =D13*C13 -> 15.098038 | G13: =E13 -> 15.098038 | H13: =$E$38*('הספק לפי חלופה'!B13/$E$36) -> 20.512397 | I13: =C13-H13-E13 -> 58.752301 | K13: =E13 -> 15.098038 | L13: =$E$39*'הספק לפי חלופה'!E13/$E$36 -> 14.471074 | M13: =C13-E13-L13 -> 64.793624 | O13: =E13 -> 15.098038 | P13: =('הספק לפי חלופה'!H13/$E$36)*'תמהיל יצור'!$E$39 -> 0 | Q13: =$E$42*'הספק לפי חלופה'!I13 -> 0.735 | R13: =($E$41/$E$40)*('הספק לפי חלופה'!I13/'תמהיל יצור'!$E$37)*L13 -> 11.57686 | S13: =C13-E13-Q13-R13-P13 -> 66.952838 | U13: =E13 -> 15.098038 | V13: =P13 -> 0 | W13: =$E$43*'הספק לפי חלופה'!L13 -> 0.594 | X13: =C13-W13-V13-U13-Y13-Z13 -> 61.285698 | Y13: ='הספק לפי חלופה'!M13*(1-'הנחות עבודה'!$E$24)*'הנחות עבודה'!$E$26*8760/10^6 -> 15.4635 | Z13: ='הספק לפי חלופה'!M13*'הנחות עבודה'!$E$24*'הנחות עבודה'!$E$27*8760/10^6 -> 1.9215 | AB13: =E13 -> 15.098038 | AC13: =V13 -> 0 | AD13: =C13-AB13-AC13-AE13-AF13 -> 61.879698 | AE13: ='הספק לפי חלופה'!P13*(1-'הנחות עבודה'!$E$24)*'הנחות עבודה'!$E$26*8760/10^6 -> 15.4635 | AF13: ='הספק לפי חלופה'!P13*'הנחות עבודה'!$E$24*'הנחות עבודה'!$E$27*8760/10^6 -> 1.9215 | AH13: =AH12+0.02 -> 0.26 | AI13: =AJ13-E13 -> 9.4362736 | AJ13: =AH13*C13 -> 24.534311 | AK13: =L13 -> 14.471074 | AL13: =C13-AK13-AJ13 -> 55.35735
B14: =B13+1 -> 2030 | C14: =+'הנחות עבודה'!B15 -> 96.910529 | D14: =+'הנחות עבודה'!$E$3 -> 0.17 | E14: =D14*C14 -> 16.47479 | G14: =E14 -> 16.47479 | H14: =$E$38*('הספק לפי חלופה'!B14/$E$36) -> 20.512397 | I14: =C14-H14-E14 -> 59.923343 | K14: =E14 -> 16.47479 | L14: =$E$39*'הספק לפי חלופה'!E14/$E$36 -> 14.471074 | M14: =C14-E14-L14 -> 65.964665 | O14: =E14 -> 16.47479 | P14: =('הספק לפי חלופה'!H14/$E$36)*'תמהיל יצור'!$E$39 -> 0 | Q14: =$E$42*'הספק לפי חלופה'!I14 -> 0.735 | R14: =($E$41/$E$40)*('הספק לפי חלופה'!I14/'תמהיל יצור'!$E$37)*L14 -> 11.57686 | S14: =C14-E14-Q14-R14-P14 -> 68.12388 | U14: =E14 -> 16.47479 | V14: =P14 -> 0 | W14: =$E$43*'הספק לפי חלופה'!L14 -> 0.594 | X14: =C14-W14-V14-U14-Y14-Z14 -> 62.456739 | Y14: ='הספק לפי חלופה'!M14*(1-'הנחות עבודה'!$E$24)*'הנחות עבודה'!$E$26*8760/10^6 -> 15.4635 | Z14: ='הספק לפי חלופה'!M14*'הנחות עבודה'!$E$24*'הנחות עבודה'!$E$27*8760/10^6 -> 1.9215 | AB14: =E14 -> 16.47479 | AC14: =V14 -> 0 | AD14: =C14-AB14-AC14-AE14-AF14 -> 63.050739 | AE14: ='הספק לפי חלופה'!P14*(1-'הנחות עבודה'!$E$24)*'הנחות עבודה'!$E$26*8760/10^6 -> 15.4635 | AF14: ='הספק לפי חלופה'!P14*'הנחות עבודה'!$E$24*'הנחות עבודה'!$E$27*8760/10^6 -> 1.9215 | AH14: 0.25 | AI14: =AJ14-E14 -> 7.7528424 | AJ14: =AH14*C14 -> 24.227632 | AK14: =L14 -> 14.471074 | AL14: =C14-AK14-AJ14 -> 58.211823
B15: =B14+1 -> 2031 | C15: =+'הנחות עבודה'!B16 -> 99.527114 | D15: =+'הנחות עבודה'!$E$3 -> 0.17 | E15: =D15*C15 -> 16.919609 | G15: =E15 -> 16.919609 | H15: =$E$38*('הספק לפי חלופה'!B15/$E$36) -> 20.512397 | I15: =C15-H15-E15 -> 62.095108 | K15: =E15 -> 16.919609 | L15: =$E$39*'הספק לפי חלופה'!E15/$E$36 -> 14.471074 | M15: =C15-E15-L15 -> 68.13643 | O15: =E15 -> 16.919609 | P15: =('הספק לפי חלופה'!H15/$E$36)*'תמהיל יצור'!$E$39 -> 0 | Q15: =$E$42*'הספק לפי חלופה'!I15 -> 0.735 | R15: =($E$41/$E$40)*('הספק לפי חלופה'!I15/'תמהיל יצור'!$E$37)*L15 -> 11.57686 | S15: =C15-E15-Q15-R15-P15 -> 70.295645 | U15: =E15 -> 16.919609 | V15: =P15 -> 0 | W15: =$E$43*'הספק לפי חלופה'!L15 -> 0.594 | X15: =C15-W15-V15-U15-Y15-Z15 -> 64.628504 | Y15: ='הספק לפי חלופה'!M15*(1-'הנחות עבודה'!$E$24)*'הנחות עבודה'!$E$26*8760/10^6 -> 15.4635 | Z15: ='הספק לפי חלופה'!M15*'הנחות עבודה'!$E$24*'הנחות עבודה'!$E$27*8760/10^6 -> 1.9215 | AB15: =E15 -> 16.919609 | AC15: =V15 -> 0 | AD15: =C15-AB15-AC15-AE15-AF15 -> 65.222504 | AE15: ='הספק לפי חלופה'!P15*(1-'הנחות עבודה'!$E$24)*'הנחות עבודה'!$E$26*8760/10^6 -> 15.4635 | AF15: ='הספק לפי חלופה'!P15*'הנחות עבודה'!$E$24*'הנחות עבודה'!$E$27*8760/10^6 -> 1.9215 | AH15: 0.25 | AI15: =AJ15-E15 -> 7.9621691 | AJ15: =AH15*C15 -> 24.881778 | AK15: =L15 -> 14.471074 | AL15: =C15-AK15-AJ15 -> 60.174261
B16: =B15+1 -> 2032 | C16: =+'הנחות עבודה'!B17 -> 102.21435 | D16: =+'הנחות עבודה'!$E$3 -> 0.17 | E16: =D16*C16 -> 17.376439 | G16: =E16 -> 17.376439 | H16: =$E$38*('הספק לפי חלופה'!B16/$E$36) -> 20.512397 | I16: =C16-H16-E16 -> 64.32551 | K16: =E16 -> 17.376439 | L16: =$E$39*'הספק לפי חלופה'!E16/$E$36 -> 14.471074 | M16: =C16-E16-L16 -> 70.366833 | O16: =E16 -> 17.376439 | P16: =('הספק לפי חלופה'!H16/$E$36)*'תמהיל יצור'!$E$39 -> 0 | Q16: =$E$42*'הספק לפי חלופה'!I16 -> 0.735 | R16: =($E$41/$E$40)*('הספק לפי חלופה'!I16/'תמהיל יצור'!$E$37)*L16 -> 11.57686 | S16: =C16-E16-Q16-R16-P16 -> 72.526048 | U16: =E16 -> 17.376439 | V16: =P16 -> 0 | W16: =$E$43*'הספק לפי חלופה'!L16 -> 0.594 | X16: =C16-W16-V16-U16-Y16-Z16 -> 66.858907 | Y16: ='הספק לפי חלופה'!M16*(1-'הנחות עבודה'!$E$24)*'הנחות עבודה'!$E$26*8760/10^6 -> 15.4635 | Z16: ='הספק לפי חלופה'!M16*'הנחות עבודה'!$E$24*'הנחות עבודה'!$E$27*8760/10^6 -> 1.9215 | AB16: =E16 -> 17.376439 | AC16: =V16 -> 0 | AD16: =C16-AB16-AC16-AE16-AF16 -> 67.452907 | AE16: ='הספק לפי חלופה'!P16*(1-'הנחות עבודה'!$E$24)*'הנחות עבודה'!$E$26*8760/10^6 -> 15.4635 | AF16: ='הספק לפי חלופה'!P16*'הנחות עבודה'!$E$24*'הנחות עבודה'!$E$27*8760/10^6 -> 1.9215 | AH16: 0.25 | AI16: =AJ16-E16 -> 8.1771477 | AJ16: =AH16*C16 -> 25.553586 | AK16: =L16 -> 14.471074 | AL16: =C16-AK16-AJ16 -> 62.189685
B17: =B16+1 -> 2033 | C17: =+'הנחות עבודה'!B18 -> 104.97413 | D17: =+'הנחות עבודה'!$E$3 -> 0.17 | E17: =D17*C17 -> 17.845603 | G17: =E17 -> 17.845603 | H17: =$E$38*('הספק לפי חלופה'!B17/$E$36) -> 20.512397 | I17: =C17-H17-E17 -> 66.616134 | K17: =E17 -> 17.845603 | L17: =$E$39*'הספק לפי חלופה'!E17/$E$36 -> 14.471074 | M17: =C17-E17-L17 -> 72.657456 | O17: =E17 -> 17.845603 | P17: =('הספק לפי חלופה'!H17/$E$36)*'תמהיל יצור'!$E$39 -> 0 | Q17: =$E$42*'הספק לפי חלופה'!I17 -> 0.735 | R17: =($E$41/$E$40)*('הספק לפי חלופה'!I17/'תמהיל יצור'!$E$37)*L17 -> 11.57686 | S17: =C17-E17-Q17-R17-P17 -> 74.816671 | U17: =E17 -> 17.845603 | V17: =P17 -> 0 | W17: =$E$43*'הספק לפי חלופה'!L17 -> 0.594 | X17: =C17-W17-V17-U17-Y17-Z17 -> 69.149531 | Y17: ='הספק לפי חלופה'!M17*(1-'הנחות עבודה'!$E$24)*'הנחות עבודה'!$E$26*8760/10^6 -> 15.4635 | Z17: ='הספק לפי חלופה'!M17*'הנחות עבודה'!$E$24*'הנחות עבודה'!$E$27*8760/10^6 -> 1.9215 | AB17: =E17 -> 17.845603 | AC17: =V17 -> 0 | AD17: =C17-AB17-AC17-AE17-AF17 -> 69.743531 | AE17: ='הספק לפי חלופה'!P17*(1-'הנחות עבודה'!$E$24)*'הנחות עבודה'!$E$26*8760/10^6 -> 15.4635 | AF17: ='הספק לפי חלופה'!P17*'הנחות עבודה'!$E$24*'הנחות עבודה'!$E$27*8760/10^6 -> 1.9215 | AH17: 0.25 | AI17: =AJ17-E17 -> 8.3979307 | AJ17: =AH17*C17 -> 26.243533 | AK17: =L17 -> 14.471074 | AL17: =C17-AK17-AJ17 -> 64.259526
B18: =B17+1 -> 2034 | C18: =+'הנחות עבודה'!B19 -> 107.80843 | D18: =+'הנחות עבודה'!$E$3 -> 0.17 | E18: =D18*C18 -> 18.327434 | G18: =E18 -> 18.327434 | H18: =$E$38*('הספק לפי חלופה'!B18/$E$36) -> 20.512397 | I18: =C18-H18-E18 -> 68.968604 | K18: =E18 -> 18.327434 | L18: =$E$39*'הספק לפי חלופה'!E18/$E$36 -> 14.471074 | M18: =C18-E18-L18 -> 75.009926 | O18: =E18 -> 18.327434 | P18: =('הספק לפי חלופה'!H18/$E$36)*'תמהיל יצור'!$E$39 -> 0 | Q18: =$E$42*'הספק לפי חלופה'!I18 -> 0.735 | R18: =($E$41/$E$40)*('הספק לפי חלופה'!I18/'תמהיל יצור'!$E$37)*L18 -> 11.57686 | S18: =C18-E18-Q18-R18-P18 -> 77.169141 | U18: =E18 -> 18.327434 | V18: =P18 -> 0 | W18: =$E$43*'הספק לפי חלופה'!L18 -> 0.594 | X18: =C18-W18-V18-U18-Y18-Z18 -> 71.502001 | Y18: ='הספק לפי חלופה'!M18*(1-'הנחות עבודה'!$E$24)*'הנחות עבודה'!$E$26*8760/10^6 -> 15.4635 | Z18: ='הספק לפי חלופה'!M18*'הנחות עבודה'!$E$24*'הנחות עבודה'!$E$27*8760/10^6 -> 1.9215 | AB18: =E18 -> 18.327434 | AC18: =V18 -> 0 | AD18: =C18-AB18-AC18-AE18-AF18 -> 72.096001 | AE18: ='הספק לפי חלופה'!P18*(1-'הנחות עבודה'!$E$24)*'הנחות עבודה'!$E$26*8760/10^6 -> 15.4635 | AF18: ='הספק לפי חלופה'!P18*'הנחות עבודה'!$E$24*'הנחות עבודה'!$E$27*8760/10^6 -> 1.9215 | AH18: 0.25 | AI18: =AJ18-E18 -> 8.6246748 | AJ18: =AH18*C18 -> 26.952109 | AK18: =L18 -> 14.471074 | AL18: =C18-AK18-AJ18 -> 66.385252
B19: =B18+1 -> 2035 | C19: =+'הנחות עבודה'!B20 -> 110.71926 | D19: =+'הנחות עבודה'!$E$3 -> 0.17 | E19: =D19*C19 -> 18.822275 | G19: =E19 -> 18.822275 | H19: =$E$38*('הספק לפי חלופה'!B19/$E$36) -> 20.512397 | I19: =C19-H19-E19 -> 71.384591 | K19: =E19 -> 18.822275 | L19: =$E$39*'הספק לפי חלופה'!E19/$E$36 -> 14.471074 | M19: =C19-E19-L19 -> 77.425914 | O19: =E19 -> 18.822275 | P19: =('הספק לפי חלופה'!H19/$E$36)*'תמהיל יצור'!$E$39 -> 0 | Q19: =$E$42*'הספק לפי חלופה'!I19 -> 0.735 | R19: =($E$41/$E$40)*('הספק לפי חלופה'!I19/'תמהיל יצור'!$E$37)*L19 -> 11.57686 | S19: =C19-E19-Q19-R19-P19 -> 79.585128 | U19: =E19 -> 18.822275 | V19: =P19 -> 0 | W19: =$E$43*'הספק לפי חלופה'!L19 -> 0.594 | X19: =C19-W19-V19-U19-Y19-Z19 -> 73.917988 | Y19: ='הספק לפי חלופה'!M19*(1-'הנחות עבודה'!$E$24)*'הנחות עבודה'!$E$26*8760/10^6 -> 15.4635 | Z19: ='הספק לפי חלופה'!M19*'הנחות עבודה'!$E$24*'הנחות עבודה'!$E$27*8760/10^6 -> 1.9215 | AB19: =E19 -> 18.822275 | AC19: =V19 -> 0 | AD19: =C19-AB19-AC19-AE19-AF19 -> 74.511988 | AE19: ='הספק לפי חלופה'!P19*(1-'הנחות עבודה'!$E$24)*'הנחות עבודה'!$E$26*8760/10^6 -> 15.4635 | AF19: ='הספק לפי חלופה'!P19*'הנחות עבודה'!$E$24*'הנחות עבודה'!$E$27*8760/10^6 -> 1.9215 | AH19: 0.25 | AI19: =AJ19-E19 -> 8.857541 | AJ19: =AH19*C19 -> 27.679816 | AK19: =L19 -> 14.471074 | AL19: =C19-AK19-AJ19 -> 68.568373
B20: =B19+1 -> 2036 | C20: =+'הנחות עבודה'!B21 -> 113.70868 | D20: =+'הנחות עבודה'!$E$3 -> 0.17 | E20: =D20*C20 -> 19.330476 | G20: =E20 -> 19.330476 | H20: =$E$38*('הספק לפי חלופה'!B20/$E$36) -> 20.512397 | I20: =C20-H20-E20 -> 73.86581 | K20: =E20 -> 19.330476 | L20: =$E$39*'הספק לפי חלופה'!E20/$E$36 -> 14.471074 | M20: =C20-E20-L20 -> 79.907132 | O20: =E20 -> 19.330476 | P20: =('הספק לפי חלופה'!H20/$E$36)*'תמהיל יצור'!$E$39 -> 0 | Q20: =$E$42*'הספק לפי חלופה'!I20 -> 0.735 | R20: =($E$41/$E$40)*('הספק לפי חלופה'!I20/'תמהיל יצור'!$E$37)*L20 -> 11.57686 | S20: =C20-E20-Q20-R20-P20 -> 82.066347 | U20: =E20 -> 19.330476 | V20: =P20 -> 0 | W20: =$E$43*'הספק לפי חלופה'!L20 -> 0.594 | X20: =C20-W20-V20-U20-Y20-Z20 -> 76.399207 | Y20: ='הספק לפי חלופה'!M20*(1-'הנחות עבודה'!$E$24)*'הנחות עבודה'!$E$26*8760/10^6 -> 15.4635 | Z20: ='הספק לפי חלופה'!M20*'הנחות עבודה'!$E$24*'הנחות עבודה'!$E$27*8760/10^6 -> 1.9215 | AB20: =E20 -> 19.330476 | AC20: =V20 -> 0 | AD20: =C20-AB20-AC20-AE20-AF20 -> 76.993207 | AE20: ='הספק לפי חלופה'!P20*(1-'הנחות עבודה'!$E$24)*'הנחות עבודה'!$E$26*8760/10^6 -> 15.4635 | AF20: ='הספק לפי חלופה'!P20*'הנחות עבודה'!$E$24*'הנחות עבודה'!$E$27*8760/10^6 -> 1.9215 | AH20: 0.25 | AI20: =AJ20-E20 -> 9.0966946 | AJ20: =AH20*C20 -> 28.427171 | AK20: =L20 -> 14.471074 | AL20: =C20-AK20-AJ20 -> 70.810438
B21: =B20+1 -> 2037 | C21: =+'הנחות עבודה'!B22 -> 116.77882 | D21: =+'הנחות עבודה'!$E$3 -> 0.17 | E21: =D21*C21 -> 19.852399 | G21: =E21 -> 19.852399 | H21: =$E$38*('הספק לפי חלופה'!B21/$E$36) -> 20.512397 | I21: =C21-H21-E21 -> 76.414021 | K21: =E21 -> 19.852399 | L21: =$E$39*'הספק לפי חלופה'!E21/$E$36 -> 14.471074 | M21: =C21-E21-L21 -> 82.455344 | O21: =E21 -> 19.852399 | P21: =('הספק לפי חלופה'!H21/$E$36)*'תמהיל יצור'!$E$39 -> 0 | Q21: =$E$42*'הספק לפי חלופה'!I21 -> 0.735 | R21: =($E$41/$E$40)*('הספק לפי חלופה'!I21/'תמהיל יצור'!$E$37)*L21 -> 11.57686 | S21: =C21-E21-Q21-R21-P21 -> 84.614559 | U21: =E21 -> 19.852399 | V21: =P21 -> 0 | W21: =$E$43*'הספק לפי חלופה'!L21 -> 0.594 | X21: =C21-W21-V21-U21-Y21-Z21 -> 78.947418 | Y21: ='הספק לפי חלופה'!M21*(1-'הנחות עבודה'!$E$24)*'הנחות עבודה'!$E$26*8760/10^6 -> 15.4635 | Z21: ='הספק לפי חלופה'!M21*'הנחות עבודה'!$E$24*'הנחות עבודה'!$E$27*8760/10^6 -> 1.9215 | AB21: =E21 -> 19.852399 | AC21: =V21 -> 0 | AD21: =C21-AB21-AC21-AE21-AF21 -> 79.541418 | AE21: ='הספק לפי חלופה'!P21*(1-'הנחות עבודה'!$E$24)*'הנחות עבודה'!$E$26*8760/10^6 -> 15.4635 | AF21: ='הספק לפי חלופה'!P21*'הנחות עבודה'!$E$24*'הנחות עבודה'!$E$27*8760/10^6 -> 1.9215 | AH21: 0.25 | AI21: =AJ21-E21 -> 9.3423054 | AJ21: =AH21*C21 -> 29.194704 | AK21: =L21 -> 14.471074 | AL21: =C21-AK21-AJ21 -> 73.113038
B22: =B21+1 -> 2038 | C22: =+'הנחות עבודה'!B23 -> 119.93185 | D22: =+'הנחות עבודה'!$E$3 -> 0.17 | E22: =D22*C22 -> 20.388414 | G22: =E22 -> 20.388414 | H22: =$E$38*('הספק לפי חלופה'!B22/$E$36) -> 20.512397 | I22: =C22-H22-E22 -> 79.031035 | K22: =E22 -> 20.388414 | L22: =$E$39*'הספק לפי חלופה'!E22/$E$36 -> 14.471074 | M22: =C22-E22-L22 -> 85.072357 | O22: =E22 -> 20.388414 | P22: =('הספק לפי חלופה'!H22/$E$36)*'תמהיל יצור'!$E$39 -> 0 | Q22: =$E$42*'הספק לפי חלופה'!I22 -> 0.735 | R22: =($E$41/$E$40)*('הספק לפי חלופה'!I22/'תמהיל יצור'!$E$37)*L22 -> 11.57686 | S22: =C22-E22-Q22-R22-P22 -> 87.231572 | U22: =E22 -> 20.388414 | V22: =P22 -> 0 | W22: =$E$43*'הספק לפי חלופה'!L22 -> 0.594 | X22: =C22-W22-V22-U22-Y22-Z22 -> 81.564431 | Y22: ='הספק לפי חלופה'!M22*(1-'הנחות עבודה'!$E$24)*'הנחות עבודה'!$E$26*8760/10^6 -> 15.4635 | Z22: ='הספק לפי חלופה'!M22*'הנחות עבודה'!$E$24*'הנחות עבודה'!$E$27*8760/10^6 -> 1.9215 | AB22: =E22 -> 20.388414 | AC22: =V22 -> 0 | AD22: =C22-AB22-AC22-AE22-AF22 -> 82.158431 | AE22: ='הספק לפי חלופה'!P22*(1-'הנחות עבודה'!$E$24)*'הנחות עבודה'!$E$26*8760/10^6 -> 15.4635 | AF22: ='הספק לפי חלופה'!P22*'הנחות עבודה'!$E$24*'הנחות עבודה'!$E$27*8760/10^6 -> 1.9215 | AH22: 0.25 | AI22: =AJ22-E22 -> 9.5945476 | AJ22: =AH22*C22 -> 29.982961 | AK22: =L22 -> 14.471074 | AL22: =C22-AK22-AJ22 -> 75.477809
B23: =B22+1 -> 2039 | C23: =+'הנחות עבודה'!B24 -> 123.17 | D23: =+'הנחות עבודה'!$E$3 -> 0.17 | E23: =D23*C23 -> 20.938901 | G23: =E23 -> 20.938901 | H23: =$E$38*('הספק לפי חלופה'!B23/$E$36) -> 20.512397 | I23: =C23-H23-E23 -> 81.718707 | K23: =E23 -> 20.938901 | L23: =$E$39*'הספק לפי חלופה'!E23/$E$36 -> 14.471074 | M23: =C23-E23-L23 -> 87.76003 | O23: =E23 -> 20.938901 | P23: =('הספק לפי חלופה'!H23/$E$36)*'תמהיל יצור'!$E$39 -> 0 | Q23: =$E$42*'הספק לפי חלופה'!I23 -> 0.735 | R23: =($E$41/$E$40)*('הספק לפי חלופה'!I23/'תמהיל יצור'!$E$37)*L23 -> 11.57686 | S23: =C23-E23-Q23-R23-P23 -> 89.919245 | U23: =E23 -> 20.938901 | V23: =P23 -> 0 | W23: =$E$43*'הספק לפי חלופה'!L23 -> 0.594 | X23: =C23-W23-V23-U23-Y23-Z23 -> 84.252104 | Y23: ='הספק לפי חלופה'!M23*(1-'הנחות עבודה'!$E$24)*'הנחות עבודה'!$E$26*8760/10^6 -> 15.4635 | Z23: ='הספק לפי חלופה'!M23*'הנחות עבודה'!$E$24*'הנחות עבודה'!$E$27*8760/10^6 -> 1.9215 | AB23: =E23 -> 20.938901 | AC23: =V23 -> 0 | AD23: =C23-AB23-AC23-AE23-AF23 -> 84.846104 | AE23: ='הספק לפי חלופה'!P23*(1-'הנחות עבודה'!$E$24)*'הנחות עבודה'!$E$26*8760/10^6 -> 15.4635 | AF23: ='הספק לפי חלופה'!P23*'הנחות עבודה'!$E$24*'הנחות עבודה'!$E$27*8760/10^6 -> 1.9215 | AH23: 0.25 | AI23: =AJ23-E23 -> 9.8536004 | AJ23: =AH23*C23 -> 30.792501 | AK23: =L23 -> 14.471074 | AL23: =C23-AK23-AJ23 -> 77.906429
B24: =B23+1 -> 2040 | C24: =+'הנחות עבודה'!B25 -> 126.4956 | D24: =+'הנחות עבודה'!$E$3 -> 0.17 | E24: =D24*C24 -> 21.504251 | G24: =E24 -> 21.504251 | H24: =$E$38*('הספק לפי חלופה'!B24/$E$36) -> 13.57438 | I24: =C24-H24-E24 -> 91.416964 | K24: =E24 -> 21.504251 | L24: =$E$39*'הספק לפי חלופה'!E24/$E$36 -> 9.5764463 | M24: =C24-E24-L24 -> 95.414898 | O24: =E24 -> 21.504251 | P24: =('הספק לפי חלופה'!H24/$E$36)*'תמהיל יצור'!$E$39 -> 0 | Q24: =$E$42*'הספק לפי חלופה'!I24 -> 0.48639706 | R24: =($E$41/$E$40)*('הספק לפי חלופה'!I24/'תמהיל יצור'!$E$37)*L24 -> 5.0698833 | S24: =C24-E24-Q24-R24-P24 -> 99.435064 | U24: =E24 -> 21.504251 | V24: =P24 -> 0 | W24: =$E$43*'הספק לפי חלופה'!L24 -> 0.594 | X24: =C24-W24-V24-U24-Y24-Z24 -> 87.012344 | Y24: ='הספק לפי חלופה'!M24*(1-'הנחות עבודה'!$E$24)*'הנחות עבודה'!$E$26*8760/10^6 -> 15.4635 | Z24: ='הספק לפי חלופה'!M24*'הנחות עבודה'!$E$24*'הנחות עבודה'!$E$27*8760/10^6 -> 1.9215 | AB24: =E24 -> 21.504251 | AC24: =V24 -> 0 | AD24: =C24-AB24-AC24-AE24-AF24 -> 87.606344 | AE24: ='הספק לפי חלופה'!P24*(1-'הנחות עבודה'!$E$24)*'הנחות עבודה'!$E$26*8760/10^6 -> 15.4635 | AF24: ='הספק לפי חלופה'!P24*'הנחות עבודה'!$E$24*'הנחות עבודה'!$E$27*8760/10^6 -> 1.9215 | AH24: 0.25 | AI24: =AJ24-E24 -> 10.119648 | AJ24: =AH24*C24 -> 31.623899 | AK24: =L24 -> 9.5764463 | AL24: =C24-AK24-AJ24 -> 85.29525
B25: =B24+1 -> 2041 | C25: =+'הנחות עבודה'!B26 -> 129.91098 | D25: =+'הנחות עבודה'!$E$3 -> 0.17 | E25: =D25*C25 -> 22.084866 | G25: =E25 -> 22.084866 | H25: =$E$38*('הספק לפי חלופה'!B25/$E$36) -> 13.57438 | I25: =C25-H25-E25 -> 94.25173 | K25: =E25 -> 22.084866 | L25: =$E$39*'הספק לפי חלופה'!E25/$E$36 -> 9.5764463 | M25: =C25-E25-L25 -> 98.249664 | O25: =E25 -> 22.084866 | P25: =('הספק לפי חלופה'!H25/$E$36)*'תמהיל יצור'!$E$39 -> 0 | Q25: =$E$42*'הספק לפי חלופה'!I25 -> 0.48639706 | R25: =($E$41/$E$40)*('הספק לפי חלופה'!I25/'תמהיל יצור'!$E$37)*L25 -> 5.0698833 | S25: =C25-E25-Q25-R25-P25 -> 102.26983 | U25: =E25 -> 22.084866 | V25: =P25 -> 0 | W25: =$E$43*'הספק לפי חלופה'!L25 -> 0.39308824 | X25: =C25-W25-V25-U25-Y25-Z25 -> 90.048022 | Y25: ='הספק לפי חלופה'!M25*(1-'הנחות עבודה'!$E$24)*'הנחות עבודה'!$E$26*8760/10^6 -> 15.4635 | Z25: ='הספק לפי חלופה'!M25*'הנחות עבודה'!$E$24*'הנחות עבודה'!$E$27*8760/10^6 -> 1.9215 | AB25: =E25 -> 22.084866 | AC25: =V25 -> 0 | AD25: =C25-AB25-AC25-AE25-AF25 -> 90.44111 | AE25: ='הספק לפי חלופה'!P25*(1-'הנחות עבודה'!$E$24)*'הנחות עבודה'!$E$26*8760/10^6 -> 15.4635 | AF25: ='הספק לפי חלופה'!P25*'הנחות עבודה'!$E$24*'הנחות עבודה'!$E$27*8760/10^6 -> 1.9215 | AH25: 0.25 | AI25: =AJ25-E25 -> 10.392878 | AJ25: =AH25*C25 -> 32.477744 | AK25: =L25 -> 9.5764463 | AL25: =C25-AK25-AJ25 -> 87.856786
... B29: =B28+1 -> 2045 | C29: =+'הנחות עבודה'!B30 -> 144.51989 | D29: =+'הנחות עבודה'!$E$3 -> 0.17 | E29: =D29*C29 -> 24.568381 | G29: =E29 -> 24.568381 | H29: =$E$38*('הספק לפי חלופה'!B29/$E$36) -> 6.6363636 | I29: =C29-H29-E29 -> 113.31514 | K29: =E29 -> 24.568381 | L29: =$E$39*'הספק לפי חלופה'!E29/$E$36 -> 4.6818182 | M29: =C29-E29-L29 -> 115.26969 | O29: =E29 -> 24.568381 | P29: =('הספק לפי חלופה'!H29/$E$36)*'תמהיל יצור'!$E$39 -> 0 | Q29: =$E$42*'הספק לפי חלופה'!I29 -> 0.23779412 | R29: =($E$41/$E$40)*('הספק לפי חלופה'!I29/'תמהיל יצור'!$E$37)*L29 -> 1.2117647 | S29: =C29-E29-Q29-R29-P29 -> 118.50195 | U29: =E29 -> 24.568381 | V29: =P29 -> 0 | W29: =$E$43*'הספק לפי חלופה'!L29 -> 0.39308824 | X29: =C29-W29-V29-U29-Y29-Z29 -> 102.17342 | Y29: ='הספק לפי חלופה'!M29*(1-'הנחות עבודה'!$E$24)*'הנחות עבודה'!$E$26*8760/10^6 -> 15.4635 | Z29: ='הספק לפי חלופה'!M29*'הנחות עבודה'!$E$24*'הנחות עבודה'!$E$27*8760/10^6 -> 1.9215 | AB29: =E29 -> 24.568381 | AC29: =V29 -> 0 | AD29: =C29-AB29-AC29-AE29-AF29 -> 102.56651 | AE29: ='הספק לפי חלופה'!P29*(1-'הנחות עבודה'!$E$24)*'הנחות עבודה'!$E$26*8760/10^6 -> 15.4635 | AF29: ='הספק לפי חלופה'!P29*'הנחות עבודה'!$E$24*'הנחות עבודה'!$E$27*8760/10^6 -> 1.9215 | AH29: 0.25 | AI29: =AJ29-E29 -> 11.561591 | AJ29: =AH29*C29 -> 36.129972 | AK29: =L29 -> 4.6818182 | AL29: =C29-AK29-AJ29 -> 103.7081
B30: סך הכל - TWH | C30: =SUM(C4:C29) -> 2742.1918 | E30: =SUM(E4:E29) -> 431.50984 | G30: =SUM(G4:G29) -> 431.50984 | H30: =SUM(H4:H29) -> 484.7562 | I30: =SUM(I4:I29) -> 1825.9257 | K30: =SUM(K4:K29) -> 431.50984 | L30: =SUM(L4:L29) -> 341.98554 | M30: =SUM(M4:M29) -> 1968.6964 | O30: =SUM(O4:O29) -> 431.50984 | P30: =SUM(P4:P29) -> 57.458678 | Q30: =SUM(Q4:Q29) -> 14.451397 | R30: =SUM(R4:R29) -> 212.13143 | S30: =SUM(S4:S29) -> 2026.6404 | U30: =SUM(U4:U29) -> 431.50984 | V30: =SUM(V4:V29) -> 57.458678 | W30: =SUM(W4:W29) -> 10.892912 | X30: =SUM(X4:X29) -> 1894.6303 | Y30: =SUM(Y4:Y29) -> 309.27 | Z30: =SUM(Z4:Z29) -> 38.43 | AB30: =SUM(AB4:AB29) -> 431.50984 | AC30: =SUM(AC4:AC29) -> 57.458678 | AD30: =SUM(AD4:AD29) -> 1905.5232 | AE30: =SUM(AE4:AE29) -> 309.27 | AF30: =SUM(AF4:AF29) -> 38.43 | AJ30: =SUM(AJ4:AJ29) -> 624.21491 | AK30: =SUM(AK4:AK29) -> 341.98554 | AL30: =SUM(AL4:AL29) -> 1775.9913
B34: הנחות עבודה | R34: סיכום
E35: נתון | F35: הערות | T35: סגירת 1-4 ללא מדיניות הפחתה | U35: סגירת 1-4 עם מדיניות הפחתה | V35: 25% מתחדשות | W35: הסבה לגז | X35: שמור והקמה | Y35: גריטה והקמה
B36: הספק פחם לפני גריטת 1-4 (MW) | E36: ='הנחות עבודה'!I7 -> 4840 | R36: תמהיל יצור בתקופה [TW h] | S36: פחם | T36: =H30 -> 484.7562 | U36: =L30 -> 341.98554 | V36: =AK30 -> 341.98554 | W36: =P30+Q30 -> 71.910075 | X36: =V30+W30 -> 68.351589 | Y36: =AC30 -> 57.458678
B37: הספק פחם אחרי גריטת 1-4 (MW) | E37: ='הנחות עבודה'!I8 -> 3400 | S37: גז | T37: =I30 -> 1825.9257 | U37: =M30 -> 1968.6964 | V37: =AL30 -> 1775.9913 | W37: =R30+S30 -> 2238.7718 | X37: =X30+Y30+Z30 -> 2242.3303 | Y37: =AD30+AE30+AF30 -> 2253.2232
B38: יצור בפחם בשנת 2015 לפני מדיניות ההפחתה (TWh) | E38: =29.2 -> 29.2 | S38: מתחדשות | T38: =E30 -> 431.50984 | U38: =K30 -> 431.50984 | V38: =AJ30 -> 624.21491 | W38: =O30 -> 431.50984 | X38: =U30 -> 431.50984 | Y38: =AB30 -> 431.50984
B39: יצור בפחם בשנת 2018 לאור מדיניות ההפחתה (TWh) | E39: 20.6 | S39: סך הכל | T39: =SUM(T36:T38) -> 2742.1918 | U39: =SUM(U36:U38) -> 2742.1918 | V39: =SUM(V36:V38) -> 2742.1918 | W39: =SUM(W36:W38) -> 2742.1918 | X39: =SUM(X36:X38) -> 2742.1918 | Y39: =SUM(Y36:Y38) -> 2742.1918
B40: עומס מינימום בתחנה פחמית (MW) | E40: ='הנחות עבודה'!E43 -> 300 | F40: תפ"ט | R40: אחוזים | S40: פחם | T40: =T36/T$39 -> 0.17677691 | U40: =U36/U$39 -> 0.12471248 | V40: =V36/V$39 -> 0.12471248 | W40: =W36/W$39 -> 0.026223576 | X40: =X36/X$39 -> 0.024925897 | Y40: =Y36/Y$39 -> 0.020953559
B41: עומס מינימום בתחנה מוסבת (MW) | E41: ='הנחות עבודה'!E44 -> 240 | F41: תפ"ט | S41: גז | T41: =T37/T$39 -> 0.66586361 | U41: =U37/U$39 -> 0.71792805 | V41: =V37/V$39 -> 0.64765394 | W41: =W37/W$39 -> 0.81641695 | X41: =X37/X$39 -> 0.81771463 | Y41: =Y37/Y$39 -> 0.82168697
B42: אנרגיה בשנה למ"ו מוסב [TWh] | E42: =0.735/3400 -> 0.00021617647 | F42: כל יחידה מופעלת פעם בשבוע ל-8 שעות (סך הכל 416 שעות) בעומס מינימלי של 52%; | S42: מתחדשות | T42: =T38/T$39 -> 0.15735947 | U42: =U38/U$39 -> 0.15735947 | V42: =V38/V$39 -> 0.22763358 | W42: =W38/W$39 -> 0.15735947 | X42: =X38/X$39 -> 0.15735947 | Y42: =Y38/Y$39 -> 0.15735947
B43: אנרגיה בשנה למ"ו בשימור [TWh] | E43: =0.594/3400 -> 0.00017470588 | F43: כל יחידה מופעלת בשני תרגילים שנתיים של שבוע שלם (סך הכל 336 שעות) בעומס מינימלי של 52%. | S43: סך הכל | T43: =SUM(T40:T42) -> 1 | U43: =SUM(U40:U42) -> 1 | V43: =SUM(V40:V42) -> 1 | W43: =SUM(W40:W42) -> 1 | X43: =SUM(X40:X42) -> 1 | Y43: =SUM(Y40:Y42) -> 1

Sheet צריכת פחם וגז
A1: צריכת פחם וגז לפי חלופה
B2: שנה | C2: סגירת 1-4 ללא מדיניות הפחתה | F2: סגירת 1-4 עם מדיניות הפחתה | I2: הסבה | L2: שימור והקמה | P2: גריטה והקמה | T2: 25% מתחדשות
B3: שנה | C3: מיליון טון פחם | D3: BCM גז | F3: מיליון טון פחם | G3: BCM גז | I3: מיליון טון פחם | J3: גז ביחידות מוסבות BCM | K3: BCM גז | L3: מיליון טון פחם | M3: BCM גז יחידות קיימות | N3: גז מחז״מים חדשים BCM | O3: גז פיקרים חדשים BCM | P3: מיליון טון פחם | Q3: BCM גז | R3: =N3 -> גז מחז״מים חדשים BCM | S3: =O3 -> גז פיקרים חדשים BCM | T3: מיליון טון פחם | U3: BCM גז
B4: 2020 | C4: =$E$39*'תמהיל יצור'!H4 -> 8.017544 | D4: ='תמהיל יצור'!I4*1000000/'צריכת פחם וגז'!$E$48 -> 9.358713 | F4: =$E$39*'תמהיל יצור'!L4 -> 5.6562125 | G4: ='תמהיל יצור'!M4*1000000/'צריכת פחם וגז'!$E$48 -> 10.599907 | I4: =$E$39*('תמהיל יצור'!Q4+'תמהיל יצור'!P4) -> 5.6562125 | J4: ='תמהיל יצור'!R4*1000000/'צריכת פחם וגז'!$E$44 -> 0 | K4: ='תמהיל יצור'!S4*1000000/'צריכת פחם וגז'!$E$48 -> 10.599907 | L4: =$E$39*('תמהיל יצור'!W4+'תמהיל יצור'!V4) -> 5.6562125 | M4: ='תמהיל יצור'!X4*1000000/'צריכת פחם וגז'!$E$48 -> 10.599907 | N4: ='תמהיל יצור'!Y4*10^6/'צריכת פחם וגז'!$E$51 -> 0 | O4: ='תמהיל יצור'!Z4*10^6/'צריכת פחם וגז'!$E$54 -> 0 | P4: =$E$39*'תמהיל יצור'!AC4 -> 5.6562125 | Q4: ='תמהיל יצור'!AD4*1000000/'צריכת פחם וגז'!$E$48 -> 10.599907 | R4: ='תמהיל יצור'!AE4*10^6/'צריכת פחם וגז'!$E$51 -> 0 | S4: ='תמהיל יצור'!AF4*10^6/'צריכת פחם וגז'!$E$54 -> 0 | T4: =$E$39*'תמהיל יצור'!AK4 -> 5.6562125 | U4: ='תמהיל יצור'!AL4*1000000/'צריכת פחם וגז'!$E$48 -> 10.599907
B5: =B4+1 -> 2021 | C5: =$E$39*'תמהיל יצור'!H5 -> 8.017544 | D5: ='תמהיל יצור'!I5*1000000/'צריכת פחם וגז'!$E$48 -> 9.4251291 | F5: =$E$39*'תמהיל יצור'!L5 -> 5.6562125 | G5: ='תמהיל יצור'!M5*1000000/'צריכת פחם וגז'!$E$48 -> 10.666323 | I5: =$E$39*('תמהיל יצור'!Q5+'תמהיל יצור'!P5) -> 5.6562125 | J5: ='תמהיל יצור'!R5*1000000/'צריכת פחם וגז'!$E$44 -> 0 | K5: ='תמהיל יצור'!S5*1000000/'צריכת פחם וגז'!$E$48 -> 10.666323 | L5: =$E$39*('תמהיל יצור'!W5+'תמהיל יצור'!V5) -> 5.6562125 | M5: ='תמהיל יצור'!X5*1000000/'צריכת פחם וגז'!$E$48 -> 10.666323 | N5: ='תמהיל יצור'!Y5*10^6/'צריכת פחם וגז'!$E$51 -> 0 | O5: ='תמהיל יצור'!Z5*10^6/'צריכת פחם וגז'!$E$54 -> 0 | P5: =$E$39*'תמהיל יצור'!AC5 -> 5.6562125 | Q5: ='תמהיל יצור'!AD5*1000000/'צריכת פחם וגז'!$E$48 -> 10.666323 | R5: ='תמהיל יצור'!AE5*10^6/'צריכת פחם וגז'!$E$51 -> 0 | S5: ='תמהיל יצור'!AF5*10^6/'צריכת פחם וגז'!$E$54 -> 0 | T5: =$E$39*'תמהיל יצור'!AK5 -> 5.6562125 | U5: ='תמהיל יצור'!AL5*1000000/'צריכת פחם וגז'!$E$48 -> 10.666323
B6: =B5+1 -> 2022 | C6: =$E$39*'תמהיל יצור'!H6 -> 8.017544 | D6: ='תמהיל יצור'!I6*1000000/'צריכת פחם וגז'!$E$48 -> 9.8705545 | F6: =$E$39*'תמהיל יצור'!L6 -> 5.6562125 | G6: ='תמהיל יצור'!M6*1000000/'צריכת פחם וגז'!$E$48 -> 11.111749 | I6: =$E$39*('תמהיל יצור'!Q6+'תמהיל יצור'!P6) -> 3.8402516 | J6: ='תמהיל יצור'!R6*1000000/'צריכת פחם וגז'!$E$44 -> 1.0170992 | K6: ='תמהיל יצור'!S6*1000000/'צריכת פחם וגז'!$E$48 -> 11.261794 | L6: =$E$39*('תמהיל יצור'!W6+'תמהיל יצור'!V6) -> 3.7430818 | M6: ='תמהיל יצור'!X6*1000000/'צריכת פחם וגז'!$E$48 -> 12.117354 | N6: ='תמהיל יצור'!Y6*10^6/'צריכת פחם וגז'!$E$51 -> 0 | O6: ='תמהיל יצור'!Z6*10^6/'צריכת פחם וגז'!$E$54 -> 0 | P6: =$E$39*'תמהיל יצור'!AC6 -> 3.7430818 | Q6: ='תמהיל יצור'!AD6*1000000/'צריכת פחם וגז'!$E$48 -> 12.117354 | R6: ='תמהיל יצור'!AE6*10^6/'צריכת פחם וגז'!$E$51 -> 0 | S6: ='תמהיל יצור'!AF6*10^6/'צריכת פחם וגז'!$E$54 -> 0 | T6: =$E$39*'תמהיל יצור'!AK6 -> 5.6562125 | U6: ='תמהיל יצור'!AL6*1000000/'צריכת פחם וגז'!$E$48 -> 11.111749
B7: =B6+1 -> 2023 | C7: =$E$39*'תמהיל יצור'!H7 -> 8.017544 | D7: ='תמהיל יצור'!I7*1000000/'צריכת פחם וגז'!$E$48 -> 10.167001 | F7: =$E$39*'תמהיל יצור'!L7 -> 5.6562125 | G7: ='תמהיל יצור'!M7*1000000/'צריכת פחם וגז'!$E$48 -> 11.408196 | I7: =$E$39*('תמהיל יצור'!Q7+'תמהיל יצור'!P7) -> 3.8402516 | J7: ='תמהיל יצור'!R7*1000000/'צריכת פחם וגז'!$E$44 -> 1.0170992 | K7: ='תמהיל יצור'!S7*1000000/'צריכת פחם וגז'!$E$48 -> 11.558241 | L7: =$E$39*('תמהיל יצור'!W7+'תמהיל יצור'!V7) -> 3.7430818 | M7: ='תמהיל יצור'!X7*1000000/'צריכת פחם וגז'!$E$48 -> 12.4138 | N7: ='תמהיל יצור'!Y7*10^6/'צריכת פחם וגז'!$E$51 -> 0 | O7: ='תמהיל יצור'!Z7*10^6/'צריכת פחם וגז'!$E$54 -> 0 | P7: =$E$39*'תמהיל יצור'!AC7 -> 3.7430818 | Q7: ='תמהיל יצור'!AD7*1000000/'צריכת פחם וגז'!$E$48 -> 12.4138 | R7: ='תמהיל יצור'!AE7*10^6/'צריכת פחם וגז'!$E$51 -> 0 | S7: ='תמהיל יצור'!AF7*10^6/'צריכת פחם וגז'!$E$54 -> 0 | T7: =$E$39*'תמהיל יצור'!AK7 -> 5.6562125 | U7: ='תמהיל יצור'!AL7*1000000/'צריכת פחם וגז'!$E$48 -> 11.081348
B8: =B7+1 -> 2024 | C8: =$E$39*'תמהיל יצור'!H8 -> 8.017544 | D8: ='תמהיל יצור'!I8*1000000/'צריכת פחם וגז'!$E$48 -> 10.636711 | F8: =$E$39*'תמהיל יצור'!L8 -> 5.6562125 | G8: ='תמהיל יצור'!M8*1000000/'צריכת פחם וגז'!$E$48 -> 11.877905 | I8: =$E$39*('תמהיל יצור'!Q8+'תמהיל יצור'!P8) -> 2.0242907 | J8: ='תמהיל יצור'!R8*1000000/'צריכת פחם וגז'!$E$44 -> 2.0341985 | K8: ='תמהיל יצור'!S8*1000000/'צריכת פחם וגז'!$E$48 -> 12.177996 | L8: =$E$39*('תמהיל יצור'!W8+'תמהיל יצור'!V8) -> 1.9084802 | M8: ='תמהיל יצור'!X8*1000000/'צריכת פחם וגז'!$E$48 -> 12.657251 | N8: ='תמהיל יצור'!Y8*10^6/'צריכת פחם וגז'!$E$51 -> 0.90088693 | O8: ='תמהיל יצור'!Z8*10^6/'צריכת פחם וגז'!$E$54 -> 0.16167979 | P8: =$E$39*'תמהיל יצור'!AC8 -> 1.8299511 | Q8: ='תמהיל יצור'!AD8*1000000/'צריכת פחם וגז'!$E$48 -> 12.698528 | R8: ='תמהיל יצור'!AE8*10^6/'צריכת פחם וגז'!$E$51 -> 0.90088693 | S8: ='תמהיל יצור'!AF8*10^6/'צריכת פחם וגז'!$E$54 -> 0.16167979 | T8: =$E$39*'תמהיל יצור'!AK8 -> 5.6562125 | U8: ='תמהיל יצור'!AL8*1000000/'צריכת פחם וגז'!$E$48 -> 11.20286
B9: =B8+1 -> 2025 | C9: =$E$39*'תמהיל יצור'!H9 -> 8.017544 | D9: ='תמהיל יצור'!I9*1000000/'צריכת פחם וגז'!$E$48 -> 10.947336 | F9: =$E$39*'תמהיל יצור'!L9 -> 5.6562125 | G9: ='תמהיל יצור'!M9*1000000/'צריכת פחם וגז'!$E$48 -> 12.18853 | I9: =$E$39*('תמהיל יצור'!Q9+'תמהיל יצור'!P9) -> 2.0242907 | J9: ='תמהיל יצור'!R9*1000000/'צריכת פחם וגז'!$E$44 -> 2.0341985 | K9: ='תמהיל יצור'!S9*1000000/'צריכת פחם וגז'!$E$48 -> 12.488621 | L9: =$E$39*('תמהיל יצור'!W9+'תמהיל יצור'!V9) -> 1.9084802 | M9: ='תמהיל יצור'!X9*1000000/'צריכת פחם וגז'!$E$48 -> 12.967876 | N9: ='תמהיל יצור'!Y9*10^6/'צריכת פחם וגז'!$E$51 -> 0.90088693 | O9: ='תמהיל יצור'!Z9*10^6/'צריכת פחם וגז'!$E$54 -> 0.16167979 | P9: =$E$39*'תמהיל יצור'!AC9 -> 1.8299511 | Q9: ='תמהיל יצור'!AD9*1000000/'צריכת פחם וגז'!$E$48 -> 13.009153 | R9: ='תמהיל יצור'!AE9*10^6/'צריכת פחם וגז'!$E$51 -> 0.90088693 | S9: ='תמהיל יצור'!AF9*10^6/'צריכת פחם וגז'!$E$54 -> 0.16167979 | T9: =$E$39*'תמהיל יצור'!AK9 -> 5.6562125 | U9: ='תמהיל יצור'!AL9*1000000/'צריכת פחם וגז'!$E$48 -> 11.317173
B10: =B9+1 -> 2026 | C10: =$E$39*'תמהיל יצור'!H10 -> 8.017544 | D10: ='תמהיל יצור'!I10*1000000/'צריכת פחם וגז'!$E$48 -> 11.3567 | F10: =$E$39*'תמהיל יצור'!L10 -> 5.6562125 | G10: ='תמהיל יצור'!M10*1000000/'צריכת פחם וגז'!$E$48 -> 12.597894 | I10: =$E$39*('תמהיל יצור'!Q10+'תמהיל יצור'!P10) -> 0.28728456 | J10: ='תמהיל יצור'!R10*1000000/'צריכת פחם וגז'!$E$44 -> 3.007076 | K10: ='תמהיל יצור'!S10*1000000/'צריכת פחם וגז'!$E$48 -> 13.041506 | L10: =$E$39*('תמהיל יצור'!W10+'תמהיל יצור'!V10) -> 0.15705809 | M10: ='תמהיל יצור'!X10*1000000/'צריכת פחם וגז'!$E$48 -> 13.107258 | N10: ='תמהיל יצור'!Y10*10^6/'צריכת פחם וגז'!$E$51 -> 1.8017739 | O10: ='תמהיל יצור'!Z10*10^6/'צריכת פחם וגז'!$E$54 -> 0.32335958 | P10: =$E$39*'תמהיל יצור'!AC10 -> 0 | Q10: ='תמהיל יצור'!AD10*1000000/'צריכת פחם וגז'!$E$48 -> 13.189813 | R10: ='תמהיל יצור'!AE10*10^6/'צריכת פחם וגז'!$E$51 -> 1.8017739 | S10: ='תמהיל יצור'!AF10*10^6/'צריכת פחם וגז'!$E$54 -> 0.32335958 | T10: =$E$39*'תמהיל יצור'!AK10 -> 5.6562125 | U10: ='תמהיל יצור'!AL10*1000000/'צריכת פחם וגז'!$E$48 -> 11.345056
B11: =B10+1 -> 2027 | C11: =$E$39*'תמהיל יצור'!H11 -> 8.017544 | D11: ='תמהיל יצור'!I11*1000000/'צריכת פחם וגז'!$E$48 -> 11.593307 | F11: =$E$39*'תמהיל יצור'!L11 -> 5.6562125 | G11: ='תמהיל יצור'!M11*1000000/'צריכת פחם וגז'!$E$48 -> 12.834502 | I11: =$E$39*('תמהיל יצור'!Q11+'תמהיל יצור'!P11) -> 0.28728456 | J11: ='תמהיל יצור'!R11*1000000/'צריכת פחם וגז'!$E$44 -> 3.007076 | K11: ='תמהיל יצור'!S11*1000000/'צריכת פחם וגז'!$E$48 -> 13.278114 | L11: =$E$39*('תמהיל יצור'!W11+'תמהיל יצור'!V11) -> 0.15705809 | M11: ='תמהיל יצור'!X11*1000000/'צריכת פחם וגז'!$E$48 -> 13.343865 | N11: ='תמהיל יצור'!Y11*10^6/'צריכת פחם וגז'!$E$51 -> 1.8017739 | O11: ='תמהיל יצור'!Z11*10^6/'צריכת פחם וגז'!$E$54 -> 0.32335958 | P11: =$E$39*'תמהיל יצור'!AC11 -> 0 | Q11: ='תמהיל יצור'!AD11*1000000/'צריכת פחם וגז'!$E$48 -> 13.42642 | R11: ='תמהיל יצור'!AE11*10^6/'צריכת פחם וגז'!$E$51 -> 1.8017739 | S11: ='תמהיל יצור'!AF11*10^6/'צריכת פחם וגז'!$E$54 -> 0.32335958 | T11: =$E$39*'תמהיל יצור'!AK11 -> 5.6562125 | U11: ='תמהיל יצור'!AL11*1000000/'צריכת פחם וגז'!$E$48 -> 11.364028
B12: =B11+1 -> 2028 | C12: =$E$39*'תמהיל יצור'!H12 -> 8.017544 | D12: ='תמהיל יצור'!I12*1000000/'צריכת פחם וגז'!$E$48 -> 11.83134 | F12: =$E$39*'תמהיל יצור'!L12 -> 5.6562125 | G12: ='תמהיל יצור'!M12*1000000/'צריכת פחם וגז'!$E$48 -> 13.072534 | I12: =$E$39*('תמהיל יצור'!Q12+'תמהיל יצור'!P12) -> 0.28728456 | J12: ='תמהיל יצור'!R12*1000000/'צריכת פחם וגז'!$E$44 -> 3.007076 | K12: ='תמהיל יצור'!S12*1000000/'צריכת פחם וגז'!$E$48 -> 13.516147 | L12: =$E$39*('תמהיל יצור'!W12+'תמהיל יצור'!V12) -> 0.23217283 | M12: ='תמהיל יצור'!X12*1000000/'צריכת פחם וגז'!$E$48 -> 12.351829 | N12: ='תמהיל יצור'!Y12*10^6/'צריכת פחם וגז'!$E$51 -> 2.7026608 | O12: ='תמהיל יצור'!Z12*10^6/'צריכת פחם וגז'!$E$54 -> 0.48503938 | P12: =$E$39*'תמהיל יצור'!AC12 -> 0 | Q12: ='תמהיל יצור'!AD12*1000000/'צריכת פחם וגז'!$E$48 -> 12.473866 | R12: ='תמהיל יצור'!AE12*10^6/'צריכת פחם וגז'!$E$51 -> 2.7026608 | S12: ='תמהיל יצור'!AF12*10^6/'צריכת פחם וגז'!$E$54 -> 0.48503938 | T12: =$E$39*'תמהיל יצור'!AK12 -> 5.6562125 | U12: ='תמהיל יצור'!AL12*1000000/'צריכת פחם וגז'!$E$48 -> 11.373586
B13: =B12+1 -> 2029 | C13: =$E$39*'תמהיל יצור'!H13 -> 8.017544 | D13: ='תמהיל יצור'!I13*1000000/'צריכת פחם וגז'!$E$48 -> 12.070703 | F13: =$E$39*'תמהיל יצור'!L13 -> 5.6562125 | G13: ='תמהיל יצור'!M13*1000000/'צריכת פחם וגז'!$E$48 -> 13.311897 | I13: =$E$39*('תמהיל יצור'!Q13+'תמהיל יצור'!P13) -> 0.28728456 | J13: ='תמהיל יצור'!R13*1000000/'צריכת פחם וגז'!$E$44 -> 3.007076 | K13: ='תמהיל יצור'!S13*1000000/'צריכת פחם וגז'!$E$48 -> 13.75551 | L13: =$E$39*('תמהיל יצור'!W13+'תמהיל יצור'!V13) -> 0.23217283 | M13: ='תמהיל יצור'!X13*1000000/'צריכת פחם וגז'!$E$48 -> 12.591192 | N13: ='תמהיל יצור'!Y13*10^6/'צריכת פחם וגז'!$E$51 -> 2.7026608 | O13: ='תמהיל יצור'!Z13*10^6/'צריכת פחם וגז'!$E$54 -> 0.48503938 | P13: =$E$39*'תמהיל יצור'!AC13 -> 0 | Q13: ='תמהיל יצור'!AD13*1000000/'צריכת פחם וגז'!$E$48 -> 12.713229 | R13: ='תמהיל יצור'!AE13*10^6/'צריכת פחם וגז'!$E$51 -> 2.7026608 | S13: ='תמהיל יצור'!AF13*10^6/'צריכת פחם וגז'!$E$54 -> 0.48503938 | T13: =$E$39*'תמהיל יצור'!AK13 -> 5.6562125 | U13: ='תמהיל יצור'!AL13*1000000/'צריכת פחם וגז'!$E$48 -> 11.373208
B14: =B13+1 -> 2030 | C14: =$E$39*'תמהיל יצור'!H14 -> 8.017544 | D14: ='תמהיל יצור'!I14*1000000/'צריכת פחם וגז'!$E$48 -> 12.311295 | F14: =$E$39*'תמהיל יצור'!L14 -> 5.6562125 | G14: ='תמהיל יצור'!M14*1000000/'צריכת פחם וגז'!$E$48 -> 13.552489 | I14: =$E$39*('תמהיל יצור'!Q14+'תמהיל יצור'!P14) -> 0.28728456 | J14: ='תמהיל יצור'!R14*1000000/'צריכת פחם וגז'!$E$44 -> 3.007076 | K14: ='תמהיל יצור'!S14*1000000/'צריכת פחם וגז'!$E$48 -> 13.996101 | L14: =$E$39*('תמהיל יצור'!W14+'תמהיל יצור'!V14) -> 0.23217283 | M14: ='תמהיל יצור'!X14*1000000/'צריכת פחם וגז'!$E$48 -> 12.831783 | N14: ='תמהיל יצור'!Y14*10^6/'צריכת פחם וגז'!$E$51 -> 2.7026608 | O14: ='תמהיל יצור'!Z14*10^6/'צריכת פחם וגז'!$E$54 -> 0.48503938 | P14: =$E$39*'תמהיל יצור'!AC14 -> 0 | Q14: ='תמהיל יצור'!AD14*1000000/'צריכת פחם וגז'!$E$48 -> 12.953821 | R14: ='תמהיל יצור'!AE14*10^6/'צריכת פחם וגז'!$E$51 -> 2.7026608 | S14: ='תמהיל יצור'!AF14*10^6/'צריכת פחם וגז'!$E$54 -> 0.48503938 | T14: =$E$39*'תמהיל יצור'!AK14 -> 5.6562125 | U14: ='תמהיל יצור'!AL14*1000000/'צריכת פחם וגז'!$E$48 -> 11.959662
B15: =B14+1 -> 2031 | C15: =$E$39*'תמהיל יצור'!H15 -> 8.017544 | D15: ='תמהיל יצור'!I15*1000000/'צריכת פחם וגז'!$E$48 -> 12.757485 | F15: =$E$39*'תמהיל יצור'!L15 -> 5.6562125 | G15: ='תמהיל יצור'!M15*1000000/'צריכת פחם וגז'!$E$48 -> 13.99868 | I15: =$E$39*('תמהיל יצור'!Q15+'תמהיל יצור'!P15) -> 0.28728456 | J15: ='תמהיל יצור'!R15*1000000/'צריכת פחם וגז'!$E$44 -> 3.007076 | K15: ='תמהיל יצור'!S15*1000000/'צריכת פחם וגז'!$E$48 -> 14.442292 | L15: =$E$39*('תמהיל יצור'!W15+'תמהיל יצור'!V15) -> 0.23217283 | M15: ='תמהיל יצור'!X15*1000000/'צריכת פחם וגז'!$E$48 -> 13.277974 | N15: ='תמהיל יצור'!Y15*10^6/'צריכת פחם וגז'!$E$51 -> 2.7026608 | O15: ='תמהיל יצור'!Z15*10^6/'צריכת פחם וגז'!$E$54 -> 0.48503938 | P15: =$E$39*'תמהיל יצור'!AC15 -> 0 | Q15: ='תמהיל יצור'!AD15*1000000/'צריכת פחם וגז'!$E$48 -> 13.400011 | R15: ='תמהיל יצור'!AE15*10^6/'צריכת פחם וגז'!$E$51 -> 2.7026608 | S15: ='תמהיל יצור'!AF15*10^6/'צריכת פחם וגז'!$E$54 -> 0.48503938 | T15: =$E$39*'תמהיל יצור'!AK15 -> 5.6562125 | U15: ='תמהיל יצור'!AL15*1000000/'צריכת פחם וגז'!$E$48 -> 12.362846
B16: =B15+1 -> 2032 | C16: =$E$39*'תמהיל יצור'!H16 -> 8.017544 | D16: ='תמהיל יצור'!I16*1000000/'צריכת פחם וגז'!$E$48 -> 13.215723 | F16: =$E$39*'תמהיל יצור'!L16 -> 5.6562125 | G16: ='תמהיל יצור'!M16*1000000/'צריכת פחם וגז'!$E$48 -> 14.456917 | I16: =$E$39*('תמהיל יצור'!Q16+'תמהיל יצור'!P16) -> 0.28728456 | J16: ='תמהיל יצור'!R16*1000000/'צריכת פחם וגז'!$E$44 -> 3.007076 | K16: ='תמהיל יצור'!S16*1000000/'צריכת פחם וגז'!$E$48 -> 14.90053 | L16: =$E$39*('תמהיל יצור'!W16+'תמהיל יצור'!V16) -> 0.23217283 | M16: ='תמהיל יצור'!X16*1000000/'צריכת פחם וגז'!$E$48 -> 13.736212 | N16: ='תמהיל יצור'!Y16*10^6/'צריכת פחם וגז'!$E$51 -> 2.7026608 | O16: ='תמהיל יצור'!Z16*10^6/'צריכת פחם וגז'!$E$54 -> 0.48503938 | P16: =$E$39*'תמהיל יצור'!AC16 -> 0 | Q16: ='תמהיל יצור'!AD16*1000000/'צריכת פחם וגז'!$E$48 -> 13.858249 | R16: ='תמהיל יצור'!AE16*10^6/'צריכת פחם וגז'!$E$51 -> 2.7026608 | S16: ='תמהיל יצור'!AF16*10^6/'צריכת פחם וגז'!$E$54 -> 0.48503938 | T16: =$E$39*'תמהיל יצור'!AK16 -> 5.6562125 | U16: ='תמהיל יצור'!AL16*1000000/'צריכת פחם וגז'!$E$48 -> 12.776916
... B29: =B28+1 -> 2045 | C29: =$E$39*'תמהיל יצור'!H29 -> 2.5939113 | D29: ='תמהיל יצור'!I29*1000000/'צריכת פחם וגז'!$E$48 -> 23.28068 | F29: =$E$39*'תמהיל יצור'!L29 -> 1.8299511 | G29: ='תמהיל יצור'!M29*1000000/'צריכת פחם וגז'!$E$48 -> 23.682242 | I29: =$E$39*('תמהיל יצור'!Q29+'תמהיל יצור'!P29) -> 0.092945004 | J29: ='תמהיל יצור'!R29*1000000/'צריכת פחם וגז'!$E$44 -> 0.3147545 | K29: ='תמהיל יצור'!S29*1000000/'צריכת פחם וגז'!$E$48 -> 24.346312 | L29: =$E$39*('תמהיל יצור'!W29+'תמהיל יצור'!V29) -> 0.15364378 | M29: ='תמהיל יצור'!X29*1000000/'צריכת פחם וגז'!$E$48 -> 20.991604 | N29: ='תמהיל יצור'!Y29*10^6/'צריכת פחם וגז'!$E$51 -> 2.7026608 | O29: ='תמהיל יצור'!Z29*10^6/'צריכת פחם וגז'!$E$54 -> 0.48503938 | P29: =$E$39*'תמהיל יצור'!AC29 -> 0 | Q29: ='תמהיל יצור'!AD29*1000000/'צריכת פחם וגז'!$E$48 -> 21.072364 | R29: ='תמהיל יצור'!AE29*10^6/'צריכת פחם וגז'!$E$51 -> 2.7026608 | S29: ='תמהיל יצור'!AF29*10^6/'צריכת פחם וגז'!$E$54 -> 0.48503938 | T29: =$E$39*'תמהיל יצור'!AK29 -> 1.8299511 | U29: ='תמהיל יצור'!AL29*1000000/'צריכת פחם וגז'!$E$48 -> 21.306905
B31: סך
C32: =SUM(C4:C29) -> 189.47343 | D32: =SUM(D4:D29) -> 375.13778 | F32: =SUM(F4:F29) -> 133.66961 | G32: =SUM(G4:G29) -> 404.47011 | I32: =SUM(I4:I29) -> 28.107012 | J32: =SUM(J4:K29) -> 471.47565 | L32: =SUM(L4:L29) -> 26.716131 | M32: =SUM(M4:O29) -> 453.00719 | P32: =SUM(P4:P31) -> 22.458491 | Q32: =SUM(Q4:S29) -> 455.24515 | T32: =SUM(T4:T29) -> 133.66961 | U32: =SUM(U4:U29) -> 364.87872
K34: סיכום
C35: צריכת דלק | K35: צריכת דלקים בשנים 2020-2040 | L35: סגירת 1-4 ללא מדיניות הפחתה | M35: סגירת 1-4 עם מדיניות הפחתה | N35: 25% מתחדשות | O35: הסבה לגז | P35: שמור והקמה | Q35: גריטה והקמה
C36: פחם | K36: מליון טון פחם | L36: =C32 -> 189.47343 | M36: =F32 -> 133.66961 | N36: =T32 -> 133.66961 | O36: =I32 -> 28.107012 | P36: =L32 -> 26.716131 | Q36: =P32 -> 22.458491
C37: MMBTU per MWh of coal | E37: ='הנחות עבודה'!B41/'הנחות עבודה'!E37 -> 9.3025476 | K37: גז BCM | L37: =D32 -> 375.13778 | M37: =G32 -> 404.47011 | N37: =U32 -> 364.87872 | O37: =J32 -> 471.47565 | P37: =M32 -> 453.00719 | Q37: =Q32 -> 455.24515
C38: MMBTU in a ton of coal | E38: ='הנחות עבודה'!B42 -> 23.8
C39: ton of coal per MWh | E39: =E37/E38 -> 0.39086334
C41: פחם מוסב לגז
C42: MMBTU per MWh of converted coal | E42: ='הנחות עבודה'!E40 -> 9.343484
C43: BCMב NMMBTU | E43: ='הנחות עבודה'!B43 -> 35971223
C44: MWh per BCM | E44: =E43/E42 -> 3849872.6
C46: צריכת גז ממוצעת ביחידות קיימות
C47: MMBTU per MWh of average gas unit | E47: ='הנחות עבודה'!B41/'הנחות עבודה'!E41 -> 7.3903142
C48: MWh per BCM | E48: =E56/E47 -> 4867346.9
C49: צריכת גז במחז״מים חדשים
C50: MMBTU per MWh of average gas unit | E50: ='הנחות עבודה'!B41/'הנחות עבודה'!E30 -> 6.2869346
C51: MWh per BCM | E51: =E56/E50 -> 5721583.7
C52: צריכת גז בפיקרים חדשים
C53: MMBTU per MWh of average gas unit | E53: ='הנחות עבודה'!B41/'הנחות עבודה'!E33 -> 9.0801247
C54: MWh per BCM | E54: =E56/E53 -> 3961534
C56: BCMב NMMBTU | E56: =E43 -> 35971223

Sheet  פליטות - גזי חממה
A1: פליטות גזי חממה | B1: (מליוני טון)
A2: פליטות CO2 לפי חלופה (מיליון טון) | S2: ריבית היוון
B3: סגירת 1-4 ללא מדיניות הפחתה | D3: סגירת 1-4 עם מדיניות הפחתה | F3: הסבה | I3: שימור | M3: גריטה | Q3: 0.25 | S3: ='הנחות עבודה'!B37 -> 0.04 | V3: טבלה מסכמת
A4: שנה | B4: פחם | C4: =E4 -> מתקני גז קיימים | D4: פחם | E4: =H4 -> מתקני גז קיימים | F4: פחם | G4: גז מוסב | H4: =J4 -> מתקני גז קיימים | I4: פחם | J4: מתקני גז קיימים | K4: מחזמים חדשים | L4: פיקר חדש | M4: פחם | N4: =J4 -> מתקני גז קיימים | O4: מחזמים חדשים | P4: פיקר חדש | Q4: פחם | R4: =C4 -> מתקני גז קיימים | S4: מקדם היוון שנתי | W4: 2015 | X4: 2018 | Z4: סגירת 1-4 ללא מדיניות הפחתה | AA4: סגירת 1-4 עם מדיניות הפחתה | AB4: =Q40 -> 25% מתחדשות | AC4: =F40 -> הסבה | AD4: =I40 -> שימור | AE4: =M40 -> גריטה
A5: 2020 | B5: =$B$58*'תמהיל יצור'!H4/10^3 -> 18.050909 | C5: =$B$60*'תמהיל יצור'!I4/10^3 -> 17.218695 | D5: =$B$58*'תמהיל יצור'!L4/10^3 -> 12.734545 | E5: =$B$60*'תמהיל יצור'!M4/10^3 -> 19.502315 | F5: =$B$58*('תמהיל יצור'!P4+'תמהיל יצור'!Q4)/10^3 -> 12.734545 | G5: =$B$59*'תמהיל יצור'!R4/10^3 -> 0 | H5: =$B$60*'תמהיל יצור'!S4/10^3 -> 19.502315 | I5: =$B$58*('תמהיל יצור'!V4+'תמהיל יצור'!W4)/10^3 -> 12.734545 | J5: =$B$60*'תמהיל יצור'!X4/10^3 -> 19.502315 | K5: =$B$61*'תמהיל יצור'!Y4/10^3 -> 0 | L5: =$B$62*'תמהיל יצור'!Z4/10^3 -> 0 | M5: =$B$58*'תמהיל יצור'!AC4/10^3 -> 12.734545 | N5: =$B$60*'תמהיל יצור'!AD4/10^3 -> 19.502315 | O5: =$B$61*'תמהיל יצור'!AE4/10^3 -> 0 | P5: =$B$62*'תמהיל יצור'!AF4/10^3 -> 0 | Q5: =$B$58*'תמהיל יצור'!AK4/10^3 -> 12.734545 | R5: =$B$60*'תמהיל יצור'!AL4/10^3 -> 19.502315 | S5: =1/((1+$S$3)^($A5-2019)) -> 0.96153846 | V5: =A42 -> פליטות לקוט"ש לתקופה(גר'/קוטש) | W5: =B66 -> 634 | X5: =B67 -> 526 | Z5: =B42 -> 407.26013 | AA5: =D42 -> 381.12379 | AB5: =Q42 -> 354.56017 | AC5: =F42 -> 339.10876 | AD5: =I42 -> 327.42607 | AE5: =M42 -> 325.43195
A6: 2021 | B6: =$B$58*'תמהיל יצור'!H5/10^3 -> 18.050909 | C6: =$B$60*'תמהיל יצור'!I5/10^3 -> 17.340891 | D6: =$B$58*'תמהיל יצור'!L5/10^3 -> 12.734545 | E6: =$B$60*'תמהיל יצור'!M5/10^3 -> 19.624511 | F6: =$B$58*('תמהיל יצור'!P5+'תמהיל יצור'!Q5)/10^3 -> 12.734545 | G6: =$B$59*'תמהיל יצור'!R5/10^3 -> 0 | H6: =$B$60*'תמהיל יצור'!S5/10^3 -> 19.624511 | I6: =$B$58*('תמהיל יצור'!V5+'תמהיל יצור'!W5)/10^3 -> 12.734545 | J6: =$B$60*'תמהיל יצור'!X5/10^3 -> 19.624511 | K6: =$B$61*'תמהיל יצור'!Y5/10^3 -> 0 | L6: =$B$62*'תמהיל יצור'!Z5/10^3 -> 0 | M6: =$B$58*'תמהיל יצור'!AC5/10^3 -> 12.734545 | N6: =$B$60*'תמהיל יצור'!AD5/10^3 -> 19.624511 | O6: =$B$61*'תמהיל יצור'!AE5/10^3 -> 0 | P6: =$B$62*'תמהיל יצור'!AF5/10^3 -> 0 | Q6: =$B$58*'תמהיל יצור'!AK5/10^3 -> 12.734545 | R6: =$B$60*'תמהיל יצור'!AL5/10^3 -> 19.624511 | S6: =1/((1+$S$3)^($A6-2019)) -> 0.92455621 | V6: =A48 -> פליטות לנפש 2030 | W6: 4.95 | X6: 4.21 | Z6: =B48 -> 3.6668408 | AA6: =D48 -> 3.3936206 | AB6: =Q48 -> 3.1296049 | AC6: =F48 -> 2.8725278 | AD6: =I48 -> 2.7214989 | AE6: =M48 -> 2.6946351
A7: 2022 | B7: =$B$58*'תמהיל יצור'!H6/10^3 -> 18.050909 | C7: =$B$60*'תמהיל יצור'!I6/10^3 -> 18.16041 | D7: =$B$58*'תמהיל יצור'!L6/10^3 -> 12.734545 | E7: =$B$60*'תמהיל יצור'!M6/10^3 -> 20.44403 | F7: =$B$58*('תמהיל יצור'!P6+'תמהיל יצור'!Q6)/10^3 -> 8.6460433 | G7: =$B$59*'תמהיל יצור'!R6/10^3 -> 1.856043 | H7: =$B$60*'תמהיל יצור'!S6/10^3 -> 20.720092 | I7: =$B$58*('תמהיל יצור'!V6+'תמהיל יצור'!W6)/10^3 -> 8.4272727 | J7: =$B$60*'תמהיל יצור'!X6/10^3 -> 22.294199 | K7: =$B$61*'תמהיל יצור'!Y6/10^3 -> 0 | L7: =$B$62*'תמהיל יצור'!Z6/10^3 -> 0 | M7: =$B$58*'תמהיל יצור'!AC6/10^3 -> 8.4272727 | N7: =$B$60*'תמהיל יצור'!AD6/10^3 -> 22.294199 | O7: =$B$61*'תמהיל יצור'!AE6/10^3 -> 0 | P7: =$B$62*'תמהיל יצור'!AF6/10^3 -> 0 | Q7: =$B$58*'תמהיל יצור'!AK6/10^3 -> 12.734545 | R7: =$B$60*'תמהיל יצור'!AL6/10^3 -> 20.44403 | S7: =1/((1+$S$3)^($A7-2019)) -> 0.88899636 | V7: יעד פליטות לנפש 2030 | W7: 3.85 | X7: 3.85 | Y7: 3.85 | Z7: 3.85 | AA7: 3.85 | AB7: 3.85 | AC7: 3.85 | AD7: 3.85 | AE7: 3.85
A8: 2023 | B8: =$B$58*'תמהיל יצור'!H7/10^3 -> 18.050909 | C8: =$B$60*'תמהיל יצור'!I7/10^3 -> 18.70583 | D8: =$B$58*'תמהיל יצור'!L7/10^3 -> 12.734545 | E8: =$B$60*'תמהיל יצור'!M7/10^3 -> 20.98945 | F8: =$B$58*('תמהיל יצור'!P7+'תמהיל יצור'!Q7)/10^3 -> 8.6460433 | G8: =$B$59*'תמהיל יצור'!R7/10^3 -> 1.856043 | H8: =$B$60*'תמהיל יצור'!S7/10^3 -> 21.265512 | I8: =$B$58*('תמהיל יצור'!V7+'תמהיל יצור'!W7)/10^3 -> 8.4272727 | J8: =$B$60*'תמהיל יצור'!X7/10^3 -> 22.839619 | K8: =$B$61*'תמהיל יצור'!Y7/10^3 -> 0 | L8: =$B$62*'תמהיל יצור'!Z7/10^3 -> 0 | M8: =$B$58*'תמהיל יצור'!AC7/10^3 -> 8.4272727 | N8: =$B$60*'תמהיל יצור'!AD7/10^3 -> 22.839619 | O8: =$B$61*'תמהיל יצור'!AE7/10^3 -> 0 | P8: =$B$62*'תמהיל יצור'!AF7/10^3 -> 0 | Q8: =$B$58*'תמהיל יצור'!AK7/10^3 -> 12.734545 | R8: =$B$60*'תמהיל יצור'!AL7/10^3 -> 20.388097 | S8: =1/((1+$S$3)^($A8-2019)) -> 0.85480419
A9: 2024 | B9: =$B$58*'תמהיל יצור'!H8/10^3 -> 18.050909 | C9: =$B$60*'תמהיל יצור'!I8/10^3 -> 19.570029 | D9: =$B$58*'תמהיל יצור'!L8/10^3 -> 12.734545 | E9: =$B$60*'תמהיל יצור'!M8/10^3 -> 21.853649 | F9: =$B$58*('תמהיל יצור'!P8+'תמהיל יצור'!Q8)/10^3 -> 4.5575412 | G9: =$B$59*'תמהיל יצור'!R8/10^3 -> 3.712086 | H9: =$B$60*'תמהיל יצור'!S8/10^3 -> 22.405773 | I9: =$B$58*('תמהיל יצור'!V8+'תמהיל יצור'!W8)/10^3 -> 4.2968024 | J9: =$B$60*'תמהיל יצור'!X8/10^3 -> 23.287533 | K9: =$B$61*'תמהיל יצור'!Y8/10^3 -> 1.7175182 | L9: =$B$62*'תמהיל יצור'!Z8/10^3 -> 0.30823845 | M9: =$B$58*'תמהיל יצור'!AC8/10^3 -> 4.12 | N9: =$B$60*'תמהיל יצור'!AD8/10^3 -> 23.363478 | O9: =$B$61*'תמהיל יצור'!AE8/10^3 -> 1.7175182 | P9: =$B$62*'תמהיל יצור'!AF8/10^3 -> 0.30823845 | Q9: =$B$58*'תמהיל יצור'!AK8/10^3 -> 12.734545 | R9: =$B$60*'תמהיל יצור'!AL8/10^3 -> 20.611662 | S9: =1/((1+$S$3)^($A9-2019)) -> 0.82192711
A10: 2025 | B10: =$B$58*'תמהיל יצור'!H9/10^3 -> 18.050909 | C10: =$B$60*'תמהיל יצור'!I9/10^3 -> 20.141535 | D10: =$B$58*'תמהיל יצור'!L9/10^3 -> 12.734545 | E10: =$B$60*'תמהיל יצור'!M9/10^3 -> 22.425155 | F10: =$B$58*('תמהיל יצור'!P9+'תמהיל יצור'!Q9)/10^3 -> 4.5575412 | G10: =$B$59*'תמהיל יצור'!R9/10^3 -> 3.712086 | H10: =$B$60*'תמהיל יצור'!S9/10^3 -> 22.977278 | I10: =$B$58*('תמהיל יצור'!V9+'תמהיל יצור'!W9)/10^3 -> 4.2968024 | J10: =$B$60*'תמהיל יצור'!X9/10^3 -> 23.859039 | K10: =$B$61*'תמהיל יצור'!Y9/10^3 -> 1.7175182 | L10: =$B$62*'תמהיל יצור'!Z9/10^3 -> 0.30823845 | M10: =$B$58*'תמהיל יצור'!AC9/10^3 -> 4.12 | N10: =$B$60*'תמהיל יצור'!AD9/10^3 -> 23.934983 | O10: =$B$61*'תמהיל יצור'!AE9/10^3 -> 1.7175182 | P10: =$B$62*'תמהיל יצור'!AF9/10^3 -> 0.30823845 | Q10: =$B$58*'תמהיל יצור'!AK9/10^3 -> 12.734545 | R10: =$B$60*'תמהיל יצור'!AL9/10^3 -> 20.821981 | S10: =1/((1+$S$3)^($A10-2019)) -> 0.79031453
A11: 2026 | B11: =$B$58*'תמהיל יצור'!H10/10^3 -> 18.050909 | C11: =$B$60*'תמהיל יצור'!I10/10^3 -> 20.894706 | D11: =$B$58*'תמהיל יצור'!L10/10^3 -> 12.734545 | E11: =$B$60*'תמהיל יצור'!M10/10^3 -> 23.178325 | F11: =$B$58*('תמהיל יצור'!P10+'תמהיל יצור'!Q10)/10^3 -> 0.6468 | G11: =$B$59*'תמהיל יצור'!R10/10^3 -> 5.4874314 | H11: =$B$60*'תמהיל יצור'!S10/10^3 -> 23.994509 | I11: =$B$58*('תמהיל יצור'!V10+'תמהיל יצור'!W10)/10^3 -> 0.35360471 | J11: =$B$60*'תמהיל יצור'!X10/10^3 -> 24.115482 | K11: =$B$61*'תמהיל יצור'!Y10/10^3 -> 3.4350365 | L11: =$B$62*'תמהיל יצור'!Z10/10^3 -> 0.6164769 | M11: =$B$58*'תמהיל יצור'!AC10/10^3 -> 0 | N11: =$B$60*'תמהיל יצור'!AD10/10^3 -> 24.267372 | O11: =$B$61*'תמהיל יצור'!AE10/10^3 -> 3.4350365 | P11: =$B$62*'תמהיל יצור'!AF10/10^3 -> 0.6164769 | Q11: =$B$58*'תמהיל יצור'!AK10/10^3 -> 12.734545 | R11: =$B$60*'תמהיל יצור'!AL10/10^3 -> 20.873282 | S11: =1/((1+$S$3)^($A11-2019)) -> 0.75991781
A12: 2027 | B12: =$B$58*'תמהיל יצור'!H11/10^3 -> 18.050909 | C12: =$B$60*'תמהיל יצור'!I11/10^3 -> 21.330029 | D12: =$B$58*'תמהיל יצור'!L11/10^3 -> 12.734545 | E12: =$B$60*'תמהיל יצור'!M11/10^3 -> 23.613649 | F12: =$B$58*('תמהיל יצור'!P11+'תמהיל יצור'!Q11)/10^3 -> 0.6468 | G12: =$B$59*'תמהיל יצור'!R11/10^3 -> 5.4874314 | H12: =$B$60*'תמהיל יצור'!S11/10^3 -> 24.429833 | I12: =$B$58*('תמהיל יצור'!V11+'תמהיל יצור'!W11)/10^3 -> 0.35360471 | J12: =$B$60*'תמהיל יצור'!X11/10^3 -> 24.550806 | K12: =$B$61*'תמהיל יצור'!Y11/10^3 -> 3.4350365 | L12: =$B$62*'תמהיל יצור'!Z11/10^3 -> 0.6164769 | M12: =$B$58*'תמהיל יצור'!AC11/10^3 -> 0 | N12: =$B$60*'תמהיל יצור'!AD11/10^3 -> 24.702695 | O12: =$B$61*'תמהיל יצור'!AE11/10^3 -> 3.4350365 | P12: =$B$62*'תמהיל יצור'!AF11/10^3 -> 0.6164769 | Q12: =$B$58*'תמהיל יצור'!AK11/10^3 -> 12.734545 | R12: =$B$60*'תמהיל יצור'!AL11/10^3 -> 20.908187 | S12: =1/((1+$S$3)^($A12-2019)) -> 0.73069021
A13: 2028 | B13: =$B$58*'תמהיל יצור'!H12/10^3 -> 18.050909 | C13: =$B$60*'תמהיל יצור'!I12/10^3 -> 21.767976 | D13: =$B$58*'תמהיל יצור'!L12/10^3 -> 12.734545 | E13: =$B$60*'תמהיל יצור'!M12/10^3 -> 24.051596 | F13: =$B$58*('תמהיל יצור'!P12+'תמהיל יצור'!Q12)/10^3 -> 0.6468 | G13: =$B$59*'תמהיל יצור'!R12/10^3 -> 5.4874314 | H13: =$B$60*'תמהיל יצור'!S12/10^3 -> 24.867779 | I13: =$B$58*('תמהיל יצור'!V12+'תמהיל יצור'!W12)/10^3 -> 0.52272 | J13: =$B$60*'תמהיל יצור'!X12/10^3 -> 22.7256 | K13: =$B$61*'תמהיל יצור'!Y12/10^3 -> 5.1525547 | L13: =$B$62*'תמהיל יצור'!Z12/10^3 -> 0.92471536 | M13: =$B$58*'תמהיל יצור'!AC12/10^3 -> 0 | N13: =$B$60*'תמהיל יצור'!AD12/10^3 -> 22.950132 | O13: =$B$61*'תמהיל יצור'!AE12/10^3 -> 5.1525547 | P13: =$B$62*'תמהיל יצור'!AF12/10^3 -> 0.92471536 | Q13: =$B$58*'תמהיל יצור'!AK12/10^3 -> 12.734545 | R13: =$B$60*'תמהיל יצור'!AL12/10^3 -> 20.925773 | S13: =1/((1+$S$3)^($A13-2019)) -> 0.70258674
A14: 2029 | B14: =$B$58*'תמהיל יצור'!H13/10^3 -> 18.050909 | C14: =$B$60*'תמהיל יצור'!I13/10^3 -> 22.20837 | D14: =$B$58*'תמהיל יצור'!L13/10^3 -> 12.734545 | E14: =$B$60*'תמהיל יצור'!M13/10^3 -> 24.49199 | F14: =$B$58*('תמהיל יצור'!P13+'תמהיל יצור'!Q13)/10^3 -> 0.6468 | G14: =$B$59*'תמהיל יצור'!R13/10^3 -> 5.4874314 | H14: =$B$60*'תמהיל יצור'!S13/10^3 -> 25.308173 | I14: =$B$58*('תמהיל יצור'!V13+'תמהיל יצור'!W13)/10^3 -> 0.52272 | J14: =$B$60*'תמהיל יצור'!X13/10^3 -> 23.165994 | K14: =$B$61*'תמהיל יצור'!Y13/10^3 -> 5.1525547 | L14: =$B$62*'תמהיל יצור'!Z13/10^3 -> 0.92471536 | M14: =$B$58*'תמהיל יצור'!AC13/10^3 -> 0 | N14: =$B$60*'תמהיל יצור'!AD13/10^3 -> 23.390526 | O14: =$B$61*'תמהיל יצור'!AE13/10^3 -> 5.1525547 | P14: =$B$62*'תמהיל יצור'!AF13/10^3 -> 0.92471536 | Q14: =$B$58*'תמהיל יצור'!AK13/10^3 -> 12.734545 | R14: =$B$60*'תמהיל יצור'!AL13/10^3 -> 20.925078 | S14: =1/((1+$S$3)^($A14-2019)) -> 0.67556417
A15: 2030 | B15: =$B$58*'תמהיל יצור'!H14/10^3 -> 18.050909 | C15: =$B$60*'תמהיל יצור'!I14/10^3 -> 22.651024 | D15: =$B$58*'תמהיל יצור'!L14/10^3 -> 12.734545 | E15: =$B$60*'תמהיל יצור'!M14/10^3 -> 24.934643 | F15: =$B$58*('תמהיל יצור'!P14+'תמהיל יצור'!Q14)/10^3 -> 0.6468 | G15: =$B$59*'תמהיל יצור'!R14/10^3 -> 5.4874314 | H15: =$B$60*'תמהיל יצור'!S14/10^3 -> 25.750827 | I15: =$B$58*('תמהיל יצור'!V14+'תמהיל יצור'!W14)/10^3 -> 0.52272 | J15: =$B$60*'תמהיל יצור'!X14/10^3 -> 23.608648 | K15: =$B$61*'תמהיל יצור'!Y14/10^3 -> 5.1525547 | L15: =$B$62*'תמהיל יצור'!Z14/10^3 -> 0.92471536 | M15: =$B$58*'תמהיל יצור'!AC14/10^3 -> 0 | N15: =$B$60*'תמהיל יצור'!AD14/10^3 -> 23.83318 | O15: =$B$61*'תמהיל יצור'!AE14/10^3 -> 5.1525547 | P15: =$B$62*'תמהיל יצור'!AF14/10^3 -> 0.92471536 | Q15: =$B$58*'תמהיל יצור'!AK14/10^3 -> 12.734545 | R15: =$B$60*'תמהיל יצור'!AL14/10^3 -> 22.004069 | S15: =1/((1+$S$3)^($A15-2019)) -> 0.64958093
A16: 2031 | B16: =$B$58*'תמהיל יצור'!H15/10^3 -> 18.050909 | C16: =$B$60*'תמהיל יצור'!I15/10^3 -> 23.471951 | D16: =$B$58*'תמהיל יצור'!L15/10^3 -> 12.734545 | E16: =$B$60*'תמהיל יצור'!M15/10^3 -> 25.755571 | F16: =$B$58*('תמהיל יצור'!P15+'תמהיל יצור'!Q15)/10^3 -> 0.6468 | G16: =$B$59*'תמהיל יצור'!R15/10^3 -> 5.4874314 | H16: =$B$60*'תמהיל יצור'!S15/10^3 -> 26.571754 | I16: =$B$58*('תמהיל יצור'!V15+'תמהיל יצור'!W15)/10^3 -> 0.52272 | J16: =$B$60*'תמהיל יצור'!X15/10^3 -> 24.429575 | K16: =$B$61*'תמהיל יצור'!Y15/10^3 -> 5.1525547 | L16: =$B$62*'תמהיל יצור'!Z15/10^3 -> 0.92471536 | M16: =$B$58*'תמהיל יצור'!AC15/10^3 -> 0 | N16: =$B$60*'תמהיל יצור'!AD15/10^3 -> 24.654107 | O16: =$B$61*'תמהיל יצור'!AE15/10^3 -> 5.1525547 | P16: =$B$62*'תמהיל יצור'!AF15/10^3 -> 0.92471536 | Q16: =$B$58*'תמהיל יצור'!AK15/10^3 -> 12.734545 | R16: =$B$60*'תמהיל יצור'!AL15/10^3 -> 22.745871 | S16: =1/((1+$S$3)^($A16-2019)) -> 0.62459705
A17: 2032 | B17: =$B$58*'תמהיל יצור'!H16/10^3 -> 18.050909 | C17: =$B$60*'תמהיל יצור'!I16/10^3 -> 24.315043 | D17: =$B$58*'תמהיל יצור'!L16/10^3 -> 12.734545 | E17: =$B$60*'תמהיל יצור'!M16/10^3 -> 26.598663 | F17: =$B$58*('תמהיל יצור'!P16+'תמהיל יצור'!Q16)/10^3 -> 0.6468 | G17: =$B$59*'תמהיל יצור'!R16/10^3 -> 5.4874314 | H17: =$B$60*'תמהיל יצור'!S16/10^3 -> 27.414846 | I17: =$B$58*('תמהיל יצור'!V16+'תמהיל יצור'!W16)/10^3 -> 0.52272 | J17: =$B$60*'תמהיל יצור'!X16/10^3 -> 25.272667 | K17: =$B$61*'תמהיל יצור'!Y16/10^3 -> 5.1525547 | L17: =$B$62*'תמהיל יצור'!Z16/10^3 -> 0.92471536 | M17: =$B$58*'תמהיל יצור'!AC16/10^3 -> 0 | N17: =$B$60*'תמהיל יצור'!AD16/10^3 -> 25.497199 | O17: =$B$61*'תמהיל יצור'!AE16/10^3 -> 5.1525547 | P17: =$B$62*'תמהיל יצור'!AF16/10^3 -> 0.92471536 | Q17: =$B$58*'תמהיל יצור'!AK16/10^3 -> 12.734545 | R17: =$B$60*'תמהיל יצור'!AL16/10^3 -> 23.507701 | S17: =1/((1+$S$3)^($A17-2019)) -> 0.60057409
A18: 2033 | B18: =$B$58*'תמהיל יצור'!H17/10^3 -> 18.050909 | C18: =$B$60*'תמהיל יצור'!I17/10^3 -> 25.180899 | D18: =$B$58*'תמהיל יצור'!L17/10^3 -> 12.734545 | E18: =$B$60*'תמהיל יצור'!M17/10^3 -> 27.464518 | F18: =$B$58*('תמהיל יצור'!P17+'תמהיל יצור'!Q17)/10^3 -> 0.6468 | G18: =$B$59*'תמהיל יצור'!R17/10^3 -> 5.4874314 | H18: =$B$60*'תמהיל יצור'!S17/10^3 -> 28.280702 | I18: =$B$58*('תמהיל יצור'!V17+'תמהיל יצור'!W17)/10^3 -> 0.52272 | J18: =$B$60*'תמהיל יצור'!X17/10^3 -> 26.138523 | K18: =$B$61*'תמהיל יצור'!Y17/10^3 -> 5.1525547 | L18: =$B$62*'תמהיל יצור'!Z17/10^3 -> 0.92471536 | M18: =$B$58*'תמהיל יצור'!AC17/10^3 -> 0 | N18: =$B$60*'תמהיל יצור'!AD17/10^3 -> 26.363055 | O18: =$B$61*'תמהיל יצור'!AE17/10^3 -> 5.1525547 | P18: =$B$62*'תמהיל יצור'!AF17/10^3 -> 0.92471536 | Q18: =$B$58*'תמהיל יצור'!AK17/10^3 -> 12.734545 | R18: =$B$60*'תמהיל יצור'!AL17/10^3 -> 24.290101 | S18: =1/((1+$S$3)^($A18-2019)) -> 0.57747508
A19: 2034 | B19: =$B$58*'תמהיל יצור'!H18/10^3 -> 18.050909 | C19: =$B$60*'תמהיל יצור'!I18/10^3 -> 26.070132 | D19: =$B$58*'תמהיל יצור'!L18/10^3 -> 12.734545 | E19: =$B$60*'תמהיל יצור'!M18/10^3 -> 28.353752 | F19: =$B$58*('תמהיל יצור'!P18+'תמהיל יצור'!Q18)/10^3 -> 0.6468 | G19: =$B$59*'תמהיל יצור'!R18/10^3 -> 5.4874314 | H19: =$B$60*'תמהיל יצור'!S18/10^3 -> 29.169935 | I19: =$B$58*('תמהיל יצור'!V18+'תמהיל יצור'!W18)/10^3 -> 0.52272 | J19: =$B$60*'תמהיל יצור'!X18/10^3 -> 27.027756 | K19: =$B$61*'תמהיל יצור'!Y18/10^3 -> 5.1525547 | L19: =$B$62*'תמהיל יצור'!Z18/10^3 -> 0.92471536 | M19: =$B$58*'תמהיל יצור'!AC18/10^3 -> 0 | N19: =$B$60*'תמהיל יצור'!AD18/10^3 -> 27.252288 | O19: =$B$61*'תמהיל יצור'!AE18/10^3 -> 5.1525547 | P19: =$B$62*'תמהיל יצור'!AF18/10^3 -> 0.92471536 | Q19: =$B$58*'תמהיל יצור'!AK18/10^3 -> 12.734545 | R19: =$B$60*'תמהיל יצור'!AL18/10^3 -> 25.093625 | S19: =1/((1+$S$3)^($A19-2019)) -> 0.5552645
... A24: 2039 | B24: =$B$58*'תמהיל יצור'!H23/10^3 -> 18.050909 | C24: =$B$60*'תמהיל יצור'!I23/10^3 -> 30.889671 | D24: =$B$58*'תמהיל יצור'!L23/10^3 -> 12.734545 | E24: =$B$60*'תמהיל יצור'!M23/10^3 -> 33.173291 | F24: =$B$58*('תמהיל יצור'!P23+'תמהיל יצור'!Q23)/10^3 -> 0.6468 | G24: =$B$59*'תמהיל יצור'!R23/10^3 -> 5.4874314 | H24: =$B$60*'תמהיל יצור'!S23/10^3 -> 33.989474 | I24: =$B$58*('תמהיל יצור'!V23+'תמהיל יצור'!W23)/10^3 -> 0.52272 | J24: =$B$60*'תמהיל יצור'!X23/10^3 -> 31.847295 | K24: =$B$61*'תמהיל יצור'!Y23/10^3 -> 5.1525547 | L24: =$B$62*'תמהיל יצור'!Z23/10^3 -> 0.92471536 | M24: =$B$58*'תמהיל יצור'!AC23/10^3 -> 0 | N24: =$B$60*'תמהיל יצור'!AD23/10^3 -> 32.071827 | O24: =$B$61*'תמהיל יצור'!AE23/10^3 -> 5.1525547 | P24: =$B$62*'תמהיל יצור'!AF23/10^3 -> 0.92471536 | Q24: =$B$58*'תמהיל יצור'!AK23/10^3 -> 12.734545 | R24: =$B$60*'תמהיל יצור'!AL23/10^3 -> 29.44863 | S24: =1/((1+$S$3)^($A24-2019)) -> 0.45638695
A25: =A24+1 -> 2040 | B25: =$B$58*'תמהיל יצור'!H24/10^3 -> 11.945455 | C25: =$B$60*'תמהיל יצור'!I24/10^3 -> 34.555612 | D25: =$B$58*'תמהיל יצור'!L24/10^3 -> 8.4272727 | E25: =$B$60*'תמהיל יצור'!M24/10^3 -> 36.066831 | F25: =$B$58*('תמהיל יצור'!P24+'תמהיל יצור'!Q24)/10^3 -> 0.42802941 | G25: =$B$59*'תמהיל יצור'!R24/10^3 -> 2.4031247 | H25: =$B$60*'תמהיל יצור'!S24/10^3 -> 37.586454 | I25: =$B$58*('תמהיל יצור'!V24+'תמהיל יצור'!W24)/10^3 -> 0.52272 | J25: =$B$60*'תמהיל יצור'!X24/10^3 -> 32.890666 | K25: =$B$61*'תמהיל יצור'!Y24/10^3 -> 5.1525547 | L25: =$B$62*'תמהיל יצור'!Z24/10^3 -> 0.92471536 | M25: =$B$58*'תמהיל יצור'!AC24/10^3 -> 0 | N25: =$B$60*'תמהיל יצור'!AD24/10^3 -> 33.115198 | O25: =$B$61*'תמהיל יצור'!AE24/10^3 -> 5.1525547 | P25: =$B$62*'תמהיל יצור'!AF24/10^3 -> 0.92471536 | Q25: =$B$58*'תמהיל יצור'!AK24/10^3 -> 8.4272727 | R25: =$B$60*'תמהיל יצור'!AL24/10^3 -> 32.241605 | S25: =1/((1+$S$3)^($A25-2019)) -> 0.4388336
A26: =A25+1 -> 2041 | B26: =$B$58*'תמהיל יצור'!H25/10^3 -> 11.945455 | C26: =$B$60*'תמהיל יצור'!I25/10^3 -> 35.627154 | D26: =$B$58*'תמהיל יצור'!L25/10^3 -> 8.4272727 | E26: =$B$60*'תמהיל יצור'!M25/10^3 -> 37.138373 | F26: =$B$58*('תמהיל יצור'!P25+'תמהיל יצור'!Q25)/10^3 -> 0.42802941 | G26: =$B$59*'תמהיל יצור'!R25/10^3 -> 2.4031247 | H26: =$B$60*'תמהיל יצור'!S25/10^3 -> 38.657996 | I26: =$B$58*('תמהיל יצור'!V25+'תמהיל יצור'!W25)/10^3 -> 0.34591765 | J26: =$B$60*'תמהיל יצור'!X25/10^3 -> 34.038152 | K26: =$B$61*'תמהיל יצור'!Y25/10^3 -> 5.1525547 | L26: =$B$62*'תמהיל יצור'!Z25/10^3 -> 0.92471536 | M26: =$B$58*'תמהיל יצור'!AC25/10^3 -> 0 | N26: =$B$60*'תמהיל יצור'!AD25/10^3 -> 34.18674 | O26: =$B$61*'תמהיל יצור'!AE25/10^3 -> 5.1525547 | P26: =$B$62*'תמהיל יצור'!AF25/10^3 -> 0.92471536 | Q26: =$B$58*'תמהיל יצור'!AK25/10^3 -> 8.4272727 | R26: =$B$60*'תמהיל יצור'!AL25/10^3 -> 33.209865 | S26: =1/((1+$S$3)^($A26-2019)) -> 0.42195539
A27: =A26+1 -> 2042 | B27: =$B$58*'תמהיל יצור'!H26/10^3 -> 11.945455 | C27: =$B$60*'תמהיל יצור'!I26/10^3 -> 36.727627 | D27: =$B$58*'תמהיל יצור'!L26/10^3 -> 8.4272727 | E27: =$B$60*'תמהיל יצור'!M26/10^3 -> 38.238846 | F27: =$B$58*('תמהיל יצור'!P26+'תמהיל יצור'!Q26)/10^3 -> 0.42802941 | G27: =$B$59*'תמהיל יצור'!R26/10^3 -> 2.4031247 | H27: =$B$60*'תמהיל יצור'!S26/10^3 -> 39.758469 | I27: =$B$58*('תמהיל יצור'!V26+'תמהיל יצור'!W26)/10^3 -> 0.34591765 | J27: =$B$60*'תמהיל יצור'!X26/10^3 -> 35.138626 | K27: =$B$61*'תמהיל יצור'!Y26/10^3 -> 5.1525547 | L27: =$B$62*'תמהיל יצור'!Z26/10^3 -> 0.92471536 | M27: =$B$58*'תמהיל יצור'!AC26/10^3 -> 0 | N27: =$B$60*'תמהיל יצור'!AD26/10^3 -> 35.287213 | O27: =$B$61*'תמהיל יצור'!AE26/10^3 -> 5.1525547 | P27: =$B$62*'תמהיל יצור'!AF26/10^3 -> 0.92471536 | Q27: =$B$58*'תמהיל יצור'!AK26/10^3 -> 8.4272727 | R27: =$B$60*'תמהיל יצור'!AL26/10^3 -> 34.204269 | S27: =1/((1+$S$3)^($A27-2019)) -> 0.40572633
A28: =A27+1 -> 2043 | B28: =$B$58*'תמהיל יצור'!H27/10^3 -> 11.945455 | C28: =$B$60*'תמהיל יצור'!I27/10^3 -> 37.857813 | D28: =$B$58*'תמהיל יצור'!L27/10^3 -> 8.4272727 | E28: =$B$60*'תמהיל יצור'!M27/10^3 -> 39.369032 | F28: =$B$58*('תמהיל יצור'!P27+'תמהיל יצור'!Q27)/10^3 -> 0.42802941 | G28: =$B$59*'תמהיל יצור'!R27/10^3 -> 2.4031247 | H28: =$B$60*'תמהיל יצור'!S27/10^3 -> 40.888655 | I28: =$B$58*('תמהיל יצור'!V27+'תמהיל יצור'!W27)/10^3 -> 0.34591765 | J28: =$B$60*'תמהיל יצור'!X27/10^3 -> 36.268812 | K28: =$B$61*'תמהיל יצור'!Y27/10^3 -> 5.1525547 | L28: =$B$62*'תמהיל יצור'!Z27/10^3 -> 0.92471536 | M28: =$B$58*'תמהיל יצור'!AC27/10^3 -> 0 | N28: =$B$60*'תמהיל יצור'!AD27/10^3 -> 36.417399 | O28: =$B$61*'תמהיל יצור'!AE27/10^3 -> 5.1525547 | P28: =$B$62*'תמהיל יצור'!AF27/10^3 -> 0.92471536 | Q28: =$B$58*'תמהיל יצור'!AK27/10^3 -> 8.4272727 | R28: =$B$60*'תמהיל יצור'!AL27/10^3 -> 35.225521 | S28: =1/((1+$S$3)^($A28-2019)) -> 0.39012147
A29: =A28+1 -> 2044 | B29: =$B$58*'תמהיל יצור'!H28/10^3 -> 11.945455 | C29: =$B$60*'תמהיל יצור'!I28/10^3 -> 39.018514 | D29: =$B$58*'תמהיל יצור'!L28/10^3 -> 8.4272727 | E29: =$B$60*'תמהיל יצור'!M28/10^3 -> 40.529733 | F29: =$B$58*('תמהיל יצור'!P28+'תמהיל יצור'!Q28)/10^3 -> 0.42802941 | G29: =$B$59*'תמהיל יצור'!R28/10^3 -> 2.4031247 | H29: =$B$60*'תמהיל יצור'!S28/10^3 -> 42.049356 | I29: =$B$58*('תמהיל יצור'!V28+'תמהיל יצור'!W28)/10^3 -> 0.34591765 | J29: =$B$60*'תמהיל יצור'!X28/10^3 -> 37.429513 | K29: =$B$61*'תמהיל יצור'!Y28/10^3 -> 5.1525547 | L29: =$B$62*'תמהיל יצור'!Z28/10^3 -> 0.92471536 | M29: =$B$58*'תמהיל יצור'!AC28/10^3 -> 0 | N29: =$B$60*'תמהיל יצור'!AD28/10^3 -> 37.5781 | O29: =$B$61*'תמהיל יצור'!AE28/10^3 -> 5.1525547 | P29: =$B$62*'תמהיל יצור'!AF28/10^3 -> 0.92471536 | Q29: =$B$58*'תמהיל יצור'!AK28/10^3 -> 8.4272727 | R29: =$B$60*'תמהיל יצור'!AL28/10^3 -> 36.274347 | S29: =1/((1+$S$3)^($A29-2019)) -> 0.3751168
A30: =A29+1 -> 2045 | B30: =$B$58*'תמהיל יצור'!H29/10^3 -> 5.84 | C30: =$B$60*'תמהיל יצור'!I29/10^3 -> 42.833125 | D30: =$B$58*'תמהיל יצור'!L29/10^3 -> 4.12 | E30: =$B$60*'תמהיל יצור'!M29/10^3 -> 43.571943 | F30: =$B$58*('תמהיל יצור'!P29+'תמהיל יצור'!Q29)/10^3 -> 0.20925882 | G30: =$B$59*'תמהיל יצור'!R29/10^3 -> 0.57437647 | H30: =$B$60*'תמהיל יצור'!S29/10^3 -> 44.793737 | I30: =$B$58*('תמהיל יצור'!V29+'תמהיל יצור'!W29)/10^3 -> 0.34591765 | J30: =$B$60*'תמהיל יצור'!X29/10^3 -> 38.621553 | K30: =$B$61*'תמהיל יצור'!Y29/10^3 -> 5.1525547 | L30: =$B$62*'תמהיל יצור'!Z29/10^3 -> 0.92471536 | M30: =$B$58*'תמהיל יצור'!AC29/10^3 -> 0 | N30: =$B$60*'תמהיל יצור'!AD29/10^3 -> 38.77014 | O30: =$B$61*'תמהיל יצור'!AE29/10^3 -> 5.1525547 | P30: =$B$62*'תמהיל יצור'!AF29/10^3 -> 0.92471536 | Q30: =$B$58*'תמהיל יצור'!AK29/10^3 -> 4.12 | R30: =$B$60*'תמהיל יצור'!AL29/10^3 -> 39.201661 | S30: =1/((1+$S$3)^($A30-2019)) -> 0.36068923
A31: פליטות לפי סוג דלק [מליון טון] | B31: =SUM(B5:B30) -> 426.58545 | C31: =SUM(C5:C30) -> 690.19992 | D31: =SUM(D5:D30) -> 300.94727 | E31: =SUM(E5:E30) -> 744.16723 | F31: =SUM(F5:F30) -> 63.280866 | G31: =SUM(G5:G30) -> 100.5503 | H31: =SUM(H5:H30) -> 766.07007 | I31: =SUM(I5:I30) -> 60.149399 | ... R31: =SUM(R5:R30) -> 671.32471
A32: פליטות לפי סוג דלק (מהוון) [מליוני טון] | B32: =SUMPRODUCT($S5:$S30,B5:B30) -> 271.69439 | C32: =SUMPRODUCT($S5:$S30,C5:C30) -> 392.71157 | D32: =SUMPRODUCT($S5:$S30,D5:D30) -> 191.67481 | E32: =SUMPRODUCT($S5:$S30,E5:E30) -> 427.08362 | F32: =SUMPRODUCT($S5:$S30,F5:F30) -> 52.788128 | G32: =SUMPRODUCT($S5:$S30,G5:G30) -> 60.121194 | H32: =SUMPRODUCT($S5:$S30,H5:H30) -> 438.79701 | I32: =SUMPRODUCT($S5:$S30,I5:I30) -> 50.658381 | ... R32: =SUMPRODUCT($S5:$S30,R5:R30) -> 388.18455
A33: סך פליטות לתקופה [מליון טון] | B33: =SUM(B31:C31) -> 1116.7854 | D33: =SUM(D31:E31) -> 1045.1145 | F33: =SUM(F31:H31) -> 929.90124 | I33: =SUM(I31:L31) -> 897.86506 | M33: =SUM(M31:P31) -> 892.39682 | Q33: =SUM(Q31:R31) -> 972.27199
A34: סך פליטות לתקופה (מהוון) [מליוני טון] | B34: =SUM(B32:C32) -> 664.40596 | D34: =SUM(D32:E32) -> 618.75843 | F34: =SUM(F32:H32) -> 551.70633 | I34: =SUM(I32:L32) -> 532.98626 | M34: =SUM(M32:P32) -> 529.96177 | Q34: =SUM(Q32:R32) -> 579.85936
A35: הפרש פליטות ביחס למדיניות קיימת [מליוני טון] | B35: =B33-D33 -> 71.670872 | D35: 0 | F35: =F33-D33 -> -115.21326 | I35: =I33-D33 -> -147.24944 | M35: =M33-D33 -> -152.71768 | Q35: =Q33-D33 -> -72.842517
A36: הפרש פליטות ביחס למדיניות קיימת (מהוון) [מליוני טון] | B36: =B34-D34 -> 45.647534 | D36: 0 | F36: =F34-D34 -> -67.052095 | I36: =I34-D34 -> -85.772166 | M36: =M34-D34 -> -88.796662 | Q36: =Q34-D34 -> -38.899067
A39: פליטות לקוט״ש ממוצע
B40: סגירת 1-4 ללא מדיניות הפחתה | D40: סגירת 1-4 עם מדיניות הפחתה | F40: הסבה | I40: שימור | M40: גריטה | Q40: 25% מתחדשות
A41: פליטות בשנה בממוצע (מיליון טון) | B41: =B33/($A30-$A5+1) -> 42.953284 | D41: =D33/($A30-$A5+1) -> 40.196712 | F41: =F33/($A30-$A5+1) -> 35.765432 | I41: =I33/($A30-$A5+1) -> 34.533272 | M41: =M33/($A30-$A5+1) -> 34.322955 | Q41: =Q33/($A30-$A5+1) -> 37.395076
A42: פליטות לקוט"ש לתקופה(גר'/קוטש) | B42: =B33/'תמהיל יצור'!$C$30*1000 -> 407.26013 | D42: =D33/'תמהיל יצור'!$C$30*1000 -> 381.12379 | F42: =F33/'תמהיל יצור'!$C$30*1000 -> 339.10876 | I42: =I33/'תמהיל יצור'!$C$30*1000 -> 327.42607 | M42: =M33/'תמהיל יצור'!$C$30*1000 -> 325.43195 | Q42: =Q33/'תמהיל יצור'!$C$30*1000 -> 354.56017
A44: עמידה ביעד גזי חממה לנפש - 2030
A45: גודל אוכלוסייה ב-2030 | B45: ='הנחות עבודה'!B54 -> 11.1
B46: סגירת 1-4 ללא מדיניות הפחתה | D46: סגירת 1-4 עם מדיניות הפחתה | F46: הסבה | I46: שימור | M46: גריטה | Q46: 25% מתחדשות
A47: סך CO2 ב-2030 | B47: =B15+C15 -> 40.701933 | D47: =D15+E15 -> 37.669189 | F47: =F15+G15+H15 -> 31.885058 | I47: =I15+J15+K15+L15 -> 30.208638 | M47: =N15+M15+O15+P15 -> 29.91045 | Q47: =Q15+R15 -> 34.738614
A48: פליטות לנפש 2030 | B48: =B47/B45 -> 3.6668408 | D48: =D47/B45 -> 3.3936206 | F48: =F47/B45 -> 2.8725278 | I48: =I47/B45 -> 2.7214989 | M48: =M47/B45 -> 2.6946351 | Q48: =Q47/B45 -> 3.1296049
A50: גודל אוכלוסייה ב-2040 | B50: ='הנחות עבודה'!B55 -> 13.2
B51: סגירת 1-4 ללא מדיניות הפחתה | D51: סגירת 1-4 עם מדיניות הפחתה | F51: הסבה | I51: שימור | M51: גריטה | Q51: 25% מתחדשות
A52: סך CO2 ב-2040 | B52: =B25+C25 -> 46.501067 | D52: =D25+E25 -> 44.494104 | F52: =F25+G25+H25 -> 40.417608 | I52: =I25+J25+K25+L25 -> 39.490656 | M52: =N25+M25+O25+P25 -> 39.192468 | Q52: =Q25+R25 -> 40.668877
A53: פליטות לנפש 2040 | B53: =B52/B50 -> 3.5228081 | D53: =D52/B50 -> 3.3707655 | F53: =F52/B50 -> 3.06194 | I53: =I52/B50 -> 2.9917164 | M53: =M52/B50 -> 2.9691264 | Q53: =Q52/B50 -> 3.0809755
A57: ='הנחות עבודה'!A73 -> מקדמי פליטות - לפי תקן (גר׳/קוט״ש)
A58: יחידה פחמית לאחר הפחתת פליטות | B58: ='הנחות עבודה'!B75 -> 880
A59: יחידה פחמית לאחר הסבה לגז עם הפחתת פליטות | B59: ='הנחות עבודה'!B76 -> 474
A60: ='הנחות עבודה'!A79 -> יחידת גז משוקללת | B60: ='הנחות עבודה'!B79 -> 378
A61: מחז״ם | B61: ='הנחות עבודה'!B78 -> 333.20754
A62: פיקר | B62: ='הנחות עבודה'!B77 -> 481.24661
A65: פליטות היסטוריות
A66: פליטות ממוצעות לקוט"ש 2015 | B66: 634
A67: פליטות ממוצעיות לקוט"ש 2018 | B67: 526

Sheet פליטות - SO2
A1: פליטות SOx (אלפי טון) | S1: ריבית היוון
B2: סגירת 1-4 ללא מדיניות הפחתה | D2: סגירת 1-4 עם מדיניות הפחתה | F2: הסבה | I2: שימור | M2: גריטה | Q2: 0.25 | S2: ='הנחות עבודה'!$B$37 -> 0.04 | U2: טבלה מסכמת פליטות SOX
A3: שנה | B3: פחם | C3: =E3 -> מתקני גז קיימים | D3: פחם | E3: =H3 -> מתקני גז קיימים | F3: פחם | G3: גז מוסב | H3: =J3 -> מתקני גז קיימים | I3: פחם | J3: מתקני גז קיימים | K3: מחזמים חדשים | L3: פיקר חדש | M3: פחם | N3: =J3 -> מתקני גז קיימים | O3: מחזמים חדשים | P3: פיקר חדש | Q3: פחם | R3: =C3 -> מתקני גז קיימים | S3: מקדם היוון שנתי | V3: 2015 | W3: 2018 | Y3: סגירת 1-4 ללא מדיניות הפחתה | Z3: סגירת 1-4 עם מדיניות הפחתה | AA3: =Q38 -> 25% מתחדשות | AB3: =F38 -> הסבה | AC3: =I38 -> שימור | AD3: =M38 -> גריטה
A4: 2020 | B4: =$B$57*'תמהיל יצור'!H4/1000 -> 6.153719 | C4: =$B$59*'תמהיל יצור'!I4/1000 -> 0.22776052 | D4: =$B$57*'תמהיל יצור'!L4/10^3 -> 4.3413223 | E4: =$B$59*'תמהיל יצור'!M4/10^3 -> 0.25796713 | F4: =$B$57*('תמהיל יצור'!P4+'תמהיל יצור'!Q4)/10^3 -> 4.3413223 | G4: =$B$58*'תמהיל יצור'!R4/10^3 -> 0 | H4: =$B$59*'תמהיל יצור'!S4/10^3 -> 0.25796713 | I4: =$B$57*('תמהיל יצור'!V4+'תמהיל יצור'!W4)/10^3 -> 4.3413223 | J4: =$B$59*'תמהיל יצור'!X4/10^3 -> 0.25796713 | K4: =$B$59*'תמהיל יצור'!Y4/10^3 -> 0 | L4: =$B$59*'תמהיל יצור'!Z4/10^3 -> 0 | M4: =$B$57*'תמהיל יצור'!AC4/10^3 -> 4.3413223 | N4: =$B$59*'תמהיל יצור'!AD4/10^3 -> 0.25796713 | O4: =$B$59*'תמהיל יצור'!AE4/10^3 -> 0 | P4: =$B$59*'תמהיל יצור'!AF4/10^3 -> 0 | Q4: =$B$57*'תמהיל יצור'!AK4/10^3 -> 4.3413223 | R4: =$B$59*'תמהיל יצור'!AL4/10^3 -> 0.25796713 | S4: =1/((1+$S$2)^($A4-2019)) -> 0.96153846 | U4: אלפי טון בממוצע לשנה בתקופה | V4: =B64 -> 68 | W4: =B65 -> 30 | Y4: =B39 -> 5.9444803 | Z4: =D39 -> 4.3245824 | AA4: =Q39 -> 4.2875238 | AB4: =F39 -> 1.9537713 | AC4: =I39 -> 1.2198896 | AD4: =M39 -> 1.0962969
A5: =A4+1 -> 2021 | B5: =$B$57*'תמהיל יצור'!H5/1000 -> 6.153719 | C5: =$B$59*'תמהיל יצור'!I5/1000 -> 0.22937687 | D5: =$B$57*'תמהיל יצור'!L5/10^3 -> 4.3413223 | E5: =$B$59*'תמהיל יצור'!M5/10^3 -> 0.25958348 | F5: =$B$57*('תמהיל יצור'!P5+'תמהיל יצור'!Q5)/10^3 -> 4.3413223 | G5: =$B$58*'תמהיל יצור'!R5/10^3 -> 0 | H5: =$B$59*'תמהיל יצור'!S5/10^3 -> 0.25958348 | I5: =$B$57*('תמהיל יצור'!V5+'תמהיל יצור'!W5)/10^3 -> 4.3413223 | J5: =$B$59*'תמהיל יצור'!X5/10^3 -> 0.25958348 | K5: =$B$59*'תמהיל יצור'!Y5/10^3 -> 0 | L5: =$B$59*'תמהיל יצור'!Z5/10^3 -> 0 | M5: =$B$57*'תמהיל יצור'!AC5/10^3 -> 4.3413223 | N5: =$B$59*'תמהיל יצור'!AD5/10^3 -> 0.25958348 | O5: =$B$59*'תמהיל יצור'!AE5/10^3 -> 0 | P5: =$B$59*'תמהיל יצור'!AF5/10^3 -> 0 | Q5: =$B$57*'תמהיל יצור'!AK5/10^3 -> 4.3413223 | R5: =$B$59*'תמהיל יצור'!AL5/10^3 -> 0.25958348 | S5: =1/((1+$S$2)^($A5-2019)) -> 0.92455621
A6: =A5+1 -> 2022 | B6: =$B$57*'תמהיל יצור'!H6/1000 -> 6.153719 | C6: =$B$59*'תמהיל יצור'!I6/1000 -> 0.24021707 | D6: =$B$57*'תמהיל יצור'!L6/10^3 -> 4.3413223 | E6: =$B$59*'תמהיל יצור'!M6/10^3 -> 0.27042368 | F6: =$B$57*('תמהיל יצור'!P6+'תמהיל יצור'!Q6)/10^3 -> 2.9475148 | G6: =$B$58*'תמהיל יצור'!R6/10^3 -> 0.35241322 | H6: =$B$59*'תמהיל יצור'!S6/10^3 -> 0.27407529 | I6: =$B$57*('תמהיל יצור'!V6+'תמהיל יצור'!W6)/10^3 -> 2.8729339 | J6: =$B$59*'תמהיל יצור'!X6/10^3 -> 0.29489682 | K6: =$B$59*'תמהיל יצור'!Y6/10^3 -> 0 | L6: =$B$59*'תמהיל יצור'!Z6/10^3 -> 0 | M6: =$B$57*'תמהיל יצור'!AC6/10^3 -> 2.8729339 | N6: =$B$59*'תמהיל יצור'!AD6/10^3 -> 0.29489682 | O6: =$B$59*'תמהיל יצור'!AE6/10^3 -> 0 | P6: =$B$59*'תמהיל יצור'!AF6/10^3 -> 0 | Q6: =$B$57*'תמהיל יצור'!AK6/10^3 -> 4.3413223 | R6: =$B$59*'תמהיל יצור'!AL6/10^3 -> 0.27042368 | S6: =1/((1+$S$2)^($A6-2019)) -> 0.88899636
A7: =A6+1 -> 2023 | B7: =$B$57*'תמהיל יצור'!H7/1000 -> 6.153719 | C7: =$B$59*'תמהיל יצור'!I7/1000 -> 0.24743162 | D7: =$B$57*'תמהיל יצור'!L7/10^3 -> 4.3413223 | E7: =$B$59*'תמהיל יצור'!M7/10^3 -> 0.27763823 | F7: =$B$57*('תמהיל יצור'!P7+'תמהיל יצור'!Q7)/10^3 -> 2.9475148 | G7: =$B$58*'תמהיל יצור'!R7/10^3 -> 0.35241322 | H7: =$B$59*'תמהיל יצור'!S7/10^3 -> 0.28128984 | I7: =$B$57*('תמהיל יצור'!V7+'תמהיל יצור'!W7)/10^3 -> 2.8729339 | J7: =$B$59*'תמהיל יצור'!X7/10^3 -> 0.30211137 | K7: =$B$59*'תמהיל יצור'!Y7/10^3 -> 0 | L7: =$B$59*'תמהיל יצור'!Z7/10^3 -> 0 | M7: =$B$57*'תמהיל יצור'!AC7/10^3 -> 2.8729339 | N7: =$B$59*'תמהיל יצור'!AD7/10^3 -> 0.30211137 | O7: =$B$59*'תמהיל יצור'!AE7/10^3 -> 0 | P7: =$B$59*'תמהיל יצור'!AF7/10^3 -> 0 | Q7: =$B$57*'תמהיל יצור'!AK7/10^3 -> 4.3413223 | R7: =$B$59*'תמהיל יצור'!AL7/10^3 -> 0.26968383 | S7: =1/((1+$S$2)^($A7-2019)) -> 0.85480419
A8: =A7+1 -> 2024 | B8: =$B$57*'תמהיל יצור'!H8/1000 -> 6.153719 | C8: =$B$59*'תמהיל יצור'!I8/1000 -> 0.25886282 | D8: =$B$57*'תמהיל יצור'!L8/10^3 -> 4.3413223 | E8: =$B$59*'תמהיל יצור'!M8/10^3 -> 0.28906943 | F8: =$B$57*('תמהיל יצור'!P8+'תמהיל יצור'!Q8)/10^3 -> 1.5537072 | G8: =$B$58*'תמהיל יצור'!R8/10^3 -> 0.70482645 | H8: =$B$59*'תמהיל יצור'!S8/10^3 -> 0.29637265 | I8: =$B$57*('תמהיל יצור'!V8+'תמהיל יצור'!W8)/10^3 -> 1.464819 | J8: =$B$59*'תמהיל יצור'!X8/10^3 -> 0.30803615 | K8: =$B$59*'תמהיל יצור'!Y8/10^3 -> 0.0257725 | L8: =$B$59*'תמהיל יצור'!Z8/10^3 -> 0.0032025 | M8: =$B$57*'תמהיל יצור'!AC8/10^3 -> 1.4045455 | N8: =$B$59*'תמהיל יצור'!AD8/10^3 -> 0.30904071 | O8: =$B$59*'תמהיל יצור'!AE8/10^3 -> 0.0257725 | P8: =$B$59*'תמהיל יצור'!AF8/10^3 -> 0.0032025 | Q8: =$B$57*'תמהיל יצור'!AK8/10^3 -> 4.3413223 | R8: =$B$59*'תמהיל יצור'!AL8/10^3 -> 0.27264103 | S8: =1/((1+$S$2)^($A8-2019)) -> 0.82192711
A9: =A8+1 -> 2025 | B9: =$B$57*'תמהיל יצור'!H9/1000 -> 6.153719 | C9: =$B$59*'תמהיל יצור'!I9/1000 -> 0.26642242 | D9: =$B$57*'תמהיל יצור'!L9/10^3 -> 4.3413223 | E9: =$B$59*'תמהיל יצור'!M9/10^3 -> 0.29662903 | F9: =$B$57*('תמהיל יצור'!P9+'תמהיל יצור'!Q9)/10^3 -> 1.5537072 | G9: =$B$58*'תמהיל יצור'!R9/10^3 -> 0.70482645 | H9: =$B$59*'תמהיל יצור'!S9/10^3 -> 0.30393225 | I9: =$B$57*('תמהיל יצור'!V9+'תמהיל יצור'!W9)/10^3 -> 1.464819 | J9: =$B$59*'תמהיל יצור'!X9/10^3 -> 0.31559575 | K9: =$B$59*'תמהיל יצור'!Y9/10^3 -> 0.0257725 | L9: =$B$59*'תמהיל יצור'!Z9/10^3 -> 0.0032025 | M9: =$B$57*'תמהיל יצור'!AC9/10^3 -> 1.4045455 | N9: =$B$59*'תמהיל יצור'!AD9/10^3 -> 0.31660031 | O9: =$B$59*'תמהיל יצור'!AE9/10^3 -> 0.0257725 | P9: =$B$59*'תמהיל יצור'!AF9/10^3 -> 0.0032025 | Q9: =$B$57*'תמהיל יצור'!AK9/10^3 -> 4.3413223 | R9: =$B$59*'תמהיל יצור'!AL9/10^3 -> 0.27542303 | S9: =1/((1+$S$2)^($A9-2019)) -> 0.79031453
A10: =A9+1 -> 2026 | B10: =$B$57*'תמהיל יצור'!H10/1000 -> 6.153719 | C10: =$B$59*'תמהיל יצור'!I10/1000 -> 0.276385 | D10: =$B$57*'תמהיל יצור'!L10/10^3 -> 4.3413223 | E10: =$B$59*'תמהיל יצור'!M10/10^3 -> 0.30659161 | F10: =$B$57*('תמהיל יצור'!P10+'תמהיל יצור'!Q10)/10^3 -> 0.2205 | G10: =$B$58*'תמהיל יצור'!R10/10^3 -> 1.0419174 | H10: =$B$59*'תמהיל יצור'!S10/10^3 -> 0.31738768 | I10: =$B$57*('תמהיל יצור'!V10+'תמהיל יצור'!W10)/10^3 -> 0.12054706 | J10: =$B$59*'תמהיל יצור'!X10/10^3 -> 0.31898786 | K10: =$B$59*'תמהיל יצור'!Y10/10^3 -> 0.051545 | L10: =$B$59*'תמהיל יצור'!Z10/10^3 -> 0.006405 | M10: =$B$57*'תמהיל יצור'!AC10/10^3 -> 0 | N10: =$B$59*'תמהיל יצור'!AD10/10^3 -> 0.32099698 | O10: =$B$59*'תמהיל יצור'!AE10/10^3 -> 0.051545 | P10: =$B$59*'תמהיל יצור'!AF10/10^3 -> 0.006405 | Q10: =$B$57*'תמהיל יצור'!AK10/10^3 -> 4.3413223 | R10: =$B$59*'תמהיל יצור'!AL10/10^3 -> 0.27610162 | S10: =1/((1+$S$2)^($A10-2019)) -> 0.75991781
A11: =A10+1 -> 2027 | B11: =$B$57*'תמהיל יצור'!H11/1000 -> 6.153719 | C11: =$B$59*'תמהיל יצור'!I11/1000 -> 0.28214325 | D11: =$B$57*'תמהיל יצור'!L11/10^3 -> 4.3413223 | E11: =$B$59*'תמהיל יצור'!M11/10^3 -> 0.31234986 | F11: =$B$57*('תמהיל יצור'!P11+'תמהיל יצור'!Q11)/10^3 -> 0.2205 | G11: =$B$58*'תמהיל יצור'!R11/10^3 -> 1.0419174 | H11: =$B$59*'תמהיל יצור'!S11/10^3 -> 0.32314593 | I11: =$B$57*('תמהיל יצור'!V11+'תמהיל יצור'!W11)/10^3 -> 0.12054706 | J11: =$B$59*'תמהיל יצור'!X11/10^3 -> 0.32474611 | K11: =$B$59*'תמהיל יצור'!Y11/10^3 -> 0.051545 | L11: =$B$59*'תמהיל יצור'!Z11/10^3 -> 0.006405 | M11: =$B$57*'תמהיל יצור'!AC11/10^3 -> 0 | N11: =$B$59*'תמהיל יצור'!AD11/10^3 -> 0.32675523 | O11: =$B$59*'תמהיל יצור'!AE11/10^3 -> 0.051545 | P11: =$B$59*'תמהיל יצור'!AF11/10^3 -> 0.006405 | Q11: =$B$57*'תמהיל יצור'!AK11/10^3 -> 4.3413223 | R11: =$B$59*'תמהיל יצור'!AL11/10^3 -> 0.27656333 | S11: =1/((1+$S$2)^($A11-2019)) -> 0.73069021
A12: =A11+1 -> 2028 | B12: =$B$57*'תמהיל יצור'!H12/1000 -> 6.153719 | C12: =$B$59*'תמהיל יצור'!I12/1000 -> 0.28793619 | D12: =$B$57*'תמהיל יצור'!L12/10^3 -> 4.3413223 | E12: =$B$59*'תמהיל יצור'!M12/10^3 -> 0.3181428 | F12: =$B$57*('תמהיל יצור'!P12+'תמהיל יצור'!Q12)/10^3 -> 0.2205 | G12: =$B$58*'תמהיל יצור'!R12/10^3 -> 1.0419174 | H12: =$B$59*'תמהיל יצור'!S12/10^3 -> 0.32893888 | I12: =$B$57*('תמהיל יצור'!V12+'תמהיל יצור'!W12)/10^3 -> 0.1782 | J12: =$B$59*'תמהיל יצור'!X12/10^3 -> 0.30060318 | K12: =$B$59*'תמהיל יצור'!Y12/10^3 -> 0.0773175 | L12: =$B$59*'תמהיל יצור'!Z12/10^3 -> 0.0096075 | M12: =$B$57*'תמהיל יצור'!AC12/10^3 -> 0 | N12: =$B$59*'תמהיל יצור'!AD12/10^3 -> 0.30357318 | O12: =$B$59*'תמהיל יצור'!AE12/10^3 -> 0.0773175 | P12: =$B$59*'תמהיל יצור'!AF12/10^3 -> 0.0096075 | Q12: =$B$57*'תמהיל יצור'!AK12/10^3 -> 4.3413223 | R12: =$B$59*'תמהיל יצור'!AL12/10^3 -> 0.27679594 | S12: =1/((1+$S$2)^($A12-2019)) -> 0.70258674
A13: =A12+1 -> 2029 | B13: =$B$57*'תמהיל יצור'!H13/1000 -> 6.153719 | C13: =$B$59*'תמהיל יצור'!I13/1000 -> 0.29376151 | D13: =$B$57*'תמהיל יצור'!L13/10^3 -> 4.3413223 | E13: =$B$59*'תמהיל יצור'!M13/10^3 -> 0.32396812 | F13: =$B$57*('תמהיל יצור'!P13+'תמהיל יצור'!Q13)/10^3 -> 0.2205 | G13: =$B$58*'תמהיל יצור'!R13/10^3 -> 1.0419174 | H13: =$B$59*'תמהיל יצור'!S13/10^3 -> 0.33476419 | I13: =$B$57*('תמהיל יצור'!V13+'תמהיל יצור'!W13)/10^3 -> 0.1782 | J13: =$B$59*'תמהיל יצור'!X13/10^3 -> 0.30642849 | K13: =$B$59*'תמהיל יצור'!Y13/10^3 -> 0.0773175 | L13: =$B$59*'תמהיל יצור'!Z13/10^3 -> 0.0096075 | M13: =$B$57*'תמהיל יצור'!AC13/10^3 -> 0 | N13: =$B$59*'תמהיל יצור'!AD13/10^3 -> 0.30939849 | O13: =$B$59*'תמהיל יצור'!AE13/10^3 -> 0.0773175 | P13: =$B$59*'תמהיל יצור'!AF13/10^3 -> 0.0096075 | Q13: =$B$57*'תמהיל יצור'!AK13/10^3 -> 4.3413223 | R13: =$B$59*'תמהיל יצור'!AL13/10^3 -> 0.27678675 | S13: =1/((1+$S$2)^($A13-2019)) -> 0.67556417
A14: =A13+1 -> 2030 | B14: =$B$57*'תמהיל יצור'!H14/1000 -> 6.153719 | C14: =$B$59*'תמהיל יצור'!I14/1000 -> 0.29961671 | D14: =$B$57*'תמהיל יצור'!L14/10^3 -> 4.3413223 | E14: =$B$59*'תמהיל יצור'!M14/10^3 -> 0.32982333 | F14: =$B$57*('תמהיל יצור'!P14+'תמהיל יצור'!Q14)/10^3 -> 0.2205 | G14: =$B$58*'תמהיל יצור'!R14/10^3 -> 1.0419174 | H14: =$B$59*'תמהיל יצור'!S14/10^3 -> 0.3406194 | I14: =$B$57*('תמהיל יצור'!V14+'תמהיל יצור'!W14)/10^3 -> 0.1782 | J14: =$B$59*'תמהיל יצור'!X14/10^3 -> 0.3122837 | K14: =$B$59*'תמהיל יצור'!Y14/10^3 -> 0.0773175 | L14: =$B$59*'תמהיל יצור'!Z14/10^3 -> 0.0096075 | M14: =$B$57*'תמהיל יצור'!AC14/10^3 -> 0 | N14: =$B$59*'תמהיל יצור'!AD14/10^3 -> 0.3152537 | O14: =$B$59*'תמהיל יצור'!AE14/10^3 -> 0.0773175 | P14: =$B$59*'תמהיל יצור'!AF14/10^3 -> 0.0096075 | Q14: =$B$57*'תמהיל יצור'!AK14/10^3 -> 4.3413223 | R14: =$B$59*'תמהיל יצור'!AL14/10^3 -> 0.29105911 | S14: =1/((1+$S$2)^($A14-2019)) -> 0.64958093
A15: =A14+1 -> 2031 | B15: =$B$57*'תמהיל יצור'!H15/1000 -> 6.153719 | C15: =$B$59*'תמהיל יצור'!I15/1000 -> 0.31047554 | D15: =$B$57*'תמהיל יצור'!L15/10^3 -> 4.3413223 | E15: =$B$59*'תמהיל יצור'!M15/10^3 -> 0.34068215 | F15: =$B$57*('תמהיל יצור'!P15+'תמהיל יצור'!Q15)/10^3 -> 0.2205 | G15: =$B$58*'תמהיל יצור'!R15/10^3 -> 1.0419174 | H15: =$B$59*'תמהיל יצור'!S15/10^3 -> 0.35147822 | I15: =$B$57*('תמהיל יצור'!V15+'תמהיל יצור'!W15)/10^3 -> 0.1782 | J15: =$B$59*'תמהיל יצור'!X15/10^3 -> 0.32314252 | K15: =$B$59*'תמהיל יצור'!Y15/10^3 -> 0.0773175 | L15: =$B$59*'תמהיל יצור'!Z15/10^3 -> 0.0096075 | M15: =$B$57*'תמהיל יצור'!AC15/10^3 -> 0 | N15: =$B$59*'תמהיל יצור'!AD15/10^3 -> 0.32611252 | O15: =$B$59*'תמהיל יצור'!AE15/10^3 -> 0.0773175 | P15: =$B$59*'תמהיל יצור'!AF15/10^3 -> 0.0096075 | Q15: =$B$57*'תמהיל יצור'!AK15/10^3 -> 4.3413223 | R15: =$B$59*'תמהיל יצור'!AL15/10^3 -> 0.3008713 | S15: =1/((1+$S$2)^($A15-2019)) -> 0.62459705
A16: =A15+1 -> 2032 | B16: =$B$57*'תמהיל יצור'!H16/1000 -> 6.153719 | C16: =$B$59*'תמהיל יצור'!I16/1000 -> 0.32162755 | D16: =$B$57*'תמהיל יצור'!L16/10^3 -> 4.3413223 | E16: =$B$59*'תמהיל יצור'!M16/10^3 -> 0.35183416 | F16: =$B$57*('תמהיל יצור'!P16+'תמהיל יצור'!Q16)/10^3 -> 0.2205 | G16: =$B$58*'תמהיל יצור'!R16/10^3 -> 1.0419174 | H16: =$B$59*'תמהיל יצור'!S16/10^3 -> 0.36263024 | I16: =$B$57*('תמהיל יצור'!V16+'תמהיל יצור'!W16)/10^3 -> 0.1782 | J16: =$B$59*'תמהיל יצור'!X16/10^3 -> 0.33429454 | K16: =$B$59*'תמהיל יצור'!Y16/10^3 -> 0.0773175 | L16: =$B$59*'תמהיל יצור'!Z16/10^3 -> 0.0096075 | M16: =$B$57*'תמהיל יצור'!AC16/10^3 -> 0 | N16: =$B$59*'תמהיל יצור'!AD16/10^3 -> 0.33726454 | O16: =$B$59*'תמהיל יצור'!AE16/10^3 -> 0.0773175 | P16: =$B$59*'תמהיל יצור'!AF16/10^3 -> 0.0096075 | Q16: =$B$57*'תמהיל יצור'!AK16/10^3 -> 4.3413223 | R16: =$B$59*'תמהיל יצור'!AL16/10^3 -> 0.31094843 | S16: =1/((1+$S$2)^($A16-2019)) -> 0.60057409
... A29: =A28+1 -> 2045 | B29: =$B$57*'תמהיל יצור'!H29/1000 -> 1.9909091 | C29: =$B$59*'תמהיל יצור'!I29/1000 -> 0.56657572 | D29: =$B$57*'תמהיל יצור'!L29/10^3 -> 1.4045455 | E29: =$B$59*'תמהיל יצור'!M29/10^3 -> 0.57634845 | F29: =$B$57*('תמהיל יצור'!P29+'תמהיל יצור'!Q29)/10^3 -> 0.071338235 | G29: =$B$58*'תמהיל יצור'!R29/10^3 -> 0.10905882 | H29: =$B$59*'תמהיל יצור'!S29/10^3 -> 0.59250975 | I29: =$B$57*('תמהיל יצור'!V29+'תמהיל יצור'!W29)/10^3 -> 0.11792647 | J29: =$B$59*'תמהיל יצור'!X29/10^3 -> 0.5108671 | K29: =$B$59*'תמהיל יצור'!Y29/10^3 -> 0.0773175 | L29: =$B$59*'תמהיל יצור'!Z29/10^3 -> 0.0096075 | M29: =$B$57*'תמהיל יצור'!AC29/10^3 -> 0 | N29: =$B$59*'תמהיל יצור'!AD29/10^3 -> 0.51283254 | O29: =$B$59*'תמהיל יצור'!AE29/10^3 -> 0.0773175 | P29: =$B$59*'תמהיל יצור'!AF29/10^3 -> 0.0096075 | Q29: =$B$57*'תמהיל יצור'!AK29/10^3 -> 1.4045455 | R29: =$B$59*'תמהיל יצור'!AL29/10^3 -> 0.51854049 | S29: =1/((1+$S$2)^($A29-2019)) -> 0.36068923
A30: פליטות לפי סוג דלק [אלפי טון] | B30: =SUM(B4:B29) -> 145.42686 | C30: =SUM(C4:C29) -> 9.1296286 | D30: =SUM(D4:D29) -> 102.59566 | E30: =SUM(E4:E29) -> 9.8434819 | F30: =SUM(F4:F29) -> 21.573022 | G30: =SUM(G4:G29) -> 19.091829 | H30: =SUM(H4:H29) -> 10.133202 | I30: =SUM(I4:I29) -> 20.505477 | ... R30: =SUM(R4:R29) -> 8.8799565
A31: פליטות לפי סוג דלק (מהוון) [אלפיי טון] | B31: =SUMPRODUCT($S4:$S29,B4:B29) -> 92.623088 | C31: =SUMPRODUCT($S4:$S29,C4:C29) -> 5.1945975 | D31: =SUMPRODUCT($S4:$S29,D4:D29) -> 65.343685 | E31: =SUMPRODUCT($S4:$S29,E4:E29) -> 5.6492542 | F31: =SUMPRODUCT($S4:$S29,F4:F29) -> 17.995953 | G31: =SUMPRODUCT($S4:$S29,G4:G29) -> 11.415417 | H31: =SUMPRODUCT($S4:$S29,H4:H29) -> 5.8041933 | I31: =SUMPRODUCT($S4:$S29,I4:I29) -> 17.269903 | ... R31: =SUMPRODUCT($S4:$S29,R4:R29) -> 5.1347163
A32: סך פליטות לתקופה [אלפי טון] | B32: =SUM(B30:C30) -> 154.55649 | D32: =SUM(D30:E30) -> 112.43914 | F32: =SUM(F30:H30) -> 50.798053 | I32: =SUM(I30:L30) -> 31.717128 | M32: =SUM(M30:P30) -> 28.503719 | Q32: =SUM(Q30:R30) -> 111.47562
A33: סך פליטות לתקופה (מהוון( [אלפי טון] | B33: =SUM(B31:C31) -> 97.817685 | D33: =SUM(D31:E31) -> 70.992939 | F33: =SUM(F31:H31) -> 35.215563 | I33: =SUM(I31:L31) -> 23.720386 | M33: =SUM(M31:P31) -> 21.943044 | Q33: =SUM(Q31:R31) -> 70.478401
A34: הפרש פליטות ביחס למדיניות קיימת [אלפי טון] | B34: =B32-D32 -> 42.117345 | D34: 0 | F34: =F32-D32 -> -61.64109 | I34: =I32-D32 -> -80.722015 | M34: =M32-D32 -> -83.935424 | Q34: =Q32-D32 -> -0.96352536
A35: הפרש פליטות ביחס למדיניות קיימת (מהוון) [אלפיי טון] | B35: =B33-D33 -> 26.824746 | D35: 0 | F35: =F33-D33 -> -35.777377 | I35: =I33-D33 -> -47.272553 | M35: =M33-D33 -> -49.049896 | Q35: =Q33-D33 -> -0.51453792
A37: פליטות מזהמים ממוצע לשנה
B38: סגירת 1-4 ללא מדיניות הפחתה | D38: סגירת 1-4 עם מדיניות הפחתה | F38: הסבה | I38: שימור | M38: גריטה | Q38: 25% מתחדשות
A39: זיהום שנתי ממוצע (אלפי טון) | B39: =B32/($A29-$A4+1) -> 5.9444803 | D39: =D32/($A29-$A4+1) -> 4.3245824 | F39: =F32/($A29-$A4+1) -> 1.9537713 | I39: =I32/($A29-$A4+1) -> 1.2198896 | M39: =M32/($A29-$A4+1) -> 1.0962969 | Q39: =Q32/($A29-$A4+1) -> 4.2875238
A40: פליטות לקוט"ש לתקופה(גר'/קוטש) | B40: =B32/'תמהיל יצור'!$C$30 -> 0.056362393 | D40: =D32/'תמהיל יצור'!$C$30 -> 0.041003385 | F40: =F32/'תמהיל יצור'!$C$30 -> 0.018524617 | I40: =I32/'תמהיל יצור'!$C$30 -> 0.011566342 | M40: =M32/'תמהיל יצור'!$C$30 -> 0.010394503 | Q40: =Q32/'תמהיל יצור'!$C$30 -> 0.040652014
A42: פליטות לנפש - 2030
A43: גודל אוכלוסייה ב-2030 | B43: ='הנחות עבודה'!B54 -> 11.1
B44: סגירת 1-4 ללא מדיניות הפחתה | D44: סגירת 1-4 עם מדיניות הפחתה | F44: הסבה | I44: שימור | M44: גריטה | Q44: 25% מתחדשות
A45: סך SO2 ב-2030 [אלפי טון] | B45: =B14+C14 -> 6.4533357 | D45: =D14+E14 -> 4.6711456 | F45: =H14+G14+F14 -> 1.6030368 | I45: =J14+I14+K14+L14 -> 0.5774087 | M45: =N14+M14+O14+P14 -> 0.4021787 | Q45: =R14+Q14 -> 4.6323814
A46: פליטות לנפש 2030 [ק"ג לנפש] | B46: =(B14+C14)/$B$43 -> 0.5813816 | D46: =(D14+E14)/$B$43 -> 0.42082393 | F46: =(H14+G14+F14)/B43 -> 0.14441773 | I46: =(I14+J14)/$B$43 -> 0.04418772 | M46: =(M14+N14)/$B$43 -> 0.028401234 | Q46: =(Q14+R14)/$B$43 -> 0.41733166
A48: פליטות לנפש - 2040
A49: גודל אוכלוסייה ב-2040 | B49: ='הנחות עבודה'!B55 -> 13.2
B50: סגירת 1-4 ללא מדיניות הפחתה | D50: סגירת 1-4 עם מדיניות הפחתה | F50: הסבה | I50: שימור | M50: גריטה | Q50: 25% מתחדשות
A51: סך SO2 ב-2040 [אלפי טון] | B51: =B24+C24 -> 4.5293989 | D51: =D24+E24 -> 3.3500084 | F51: =F24+G24+H24 -> 1.0993839 | I51: =I24+J24+K24+L24 -> 0.70018672 | M51: =N24+M24+O24+P24 -> 0.52495672 | Q51: =Q24+R24 -> 3.2994101
A52: פליטות לנפש 2040 (ק״ג לנפש) | B52: =B51/B49 -> 0.34313628 | D52: =D51/B49 -> 0.25378851 | F52: =F51/B49 -> 0.083286662 | I52: =I51/B49 -> 0.053044448 | M52: =M51/B49 -> 0.039769448 | Q52: =Q51/B49 -> 0.24995531
A55: נתוני פליטות סגלויות
B56: פליטות SOx [Ton/TWh]
A57: יחידה פחמית לאחר הפחתת פליטות | B57: ='הנחות עבודה'!D91*1000 -> 300
A58: יחידה פחמית לאחר הסבה לגז עם הפחתת פליטות | B58: ='הנחות עבודה'!D92*1000 -> 90
A59: ='הנחות עבודה'!A79 -> יחידת גז משוקללת | B59: ='הנחות עבודה'!D93*1000 -> 5
A63: פליטות הסטוריות
A64: פליטות ממוצעות לקוט"ש 2015 | B64: 68
A65: פליטות ממוצעיות לקוט"ש 2018 | B65: 30

Sheet פליטות - NOX
A1: פליטות NOX (אלפי טון)
A2: פליטות NOX לפי חלופה (אלפי טון) | S2: ריבית היוון
B3: סגירת 1-4 ללא מדיניות הפחתה | D3: סגירת 1-4 עם מדיניות הפחתה | F3: הסבה | I3: שימור | M3: גריטה | Q3: 0.25 | S3: ='הנחות עבודה'!$B$37 -> 0.04 | U3: טבלה מסכמת פליטות NOX
A4: שנה | B4: פחם | C4: =E4 -> מתקני גז קיימים | D4: פחם | E4: =H4 -> מתקני גז קיימים | F4: פחם | G4: גז מוסב | H4: =J4 -> מתקני גז קיימים | I4: פחם | J4: מתקני גז קיימים | K4: מחזמים חדשים | L4: פיקר חדש | M4: פחם | N4: =J4 -> מתקני גז קיימים | O4: מחזמים חדשים | P4: פיקר חדש | Q4: פחם | R4: =C4 -> מתקני גז קיימים | S4: מקדם היוון שנתי | V4: 2015 | W4: 2018 | Y4: סגירת 1-4 ללא מדיניות הפחתה | Z4: סגירת 1-4 עם מדיניות הפחתה | AA4: =Q39 -> 25% מתחדשות | AB4: =F39 -> הסבה | AC4: =I39 -> שימור | AD4: =M39 -> גריטה
A5: 2020 | B5: =$B$58*'תמהיל יצור'!H4/1000 -> 7.1793388 | C5: =$B$60*'תמהיל יצור'!I4/1000 -> 7.516097 | D5: =$B$58*'תמהיל יצור'!L4/10^3 -> 5.064876 | E5: =$B$60*'תמהיל יצור'!M4/10^3 -> 8.5129152 | F5: =$B$58*('תמהיל יצור'!P4+'תמהיל יצור'!Q4)/10^3 -> 5.064876 | G5: =$B$59*'תמהיל יצור'!R4/10^3 -> 0 | H5: =$B$60*'תמהיל יצור'!S4/10^3 -> 8.5129152 | I5: =$B$58*('תמהיל יצור'!V4+'תמהיל יצור'!W4)/10^3 -> 5.064876 | J5: =$B$60*'תמהיל יצור'!X4/10^3 -> 8.5129152 | K5: =$B$60*'תמהיל יצור'!Y4/10^3 -> 0 | L5: =$B$60*'תמהיל יצור'!Z4/10^3 -> 0 | M5: =$B$58*'תמהיל יצור'!AC4/10^3 -> 5.064876 | N5: =$B$60*'תמהיל יצור'!AD4/10^3 -> 8.5129152 | O5: =$B$60*'תמהיל יצור'!AE4/10^3 -> 0 | P5: =$B$60*'תמהיל יצור'!AF4/10^3 -> 0 | Q5: =$B$58*'תמהיל יצור'!AK4/10^3 -> 5.064876 | R5: =$B$60*'תמהיל יצור'!AL4/10^3 -> 8.5129152 | S5: =1/((1+$S$3)^($A5-2019)) -> 0.96153846 | U5: אלפי טון בממוצע לשנה בתקופה | V5: =B63 -> 69 | W5: =B64 -> 45 | Y5: =B40 -> 4.1561642 | Z5: =D40 -> 2.9320884 | AA5: =Q40 -> 2.9320884 | AB5: =F40 -> 0.8075107 | AC5: =I40 -> 0.77493152 | AD5: =M40 -> 0.69382722
A6: =A5+1 -> 2021 | B6: =$B$58*'תמהיל יצור'!H5/1000 -> 7.1793388 | C6: =$B$60*'תמהיל יצור'!I5/1000 -> 7.5694366 | D6: =$B$58*'תמהיל יצור'!L5/10^3 -> 5.064876 | E6: =$B$60*'תמהיל יצור'!M5/10^3 -> 8.5662548 | F6: =$B$58*('תמהיל יצור'!P5+'תמהיל יצור'!Q5)/10^3 -> 5.064876 | G6: =$B$59*'תמהיל יצור'!R5/10^3 -> 0 | H6: =$B$60*'תמהיל יצור'!S5/10^3 -> 8.5662548 | I6: =$B$58*('תמהיל יצור'!V5+'תמהיל יצור'!W5)/10^3 -> 5.064876 | J6: =$B$60*'תמהיל יצור'!X5/10^3 -> 8.5662548 | K6: =$B$60*'תמהיל יצור'!Y5/10^3 -> 0 | L6: =$B$60*'תמהיל יצור'!Z5/10^3 -> 0 | M6: =$B$58*'תמהיל יצור'!AC5/10^3 -> 5.064876 | N6: =$B$60*'תמהיל יצור'!AD5/10^3 -> 8.5662548 | O6: =$B$60*'תמהיל יצור'!AE5/10^3 -> 0 | P6: =$B$60*'תמהיל יצור'!AF5/10^3 -> 0 | Q6: =$B$58*'תמהיל יצור'!AK5/10^3 -> 5.064876 | R6: =$B$60*'תמהיל יצור'!AL5/10^3 -> 8.5662548 | S6: =1/((1+$S$3)^($A6-2019)) -> 0.92455621
A7: =A6+1 -> 2022 | B7: =$B$58*'תמהיל יצור'!H6/1000 -> 7.1793388 | C7: =$B$60*'תמהיל יצור'!I6/1000 -> 7.9271632 | D7: =$B$58*'תמהיל יצור'!L6/10^3 -> 5.064876 | E7: =$B$60*'תמהיל יצור'!M6/10^3 -> 8.9239814 | F7: =$B$58*('תמהיל יצור'!P6+'תמהיל יצור'!Q6)/10^3 -> 3.4387672 | G7: =$B$59*'תמהיל יצור'!R6/10^3 -> 1.0572397 | H7: =$B$60*'תמהיל יצור'!S6/10^3 -> 9.0444846 | I7: =$B$58*('תמהיל יצור'!V6+'תמהיל יצור'!W6)/10^3 -> 3.3517562 | J7: =$B$60*'תמהיל יצור'!X6/10^3 -> 9.731595 | K7: =$B$60*'תמהיל יצור'!Y6/10^3 -> 0 | L7: =$B$60*'תמהיל יצור'!Z6/10^3 -> 0 | M7: =$B$58*'תמהיל יצור'!AC6/10^3 -> 3.3517562 | N7: =$B$60*'תמהיל יצור'!AD6/10^3 -> 9.731595 | O7: =$B$60*'תמהיל יצור'!AE6/10^3 -> 0 | P7: =$B$60*'תמהיל יצור'!AF6/10^3 -> 0 | Q7: =$B$58*'תמהיל יצור'!AK6/10^3 -> 5.064876 | R7: =$B$60*'תמהיל יצור'!AL6/10^3 -> 8.9239814 | S7: =1/((1+$S$3)^($A7-2019)) -> 0.88899636
A8: =A7+1 -> 2023 | B8: =$B$58*'תמהיל יצור'!H7/1000 -> 7.1793388 | C8: =$B$60*'תמהיל יצור'!I7/1000 -> 8.1652433 | D8: =$B$58*'תמהיל יצור'!L7/10^3 -> 5.064876 | E8: =$B$60*'תמהיל יצור'!M7/10^3 -> 9.1620615 | F8: =$B$58*('תמהיל יצור'!P7+'תמהיל יצור'!Q7)/10^3 -> 3.4387672 | G8: =$B$59*'תמהיל יצור'!R7/10^3 -> 1.0572397 | H8: =$B$60*'תמהיל יצור'!S7/10^3 -> 9.2825648 | I8: =$B$58*('תמהיל יצור'!V7+'תמהיל יצור'!W7)/10^3 -> 3.3517562 | J8: =$B$60*'תמהיל יצור'!X7/10^3 -> 9.9696752 | K8: =$B$60*'תמהיל יצור'!Y7/10^3 -> 0 | L8: =$B$60*'תמהיל יצור'!Z7/10^3 -> 0 | M8: =$B$58*'תמהיל יצור'!AC7/10^3 -> 3.3517562 | N8: =$B$60*'תמהיל יצור'!AD7/10^3 -> 9.9696752 | O8: =$B$60*'תמהיל יצור'!AE7/10^3 -> 0 | P8: =$B$60*'תמהיל יצור'!AF7/10^3 -> 0 | Q8: =$B$58*'תמהיל יצור'!AK7/10^3 -> 5.064876 | R8: =$B$60*'תמהיל יצור'!AL7/10^3 -> 8.8995663 | S8: =1/((1+$S$3)^($A8-2019)) -> 0.85480419
A9: =A8+1 -> 2024 | B9: =$B$58*'תמהיל יצור'!H8/1000 -> 7.1793388 | C9: =$B$60*'תמהיל יצור'!I8/1000 -> 8.5424729 | D9: =$B$58*'תמהיל יצור'!L8/10^3 -> 5.064876 | E9: =$B$60*'תמהיל יצור'!M8/10^3 -> 9.5392911 | F9: =$B$58*('תמהיל יצור'!P8+'תמהיל יצור'!Q8)/10^3 -> 1.8126584 | G9: =$B$59*'תמהיל יצור'!R8/10^3 -> 2.1144793 | H9: =$B$60*'תמהיל יצור'!S8/10^3 -> 9.7802976 | I9: =$B$58*('תמהיל יצור'!V8+'תמהיל יצור'!W8)/10^3 -> 1.7089555 | J9: =$B$60*'תמהיל יצור'!X8/10^3 -> 10.165193 | K9: =$B$60*'תמהיל יצור'!Y8/10^3 -> 0.8504925 | L9: =$B$60*'תמהיל יצור'!Z8/10^3 -> 0.1056825 | M9: =$B$58*'תמהיל יצור'!AC8/10^3 -> 1.6386364 | N9: =$B$60*'תמהיל יצור'!AD8/10^3 -> 10.198343 | O9: =$B$60*'תמהיל יצור'!AE8/10^3 -> 0.8504925 | P9: =$B$60*'תמהיל יצור'!AF8/10^3 -> 0.1056825 | Q9: =$B$58*'תמהיל יצור'!AK8/10^3 -> 5.064876 | R9: =$B$60*'תמהיל יצור'!AL8/10^3 -> 8.9971539 | S9: =1/((1+$S$3)^($A9-2019)) -> 0.82192711
A10: =A9+1 -> 2025 | B10: =$B$58*'תמהיל יצור'!H9/1000 -> 7.1793388 | C10: =$B$60*'תמהיל יצור'!I9/1000 -> 8.7919397 | D10: =$B$58*'תמהיל יצור'!L9/10^3 -> 5.064876 | E10: =$B$60*'תמהיל יצור'!M9/10^3 -> 9.7887579 | F10: =$B$58*('תמהיל יצור'!P9+'תמהיל יצור'!Q9)/10^3 -> 1.8126584 | G10: =$B$59*'תמהיל יצור'!R9/10^3 -> 2.1144793 | H10: =$B$60*'תמהיל יצור'!S9/10^3 -> 10.029764 | I10: =$B$58*('תמהיל יצור'!V9+'תמהיל יצור'!W9)/10^3 -> 1.7089555 | J10: =$B$60*'תמהיל יצור'!X9/10^3 -> 10.41466 | K10: =$B$60*'תמהיל יצור'!Y9/10^3 -> 0.8504925 | L10: =$B$60*'תמהיל יצור'!Z9/10^3 -> 0.1056825 | M10: =$B$58*'תמהיל יצור'!AC9/10^3 -> 1.6386364 | N10: =$B$60*'תמהיל יצור'!AD9/10^3 -> 10.44781 | O10: =$B$60*'תמהיל יצור'!AE9/10^3 -> 0.8504925 | P10: =$B$60*'תמהיל יצור'!AF9/10^3 -> 0.1056825 | Q10: =$B$58*'תמהיל יצור'!AK9/10^3 -> 5.064876 | R10: =$B$60*'תמהיל יצור'!AL9/10^3 -> 9.0889599 | S10: =1/((1+$S$3)^($A10-2019)) -> 0.79031453
A11: =A10+1 -> 2026 | B11: =$B$58*'תמהיל יצור'!H10/1000 -> 7.1793388 | C11: =$B$60*'תמהיל יצור'!I10/1000 -> 9.1207048 | D11: =$B$58*'תמהיל יצור'!L10/10^3 -> 5.064876 | E11: =$B$60*'תמהיל יצור'!M10/10^3 -> 10.117523 | F11: =$B$58*('תמהיל יצור'!P10+'תמהיל יצור'!Q10)/10^3 -> 0.25725 | G11: =$B$59*'תמהיל יצור'!R10/10^3 -> 3.1257521 | H11: =$B$60*'תמהיל יצור'!S10/10^3 -> 10.473793 | I11: =$B$58*('תמהיל יצור'!V10+'תמהיל יצור'!W10)/10^3 -> 0.14063824 | J11: =$B$60*'תמהיל יצור'!X10/10^3 -> 10.526599 | K11: =$B$60*'תמהיל יצור'!Y10/10^3 -> 1.700985 | L11: =$B$60*'תמהיל יצור'!Z10/10^3 -> 0.211365 | M11: =$B$58*'תמהיל יצור'!AC10/10^3 -> 0 | N11: =$B$60*'תמהיל יצור'!AD10/10^3 -> 10.5929 | O11: =$B$60*'תמהיל יצור'!AE10/10^3 -> 1.700985 | P11: =$B$60*'תמהיל יצור'!AF10/10^3 -> 0.211365 | Q11: =$B$58*'תמהיל יצור'!AK10/10^3 -> 5.064876 | R11: =$B$60*'תמהיל יצור'!AL10/10^3 -> 9.1113535 | S11: =1/((1+$S$3)^($A11-2019)) -> 0.75991781
A12: =A11+1 -> 2027 | B12: =$B$58*'תמהיל יצור'!H11/1000 -> 7.1793388 | C12: =$B$60*'תמהיל יצור'!I11/1000 -> 9.3107272 | D12: =$B$58*'תמהיל יצור'!L11/10^3 -> 5.064876 | E12: =$B$60*'תמהיל יצור'!M11/10^3 -> 10.307545 | F12: =$B$58*('תמהיל יצור'!P11+'תמהיל יצור'!Q11)/10^3 -> 0.25725 | G12: =$B$59*'תמהיל יצור'!R11/10^3 -> 3.1257521 | H12: =$B$60*'תמהיל יצור'!S11/10^3 -> 10.663816 | I12: =$B$58*('תמהיל יצור'!V11+'תמהיל יצור'!W11)/10^3 -> 0.14063824 | J12: =$B$60*'תמהיל יצור'!X11/10^3 -> 10.716622 | K12: =$B$60*'תמהיל יצור'!Y11/10^3 -> 1.700985 | L12: =$B$60*'תמהיל יצור'!Z11/10^3 -> 0.211365 | M12: =$B$58*'תמהיל יצור'!AC11/10^3 -> 0 | N12: =$B$60*'תמהיל יצור'!AD11/10^3 -> 10.782923 | O12: =$B$60*'תמהיל יצור'!AE11/10^3 -> 1.700985 | P12: =$B$60*'תמהיל יצור'!AF11/10^3 -> 0.211365 | Q12: =$B$58*'תמהיל יצור'!AK11/10^3 -> 5.064876 | R12: =$B$60*'תמהיל יצור'!AL11/10^3 -> 9.1265897 | S12: =1/((1+$S$3)^($A12-2019)) -> 0.73069021
A13: =A12+1 -> 2028 | B13: =$B$58*'תמהיל יצור'!H12/1000 -> 7.1793388 | C13: =$B$60*'תמהיל יצור'!I12/1000 -> 9.5018943 | D13: =$B$58*'תמהיל יצור'!L12/10^3 -> 5.064876 | E13: =$B$60*'תמהיל יצור'!M12/10^3 -> 10.498713 | F13: =$B$58*('תמהיל יצור'!P12+'תמהיל יצור'!Q12)/10^3 -> 0.25725 | G13: =$B$59*'תמהיל יצור'!R12/10^3 -> 3.1257521 | H13: =$B$60*'תמהיל יצור'!S12/10^3 -> 10.854983 | I13: =$B$58*('תמהיל יצור'!V12+'תמהיל יצור'!W12)/10^3 -> 0.2079 | J13: =$B$60*'תמהיל יצור'!X12/10^3 -> 9.9199048 | K13: =$B$60*'תמהיל יצור'!Y12/10^3 -> 2.5514775 | L13: =$B$60*'תמהיל יצור'!Z12/10^3 -> 0.3170475 | M13: =$B$58*'תמהיל יצור'!AC12/10^3 -> 0 | N13: =$B$60*'תמהיל יצור'!AD12/10^3 -> 10.017915 | O13: =$B$60*'תמהיל יצור'!AE12/10^3 -> 2.5514775 | P13: =$B$60*'תמהיל יצור'!AF12/10^3 -> 0.3170475 | Q13: =$B$58*'תמהיל יצור'!AK12/10^3 -> 5.064876 | R13: =$B$60*'תמהיל יצור'!AL12/10^3 -> 9.134266 | S13: =1/((1+$S$3)^($A13-2019)) -> 0.70258674
A14: =A13+1 -> 2029 | B14: =$B$58*'תמהיל יצור'!H13/1000 -> 7.1793388 | C14: =$B$60*'תמהיל יצור'!I13/1000 -> 9.6941297 | D14: =$B$58*'תמהיל יצור'!L13/10^3 -> 5.064876 | E14: =$B$60*'תמהיל יצור'!M13/10^3 -> 10.690948 | F14: =$B$58*('תמהיל יצור'!P13+'תמהיל יצור'!Q13)/10^3 -> 0.25725 | G14: =$B$59*'תמהיל יצור'!R13/10^3 -> 3.1257521 | H14: =$B$60*'תמהיל יצור'!S13/10^3 -> 11.047218 | I14: =$B$58*('תמהיל יצור'!V13+'תמהיל יצור'!W13)/10^3 -> 0.2079 | J14: =$B$60*'תמהיל יצור'!X13/10^3 -> 10.11214 | K14: =$B$60*'תמהיל יצור'!Y13/10^3 -> 2.5514775 | L14: =$B$60*'תמהיל יצור'!Z13/10^3 -> 0.3170475 | M14: =$B$58*'תמהיל יצור'!AC13/10^3 -> 0 | N14: =$B$60*'תמהיל יצור'!AD13/10^3 -> 10.21015 | O14: =$B$60*'תמהיל יצור'!AE13/10^3 -> 2.5514775 | P14: =$B$60*'תמהיל יצור'!AF13/10^3 -> 0.3170475 | Q14: =$B$58*'תמהיל יצור'!AK13/10^3 -> 5.064876 | R14: =$B$60*'תמהיל יצור'!AL13/10^3 -> 9.1339627 | S14: =1/((1+$S$3)^($A14-2019)) -> 0.67556417
A15: =A14+1 -> 2030 | B15: =$B$58*'תמהיל יצור'!H14/1000 -> 7.1793388 | C15: =$B$60*'תמהיל יצור'!I14/1000 -> 9.8873516 | D15: =$B$58*'תמהיל יצור'!L14/10^3 -> 5.064876 | E15: =$B$60*'תמהיל יצור'!M14/10^3 -> 10.88417 | F15: =$B$58*('תמהיל יצור'!P14+'תמהיל יצור'!Q14)/10^3 -> 0.25725 | G15: =$B$59*'תמהיל יצור'!R14/10^3 -> 3.1257521 | H15: =$B$60*'תמהיל יצור'!S14/10^3 -> 11.24044 | I15: =$B$58*('תמהיל יצור'!V14+'תמהיל יצור'!W14)/10^3 -> 0.2079 | J15: =$B$60*'תמהיל יצור'!X14/10^3 -> 10.305362 | K15: =$B$60*'תמהיל יצור'!Y14/10^3 -> 2.5514775 | L15: =$B$60*'תמהיל יצור'!Z14/10^3 -> 0.3170475 | M15: =$B$58*'תמהיל יצור'!AC14/10^3 -> 0 | N15: =$B$60*'תמהיל יצור'!AD14/10^3 -> 10.403372 | O15: =$B$60*'תמהיל יצור'!AE14/10^3 -> 2.5514775 | P15: =$B$60*'תמהיל יצור'!AF14/10^3 -> 0.3170475 | Q15: =$B$58*'תמהיל יצור'!AK14/10^3 -> 5.064876 | R15: =$B$60*'תמהיל יצור'!AL14/10^3 -> 9.6049508 | S15: =1/((1+$S$3)^($A15-2019)) -> 0.64958093
A16: =A15+1 -> 2031 | B16: =$B$58*'תמהיל יצור'!H15/1000 -> 7.1793388 | C16: =$B$60*'תמהיל יצור'!I15/1000 -> 10.245693 | D16: =$B$58*'תמהיל יצור'!L15/10^3 -> 5.064876 | E16: =$B$60*'תמהיל יצור'!M15/10^3 -> 11.242511 | F16: =$B$58*('תמהיל יצור'!P15+'תמהיל יצור'!Q15)/10^3 -> 0.25725 | G16: =$B$59*'תמהיל יצור'!R15/10^3 -> 3.1257521 | H16: =$B$60*'תמהיל יצור'!S15/10^3 -> 11.598781 | I16: =$B$58*('תמהיל יצור'!V15+'תמהיל יצור'!W15)/10^3 -> 0.2079 | J16: =$B$60*'תמהיל יצור'!X15/10^3 -> 10.663703 | K16: =$B$60*'תמהיל יצור'!Y15/10^3 -> 2.5514775 | L16: =$B$60*'תמהיל יצור'!Z15/10^3 -> 0.3170475 | M16: =$B$58*'תמהיל יצור'!AC15/10^3 -> 0 | N16: =$B$60*'תמהיל יצור'!AD15/10^3 -> 10.761713 | O16: =$B$60*'תמהיל יצור'!AE15/10^3 -> 2.5514775 | P16: =$B$60*'תמהיל יצור'!AF15/10^3 -> 0.3170475 | Q16: =$B$58*'תמהיל יצור'!AK15/10^3 -> 5.064876 | R16: =$B$60*'תמהיל יצור'!AL15/10^3 -> 9.9287531 | S16: =1/((1+$S$3)^($A16-2019)) -> 0.62459705
A17: =A16+1 -> 2032 | B17: =$B$58*'תמהיל יצור'!H16/1000 -> 7.1793388 | C17: =$B$60*'תמהיל יצור'!I16/1000 -> 10.613709 | D17: =$B$58*'תמהיל יצור'!L16/10^3 -> 5.064876 | E17: =$B$60*'תמהיל יצור'!M16/10^3 -> 11.610527 | F17: =$B$58*('תמהיל יצור'!P16+'תמהיל יצור'!Q16)/10^3 -> 0.25725 | G17: =$B$59*'תמהיל יצור'!R16/10^3 -> 3.1257521 | H17: =$B$60*'תמהיל יצור'!S16/10^3 -> 11.966798 | I17: =$B$58*('תמהיל יצור'!V16+'תמהיל יצור'!W16)/10^3 -> 0.2079 | J17: =$B$60*'תמהיל יצור'!X16/10^3 -> 11.03172 | K17: =$B$60*'תמהיל יצור'!Y16/10^3 -> 2.5514775 | L17: =$B$60*'תמהיל יצור'!Z16/10^3 -> 0.3170475 | M17: =$B$58*'תמהיל יצור'!AC16/10^3 -> 0 | N17: =$B$60*'תמהיל יצור'!AD16/10^3 -> 11.12973 | O17: =$B$60*'תמהיל יצור'!AE16/10^3 -> 2.5514775 | P17: =$B$60*'תמהיל יצור'!AF16/10^3 -> 0.3170475 | Q17: =$B$58*'תמהיל יצור'!AK16/10^3 -> 5.064876 | R17: =$B$60*'תמהיל יצור'!AL16/10^3 -> 10.261298 | S17: =1/((1+$S$3)^($A17-2019)) -> 0.60057409
... A30: =A29+1 -> 2045 | B30: =$B$58*'תמהיל יצור'!H29/1000 -> 2.3227273 | C30: =$B$60*'תמהיל יצור'!I29/1000 -> 18.696999 | D30: =$B$58*'תמהיל יצור'!L29/10^3 -> 1.6386364 | E30: =$B$60*'תמהיל יצור'!M29/10^3 -> 19.019499 | F30: =$B$58*('תמהיל יצור'!P29+'תמהיל יצור'!Q29)/10^3 -> 0.083227941 | G30: =$B$59*'תמהיל יצור'!R29/10^3 -> 0.32717647 | H30: =$B$60*'תמהיל יצור'!S29/10^3 -> 19.552822 | I30: =$B$58*('תמהיל יצור'!V29+'תמהיל יצור'!W29)/10^3 -> 0.13758088 | J30: =$B$60*'תמהיל יצור'!X29/10^3 -> 16.858614 | K30: =$B$60*'תמהיל יצור'!Y29/10^3 -> 2.5514775 | L30: =$B$60*'תמהיל יצור'!Z29/10^3 -> 0.3170475 | M30: =$B$58*'תמהיל יצור'!AC29/10^3 -> 0 | N30: =$B$60*'תמהיל יצור'!AD29/10^3 -> 16.923474 | O30: =$B$60*'תמהיל יצור'!AE29/10^3 -> 2.5514775 | P30: =$B$60*'תמהיל יצור'!AF29/10^3 -> 0.3170475 | Q30: =$B$58*'תמהיל יצור'!AK29/10^3 -> 1.6386364 | R30: =$B$60*'תמהיל יצור'!AL29/10^3 -> 17.111836 | S30: =1/((1+$S$3)^($A30-2019)) -> 0.36068923
A31: פליטות לפי סוג דלק [אלפי טון] | B31: =SUM(B5:B30) -> 169.66467 | C31: =SUM(C5:C30) -> 301.27774 | D31: =SUM(D5:D30) -> 119.69494 | E31: =SUM(E5:E30) -> 324.8349 | F31: =SUM(F5:F30) -> 25.168526 | G31: =SUM(G5:G30) -> 57.275486 | H31: =SUM(H5:H30) -> 334.39567 | I31: =SUM(I5:I30) -> 23.923056 | ... R31: =SUM(R5:R30) -> 293.03856
A32: פליטות לפי סוג דלק (מהוון) [אלפיי טון] | B32: =SUMPRODUCT($S5:$S30,B5:B30) -> 108.06027 | C32: =SUMPRODUCT($S5:$S30,C5:C30) -> 171.42172 | D32: =SUMPRODUCT($S5:$S30,D5:D30) -> 76.234299 | E32: =SUMPRODUCT($S5:$S30,E5:E30) -> 186.42539 | F32: =SUMPRODUCT($S5:$S30,F5:F30) -> 20.995278 | G32: =SUMPRODUCT($S5:$S30,G5:G30) -> 34.24625 | H32: =SUMPRODUCT($S5:$S30,H5:H30) -> 191.53838 | I32: =SUMPRODUCT($S5:$S30,I5:I30) -> 20.14822 | ... R32: =SUMPRODUCT($S5:$S30,R5:R30) -> 169.44564
A33: סך פליטות לתקופה [אלפי טון] | B33: =SUM(B31:C31) -> 470.94241 | D33: =SUM(D31:E31) -> 444.52984 | F33: =SUM(F31:H31) -> 416.83968 | I33: =SUM(I31:L31) -> 393.90756 | M33: =SUM(M31:P31) -> 391.89237 | Q33: =SUM(Q31:R31) -> 412.7335
A34: סך פליטות לתקופה (מהוון( [אלפי טון] | B34: =SUM(B32:C32) -> 279.48199 | D34: =SUM(D32:E32) -> 262.65969 | F34: =SUM(F32:H32) -> 246.77991 | I34: =SUM(I32:L32) -> 233.01419 | M34: =SUM(M32:P32) -> 231.89958 | Q34: =SUM(Q32:R32) -> 245.67994
A35: הפרש פליטות ביחס למדיניות קיימת [אלפי טון] | B35: =B33-D33 -> 26.412572 | D35: 0 | F35: =F33-D33 -> -27.69016 | I35: =I33-D33 -> -50.62228 | M35: =M33-D33 -> -52.637469 | Q35: =Q33-D33 -> -31.796337
A36: הפרש פליטות ביחס למדיניות קיימת (מהוון) [אלפיי טון] | B36: =B34-D34 -> 16.822298 | D36: 0 | F36: =F34-D34 -> -15.879782 | I36: =I34-D34 -> -29.645499 | M36: =M34-D34 -> -30.760104 | Q36: =Q34-D34 -> -16.979751
A38: פליטות מזהמים ממוצע לשנה
B39: סגירת 1-4 ללא מדיניות הפחתה | D39: סגירת 1-4 עם מדיניות הפחתה | F39: הסבה | I39: שימור | M39: גריטה | Q39: 25% מתחדשות
A40: זיהום שנתי ממוצע (אלפי טון) | B40: =B32/($A30-$A5+1) -> 4.1561642 | D40: =D32/($A30-$A5+1) -> 2.9320884 | F40: =F32/($A30-$A5+1) -> 0.8075107 | I40: =I32/($A30-$A5+1) -> 0.77493152 | M40: =M32/($A30-$A5+1) -> 0.69382722 | Q40: =Q32/($A30-$A5+1) -> 2.9320884
A41: פליטות לקוט"ש לתקופה(גר'/קוטש) | B41: =B32/'תמהיל יצור'!$C$30 -> 0.039406533 | D41: =D32/'תמהיל יצור'!$C$30 -> 0.027800499 | F41: =F32/'תמהיל יצור'!$C$30 -> 0.0076563858 | I41: =I32/'תמהיל יצור'!$C$30 -> 0.0073474875 | M41: =M32/'תמהיל יצור'!$C$30 -> 0.0065784998 | Q41: =Q32/'תמהיל יצור'!$C$30 -> 0.027800499
A43: פליטות לנפש - 2030
A44: גודל אוכלוסייה ב-2030 | B44: ='הנחות עבודה'!B54 -> 11.1
B45: סגירת 1-4 ללא מדיניות הפחתה | D45: סגירת 1-4 עם מדיניות הפחתה | F45: הסבה | I45: שימור | M45: גריטה | Q45: 25% מתחדשות
A46: אלפי טון ב-2030 | B46: =B15+C15 -> 17.06669 | D46: =D15+E15 -> 15.949046 | F46: =H15+G15+F15 -> 14.623442 | I46: =J15+I15+K15+L15 -> 13.381787 | M46: =N15+M15+O15+P15 -> 13.271897 | Q46: =R15+Q15 -> 14.669827
A47: פליטות לנפש 2030 [ק"ג לנפש] | B47: =(B15+C15)/$B$44 -> 1.5375397 | D47: =(D15+E15)/$B$44 -> 1.436851 | F47: =(H15+G15+F15)/B44 -> 1.3174272 | I47: =(I15+J15)/$B$44 -> 0.94714072 | M47: =(M15+N15)/$B$44 -> 0.93724072 | Q47: =(Q15+R15)/$B$44 -> 1.321606
A49: פליטות לנפש - 2040
A50: גודל אוכלוסייה ב-2040 | B50: ='הנחות עבודה'!B55 -> 13.2
B51: סגירת 1-4 ללא מדיניות הפחתה | D51: סגירת 1-4 עם מדיניות הפחתה | F51: הסבה | I51: שימור | M51: גריטה | Q51: 25% מתחדשות
A52: אלפי טון ב 2040 | B52: =B25+C25 -> 19.834832 | D52: =D25+E25 -> 19.095214 | F52: =F25+G25+H25 -> 17.945893 | I52: =I25+J25+K25+L25 -> 17.433462 | M52: =N25+M25+O25+P25 -> 17.323572 | Q52: =Q25+R25 -> 17.425472
A53: פליטות לנפש 2040 (ק״ג/נפש) | B53: =B52/B50 -> 1.5026388 | D53: =D52/B50 -> 1.4466071 | F53: =F52/B50 -> 1.3595373 | I53: =I52/B50 -> 1.3207168 | M53: =M52/B50 -> 1.3123918 | Q53: =Q52/B50 -> 1.3201115
A56: נתוני פליטות סגלויות
B57: פליטות NOX [Ton/TWh]
A58: ='הנחות עבודה'!A75 -> יחידות פחמיות לאחר הפחתת פליטות. הערה מס' 1 | B58: ='הנחות עבודה'!C91*1000 -> 350
A59: ='הנחות עבודה'!A76 -> יחידות פחמיות לאחר הסבה לגז עם הפחתת פליטות. הערה מס' 2 | B59: ='הנחות עבודה'!C92*1000 -> 270
A60: ='הנחות עבודה'!A79 -> יחידת גז משוקללת | B60: ='הנחות עבודה'!C93*1000 -> 165
A62: פליטות היסטוריות
A63: פליטות ממוצעות לקוט"ש 2015 | B63: 69
A64: פליטות ממוצעיות לקוט"ש 2018 | B64: 45

Sheet פליטות- חלקיקים
A1: פליטות חלקיקים (אלפי טון)
A2: פליטות חלקיקים לפי חלופה (אלפי טון) | S2: ריבית היוון
B3: סגירת 1-4 ללא מדיניות הפחתה | D3: סגירת 1-4 עם מדיניות הפחתה | F3: הסבה | I3: שימור | M3: גריטה | Q3: 0.25 | S3: ='הנחות עבודה'!$B$37 -> 0.04 | U3: טבלה מסכמת פליטות חלקיקים
A4: שנה | B4: פחם | C4: =E4 -> מתקני גז קיימים | D4: פחם | E4: =H4 -> מתקני גז קיימים | F4: פחם | G4: גז מוסב | H4: =J4 -> מתקני גז קיימים | I4: פחם | J4: מתקני גז קיימים | K4: מחזמים חדשים | L4: פיקר חדש | M4: פחם | N4: =J4 -> מתקני גז קיימים | O4: מחזמים חדשים | P4: פיקר חדש | Q4: פחם | R4: =C4 -> מתקני גז קיימים | S4: מקדם היוון שנתי | V4: 2015 | W4: 2017 | Y4: סגירת 1-4 ללא מדיניות הפחתה | Z4: סגירת 1-4 עם מדיניות הפחתה | AA4: =Q39 -> 25% מתחדשות | AB4: =F39 -> הסבה | AC4: =I39 -> שימור | AD4: =M39 -> גריטה
A5: 2020 | B5: =$B$58*'תמהיל יצור'!H4/1000 -> 0.6153719 | C5: =$B$60*'תמהיל יצור'!I4/1000 -> 0.71972323 | D5: =$B$58*'תמהיל יצור'!L4/10^3 -> 0.43413223 | E5: =$B$60*'תמהיל יצור'!M4/10^3 -> 0.81517612 | F5: =$B$58*('תמהיל יצור'!P4+'תמהיל יצור'!Q4)/10^3 -> 0.43413223 | G5: =$B$59*'תמהיל יצור'!R4/10^3 -> 0 | H5: =$B$60*'תמהיל יצור'!S4/10^3 -> 0.81517612 | I5: =$B$58*('תמהיל יצור'!V4+'תמהיל יצור'!W4)/10^3 -> 0.43413223 | J5: =$B$60*'תמהיל יצור'!X4/10^3 -> 0.81517612 | K5: =$B$60*'תמהיל יצור'!Y4/10^3 -> 0 | L5: =$B$60*'תמהיל יצור'!Z4/10^3 -> 0 | M5: =$B$58*'תמהיל יצור'!AC4/10^3 -> 0.43413223 | N5: =$B$60*'תמהיל יצור'!AD4/10^3 -> 0.81517612 | O5: =$B$60*'תמהיל יצור'!AE4/10^3 -> 0 | P5: =$B$60*'תמהיל יצור'!AF4/10^3 -> 0 | Q5: =$B$58*'תמהיל יצור'!AK4/10^3 -> 0.43413223 | R5: =$B$60*'תמהיל יצור'!AL4/10^3 -> 0.81517612 | S5: =1/((1+$S$3)^($A5-2019)) -> 0.96153846 | U5: אלפי טון בממוצע לשנה בתקופה | V5: =B63 -> 2.3 | W5: =B64 -> 1.9 | Y5: =B40 -> 0.35624265 | Z5: =D40 -> 0.25132187 | AA5: =Q40 -> 0.25132187 | AB5: =F40 -> 0.069215202 | AC5: =I40 -> 0.066422702 | AD5: =M40 -> 0.059470905
A6: =A5+1 -> 2021 | B6: =$B$58*'תמהיל יצור'!H5/1000 -> 0.6153719 | C6: =$B$60*'תמהיל יצור'!I5/1000 -> 0.7248309 | D6: =$B$58*'תמהיל יצור'!L5/10^3 -> 0.43413223 | E6: =$B$60*'תמהיל יצור'!M5/10^3 -> 0.82028379 | F6: =$B$58*('תמהיל יצור'!P5+'תמהיל יצור'!Q5)/10^3 -> 0.43413223 | G6: =$B$59*'תמהיל יצור'!R5/10^3 -> 0 | H6: =$B$60*'תמהיל יצור'!S5/10^3 -> 0.82028379 | I6: =$B$58*('תמהיל יצור'!V5+'תמהיל יצור'!W5)/10^3 -> 0.43413223 | J6: =$B$60*'תמהיל יצור'!X5/10^3 -> 0.82028379 | K6: =$B$60*'תמהיל יצור'!Y5/10^3 -> 0 | L6: =$B$60*'תמהיל יצור'!Z5/10^3 -> 0 | M6: =$B$58*'תמהיל יצור'!AC5/10^3 -> 0.43413223 | N6: =$B$60*'תמהיל יצור'!AD5/10^3 -> 0.82028379 | O6: =$B$60*'תמהיל יצור'!AE5/10^3 -> 0 | P6: =$B$60*'תמהיל יצור'!AF5/10^3 -> 0 | Q6: =$B$58*'תמהיל יצור'!AK5/10^3 -> 0.43413223 | R6: =$B$60*'תמהיל יצור'!AL5/10^3 -> 0.82028379 | S6: =1/((1+$S$3)^($A6-2019)) -> 0.92455621
A7: =A6+1 -> 2022 | B7: =$B$58*'תמהיל יצור'!H6/1000 -> 0.6153719 | C7: =$B$60*'תמהיל יצור'!I6/1000 -> 0.75908593 | D7: =$B$58*'תמהיל יצור'!L6/10^3 -> 0.43413223 | E7: =$B$60*'תמהיל יצור'!M6/10^3 -> 0.85453882 | F7: =$B$58*('תמהיל יצור'!P6+'תמהיל יצור'!Q6)/10^3 -> 0.29475148 | G7: =$B$59*'תמהיל יצור'!R6/10^3 -> 0.050904132 | H7: =$B$60*'תמהיל יצור'!S6/10^3 -> 0.86607792 | I7: =$B$58*('תמהיל יצור'!V6+'תמהיל יצור'!W6)/10^3 -> 0.28729339 | J7: =$B$60*'תמהיל יצור'!X6/10^3 -> 0.93187395 | K7: =$B$60*'תמהיל יצור'!Y6/10^3 -> 0 | L7: =$B$60*'תמהיל יצור'!Z6/10^3 -> 0 | M7: =$B$58*'תמהיל יצור'!AC6/10^3 -> 0.28729339 | N7: =$B$60*'תמהיל יצור'!AD6/10^3 -> 0.93187395 | O7: =$B$60*'תמהיל יצור'!AE6/10^3 -> 0 | P7: =$B$60*'תמהיל יצור'!AF6/10^3 -> 0 | Q7: =$B$58*'תמהיל יצור'!AK6/10^3 -> 0.43413223 | R7: =$B$60*'תמהיל יצור'!AL6/10^3 -> 0.85453882 | S7: =1/((1+$S$3)^($A7-2019)) -> 0.88899636
A8: =A7+1 -> 2023 | B8: =$B$58*'תמהיל יצור'!H7/1000 -> 0.6153719 | C8: =$B$60*'תמהיל יצור'!I7/1000 -> 0.78188391 | D8: =$B$58*'תמהיל יצור'!L7/10^3 -> 0.43413223 | E8: =$B$60*'תמהיל יצור'!M7/10^3 -> 0.8773368 | F8: =$B$58*('תמהיל יצור'!P7+'תמהיל יצור'!Q7)/10^3 -> 0.29475148 | G8: =$B$59*'תמהיל יצור'!R7/10^3 -> 0.050904132 | H8: =$B$60*'תמהיל יצור'!S7/10^3 -> 0.8888759 | I8: =$B$58*('תמהיל יצור'!V7+'תמהיל יצור'!W7)/10^3 -> 0.28729339 | J8: =$B$60*'תמהיל יצור'!X7/10^3 -> 0.95467192 | K8: =$B$60*'תמהיל יצור'!Y7/10^3 -> 0 | L8: =$B$60*'תמהיל יצור'!Z7/10^3 -> 0 | M8: =$B$58*'תמהיל יצור'!AC7/10^3 -> 0.28729339 | N8: =$B$60*'תמהיל יצור'!AD7/10^3 -> 0.95467192 | O8: =$B$60*'תמהיל יצור'!AE7/10^3 -> 0 | P8: =$B$60*'תמהיל יצור'!AF7/10^3 -> 0 | Q8: =$B$58*'תמהיל יצור'!AK7/10^3 -> 0.43413223 | R8: =$B$60*'תמהיל יצור'!AL7/10^3 -> 0.8522009 | S8: =1/((1+$S$3)^($A8-2019)) -> 0.85480419
A9: =A8+1 -> 2024 | B9: =$B$58*'תמהיל יצור'!H8/1000 -> 0.6153719 | C9: =$B$60*'תמהיל יצור'!I8/1000 -> 0.8180065 | D9: =$B$58*'תמהיל יצור'!L8/10^3 -> 0.43413223 | E9: =$B$60*'תמהיל יצור'!M8/10^3 -> 0.91345939 | F9: =$B$58*('תמהיל יצור'!P8+'תמהיל יצור'!Q8)/10^3 -> 0.15537072 | G9: =$B$59*'תמהיל יצור'!R8/10^3 -> 0.10180826 | H9: =$B$60*'תמהיל יצור'!S8/10^3 -> 0.93653759 | I9: =$B$58*('תמהיל יצור'!V8+'תמהיל יצור'!W8)/10^3 -> 0.1464819 | J9: =$B$60*'תמהיל יצור'!X8/10^3 -> 0.97339423 | K9: =$B$60*'תמהיל יצור'!Y8/10^3 -> 0.0814411 | L9: =$B$60*'תמהיל יצור'!Z8/10^3 -> 0.0101199 | M9: =$B$58*'תמהיל יצור'!AC8/10^3 -> 0.14045455 | N9: =$B$60*'תמהיל יצור'!AD8/10^3 -> 0.97656864 | O9: =$B$60*'תמהיל יצור'!AE8/10^3 -> 0.0814411 | P9: =$B$60*'תמהיל יצור'!AF8/10^3 -> 0.0101199 | Q9: =$B$58*'תמהיל יצור'!AK8/10^3 -> 0.43413223 | R9: =$B$60*'תמהיל יצור'!AL8/10^3 -> 0.86154565 | S9: =1/((1+$S$3)^($A9-2019)) -> 0.82192711
A10: =A9+1 -> 2025 | B10: =$B$58*'תמהיל יצור'!H9/1000 -> 0.6153719 | C10: =$B$60*'תמהיל יצור'!I9/1000 -> 0.84189484 | D10: =$B$58*'תמהיל יצור'!L9/10^3 -> 0.43413223 | E10: =$B$60*'תמהיל יצור'!M9/10^3 -> 0.93734773 | F10: =$B$58*('תמהיל יצור'!P9+'תמהיל יצור'!Q9)/10^3 -> 0.15537072 | G10: =$B$59*'תמהיל יצור'!R9/10^3 -> 0.10180826 | H10: =$B$60*'תמהיל יצור'!S9/10^3 -> 0.96042593 | I10: =$B$58*('תמהיל יצור'!V9+'תמהיל יצור'!W9)/10^3 -> 0.1464819 | J10: =$B$60*'תמהיל יצור'!X9/10^3 -> 0.99728257 | K10: =$B$60*'תמהיל יצור'!Y9/10^3 -> 0.0814411 | L10: =$B$60*'תמהיל יצור'!Z9/10^3 -> 0.0101199 | M10: =$B$58*'תמהיל יצור'!AC9/10^3 -> 0.14045455 | N10: =$B$60*'תמהיל יצור'!AD9/10^3 -> 1.000457 | O10: =$B$60*'תמהיל יצור'!AE9/10^3 -> 0.0814411 | P10: =$B$60*'תמהיל יצור'!AF9/10^3 -> 0.0101199 | Q10: =$B$58*'תמהיל יצור'!AK9/10^3 -> 0.43413223 | R10: =$B$60*'תמהיל יצור'!AL9/10^3 -> 0.87033677 | S10: =1/((1+$S$3)^($A10-2019)) -> 0.79031453
A11: =A10+1 -> 2026 | B11: =$B$58*'תמהיל יצור'!H10/1000 -> 0.6153719 | C11: =$B$60*'תמהיל יצור'!I10/1000 -> 0.87337659 | D11: =$B$58*'תמהיל יצור'!L10/10^3 -> 0.43413223 | E11: =$B$60*'תמהיל יצור'!M10/10^3 -> 0.96882948 | F11: =$B$58*('תמהיל יצור'!P10+'תמהיל יצור'!Q10)/10^3 -> 0.02205 | G11: =$B$59*'תמהיל יצור'!R10/10^3 -> 0.15049917 | H11: =$B$60*'תמהיל יצור'!S10/10^3 -> 1.0029451 | I11: =$B$58*('תמהיל יצור'!V10+'תמהיל יצור'!W10)/10^3 -> 0.012054706 | J11: =$B$60*'תמהיל יצור'!X10/10^3 -> 1.0080016 | K11: =$B$60*'תמהיל יצור'!Y10/10^3 -> 0.1628822 | L11: =$B$60*'תמהיל יצור'!Z10/10^3 -> 0.0202398 | M11: =$B$58*'תמהיל יצור'!AC10/10^3 -> 0 | N11: =$B$60*'תמהיל יצור'!AD10/10^3 -> 1.0143505 | O11: =$B$60*'תמהיל יצור'!AE10/10^3 -> 0.1628822 | P11: =$B$60*'תמהיל יצור'!AF10/10^3 -> 0.0202398 | Q11: =$B$58*'תמהיל יצור'!AK10/10^3 -> 0.43413223 | R11: =$B$60*'תמהיל יצור'!AL10/10^3 -> 0.87248112 | S11: =1/((1+$S$3)^($A11-2019)) -> 0.75991781
A12: =A11+1 -> 2027 | B12: =$B$58*'תמהיל יצור'!H11/1000 -> 0.6153719 | C12: =$B$60*'תמהיל יצור'!I11/1000 -> 0.89157266 | D12: =$B$58*'תמהיל יצור'!L11/10^3 -> 0.43413223 | E12: =$B$60*'תמהיל יצור'!M11/10^3 -> 0.98702555 | F12: =$B$58*('תמהיל יצור'!P11+'תמהיל יצור'!Q11)/10^3 -> 0.02205 | G12: =$B$59*'תמהיל יצור'!R11/10^3 -> 0.15049917 | H12: =$B$60*'תמהיל יצור'!S11/10^3 -> 1.0211411 | I12: =$B$58*('תמהיל יצור'!V11+'תמהיל יצור'!W11)/10^3 -> 0.012054706 | J12: =$B$60*'תמהיל יצור'!X11/10^3 -> 1.0261977 | K12: =$B$60*'תמהיל יצור'!Y11/10^3 -> 0.1628822 | L12: =$B$60*'תמהיל יצור'!Z11/10^3 -> 0.0202398 | M12: =$B$58*'תמהיל יצור'!AC11/10^3 -> 0 | N12: =$B$60*'תמהיל יצור'!AD11/10^3 -> 1.0325465 | O12: =$B$60*'תמהיל יצור'!AE11/10^3 -> 0.1628822 | P12: =$B$60*'תמהיל יצור'!AF11/10^3 -> 0.0202398 | Q12: =$B$58*'תמהיל יצור'!AK11/10^3 -> 0.43413223 | R12: =$B$60*'תמהיל יצור'!AL11/10^3 -> 0.87394011 | S12: =1/((1+$S$3)^($A12-2019)) -> 0.73069021
A13: =A12+1 -> 2028 | B13: =$B$58*'תמהיל יצור'!H12/1000 -> 0.6153719 | C13: =$B$60*'תמהיל יצור'!I12/1000 -> 0.90987837 | D13: =$B$58*'תמהיל יצור'!L12/10^3 -> 0.43413223 | E13: =$B$60*'תמהיל יצור'!M12/10^3 -> 1.0053313 | F13: =$B$58*('תמהיל יצור'!P12+'תמהיל יצור'!Q12)/10^3 -> 0.02205 | G13: =$B$59*'תמהיל יצור'!R12/10^3 -> 0.15049917 | H13: =$B$60*'תמהיל יצור'!S12/10^3 -> 1.0394469 | I13: =$B$58*('תמהיל יצור'!V12+'תמהיל יצור'!W12)/10^3 -> 0.01782 | J13: =$B$60*'תמהיל יצור'!X12/10^3 -> 0.94990604 | K13: =$B$60*'תמהיל יצור'!Y12/10^3 -> 0.2443233 | L13: =$B$60*'תמהיל יצור'!Z12/10^3 -> 0.0303597 | M13: =$B$58*'תמהיל יצור'!AC12/10^3 -> 0 | N13: =$B$60*'תמהיל יצור'!AD12/10^3 -> 0.95929124 | O13: =$B$60*'תמהיל יצור'!AE12/10^3 -> 0.2443233 | P13: =$B$60*'תמהיל יצור'!AF12/10^3 -> 0.0303597 | Q13: =$B$58*'תמהיל יצור'!AK12/10^3 -> 0.43413223 | R13: =$B$60*'תמהיל יצור'!AL12/10^3 -> 0.87467516 | S13: =1/((1+$S$3)^($A13-2019)) -> 0.70258674
A14: =A13+1 -> 2029 | B14: =$B$58*'תמהיל יצור'!H13/1000 -> 0.6153719 | C14: =$B$60*'תמהיל יצור'!I13/1000 -> 0.92828636 | D14: =$B$58*'תמהיל יצור'!L13/10^3 -> 0.43413223 | E14: =$B$60*'תמהיל יצור'!M13/10^3 -> 1.0237393 | F14: =$B$58*('תמהיל יצור'!P13+'תמהיל יצור'!Q13)/10^3 -> 0.02205 | G14: =$B$59*'תמהיל יצור'!R13/10^3 -> 0.15049917 | H14: =$B$60*'תמהיל יצור'!S13/10^3 -> 1.0578548 | I14: =$B$58*('תמהיל יצור'!V13+'תמהיל יצור'!W13)/10^3 -> 0.01782 | J14: =$B$60*'תמהיל יצור'!X13/10^3 -> 0.96831403 | K14: =$B$60*'תמהיל יצור'!Y13/10^3 -> 0.2443233 | L14: =$B$60*'תמהיל יצור'!Z13/10^3 -> 0.0303597 | M14: =$B$58*'תמהיל יצור'!AC13/10^3 -> 0 | N14: =$B$60*'תמהיל יצור'!AD13/10^3 -> 0.97769923 | O14: =$B$60*'תמהיל יצור'!AE13/10^3 -> 0.2443233 | P14: =$B$60*'תמהיל יצור'!AF13/10^3 -> 0.0303597 | Q14: =$B$58*'תמהיל יצור'!AK13/10^3 -> 0.43413223 | R14: =$B$60*'תמהיל יצור'!AL13/10^3 -> 0.87464613 | S14: =1/((1+$S$3)^($A14-2019)) -> 0.67556417
A15: =A14+1 -> 2030 | B15: =$B$58*'תמהיל יצור'!H14/1000 -> 0.6153719 | C15: =$B$60*'תמהיל יצור'!I14/1000 -> 0.94678882 | D15: =$B$58*'תמהיל יצור'!L14/10^3 -> 0.43413223 | E15: =$B$60*'תמהיל יצור'!M14/10^3 -> 1.0422417 | F15: =$B$58*('תמהיל יצור'!P14+'תמהיל יצור'!Q14)/10^3 -> 0.02205 | G15: =$B$59*'תמהיל יצור'!R14/10^3 -> 0.15049917 | H15: =$B$60*'תמהיל יצור'!S14/10^3 -> 1.0763573 | I15: =$B$58*('תמהיל יצור'!V14+'תמהיל יצור'!W14)/10^3 -> 0.01782 | J15: =$B$60*'תמהיל יצור'!X14/10^3 -> 0.98681648 | K15: =$B$60*'תמהיל יצור'!Y14/10^3 -> 0.2443233 | L15: =$B$60*'תמהיל יצור'!Z14/10^3 -> 0.0303597 | M15: =$B$58*'תמהיל יצור'!AC14/10^3 -> 0 | N15: =$B$60*'תמהיל יצור'!AD14/10^3 -> 0.99620168 | O15: =$B$60*'תמהיל יצור'!AE14/10^3 -> 0.2443233 | P15: =$B$60*'תמהיל יצור'!AF14/10^3 -> 0.0303597 | Q15: =$B$58*'תמהיל יצור'!AK14/10^3 -> 0.43413223 | R15: =$B$60*'תמהיל יצור'!AL14/10^3 -> 0.9197468 | S15: =1/((1+$S$3)^($A15-2019)) -> 0.64958093
A16: =A15+1 -> 2031 | B16: =$B$58*'תמהיל יצור'!H15/1000 -> 0.6153719 | C16: =$B$60*'תמהיל יצור'!I15/1000 -> 0.9811027 | D16: =$B$58*'תמהיל יצור'!L15/10^3 -> 0.43413223 | E16: =$B$60*'תמהיל יצור'!M15/10^3 -> 1.0765556 | F16: =$B$58*('תמהיל יצור'!P15+'תמהיל יצור'!Q15)/10^3 -> 0.02205 | G16: =$B$59*'תמהיל יצור'!R15/10^3 -> 0.15049917 | H16: =$B$60*'תמהיל יצור'!S15/10^3 -> 1.1106712 | I16: =$B$58*('תמהיל יצור'!V15+'תמהיל יצור'!W15)/10^3 -> 0.01782 | J16: =$B$60*'תמהיל יצור'!X15/10^3 -> 1.0211304 | K16: =$B$60*'תמהיל יצור'!Y15/10^3 -> 0.2443233 | L16: =$B$60*'תמהיל יצור'!Z15/10^3 -> 0.0303597 | M16: =$B$58*'תמהיל יצור'!AC15/10^3 -> 0 | N16: =$B$60*'תמהיל יצור'!AD15/10^3 -> 1.0305156 | O16: =$B$60*'תמהיל יצור'!AE15/10^3 -> 0.2443233 | P16: =$B$60*'תמהיל יצור'!AF15/10^3 -> 0.0303597 | Q16: =$B$58*'תמהיל יצור'!AK15/10^3 -> 0.43413223 | R16: =$B$60*'תמהיל יצור'!AL15/10^3 -> 0.95075332 | S16: =1/((1+$S$3)^($A16-2019)) -> 0.62459705
A17: =A16+1 -> 2032 | B17: =$B$58*'תמהיל יצור'!H16/1000 -> 0.6153719 | C17: =$B$60*'תמהיל יצור'!I16/1000 -> 1.0163431 | D17: =$B$58*'תמהיל יצור'!L16/10^3 -> 0.43413223 | E17: =$B$60*'תמהיל יצור'!M16/10^3 -> 1.111796 | F17: =$B$58*('תמהיל יצור'!P16+'תמהיל יצור'!Q16)/10^3 -> 0.02205 | G17: =$B$59*'תמהיל יצור'!R16/10^3 -> 0.15049917 | H17: =$B$60*'תמהיל יצור'!S16/10^3 -> 1.1459116 | I17: =$B$58*('תמהיל יצור'!V16+'תמהיל יצור'!W16)/10^3 -> 0.01782 | J17: =$B$60*'תמהיל יצור'!X16/10^3 -> 1.0563707 | K17: =$B$60*'תמהיל יצור'!Y16/10^3 -> 0.2443233 | L17: =$B$60*'תמהיל יצור'!Z16/10^3 -> 0.0303597 | M17: =$B$58*'תמהיל יצור'!AC16/10^3 -> 0 | N17: =$B$60*'תמהיל יצור'!AD16/10^3 -> 1.0657559 | O17: =$B$60*'תמהיל יצור'!AE16/10^3 -> 0.2443233 | P17: =$B$60*'תמהיל יצור'!AF16/10^3 -> 0.0303597 | Q17: =$B$58*'תמהיל יצור'!AK16/10^3 -> 0.43413223 | R17: =$B$60*'תמהיל יצור'!AL16/10^3 -> 0.98259702 | S17: =1/((1+$S$3)^($A17-2019)) -> 0.60057409
... A30: =A29+1 -> 2045 | B30: =$B$58*'תמהיל יצור'!H29/1000 -> 0.19909091 | C30: =$B$60*'תמהיל יצור'!I29/1000 -> 1.7903793 | D30: =$B$58*'תמהיל יצור'!L29/10^3 -> 0.14045455 | E30: =$B$60*'תמהיל יצור'!M29/10^3 -> 1.8212611 | F30: =$B$58*('תמהיל יצור'!P29+'תמהיל יצור'!Q29)/10^3 -> 0.0071338235 | G30: =$B$59*'תמהיל יצור'!R29/10^3 -> 0.015752941 | H30: =$B$60*'תמהיל יצור'!S29/10^3 -> 1.8723308 | I30: =$B$58*('תמהיל יצור'!V29+'תמהיל יצור'!W29)/10^3 -> 0.011792647 | J30: =$B$60*'תמהיל יצור'!X29/10^3 -> 1.61434 | K30: =$B$60*'תמהיל יצור'!Y29/10^3 -> 0.2443233 | L30: =$B$60*'תמהיל יצור'!Z29/10^3 -> 0.0303597 | M30: =$B$58*'תמהיל יצור'!AC29/10^3 -> 0 | N30: =$B$60*'תמהיל יצור'!AD29/10^3 -> 1.6205508 | O30: =$B$60*'תמהיל יצור'!AE29/10^3 -> 0.2443233 | P30: =$B$60*'תמהיל יצור'!AF29/10^3 -> 0.0303597 | Q30: =$B$58*'תמהיל יצור'!AK29/10^3 -> 0.14045455 | R30: =$B$60*'תמהיל יצור'!AL29/10^3 -> 1.638588 | S30: =1/((1+$S$3)^($A30-2019)) -> 0.36068923
A31: פליטות לפי סוג דלק [אלפי טון] | B31: =SUM(B5:B30) -> 14.542686 | C31: =SUM(C5:C30) -> 28.849626 | D31: =SUM(D5:D30) -> 10.259566 | E31: =SUM(E5:E30) -> 31.105403 | F31: =SUM(F5:F30) -> 2.1573022 | G31: =SUM(G5:G30) -> 2.7577086 | H31: =SUM(H5:H30) -> 32.020918 | I31: =SUM(I5:I30) -> 2.0505477 | ... R31: =SUM(R5:R30) -> 28.060663
A32: פליטות לפי סוג דלק (מהוון) [אלפיי טון] | B32: =SUMPRODUCT($S5:$S30,B5:B30) -> 9.2623088 | C32: =SUMPRODUCT($S5:$S30,C5:C30) -> 16.414928 | D32: =SUMPRODUCT($S5:$S30,D5:D30) -> 6.5343685 | E32: =SUMPRODUCT($S5:$S30,E5:E30) -> 17.851643 | F32: =SUMPRODUCT($S5:$S30,F5:F30) -> 1.7995953 | G32: =SUMPRODUCT($S5:$S30,G5:G30) -> 1.6488935 | H32: =SUMPRODUCT($S5:$S30,H5:H30) -> 18.341251 | I32: =SUMPRODUCT($S5:$S30,I5:I30) -> 1.7269903 | ... R32: =SUMPRODUCT($S5:$S30,R5:R30) -> 16.225703
A33: סך פליטות לתקופה [אלפי טון] | B33: =SUM(B31:C31) -> 43.392312 | D33: =SUM(D31:E31) -> 41.364969 | F33: =SUM(F31:H31) -> 36.935929 | I33: =SUM(I31:L31) -> 37.479367 | M33: =SUM(M31:P31) -> 37.324687 | Q33: =SUM(Q31:R31) -> 38.320229
A34: סך פליטות לתקופה (מהוון( [אלפי טון] | B34: =SUM(B32:C32) -> 25.677237 | D34: =SUM(D32:E32) -> 24.386012 | F34: =SUM(F32:H32) -> 21.78974 | I34: =SUM(I32:L32) -> 22.110519 | M34: =SUM(M32:P32) -> 22.024966 | Q34: =SUM(Q32:R32) -> 22.760072
A35: הפרש פליטות ביחס למדיניות קיימת [אלפי טון] | B35: =B33-D33 -> 2.0273434 | D35: 0 | F35: =F33-D33 -> -4.4290396 | I35: =I33-D33 -> -3.8856021 | M35: =M33-D33 -> -4.0402814 | Q35: =Q33-D33 -> -3.0447401
A36: הפרש פליטות ביחס למדיניות קיימת (מהוון) [אלפיי טון] | B36: =B34-D34 -> 1.2912251 | D36: 0 | F36: =F34-D34 -> -2.5962723 | I36: =I34-D34 -> -2.2754924 | M36: =M34-D34 -> -2.3610458 | Q36: =Q34-D34 -> -1.6259398
A38: פליטות מזהמים ממוצע לשנה
B39: סגירת 1-4 ללא מדיניות הפחתה | D39: סגירת 1-4 עם מדיניות הפחתה | F39: הסבה | I39: שימור | M39: גריטה | Q39: 25% מתחדשות
A40: זיהום שנתי ממוצע (אלפי טון) | B40: =B32/($A30-$A5+1) -> 0.35624265 | D40: =D32/($A30-$A5+1) -> 0.25132187 | F40: =F32/($A30-$A5+1) -> 0.069215202 | I40: =I32/($A30-$A5+1) -> 0.066422702 | M40: =M32/($A30-$A5+1) -> 0.059470905 | Q40: =Q32/($A30-$A5+1) -> 0.25132187
A41: פליטות לקוט"ש לתקופה(גר'/קוטש) | B41: =B32/'תמהיל יצור'!$C$30 -> 0.0033777028 | D41: =D32/'תמהיל יצור'!$C$30 -> 0.0023828999 | F41: =F32/'תמהיל יצור'!$C$30 -> 0.00065626164 | I41: =I32/'תמהיל יצור'!$C$30 -> 0.00062978464 | M41: =M32/'תמהיל יצור'!$C$30 -> 0.00056387141 | Q41: =Q32/'תמהיל יצור'!$C$30 -> 0.0023828999
A43: פליטות לנפש - 2030
A44: גודל אוכלוסייה ב-2030 | B44: ='הנחות עבודה'!B54 -> 11.1
B45: סגירת 1-4 ללא מדיניות הפחתה | D45: סגירת 1-4 עם מדיניות הפחתה | F45: הסבה | I45: שימור | M45: גריטה | Q45: 25% מתחדשות
A46: אלפי טון ב-2030 | B46: =B15+C15 -> 1.5621607 | D46: =D15+E15 -> 1.4763739 | F46: =H15+G15+F15 -> 1.2489065 | I46: =J15+I15+K15+L15 -> 1.2793195 | M46: =N15+M15+O15+P15 -> 1.2708847 | Q46: =R15+Q15 -> 1.353879
A47: פליטות לנפש 2030 [ק"ג לנפש] | B47: =(B15+C15)/$B$44 -> 0.1407352 | D47: =(D15+E15)/$B$44 -> 0.13300666 | F47: =(H15+G15+F15)/B44 -> 0.1125141 | I47: =(I15+J15)/$B$44 -> 0.090507791 | M47: =(M15+N15)/$B$44 -> 0.089747899 | Q47: =(Q15+R15)/$B$44 -> 0.12197108
A49: פליטות לנפש - 2040
A50: גודל אוכלוסייה ב-2040 | B50: ='הנחות עבודה'!B55 -> 13.2
B51: סגירת 1-4 ללא מדיניות הפחתה | D51: סגירת 1-4 עם מדיניות הפחתה | F51: הסבה | I51: שימור | M51: גריטה | Q51: 25% מתחדשות
A52: אלפי טון ב 2040 | B52: =B25+C25 -> 1.8516194 | D52: =D25+E25 -> 1.7948488 | F52: =F25+G25+H25 -> 1.6515744 | I52: =I25+J25+K25+L25 -> 1.667298 | M52: =N25+M25+O25+P25 -> 1.6588632 | Q52: =Q25+R25 -> 1.6349583
A53: פליטות לנפש 2040 (ק״ג לנפש) | B53: =B52/B50 -> 0.1402742 | D53: =D52/B50 -> 0.13597339 | F53: =F52/B50 -> 0.12511927 | I53: =I52/B50 -> 0.12631046 | M53: =M52/B50 -> 0.12567146 | Q53: =Q52/B50 -> 0.12386048
A56: נתוני פליטות סגלויות
B57: פליטות חלקיקים [Ton/TWh]
A58: יחידה פחמית לאחר הפחתת פליטות | B58: ='הנחות עבודה'!E91*1000 -> 30
A59: יחידה פחמית לאחר הסבה לגז עם הפחתת פליטות | B59: ='הנחות עבודה'!E92*1000 -> 13
A60: ='הנחות עבודה'!A79 -> יחידת גז משוקללת | B60: ='הנחות עבודה'!E93*1000 -> 15.8
A62: פליטות היסטוריות
A63: פליטות ממוצעות לקוט"ש 2015 | B63: 2.3
A64: פליטות ממוצעיות לקוט"ש 2017 | B64: 1.9

Sheet  עלויות חח"י
A1: עלות הון חח״י - השקעה ראשונית ליישום החלופות
A2: הסבה לגז | E2: עלות השימור | I2: עלות גריטה
A3: הוספת FGR ומערך מובילים (מליוני $) | C3: 2 | E3: עלות השקעה בשימור 2 יחידות - חד פעמי (מלש"ח) | G3: 98.1 | I3: עלות גריטת 2 יחידות (מלש"ח)** | K3: 111.01103
A4: התאמת מערכת הבקרה והחשמל, החלפת ציוד (מליוני $) | C4: 9.5 | E4: עלויות פרישת עובדים ל 2 יחידות | G4: 146.531 | I4: עלויות פרישת עובדים ל 2 יחידות | K4: 266.42
A5: הסבת דוודים לגז (מליוני $) | C5: 16.5 | E5: סה"כ עלות שימור והקמה ל 2 יחידות | G5: =SUM(G3:G4) -> 244.631 | I5: סה"כ עלות גריטה והקמה ל 2 יחידות | K5: =SUM(K3:K4) -> 377.43103
A6: קטליסט (מליוני $) | C6: 5 | E6: השקעה כוללת בשימור ל -6 יחידות (מלש"ח) | G6: =+G5*3 -> 733.893 | I6: עלות גריטה כוללת ל 6 יחידות (מלש"ח) | K6: =K5/2*6 -> 1132.2931
A7: עלות PRMS (מליוני $) | C7: =25/3.6 -> 6.9444444 | E7: השקעה כוללת בשימור ל- 6 יחידות מהוון ל 2019 (מלש"ח) | G7: =G14 -> 558.85963 | I7: עלות גריטה כוללת ל 6 יחידות מהוון ל 2019 (מלש"ח) | K7: =K14 -> 859.56836
A8: עלות להחלפת משחנים (מליוני $) | C8: 22
A9: סך עלות ליחידה (מליוני $) | C9: =SUM(C3:C8) -> 61.944444 | E9: שנה | F9: עלות שימור נומינלי | G9: מהוון | I9: שנה | J9: עלות גריטה נומינלי | K9: מהוון
A10: סך עלות ל 6 יחידות (מליוני $) | C10: =+C9*6 -> 371.66667 | E10: 2019 | I10: 2019
A11: עלות ל 6 יחידות (מליוני ש"ח) | C11: =+(C10)*'הנחות עבודה'!$B$36 -> 1338 | E11: ='הנחות עבודה'!M5 -> 2024 | F11: =+('הנחות עבודה'!$I$8-'הספק לפי חלופה'!$K$8)/'הנחות עבודה'!$I$8*$G$6 -> 248.22851 | G11: =+F11/(1+$F$20)^($E11-$E$10) -> 204.02574 | I11: =E11 -> 2024 | J11: =+('הנחות עבודה'!$I$8-'הספק לפי חלופה'!$O$8)/'הנחות עבודה'!$I$8*$K$6 -> 382.98148 | K11: =+J11/(1+$F$20)^($I11-$I$10) -> 314.78286
A12: עלויות פרישת עובדים (מיליוני ש"ח) | C12: 166 | E12: ='הנחות עבודה'!M4 -> 2026 | F12: =+('הנחות עבודה'!$I$8-'הספק לפי חלופה'!$L$10)/'הנחות עבודה'!$I$8*$G$6 -> 237.43597 | G12: =+F12/(1+$F$20)^($E12-$E$10) -> 180.43182 | I12: =E12 -> 2026 | J12: =+('הנחות עבודה'!$I$8-'הספק לפי חלופה'!$P$10)/'הנחות עבודה'!$I$8*$K$6 -> 319.70628 | K12: =+J12/(1+$F$20)^($I12-$I$10) -> 242.9505
A13: סך עלות ל 6 יחידות נומינלי (מליוני ש"ח) | C13: =SUM(C11:C12) -> 1504 | E13: ='הנחות עבודה'!M6 -> 2028 | F13: =+G6-F12-F11 -> 248.22851 | G13: =+F13/(1+$F$20)^($E13-$E$10) -> 174.40206 | I13: =E13 -> 2028 | J13: =+K6-J12-J11 -> 429.60532 | K13: =+J13/(1+$F$20)^($I13-$I$10) -> 301.835
A14: סך עלות ל 6 יחידות מהון (מליוני ש״ח | C14: =C21 -> 1238.7524 | E14: סה"כ | F14: =SUM(F11:F13) -> 733.893 | G14: =SUM(G11:G13) -> 558.85963 | I14: סה"כ | J14: =SUM(J11:J13) -> 1132.2931 | K14: =SUM(K11:K13) -> 859.56836
A16: שנה | B16: עלות הסבה נומינלי | C16: מהוון
A17: 2019
A18: 2022 | B18: =+('הנחות עבודה'!$I$8-'הספק לפי חלופה'!$H$6)/'הנחות עבודה'!$I$8*$C$13 -> 508.70588 | C18: =+B18/(1+$F$20)^($A18-$A$17) -> 452.23768 | E18: *המקור לנתוני פרישת עובדי חח"י -הערכות חח"י
A19: 2024 | B19: =+('הנחות עבודה'!$I$8-'הספק לפי חלופה'!$I$8)/'הנחות עבודה'!$I$8*$C$13 -> 486.58824 | C19: =+B19/(1+$F$20)^($A19-$A$17) -> 399.94006 | E19: **עלות גריטה על בסיס עיבודי רשות החשמל
A20: 2026 | B20: =+C13-B19-B18 -> 508.70588 | C20: =+B20/(1+$F$20)^($A20-$A$17) -> 386.57466 | E20: ריבית היוון | F20: =+'הנחות עבודה'!B37 -> 0.04
A21: סה"כ | B21: =SUM(B18:B20) -> 1504 | C21: =SUM(C18:C20) -> 1238.7524

Sheet עלויות הקמת יחידות חדשות
A1: עלות הקמת יחידות חדשות
F2: הקמת הספק MW | I2: עלות הקמת הספק- מלש"ח | L2: תזרים תשלומים- מלש"ח
A3: הנחות עבודה | E3: שנה | F3: שימור/גריטה | G3: המשך מדיניות | H3: הסבה | I3: שימור/גריטה | J3: המשך מדיניות | K3: הסבה | L3: שימור/גריטה | M3: המשך מדיניות | N3: הסבה
A4: % ריבית היוון שנתית | B4: ='הנחות עבודה'!B37 -> 0.04 | E4: 2019 | F4: =IF(AND(MOD($E4,B$9)<$B$8*B$11,MOD($E4-B$9,B$11)=0),$B$7/$B$8,0)+IF(AND(MOD(MOD($E4,B$9),$B$6+1)<$B$8*B$11,MOD($E4-(B$9+$B$6+1),B$11)=0),$B$7/$B$8,0)*(IF($E4-B$9<$B$8*B$11,0,1)) -> 0 | G4: =IF(AND(MOD($E4,B$10)<$B$8*B$12,MOD($E4-B$10,B$12)=0),$B$7/$B$8,0)+IF(AND(MOD(MOD($E4,B$10),$B$6+1)<$B$8*B$12,MOD($E4-(B$10+$B$6+1),B$12)=0),$B$7/$B$8,0)*(IF($E4-B$10<$B$8*B$12,0,1)) -> 0 | H4: =G4 -> 0 | I4: =F4*$B$5*1000/10^6 -> 0 | J4: =G4*$B$5*1000/10^6 -> 0 | K4: =H4*$B$5*1000/10^6 -> 0 | L4: =-PMT($B$4,$B$6,SUMIFS(I$4:I$30,$E$4:$E$30,">"&($E4-$B$6),$E$4:$E$30,"<="&$E4)) -> 0 | M4: =-PMT($B$4,$B$6,SUMIFS(J$4:J$30,$E$4:$E$30,">"&($E4-$B$6),$E$4:$E$30,"<="&$E4)) -> 0 | N4: =-PMT($B$4,$B$6,SUMIFS(K$4:K$30,$E$4:$E$30,">"&($E4-$B$6),$E$4:$E$30,"<="&$E4)) -> 0
A5: עלות ב-₪ לקוו"ט ליחידת יצור משוקללת בגז | B5: ='הנחות עבודה'!E8 -> 3785.2673 | E5: =+E4+1 -> 2020 | F5: =IF(AND(MOD($E5,B$9)<$B$8*B$11,MOD($E5-B$9,B$11)=0),$B$7/$B$8,0)+IF(AND(MOD(MOD($E5,B$9),$B$6+1)<$B$8*B$11,MOD($E5-(B$9+$B$6+1),B$11)=0),$B$7/$B$8,0)*(IF($E5-B$9<$B$8*B$11,0,1)) -> 0 | G5: =IF(AND(MOD($E5,B$10)<$B$8*B$12,MOD($E5-B$10,B$12)=0),$B$7/$B$8,0)+IF(AND(MOD(MOD($E5,B$10),$B$6+1)<$B$8*B$12,MOD($E5-(B$10+$B$6+1),B$12)=0),$B$7/$B$8,0)*(IF($E5-B$10<$B$8*B$12,0,1)) -> 0 | H5: =G5 -> 0 | I5: =F5*$B$5*1000/10^6 -> 0 | J5: =G5*$B$5*1000/10^6 -> 0 | K5: =H5*$B$5*1000/10^6 -> 0 | L5: =-PMT($B$4,$B$6,SUMIFS(I$4:I$30,$E$4:$E$30,">"&($E5-$B$6),$E$4:$E$30,"<="&$E5)) -> 0 | M5: =-PMT($B$4,$B$6,SUMIFS(J$4:J$30,$E$4:$E$30,">"&($E5-$B$6),$E$4:$E$30,"<="&$E5)) -> 0 | N5: =-PMT($B$4,$B$6,SUMIFS(K$4:K$30,$E$4:$E$30,">"&($E5-$B$6),$E$4:$E$30,"<="&$E5)) -> 0
A6: אורך חיי יחידת ייצור בשנים | B6: ='הנחות עבודה'!E23 -> 25 | E6: =+E5+1 -> 2021 | F6: =IF(AND(MOD($E6,B$9)<$B$8*B$11,MOD($E6-B$9,B$11)=0),$B$7/$B$8,0)+IF(AND(MOD(MOD($E6,B$9),$B$6+1)<$B$8*B$11,MOD($E6-(B$9+$B$6+1),B$11)=0),$B$7/$B$8,0)*(IF($E6-B$9<$B$8*B$11,0,1)) -> 0 | G6: =IF(AND(MOD($E6,B$10)<$B$8*B$12,MOD($E6-B$10,B$12)=0),$B$7/$B$8,0)+IF(AND(MOD(MOD($E6,B$10),$B$6+1)<$B$8*B$12,MOD($E6-(B$10+$B$6+1),B$12)=0),$B$7/$B$8,0)*(IF($E6-B$10<$B$8*B$12,0,1)) -> 0 | H6: =G6 -> 0 | I6: =F6*$B$5*1000/10^6 -> 0 | J6: =G6*$B$5*1000/10^6 -> 0 | K6: =H6*$B$5*1000/10^6 -> 0 | L6: =-PMT($B$4,$B$6,SUMIFS(I$4:I$30,$E$4:$E$30,">"&($E6-$B$6),$E$4:$E$30,"<="&$E6)) -> 0 | M6: =-PMT($B$4,$B$6,SUMIFS(J$4:J$30,$E$4:$E$30,">"&($E6-$B$6),$E$4:$E$30,"<="&$E6)) -> 0 | N6: =-PMT($B$4,$B$6,SUMIFS(K$4:K$30,$E$4:$E$30,">"&($E6-$B$6),$E$4:$E$30,"<="&$E6)) -> 0
A7: הספק מותקן נדרש להקמהMW | B7: ='הנחות עבודה'!E22 -> 3660 | E7: =+E6+1 -> 2022 | F7: =IF(AND(MOD($E7,B$9)<$B$8*B$11,MOD($E7-B$9,B$11)=0),$B$7/$B$8,0)+IF(AND(MOD(MOD($E7,B$9),$B$6+1)<$B$8*B$11,MOD($E7-(B$9+$B$6+1),B$11)=0),$B$7/$B$8,0)*(IF($E7-B$9<$B$8*B$11,0,1)) -> 0 | G7: =IF(AND(MOD($E7,B$10)<$B$8*B$12,MOD($E7-B$10,B$12)=0),$B$7/$B$8,0)+IF(AND(MOD(MOD($E7,B$10),$B$6+1)<$B$8*B$12,MOD($E7-(B$10+$B$6+1),B$12)=0),$B$7/$B$8,0)*(IF($E7-B$10<$B$8*B$12,0,1)) -> 0 | H7: =G7 -> 0 | I7: =F7*$B$5*1000/10^6 -> 0 | J7: =G7*$B$5*1000/10^6 -> 0 | K7: =H7*$B$5*1000/10^6 -> 0 | L7: =-PMT($B$4,$B$6,SUMIFS(I$4:I$30,$E$4:$E$30,">"&($E7-$B$6),$E$4:$E$30,"<="&$E7)) -> 0 | M7: =-PMT($B$4,$B$6,SUMIFS(J$4:J$30,$E$4:$E$30,">"&($E7-$B$6),$E$4:$E$30,"<="&$E7)) -> 0 | N7: =-PMT($B$4,$B$6,SUMIFS(K$4:K$30,$E$4:$E$30,">"&($E7-$B$6),$E$4:$E$30,"<="&$E7)) -> 0
A8: מס יחידות ייצור | B8: 3 | E8: =+E7+1 -> 2023 | F8: =IF(AND(MOD($E8,B$9)<$B$8*B$11,MOD($E8-B$9,B$11)=0),$B$7/$B$8,0)+IF(AND(MOD(MOD($E8,B$9),$B$6+1)<$B$8*B$11,MOD($E8-(B$9+$B$6+1),B$11)=0),$B$7/$B$8,0)*(IF($E8-B$9<$B$8*B$11,0,1)) -> 0 | G8: =IF(AND(MOD($E8,B$10)<$B$8*B$12,MOD($E8-B$10,B$12)=0),$B$7/$B$8,0)+IF(AND(MOD(MOD($E8,B$10),$B$6+1)<$B$8*B$12,MOD($E8-(B$10+$B$6+1),B$12)=0),$B$7/$B$8,0)*(IF($E8-B$10<$B$8*B$12,0,1)) -> 0 | H8: =G8 -> 0 | I8: =F8*$B$5*1000/10^6 -> 0 | J8: =G8*$B$5*1000/10^6 -> 0 | K8: =H8*$B$5*1000/10^6 -> 0 | L8: =-PMT($B$4,$B$6,SUMIFS(I$4:I$30,$E$4:$E$30,">"&($E8-$B$6),$E$4:$E$30,"<="&$E8)) -> 0 | M8: =-PMT($B$4,$B$6,SUMIFS(J$4:J$30,$E$4:$E$30,">"&($E8-$B$6),$E$4:$E$30,"<="&$E8)) -> 0 | N8: =-PMT($B$4,$B$6,SUMIFS(K$4:K$30,$E$4:$E$30,">"&($E8-$B$6),$E$4:$E$30,"<="&$E8)) -> 0
A9: חלופת שימור /גריטה - שנת הקמה | B9: 2024 | E9: =+E8+1 -> 2024 | F9: =IF(AND(MOD($E9,B$9)<$B$8*B$11,MOD($E9-B$9,B$11)=0),$B$7/$B$8,0)+IF(AND(MOD(MOD($E9,B$9),$B$6+1)<$B$8*B$11,MOD($E9-(B$9+$B$6+1),B$11)=0),$B$7/$B$8,0)*(IF($E9-B$9<$B$8*B$11,0,1)) -> 1220 | G9: =IF(AND(MOD($E9,B$10)<$B$8*B$12,MOD($E9-B$10,B$12)=0),$B$7/$B$8,0)+IF(AND(MOD(MOD($E9,B$10),$B$6+1)<$B$8*B$12,MOD($E9-(B$10+$B$6+1),B$12)=0),$B$7/$B$8,0)*(IF($E9-B$10<$B$8*B$12,0,1)) -> 0 | H9: =G9 -> 0 | I9: =F9*$B$5*1000/10^6 -> 4618.0261 | J9: =G9*$B$5*1000/10^6 -> 0 | K9: =H9*$B$5*1000/10^6 -> 0 | L9: =-PMT($B$4,$B$6,SUMIFS(I$4:I$30,$E$4:$E$30,">"&($E9-$B$6),$E$4:$E$30,"<="&$E9)) -> 295.60892 | M9: =-PMT($B$4,$B$6,SUMIFS(J$4:J$30,$E$4:$E$30,">"&($E9-$B$6),$E$4:$E$30,"<="&$E9)) -> 0 | N9: =-PMT($B$4,$B$6,SUMIFS(K$4:K$30,$E$4:$E$30,">"&($E9-$B$6),$E$4:$E$30,"<="&$E9)) -> 0
A10: חלופת המשך מדיניות - שנת הקמה | B10: 2040 | E10: =+E9+1 -> 2025 | F10: =IF(AND(MOD($E10,B$9)<$B$8*B$11,MOD($E10-B$9,B$11)=0),$B$7/$B$8,0)+IF(AND(MOD(MOD($E10,B$9),$B$6+1)<$B$8*B$11,MOD($E10-(B$9+$B$6+1),B$11)=0),$B$7/$B$8,0)*(IF($E10-B$9<$B$8*B$11,0,1)) -> 0 | G10: =IF(AND(MOD($E10,B$10)<$B$8*B$12,MOD($E10-B$10,B$12)=0),$B$7/$B$8,0)+IF(AND(MOD(MOD($E10,B$10),$B$6+1)<$B$8*B$12,MOD($E10-(B$10+$B$6+1),B$12)=0),$B$7/$B$8,0)*(IF($E10-B$10<$B$8*B$12,0,1)) -> 0 | H10: =G10 -> 0 | I10: =F10*$B$5*1000/10^6 -> 0 | J10: =G10*$B$5*1000/10^6 -> 0 | K10: =H10*$B$5*1000/10^6 -> 0 | L10: =-PMT($B$4,$B$6,SUMIFS(I$4:I$30,$E$4:$E$30,">"&($E10-$B$6),$E$4:$E$30,"<="&$E10)) -> 295.60892 | M10: =-PMT($B$4,$B$6,SUMIFS(J$4:J$30,$E$4:$E$30,">"&($E10-$B$6),$E$4:$E$30,"<="&$E10)) -> 0 | N10: =-PMT($B$4,$B$6,SUMIFS(K$4:K$30,$E$4:$E$30,">"&($E10-$B$6),$E$4:$E$30,"<="&$E10)) -> 0
A11: חלופת שימור/ גריטה זמן להקמת יחידה נוספת בשנים | B11: 2 | E11: =+E10+1 -> 2026 | F11: =IF(AND(MOD($E11,B$9)<$B$8*B$11,MOD($E11-B$9,B$11)=0),$B$7/$B$8,0)+IF(AND(MOD(MOD($E11,B$9),$B$6+1)<$B$8*B$11,MOD($E11-(B$9+$B$6+1),B$11)=0),$B$7/$B$8,0)*(IF($E11-B$9<$B$8*B$11,0,1)) -> 1220 | G11: =IF(AND(MOD($E11,B$10)<$B$8*B$12,MOD($E11-B$10,B$12)=0),$B$7/$B$8,0)+IF(AND(MOD(MOD($E11,B$10),$B$6+1)<$B$8*B$12,MOD($E11-(B$10+$B$6+1),B$12)=0),$B$7/$B$8,0)*(IF($E11-B$10<$B$8*B$12,0,1)) -> 0 | H11: =G11 -> 0 | I11: =F11*$B$5*1000/10^6 -> 4618.0261 | J11: =G11*$B$5*1000/10^6 -> 0 | K11: =H11*$B$5*1000/10^6 -> 0 | L11: =-PMT($B$4,$B$6,SUMIFS(I$4:I$30,$E$4:$E$30,">"&($E11-$B$6),$E$4:$E$30,"<="&$E11)) -> 591.21784 | M11: =-PMT($B$4,$B$6,SUMIFS(J$4:J$30,$E$4:$E$30,">"&($E11-$B$6),$E$4:$E$30,"<="&$E11)) -> 0 | N11: =-PMT($B$4,$B$6,SUMIFS(K$4:K$30,$E$4:$E$30,">"&($E11-$B$6),$E$4:$E$30,"<="&$E11)) -> 0
A12: חלופת המשך מדיניות /הסבה זמן להקמת יחידה נוספת בשנים | B12: 5 | E12: =+E11+1 -> 2027 | F12: =IF(AND(MOD($E12,B$9)<$B$8*B$11,MOD($E12-B$9,B$11)=0),$B$7/$B$8,0)+IF(AND(MOD(MOD($E12,B$9),$B$6+1)<$B$8*B$11,MOD($E12-(B$9+$B$6+1),B$11)=0),$B$7/$B$8,0)*(IF($E12-B$9<$B$8*B$11,0,1)) -> 0 | G12: =IF(AND(MOD($E12,B$10)<$B$8*B$12,MOD($E12-B$10,B$12)=0),$B$7/$B$8,0)+IF(AND(MOD(MOD($E12,B$10),$B$6+1)<$B$8*B$12,MOD($E12-(B$10+$B$6+1),B$12)=0),$B$7/$B$8,0)*(IF($E12-B$10<$B$8*B$12,0,1)) -> 0 | H12: =G12 -> 0 | I12: =F12*$B$5*1000/10^6 -> 0 | J12: =G12*$B$5*1000/10^6 -> 0 | K12: =H12*$B$5*1000/10^6 -> 0 | L12: =-PMT($B$4,$B$6,SUMIFS(I$4:I$30,$E$4:$E$30,">"&($E12-$B$6),$E$4:$E$30,"<="&$E12)) -> 591.21784 | M12: =-PMT($B$4,$B$6,SUMIFS(J$4:J$30,$E$4:$E$30,">"&($E12-$B$6),$E$4:$E$30,"<="&$E12)) -> 0 | N12: =-PMT($B$4,$B$6,SUMIFS(K$4:K$30,$E$4:$E$30,">"&($E12-$B$6),$E$4:$E$30,"<="&$E12)) -> 0
E13: =+E12+1 -> 2028 | F13: =IF(AND(MOD($E13,B$9)<$B$8*B$11,MOD($E13-B$9,B$11)=0),$B$7/$B$8,0)+IF(AND(MOD(MOD($E13,B$9),$B$6+1)<$B$8*B$11,MOD($E13-(B$9+$B$6+1),B$11)=0),$B$7/$B$8,0)*(IF($E13-B$9<$B$8*B$11,0,1)) -> 1220 | G13: =IF(AND(MOD($E13,B$10)<$B$8*B$12,MOD($E13-B$10,B$12)=0),$B$7/$B$8,0)+IF(AND(MOD(MOD($E13,B$10),$B$6+1)<$B$8*B$12,MOD($E13-(B$10+$B$6+1),B$12)=0),$B$7/$B$8,0)*(IF($E13-B$10<$B$8*B$12,0,1)) -> 0 | H13: =G13 -> 0 | I13: =F13*$B$5*1000/10^6 -> 4618.0261 | J13: =G13*$B$5*1000/10^6 -> 0 | K13: =H13*$B$5*1000/10^6 -> 0 | L13: =-PMT($B$4,$B$6,SUMIFS(I$4:I$30,$E$4:$E$30,">"&($E13-$B$6),$E$4:$E$30,"<="&$E13)) -> 886.82675 | M13: =-PMT($B$4,$B$6,SUMIFS(J$4:J$30,$E$4:$E$30,">"&($E13-$B$6),$E$4:$E$30,"<="&$E13)) -> 0 | N13: =-PMT($B$4,$B$6,SUMIFS(K$4:K$30,$E$4:$E$30,">"&($E13-$B$6),$E$4:$E$30,"<="&$E13)) -> 0
E14: =+E13+1 -> 2029 | F14: =IF(AND(MOD($E14,B$9)<$B$8*B$11,MOD($E14-B$9,B$11)=0),$B$7/$B$8,0)+IF(AND(MOD(MOD($E14,B$9),$B$6+1)<$B$8*B$11,MOD($E14-(B$9+$B$6+1),B$11)=0),$B$7/$B$8,0)*(IF($E14-B$9<$B$8*B$11,0,1)) -> 0 | G14: =IF(AND(MOD($E14,B$10)<$B$8*B$12,MOD($E14-B$10,B$12)=0),$B$7/$B$8,0)+IF(AND(MOD(MOD($E14,B$10),$B$6+1)<$B$8*B$12,MOD($E14-(B$10+$B$6+1),B$12)=0),$B$7/$B$8,0)*(IF($E14-B$10<$B$8*B$12,0,1)) -> 0 | H14: =G14 -> 0 | I14: =F14*$B$5*1000/10^6 -> 0 | J14: =G14*$B$5*1000/10^6 -> 0 | K14: =H14*$B$5*1000/10^6 -> 0 | L14: =-PMT($B$4,$B$6,SUMIFS(I$4:I$30,$E$4:$E$30,">"&($E14-$B$6),$E$4:$E$30,"<="&$E14)) -> 886.82675 | M14: =-PMT($B$4,$B$6,SUMIFS(J$4:J$30,$E$4:$E$30,">"&($E14-$B$6),$E$4:$E$30,"<="&$E14)) -> 0 | N14: =-PMT($B$4,$B$6,SUMIFS(K$4:K$30,$E$4:$E$30,">"&($E14-$B$6),$E$4:$E$30,"<="&$E14)) -> 0
A15: עודף עלות בחלופת שימור/ גריטה | B15: =L31-M31 -> 8747.1857 | E15: =+E14+1 -> 2030 | F15: =IF(AND(MOD($E15,B$9)<$B$8*B$11,MOD($E15-B$9,B$11)=0),$B$7/$B$8,0)+IF(AND(MOD(MOD($E15,B$9),$B$6+1)<$B$8*B$11,MOD($E15-(B$9+$B$6+1),B$11)=0),$B$7/$B$8,0)*(IF($E15-B$9<$B$8*B$11,0,1)) -> 0 | G15: =IF(AND(MOD($E15,B$10)<$B$8*B$12,MOD($E15-B$10,B$12)=0),$B$7/$B$8,0)+IF(AND(MOD(MOD($E15,B$10),$B$6+1)<$B$8*B$12,MOD($E15-(B$10+$B$6+1),B$12)=0),$B$7/$B$8,0)*(IF($E15-B$10<$B$8*B$12,0,1)) -> 0 | H15: =G15 -> 0 | I15: =F15*$B$5*1000/10^6 -> 0 | J15: =G15*$B$5*1000/10^6 -> 0 | K15: =H15*$B$5*1000/10^6 -> 0 | L15: =-PMT($B$4,$B$6,SUMIFS(I$4:I$30,$E$4:$E$30,">"&($E15-$B$6),$E$4:$E$30,"<="&$E15)) -> 886.82675 | M15: =-PMT($B$4,$B$6,SUMIFS(J$4:J$30,$E$4:$E$30,">"&($E15-$B$6),$E$4:$E$30,"<="&$E15)) -> 0 | N15: =-PMT($B$4,$B$6,SUMIFS(K$4:K$30,$E$4:$E$30,">"&($E15-$B$6),$E$4:$E$30,"<="&$E15)) -> 0
A16: עודף עלות בחלופת הסבה | B16: =N32 -> 0 | E16: =+E15+1 -> 2031 | F16: =IF(AND(MOD($E16,B$9)<$B$8*B$11,MOD($E16-B$9,B$11)=0),$B$7/$B$8,0)+IF(AND(MOD(MOD($E16,B$9),$B$6+1)<$B$8*B$11,MOD($E16-(B$9+$B$6+1),B$11)=0),$B$7/$B$8,0)*(IF($E16-B$9<$B$8*B$11,0,1)) -> 0 | G16: =IF(AND(MOD($E16,B$10)<$B$8*B$12,MOD($E16-B$10,B$12)=0),$B$7/$B$8,0)+IF(AND(MOD(MOD($E16,B$10),$B$6+1)<$B$8*B$12,MOD($E16-(B$10+$B$6+1),B$12)=0),$B$7/$B$8,0)*(IF($E16-B$10<$B$8*B$12,0,1)) -> 0 | H16: =G16 -> 0 | I16: =F16*$B$5*1000/10^6 -> 0 | J16: =G16*$B$5*1000/10^6 -> 0 | K16: =H16*$B$5*1000/10^6 -> 0 | L16: =-PMT($B$4,$B$6,SUMIFS(I$4:I$30,$E$4:$E$30,">"&($E16-$B$6),$E$4:$E$30,"<="&$E16)) -> 886.82675 | M16: =-PMT($B$4,$B$6,SUMIFS(J$4:J$30,$E$4:$E$30,">"&($E16-$B$6),$E$4:$E$30,"<="&$E16)) -> 0 | N16: =-PMT($B$4,$B$6,SUMIFS(K$4:K$30,$E$4:$E$30,">"&($E16-$B$6),$E$4:$E$30,"<="&$E16)) -> 0
E17: =+E16+1 -> 2032 | F17: =IF(AND(MOD($E17,B$9)<$B$8*B$11,MOD($E17-B$9,B$11)=0),$B$7/$B$8,0)+IF(AND(MOD(MOD($E17,B$9),$B$6+1)<$B$8*B$11,MOD($E17-(B$9+$B$6+1),B$11)=0),$B$7/$B$8,0)*(IF($E17-B$9<$B$8*B$11,0,1)) -> 0 | G17: =IF(AND(MOD($E17,B$10)<$B$8*B$12,MOD($E17-B$10,B$12)=0),$B$7/$B$8,0)+IF(AND(MOD(MOD($E17,B$10),$B$6+1)<$B$8*B$12,MOD($E17-(B$10+$B$6+1),B$12)=0),$B$7/$B$8,0)*(IF($E17-B$10<$B$8*B$12,0,1)) -> 0 | H17: =G17 -> 0 | I17: =F17*$B$5*1000/10^6 -> 0 | J17: =G17*$B$5*1000/10^6 -> 0 | K17: =H17*$B$5*1000/10^6 -> 0 | L17: =-PMT($B$4,$B$6,SUMIFS(I$4:I$30,$E$4:$E$30,">"&($E17-$B$6),$E$4:$E$30,"<="&$E17)) -> 886.82675 | M17: =-PMT($B$4,$B$6,SUMIFS(J$4:J$30,$E$4:$E$30,">"&($E17-$B$6),$E$4:$E$30,"<="&$E17)) -> 0 | N17: =-PMT($B$4,$B$6,SUMIFS(K$4:K$30,$E$4:$E$30,">"&($E17-$B$6),$E$4:$E$30,"<="&$E17)) -> 0
E18: =+E17+1 -> 2033 | F18: =IF(AND(MOD($E18,B$9)<$B$8*B$11,MOD($E18-B$9,B$11)=0),$B$7/$B$8,0)+IF(AND(MOD(MOD($E18,B$9),$B$6+1)<$B$8*B$11,MOD($E18-(B$9+$B$6+1),B$11)=0),$B$7/$B$8,0)*(IF($E18-B$9<$B$8*B$11,0,1)) -> 0 | G18: =IF(AND(MOD($E18,B$10)<$B$8*B$12,MOD($E18-B$10,B$12)=0),$B$7/$B$8,0)+IF(AND(MOD(MOD($E18,B$10),$B$6+1)<$B$8*B$12,MOD($E18-(B$10+$B$6+1),B$12)=0),$B$7/$B$8,0)*(IF($E18-B$10<$B$8*B$12,0,1)) -> 0 | H18: =G18 -> 0 | I18: =F18*$B$5*1000/10^6 -> 0 | J18: =G18*$B$5*1000/10^6 -> 0 | K18: =H18*$B$5*1000/10^6 -> 0 | L18: =-PMT($B$4,$B$6,SUMIFS(I$4:I$30,$E$4:$E$30,">"&($E18-$B$6),$E$4:$E$30,"<="&$E18)) -> 886.82675 | M18: =-PMT($B$4,$B$6,SUMIFS(J$4:J$30,$E$4:$E$30,">"&($E18-$B$6),$E$4:$E$30,"<="&$E18)) -> 0 | N18: =-PMT($B$4,$B$6,SUMIFS(K$4:K$30,$E$4:$E$30,">"&($E18-$B$6),$E$4:$E$30,"<="&$E18)) -> 0
E19: =+E18+1 -> 2034 | F19: =IF(AND(MOD($E19,B$9)<$B$8*B$11,MOD($E19-B$9,B$11)=0),$B$7/$B$8,0)+IF(AND(MOD(MOD($E19,B$9),$B$6+1)<$B$8*B$11,MOD($E19-(B$9+$B$6+1),B$11)=0),$B$7/$B$8,0)*(IF($E19-B$9<$B$8*B$11,0,1)) -> 0 | G19: =IF(AND(MOD($E19,B$10)<$B$8*B$12,MOD($E19-B$10,B$12)=0),$B$7/$B$8,0)+IF(AND(MOD(MOD($E19,B$10),$B$6+1)<$B$8*B$12,MOD($E19-(B$10+$B$6+1),B$12)=0),$B$7/$B$8,0)*(IF($E19-B$10<$B$8*B$12,0,1)) -> 0 | H19: =G19 -> 0 | I19: =F19*$B$5*1000/10^6 -> 0 | J19: =G19*$B$5*1000/10^6 -> 0 | K19: =H19*$B$5*1000/10^6 -> 0 | L19: =-PMT($B$4,$B$6,SUMIFS(I$4:I$30,$E$4:$E$30,">"&($E19-$B$6),$E$4:$E$30,"<="&$E19)) -> 886.82675 | M19: =-PMT($B$4,$B$6,SUMIFS(J$4:J$30,$E$4:$E$30,">"&($E19-$B$6),$E$4:$E$30,"<="&$E19)) -> 0 | N19: =-PMT($B$4,$B$6,SUMIFS(K$4:K$30,$E$4:$E$30,">"&($E19-$B$6),$E$4:$E$30,"<="&$E19)) -> 0
E20: =+E19+1 -> 2035 | F20: =IF(AND(MOD($E20,B$9)<$B$8*B$11,MOD($E20-B$9,B$11)=0),$B$7/$B$8,0)+IF(AND(MOD(MOD($E20,B$9),$B$6+1)<$B$8*B$11,MOD($E20-(B$9+$B$6+1),B$11)=0),$B$7/$B$8,0)*(IF($E20-B$9<$B$8*B$11,0,1)) -> 0 | G20: =IF(AND(MOD($E20,B$10)<$B$8*B$12,MOD($E20-B$10,B$12)=0),$B$7/$B$8,0)+IF(AND(MOD(MOD($E20,B$10),$B$6+1)<$B$8*B$12,MOD($E20-(B$10+$B$6+1),B$12)=0),$B$7/$B$8,0)*(IF($E20-B$10<$B$8*B$12,0,1)) -> 0 | H20: =G20 -> 0 | I20: =F20*$B$5*1000/10^6 -> 0 | J20: =G20*$B$5*1000/10^6 -> 0 | K20: =H20*$B$5*1000/10^6 -> 0 | L20: =-PMT($B$4,$B$6,SUMIFS(I$4:I$30,$E$4:$E$30,">"&($E20-$B$6),$E$4:$E$30,"<="&$E20)) -> 886.82675 | M20: =-PMT($B$4,$B$6,SUMIFS(J$4:J$30,$E$4:$E$30,">"&($E20-$B$6),$E$4:$E$30,"<="&$E20)) -> 0 | N20: =-PMT($B$4,$B$6,SUMIFS(K$4:K$30,$E$4:$E$30,">"&($E20-$B$6),$E$4:$E$30,"<="&$E20)) -> 0
E21: =+E20+1 -> 2036 | F21: =IF(AND(MOD($E21,B$9)<$B$8*B$11,MOD($E21-B$9,B$11)=0),$B$7/$B$8,0)+IF(AND(MOD(MOD($E21,B$9),$B$6+1)<$B$8*B$11,MOD($E21-(B$9+$B$6+1),B$11)=0),$B$7/$B$8,0)*(IF($E21-B$9<$B$8*B$11,0,1)) -> 0 | G21: =IF(AND(MOD($E21,B$10)<$B$8*B$12,MOD($E21-B$10,B$12)=0),$B$7/$B$8,0)+IF(AND(MOD(MOD($E21,B$10),$B$6+1)<$B$8*B$12,MOD($E21-(B$10+$B$6+1),B$12)=0),$B$7/$B$8,0)*(IF($E21-B$10<$B$8*B$12,0,1)) -> 0 | H21: =G21 -> 0 | I21: =F21*$B$5*1000/10^6 -> 0 | J21: =G21*$B$5*1000/10^6 -> 0 | K21: =H21*$B$5*1000/10^6 -> 0 | L21: =-PMT($B$4,$B$6,SUMIFS(I$4:I$30,$E$4:$E$30,">"&($E21-$B$6),$E$4:$E$30,"<="&$E21)) -> 886.82675 | M21: =-PMT($B$4,$B$6,SUMIFS(J$4:J$30,$E$4:$E$30,">"&($E21-$B$6),$E$4:$E$30,"<="&$E21)) -> 0 | N21: =-PMT($B$4,$B$6,SUMIFS(K$4:K$30,$E$4:$E$30,">"&($E21-$B$6),$E$4:$E$30,"<="&$E21)) -> 0
E22: =+E21+1 -> 2037 | F22: =IF(AND(MOD($E22,B$9)<$B$8*B$11,MOD($E22-B$9,B$11)=0),$B$7/$B$8,0)+IF(AND(MOD(MOD($E22,B$9),$B$6+1)<$B$8*B$11,MOD($E22-(B$9+$B$6+1),B$11)=0),$B$7/$B$8,0)*(IF($E22-B$9<$B$8*B$11,0,1)) -> 0 | G22: =IF(AND(MOD($E22,B$10)<$B$8*B$12,MOD($E22-B$10,B$12)=0),$B$7/$B$8,0)+IF(AND(MOD(MOD($E22,B$10),$B$6+1)<$B$8*B$12,MOD($E22-(B$10+$B$6+1),B$12)=0),$B$7/$B$8,0)*(IF($E22-B$10<$B$8*B$12,0,1)) -> 0 | H22: =G22 -> 0 | I22: =F22*$B$5*1000/10^6 -> 0 | J22: =G22*$B$5*1000/10^6 -> 0 | K22: =H22*$B$5*1000/10^6 -> 0 | L22: =-PMT($B$4,$B$6,SUMIFS(I$4:I$30,$E$4:$E$30,">"&($E22-$B$6),$E$4:$E$30,"<="&$E22)) -> 886.82675 | M22: =-PMT($B$4,$B$6,SUMIFS(J$4:J$30,$E$4:$E$30,">"&($E22-$B$6),$E$4:$E$30,"<="&$E22)) -> 0 | N22: =-PMT($B$4,$B$6,SUMIFS(K$4:K$30,$E$4:$E$30,">"&($E22-$B$6),$E$4:$E$30,"<="&$E22)) -> 0
E23: =+E22+1 -> 2038 | F23: =IF(AND(MOD($E23,B$9)<$B$8*B$11,MOD($E23-B$9,B$11)=0),$B$7/$B$8,0)+IF(AND(MOD(MOD($E23,B$9),$B$6+1)<$B$8*B$11,MOD($E23-(B$9+$B$6+1),B$11)=0),$B$7/$B$8,0)*(IF($E23-B$9<$B$8*B$11,0,1)) -> 0 | G23: =IF(AND(MOD($E23,B$10)<$B$8*B$12,MOD($E23-B$10,B$12)=0),$B$7/$B$8,0)+IF(AND(MOD(MOD($E23,B$10),$B$6+1)<$B$8*B$12,MOD($E23-(B$10+$B$6+1),B$12)=0),$B$7/$B$8,0)*(IF($E23-B$10<$B$8*B$12,0,1)) -> 0 | H23: =G23 -> 0 | I23: =F23*$B$5*1000/10^6 -> 0 | J23: =G23*$B$5*1000/10^6 -> 0 | K23: =H23*$B$5*1000/10^6 -> 0 | L23: =-PMT($B$4,$B$6,SUMIFS(I$4:I$30,$E$4:$E$30,">"&($E23-$B$6),$E$4:$E$30,"<="&$E23)) -> 886.82675 | M23: =-PMT($B$4,$B$6,SUMIFS(J$4:J$30,$E$4:$E$30,">"&($E23-$B$6),$E$4:$E$30,"<="&$E23)) -> 0 | N23: =-PMT($B$4,$B$6,SUMIFS(K$4:K$30,$E$4:$E$30,">"&($E23-$B$6),$E$4:$E$30,"<="&$E23)) -> 0
E24: =+E23+1 -> 2039 | F24: =IF(AND(MOD($E24,B$9)<$B$8*B$11,MOD($E24-B$9,B$11)=0),$B$7/$B$8,0)+IF(AND(MOD(MOD($E24,B$9),$B$6+1)<$B$8*B$11,MOD($E24-(B$9+$B$6+1),B$11)=0),$B$7/$B$8,0)*(IF($E24-B$9<$B$8*B$11,0,1)) -> 0 | G24: =IF(AND(MOD($E24,B$10)<$B$8*B$12,MOD($E24-B$10,B$12)=0),$B$7/$B$8,0)+IF(AND(MOD(MOD($E24,B$10),$B$6+1)<$B$8*B$12,MOD($E24-(B$10+$B$6+1),B$12)=0),$B$7/$B$8,0)*(IF($E24-B$10<$B$8*B$12,0,1)) -> 0 | H24: =G24 -> 0 | I24: =F24*$B$5*1000/10^6 -> 0 | J24: =G24*$B$5*1000/10^6 -> 0 | K24: =H24*$B$5*1000/10^6 -> 0 | L24: =-PMT($B$4,$B$6,SUMIFS(I$4:I$30,$E$4:$E$30,">"&($E24-$B$6),$E$4:$E$30,"<="&$E24)) -> 886.82675 | M24: =-PMT($B$4,$B$6,SUMIFS(J$4:J$30,$E$4:$E$30,">"&($E24-$B$6),$E$4:$E$30,"<="&$E24)) -> 0 | N24: =-PMT($B$4,$B$6,SUMIFS(K$4:K$30,$E$4:$E$30,">"&($E24-$B$6),$E$4:$E$30,"<="&$E24)) -> 0
E25: =+E24+1 -> 2040 | F25: =IF(AND(MOD($E25,B$9)<$B$8*B$11,MOD($E25-B$9,B$11)=0),$B$7/$B$8,0)+IF(AND(MOD(MOD($E25,B$9),$B$6+1)<$B$8*B$11,MOD($E25-(B$9+$B$6+1),B$11)=0),$B$7/$B$8,0)*(IF($E25-B$9<$B$8*B$11,0,1)) -> 0 | G25: =IF(AND(MOD($E25,B$10)<$B$8*B$12,MOD($E25-B$10,B$12)=0),$B$7/$B$8,0)+IF(AND(MOD(MOD($E25,B$10),$B$6+1)<$B$8*B$12,MOD($E25-(B$10+$B$6+1),B$12)=0),$B$7/$B$8,0)*(IF($E25-B$10<$B$8*B$12,0,1)) -> 1220 | H25: =G25 -> 1220 | I25: =F25*$B$5*1000/10^6 -> 0 | J25: =G25*$B$5*1000/10^6 -> 4618.0261 | K25: =H25*$B$5*1000/10^6 -> 4618.0261 | L25: =-PMT($B$4,$B$6,SUMIFS(I$4:I$30,$E$4:$E$30,">"&($E25-$B$6),$E$4:$E$30,"<="&$E25)) -> 886.82675 | M25: =-PMT($B$4,$B$6,SUMIFS(J$4:J$30,$E$4:$E$30,">"&($E25-$B$6),$E$4:$E$30,"<="&$E25)) -> 295.60892 | N25: =-PMT($B$4,$B$6,SUMIFS(K$4:K$30,$E$4:$E$30,">"&($E25-$B$6),$E$4:$E$30,"<="&$E25)) -> 295.60892
E26: =+E25+1 -> 2041 | F26: =IF(AND(MOD($E26,B$9)<$B$8*B$11,MOD($E26-B$9,B$11)=0),$B$7/$B$8,0)+IF(AND(MOD(MOD($E26,B$9),$B$6+1)<$B$8*B$11,MOD($E26-(B$9+$B$6+1),B$11)=0),$B$7/$B$8,0)*(IF($E26-B$9<$B$8*B$11,0,1)) -> 0 | G26: =IF(AND(MOD($E26,B$10)<$B$8*B$12,MOD($E26-B$10,B$12)=0),$B$7/$B$8,0)+IF(AND(MOD(MOD($E26,B$10),$B$6+1)<$B$8*B$12,MOD($E26-(B$10+$B$6+1),B$12)=0),$B$7/$B$8,0)*(IF($E26-B$10<$B$8*B$12,0,1)) -> 0 | H26: =G26 -> 0 | I26: =F26*$B$5*1000/10^6 -> 0 | J26: =G26*$B$5*1000/10^6 -> 0 | K26: =H26*$B$5*1000/10^6 -> 0 | L26: =-PMT($B$4,$B$6,SUMIFS(I$4:I$30,$E$4:$E$30,">"&($E26-$B$6),$E$4:$E$30,"<="&$E26)) -> 886.82675 | M26: =-PMT($B$4,$B$6,SUMIFS(J$4:J$30,$E$4:$E$30,">"&($E26-$B$6),$E$4:$E$30,"<="&$E26)) -> 295.60892 | N26: =-PMT($B$4,$B$6,SUMIFS(K$4:K$30,$E$4:$E$30,">"&($E26-$B$6),$E$4:$E$30,"<="&$E26)) -> 295.60892
E27: =+E26+1 -> 2042 | F27: =IF(AND(MOD($E27,B$9)<$B$8*B$11,MOD($E27-B$9,B$11)=0),$B$7/$B$8,0)+IF(AND(MOD(MOD($E27,B$9),$B$6+1)<$B$8*B$11,MOD($E27-(B$9+$B$6+1),B$11)=0),$B$7/$B$8,0)*(IF($E27-B$9<$B$8*B$11,0,1)) -> 0 | G27: =IF(AND(MOD($E27,B$10)<$B$8*B$12,MOD($E27-B$10,B$12)=0),$B$7/$B$8,0)+IF(AND(MOD(MOD($E27,B$10),$B$6+1)<$B$8*B$12,MOD($E27-(B$10+$B$6+1),B$12)=0),$B$7/$B$8,0)*(IF($E27-B$10<$B$8*B$12,0,1)) -> 0 | H27: =G27 -> 0 | I27: =F27*$B$5*1000/10^6 -> 0 | J27: =G27*$B$5*1000/10^6 -> 0 | K27: =H27*$B$5*1000/10^6 -> 0 | L27: =-PMT($B$4,$B$6,SUMIFS(I$4:I$30,$E$4:$E$30,">"&($E27-$B$6),$E$4:$E$30,"<="&$E27)) -> 886.82675 | M27: =-PMT($B$4,$B$6,SUMIFS(J$4:J$30,$E$4:$E$30,">"&($E27-$B$6),$E$4:$E$30,"<="&$E27)) -> 295.60892 | N27: =-PMT($B$4,$B$6,SUMIFS(K$4:K$30,$E$4:$E$30,">"&($E27-$B$6),$E$4:$E$30,"<="&$E27)) -> 295.60892
E28: =+E27+1 -> 2043 | F28: =IF(AND(MOD($E28,B$9)<$B$8*B$11,MOD($E28-B$9,B$11)=0),$B$7/$B$8,0)+IF(AND(MOD(MOD($E28,B$9),$B$6+1)<$B$8*B$11,MOD($E28-(B$9+$B$6+1),B$11)=0),$B$7/$B$8,0)*(IF($E28-B$9<$B$8*B$11,0,1)) -> 0 | G28: =IF(AND(MOD($E28,B$10)<$B$8*B$12,MOD($E28-B$10,B$12)=0),$B$7/$B$8,0)+IF(AND(MOD(MOD($E28,B$10),$B$6+1)<$B$8*B$12,MOD($E28-(B$10+$B$6+1),B$12)=0),$B$7/$B$8,0)*(IF($E28-B$10<$B$8*B$12,0,1)) -> 0 | H28: =G28 -> 0 | I28: =F28*$B$5*1000/10^6 -> 0 | J28: =G28*$B$5*1000/10^6 -> 0 | K28: =H28*$B$5*1000/10^6 -> 0 | L28: =-PMT($B$4,$B$6,SUMIFS(I$4:I$30,$E$4:$E$30,">"&($E28-$B$6),$E$4:$E$30,"<="&$E28)) -> 886.82675 | M28: =-PMT($B$4,$B$6,SUMIFS(J$4:J$30,$E$4:$E$30,">"&($E28-$B$6),$E$4:$E$30,"<="&$E28)) -> 295.60892 | N28: =-PMT($B$4,$B$6,SUMIFS(K$4:K$30,$E$4:$E$30,">"&($E28-$B$6),$E$4:$E$30,"<="&$E28)) -> 295.60892
... E30: =+E29+1 -> 2045 | F30: =IF(AND(MOD($E30,B$9)<$B$8*B$11,MOD($E30-B$9,B$11)=0),$B$7/$B$8,0)+IF(AND(MOD(MOD($E30,B$9),$B$6+1)<$B$8*B$11,MOD($E30-(B$9+$B$6+1),B$11)=0),$B$7/$B$8,0)*(IF($E30-B$9<$B$8*B$11,0,1)) -> 0 | G30: =IF(AND(MOD($E30,B$10)<$B$8*B$12,MOD($E30-B$10,B$12)=0),$B$7/$B$8,0)+IF(AND(MOD(MOD($E30,B$10),$B$6+1)<$B$8*B$12,MOD($E30-(B$10+$B$6+1),B$12)=0),$B$7/$B$8,0)*(IF($E30-B$10<$B$8*B$12,0,1)) -> 1220 | H30: =G30 -> 1220 | I30: =F30*$B$5*1000/10^6 -> 0 | J30: =G30*$B$5*1000/10^6 -> 4618.0261 | K30: =H30*$B$5*1000/10^6 -> 4618.0261 | L30: =-PMT($B$4,$B$6,SUMIFS(I$4:I$30,$E$4:$E$30,">"&($E30-$B$6),$E$4:$E$30,"<="&$E30)) -> 886.82675 | M30: =-PMT($B$4,$B$6,SUMIFS(J$4:J$30,$E$4:$E$30,">"&($E30-$B$6),$E$4:$E$30,"<="&$E30)) -> 591.21784 | N30: =-PMT($B$4,$B$6,SUMIFS(K$4:K$30,$E$4:$E$30,">"&($E30-$B$6),$E$4:$E$30,"<="&$E30)) -> 591.21784
E31: סה"כ מהוון | I31: =NPV($B$4,I5:I30) -> 10549.565 | J31: =NPV($B$4,J5:J30) -> 3692.2174 | K31: =NPV($B$4,K5:K30) -> 3692.2174 | L31: =NPV($B$4,L5:L30) -> 9561.0361 | M31: =NPV($B$4,M5:M30) -> 813.85039 | N31: =NPV($B$4,N5:N30) -> 813.85039
E32: עלות עודפת | I32: =+I31-J31 -> 6857.3478 | K32: =K31-J31 -> 0 | L32: =+L31-M31 -> 8747.1857 | M32: =+M31-N31 -> 0 | N32: =N31-M31 -> 0

Sheet  עלות דלקים - אג לקוט"ש
A3: גז במח״זמים חדשים | H3: גז ביחידות קיימות | N3: הנחות עבודה
A4: $ ל-mmbtu | B4: 4 | C4: 4.7 | D4: 5 | E4: 6 | H4: $ ל-mmbtu | I4: 4 | J4: 4.7 | K4: 5 | L4: 6 | N4: =+'הנחות עבודה'!A36 -> שער הדולר | O4: =+'הנחות עבודה'!B36 -> 3.6
A5: גז [אג׳/קוט״ש] | B5: =+B4*$O$4*$O$16/$O$19/1000*100 -> 9.0531859 | C5: =+C4*$O$4*$O$16/$O$19/1000*100 -> 10.637493 | D5: =+D4*$O$4*$O$16/$O$19/1000*100 -> 11.316482 | E5: =+E4*$O$4*$O$16/$O$19/1000*100 -> 13.579779 | H5: גז [אג׳/קוט״ש] | I5: =+I4*$O$4*$O$16/$O$21/1000*100 -> 10.642052 | J5: =+J4*$O$4*$O$16/$O$21/1000*100 -> 12.504412 | K5: =+K4*$O$4*$O$16/$O$21/1000*100 -> 13.302565 | L5: =+L4*$O$4*$O$16/$O$21/1000*100 -> 15.963079 | N5: מחיר פחם ע"פ הבנק בעולמי לשנת 2030 (דולר/טון) | O5: 60
A6: עלויות הזרמה ובלו [אג׳/קוט״ש] | B6: =+$O$9+$O$12 -> 0.35751322 | C6: =+$O$9+$O$12 -> 0.35751322 | D6: =+$O$9+$O$12 -> 0.35751322 | E6: =+$O$9+$O$12 -> 0.35751322 | H6: עלויות הזרמה ובלו [אג׳/קוט״ש] | I6: =+$O$9+$O$12 -> 0.35751322 | J6: =+$O$9+$O$12 -> 0.35751322 | K6: =+$O$9+$O$12 -> 0.35751322 | L6: =+$O$9+$O$12 -> 0.35751322 | N6: בלו פחם (₪ לטון) | O6: 102
A7: עלויות משתנות [אג׳/קוט״ש] | B7: =+$O$25 -> 0.958 | C7: =+$O$25 -> 0.958 | D7: =+$O$25 -> 0.958 | E7: =+$O$25 -> 0.958 | H7: עלויות משתנות [אג׳/קוט״ש] | I7: =+$O$25 -> 0.958 | J7: =+$O$25 -> 0.958 | K7: =+$O$25 -> 0.958 | L7: =+$O$25 -> 0.958 | N7: בלו פחם ליחידה ממוצעת (אג'/קוט"ש) | O7: =+O6/$O$17*$O$16/$O$18/1000*100 -> 3.9868061
A8: סה"כ אג' לקוט"ש | B8: =SUM(B5:B7) -> 10.368699 | C8: =SUM(C5:C7) -> 11.953007 | D8: =SUM(D5:D7) -> 12.631996 | E8: =SUM(E5:E7) -> 14.895292 | H8: סה"כ אג' לקוט"ש | I8: =SUM(I5:I7) -> 11.957566 | J8: =SUM(J5:J7) -> 13.819925 | K8: =SUM(K5:K7) -> 14.618079 | L8: =SUM(L5:L7) -> 17.278592 | N8: בלו גז (₪ לטון) | O8: 17
N9: בלו גז ליחידה ממוצעת (אג'/קוט"ש) | O9: =$O$8/'הנחות עבודה'!B44*100*3.412/O21/1000 -> 0.26617657
N10: בלו גז ליחידה מוסבת (אג'/קוט"ש) | O10: =$O$8/'הנחות עבודה'!B44*100*3.412/O22/1000 -> 0.32358057
N11: תעריף הזרמת גז (אג'/MMBTU) | O11: 12.4
A12: גז בפיקרים חדשים | H12: יצור בגז ביחידות פחמיות מוסבות | N12: תעריף הזרמת גז ליחידה ממוצעת (אג'/קוט"ש) | O12: =O11*'הנחות עבודה'!E39/1000 -> 0.091336648
A13: $ ל-mmbtu | B13: 4 | C13: =C4 -> 4.7 | D13: 5 | E13: 6 | H13: $ ל-mmbtu | I13: 4 | J13: 4.7 | K13: 5 | L13: 6 | N13: תעריף הזרמת גז מוסב ליחידה ממוצעת (אג'/קוט"ש) | O13: =O11*'הנחות עבודה'!E40/1000 -> 0.1158592
A14: גז [אג׳/קוט״ש] | B14: =+B13*$O$4*$O$16/$O$20/1000*100 -> 13.07538 | C14: =+C13*$O$4*$O$16/$O$20/1000*100 -> 15.363571 | D14: =+D13*$O$4*$O$16/$O$20/1000*100 -> 16.344224 | E14: =+E13*$O$4*$O$16/$O$20/1000*100 -> 19.613069 | H14: גז [אג׳/קוט״ש] | I14: =+I13*$O$4*$O$16/$O$22/1000*100 -> 12.937132 | J14: =+J13*$O$4*$O$16/$O$22/1000*100 -> 15.20113 | K14: =+K13*$O$4*$O$16/$O$22/1000*100 -> 16.171415 | L14: =+L13*$O$4*$O$16/$O$22/1000*100 -> 19.405698 | N14: מחיר הובלה לפחם (דולר לטון) | O14: 10
A15: עלויות הזרמה ובלו [אג׳/קוט״ש] | B15: =+$O$9+$O$12 -> 0.35751322 | C15: =+$O$9+$O$12 -> 0.35751322 | D15: =+$O$9+$O$12 -> 0.35751322 | E15: =+$O$9+$O$12 -> 0.35751322 | H15: עלויות הזרמה ובלו [אג׳/קוט״ש] | I15: =+$O$13+$O$10 -> 0.43943977 | J15: =+$O$13+$O$10 -> 0.43943977 | K15: =+$O$13+$O$10 -> 0.43943977 | L15: =+$O$13+$O$10 -> 0.43943977 | N15: הובלה פחם ליחידה ממוצעת (אג'/קוט"ש) | O15: =+O14/$O$17*$O$16/$O$18/1000*100*O4 -> 1.407108
A16: עלויות משתנות [אג׳/קוט״ש] | B16: =+$O$25 -> 0.958 | C16: =+$O$25 -> 0.958 | D16: =+$O$25 -> 0.958 | E16: =+$O$25 -> 0.958 | H16: עלויות משתנות [אג׳/קוט״ש] | I16: =+$O$24 -> 0.41418182 | J16: =+$O$24 -> 0.41418182 | K16: =+$O$24 -> 0.41418182 | L16: =+$O$24 -> 0.41418182 | N16: =+'הנחות עבודה'!A41 -> MMBTU in MWh | O16: =+'הנחות עבודה'!B41 -> 3.412
A17: סה"כ אג' לקוט"ש | B17: =SUM(B14:B16) -> 14.390893 | C17: =SUM(C14:C16) -> 16.679084 | D17: =SUM(D14:D16) -> 17.659738 | E17: =SUM(E14:E16) -> 20.928583 | H17: סה"כ אג' לקוט"ש | I17: =SUM(I14:I16) -> 13.790753 | J17: =SUM(J14:J16) -> 16.054751 | K17: =SUM(K14:K16) -> 17.025036 | L17: =SUM(L14:L16) -> 20.259319 | N17: =+'הנחות עבודה'!A42 -> MMBTU in a ton of coal | O17: =+'הנחות עבודה'!B42 -> 23.8
N18: =+'הנחות עבודה'!D37 -> נצילות פחם במדיניות ההפחתה HHV | O18: =+'הנחות עבודה'!E37 -> 0.36678125
N19: ='הנחות עבודה'!D30 -> נצילות מחז״ם חדש HHV עם פקטור טמפרטורה, עבודה בעומס חלקי והזדקנות | O19: ='הנחות עבודה'!E30 -> 0.54271282
F20: יצור בפחם | N20: ='הנחות עבודה'!D33 -> נצילות פיקר חדש HHV עם פקטור טמפרטורה | O20: ='הנחות עבודה'!E33 -> 0.37576577
F21: $ לטון | G21: 40 | H21: 50 | I21: 60 | J21: 70 | K21: 80 | L21: =+K21+10 -> 90 | N21: =+'הנחות עבודה'!D41 -> נצילות ייצור ממוצעת ביחידות גז קיימות HHV | O21: =+'הנחות עבודה'!E41 -> 0.46168538
F22: $ ל-mmbtu | G22: =+G21/$O$17 -> 1.6806723 | H22: =+H21/$O$17 -> 2.1008403 | I22: =+I21/$O$17 -> 2.5210084 | J22: =+J21/$O$17 -> 2.9411765 | K22: =+K21/$O$17 -> 3.3613445 | L22: =+L21/$O$17 -> 3.7815126 | N22: =+'הנחות עבודה'!D38 -> נצילות פחמית מוסבת לגז (כולל חסכון בצריכה עצמית) | O22: =+'הנחות עבודה'!E38 -> 0.37978125
F23: פחם [אג׳/קוט״ש] | G23: =G22*$O$4*$O$16/$O$18/1000*100 -> 5.6284322 | H23: =H22*$O$4*$O$16/$O$18/1000*100 -> 7.0355402 | I23: =I22*$O$4*$O$16/$O$18/1000*100 -> 8.4426482 | J23: =J22*$O$4*$O$16/$O$18/1000*100 -> 9.8497563 | K23: =K22*$O$4*$O$16/$O$18/1000*100 -> 11.256864 | L23: =L22*$O$4*$O$16/$O$18/1000*100 -> 12.663972 | N23: =+'הנחות עבודה'!D17 -> תפעול משתנה באג' לקוט"ש פחמי | O23: =+'הנחות עבודה'!E17 -> 0.49310356
F24: הובלה ובלו [אג׳/קוט״ש] | G24: =+$O$7+$O$15 -> 5.3939142 | H24: =+$O$7+$O$15 -> 5.3939142 | I24: =+$O$7+$O$15 -> 5.3939142 | J24: =+$O$7+$O$15 -> 5.3939142 | K24: =+$O$7+$O$15 -> 5.3939142 | L24: =+$O$7+$O$15 -> 5.3939142 | N24: =+'הנחות עבודה'!D18 -> תפעול משתנה באג' לקוט"ש מוסב | O24: =+'הנחות עבודה'!E18 -> 0.41418182
F25: עלויות משתנות [אג׳/קוט״ש] | G25: =+$O$23 -> 0.49310356 | H25: =+$O$23 -> 0.49310356 | I25: =+$O$23 -> 0.49310356 | J25: =+$O$23 -> 0.49310356 | K25: =+$O$23 -> 0.49310356 | L25: =+$O$23 -> 0.49310356 | N25: =+'הנחות עבודה'!D21 -> תפעול משתנה באג' לקוט"ש ליחידת גז משוקללת | O25: =+'הנחות עבודה'!E21 -> 0.958
F26: סה"כ אג' לקוט"ש | G26: =SUM(G23:G25) -> 11.51545 | H26: =SUM(H23:H25) -> 12.922558 | I26: =SUM(I23:I25) -> 14.329666 | J26: =SUM(J23:J25) -> 15.736774 | K26: =SUM(K23:K25) -> 17.143882 | L26: =SUM(L23:L25) -> 18.55099
F28: יצור אנרגיה מתחדשת
F29: סוג מתקן | H29: משקל מתוך ההספק הנוסף בעתיד | I29: מחיר מייצג 2018 [אג'/קוט"ש] | J29: צפי לירידת מחיר בשנים 2018 - 2030 לפי בלומברג [%] | K29: מחיר מייצג 2030 [אג'/קוט"ש]
F30: גגות קטנים | H30: 0.33 | I30: 37 | J30: 0.41 | K30: =(100%-J30)*I30 -> 21.83
F31: גגות גדולים ומאגרי מים | H31: 0.33 | I31: 23.3 | J31: 0.34 | K31: =(100%-J31)*I31 -> 15.378
F32: קרקעות | H32: 0.33 | I32: 18.18 | J32: 0.31 | K32: =(100%-J32)*I32 -> 12.5442
F33: תוספת עלות רשת לחיבור מתקנים קרקעיים | K33: 1.1
F34: מחיר משוקלל לקוט״ש סולארי | K34: =SUMPRODUCT(K30:K32,H30:H32)+H32*K33 -> 16.781226
F35: הערות:
F36: המשקל של כל סוג מתקן בתמהיל האנרגיה הסולארית בעתיד מבוסס על הערכה ראשונית של פוטנציאל השטח הפנוי מכל סוג
F37: המחיר המייצג של מתקני גגות קטנים ב 2018 הוא שווה הערך המוצמד למדד של המחיר הלא מוצמד שקבעה הרשות למתקנים אלו

Sheet  עלות דלקים - לתקופה
A1: עלות דלקים
A3: תרחיש | B3: פחם | C3: גז מוסב | D3: גז | E3: פחם | F3: גז מוסב | G3: גז מתקנים קיימים | H3: מחזמים חדשים | I3: פיקרים חדשים | J3: מתחדשות משוקלל | L3: ריבית היוון
B4: $ לטון | C4: $ לMMBTU | E4: אג' לקוטש | L4: =+'הנחות עבודה'!$B$37 -> 0.04
A5: תרחיש מרכזי | B5: 60 | C5: =+' עלות דלקים - אג לקוט"ש'!J13 -> 4.7 | D5: =+' עלות דלקים - אג לקוט"ש'!J4 -> 4.7 | E5: =' עלות דלקים - אג לקוט"ש'!I26 -> 14.329666 | F5: =+' עלות דלקים - אג לקוט"ש'!J17 -> 16.054751 | G5: =+' עלות דלקים - אג לקוט"ש'!J8 -> 13.819925 | H5: =' עלות דלקים - אג לקוט"ש'!C8 -> 11.953007 | I5: =' עלות דלקים - אג לקוט"ש'!C17 -> 16.679084 | J5: =' עלות דלקים - אג לקוט"ש'!K34 -> 16.781226
A6: פחם זול גז יקר | B6: 40 | C6: 5 | D6: 5 | E6: =' עלות דלקים - אג לקוט"ש'!G26 -> 11.51545 | F6: =' עלות דלקים - אג לקוט"ש'!K17 -> 17.025036 | G6: =' עלות דלקים - אג לקוט"ש'!K8 -> 14.618079 | H6: =' עלות דלקים - אג לקוט"ש'!D8 -> 12.631996 | I6: =' עלות דלקים - אג לקוט"ש'!D17 -> 17.659738 | J6: =J5 -> 16.781226
A7: פחם יקר גז זול | B7: 80 | C7: =+' עלות דלקים - אג לקוט"ש'!I13 -> 4 | D7: =+' עלות דלקים - אג לקוט"ש'!I4 -> 4 | E7: =' עלות דלקים - אג לקוט"ש'!K26 -> 17.143882 | F7: =' עלות דלקים - אג לקוט"ש'!I17 -> 13.790753 | G7: =' עלות דלקים - אג לקוט"ש'!I8 -> 11.957566 | H7: =' עלות דלקים - אג לקוט"ש'!B8 -> 10.368699 | I7: =' עלות דלקים - אג לקוט"ש'!B17 -> 14.390893 | J7: =J6 -> 16.781226
A10: תרחיש מרכזי
B11: סגירת 1-4 ללא מדיניות הפחתה | F11: סגירת 1-4 עם מדיניות הפחתה | J11: הסבה | O11: שימור והקמה | U11: גריטה והקמה | AA11: 25% מתחדשות
A12: שנה | B12: פחם | C12: גז מתקנים קיימים | D12: סה"כ | E12: מהוון | F12: פחם | G12: גז מתקנים קיימים | H12: סה"כ | I12: מהוון | J12: פחם | K12: גז מוסב | L12: גז מתקנים קיימים | M12: סה"כ | N12: מהוון | O12: פחם | P12: גז מתקנים קיימים | Q12: מח״זמים חדשים | R12: פיקרים חדשים | S12: סה"כ | T12: מהוון | U12: פחם | V12: גז מתקנים קיימים | W12: מח״זמים חדשים | X12: פיקרים חדשים | Y12: סה"כ | Z12: מהוון | AA12: תוספת מתחדשות | AB12: פחם | AC12: גז | AD12: סה"כ | AE12: מהוון
A13: 2019
A14: =A13+1 -> 2020 | B14: ='תמהיל יצור'!$H4*10*$E$5 -> 2939.3579 | C14: ='תמהיל יצור'!$I4*$G$5*10 -> 6295.2664 | D14: =+C14+B14 -> 9234.6243 | E14: =+D14/(1+$L$4)^($A14-$A$13) -> 8879.4465 | F14: ='תמהיל יצור'!$L4*$E$5*10 -> 2073.6566 | G14: ='תמהיל יצור'!$M4*$G$5*10 -> 7130.1726 | H14: =+G14+F14 -> 9203.8292 | I14: =+H14/(1+$L$4)^($A14-$A$13) -> 8849.8358 | J14: =('תמהיל יצור'!Q4+'תמהיל יצור'!P4)*$E$5*10 -> 2073.6566 | K14: ='תמהיל יצור'!$R4*$F$5*10 -> 0 | L14: ='תמהיל יצור'!$S4*$G$5*10 -> 7130.1726 | M14: =+L14+K14+J14 -> 9203.8292 | N14: =+M14/(1+$L$4)^($A14-$A$13) -> 8849.8358 | O14: =('תמהיל יצור'!$W4+'תמהיל יצור'!$V4)*$E$5*10 -> 2073.6566 | P14: ='תמהיל יצור'!X4*$G$5*10 -> 7130.1726 | Q14: ='תמהיל יצור'!Y4*$H$5*10 -> 0 | R14: ='תמהיל יצור'!Z4*$I$5*10 -> 0 | S14: =+P14+O14+Q14+R14 -> 9203.8292 | T14: =+S14/(1+$L$4)^($A14-$A$13) -> 8849.8358 | U14: ='תמהיל יצור'!$AC4*$E$5*10 -> 2073.6566 | V14: ='תמהיל יצור'!AD4*$G$5*10 -> 7130.1726 | W14: ='תמהיל יצור'!AE4*$H$5*10 -> 0 | X14: ='תמהיל יצור'!AF4*$I$5*10 -> 0 | Y14: =+V14+U14+W14+X14 -> 9203.8292 | Z14: =+Y14/(1+$L$4)^($A14-$A$13) -> 8849.8358 | AA14: ='תמהיל יצור'!$AI4*($J$5)*10 -> 0 | AB14: ='תמהיל יצור'!$AK4*$E$5*10 -> 2073.6566 | AC14: ='תמהיל יצור'!$AL4*$G$5*10 -> 7130.1726 | AD14: =+AC14+AB14+AA14 -> 9203.8292 | AE14: =+AD14/(1+$L$4)^($A14-$A$13) -> 8849.8358
A15: =A14+1 -> 2021 | B15: ='תמהיל יצור'!$H5*10*$E$5 -> 2939.3579 | C15: ='תמהיל יצור'!$I5*$G$5*10 -> 6339.9421 | D15: =+C15+B15 -> 9279.3 | E15: =+D15/(1+$L$4)^($A15-$A$13) -> 8579.2345 | F15: ='תמהיל יצור'!$L5*$E$5*10 -> 2073.6566 | G15: ='תמהיל יצור'!$M5*$G$5*10 -> 7174.8483 | H15: =+G15+F15 -> 9248.5049 | I15: =+H15/(1+$L$4)^($A15-$A$13) -> 8550.7627 | J15: =('תמהיל יצור'!Q5+'תמהיל יצור'!P5)*$E$5*10 -> 2073.6566 | K15: ='תמהיל יצור'!$R5*$F$5*10 -> 0 | L15: ='תמהיל יצור'!$S5*$G$5*10 -> 7174.8483 | M15: =+L15+K15+J15 -> 9248.5049 | N15: =+M15/(1+$L$4)^($A15-$A$13) -> 8550.7627 | O15: =('תמהיל יצור'!$W5+'תמהיל יצור'!$V5)*$E$5*10 -> 2073.6566 | P15: ='תמהיל יצור'!X5*$G$5*10 -> 7174.8483 | Q15: ='תמהיל יצור'!Y5*$H$5*10 -> 0 | R15: ='תמהיל יצור'!Z5*$I$5*10 -> 0 | S15: =+P15+O15+Q15+R15 -> 9248.5049 | T15: =+S15/(1+$L$4)^($A15-$A$13) -> 8550.7627 | U15: ='תמהיל יצור'!$AC5*$E$5*10 -> 2073.6566 | V15: ='תמהיל יצור'!AD5*$G$5*10 -> 7174.8483 | W15: ='תמהיל יצור'!AE5*$H$5*10 -> 0 | X15: ='תמהיל יצור'!AF5*$I$5*10 -> 0 | Y15: =+V15+U15+W15+X15 -> 9248.5049 | Z15: =+Y15/(1+$L$4)^($A15-$A$13) -> 8550.7627 | AA15: ='תמהיל יצור'!$AI5*($J$5)*10 -> 0 | AB15: ='תמהיל יצור'!$AK5*$E$5*10 -> 2073.6566 | AC15: ='תמהיל יצור'!$AL5*$G$5*10 -> 7174.8483 | AD15: =+AC15+AB15+AA15 -> 9248.5049 | AE15: =+AD15/(1+$L$4)^($A15-$A$13) -> 8550.7627
A16: =A15+1 -> 2022 | B16: ='תמהיל יצור'!$H6*10*$E$5 -> 2939.3579 | C16: ='תמהיל יצור'!$I6*$G$5*10 -> 6639.5636 | D16: =+C16+B16 -> 9578.9215 | E16: =+D16/(1+$L$4)^($A16-$A$13) -> 8515.6263 | F16: ='תמהיל יצור'!$L6*$E$5*10 -> 2073.6566 | G16: ='תמהיל יצור'!$M6*$G$5*10 -> 7474.4698 | H16: =+G16+F16 -> 9548.1264 | I16: =+H16/(1+$L$4)^($A16-$A$13) -> 8488.2496 | J16: =('תמהיל יצור'!Q6+'תמהיל יצור'!P6)*$E$5*10 -> 1407.8967 | K16: ='תמהיל יצור'!$R6*$F$5*10 -> 628.6563 | L16: ='תמהיל יצור'!$S6*$G$5*10 -> 7575.3998 | M16: =+L16+K16+J16 -> 9611.9529 | N16: =+M16/(1+$L$4)^($A16-$A$13) -> 8544.9911 | O16: =('תמהיל יצור'!$W6+'תמהיל יצור'!$V6)*$E$5*10 -> 1372.2728 | P16: ='תמהיל יצור'!X6*$G$5*10 -> 8150.9037 | Q16: ='תמהיל יצור'!Y6*$H$5*10 -> 0 | R16: ='תמהיל יצור'!Z6*$I$5*10 -> 0 | S16: =+P16+O16+Q16+R16 -> 9523.1765 | T16: =+S16/(1+$L$4)^($A16-$A$13) -> 8466.0692 | U16: ='תמהיל יצור'!$AC6*$E$5*10 -> 1372.2728 | V16: ='תמהיל יצור'!AD6*$G$5*10 -> 8150.9037 | W16: ='תמהיל יצור'!AE6*$H$5*10 -> 0 | X16: ='תמהיל יצור'!AF6*$I$5*10 -> 0 | Y16: =+V16+U16+W16+X16 -> 9523.1765 | Z16: =+Y16/(1+$L$4)^($A16-$A$13) -> 8466.0692 | AA16: ='תמהיל יצור'!$AI6*($J$5)*10 -> 0 | AB16: ='תמהיל יצור'!$AK6*$E$5*10 -> 2073.6566 | AC16: ='תמהיל יצור'!$AL6*$G$5*10 -> 7474.4698 | AD16: =+AC16+AB16+AA16 -> 9548.1264 | AE16: =+AD16/(1+$L$4)^($A16-$A$13) -> 8488.2496
A17: =A16+1 -> 2023 | B17: ='תמהיל יצור'!$H7*10*$E$5 -> 2939.3579 | C17: ='תמהיל יצור'!$I7*$G$5*10 -> 6838.9727 | D17: =+C17+B17 -> 9778.3306 | E17: =+D17/(1+$L$4)^($A17-$A$13) -> 8358.558 | F17: ='תמהיל יצור'!$L7*$E$5*10 -> 2073.6566 | G17: ='תמהיל יצור'!$M7*$G$5*10 -> 7673.8789 | H17: =+G17+F17 -> 9747.5355 | I17: =+H17/(1+$L$4)^($A17-$A$13) -> 8332.2342 | J17: =('תמהיל יצור'!Q7+'תמהיל יצור'!P7)*$E$5*10 -> 1407.8967 | K17: ='תמהיל יצור'!$R7*$F$5*10 -> 628.6563 | L17: ='תמהיל יצור'!$S7*$G$5*10 -> 7774.8089 | M17: =+L17+K17+J17 -> 9811.3619 | N17: =+M17/(1+$L$4)^($A17-$A$13) -> 8386.7933 | O17: =('תמהיל יצור'!$W7+'תמהיל יצור'!$V7)*$E$5*10 -> 1372.2728 | P17: ='תמהיל יצור'!X7*$G$5*10 -> 8350.3128 | Q17: ='תמהיל יצור'!Y7*$H$5*10 -> 0 | R17: ='תמהיל יצור'!Z7*$I$5*10 -> 0 | S17: =+P17+O17+Q17+R17 -> 9722.5855 | T17: =+S17/(1+$L$4)^($A17-$A$13) -> 8310.9069 | U17: ='תמהיל יצור'!$AC7*$E$5*10 -> 1372.2728 | V17: ='תמהיל יצור'!AD7*$G$5*10 -> 8350.3128 | W17: ='תמהיל יצור'!AE7*$H$5*10 -> 0 | X17: ='תמהיל יצור'!AF7*$I$5*10 -> 0 | Y17: =+V17+U17+W17+X17 -> 9722.5855 | Z17: =+Y17/(1+$L$4)^($A17-$A$13) -> 8310.9069 | AA17: ='תמהיל יצור'!$AI7*($J$5)*10 -> 266.96917 | AB17: ='תמהיל יצור'!$AK7*$E$5*10 -> 2073.6566 | AC17: ='תמהיל יצור'!$AL7*$G$5*10 -> 7454.0204 | AD17: =+AC17+AB17+AA17 -> 9794.6462 | AE17: =+AD17/(1+$L$4)^($A17-$A$13) -> 8372.5046
A18: =A17+1 -> 2024 | B18: ='תמהיל יצור'!$H8*10*$E$5 -> 2939.3579 | C18: ='תמהיל יצור'!$I8*$G$5*10 -> 7154.9293 | D18: =+C18+B18 -> 10094.287 | E18: =+D18/(1+$L$4)^($A18-$A$13) -> 8296.7683 | F18: ='תמהיל יצור'!$L8*$E$5*10 -> 2073.6566 | G18: ='תמהיל יצור'!$M8*$G$5*10 -> 7989.8355 | H18: =+G18+F18 -> 10063.492 | I18: =+H18/(1+$L$4)^($A18-$A$13) -> 8271.457 | J18: =('תמהיל יצור'!Q8+'תמהיל יצור'!P8)*$E$5*10 -> 742.13685 | K18: ='תמהיל יצור'!$R8*$F$5*10 -> 1257.3126 | L18: ='תמהיל יצור'!$S8*$G$5*10 -> 8191.6956 | M18: =+L18+K18+J18 -> 10191.145 | N18: =+M18/(1+$L$4)^($A18-$A$13) -> 8376.3784 | O18: =('תמהיל יצור'!$W8+'תמהיל יצור'!$V8)*$E$5*10 -> 699.67889 | P18: ='תמהיל יצור'!X8*$G$5*10 -> 8514.0729 | Q18: ='תמהיל יצור'!Y8*$H$5*10 -> 616.11773 | R18: ='תמהיל יצור'!Z8*$I$5*10 -> 106.82953 | S18: =+P18+O18+Q18+R18 -> 9936.699 | T18: =+S18/(1+$L$4)^($A18-$A$13) -> 8167.2423 | U18: ='תמהיל יצור'!$AC8*$E$5*10 -> 670.88891 | V18: ='תמהיל יצור'!AD8*$G$5*10 -> 8541.8387 | W18: ='תמהיל יצור'!AE8*$H$5*10 -> 616.11773 | X18: ='תמהיל יצור'!AF8*$I$5*10 -> 106.82953 | Y18: =+V18+U18+W18+X18 -> 9935.6749 | Z18: =+Y18/(1+$L$4)^($A18-$A$13) -> 8166.4005 | AA18: ='תמהיל יצור'!$AI8*($J$5)*10 -> 551.37739 | AB18: ='תמהיל יצור'!$AK8*$E$5*10 -> 2073.6566 | AC18: ='תמהיל יצור'!$AL8*$G$5*10 -> 7535.757 | AD18: =+AC18+AB18+AA18 -> 10160.791 | AE18: =+AD18/(1+$L$4)^($A18-$A$13) -> 8351.4296
A19: =A18+1 -> 2025 | B19: ='תמהיל יצור'!$H9*10*$E$5 -> 2939.3579 | C19: ='תמהיל יצור'!$I9*$G$5*10 -> 7363.8755 | D19: =+C19+B19 -> 10303.233 | E19: =+D19/(1+$L$4)^($A19-$A$13) -> 8142.795 | F19: ='תמהיל יצור'!$L9*$E$5*10 -> 2073.6566 | G19: ='תמהיל יצור'!$M9*$G$5*10 -> 8198.7817 | H19: =+G19+F19 -> 10272.438 | I19: =+H19/(1+$L$4)^($A19-$A$13) -> 8118.4572 | J19: =('תמהיל יצור'!Q9+'תמהיל יצור'!P9)*$E$5*10 -> 742.13685 | K19: ='תמהיל יצור'!$R9*$F$5*10 -> 1257.3126 | L19: ='תמהיל יצור'!$S9*$G$5*10 -> 8400.6418 | M19: =+L19+K19+J19 -> 10400.091 | N19: =+M19/(1+$L$4)^($A19-$A$13) -> 8219.3432 | O19: =('תמהיל יצור'!$W9+'תמהיל יצור'!$V9)*$E$5*10 -> 699.67889 | P19: ='תמהיל יצור'!X9*$G$5*10 -> 8723.0191 | Q19: ='תמהיל יצור'!Y9*$H$5*10 -> 616.11773 | R19: ='תמהיל יצור'!Z9*$I$5*10 -> 106.82953 | S19: =+P19+O19+Q19+R19 -> 10145.645 | T19: =+S19/(1+$L$4)^($A19-$A$13) -> 8018.2508 | U19: ='תמהיל יצור'!$AC9*$E$5*10 -> 670.88891 | V19: ='תמהיל יצור'!AD9*$G$5*10 -> 8750.7849 | W19: ='תמהיל יצור'!AE9*$H$5*10 -> 616.11773 | X19: ='תמהיל יצור'!AF9*$I$5*10 -> 106.82953 | Y19: =+V19+U19+W19+X19 -> 10144.621 | Z19: =+Y19/(1+$L$4)^($A19-$A$13) -> 8017.4414 | AA19: ='תמהיל יצור'!$AI9*($J$5)*10 -> 711.72536 | AB19: ='תמהיל יצור'!$AK9*$E$5*10 -> 2073.6566 | AC19: ='תמהיל יצור'!$AL9*$G$5*10 -> 7612.6511 | AD19: =+AC19+AB19+AA19 -> 10398.033 | AE19: =+AD19/(1+$L$4)^($A19-$A$13) -> 8217.7165
