Workbook
Name Cap_mahzam: ' עלויות חח"י'!$N$40
Name Cap_piker: ' עלויות חח"י'!$N$41
Name FC_mahzam: ' עלויות חח"י'!$M$40
Name FC_piker: ' עלויות חח"י'!$M$41

Sheet סיכום
A4: עלויות עודפות ביחס למדיניות נוכחית (מהוון) [מלש״ח]
D5: סגירת 1-4 ללא מדיניות הפחתה | E5: סגירת 1-4 עם מדיניות הפחתה | F5: 25% מתחדשות | G5: הסבה לגז | H5: שימור והקמה | I5: גריטה והקמה
A6: עלויות עודפות ישירות | B6: עלויות חח"י | D6: 0 | E6: 0 | F6: 0 | G6: =+' עלויות חח"י'!C21 -> 1238.7524 | H6: =+' עלויות חח"י'!G14 -> 558.85963 | I6: =+' עלויות חח"י'!K14 -> 859.56836
B7: עלות הקמה | D7: 0 | E7: 0 | F7: 0 | G7: ='עלויות הקמת יחידות חדשות'!B16 -> 0 | H7: ='עלויות הקמת יחידות חדשות'!$B$15 -> 8747.1857 | I7: ='עלויות הקמת יחידות חדשות'!$B$15 -> 8747.1857
B8: עלות תפעול קבועה | D8: 0 | E8: 0 | F8: 0 | G8: =+' עלויות תפעול'!M31-' עלויות תפעול'!H31 -> 238.93779 | H8: =+' עלויות תפעול'!R31-' עלויות תפעול'!H31 -> 1143.6216 | I8: =+' עלויות תפעול'!V31-' עלויות תפעול'!H31 -> -572.87702
B9: ערך קרקע | D9: 0 | E9: 0 | F9: 0 | G9: 0 | H9: 0 | I9: =-'הנחות עבודה'!E45*'הנחות עבודה'!E46 -> -700
B10: דלקים | C10: תרחיש מרכזי | D10: =' עלות דלקים - לתקופה'!E41 -> 0 | E10: 0 | F10: =' עלות דלקים - לתקופה'!AE41 -> 3047.4035 | G10: =' עלות דלקים - לתקופה'!N41 -> 2030.1055 | H10: =' עלות דלקים - לתקופה'!T41 -> -3336.9627 | I10: =' עלות דלקים - לתקופה'!Z41 -> -3367.674
C11: תרחיש פחם זול, גז יקר | D11: =' עלות דלקים - לתקופה'!E74 -> -2821.262 | E11: 0 | F11: =' עלות דלקים - לתקופה'!AE74 -> 2226.0426 | G11: =' עלות דלקים - לתקופה'!N74 -> 7949.6839 | H11: =' עלות דלקים - לתקופה'!T74 -> 2290.8547 | I11: =' עלות דלקים - לתקופה'!Z74 -> 2477.7847
C12: תרחיש פחם יקר, גז זול | D12: =' עלות דלקים - לתקופה'!E107 -> 0 | E12: 0 | F12: =' עלות דלקים - לתקופה'!AE107 -> 4963.9124 | G12: =' עלות דלקים - לתקופה'!N107 -> -5860.1662 | H12: =' עלות דלקים - לתקופה'!T107 -> -10455.647 | I12: =' עלות דלקים - לתקופה'!Z107 -> -10768.117
A13: עלות ביטחון אנרגטי | D13: 0 | E13: 0 | F13: =+' ביטחון אנרגטי'!C22*$A$15 -> -1812.9955 | G13: =+' ביטחון אנרגטי'!D22*$A$15 -> 74.243696 | H13: =+' ביטחון אנרגטי'!E22*$A$15 -> 296.97479 | I13: =+' ביטחון אנרגטי'!F22*$A$15 -> 3563.6974
A14: הסתברות תרחיש:
A15: 1
A16: סך עלויות עודפות לפי תרחישים | B16: תרחיש מרכזי | D16: =D6+D7+D8+D9+D10+D13 -> 0 | E16: =E6+E7+E8+E9+E10+E13 -> 0 | F16: =F6+F7+F8+F9+F10+F13 -> 1234.4081 | G16: =G6+G7+G8+G9+G10+G13 -> 3582.0394 | H16: =H6+H7+H8+H9+H10+H13 -> 7409.679 | I16: =I6+I7+I8+I9+I10+I13 -> 8529.9004
B17: פחם זול וגז יקר | D17: =D6+D7+D8+D9+D11+D13 -> -2821.262 | E17: =E6+E7+E8+E9+E11+E13 -> 0 | F17: =F6+F7+F8+F9+F11+F13 -> 413.04713 | G17: =G6+G7+G8+G9+G11+G13 -> 9501.6178 | H17: =H6+H7+H8+H9+H11+H13 -> 13037.496 | I17: =I6+I7+I8+I9+I11+I13 -> 14375.359
B18: פחם יקר וגז זול | D18: =D6+D7+D8+D9+D12+D13 -> 0 | E18: =E6+E7+E8+E9+E12+E13 -> 0 | F18: =F6+F7+F8+F9+F12+F13 -> 3150.9169 | G18: =G6+G7+G8+G9+G12+G13 -> -4308.2323 | H18: =H6+H7+H8+H9+H12+H13 -> 290.9944 | I18: =I6+I7+I8+I9+I12+I13 -> 1129.4573
A22: עלות עודפת ביחס למדיניות נוכחית בניכוי תועלות מהפחתת מזהמים מקומיים (מהוון) [מלש"ח]
D23: =D5 -> סגירת 1-4 ללא מדיניות הפחתה | E23: =E5 -> סגירת 1-4 עם מדיניות הפחתה | F23: =F5 -> 25% מתחדשות | G23: =G5 -> הסבה לגז | H23: =H5 -> שימור והקמה | I23: =I5 -> גריטה והקמה
A24: שינוי בפליטות לאורך התקופה (מהוון) | B24: שינוי בפליטות גזי חממה לכל התקופה ביחס למדיניות קיימת (מהוון) [מליון טון] | D24: =' פליטות - גזי חממה'!B36 -> 45.647534 | E24: - | F24: =' פליטות - גזי חממה'!Q36 -> -38.899067 | G24: =' פליטות - גזי חממה'!F36 -> -67.052095 | H24: =' פליטות - גזי חממה'!I36 -> -85.772166 | I24: =' פליטות - גזי חממה'!M36 -> -88.796662
B25: שינוי בפליטות SOX לכל התקופה ביחס למדיניות קיימת (מהוון) (אלפי טון) | D25: ='פליטות - SO2'!B35 -> 26.824746 | E25: - | F25: ='פליטות - SO2'!Q35 -> -0.51453792 | G25: ='פליטות - SO2'!F35 -> -35.777377 | H25: ='פליטות - SO2'!I35 -> -47.272553 | I25: ='פליטות - SO2'!M35 -> -49.049896
B26: שינוי בפליטות NOX לכל התקופה ביחס למדיניות קיימת (מהוון) (אלפי טון) | D26: ='פליטות - NOX'!B36 -> 16.822298 | E26: - | F26: ='פליטות - NOX'!Q36 -> -16.979751 | G26: ='פליטות - NOX'!F36 -> -15.879782 | H26: ='פליטות - NOX'!I36 -> -29.645499 | I26: ='פליטות - NOX'!M36 -> -30.760104 | M26: נתונים לגרף:
B27: שינוי בפליטות חלקיקים לכל התקופה ביחס למדיניות קיימת (מהוון) (אלפי טון) | D27: ='פליטות- חלקיקים'!B36 -> 1.2912251 | E27: - | F27: ='פליטות- חלקיקים'!Q36 -> -1.6259398 | G27: ='פליטות- חלקיקים'!F36 -> -2.5962723 | H27: ='פליטות- חלקיקים'!I36 -> -2.2754924 | I27: ='פליטות- חלקיקים'!M36 -> -2.3610458
A28: תועלת | B28: תועלת מהפחתת זיהום מקומית [מש״ח] | F28: =F25*'הנחות עבודה'!$B$98/10^3+F26*'הנחות עבודה'!$B$99/10^3+F27*'הנחות עבודה'!$B$100/10^3 -> -629.30647 | G28: =G25*'הנחות עבודה'!$B$98/10^3+G26*'הנחות עבודה'!$B$99/10^3+G27*'הנחות עבודה'!$B$100/10^3 -> -2320.9712 | H28: =H25*'הנחות עבודה'!$B$98/10^3+H26*'הנחות עבודה'!$B$99/10^3+H27*'הנחות עבודה'!$B$100/10^3 -> -3191.8238 | I28: =I25*'הנחות עבודה'!$B$98/10^3+I26*'הנחות עבודה'!$B$99/10^3+I27*'הנחות עבודה'!$B$100/10^3 -> -3311.8293 | N28: סגירת 1-4 ללא מדיניות הפחתה | O28: סגירת 1-4 עם מדיניות הפחתה | P28: 25% מתחדשות | Q28: הסבה לגז | R28: שימור והקמה | S28: גריטה והקמה
A29: עלת ההפחתה (מהוון) | B29: עלות נטו בניכוי תועלת מהפחתת זיהום מקומית - תרחיש מרכזי [מש״ח] | D29: =D16+D28 -> 0 | E29: =E16+E28 -> 0 | F29: =F16+F28 -> 605.10159 | G29: =G16+G28 -> 1261.0682 | H29: =H16+H28 -> 4217.8552 | I29: =I16+I28 -> 5218.0711 | L29: גזי חממה בממוצע לתקופה [גר׳/קוט״ש] | N29: =' פליטות - גזי חממה'!Z5 -> 407.26013 | O29: =' פליטות - גזי חממה'!AA5 -> 381.12379 | P29: =' פליטות - גזי חממה'!AB5 -> 354.56017 | Q29: =' פליטות - גזי חממה'!AC5 -> 339.10876 | R29: =' פליטות - גזי חממה'!AD5 -> 327.42607 | S29: =' פליטות - גזי חממה'!AE5 -> 325.43195
B30: עלות נטו בניכוי תועלת מהפחתת זיהום מקומית - פחם זול וגז יקר [מש״ח] | D30: =D17+D28 -> -2821.262 | E30: =E17+E28 -> 0 | F30: =F17+F28 -> -216.25934 | G30: =G17+G28 -> 7180.6465 | H30: =H17+H28 -> 9845.6726 | I30: =I17+I28 -> 11063.53 | L30: תרחיש מרכזי | N30: =D29 -> 0 | O30: =E29 -> 0 | P30: =F29 -> 605.10159 | Q30: =G29 -> 1261.0682 | R30: =H29 -> 4217.8552 | S30: =I29 -> 5218.0711 | AB30: ניתוח עלות תועלת
B31: עלות נטו בניכוי תועלת מהפחתת זיהום מקומית - פחם יקר וגז זול [מש״ח] | D31: =D18+D28 -> 0 | E31: =E18+E28 -> 0 | F31: =F18+F28 -> 2521.6104 | G31: =G18+G28 -> -6629.2035 | H31: =H18+H28 -> -2900.8294 | I31: =I18+I28 -> -2182.372 | L31: פחם זול וגז יקר | N31: =D30 -> -2821.262 | O31: =E30 -> 0 | P31: =F30 -> -216.25934 | Q31: =G30 -> 7180.6465 | R31: =H30 -> 9845.6726 | S31: =I30 -> 11063.53
L32: פחם יקר וגז זול | N32: =D31 -> 0 | O32: =E31 -> 0 | P32: =F31 -> 2521.6104 | Q32: =G31 -> -6629.2035 | R32: =H31 -> -2900.8294 | S32: =I31 -> -2182.372
B33: עלות שולית להפחתת גזי חממה
B34: תרחיש מרכזי | E34: תרחיש פחם זול וגז יקר | H34: תרחיש פחם יקר וגז זול
B35: תוספת עלות [מש״ח] | C35: הפחתת פליטות [מליון טון] | D35: עלות שולית להפחתת גזי חממה [₪/טון] | E35: תוספת עלות [מש״ח] | F35: הפחתה [מליון טון] | G35: עלות שולית להפחתת גזי חממה [₪/טון] | H35: תוספת עלות [מש״ח] | I35: הפחתה [מליון טון] | J35: עלות שולית להפחתת גזי חממה [₪/טון]
A36: עלות שולית של הפחתה באמצעות הסבה, ביחס למדיניות הנוכחית | B36: =G29 -> 1261.0682 | C36: =G24 -> -67.052095 | D36: =-B36/C36 -> 18.80729 | E36: =G30 -> 7180.6465 | F36: =G24 -> -67.052095 | G36: =-E36/F36 -> 107.09056 | H36: =G31 -> -6629.2035 | I36: =G24 -> -67.052095 | J36: =-H36/I36 -> -98.866464
A37: עלות שולית של הפחתה באמצעות שימור ביחס להסבה | B37: =H29-G29 -> 2956.787 | C37: =H24-G24 -> -18.720072 | D37: =-B37/C37 -> 157.94742 | E37: =H30-G30 -> 2665.0261 | F37: =H24-G24 -> -18.720072 | G37: =-E37/F37 -> 142.36196 | H37: =H31-G31 -> 3728.3741 | I37: =H24-G24 -> -18.720072 | J37: =-H37/I37 -> 199.16452
A38: עלות שולית של הפחתה באמצעות גריטה ביחס להסבה | B38: =I29-G29 -> 3957.0029 | C38: =I24-G24 -> -21.744567 | D38: =-B38/C38 -> 181.97663 | E38: =I30-G30 -> 3882.8834 | F38: =I24-G24 -> -21.744567 | G38: =-E38/F38 -> 178.56798 | H38: =I31-G31 -> 4446.8315 | I38: =I24-G24 -> -21.744567 | J38: =-H38/I38 -> 204.50311

Sheet הנחות עבודה
A1: הנחות עבודה
A2: תחזית ביקוש משקי -TWH | D2: נתוני דלקים ועלויות יצור | F2: מקור | H2: אתרים פחמיים | I2: הספק [מ״ו] | J2: שנת הקמה | K2: שנת גריטה מתוכננת במדיניות קיימת | L2: שנת הסבה במדיניות מוצעתֿ | M2: שנת שימור הקמה במדיניות המוצעת | N2: עלות קבועה (₪ לקוו"ט לשנה) | O2: תוספת בהסבה (₪ לקוו"ט)
A3: קצב גידול ביקוש | B3: 0.027 | D3: אחוז מתחדשות 2030 | E3: 0.17 | F3: החלטת ממשלה משנת 2015 | H3: רבין 1-4 | I3: 1440 | J3: 1981-1984 | K3: 2022
A4: שנה | B4: יצור [TWh] | D4: אחוז מתחדשות ב 2025 | E4: 0.13 | F4: החלטת ממשלה משנת 2015 | H4: רבין 5-6 | I4: 1150 | J4: 1995-1996 | K4: 2045 | L4: 2024 | M4: 2026 | N4: 188.26213 | O4: 7.9317322
A5: 2020 | B5: 73.405 | D5: עלות ב-₪ לקוו"ט מותקן מחז"מ | E5: =3947 -> 3947 | F5: הסדרה 914 | H5: רוטנברג 1-2 | I5: 1150 | J5: 1990-19991 | K5: 2040 | L5: 2022 | M5: 2024 | N5: 206.523 | O5: -1.2410071
A6: 2021 | B6: 74.593 | D6: עלות ב-₪ לקוו"ט מותקן מחזור פתוח | E6: =2867 -> 2867 | F6: הסדרה 914 | H6: רוטנברג 3-4 | I6: 1100 | J6: 2000-2001 | K6: 2049 | L6: 2026 | M6: 2028 | N6: 186.19385 | O6: 11.910159
A7: 2022 | B7: 77.029 | D7: מקדם תוספת עלות בגין ריבית בזמן הקמה | E7: =(1+B37)^(3/2) -> 1.0605961 | F7: חישוב הרשות | H7: סה״כ מ"ו מותקן פחמי לפני גריטת 1-4 | I7: =SUM(I3:I6) -> 4840
A8: 2023 | B8: 79.544 | D8: עלות ב-₪ לקוו"ט ליחידת יצור משוקללת בגז | E8: =(E24*E6+(1-E24)*E5)*E7 -> 3785.2673 | F8: מחושב לפי תמהיל העלויות | H8: סה״כ/ממוצע | I8: 3400 | N8: =SUMPRODUCT(N4:N6,I4:I6)/I8 -> 193.76945 | O8: 6.1163261
A9: 2024 | B9: 82.142 | D9: עלות תפעול קבועה ב-₪ לקוו"ט פחמי | E9: =N8 -> 193.76945 | F9: ממוצע נתוני חח"י בפועל
A10: 2025 | B10: 84.824 | D10: עלות תפעול קבועה ב-₪ לקוו"ט מוסב | E10: =+E9+O8 -> 199.88578 | F10: ממוצע הערכת חח"י
A11: 2026 | B11: =B10*(1+$B$3) -> 87.114248 | D11: עלות תפעול קבועה ב-₪ לקוו"ט מחז"מ | E11: =165 -> 165 | F11: הסדרה 914
A12: 2027 | B12: =B11*(1+$B$3) -> 89.466333 | D12: עלות תפעול קבועה ב-₪ לקוו"ט מחזור פתוח | E12: =163 -> 163 | F12: הסדרה 914
A13: 2028 | B13: =B12*(1+$B$3) -> 91.881924 | D13: עלות תפעול קבועה ב-₪ לקוו"ט לתמהיל מחז״ם ופיקר | E13: =E12*E24+E11*(1-E24) -> 164.3 | F13: מחושב לפי תמהיל העלויות
A14: 2029 | B14: =B13*(1+$B$3) -> 94.362736 | D14: תפעול משתנה באג׳ לקוט״ש של מתקנים להפחתת פליטות | E14: 0.27710356 | F14: העלות המוכרת לחח"י לתפעול המתקנים
A15: 2030 | B15: =B14*(1+$B$3) -> 96.910529 | D15: תפעול משתנה באג׳ לקוט״ש של מתקנים להפחתת פליטות ללא FGD | E15: 0.19818182 | F15: העלות המוכרת לחח"י לתפעול המתקנים
A16: 2031 | B16: =B15*(1+$B$3) -> 99.527114 | D16: תפעול משתנה ללא מתקנים להפחתת פליטות (דולר ל-MWH) | E16: 0.6 | F16: עדכון תוכנית פיתוח חח"י 2016
A17: 2032 | B17: =B16*(1+$B$3) -> 102.21435 | D17: תפעול משתנה באג' לקוט"ש פחמי | E17: =E16*B36/1000*100+E14 -> 0.49310356 | F17: נתוני חח"י
A18: 2033 | B18: =B17*(1+$B$3) -> 104.97413 | D18: תפעול משתנה באג' לקוט"ש מוסב | E18: =E16*B36/1000*100+E15 -> 0.41418182 | F18: נתוני חח"י בניכוי FGD
A19: 2034 | B19: =B18*(1+$B$3) -> 107.80843 | D19: תפעול משתנה באג' לקוט"ש מחז"מ | E19: =1.03 -> 1.03 | F19: הסדרה 914
A20: 2035 | B20: =B19*(1+$B$3) -> 110.71926 | D20: תפעול משתנה באג' לקוט"ש מחזור פתוח | E20: =0.55 -> 0.55 | F20: הסדרה 914
A21: 2036 | B21: =B20*(1+$B$3) -> 113.70868 | D21: תפעול משתנה באג' לקוט"ש ליחידת גז משוקללת | E21: =E20*E25+E19*(1-E25) -> 0.958 | F21: מחושב לפי תמהיל העלויות
A22: 2037 | B22: =B21*(1+$B$3) -> 116.77882 | D22: הספק בגז נדרש בתרחישי שימור וגריטה (מגה וואט) | E22: 3660 | F22: הרצת תפ״ט
A23: 2038 | B23: =B22*(1+$B$3) -> 119.93185 | D23: משך פחת למתקן יצור חשמל בגז (שנה) | E23: 25 | F23: בסיס תעריף חח״י
A24: 2039 | B24: =B23*(1+$B$3) -> 123.17 | D24: אחוז פיקר מתוך ההספק המותקן הנוסף | E24: 0.35 | F24: נתוני תפ"ט ועיבודי רשות החשמל
A25: 2040 | B25: =B24*(1+$B$3) -> 126.4956 | D25: אחוז פיקר מתוך האנרגיה המיוצרת בגז | E25: 0.15 | F25: עיבוד רשות החשמל מחובות הדיווח
A26: 2041 | B26: =B25*(1+$B$3) -> 129.91098 | D26: מקדם הספק למחז״ם חדש | E26: =6500/8760 -> 0.74200913 | F26: הערכה
A27: 2042 | B27: =B26*(1+$B$3) -> 133.41857 | D27: מקדם הספק לפיקר חדש | E27: =1500/8760 -> 0.17123288 | F27: הערכה
A28: 2043 | B28: =B27*(1+$B$3) -> 137.02087 | D28: נצילות מחז״ם חדש LHV | E28: 0.65 | F28: נתוני יצרנים + 2% שיפור עתידי
A29: 2044 | B29: =B28*(1+$B$3) -> 140.72044 | D29: נצילות מחז״ם חדש HHV | E29: =E28/1.11 -> 0.58558559 | F29: חישוב
A30: 2045 | B30: =B29*(1+$B$3) -> 144.51989 | D30: נצילות מחז״ם חדש HHV עם פקטור טמפרטורה, עבודה בעומס חלקי והזדקנות | E30: =E28*$E$34*$E$35*E36/$B$45 -> 0.54271282 | F30: חישוב
A31: 2040 | B31: =B24*(1+$B$3) -> 126.4956 | D31: נצילות פיקר חדש LHV | E31: 0.43 | F31: נתוני יצרנים +2% מקדם שיפור עתידי
A32: סך הכל לתקופה | B32: =SUM(B5:B31) -> 2868.6873 | D32: נצילות פיקר חדש HHV | E32: =E31/1.11 -> 0.38738739
A33: מקור: סטטיסטיקאי ראשי חח״י, הנחות הרצת תפ"ט בסימוכין 794/16/2019 | D33: נצילות פיקר חדש HHV עם פקטור טמפרטורה | E33: =E31*E34/B45 -> 0.37576577 | F33: חישוב
D34: מקדם הפחתת נצילות בגין טמפרטורת אתר (20 מעלות בממוצע שנתי) | E34: 0.97 | F34: הסדרה 914
A35: נתונים כלכליים | D35: מקדם הפחתת נצילות בגין הזדקנות | E35: 0.985 | F35: הסדרה 914
A36: שער הדולר | B36: 3.6 | D36: מקדם הפחתת נצילות בגין עומס חלקי והתנעות | E36: 0.97 | F36: הסדרה 914
A37: ריבית היוון | B37: 0.04 | D37: נצילות פחם במדיניות ההפחתה HHV | E37: =AVERAGE(F61,F62)/1.04 -> 0.36678125 | F37: חישוב
D38: נצילות פחמית מוסבת לגז (כולל חסכון בצריכה עצמית) | E38: =E37+1.3% -> 0.37978125 | F38: הערכת ינ״ם
D39: ממוצע צריכת דלק ליצור בגז טבעי (MMBTU/MWH) HHV | E39: =AVERAGE(E67,E68) -> 7.3658587 | F39: חישוב
A40: המרות | D40: ממוצע צריכת דלק ליצור ביחידה מוסבת (MMBTU/MWH ) | E40: =1.04*B41/E38 -> 9.343484 | F40: חישוב
...

Sheet הספק לפי חלופה
A1: הספק פחם והספק חליפי לפי חלופה ולפי שנה
A2: שנה | B2: סגירת 1-4 ללא מדיניות הפחתה | E2: סגירת 1-4 ומדיניות הפחתה | H2: הסבה | K2: שימור והקמה | O2: גריטה והקמה | R2: 25% מתחדשות
B3: הספק פחם (MW) | C3: הספק גז מוקם מצטבר (MW) | E3: הספק פחם (MW) | F3: הספק גז מוקם מצטבר (MW) | H3: הספק פחם (MW) | I3: הספק מוסב (MW) | J3: הספק גז מוקם מצטבר (MW) | K3: הספק פחם (MW) | L3: הספק פחם בשימור (MW) | M3: הספק גז מוקם מצטבר (MW) | O3: הספק פחם (MW) | P3: =M3 -> הספק גז מוקם מצטבר (MW) | R3: הספק פחם (MW) | S3: =P3 -> הספק גז מוקם מצטבר (MW)
A4: 2020 | B4: ='הנחות עבודה'!I8 -> 3400 | E4: =B4 -> 3400 | F4: =C4 -> 0 | H4: 3400 | I4: 0 | J4: =F4 -> 0 | K4: 3400 | L4: 0 | M4: 0 | O4: 3400 | P4: 0 | R4: =E4 -> 3400 | S4: =F4 -> 0
A5: 2021 | B5: =B4 -> 3400 | E5: =B5 -> 3400 | F5: =C5 -> 0 | H5: 3400 | I5: 0 | J5: =F5 -> 0 | K5: 3400 | L5: 0 | M5: 0 | O5: 3400 | P5: 0 | R5: =E5 -> 3400 | S5: =F5 -> 0
A6: 2022 | B6: =B5 -> 3400 | E6: =B6 -> 3400 | F6: =C6 -> 0 | H6: ='הנחות עבודה'!$I$8-'הספק לפי חלופה'!I6 -> 2250 | I6: ='הנחות עבודה'!I4 -> 1150 | J6: =F6 -> 0 | K6: 3400 | L6: 0 | M6: 0 | O6: 3400 | P6: 0 | R6: =E6 -> 3400 | S6: =F6 -> 0
A7: =A6+1 -> 2023 | B7: =B4 -> 3400 | E7: =B7 -> 3400 | F7: =C7 -> 0 | H7: ='הנחות עבודה'!$I$8-'הספק לפי חלופה'!I7 -> 2250 | I7: =I6 -> 1150 | J7: =F7 -> 0 | K7: 3400 | L7: 0 | M7: 0 | O7: 3400 | P7: 0 | R7: =E7 -> 3400 | S7: =F7 -> 0
A8: =A7+1 -> 2024 | B8: =B7 -> 3400 | E8: =B8 -> 3400 | F8: =C8 -> 0 | H8: ='הנחות עבודה'!$I$8-'הספק לפי חלופה'!I8 -> 1100 | I8: =I7+'הנחות עבודה'!I5 -> 2300 | J8: =F8 -> 0 | K8: =MAX('הנחות עבודה'!$I$8-'הספק לפי חלופה'!L8,0) -> 2250 | L8: ='הנחות עבודה'!I4 -> 1150 | M8: ='הנחות עבודה'!E22/3 -> 1220 | O8: =K8 -> 2250 | P8: =M8 -> 1220 | R8: =E8 -> 3400 | S8: =F8 -> 0
A9: =A8+1 -> 2025 | B9: =B8 -> 3400 | E9: =B9 -> 3400 | F9: =C9 -> 0 | H9: ='הנחות עבודה'!$I$8-'הספק לפי חלופה'!I9 -> 1100 | I9: =I8 -> 2300 | J9: =F9 -> 0 | K9: =MAX('הנחות עבודה'!$I$8-'הספק לפי חלופה'!L9,0) -> 2250 | L9: =L8 -> 1150 | M9: =M8 -> 1220 | O9: =K9 -> 2250 | P9: =M9 -> 1220 | R9: =E9 -> 3400 | S9: =F9 -> 0
A10: =A9+1 -> 2026 | B10: =B9 -> 3400 | E10: =B10 -> 3400 | F10: =C10 -> 0 | I10: =I9+'הנחות עבודה'!I6 -> 3400 | J10: =F10 -> 0 | K10: =MAX('הנחות עבודה'!$I$8-'הספק לפי חלופה'!L10,0) -> 1100 | L10: =L9+'הנחות עבודה'!I5 -> 2300 | M10: =M9*2 -> 2440 | O10: =K10 -> 1100 | P10: =M10 -> 2440 | R10: =E10 -> 3400 | S10: =F10 -> 0
A11: =A10+1 -> 2027 | B11: =B10 -> 3400 | E11: =B11 -> 3400 | F11: =C11 -> 0 | H11: =H10 -> 0 | I11: 3400 | J11: =F11 -> 0 | K11: =MAX('הנחות עבודה'!$I$8-'הספק לפי חלופה'!L11,0) -> 1100 | L11: =L10 -> 2300 | M11: =M10 -> 2440 | O11: =K11 -> 1100 | P11: =M11 -> 2440 | R11: =E11 -> 3400 | S11: =F11 -> 0
A12: =A11+1 -> 2028 | B12: =B11 -> 3400 | E12: =B12 -> 3400 | F12: =C12 -> 0 | H12: =H11 -> 0 | I12: =I10 -> 3400 | J12: =F12 -> 0 | K12: =MAX('הנחות עבודה'!$I$8-'הספק לפי חלופה'!L12,0) -> 0 | L12: 3400 | M12: =M9*3 -> 3660 | O12: =K12 -> 0 | P12: =M12 -> 3660 | R12: =E12 -> 3400 | S12: =F12 -> 0
A13: =A12+1 -> 2029 | B13: =B12 -> 3400 | E13: =B13 -> 3400 | F13: =C13 -> 0 | H13: =H12 -> 0 | I13: =I12 -> 3400 | J13: =F13 -> 0 | K13: =K12 -> 0 | L13: =B12 -> 3400 | M13: =M12 -> 3660 | O13: =K13 -> 0 | P13: =M13 -> 3660 | R13: =E13 -> 3400 | S13: =F13 -> 0
A14: =A13+1 -> 2030 | B14: =B13 -> 3400 | E14: =B14 -> 3400 | F14: =C14 -> 0 | H14: =H13 -> 0 | I14: =I13 -> 3400 | J14: =F14 -> 0 | K14: =K13 -> 0 | L14: =B13 -> 3400 | M14: =M13 -> 3660 | O14: =K14 -> 0 | P14: =M14 -> 3660 | R14: =E14 -> 3400 | S14: =F14 -> 0
A15: =A14+1 -> 2031 | B15: =B14 -> 3400 | E15: =B15 -> 3400 | F15: =C15 -> 0 | H15: =H14 -> 0 | I15: =I14 -> 3400 | J15: =F15 -> 0 | K15: =K14 -> 0 | L15: =B14 -> 3400 | M15: =M14 -> 3660 | O15: =K15 -> 0 | P15: =M15 -> 3660 | R15: =E15 -> 3400 | S15: =F15 -> 0
A16: =A15+1 -> 2032 | B16: =B15 -> 3400 | E16: =B16 -> 3400 | F16: =C16 -> 0 | H16: =H15 -> 0 | I16: =I15 -> 3400 | J16: =F16 -> 0 | K16: =K15 -> 0 | L16: =B15 -> 3400 | M16: =M15 -> 3660 | O16: =K16 -> 0 | P16: =M16 -> 3660 | R16: =E16 -> 3400 | S16: =F16 -> 0
A17: =A16+1 -> 2033 | B17: =B16 -> 3400 | E17: =B17 -> 3400 | F17: =C17 -> 0 | H17: =H16 -> 0 | I17: =I16 -> 3400 | J17: =F17 -> 0 | K17: =K16 -> 0 | L17: =B16 -> 3400 | M17: =M16 -> 3660 | O17: =K17 -> 0 | P17: =M17 -> 3660 | R17: =E17 -> 3400 | S17: =F17 -> 0
A18: =A17+1 -> 2034 | B18: =B17 -> 3400 | E18: =B18 -> 3400 | F18: =C18 -> 0 | H18: =H17 -> 0 | I18: =I17 -> 3400 | J18: =F18 -> 0 | K18: =K17 -> 0 | L18: =B17 -> 3400 | M18: =M17 -> 3660 | O18: =K18 -> 0 | P18: =M18 -> 3660 | R18: =E18 -> 3400 | S18: =F18 -> 0
A19: =A18+1 -> 2035 | B19: =B18 -> 3400 | E19: =B19 -> 3400 | F19: =C19 -> 0 | H19: =H18 -> 0 | I19: =I18 -> 3400 | J19: =F19 -> 0 | K19: =K18 -> 0 | L19: =B18 -> 3400 | M19: =M18 -> 3660 | O19: =K19 -> 0 | P19: =M19 -> 3660 | R19: =E19 -> 3400 | S19: =F19 -> 0
A20: =A19+1 -> 2036 | B20: =B19 -> 3400 | E20: =B20 -> 3400 | F20: =C20 -> 0 | H20: =H19 -> 0 | I20: =I19 -> 3400 | J20: =F20 -> 0 | K20: =K19 -> 0 | L20: =B19 -> 3400 | M20: =M19 -> 3660 | O20: =K20 -> 0 | P20: =M20 -> 3660 | R20: =E20 -> 3400 | S20: =F20 -> 0
A21: =A20+1 -> 2037 | B21: =B20 -> 3400 | E21: =B21 -> 3400 | F21: =C21 -> 0 | H21: =H20 -> 0 | I21: =I20 -> 3400 | J21: =F21 -> 0 | K21: =K20 -> 0 | L21: =B20 -> 3400 | M21: =M20 -> 3660 | O21: =K21 -> 0 | P21: =M21 -> 3660 | R21: =E21 -> 3400 | S21: =F21 -> 0
A22: =A21+1 -> 2038 | B22: =B21 -> 3400 | E22: =B22 -> 3400 | F22: =C22 -> 0 | H22: =H21 -> 0 | I22: =I21 -> 3400 | J22: =F22 -> 0 | K22: =K21 -> 0 | L22: =B21 -> 3400 | M22: =M21 -> 3660 | O22: =K22 -> 0 | P22: =M22 -> 3660 | R22: =E22 -> 3400 | S22: =F22 -> 0
A23: =A22+1 -> 2039 | B23: =B22 -> 3400 | E23: =B23 -> 3400 | F23: =C23 -> 0 | H23: =H22 -> 0 | I23: =B23 -> 3400 | J23: =F23 -> 0 | K23: =K22 -> 0 | L23: =B22 -> 3400 | M23: =M22 -> 3660 | O23: =K23 -> 0 | P23: =M23 -> 3660 | R23: =E23 -> 3400 | S23: =F23 -> 0
A24: =A23+1 -> 2040 | B24: =B23-'הנחות עבודה'!I5 -> 2250 | C24: ='הנחות עבודה'!$E$22/3 -> 1220 | E24: =B24 -> 2250 | F24: =C24 -> 1220 | H24: =H23 -> 0 | I24: =B24 -> 2250 | J24: =F24 -> 1220 | K24: =K23 -> 0 | L24: =B23 -> 3400 | M24: =M23 -> 3660 | O24: =K24 -> 0 | P24: =M24 -> 3660 | R24: =E24 -> 2250 | S24: =F24 -> 1220
A25: =A24+1 -> 2041 | B25: =B24 -> 2250 | C25: ='הנחות עבודה'!$E$22/3 -> 1220 | E25: =B25 -> 2250 | F25: =C25 -> 1220 | H25: =H24 -> 0 | I25: =B25 -> 2250 | J25: =F25 -> 1220 | K25: =K24 -> 0 | L25: =B24 -> 2250 | M25: =M24 -> 3660 | O25: =K25 -> 0 | P25: =M25 -> 3660 | R25: =E25 -> 2250 | S25: =F25 -> 1220
A26: =A25+1 -> 2042 | B26: =B25 -> 2250 | C26: ='הנחות עבודה'!$E$22/3 -> 1220 | E26: =B26 -> 2250 | F26: =C26 -> 1220 | H26: =H25 -> 0 | I26: =B26 -> 2250 | J26: =F26 -> 1220 | K26: =K25 -> 0 | L26: =B25 -> 2250 | M26: =M25 -> 3660 | O26: =K26 -> 0 | P26: =M26 -> 3660 | R26: =E26 -> 2250 | S26: =F26 -> 1220
A27: =A26+1 -> 2043 | B27: =B26 -> 2250 | C27: ='הנחות עבודה'!$E$22/3 -> 1220 | E27: =B27 -> 2250 | F27: =C27 -> 1220 | H27: =H26 -> 0 | I27: =B27 -> 2250 | J27: =F27 -> 1220 | K27: =K26 -> 0 | L27: =B26 -> 2250 | M27: =M26 -> 3660 | O27: =K27 -> 0 | P27: =M27 -> 3660 | R27: =E27 -> 2250 | S27: =F27 -> 1220
A28: =A27+1 -> 2044 | B28: =B27 -> 2250 | C28: ='הנחות עבודה'!$E$22/3 -> 1220 | E28: =B28 -> 2250 | F28: =C28 -> 1220 | H28: =H27 -> 0 | I28: =B28 -> 2250 | J28: =F28 -> 1220 | K28: =K27 -> 0 | L28: =B27 -> 2250 | M28: =M27 -> 3660 | O28: =K28 -> 0 | P28: =M28 -> 3660 | R28: =E28 -> 2250 | S28: =F28 -> 1220
A29: =A28+1 -> 2045 | B29: =B28-'הנחות עבודה'!I4 -> 1100 | C29: ='הנחות עבודה'!$E$22*2/3 -> 2440 | E29: =B29 -> 1100 | F29: =C29 -> 2440 | H29: =H28 -> 0 | I29: =B29 -> 1100 | J29: =F29 -> 2440 | K29: =K28 -> 0 | L29: =B28 -> 2250 | M29: =M23 -> 3660 | O29: =O23 -> 0 | P29: =M29 -> 3660 | R29: =E29 -> 1100 | S29: =F29 -> 2440
A30: הערות:
A31: בחלופות השימור והגריטה נדרשת תוספת הספק בהקף של כ 3660 מ״ו. הספק זה נפרס בהתאם לשנות הגריטה/שימור
A32: הגיליון מתמקד בחלופות להספק הפחמי ואינו כולל את ההספק הנוסף הנדרש למשק בכל החלופות לאור הגידול בביקוש

Sheet תמהיל יצור
A1: תמהיל הדלקים לפי חלופה ולפי שנה
B2: ייצור משקי ומתחדשות | G2: סגירת 1-4 ללא מדיניות הפחתה | K2: סגירת 1-4 עם מדיניות הפחתה | O2: הסבה | U2: שימור והקמה | AB2: גריטה והקמה | AH2: 25% מתחדשות
B3: שנה | C3: יצור משקי - Twh | D3: אחוז מתחדשות | E3: מתחדשות TWH | G3: =E3 -> מתחדשות TWH | H3: פחם - TWH | I3: גז - TWH | K3: =E3 -> מתחדשות TWH | L3: פחם TWH | M3: גז - TWH | O3: מתחדשות TWh | P3: פחם ביחידה פחמית TWh | Q3: פחם ביחידה מוסבת TWh | R3: גז ביחידה מוסבת - TWH | S3: =X3 -> גז ביחידות קיימות TWH | U3: מתחדשות TWh | V3: פחם ביחידה פחמית TWh | W3: פחם ביחידה בשימור TWh | X3: גז ביחידות קיימות TWH | Y3: גז במחז״מים חדשים TWH | Z3: גז בפיקרים חדשים TWH | AB3: מתחדשות | AC3: פחם TWh | AD3: גז ביחידות קיימות TWH | AE3: גז במחז״מים חדשים TWH | AF3: גז בפיקרים חדשים TWH | AH3: אחוז מתחדשות | AI3: תוספת מתחדשות - TWH | AJ3: מתחדשות כולל-TWH | AK3: פחם - TWH | AL3: גז - TWH
B4: 2020 | C4: =+'הנחות עבודה'!B5 -> 73.405 | D4: 0.1 | E4: =D4*C4 -> 7.3405 | G4: =E4 -> 7.3405 | H4: =$E$38*('הספק לפי חלופה'!B4/$E$36) -> 20.512397 | I4: =C4-H4-E4 -> 45.552103 | K4: =E4 -> 7.3405 | L4: =$E$39*'הספק לפי חלופה'!E4/$E$36 -> 14.471074 | M4: =C4-E4-L4 -> 51.593426 | O4: =E4 -> 7.3405 | P4: =('הספק לפי חלופה'!H4/$E$36)*'תמהיל יצור'!$E$39 -> 14.471074 | Q4: =$E$42*'הספק לפי חלופה'!I4 -> 0 | R4: =($E$41/$E$40)*('הספק לפי חלופה'!I4/'תמהיל יצור'!$E$37)*L4 -> 0 | S4: =C4-E4-Q4-R4-P4 -> 51.593426 | U4: =E4 -> 7.3405 | V4: =P4 -> 14.471074 | W4: =$E$43*'הספק לפי חלופה'!L4 -> 0 | X4: =C4-W4-V4-U4-Y4-Z4 -> 51.593426 | Y4: ='הספק לפי חלופה'!M4*(1-'הנחות עבודה'!$E$24)*'הנחות עבודה'!$E$26*8760/10^6 -> 0 | Z4: ='הספק לפי חלופה'!M4*'הנחות עבודה'!$E$24*'הנחות עבודה'!$E$27*8760/10^6 -> 0 | AB4: =E4 -> 7.3405 | AC4: =V4 -> 14.471074 | AD4: =C4-AB4-AC4-AE4-AF4 -> 51.593426 | AE4: ='הספק לפי חלופה'!P4*(1-'הנחות עבודה'!$E$24)*'הנחות עבודה'!$E$26*8760/10^6 -> 0 | AF4: ='הספק לפי חלופה'!P4*'הנחות עבודה'!$E$24*'הנחות עבודה'!$E$27*8760/10^6 -> 0 | AH4: =D4 -> 0.1 | AI4: =AJ4-E4 -> 0 | AJ4: =AB4 -> 7.3405 | AK4: =L4 -> 14.471074 | AL4: =C4-AK4-AJ4 -> 51.593426
B5: 2021 | C5: =+'הנחות עבודה'!B6 -> 74.593 | D5: 0.11 | E5: =D5*C5 -> 8.20523 | G5: =E5 -> 8.20523 | H5: =$E$38*('הספק לפי חלופה'!B5/$E$36) -> 20.512397 | I5: =C5-H5-E5 -> 45.875373 | K5: =E5 -> 8.20523 | L5: =$E$39*'הספק לפי חלופה'!E5/$E$36 -> 14.471074 | M5: =C5-E5-L5 -> 51.916696 | O5: =E5 -> 8.20523 | P5: =('הספק לפי חלופה'!H5/$E$36)*'תמהיל יצור'!$E$39 -> 14.471074 | Q5: =$E$42*'הספק לפי חלופה'!I5 -> 0 | R5: =($E$41/$E$40)*('הספק לפי חלופה'!I5/'תמהיל יצור'!$E$37)*L5 -> 0 | S5: =C5-E5-Q5-R5-P5 -> 51.916696 | U5: =E5 -> 8.20523 | V5: =P5 -> 14.471074 | W5: =$E$43*'הספק לפי חלופה'!L5 -> 0 | X5: =C5-W5-V5-U5-Y5-Z5 -> 51.916696 | Y5: ='הספק לפי חלופה'!M5*(1-'הנחות עבודה'!$E$24)*'הנחות עבודה'!$E$26*8760/10^6 -> 0 | Z5: ='הספק לפי חלופה'!M5*'הנחות עבודה'!$E$24*'הנחות עבודה'!$E$27*8760/10^6 -> 0 | AB5: =E5 -> 8.20523 | AC5: =V5 -> 14.471074 | AD5: =C5-AB5-AC5-AE5-AF5 -> 51.916696 | AE5: ='הספק לפי חלופה'!P5*(1-'הנחות עבודה'!$E$24)*'הנחות עבודה'!$E$26*8760/10^6 -> 0 | AF5: ='הספק לפי חלופה'!P5*'הנחות עבודה'!$E$24*'הנחות עבודה'!$E$27*8760/10^6 -> 0 | AH5: =D5 -> 0.11 | AI5: =AJ5-E5 -> 0 | AJ5: =AB5 -> 8.20523 | AK5: =L5 -> 14.471074 | AL5: =C5-AK5-AJ5 -> 51.916696
B6: 2022 | C6: =+'הנחות עבודה'!B7 -> 77.029 | D6: 0.11 | E6: =D6*C6 -> 8.47319 | G6: =E6 -> 8.47319 | H6: =$E$38*('הספק לפי חלופה'!B6/$E$36) -> 20.512397 | I6: =C6-H6-E6 -> 48.043413 | K6: =E6 -> 8.47319 | L6: =$E$39*'הספק לפי חלופה'!E6/$E$36 -> 14.471074 | M6: =C6-E6-L6 -> 54.084736 | O6: =E6 -> 8.47319 | P6: =('הספק לפי חלופה'!H6/$E$36)*'תמהיל יצור'!$E$39 -> 9.5764463 | Q6: =$E$42*'הספק לפי חלופה'!I6 -> 0.24860294 | R6: =($E$41/$E$40)*('הספק לפי חלופה'!I6/'תמהיל יצור'!$E$37)*L6 -> 3.9157025 | S6: =C6-E6-Q6-R6-P6 -> 54.815058 | U6: =E6 -> 8.47319 | V6: =P6 -> 9.5764463 | W6: =$E$43*'הספק לפי חלופה'!L6 -> 0 | X6: =C6-W6-V6-U6-Y6-Z6 -> 58.979364 | Y6: ='הספק לפי חלופה'!M6*(1-'הנחות עבודה'!$E$24)*'הנחות עבודה'!$E$26*8760/10^6 -> 0 | Z6: ='הספק לפי חלופה'!M6*'הנחות עבודה'!$E$24*'הנחות עבודה'!$E$27*8760/10^6 -> 0 | AB6: =E6 -> 8.47319 | AC6: =V6 -> 9.5764463 | AD6: =C6-AB6-AC6-AE6-AF6 -> 58.979364 | AE6: ='הספק לפי חלופה'!P6*(1-'הנחות עבודה'!$E$24)*'הנחות עבודה'!$E$26*8760/10^6 -> 0 | AF6: ='הספק לפי חלופה'!P6*'הנחות עבודה'!$E$24*'הנחות עבודה'!$E$27*8760/10^6 -> 0 | AH6: 0.12 | AI6: =AJ6-E6 -> 0 | AJ6: =AB6 -> 8.47319 | AK6: =L6 -> 14.471074 | AL6: =C6-AK6-AJ6 -> 54.084736
B7: =B6+1 -> 2023 | C7: =+'הנחות עבודה'!B8 -> 79.544 | D7: 0.12 | E7: =D7*C7 -> 9.54528 | G7: =E7 -> 9.54528 | H7: =$E$38*('הספק לפי חלופה'!B7/$E$36) -> 20.512397 | I7: =C7-H7-E7 -> 49.486323 | K7: =E7 -> 9.54528 | L7: =$E$39*'הספק לפי חלופה'!E7/$E$36 -> 14.471074 | M7: =C7-E7-L7 -> 55.527646 | O7: =E7 -> 9.54528 | P7: =('הספק לפי חלופה'!H7/$E$36)*'תמהיל יצור'!$E$39 -> 9.5764463 | Q7: =$E$42*'הספק לפי חלופה'!I7 -> 0.24860294 | R7: =($E$41/$E$40)*('הספק לפי חלופה'!I7/'תמהיל יצור'!$E$37)*L7 -> 3.9157025 | S7: =C7-E7-Q7-R7-P7 -> 56.257968 | U7: =E7 -> 9.54528 | V7: =P7 -> 9.5764463 | W7: =$E$43*'הספק לפי חלופה'!L7 -> 0 | X7: =C7-W7-V7-U7-Y7-Z7 -> 60.422274 | Y7: ='הספק לפי חלופה'!M7*(1-'הנחות עבודה'!$E$24)*'הנחות עבודה'!$E$26*8760/10^6 -> 0 | Z7: ='הספק לפי חלופה'!M7*'הנחות עבודה'!$E$24*'הנחות עבודה'!$E$27*8760/10^6 -> 0 | AB7: =E7 -> 9.54528 | AC7: =V7 -> 9.5764463 | AD7: =C7-AB7-AC7-AE7-AF7 -> 60.422274 | AE7: ='הספק לפי חלופה'!P7*(1-'הנחות עבודה'!$E$24)*'הנחות עבודה'!$E$26*8760/10^6 -> 0 | AF7: ='הספק לפי חלופה'!P7*'הנחות עבודה'!$E$24*'הנחות עבודה'!$E$27*8760/10^6 -> 0 | AH7: =AH6+0.02 -> 0.14 | AI7: =AJ7-E7 -> 1.59088 | AJ7: =AH7*C7 -> 11.13616 | AK7: =L7 -> 14.471074 | AL7: =C7-AK7-AJ7 -> 53.936766
B8: =B7+1 -> 2024 | C8: =+'הנחות עבודה'!B9 -> 82.142 | D8: =D9-0.01 -> 0.12 | E8: =D8*C8 -> 9.85704 | G8: =E8 -> 9.85704 | H8: =$E$38*('הספק לפי חלופה'!B8/$E$36) -> 20.512397 | I8: =C8-H8-E8 -> 51.772563 | K8: =E8 -> 9.85704 | L8: =$E$39*'הספק לפי חלופה'!E8/$E$36 -> 14.471074 | M8: =C8-E8-L8 -> 57.813886 | O8: =E8 -> 9.85704 | P8: =('הספק לפי חלופה'!H8/$E$36)*'תמהיל יצור'!$E$39 -> 4.6818182 | Q8: =$E$42*'הספק לפי חלופה'!I8 -> 0.49720588 | R8: =($E$41/$E$40)*('הספק לפי חלופה'!I8/'תמהיל יצור'!$E$37)*L8 -> 7.831405 | S8: =C8-E8-Q8-R8-P8 -> 59.274531 | U8: =E8 -> 9.85704 | V8: =P8 -> 4.6818182 | W8: =$E$43*'הספק לפי חלופה'!L8 -> 0.20091176 | X8: =C8-W8-V8-U8-Y8-Z8 -> 61.60723 | Y8: ='הספק לפי חלופה'!M8*(1-'הנחות עבודה'!$E$24)*'הנחות עבודה'!$E$26*8760/10^6 -> 5.1545 | Z8: ='הספק לפי חלופה'!M8*'הנחות עבודה'!$E$24*'הנחות עבודה'!$E$27*8760/10^6 -> 0.6405 | AB8: =E8 -> 9.85704 | AC8: =V8 -> 4.6818182 | AD8: =C8-AB8-AC8-AE8-AF8 -> 61.808142 | AE8: ='הספק לפי חלופה'!P8*(1-'הנחות עבודה'!$E$24)*'הנחות עבודה'!$E$26*8760/10^6 -> 5.1545 | AF8: ='הספק לפי חלופה'!P8*'הנחות עבודה'!$E$24*'הנחות עבודה'!$E$27*8760/10^6 -> 0.6405 | AH8: =AH7+0.02 -> 0.16 | AI8: =AJ8-E8 -> 3.28568 | AJ8: =AH8*C8 -> 13.14272 | AK8: =L8 -> 14.471074 | AL8: =C8-AK8-AJ8 -> 54.528206
B9: =B8+1 -> 2025 | C9: =+'הנחות עבודה'!B10 -> 84.824 | D9: =+'הנחות עבודה'!E4 -> 0.13 | E9: =D9*C9 -> 11.02712 | G9: =E9 -> 11.02712 | H9: =$E$38*('הספק לפי חלופה'!B9/$E$36) -> 20.512397 | I9: =C9-H9-E9 -> 53.284483 | K9: =E9 -> 11.02712 | L9: =$E$39*'הספק לפי חלופה'!E9/$E$36 -> 14.471074 | M9: =C9-E9-L9 -> 59.325806 | O9: =E9 -> 11.02712 | P9: =('הספק לפי חלופה'!H9/$E$36)*'תמהיל יצור'!$E$39 -> 4.6818182 | Q9: =$E$42*'הספק לפי חלופה'!I9 -> 0.49720588 | R9: =($E$41/$E$40)*('הספק לפי חלופה'!I9/'תמהיל יצור'!$E$37)*L9 -> 7.831405 | S9: =C9-E9-Q9-R9-P9 -> 60.786451 | U9: =E9 -> 11.02712 | V9: =P9 -> 4.6818182 | W9: =$E$43*'הספק לפי חלופה'!L9 -> 0.20091176 | X9: =C9-W9-V9-U9-Y9-Z9 -> 63.11915 | Y9: ='הספק לפי חלופה'!M9*(1-'הנחות עבודה'!$E$24)*'הנחות עבודה'!$E$26*8760/10^6 -> 5.1545 | Z9: ='הספק לפי חלופה'!M9*'הנחות עבודה'!$E$24*'הנחות עבודה'!$E$27*8760/10^6 -> 0.6405 | AB9: =E9 -> 11.02712 | AC9: =V9 -> 4.6818182 | AD9: =C9-AB9-AC9-AE9-AF9 -> 63.320062 | AE9: ='הספק לפי חלופה'!P9*(1-'הנחות עבודה'!$E$24)*'הנחות עבודה'!$E$26*8760/10^6 -> 5.1545 | AF9: ='הספק לפי חלופה'!P9*'הנחות עבודה'!$E$24*'הנחות עבודה'!$E$27*8760/10^6 -> 0.6405 | AH9: =AH8+0.02 -> 0.18 | AI9: =AJ9-E9 -> 4.2412 | AJ9: =AH9*C9 -> 15.26832 | AK9: =L9 -> 14.471074 | AL9: =C9-AK9-AJ9 -> 55.084606
B10: =B9+1 -> 2026 | C10: =+'הנחות עבודה'!B11 -> 87.114248 | D10: =D11-0.01 -> 0.13 | E10: =D10*C10 -> 11.324852 | G10: =E10 -> 11.324852 | H10: =$E$38*('הספק לפי חלופה'!B10/$E$36) -> 20.512397 | I10: =C10-H10-E10 -> 55.276999 | K10: =E10 -> 11.324852 | L10: =$E$39*'הספק לפי חלופה'!E10/$E$36 -> 14.471074 | M10: =C10-E10-L10 -> 61.318321 | O10: =E10 -> 11.324852 | P10: =('הספק לפי חלופה'!H10/$E$36)*'תמהיל יצור'!$E$39 -> 0 | Q10: =$E$42*'הספק לפי חלופה'!I10 -> 0.735 | R10: =($E$41/$E$40)*('הספק לפי חלופה'!I10/'תמהיל יצור'!$E$37)*L10 -> 11.57686 | S10: =C10-E10-Q10-R10-P10 -> 63.477536 | U10: =E10 -> 11.324852 | V10: =P10 -> 0 | W10: =$E$43*'הספק לפי חלופה'!L10 -> 0.40182353 | X10: =C10-W10-V10-U10-Y10-Z10 -> 63.797572 | Y10: ='הספק לפי חלופה'!M10*(1-'הנחות עבודה'!$E$24)*'הנחות עבודה'!$E$26*8760/10^6 -> 10.309 | Z10: ='הספק לפי חלופה'!M10*'הנחות עבודה'!$E$24*'הנחות עבודה'!$E$27*8760/10^6 -> 1.281 | AB10: =E10 -> 11.324852 | AC10: =V10 -> 0 | AD10: =C10-AB10-AC10-AE10-AF10 -> 64.199396 | AE10: ='הספק לפי חלופה'!P10*(1-'הנחות עבודה'!$E$24)*'הנחות עבודה'!$E$26*8760/10^6 -> 10.309 | AF10: ='הספק לפי חלופה'!P10*'הנחות עבודה'!$E$24*'הנחות עבודה'!$E$27*8760/10^6 -> 1.281 | AH10: =AH9+0.02 -> 0.2 | AI10: =AJ10-E10 -> 6.0979974 | AJ10: =AH10*C10 -> 17.42285 | AK10: =L10 -> 14.471074 | AL10: =C10-AK10-AJ10 -> 55.220324
B11: =B10+1 -> 2027 | C11: =+'הנחות עבודה'!B12 -> 89.466333 | D11: =D12-0.01 -> 0.14 | E11: =D11*C11 -> 12.525287 | G11: =E11 -> 12.525287 | H11: =$E$38*('הספק לפי חלופה'!B11/$E$36) -> 20.512397 | I11: =C11-H11-E11 -> 56.428649 | K11: =E11 -> 12.525287 | L11: =$E$39*'הספק לפי חלופה'!E11/$E$36 -> 14.471074 | M11: =C11-E11-L11 -> 62.469972 | O11: =E11 -> 12.525287 | P11: =('הספק לפי חלופה'!H11/$E$36)*'תמהיל יצור'!$E$39 -> 0 | Q11: =$E$42*'הספק לפי חלופה'!I11 -> 0.735 | R11: =($E$41/$E$40)*('הספק לפי חלופה'!I11/'תמהיל יצור'!$E$37)*L11 -> 11.57686 | S11: =C11-E11-Q11-R11-P11 -> 64.629187 | U11: =E11 -> 12.525287 | V11: =P11 -> 0 | W11: =$E$43*'הספק לפי חלופה'!L11 -> 0.40182353 | X11: =C11-W11-V11-U11-Y11-Z11 -> 64.949223 | Y11: ='הספק לפי חלופה'!M11*(1-'הנחות עבודה'!$E$24)*'הנחות עבודה'!$E$26*8760/10^6 -> 10.309 | Z11: ='הספק לפי חלופה'!M11*'הנחות עבודה'!$E$24*'הנחות עבודה'!$E$27*8760/10^6 -> 1.281 | AB11: =E11 -> 12.525287 | AC11: =V11 -> 0 | AD11: =C11-AB11-AC11-AE11-AF11 -> 65.351046 | AE11: ='הספק לפי חלופה'!P11*(1-'הנחות עבודה'!$E$24)*'הנחות עבודה'!$E$26*8760/10^6 -> 10.309 | AF11: ='הספק לפי חלופה'!P11*'הנחות עבודה'!$E$24*'הנחות עבודה'!$E$27*8760/10^6 -> 1.281 | AH11: =AH10+0.02 -> 0.22 | AI11: =AJ11-E11 -> 7.1573066 | AJ11: =AH11*C11 -> 19.682593 | AK11: =L11 -> 14.471074 | AL11: =C11-AK11-AJ11 -> 55.312665
B12: =B11+1 -> 2028 | C12: =+'הנחות עבודה'!B13 -> 91.881924 | D12: =D13-0.01 -> 0.15 | E12: =D12*C12 -> 13.782289 | G12: =E12 -> 13.782289 | H12: =$E$38*('הספק לפי חלופה'!B12/$E$36) -> 20.512397 | I12: =C12-H12-E12 -> 57.587238 | K12: =E12 -> 13.782289 | L12: =$E$39*'הספק לפי חלופה'!E12/$E$36 -> 14.471074 | M12: =C12-E12-L12 -> 63.628561 | O12: =E12 -> 13.782289 | P12: =('הספק לפי חלופה'!H12/$E$36)*'תמהיל יצור'!$E$39 -> 0 | Q12: =$E$42*'הספק לפי חלופה'!I12 -> 0.735 | R12: =($E$41/$E$40)*('הספק לפי חלופה'!I12/'תמהיל יצור'!$E$37)*L12 -> 11.57686 | S12: =C12-E12-Q12-R12-P12 -> 65.787776 | U12: =E12 -> 13.782289 | V12: =P12 -> 0 | W12: =$E$43*'הספק לפי חלופה'!L12 -> 0.594 | X12: =C12-W12-V12-U12-Y12-Z12 -> 60.120635 | Y12: ='הספק לפי חלופה'!M12*(1-'הנחות עבודה'!$E$24)*'הנחות עבודה'!$E$26*8760/10^6 -> 15.4635 | Z12: ='הספק לפי חלופה'!M12*'הנחות עבודה'!$E$24*'הנחות עבודה'!$E$27*8760/10^6 -> 1.9215 | AB12: =E12 -> 13.782289 | AC12: =V12 -> 0 | AD12: =C12-AB12-AC12-AE12-AF12 -> 60.714635 | AE12: ='הספק לפי חלופה'!P12*(1-'הנחות עבודה'!$E$24)*'הנחות עבודה'!$E$26*8760/10^6 -> 15.4635 | AF12: ='הספק לפי חלופה'!P12*'הנחות עבודה'!$E$24*'הנחות עבודה'!$E$27*8760/10^6 -> 1.9215 | AH12: =AH11+0.02 -> 0.24 | AI12: =AJ12-E12 -> 8.2693731 | AJ12: =AH12*C12 -> 22.051662 | AK12: =L12 -> 14.471074 | AL12: =C12-AK12-AJ12 -> 55.359188
B13: =B12+1 -> 2029 | C13: =+'הנחות עבודה'!B14 -> 94.362736 | D13: =D14-0.01 -> 0.16 | E13: =D13*C13 -> 15.098038 | G13: =E13 -> 15.098038 | H13: =$E$38*('הספק לפי חלופה'!B13/$E$36) -> 20.512397 | I13: =C13-H13-E13 -> 58.752301 | K13: =E13 -> 15.098038 | L13: =$E$39*'הספק לפי חלופה'!E13/$E$36 -> 14.471074 | M13: =C13-E13-L13 -> 64.793624 | O13: =E13 -> 15.098038 | P13: =('הספק לפי חלופה'!H13/$E$36)*'תמהיל יצור'!$E$39 -> 0 | Q13: =$E$42*'הספק לפי חלופה'!I13 -> 0.735 | R13: =($E$41/$E$40)*('הספק לפי חלופה'!I13/'תמהיל יצור'!$E$37)*L13 -> 11.57686 | S13: =C13-E13-Q13-R13-P13 -> 66.952838 | U13: =E13 -> 15.098038 | V13: =P13 -> 0 | W13: =$E$43*'הספק לפי חלופה'!L13 -> 0.594 | X13: =C13-W13-V13-U13-Y13-Z13 -> 61.285698 | Y13: ='הספק לפי חלופה'!M13*(1-'הנחות עבודה'!$E$24)*'הנחות עבודה'!$E$26*8760/10^6 -> 15.4635 | Z13: ='הספק לפי חלופה'!M13*'הנחות עבודה'!$E$24*'הנחות עבודה'!$E$27*8760/10^6 -> 1.9215 | AB13: =E13 -> 15.098038 | AC13: =V13 -> 0 | AD13: =C13-AB13-AC13-AE13-AF13 -> 61.879698 | AE13: ='הספק לפי חלופה'!P13*(1-'הנחות עבודה'!$E$24)*'הנחות עבודה'!$E$26*8760/10^6 -> 15.4635 | AF13: ='הספק לפי חלופה'!P13*'הנחות עבודה'!$E$24*'הנחות עבודה'!$E$27*8760/10^6 -> 1.9215 | AH13: =AH12+0.02 -> 0.26 | AI13: =AJ13-E13 -> 9.4362736 | AJ13: =AH13*C13 -> 24.534311 | AK13: =L13 -> 14.471074 | AL13: =C13-AK13-AJ13 -> 55.35735
B14: =B13+1 -> 2030 | C14: =+'הנחות עבודה'!B15 -> 96.910529 | D14: =+'הנחות עבודה'!$E$3 -> 0.17 | E14: =D14*C14 -> 16.47479 | G14: =E14 -> 16.47479 | H14: =$E$38*('הספק לפי חלופה'!B14/$E$36) -> 20.512397 | I14: =C14-H14-E14 -> 59.923343 | K14: =E14 -> 16.47479 | L14: =$E$39*'הספק לפי חלופה'!E14/$E$36 -> 14.471074 | M14: =C14-E14-L14 -> 65.964665 | O14: =E14 -> 16.47479 | P14: =('הספק לפי חלופה'!H14/$E$36)*'תמהיל יצור'!$E$39 -> 0 | Q14: =$E$42*'הספק לפי חלופה'!I14 -> 0.735 | R14: =($E$41/$E$40)*('הספק לפי חלופה'!I14/'תמהיל יצור'!$E$37)*L14 -> 11.57686 | S14: =C14-E14-Q14-R14-P14 -> 68.12388 | U14: =E14 -> 16.47479 | V14: =P14 -> 0 | W14: =$E$43*'הספק לפי חלופה'!L14 -> 0.594 | X14: =C14-W14-V14-U14-Y14-Z14 -> 62.456739 | Y14: ='הספק לפי חלופה'!M14*(1-'הנחות עבודה'!$E$24)*'הנחות עבודה'!$E$26*8760/10^6 -> 15.4635 | Z14: ='הספק לפי חלופה'!M14*'הנחות עבודה'!$E$24*'הנחות עבודה'!$E$27*8760/10^6 -> 1.9215 | AB14: =E14 -> 16.47479 | AC14: =V14 -> 0 | AD14: =C14-AB14-AC14-AE14-AF14 -> 63.050739 | AE14: ='הספק לפי חלופה'!P14*(1-'הנחות עבודה'!$E$24)*'הנחות עבודה'!$E$26*8760/10^6 -> 15.4635 | AF14: ='הספק לפי חלופה'!P14*'הנחות עבודה'!$E$24*'הנחות עבודה'!$E$27*8760/10^6 -> 1.9215 | AH14: 0.25 | AI14: =AJ14-E14 -> 7.7528424 | AJ14: =AH14*C14 -> 24.227632 | AK14: =L14 -> 14.471074 | AL14: =C14-AK14-AJ14 -> 58.211823
B15: =B14+1 -> 2031 | C15: =+'הנחות עבודה'!B16 -> 99.527114 | D15: =+'הנחות עבודה'!$E$3 -> 0.17 | E15: =D15*C15 -> 16.919609 | G15: =E15 -> 16.919609 | H15: =$E$38*('הספק לפי חלופה'!B15/$E$36) -> 20.512397 | I15: =C15-H15-E15 -> 62.095108 | K15: =E15 -> 16.919609 | L15: =$E$39*'הספק לפי חלופה'!E15/$E$36 -> 14.471074 | M15: =C15-E15-L15 -> 68.13643 | O15: =E15 -> 16.919609 | P15: =('הספק לפי חלופה'!H15/$E$36)*'תמהיל יצור'!$E$39 -> 0 | Q15: =$E$42*'הספק לפי חלופה'!I15 -> 0.735 | R15: =($E$41/$E$40)*('הספק לפי חלופה'!I15/'תמהיל יצור'!$E$37)*L15 -> 11.57686 | S15: =C15-E15-Q15-R15-P15 -> 70.295645 | U15: =E15 -> 16.919609 | V15: =P15 -> 0 | W15: =$E$43*'הספק לפי חלופה'!L15 -> 0.594 | X15: =C15-W15-V15-U15-Y15-Z15 -> 64.628504 | Y15: ='הספק לפי חלופה'!M15*(1-'הנחות עבודה'!$E$24)*'הנחות עבודה'!$E$26*8760/10^6 -> 15.4635 | Z15: ='הספק לפי חלופה'!M15*'הנחות עבודה'!$E$24*'הנחות עבודה'!$E$27*8760/10^6 -> 1.9215 | AB15: =E15 -> 16.919609 | AC15: =V15 -> 0 | AD15: =C15-AB15-AC15-AE15-AF15 -> 65.222504 | AE15: ='הספק לפי חלופה'!P15*(1-'הנחות עבודה'!$E$24)*'הנחות עבודה'!$E$26*8760/10^6 -> 15.4635 | AF15: ='הספק לפי חלופה'!P15*'הנחות עבודה'!$E$24*'הנחות עבודה'!$E$27*8760/10^6 -> 1.9215 | AH15: 0.25 | AI15: =AJ15-E15 -> 7.9621691 | AJ15: =AH15*C15 -> 24.881778 | AK15: =L15 -> 14.471074 | AL15: =C15-AK15-AJ15 -> 60.174261
B16: =B15+1 -> 2032 | C16: =+'הנחות עבודה'!B17 -> 102.21435 | D16: =+'הנחות עבודה'!$E$3 -> 0.17 | E16: =D16*C16 -> 17.376439 | G16: =E16 -> 17.376439 | H16: =$E$38*('הספק לפי חלופה'!B16/$E$36) -> 20.512397 | I16: =C16-H16-E16 -> 64.32551 | K16: =E16 -> 17.376439 | L16: =$E$39*'הספק לפי חלופה'!E16/$E$36 -> 14.471074 | M16: =C16-E16-L16 -> 70.366833 | O16: =E16 -> 17.376439 | P16: =('הספק לפי חלופה'!H16/$E$36)*'תמהיל יצור'!$E$39 -> 0 | Q16: =$E$42*'הספק לפי חלופה'!I16 -> 0.735 | R16: =($E$41/$E$40)*('הספק לפי חלופה'!I16/'תמהיל יצור'!$E$37)*L16 -> 11.57686 | S16: =C16-E16-Q16-R16-P16 -> 72.526048 | U16: =E16 -> 17.376439 | V16: =P16 -> 0 | W16: =$E$43*'הספק לפי חלופה'!L16 -> 0.594 | X16: =C16-W16-V16-U16-Y16-Z16 -> 66.858907 | Y16: ='הספק לפי חלופה'!M16*(1-'הנחות עבודה'!$E$24)*'הנחות עבודה'!$E$26*8760/10^6 -> 15.4635 | Z16: ='הספק לפי חלופה'!M16*'הנחות עבודה'!$E$24*'הנחות עבודה'!$E$27*8760/10^6 -> 1.9215 | AB16: =E16 -> 17.376439 | AC16: =V16 -> 0 | AD16: =C16-AB16-AC16-AE16-AF16 -> 67.452907 | AE16: ='הספק לפי חלופה'!P16*(1-'הנחות עבודה'!$E$24)*'הנחות עבודה'!$E$26*8760/10^6 -> 15.4635 | AF16: ='הספק לפי חלופה'!P16*'הנחות עבודה'!$E$24*'הנחות עבודה'!$E$27*8760/10^6 -> 1.9215 | AH16: 0.25 | AI16: =AJ16-E16 -> 8.1771477 | AJ16: =AH16*C16 -> 25.553586 | AK16: =L16 -> 14.471074 | AL16: =C16-AK16-AJ16 -> 62.189685
B17: =B16+1 -> 2033 | C17: =+'הנחות עבודה'!B18 -> 104.97413 | D17: =+'הנחות עבודה'!$E$3 -> 0.17 | E17: =D17*C17 -> 17.845603 | G17: =E17 -> 17.845603 | H17: =$E$38*('הספק לפי חלופה'!B17/$E$36) -> 20.512397 | I17: =C17-H17-E17 -> 66.616134 | K17: =E17 -> 17.845603 | L17: =$E$39*'הספק לפי חלופה'!E17/$E$36 -> 14.471074 | M17: =C17-E17-L17 -> 72.657456 | O17: =E17 -> 17.845603 | P17: =('הספק לפי חלופה'!H17/$E$36)*'תמהיל יצור'!$E$39 -> 0 | Q17: =$E$42*'הספק לפי חלופה'!I17 -> 0.735 | R17: =($E$41/$E$40)*('הספק לפי חלופה'!I17/'תמהיל יצור'!$E$37)*L17 -> 11.57686 | S17: =C17-E17-Q17-R17-P17 -> 74.816671 | U17: =E17 -> 17.845603 | V17: =P17 -> 0 | W17: =$E$43*'הספק לפי חלופה'!L17 -> 0.594 | X17: =C17-W17-V17-U17-Y17-Z17 -> 69.149531 | Y17: ='הספק לפי חלופה'!M17*(1-'הנחות עבודה'!$E$24)*'הנחות עבודה'!$E$26*8760/10^6 -> 15.4635 | Z17: ='הספק לפי חלופה'!M17*'הנחות עבודה'!$E$24*'הנחות עבודה'!$E$27*8760/10^6 -> 1.9215 | AB17: =E17 -> 17.845603 | AC17: =V17 -> 0 | AD17: =C17-AB17-AC17-AE17-AF17 -> 69.743531 | AE17: ='הספק לפי חלופה'!P17*(1-'הנחות עבודה'!$E$24)*'הנחות עבודה'!$E$26*8760/10^6 -> 15.4635 | AF17: ='הספק לפי חלופה'!P17*'הנחות עבודה'!$E$24*'הנחות עבודה'!$E$27*8760/10^6 -> 1.9215 | AH17: 0.25 | AI17: =AJ17-E17 -> 8.3979307 | AJ17: =AH17*C17 -> 26.243533 | AK17: =L17 -> 14.471074 | AL17: =C17-AK17-AJ17 -> 64.259526
B18: =B17+1 -> 2034 | C18: =+'הנחות עבודה'!B19 -> 107.80843 | D18: =+'הנחות עבודה'!$E$3 -> 0.17 | E18: =D18*C18 -> 18.327434 | G18: =E18 -> 18.327434 | H18: =$E$38*('הספק לפי חלופה'!B18/$E$36) -> 20.512397 | I18: =C18-H18-E18 -> 68.968604 | K18: =E18 -> 18.327434 | L18: =$E$39*'הספק לפי חלופה'!E18/$E$36 -> 14.471074 | M18: =C18-E18-L18 -> 75.009926 | O18: =E18 -> 18.327434 | P18: =('הספק לפי חלופה'!H18/$E$36)*'תמהיל יצור'!$E$39 -> 0 | Q18: =$E$42*'הספק לפי חלופה'!I18 -> 0.735 | R18: =($E$41/$E$40)*('הספק לפי חלופה'!I18/'תמהיל יצור'!$E$37)*L18 -> 11.57686 | S18: =C18-E18-Q18-R18-P18 -> 77.169141 | U18: =E18 -> 18.327434 | V18: =P18 -> 0 | W18: =$E$43*'הספק לפי חלופה'!L18 -> 0.594 | X18: =C18-W18-V18-U18-Y18-Z18 -> 71.502001 | Y18: ='הספק לפי חלופה'!M18*(1-'הנחות עבודה'!$E$24)*'הנחות עבודה'!$E$26*8760/10^6 -> 15.4635 | Z18: ='הספק לפי חלופה'!M18*'הנחות עבודה'!$E$24*'הנחות עבודה'!$E$27*8760/10^6 -> 1.9215 | AB18: =E18 -> 18.327434 | AC18: =V18 -> 0 | AD18: =C18-AB18-AC18-AE18-AF18 -> 72.096001 | AE18: ='הספק לפי חלופה'!P18*(1-'הנחות עבודה'!$E$24)*'הנחות עבודה'!$E$26*8760/10^6 -> 15.4635 | AF18: ='הספק לפי חלופה'!P18*'הנחות עבודה'!$E$24*'הנחות עבודה'!$E$27*8760/10^6 -> 1.9215 | AH18: 0.25 | AI18: =AJ18-E18 -> 8.6246748 | AJ18: =AH18*C18 -> 26.952109 | AK18: =L18 -> 14.471074 | AL18: =C18-AK18-AJ18 -> 66.385252
B19: =B18+1 -> 2035 | C19: =+'הנחות עבודה'!B20 -> 110.71926 | D19: =+'הנחות עבודה'!$E$3 -> 0.17 | E19: =D19*C19 -> 18.822275 | G19: =E19 -> 18.822275 | H19: =$E$38*('הספק לפי חלופה'!B19/$E$36) -> 20.512397 | I19: =C19-H19-E19 -> 71.384591 | K19: =E19 -> 18.822275 | L19: =$E$39*'הספק לפי חלופה'!E19/$E$36 -> 14.471074 | M19: =C19-E19-L19 -> 77.425914 | O19: =E19 -> 18.822275 | P19: =('הספק לפי חלופה'!H19/$E$36)*'תמהיל יצור'!$E$39 -> 0 | Q19: =$E$42*'הספק לפי חלופה'!I19 -> 0.735 | R19: =($E$41/$E$40)*('הספק לפי חלופה'!I19/'תמהיל יצור'!$E$37)*L19 -> 11.57686 | S19: =C19-E19-Q19-R19-P19 -> 79.585128 | U19: =E19 -> 18.822275 | V19: =P19 -> 0 | W19: =$E$43*'הספק לפי חלופה'!L19 -> 0.594 | X19: =C19-W19-V19-U19-Y19-Z19 -> 73.917988 | Y19: ='הספק לפי חלופה'!M19*(1-'הנחות עבודה'!$E$24)*'הנחות עבודה'!$E$26*8760/10^6 -> 15.4635 | Z19: ='הספק לפי חלופה'!M19*'הנחות עבודה'!$E$24*'הנחות עבודה'!$E$27*8760/10^6 -> 1.9215 | AB19: =E19 -> 18.822275 | AC19: =V19 -> 0 | AD19: =C19-AB19-AC19-AE19-AF19 -> 74.511988 | AE19: ='הספק לפי חלופה'!P19*(1-'הנחות עבודה'!$E$24)*'הנחות עבודה'!$E$26*8760/10^6 -> 15.4635 | AF19: ='הספק לפי חלופה'!P19*'הנחות עבודה'!$E$24*'הנחות עבודה'!$E$27*8760/10^6 -> 1.9215 | AH19: 0.25 | AI19: =AJ19-E19 -> 8.857541 | AJ19: =AH19*C19 -> 27.679816 | AK19: =L19 -> 14.471074 | AL19: =C19-AK19-AJ19 -> 68.568373
B20: =B19+1 -> 2036 | C20: =+'הנחות עבודה'!B21 -> 113.70868 | D20: =+'הנחות עבודה'!$E$3 -> 0.17 | E20: =D20*C20 -> 19.330476 | G20: =E20 -> 19.330476 | H20: =$E$38*('הספק לפי חלופה'!B20/$E$36) -> 20.512397 | I20: =C20-H20-E20 -> 73.86581 | K20: =E20 -> 19.330476 | L20: =$E$39*'הספק לפי חלופה'!E20/$E$36 -> 14.471074 | M20: =C20-E20-L20 -> 79.907132 | O20: =E20 -> 19.330476 | P20: =('הספק לפי חלופה'!H20/$E$36)*'תמהיל יצור'!$E$39 -> 0 | Q20: =$E$42*'הספק לפי חלופה'!I20 -> 0.735 | R20: =($E$41/$E$40)*('הספק לפי חלופה'!I20/'תמהיל יצור'!$E$37)*L20 -> 11.57686 | S20: =C20-E20-Q20-R20-P20 -> 82.066347 | U20: =E20 -> 19.330476 | V20: =P20 -> 0 | W20: =$E$43*'הספק לפי חלופה'!L20 -> 0.594 | X20: =C20-W20-V20-U20-Y20-Z20 -> 76.399207 | Y20: ='הספק לפי חלופה'!M20*(1-'הנחות עבודה'!$E$24)*'הנחות עבודה'!$E$26*8760/10^6 -> 15.4635 | Z20: ='הספק לפי חלופה'!M20*'הנחות עבודה'!$E$24*'הנחות עבודה'!$E$27*8760/10^6 -> 1.9215 | AB20: =E20 -> 19.330476 | AC20: =V20 -> 0 | AD20: =C20-AB20-AC20-AE20-AF20 -> 76.993207 | AE20: ='הספק לפי חלופה'!P20*(1-'הנחות עבודה'!$E$24)*'הנחות עבודה'!$E$26*8760/10^6 -> 15.4635 | AF20: ='הספק לפי חלופה'!P20*'הנחות עבודה'!$E$24*'הנחות עבודה'!$E$27*8760/10^6 -> 1.9215 | AH20: 0.25 | AI20: =AJ20-E20 -> 9.0966946 | AJ20: =AH20*C20 -> 28.427171 | AK20: =L20 -> 14.471074 | AL20: =C20-AK20-AJ20 -> 70.810438
B21: =B20+1 -> 2037 | C21: =+'הנחות עבודה'!B22 -> 116.77882 | D21: =+'הנחות עבודה'!$E$3 -> 0.17 | E21: =D21*C21 -> 19.852399 | G21: =E21 -> 19.852399 | H21: =$E$38*('הספק לפי חלופה'!B21/$E$36) -> 20.512397 | I21: =C21-H21-E21 -> 76.414021 | K21: =E21 -> 19.852399 | L21: =$E$39*'הספק לפי חלופה'!E21/$E$36 -> 14.471074 | M21: =C21-E21-L21 -> 82.455344 | O21: =E21 -> 19.852399 | P21: =('הספק לפי חלופה'!H21/$E$36)*'תמהיל יצור'!$E$39 -> 0 | Q21: =$E$42*'הספק לפי חלופה'!I21 -> 0.735 | R21: =($E$41/$E$40)*('הספק לפי חלופה'!I21/'תמהיל יצור'!$E$37)*L21 -> 11.57686 | S21: =C21-E21-Q21-R21-P21 -> 84.614559 | U21: =E21 -> 19.852399 | V21: =P21 -> 0 | W21: =$E$43*'הספק לפי חלופה'!L21 -> 0.594 | X21: =C21-W21-V21-U21-Y21-Z21 -> 78.947418 | Y21: ='הספק לפי חלופה'!M21*(1-'הנחות עבודה'!$E$24)*'הנחות עבודה'!$E$26*8760/10^6 -> 15.4635 | Z21: ='הספק לפי חלופה'!M21*'הנחות עבודה'!$E$24*'הנחות עבודה'!$E$27*8760/10^6 -> 1.9215 | AB21: =E21 -> 19.852399 | AC21: =V21 -> 0 | AD21: =C21-AB21-AC21-AE21-AF21 -> 79.541418 | AE21: ='הספק לפי חלופה'!P21*(1-'הנחות עבודה'!$E$24)*'הנחות עבודה'!$E$26*8760/10^6 -> 15.4635 | AF21: ='הספק לפי חלופה'!P21*'הנחות עבודה'!$E$24*'הנחות עבודה'!$E$27*8760/10^6 -> 1.9215 | AH21: 0.25 | AI21: =AJ21-E21 -> 9.3423054 | AJ21: =AH21*C21 -> 29.194704 | AK21: =L21 -> 14.471074 | AL21: =C21-AK21-AJ21 -> 73.113038
B22: =B21+1 -> 2038 | C22: =+'הנחות עבודה'!B23 -> 119.93185 | D22: =+'הנחות עבודה'!$E$3 -> 0.17 | E22: =D22*C22 -> 20.388414 | G22: =E22 -> 20.388414 | H22: =$E$38*('הספק לפי חלופה'!B22/$E$36) -> 20.512397 | I22: =C22-H22-E22 -> 79.031035 | K22: =E22 -> 20.388414 | L22: =$E$39*'הספק לפי חלופה'!E22/$E$36 -> 14.471074 | M22: =C22-E22-L22 -> 85.072357 | O22: =E22 -> 20.388414 | P22: =('הספק לפי חלופה'!H22/$E$36)*'תמהיל יצור'!$E$39 -> 0 | Q22: =$E$42*'הספק לפי חלופה'!I22 -> 0.735 | R22: =($E$41/$E$40)*('הספק לפי חלופה'!I22/'תמהיל יצור'!$E$37)*L22 -> 11.57686 | S22: =C22-E22-Q22-R22-P22 -> 87.231572 | U22: =E22 -> 20.388414 | V22: =P22 -> 0 | W22: =$E$43*'הספק לפי חלופה'!L22 -> 0.594 | X22: =C22-W22-V22-U22-Y22-Z22 -> 81.564431 | Y22: ='הספק לפי חלופה'!M22*(1-'הנחות עבודה'!$E$24)*'הנחות עבודה'!$E$26*8760/10^6 -> 15.4635 | Z22: ='הספק לפי חלופה'!M22*'הנחות עבודה'!$E$24*'הנחות עבודה'!$E$27*8760/10^6 -> 1.9215 | AB22: =E22 -> 20.388414 | AC22: =V22 -> 0 | AD22: =C22-AB22-AC22-AE22-AF22 -> 82.158431 | AE22: ='הספק לפי חלופה'!P22*(1-'הנחות עבודה'!$E$24)*'הנחות עבודה'!$E$26*8760/10^6 -> 15.4635 | AF22: ='הספק לפי חלופה'!P22*'הנחות עבודה'!$E$24*'הנחות עבודה'!$E$27*8760/10^6 -> 1.9215 | AH22: 0.25 | AI22: =AJ22-E22 -> 9.5945476 | AJ22: =AH22*C22 -> 29.982961 | AK22: =L22 -> 14.471074 | AL22: =C22-AK22-AJ22 -> 75.477809
B23: =B22+1 -> 2039 | C23: =+'הנחות עבודה'!B24 -> 123.17 | D23: =+'הנחות עבודה'!$E$3 -> 0.17 | E23: =D23*C23 -> 20.938901 | G23: =E23 -> 20.938901 | H23: =$E$38*('הספק לפי חלופה'!B23/$E$36) -> 20.512397 | I23: =C23-H23-E23 -> 81.718707 | K23: =E23 -> 20.938901 | L23: =$E$39*'הספק לפי חלופה'!E23/$E$36 -> 14.471074 | M23: =C23-E23-L23 -> 87.76003 | O23: =E23 -> 20.938901 | P23: =('הספק לפי חלופה'!H23/$E$36)*'תמהיל יצור'!$E$39 -> 0 | Q23: =$E$42*'הספק לפי חלופה'!I23 -> 0.735 | R23: =($E$41/$E$40)*('הספק לפי חלופה'!I23/'תמהיל יצור'!$E$37)*L23 -> 11.57686 | S23: =C23-E23-Q23-R23-P23 -> 89.919245 | U23: =E23 -> 20.938901 | V23: =P23 -> 0 | W23: =$E$43*'הספק לפי חלופה'!L23 -> 0.594 | X23: =C23-W23-V23-U23-Y23-Z23 -> 84.252104 | Y23: ='הספק לפי חלופה'!M23*(1-'הנחות עבודה'!$E$24)*'הנחות עבודה'!$E$26*8760/10^6 -> 15.4635 | Z23: ='הספק לפי חלופה'!M23*'הנחות עבודה'!$E$24*'הנחות עבודה'!$E$27*8760/10^6 -> 1.9215 | AB23: =E23 -> 20.938901 | AC23: =V23 -> 0 | AD23: =C23-AB23-AC23-AE23-AF23 -> 84.846104 | AE23: ='הספק לפי חלופה'!P23*(1-'הנחות עבודה'!$E$24)*'הנחות עבודה'!$E$26*8760/10^6 -> 15.4635 | AF23: ='הספק לפי חלופה'!P23*'הנחות עבודה'!$E$24*'הנחות עבודה'!$E$27*8760/10^6 -> 1.9215 | AH23: 0.25 | AI23: =AJ23-E23 -> 9.8536004 | AJ23: =AH23*C23 -> 30.792501 | AK23: =L23 -> 14.471074 | AL23: =C23-AK23-AJ23 -> 77.906429
B24: =B23+1 -> 2040 | C24: =+'הנחות עבודה'!B25 -> 126.4956 | D24: =+'הנחות עבודה'!$E$3 -> 0.17 | E24: =D24*C24 -> 21.504251 | G24: =E24 -> 21.504251 | H24: =$E$38*('הספק לפי חלופה'!B24/$E$36) -> 13.57438 | I24: =C24-H24-E24 -> 91.416964 | K24: =E24 -> 21.504251 | L24: =$E$39*'הספק לפי חלופה'!E24/$E$36 -> 9.5764463 | M24: =C24-E24-L24 -> 95.414898 | O24: =E24 -> 21.504251 | P24: =('הספק לפי חלופה'!H24/$E$36)*'תמהיל יצור'!$E$39 -> 0 | Q24: =$E$42*'הספק לפי חלופה'!I24 -> 0.48639706 | R24: =($E$41/$E$40)*('הספק לפי חלופה'!I24/'תמהיל יצור'!$E$37)*L24 -> 5.0698833 | S24: =C24-E24-Q24-R24-P24 -> 99.435064 | U24: =E24 -> 21.504251 | V24: =P24 -> 0 | W24: =$E$43*'הספק לפי חלופה'!L24 -> 0.594 | X24: =C24-W24-V24-U24-Y24-Z24 -> 87.012344 | Y24: ='הספק לפי חלופה'!M24*(1-'הנחות עבודה'!$E$24)*'הנחות עבודה'!$E$26*8760/10^6 -> 15.4635 | Z24: ='הספק לפי חלופה'!M24*'הנחות עבודה'!$E$24*'הנחות עבודה'!$E$27*8760/10^6 -> 1.9215 | AB24: =E24 -> 21.504251 | AC24: =V24 -> 0 | AD24: =C24-AB24-AC24-AE24-AF24 -> 87.606344 | AE24: ='הספק לפי חלופה'!P24*(1-'הנחות עבודה'!$E$24)*'הנחות עבודה'!$E$26*8760/10^6 -> 15.4635 | AF24: ='הספק לפי חלופה'!P24*'הנחות עבודה'!$E$24*'הנחות עבודה'!$E$27*8760/10^6 -> 1.9215 | AH24: 0.25 | AI24: =AJ24-E24 -> 10.119648 | AJ24: =AH24*C24 -> 31.623899 | AK24: =L24 -> 9.5764463 | AL24: =C24-AK24-AJ24 -> 85.29525
B25: =B24+1 -> 2041 | C25: =+'הנחות עבודה'!B26 -> 129.91098 | D25: =+'הנחות עבודה'!$E$3 -> 0.17 | E25: =D25*C25 -> 22.084866 | G25: =E25 -> 22.084866 | H25: =$E$38*('הספק לפי חלופה'!B25/$E$36) -> 13.57438 | I25: =C25-H25-E25 -> 94.25173 | K25: =E25 -> 22.084866 | L25: =$E$39*'הספק לפי חלופה'!E25/$E$36 -> 9.5764463 | M25: =C25-E25-L25 -> 98.249664 | O25: =E25 -> 22.084866 | P25: =('הספק לפי חלופה'!H25/$E$36)*'תמהיל יצור'!$E$39 -> 0 | Q25: =$E$42*'הספק לפי חלופה'!I25 -> 0.48639706 | R25: =($E$41/$E$40)*('הספק לפי חלופה'!I25/'תמהיל יצור'!$E$37)*L25 -> 5.0698833 | S25: =C25-E25-Q25-R25-P25 -> 102.26983 | U25: =E25 -> 22.084866 | V25: =P25 -> 0 | W25: =$E$43*'הספק לפי חלופה'!L25 -> 0.39308824 | X25: =C25-W25-V25-U25-Y25-Z25 -> 90.048022 | Y25: ='הספק לפי חלופה'!M25*(1-'הנחות עבודה'!$E$24)*'הנחות עבודה'!$E$26*8760/10^6 -> 15.4635 | Z25: ='הספק לפי חלופה'!M25*'הנחות עבודה'!$E$24*'הנחות עבודה'!$E$27*8760/10^6 -> 1.9215 | AB25: =E25 -> 22.084866 | AC25: =V25 -> 0 | AD25: =C25-AB25-AC25-AE25-AF25 -> 90.44111 | AE25: ='הספק לפי חלופה'!P25*(1-'הנחות עבודה'!$E$24)*'הנחות עבודה'!$E$26*8760/10^6 -> 15.4635 | AF25: ='הספק לפי חלופה'!P25*'הנחות עבודה'!$E$24*'הנחות עבודה'!$E$27*8760/10^6 -> 1.9215 | AH25: 0.25 | AI25: =AJ25-E25 -> 10.392878 | AJ25: =AH25*C25 -> 32.477744 | AK25: =L25 -> 9.5764463 | AL25: =C25-AK25-AJ25 -> 87.856786
... B29: =B28+1 -> 2045 | C29: =+'הנחות עבודה'!B30 -> 144.51989 | D29: =+'הנחות עבודה'!$E$3 -> 0.17 | E29: =D29*C29 -> 24.568381 | G29: =E29 -> 24.568381 | H29: =$E$38*('הספק לפי חלופה'!B29/$E$36) -> 6.6363636 | I29: =C29-H29-E29 -> 113.31514 | K29: =E29 -> 24.568381 | L29: =$E$39*'הספק לפי חלופה'!E29/$E$36 -> 4.6818182 | M29: =C29-E29-L29 -> 115.26969 | O29: =E29 -> 24.568381 | P29: =('הספק לפי חלופה'!H29/$E$36)*'תמהיל יצור'!$E$39 -> 0 | Q29: =$E$42*'הספק לפי חלופה'!I29 -> 0.23779412 | R29: =($E$41/$E$40)*('הספק לפי חלופה'!I29/'תמהיל יצור'!$E$37)*L29 -> 1.2117647 | S29: =C29-E29-Q29-R29-P29 -> 118.50195 | U29: =E29 -> 24.568381 | V29: =P29 -> 0 | W29: =$E$43*'הספק לפי חלופה'!L29 -> 0.39308824 | X29: =C29-W29-V29-U29-Y29-Z29 -> 102.17342 | Y29: ='הספק לפי חלופה'!M29*(1-'הנחות עבודה'!$E$24)*'הנחות עבודה'!$E$26*8760/10^6 -> 15.4635 | Z29: ='הספק לפי חלופה'!M29*'הנחות עבודה'!$E$24*'הנחות עבודה'!$E$27*8760/10^6 -> 1.9215 | AB29: =E29 -> 24.568381 | AC29: =V29 -> 0 | AD29: =C29-AB29-AC29-AE29-AF29 -> 102.56651 | AE29: ='הספק לפי חלופה'!P29*(1-'הנחות עבודה'!$E$24)*'הנחות עבודה'!$E$26*8760/10^6 -> 15.4635 | AF29: ='הספק לפי חלופה'!P29*'הנחות עבודה'!$E$24*'הנחות עבודה'!$E$27*8760/10^6 -> 1.9215 | AH29: 0.25 | AI29: =AJ29-E29 -> 11.561591 | AJ29: =AH29*C29 -> 36.129972 | AK29: =L29 -> 4.6818182 | AL29: =C29-AK29-AJ29 -> 103.7081
B30: סך הכל - TWH | C30: =SUM(C4:C29) -> 2742.1918 | E30: =SUM(E4:E29) -> 431.50984 | G30: =SUM(G4:G29) -> 431.50984 | H30: =SUM(H4:H29) -> 484.7562 | I30: =SUM(I4:I29) -> 1825.9257 | K30: =SUM(K4:K29) -> 431.50984 | L30: =SUM(L4:L29) -> 341.98554 | M30: =SUM(M4:M29) -> 1968.6964 | O30: =SUM(O4:O29) -> 431.50984 | P30: =SUM(P4:P29) -> 57.458678 | Q30: =SUM(Q4:Q29) -> 14.451397 | R30: =SUM(R4:R29) -> 212.13143 | S30: =SUM(S4:S29) -> 2026.6404 | U30: =SUM(U4:U29) -> 431.50984 | V30: =SUM(V4:V29) -> 57.458678 | W30: =SUM(W4:W29) -> 10.892912 | X30: =SUM(X4:X29) -> 1894.6303 | Y30: =SUM(Y4:Y29) -> 309.27 | Z30: =SUM(Z4:Z29) -> 38.43 | AB30: =SUM(AB4:AB29) -> 431.50984 | AC30: =SUM(AC4:AC29) -> 57.458678 | AD30: =SUM(AD4:AD29) -> 1905.5232 | AE30: =SUM(AE4:AE29) -> 309.27 | AF30: =SUM(AF4:AF29) -> 38.43 | AJ30: =SUM(AJ4:AJ29) -> 624.21491 | AK30: =SUM(AK4:AK29) -> 341.98554 | AL30: =SUM(AL4:AL29) -> 1775.9913
B34: הנחות עבודה | R34: סיכום
E35: נתון | F35: הערות | T35: סגירת 1-4 ללא מדיניות הפחתה | U35: סגירת 1-4 עם מדיניות הפחתה | V35: 25% מתחדשות | W35: הסבה לגז | X35: שמור והקמה | Y35: גריטה והקמה
B36: הספק פחם לפני גריטת 1-4 (MW) | E36: ='הנחות עבודה'!I7 -> 4840 | R36: תמהיל יצור בתקופה [TW h] | S36: פחם | T36: =H30 -> 484.7562 | U36: =L30 -> 341.98554 | V36: =AK30 -> 341.98554 | W36: =P30+Q30 -> 71.910075 | X36: =V30+W30 -> 68.351589 | Y36: =AC30 -> 57.458678
B37: הספק פחם אחרי גריטת 1-4 (MW) | E37: ='הנחות עבודה'!I8 -> 3400 | S37: גז | T37: =I30 -> 1825.9257 | U37: =M30 -> 1968.6964 | V37: =AL30 -> 1775.9913 | W37: =R30+S30 -> 2238.7718 | X37: =X30+Y30+Z30 -> 2242.3303 | Y37: =AD30+AE30+AF30 -> 2253.2232
B38: יצור בפחם בשנת 2015 לפני מדיניות ההפחתה (TWh) | E38: =29.2 -> 29.2 | S38: מתחדשות | T38: =E30 -> 431.50984 | U38: =K30 -> 431.50984 | V38: =AJ30 -> 624.21491 | W38: =O30 -> 431.50984 | X38: =U30 -> 431.50984 | Y38: =AB30 -> 431.50984
B39: יצור בפחם בשנת 2018 לאור מדיניות ההפחתה (TWh) | E39: 20.6 | S39: סך הכל | T39: =SUM(T36:T38) -> 2742.1918 | U39: =SUM(U36:U38) -> 2742.1918 | V39: =SUM(V36:V38) -> 2742.1918 | W39: =SUM(W36:W38) -> 2742.1918 | X39: =SUM(X36:X38) -> 2742.1918 | Y39: =SUM(Y36:Y38) -> 2742.1918
B40: עומס מינימום בתחנה פחמית (MW) | E40: ='הנחות עבודה'!E43 -> 300 | F40: תפ"ט | R40: אחוזים | S40: פחם | T40: =T36/T$39 -> 0.17677691 | U40: =U36/U$39 -> 0.12471248 | V40: =V36/V$39 -> 0.12471248 | W40: =W36/W$39 -> 0.026223576 | X40: =X36/X$39 -> 0.024925897 | Y40: =Y36/Y$39 -> 0.020953559
B41: עומס מינימום בתחנה מוסבת (MW) | E41: ='הנחות עבודה'!E44 -> 240 | F41: תפ"ט | S41: גז | T41: =T37/T$39 -> 0.66586361 | U41: =U37/U$39 -> 0.71792805 | V41: =V37/V$39 -> 0.64765394 | W41: =W37/W$39 -> 0.81641695 | X41: =X37/X$39 -> 0.81771463 | Y41: =Y37/Y$39 -> 0.82168697
B42: אנרגיה בשנה למ"ו מוסב [TWh] | E42: =0.735/3400 -> 0.00021617647 | F42: כל יחידה מופעלת פעם בשבוע ל-8 שעות (סך הכל 416 שעות) בעומס מינימלי של 52%; | S42: מתחדשות | T42: =T38/T$39 -> 0.15735947 | U42: =U38/U$39 -> 0.15735947 | V42: =V38/V$39 -> 0.22763358 | W42: =W38/W$39 -> 0.15735947 | X42: =X38/X$39 -> 0.15735947 | Y42: =Y38/Y$39 -> 0.15735947
B43: אנרגיה בשנה למ"ו בשימור [TWh] | E43: =0.594/3400 -> 0.00017470588 | F43: כל יחידה מופעלת בשני תרגילים שנתיים של שבוע שלם (סך הכל 336 שעות) בעומס מינימלי של 52%. | S43: סך הכל | T43: =SUM(T40:T42) -> 1 | U43: =SUM(U40:U42) -> 1 | V43: =SUM(V40:V42) -> 1 | W43: =SUM(W40:W42) -> 1 | X43: =SUM(X40:X42) -> 1 | Y43: =SUM(Y40:Y42) -> 1

Sheet צריכת פחם וגז
A1: צריכת פחם וגז לפי חלופה
B2: שנה | C2: סגירת 1-4 ללא מדיניות הפחתה | F2: סגירת 1-4 עם מדיניות הפחתה | I2: הסבה | L2: שימור והקמה | P2: גריטה והקמה | T2: 25% מתחדשות
B3: שנה | C3: מיליון טון פחם | D3: BCM גז | F3: מיליון טון פחם | G3: BCM גז | I3: מיליון טון פחם | J3: גז ביחידות מוסבות BCM | K3: BCM גז | L3: מיליון טון פחם | M3: BCM גז יחידות קיימות | N3: גז מחז״מים חדשים BCM | O3: גז פיקרים חדשים BCM | P3: מיליון טון פחם | Q3: BCM גז | R3: =N3 -> גז מחז״מים חדשים BCM | S3: =O3 -> גז פיקרים חדשים BCM | T3: מיליון טון פחם | U3: BCM גז
B4: 2020 | C4: =$E$39*'תמהיל יצור'!H4 -> 8.017544 | D4: ='תמהיל יצור'!I4*1000000/'צריכת פחם וגז'!$E$48 -> 9.358713 | F4: =$E$39*'תמהיל יצור'!L4 -> 5.6562125 | G4: ='תמהיל יצור'!M4*1000000/'צריכת פחם וגז'!$E$48 -> 10.599907 | I4: =$E$39*('תמהיל יצור'!Q4+'תמהיל יצור'!P4) -> 5.6562125 | J4: ='תמהיל יצור'!R4*1000000/'צריכת פחם וגז'!$E$44 -> 0 | K4: ='תמהיל יצור'!S4*1000000/'צריכת פחם וגז'!$E$48 -> 10.599907 | L4: =$E$39*('תמהיל יצור'!W4+'תמהיל יצור'!V4) -> 5.6562125 | M4: ='תמהיל יצור'!X4*1000000/'צריכת פחם וגז'!$E$48 -> 10.599907 | N4: ='תמהיל יצור'!Y4*10^6/'צריכת פחם וגז'!$E$51 -> 0 | O4: ='תמהיל יצור'!Z4*10^6/'צריכת פחם וגז'!$E$54 -> 0 | P4: =$E$39*'תמהיל יצור'!AC4 -> 5.6562125 | Q4: ='תמהיל יצור'!AD4*1000000/'צריכת פחם וגז'!$E$48 -> 10.599907 | R4: ='תמהיל יצור'!AE4*10^6/'צריכת פחם וגז'!$E$51 -> 0 | S4: ='תמהיל יצור'!AF4*10^6/'צריכת פחם וגז'!$E$54 -> 0 | T4: =$E$39*'תמהיל יצור'!AK4 -> 5.6562125 | U4: ='תמהיל יצור'!AL4*1000000/'צריכת פחם וגז'!$E$48 -> 10.599907
B5: =B4+1 -> 2021 | C5: =$E$39*'תמהיל יצור'!H5 -> 8.017544 | D5: ='תמהיל יצור'!I5*1000000/'צריכת פחם וגז'!$E$48 -> 9.4251291 | F5: =$E$39*'תמהיל יצור'!L5 -> 5.6562125 | G5: ='תמהיל יצור'!M5*1000000/'צריכת פחם וגז'!$E$48 -> 10.666323 | I5: =$E$39*('תמהיל יצור'!Q5+'תמהיל יצור'!P5) -> 5.6562125 | J5: ='תמהיל יצור'!R5*1000000/'צריכת פחם וגז'!$E$44 -> 0 | K5: ='תמהיל יצור'!S5*1000000/'צריכת פחם וגז'!$E$48 -> 10.666323 | L5: =$E$39*('תמהיל יצור'!W5+'תמהיל יצור'!V5) -> 5.6562125 | M5: ='תמהיל יצור'!X5*1000000/'צריכת פחם וגז'!$E$48 -> 10.666323 | N5: ='תמהיל יצור'!Y5*10^6/'צריכת פחם וגז'!$E$51 -> 0 | O5: ='תמהיל יצור'!Z5*10^6/'צריכת פחם וגז'!$E$54 -> 0 | P5: =$E$39*'תמהיל יצור'!AC5 -> 5.6562125 | Q5: ='תמהיל יצור'!AD5*1000000/'צריכת פחם וגז'!$E$48 -> 10.666323 | R5: ='תמהיל יצור'!AE5*10^6/'צריכת פחם וגז'!$E$51 -> 0 | S5: ='תמהיל יצור'!AF5*10^6/'צריכת פחם וגז'!$E$54 -> 0 | T5: =$E$39*'תמהיל יצור'!AK5 -> 5.6562125 | U5: ='תמהיל יצור'!AL5*1000000/'צריכת פחם וגז'!$E$48 -> 10.666323
B6: =B5+1 -> 2022 | C6: =$E$39*'תמהיל יצור'!H6 -> 8.017544 | D6: ='תמהיל יצור'!I6*1000000/'צריכת פחם וגז'!$E$48 -> 9.8705545 | F6: =$E$39*'תמהיל יצור'!L6 -> 5.6562125 | G6: ='תמהיל יצור'!M6*1000000/'צריכת פחם וגז'!$E$48 -> 11.111749 | I6: =$E$39*('תמהיל יצור'!Q6+'תמהיל יצור'!P6) -> 3.8402516 | J6: ='תמהיל יצור'!R6*1000000/'צריכת פחם וגז'!$E$44 -> 1.0170992 | K6: ='תמהיל יצור'!S6*1000000/'צריכת פחם וגז'!$E$48 -> 11.261794 | L6: =$E$39*('תמהיל יצור'!W6+'תמהיל יצור'!V6) -> 3.7430818 | M6: ='תמהיל יצור'!X6*1000000/'צריכת פחם וגז'!$E$48 -> 12.117354 | N6: ='תמהיל יצור'!Y6*10^6/'צריכת פחם וגז'!$E$51 -> 0 | O6: ='תמהיל יצור'!Z6*10^6/'צריכת פחם וגז'!$E$54 -> 0 | P6: =$E$39*'תמהיל יצור'!AC6 -> 3.7430818 | Q6: ='תמהיל יצור'!AD6*1000000/'צריכת פחם וגז'!$E$48 -> 12.117354 | R6: ='תמהיל יצור'!AE6*10^6/'צריכת פחם וגז'!$E$51 -> 0 | S6: ='תמהיל יצור'!AF6*10^6/'צריכת פחם וגז'!$E$54 -> 0 | T6: =$E$39*'תמהיל יצור'!AK6 -> 5.6562125 | U6: ='תמהיל יצור'!AL6*1000000/'צריכת פחם וגז'!$E$48 -> 11.111749
