Workbook
Name _01_02: 'ראשי-פרטים כלליים וריכוז הוצאות'!#REF!
Name _01_02: 'ראשי-פרטים כלליים וריכוז הוצאות'!#REF!
Name haarot_takzivim: 'ראשי-פרטים כלליים וריכוז הוצאות'!$G$1
Name hachlatat_vaada: 'ראשי-פרטים כלליים וריכוז הוצאות'!$G$1
Name homarim_achuz_tkura: #REF!
Name homarim_kamut: #REF!
Name homarim_takziv: #REF!
Name homarim_teur: #REF!
Name kablanim_hearot: 'התמחות בשוק היעד'!$E$3:$E$20
Name kablanim_hul_hearot: 'תערוכות והדגמות'!$H$3:$H$17
Name kablanim_hul_location: 'תערוכות והדגמות'!$K$2
Name kablanim_hul_takziv: 'תערוכות והדגמות'!$I$3:$I$17
Name kablanim_hul_teur: 'תערוכות והדגמות'!$E$3:$E$17
Name kablanim_hul_toar: 'תערוכות והדגמות'!$B$3:$B$17
Name kablanim_location: 'התמחות בשוק היעד'!$H$2
Name kablanim_takziv: 'התמחות בשוק היעד'!$F$3:$F$20
Name kablanim_teur: 'התמחות בשוק היעד'!$C$3:$C$20
Name kablanim_toar: 'התמחות בשוק היעד'!$B$3:$B$20
Name koah_adam_achuz: 'שכר עובד בחו"ל'!#REF!
Name koah_adam_code_sachar: 'שכר עובד בחו"ל'!$A$4:$A$13
Name koah_adam_cost: 'שכר עובד בחו"ל'!$Z$4:$Z$13
Name koah_adam_limit_cost: 'שכר עובד בחו"ל'!#REF!
Name koah_adam_limit_cost: 'שכר עובד בחו"ל'!#REF!
Name koah_adam_mispar_hodashim: 'שכר עובד בחו"ל'!#REF!
Name koah_adam_tafkid: 'שכר עובד בחו"ל'!$D$4:$D$13
Name koah_adam_takziv: 'שכר עובד בחו"ל'!$M$4:$M$13
Name koah_adam_teur: 'שכר עובד בחו"ל'!$B$4:$B$13
Name koah_adam_toar: 'שכר עובד בחו"ל'!$C$4:$C$13
Name patent_takziv: 'פרסום ושיווק מקוון'!$H$3:$H$17
Name patent_teur: 'פרסום ושיווק מקוון'!$B$3:$B$17
Name shonot_takziv: 'פרסום ושיווק מקוון'!#REF!
Name shonot_takziv: 'יעוץ והקמת מערכי שיווק '!$I$3:$I$15
Name shonot_teur: 'פרסום ושיווק מקוון'!#REF!
Name shonot_teur: 'יעוץ והקמת מערכי שיווק '!$B$3:$B$15
Name takzivim_mumlazim: 'ראשי-פרטים כלליים וריכוז הוצאות'!$G$20:$G$25
Name takzivim_teur: 'ראשי-פרטים כלליים וריכוז הוצאות'!$C$20:$C$25
Name tekura_takziv: טיסות!$I$3:$I$7
Name tekura_takziv: 'תקינה, ייעוץ משפטי וביטוח'!$F$3:$F$10
Name tekura_takziv: #REF!
Name tekura_teur: טיסות!$B$3:$B$7
Name tekura_teur: 'תקינה, ייעוץ משפטי וביטוח'!$B$3:$B$10
Name tekura_teur: #REF!
Name ziyud_cost: #REF!
Name ziyud_cost: #REF!
Name ziyud_cost: #REF!
Name ziyud_kamut: #REF!
Name ziyud_kamut: #REF!
Name ziyud_kamut: #REF!
Name ziyud_mispar_hodashim: #REF!
Name ziyud_mispar_hodashim: #REF!
Name ziyud_mispar_hodashim: #REF!
Name ziyud_takziv: #REF!
Name ziyud_takziv: #REF!
Name ziyud_takziv: #REF!
Name ziyud_teur: #REF!
Name ziyud_teur: #REF!
Name ziyud_teur: #REF!
Name גד: #REF!
Name טיסות: #REF!
Name טקסט1: 'שכר עובד בחו"ל'!$A$4

Sheet ראשי-פרטים כלליים וריכוז הוצאות
A1: מינהל סחר חוץ משרד הכלכלה והתעשייה | C1: מערך כלי סיוע - תוכנית כסף חכם | E1: גרסה 01012018 | I1: בודק מקצועי | N1: רכז וועדה
A2: קישור לאתר מינהל סחר חוץ - משרד הכלכלה | D2: קישור למערך כלי סיוע לתעשייה - מינהל סחר חוץ
A4: פירוט בקשת תקציב לתוכנית כסף חכם
E5: נכון לתאריך : | Q5: =IF(COUNTA(F5)=1,"",(IF(COUNTA(F5)=0,"חובה למלא תאריך",""))) -> חובה למלא תאריך
A6: (על העסק למלא רק את התאים הצבועים בלבן)
A8: פרטים כלליים
A9: שם העסק | D9: מספר העסק ברשם החברות (ח.פ.) | E9: ארץ יעד | G9: שם בודק מקצועי | J9: מרכז הוועדה | P9: =IF($A$10="רן יחזקאל",1,"") | Q9: =IF($A$10="רן יחזקאל",1,"") | R9: =IF($A$10="רן יחזקאל",1,"") | S9: =IF($A$10="רן יחזקאל",1,"") | U9: =IF($A$10="רן יחזקאל",1,"")
P10: =IF($A$10="רן יחזקאל",1,"") | U10: =IF($A$10="רן יחזקאל",1,"")
A11: כתובת העסק: רחוב | C11: מספר | D11: ישוב | E11: מיקוד | F11: טלפון חברה | G11: תאריך הכנה | J11: תאריך הוועדה | U11: =IF($A$10="רן יחזקאל",1,"")
U12: =IF($A$10="רן יחזקאל",1,"")
A13: איש קשר מטעם העסק | C13: טלפון איש הקשר | D13: פקס חברה | E13: E-MAIL | G13: שם מאשר מינהל סחר חוץ | J13: מנהל הוועדה | U13: =IF($A$10="רן יחזקאל",1,"") | AL13: =IF($A$10="רן יחזקאל",1,"")
AL14: =IF($A$10="רן יחזקאל",1,"")
G15: הזנת 3 השדות לעיל הינה תנאי למשיכת התקציב לשדות מטה | J15: הזנת 3 השדות לעיל הינה תנאי למשיכת התקציב לשדות מטה | O15: =IF($A$10="רן יחזקאל",1,"") | P15: =IF($A$10="רן יחזקאל",1,"") | R15: =IF($A$10="רן יחזקאל",1,"") | S15: =IF($A$10="רן יחזקאל",1,"") | T15: =IF($A$10="רן יחזקאל",1,"") | U15: =IF($A$10="רן יחזקאל",1,"") | W15: =IF($A$10="רן יחזקאל",1,"") | X15: =IF($A$10="רן יחזקאל",1,"") | Y15: =IF($A$10="רן יחזקאל",1,"") | AA15: =IF($A$10="רן יחזקאל",1,"") | AB15: =IF($A$10="רן יחזקאל",1,"") | AC15: =IF($A$10="רן יחזקאל",1,"") | AE15: =IF($A$10="רן יחזקאל",1,"") | AH15: =IF($A$10="רן יחזקאל",1,"") | AJ15: =IF($A$10="רן יחזקאל",1,"") | AK15: =IF($A$10="רן יחזקאל",1,"") | AL15: =IF($A$10="רן יחזקאל",1,"")
A16: ריכוז התקציב המבוקש (נקלט אוטומטית מתוך הגליונות) | O16: =IF($A$10="רן יחזקאל",1,"") | R16: =IF($A$10="רן יחזקאל",1,"") | U16: =IF($A$10="רן יחזקאל",1,"") | X16: =IF($A$10="רן יחזקאל",1,"") | AA16: =IF($A$10="רן יחזקאל",1,"") | AF16: =IF($A$10="רן יחזקאל",1,"") | AG16: =IF($A$10="רן יחזקאל",1,"") | AJ16: =IF($A$10="רן יחזקאל",1,"")
B17: מס' | C17: סוג ההוצאה | D17: סה"כ הוצאות מבוקשות בש"ח | E17: אחוז מהתקציב | G17: סה"כ מומלץ בודק מקצועי | H17: אחוז מהתקציב | J17: סה"כ מאושר וועדה | K17: % סיוע | L17: סיוע משרד הכלכלה והתעשייה | M17: אחוז מהתקציב | R17: =IF($A$10="רן יחזקאל",1,"") | U17: =IF($A$10="רן יחזקאל",1,"") | X17: =IF($A$10="רן יחזקאל",1,"") | AA17: =IF($A$10="רן יחזקאל",1,"") | AC17: =IF($A$10="רן יחזקאל",1,"") | AE17: =IF($A$10="רן יחזקאל",1,"") | AH17: =IF($A$10="רן יחזקאל",1,"") | AJ17: =IF($A$10="רן יחזקאל",1,"") | AK17: =IF($A$10="רן יחזקאל",1,"")
B18: 1 | C18: יועצים מקצועיים | D18: ='יעוץ והקמת מערכי שיווק '!F8 -> 0 | E18: =IF(D18>0,D18/$D$29,"") | G18: ='יעוץ והקמת מערכי שיווק '!I8 -> 0 | H18: =IF(G18>0,G18/$G$29,"") | J18: ='יעוץ והקמת מערכי שיווק '!M8 -> 0 | K18: 0.5 | L18: =K18*J18 -> 0 | M18: =IF(L18>0,L18/$L$29,"")
B19: 2 | C19: הקמת מערכי שיווק | D19: ='יעוץ והקמת מערכי שיווק '!F16 -> 0 | E19: =IF(D19>0,D19/$D$29,"") | G19: ='יעוץ והקמת מערכי שיווק '!I16 -> 0 | H19: =IF(G19>0,G19/$G$29,"") | J19: ='יעוץ והקמת מערכי שיווק '!M16 -> 0 | K19: 0.5 | L19: =K19*J19 -> 0 | M19: =IF(L19>0,L19/$L$29,"")
B20: 3 | C20: שכר עובד בחו"ל | D20: ='שכר עובד בחו"ל'!K14 -> 0 | E20: =IF(D20>0,D20/$D$29,"") | G20: ='שכר עובד בחו"ל'!M14 -> 0 | H20: =IF(G20>0,G20/$G$29,"") | J20: ='שכר עובד בחו"ל'!P14 -> 0 | K20: 0.5 | L20: =K20*J20 -> 0 | M20: =IF(L20>0,L20/$L$29,"") | AC20: =IF($A$10="רן יחזקאל",1,"")
B21: 4 | C21: איסוף מידע | D21: ='התמחות בשוק היעד'!D11 -> 0 | E21: =IF(D21>0,D21/$D$29,"") | G21: ='התמחות בשוק היעד'!F11 -> 0 | H21: =IF(G21>0,G21/$G$29,"") | J21: ='התמחות בשוק היעד'!I11 -> 0 | K21: 0.5 | L21: =K21*J21 -> 0 | M21: =IF(L21>0,L21/$L$29,"")
B22: 5 | C22: הכשרה מקצועית | D22: ='התמחות בשוק היעד'!D20 -> 0 | E22: =IF(D22>0,D22/$D$29,"") | G22: ='התמחות בשוק היעד'!F20 -> 0 | H22: =IF(G22>0,G22/$G$29,"") | J22: ='התמחות בשוק היעד'!I20 -> 0 | K22: 0.5 | L22: =K22*J22 -> 0 | M22: =IF(L22>0,L22/$L$29,"")
B23: 6 | C23: פרסום ושיווק מקוון | D23: ='פרסום ושיווק מקוון'!F18 -> 0 | E23: =IF(D23>0,D23/$D$29,"") | G23: ='פרסום ושיווק מקוון'!H18 -> 0 | H23: =IF(G23>0,G23/$G$29,"") | J23: ='פרסום ושיווק מקוון'!K18 -> 0 | K23: 0.5 | L23: =K23*J23 -> 0 | M23: =IF(L23>0,L23/$L$29,"")
B24: 7 | C24: תערוכות והדגמות בשוק היעד | D24: ='תערוכות והדגמות'!G18 -> 0 | E24: =IF(D24>0,D24/$D$29,"") | G24: ='תערוכות והדגמות'!I18 -> 0 | H24: =IF(G24>0,G24/$G$29,"") | J24: ='תערוכות והדגמות'!L18 -> 0 | K24: 0.5 | L24: =K24*J24 -> 0 | M24: =IF(L24>0,L24/$L$29,"")
B25: 8 | C25: טיסות | D25: =טיסות!G8 -> 0 | E25: =IF(D25>0,D25/$D$29,"") | G25: =טיסות!I8 -> 0 | H25: =IF(G25>0,G25/$G$29,"") | J25: =טיסות!L8 -> 0 | K25: 0.5 | L25: =K25*J25 -> 0 | M25: =IF(L25>0,L25/$L$29,"")
B26: 9 | C26: תקינה | D26: ='תקינה, ייעוץ משפטי וביטוח'!D8 -> 0 | E26: =IF(D26>0,D26/$D$29,"") | G26: ='תקינה, ייעוץ משפטי וביטוח'!F8 -> 0 | H26: =IF(G26>0,G26/$G$29,"") | J26: ='תקינה, ייעוץ משפטי וביטוח'!I8 -> 0 | K26: 0.5 | L26: =K26*J26 -> 0 | M26: =IF(L26>0,L26/$L$29,"")
B27: 10 | C27: ייעוץ משפטי | D27: ='תקינה, ייעוץ משפטי וביטוח'!D15 -> 0 | E27: =IF(D27>0,D27/$D$29,"") | G27: ='תקינה, ייעוץ משפטי וביטוח'!F15 -> 0 | H27: =IF(G27>0,G27/$G$29,"") | J27: ='תקינה, ייעוץ משפטי וביטוח'!I15 -> 0 | K27: 0.5 | L27: =K27*J27 -> 0 | M27: =IF(L27>0,L27/$L$29,"")
B28: 11 | C28: ביטוח | D28: ='תקינה, ייעוץ משפטי וביטוח'!D22 -> 0 | E28: =IF(D28>0,D28/$D$29,"") | G28: ='תקינה, ייעוץ משפטי וביטוח'!F22 -> 0 | H28: =IF(G28>0,G28/$G$29,"") | J28: ='תקינה, ייעוץ משפטי וביטוח'!I22 -> 0 | K28: 0.5 | L28: =K28*J28 -> 0 | M28: =IF(L28>0,L28/$L$29,"")
C29: סה"כ | D29: =SUM(D18:D28) -> 0 | E29: =IF($D$29>0,D29/$D$29,"") | G29: =SUM(G18:G28) -> 0 | H29: =IF($G$29>0,G29/$G$29,"") | J29: =SUM(J18:J28) -> 0 | K29: 0.5 | L29: =SUM(L18:L28) -> 0 | M29: =IF(L29>0,L29/$L$29,"")
A32: שם וחתימת מנהל הכספים | C32: שם וחתימת מנהל העסק | E32: חותמת העסק *
A35: *יש לצרף לבקשה את דו"ח האקסל המקורי המלא ובנוסף את העמוד הנוכחי סרוק, לאחר מילוי חתימות
A36: ניתן לצרף את הגליון הסרוק כמסמך נפרד

Sheet יעוץ והקמת מערכי שיווק 
A1: יועצים מקצועיים (סעיף 4.1.1 בנהלי התכנית) | F1: ='ראשי-פרטים כלליים וריכוז הוצאות'!F5 -> 0 | G1: למילוי ע"י הבודק המקצועי | J1: בודק מקצועי | K1: למילוי רכז הועדה | N1: רכז וועדה
A2: מס' סד' | B2: שם חברת הייעוץ/יועץ | C2: תחום הייעוץ | D2: מס' שעות הייעוץ | E2: ערך שעת ייעוץ | F2: התקציב המבוקש בש"ח | G2: נימוק לשינוי | H2: שעות מומלצות | I2: סה"כ סכום מומלץ | K2: נימוק לשינוי | L2: שעות מומלצות | M2: סה"כ תקציב מאושר ועדה
A3: 1 | F3: =IF(OR(D3=0,E3=0),0,E3*D3) -> 0 | H3: =D3 -> 0 | I3: =F3 -> 0 | L3: =H3 -> 0 | M3: =I3 -> 0 | P3: =IF(COUNTA(E3,D3,C3,B3)=0,"",(IF(COUNTA(B3:E3)=4,"",": יש למלא את כל ארבעת תאי הנתונים")))
A4: 2 | F4: =IF(OR(D4=0,E4=0),0,E4*D4) -> 0 | H4: =D4 -> 0 | I4: =F4 -> 0 | L4: =H4 -> 0 | M4: =I4 -> 0 | P4: =IF(COUNTA(E4,D4,C4,B4)=0,"",(IF(COUNTA(B4:E4)=4,"",": יש למלא את כל ארבעת תאי הנתונים")))
A5: 3 | F5: =IF(OR(D5=0,E5=0),0,E5*D5) -> 0 | H5: =D5 -> 0 | I5: =F5 -> 0 | L5: =H5 -> 0 | M5: =I5 -> 0 | P5: =IF(COUNTA(E5,D5,C5,B5)=0,"",(IF(COUNTA(B5:E5)=4,"",": יש למלא את כל ארבעת תאי הנתונים")))
A6: 4 | F6: =IF(OR(D6=0,E6=0),0,E6*D6) -> 0 | H6: =D6 -> 0 | I6: =F6 -> 0 | L6: =H6 -> 0 | M6: =I6 -> 0 | P6: =IF(COUNTA(E6,D6,C6,B6)=0,"",(IF(COUNTA(B6:E6)=4,"",": יש למלא את כל ארבעת תאי הנתונים")))
A7: 5 | F7: =IF(OR(D7=0,E7=0),0,E7*D7) -> 0 | H7: =D7 -> 0 | I7: =F7 -> 0 | L7: =H7 -> 0 | M7: =I7 -> 0 | P7: =IF(COUNTA(E7,D7,C7,B7)=0,"",(IF(COUNTA(B7:E7)=4,"",": יש למלא את כל ארבעת תאי הנתונים")))
B8: סה"כ: | F8: =SUM(F3:F7) -> 0 | I8: =SUM(I3:I7) -> 0 | M8: =SUM(M3:M7) -> 0
A9: הקמת מערכי שיווק והפצה בחו"ל (סעיף 4.1.2 בנהלי התכנית)
A10: מס' סד' | B10: שם הספק | C10: מהות העבודה | F10: התקציב המבוקש בש"ח | G10: נימוק לשינוי | I10: סה"כ סכום מומלץ | K10: נימוק לשינוי | M10: סה"כ תקציב מאושר ועדה
A11: 1 | I11: =F11 -> 0 | M11: =I11 -> 0 | P11: =IF(COUNTA(E11,D11,C11,B11)=0,"",(IF(COUNTA(B11:E11)=2,"","יש למלא את שם הספק ומהות העבודה")))
A12: 2 | I12: =F12 -> 0 | M12: =I12 -> 0 | P12: =IF(COUNTA(E12,D12,C12,B12)=0,"",(IF(COUNTA(B12:E12)=2,"","יש למלא את שם הספק ומהות העבודה")))
A13: 3 | I13: =F13 -> 0 | M13: =I13 -> 0 | P13: =IF(COUNTA(E13,D13,C13,B13)=0,"",(IF(COUNTA(B13:E13)=2,"","יש למלא את שם הספק ומהות העבודה")))
A14: 4 | I14: =F14 -> 0 | M14: =I14 -> 0 | P14: =IF(COUNTA(E14,D14,C14,B14)=0,"",(IF(COUNTA(B14:E14)=2,"","יש למלא את שם הספק ומהות העבודה")))
A15: 5 | I15: =F15 -> 0 | M15: =I15 -> 0 | P15: =IF(COUNTA(E15,D15,C15,B15)=0,"",(IF(COUNTA(B15:E15)=2,"","יש למלא את שם הספק ומהות העבודה")))
B16: סה"כ: | F16: =SUM(F11:F15) -> 0 | I16: =SUM(I11:I15) -> 0 | M16: =SUM(M11:M15) -> 0

Sheet שכר עובד בחו"ל
A1: שכר עובד בחו"ל (סעיף 4.1.3) | K1: ='ראשי-פרטים כלליים וריכוז הוצאות'!F5 -> 0 | N1: בודק מקצועי | Q1: רכז וועדה
B2: פרטי העובד | F2: נתוני שכר בגין חודש ממוצע לעובד: יש לדווח את עלויות השכר שישולמו בפועל | J2: סה"כ שכר מבוקש
A3: מס' סד' | B3: שם משפחה + שם פרטי (למיין לפי שם המשפחה) | C3: תואר מקצועי | D3: תפקיד במדינת היעד | E3: העסקה (מעמד העובד בעסק) | F3: עלות שכר חודש ממוצע בתקופת הפרויקט | G3: חלקיות משרה | H3: אחוז תעסוקה בפרויקט | I3: מס' חודשי עבודה בפרויקט | J3: שנות אדם | K3: שכר מבוקש בש"ח | L3: נימוק לשינוי | M3: סה"כ שכר מומלץ | O3: נימוק לשינוי | P3: סה"כ תקציב מאושר ועדה
A4: 1 | J4: =IF(COUNTA(B4:I4)=8,I4*H4*G4/12,0) -> 0 | K4: =IF(COUNTA(B4:I4)=8,F4*H4*I4,0) -> 0 | M4: =K4 -> 0 | P4: =M4 -> 0 | Q4: =IF(COUNTA(B4:I4)=0,"",(IF(COUNTA(B4:I4)=8,"","יש למלא את כל שמונת תאי הנתונים")))
A5: 2 | J5: =IF(COUNTA(B5:I5)=8,I5*H5*G5/12,0) -> 0 | K5: =IF(COUNTA(B5:I5)=8,F5*H5*I5,0) -> 0 | M5: =K5 -> 0 | P5: =M5 -> 0 | Q5: =IF(COUNTA(B5:I5)=0,"",(IF(COUNTA(B5:I5)=8,"","יש למלא את כל שמונת תאי הנתונים")))
A6: 3 | J6: =IF(COUNTA(B6:I6)=8,I6*H6*G6/12,0) -> 0 | K6: =IF(COUNTA(B6:I6)=8,F6*H6*I6,0) -> 0 | M6: =K6 -> 0 | P6: =M6 -> 0
A7: 4 | J7: =IF(COUNTA(B7:I7)=8,I7*H7*G7/12,0) -> 0 | K7: =IF(COUNTA(B7:I7)=8,F7*H7*I7,0) -> 0 | M7: =K7 -> 0 | P7: =M7 -> 0
A8: 5 | J8: =IF(COUNTA(B8:I8)=8,I8*H8*G8/12,0) -> 0 | K8: =IF(COUNTA(B8:I8)=8,F8*H8*I8,0) -> 0 | M8: =K8 -> 0 | P8: =M8 -> 0
A9: 6 | J9: =IF(COUNTA(B9:I9)=8,I9*H9*G9/12,0) -> 0 | K9: =IF(COUNTA(B9:I9)=8,F9*H9*I9,0) -> 0 | M9: =K9 -> 0 | P9: =M9 -> 0
A10: 7 | J10: =IF(COUNTA(B10:I10)=8,I10*H10*G10/12,0) -> 0 | K10: =IF(COUNTA(B10:I10)=8,F10*H10*I10,0) -> 0 | M10: =K10 -> 0 | P10: =M10 -> 0
A11: 8 | J11: =IF(COUNTA(B11:I11)=8,I11*H11*G11/12,0) -> 0 | K11: =IF(COUNTA(B11:I11)=8,F11*H11*I11,0) -> 0 | M11: =K11 -> 0 | P11: =M11 -> 0 | Q11: =IF(COUNTA(B11:I11)=0,"",(IF(COUNTA(B11:I11)=8,"","יש למלא את כל שמונת תאי הנתונים")))
A12: 9 | J12: =IF(COUNTA(B12:I12)=8,I12*H12*G12/12,0) -> 0 | K12: =IF(COUNTA(B12:I12)=8,F12*H12*I12,0) -> 0 | M12: =K12 -> 0 | P12: =M12 -> 0 | Q12: =IF(COUNTA(B12:I12)=0,"",(IF(COUNTA(B12:I12)=8,"","יש למלא את כל שמונת תאי הנתונים")))
A13: 10 | J13: =IF(COUNTA(B13:I13)=8,I13*H13*G13/12,0) -> 0 | K13: =IF(COUNTA(B13:I13)=8,F13*H13*I13,0) -> 0 | M13: =K13 -> 0 | P13: =M13 -> 0 | Q13: =IF(COUNTA(B13:I13)=0,"",(IF(COUNTA(B13:I13)=8,"","יש למלא את כל שמונת תאי הנתונים")))
A14: סה"כ: | J14: =SUM(J4:J13) -> 0 | K14: =SUM(K4:K13) -> 0 | M14: =SUM(M4:M13) -> 0 | P14: =SUM(P4:P13) -> 0
B19: סוג ההעסקה | C19: תקרת עלות שכר מוכרת כולל תקורות
B20: בעל עניין | C20: 35000
B21: עובד בחברה | C21: 25000
B22: עובד חיצוני (חשבונית) | C22: 25000
B23: חב' כ"א | C23: 25000
B24: אחר

Sheet התמחות בשוק היעד
A1: איסוף מידע (סעיף 4.2.1 בנהלי התכנית) | D1: ='ראשי-פרטים כלליים וריכוז הוצאות'!F5 -> 0 | E1: למילוי ע"י הבודק המקצועי | G1: בודק מקצועי | H1: למילוי ע"י רכז הועדה | J1: רכז וועדה
A2: מס' סד' | B2: סוג הפעילות | C2: מטרה | D2: התקציב המבוקש בש"ח | E2: נימוק לשינוי | F2: סה"כ סכום מומלץ | H2: נימוק לשינוי | I2: סה"כ תקציב מאושר ועדה
A3: 1 | F3: =D3 -> 0 | I3: =F3 -> 0
A4: 2 | F4: =D4 -> 0 | I4: =F4 -> 0
A5: 3 | F5: =D5 -> 0 | I5: =F5 -> 0
A6: 4 | F6: =D6 -> 0 | I6: =F6 -> 0
A7: 5 | F7: =D7 -> 0 | I7: =F7 -> 0
A8: 6 | F8: =D8 -> 0 | I8: =F8 -> 0
A9: 7 | F9: =D9 -> 0 | I9: =F9 -> 0
A10: 8 | F10: =D10 -> 0 | I10: =F10 -> 0
B11: סה"כ: | D11: =SUM(D3:D10) -> 0 | F11: =SUM(F3:F10) -> 0 | I11: =SUM(I3:I10) -> 0
A12: הכשרה מקצועית (סעיף 4.2.2 בנהלי התכנית) | D12: ='ראשי-פרטים כלליים וריכוז הוצאות'!F16 -> 0 | E12: למילוי ע"י הבודק המקצועי | G12: בודק מקצועי | H12: למילוי ע"י רכז הועדה | J12: רכז וועדה
A13: 1 | F13: =D13 -> 0 | I13: =F13 -> 0
A14: 2 | F14: =D14 -> 0 | I14: =F14 -> 0
A15: 3 | F15: =D15 -> 0 | I15: =F15 -> 0
A16: 4 | F16: =D16 -> 0 | I16: =F16 -> 0
A17: 5 | F17: =D17 -> 0 | I17: =F17 -> 0
A18: 6 | F18: =D18 -> 0 | I18: =F18 -> 0
A19: 7 | F19: =D19 -> 0 | I19: =F19 -> 0
B20: סה"כ: | D20: =SUM(D13:D19) -> 0 | F20: =SUM(F13:F19) -> 0 | I20: =SUM(I13:I19) -> 0

Sheet פרסום ושיווק מקוון
A1: פרסום ושיווק מקוון (סעיף 4.3 בנהלי התכנית) | F1: ='ראשי-פרטים כלליים וריכוז הוצאות'!F5 -> 0 | G1: למילוי ע"י הבודק המקצועי | I1: בודק מקצועי | J1: למילוי ע"י רכז הועדה | L1: רכז וועדה
A2: מס' סד' | B2: סוג הפעילות | C2: מטרה | F2: התקציב המבוקש בש"ח | G2: נימוק לשינוי | H2: סה"כ סכום מומלץ | J2: נימוק לשינוי | K2: סה"כ תקציב מאושר ועדה
A3: 1 | H3: =F3 -> 0 | K3: =H3 -> 0 | M3: =IF(COUNTA(B3:E3)=0,"",(IF(COUNTA(B3:E3)=4,"","יש למלא את כל ארבעת תאי הנתונים")))
A4: 2 | H4: =F4 -> 0 | K4: =H4 -> 0 | M4: =IF(COUNTA(B4:E4)=0,"",(IF(COUNTA(B4:E4)=4,"","יש למלא את כל ארבעת תאי הנתונים")))
A5: 3 | H5: =F5 -> 0 | K5: =H5 -> 0 | M5: =IF(COUNTA(B5:E5)=0,"",(IF(COUNTA(B5:E5)=4,"","יש למלא את כל ארבעת תאי הנתונים")))
A6: 4 | H6: =F6 -> 0 | K6: =H6 -> 0 | M6: =IF(COUNTA(B6:E6)=0,"",(IF(COUNTA(B6:E6)=4,"","יש למלא את כל ארבעת תאי הנתונים")))
A7: 5 | H7: =F7 -> 0 | K7: =H7 -> 0 | M7: =IF(COUNTA(B7:E7)=0,"",(IF(COUNTA(B7:E7)=4,"","יש למלא את כל ארבעת תאי הנתונים")))
A8: 6 | H8: =F8 -> 0 | K8: =H8 -> 0 | M8: =IF(COUNTA(B8:E8)=0,"",(IF(COUNTA(B8:E8)=4,"","יש למלא את כל ארבעת תאי הנתונים")))
A9: 7 | H9: =F9 -> 0 | K9: =H9 -> 0 | M9: =IF(COUNTA(B9:E9)=0,"",(IF(COUNTA(B9:E9)=4,"","יש למלא את כל ארבעת תאי הנתונים")))
A10: 8 | H10: =F10 -> 0 | K10: =H10 -> 0 | M10: =IF(COUNTA(B10:E10)=0,"",(IF(COUNTA(B10:E10)=4,"","יש למלא את כל ארבעת תאי הנתונים")))
A11: 9 | H11: =F11 -> 0 | K11: =H11 -> 0 | M11: =IF(COUNTA(B11:E11)=0,"",(IF(COUNTA(B11:E11)=4,"","יש למלא את כל ארבעת תאי הנתונים")))
A12: 10 | H12: =F12 -> 0 | K12: =H12 -> 0 | M12: =IF(COUNTA(B12:E12)=0,"",(IF(COUNTA(B12:E12)=4,"","יש למלא את כל ארבעת תאי הנתונים")))
A13: 11 | H13: =F13 -> 0 | K13: =H13 -> 0 | M13: =IF(COUNTA(B13:E13)=0,"",(IF(COUNTA(B13:E13)=4,"","יש למלא את כל ארבעת תאי הנתונים")))
A14: 12 | H14: =F14 -> 0 | K14: =H14 -> 0 | M14: =IF(COUNTA(B14:E14)=0,"",(IF(COUNTA(B14:E14)=4,"","יש למלא את כל ארבעת תאי הנתונים")))
... A17: 15 | H17: =F17 -> 0 | K17: =H17 -> 0 | M17: =IF(COUNTA(B17:E17)=0,"",(IF(COUNTA(B17:E17)=4,"","יש למלא את כל ארבעת תאי הנתונים")))
B18: סה"כ: | F18: =SUM(F3:F17) -> 0 | H18: =SUM(H3:H17) -> 0 | K18: =SUM(K3:K17) -> 0

Sheet תערוכות והדגמות
A1: תערוכות והדגמות (סעיף 4.4 בנהלי התכנית) | G1: ='ראשי-פרטים כלליים וריכוז הוצאות'!F5 -> 0 | H1: למילוי ע"י הבודק המקצועי | J1: בודק מקצועי | K1: למילוי ע"י רכז הועדה | M1: רכז וועדה
A2: מס' סד' | B2: סוג פעילות | C2: מדינה | D2: שם העיר בה תתקיים הפעילות | E2: מטרה | F2: תאריכי הפעילות | G2: התקציב המבוקש בש"ח | H2: נימוק לשינוי | I2: סה"כ סכום מומלץ | K2: נימוק לשינוי | L2: סה"כ תקציב מאושר ועדה
A3: 1 | I3: =G3 -> 0 | L3: =I3 -> 0
A4: 2 | I4: =G4 -> 0 | L4: =I4 -> 0
A5: 3 | I5: =G5 -> 0 | L5: =I5 -> 0
A6: 4 | I6: =G6 -> 0 | L6: =I6 -> 0
A7: 5 | I7: =G7 -> 0 | L7: =I7 -> 0
A8: 6 | I8: =G8 -> 0 | L8: =I8 -> 0
A9: 7 | I9: =G9 -> 0 | L9: =I9 -> 0
A10: 8 | I10: =G10 -> 0 | L10: =I10 -> 0
A11: 9 | I11: =G11 -> 0 | L11: =I11 -> 0
A12: 10 | I12: =G12 -> 0 | L12: =I12 -> 0
A13: 11 | I13: =G13 -> 0 | L13: =I13 -> 0
A14: 12 | I14: =G14 -> 0 | L14: =I14 -> 0
... A17: 15 | I17: =G17 -> 0 | L17: =I17 -> 0
B18: סה"כ: | G18: =SUM(G3:G17) -> 0 | I18: =SUM(I3:I17) -> 0 | L18: =SUM(L3:L17) -> 0

Sheet טיסות
A1: טיסות (סעיף 4.5 בנהלי התכנית) | G1: ='ראשי-פרטים כלליים וריכוז הוצאות'!F5 -> 0 | H1: למילוי ע"י הבודק המקצועי | J1: בודק מקצועי | K1: למילוי ע"י רכז הועדה | M1: רכז וועדה
A2: מס' סד' | B2: שם + תפקיד | C2: יעד נסיעה | D2: חודש מתוכנן לנסיעה | E2: משך נסיעה (ימים) | F2: מטרה | G2: התקציב המבוקש לטיסות בלבד בש"ח | H2: נימוק לשינוי | I2: סה"כ סכום מומלץ | K2: נימוק לשינוי | L2: סה"כ תקציב מאושר ועדה
A3: 1 | I3: =G3 -> 0 | L3: =I3 -> 0
A4: 2 | I4: =G4 -> 0 | L4: =I4 -> 0
A5: 3 | I5: =G5 -> 0 | L5: =I5 -> 0
A6: 4 | I6: =G6 -> 0 | L6: =I6 -> 0
A7: 5 | I7: =G7 -> 0 | L7: =I7 -> 0
B8: סה"כ: | G8: =SUM(G3:G7) -> 0 | I8: =SUM(I3:I7) -> 0 | L8: =SUM(L3:L7) -> 0

Sheet תקינה, ייעוץ משפטי וביטוח
A1: תקינה (סעיף 4.6.1 בנהלי התכנית) | D1: ='ראשי-פרטים כלליים וריכוז הוצאות'!F5 -> 0 | E1: למילוי ע"י הבודק המקצועי | G1: בודק מקצועי | H1: למילוי ע"י רכז הועדה | J1: רכז וועדה
A2: מס' סד' | B2: הפעילות | C2: מטרה | D2: התקציב המבוקש בש"ח | E2: נימוק לשינוי | F2: סה"כ סכום מומלץ | H2: נימוק לשינוי | I2: סה"כ תקציב מאושר ועדה
A3: 1 | F3: =D3 -> 0 | I3: =F3 -> 0
A4: 2 | F4: =D4 -> 0 | I4: =F4 -> 0
A5: 3 | F5: =D5 -> 0 | I5: =F5 -> 0
A6: 4 | F6: =D6 -> 0 | I6: =F6 -> 0
A7: 5 | F7: =D7 -> 0 | I7: =F7 -> 0
B8: סה"כ: | D8: =SUM(D3:D7) -> 0 | F8: =SUM(F3:F7) -> 0 | I8: =SUM(I3:I7) -> 0
A9: ייעוץ משפטי (סעיף 4.6.2 בנהלי התכנית) | D9: ='ראשי-פרטים כלליים וריכוז הוצאות'!F12 -> 0 | E9: למילוי ע"י הבודק המקצועי | G9: בודק מקצועי | H9: למילוי ע"י רכז הועדה | J9: רכז וועדה
A10: 1 | F10: =D10 -> 0 | I10: =F10 -> 0
A11: 2 | F11: =D11 -> 0 | I11: =F11 -> 0
A12: 3 | F12: =D12 -> 0 | I12: =F12 -> 0
A13: 4 | F13: =D13 -> 0 | I13: =F13 -> 0
A14: 5 | F14: =D14 -> 0 | I14: =F14 -> 0
B15: סה"כ: | D15: =SUM(D10:D14) -> 0 | F15: =SUM(F10:F14) -> 0 | I15: =SUM(I10:I14) -> 0
A16: ביטוח (סעיף 4.6.3 בנהלי התכנית) | D16: ='ראשי-פרטים כלליים וריכוז הוצאות'!F18 -> 0 | E16: למילוי ע"י הבודק המקצועי | G16: בודק מקצועי | H16: למילוי ע"י רכז הועדה | J16: רכז וועדה
A17: 1 | F17: =D17 -> 0 | I17: =F17 -> 0
A18: 1 | F18: =D18 -> 0 | I18: =F18 -> 0
A19: 1 | F19: =D19 -> 0 | I19: =F19 -> 0
A20: 1 | F20: =D20 -> 0 | I20: =F20 -> 0
A21: 1 | F21: =D21 -> 0 | I21: =F21 -> 0
B22: סה"כ: | D22: =SUM(D17:D21) -> 0 | F22: =SUM(F17:F21) -> 0 | I22: =SUM(I17:I21) -> 0
