Workbook
Name _01_02: 'ראשי-פרטים כלליים וריכוז הוצאות'!$B$60:$B$90
Name haarot_takzivim: 'ראשי-פרטים כלליים וריכוז הוצאות'!$G$1
Name hachlatat_vaada: 'ראשי-פרטים כלליים וריכוז הוצאות'!$G$1
Name homarim_achuz_tkura: 'טיסות נסיעות ואשל'!$A$3:$A$27
Name homarim_kamut: 'טיסות נסיעות ואשל'!$H$3:$H$27
Name homarim_takziv: 'טיסות נסיעות ואשל'!$L$3:$L$27
Name homarim_teur: 'טיסות נסיעות ואשל'!$B$3:$B$27
Name kablanim_hearot: 'קבלני משנה בישראל'!$E$3:$E$22
Name kablanim_hul_hearot: 'קבלני משנה בחוץ לארץ'!$E$3:$E$22
Name kablanim_hul_location: 'קבלני משנה בחוץ לארץ'!$H$2
Name kablanim_hul_takziv: 'קבלני משנה בחוץ לארץ'!$F$3:$F$22
Name kablanim_hul_teur: 'קבלני משנה בחוץ לארץ'!$C$3:$C$22
Name kablanim_hul_toar: 'קבלני משנה בחוץ לארץ'!$B$3:$B$22
Name kablanim_location: 'קבלני משנה בישראל'!$H$2
Name kablanim_takziv: 'קבלני משנה בישראל'!$F$3:$F$22
Name kablanim_teur: 'קבלני משנה בישראל'!$C$3:$C$22
Name kablanim_toar: 'קבלני משנה בישראל'!$B$3:$B$22
Name koah_adam_achuz: 'כח אדם - שכר'!$M$4:$M$28
Name koah_adam_code_sachar: 'כח אדם - שכר'!$A$4:$A$28
Name koah_adam_cost: 'כח אדם - שכר'!$AH$4:$AH$28
Name koah_adam_limit_cost: 'כח אדם - שכר'!$L$4:$L$28
Name koah_adam_mispar_hodashim: 'כח אדם - שכר'!$N$4:$N$28
Name koah_adam_tafkid: 'כח אדם - שכר'!$D$4:$D$28
Name koah_adam_takziv: 'כח אדם - שכר'!$Q$4:$Q$28
Name koah_adam_teur: 'כח אדם - שכר'!$B$4:$B$28
Name koah_adam_toar: 'כח אדם - שכר'!$C$4:$C$28
Name patent_takziv: 'חומרים '!$H$3:$H$52
Name patent_teur: 'חומרים '!$B$3:$B$52
Name shonot_takziv: 'חומרים '!#REF!
Name shonot_takziv: יועצים!$I$3:$I$32
Name shonot_teur: 'חומרים '!#REF!
Name shonot_teur: יועצים!$B$3:$B$32
Name takzivim_mumlazim: 'ראשי-פרטים כלליים וריכוז הוצאות'!$G$20:$G$26
Name takzivim_teur: 'ראשי-פרטים כלליים וריכוז הוצאות'!$B$20:$B$26
Name tekura_takziv: שונות!#REF!
Name tekura_teur: שונות!#REF!
Name ziyud_cost: #REF!
Name ziyud_kamut: #REF!
Name ziyud_mispar_hodashim: #REF!
Name ziyud_takziv: #REF!
Name ziyud_teur: #REF!
Name טקסט1: 'כח אדם - שכר'!$A$4
Name טקסט4: 'חומרים '!#REF!
Name טקסט4: יועצים!#REF!
Name נפתח1: 'כח אדם - שכר'!#REF!
Name עדתאריך: 'ראשי-פרטים כלליים וריכוז הוצאות'!$B$60:$B$90
Name קוד_שכר: 'ראשי-פרטים כלליים וריכוז הוצאות'!$A$37:$A$42
Name רבעון: 'ראשי-פרטים כלליים וריכוז הוצאות'!$A$45:$A$49
Name רבעון_ראשון: 'ראשי-פרטים כלליים וריכוז הוצאות'!$A$46:$A$49
Name תאריך: 'ראשי-פרטים כלליים וריכוז הוצאות'!$A$60:$A$90

Sheet ראשי-פרטים כלליים וריכוז הוצאות
A1: מינהל סחר חוץ - משרד הכלכלה והתעשייה | C1: קרן סיוע בפרויקטים ובמכרזים בין-לאומיים | E1: גרסה: רן 4.8.15 | I1: בודק מקצועי | L1: רכז וועדה
A2: קישור לאתר מינהל סחר חוץ - משרד הכלכלה | D2: קישור למערך כלי סיוע לתעשייה - מינהל סחר חוץ
A4: פירוט תקציב לטובת השתתפות במכרז/הוכחת היתכנות בינ"ל | I4: =IF(A4=A38,1,0) -> 1
E5: נכון לתאריך :
A6: (על החברה למלא רק את התאים הצבועים בלבן)
A8: פרטים כלליים
A9: שם החברה | C9: נושא הבקשה: | E9: מכרז או הוכחת התכנות? | F9: מס' פניה (כפי שנתקבלה באתר) | Q9: =IF($A$10="רן יחזקאל",1,"") | T9: =IF($A$10="רן יחזקאל",1,"") | V9: =IF($A$10="רן יחזקאל",1,"")
Q10: =IF($A$10="רן יחזקאל",1,"") | V10: =IF($A$10="רן יחזקאל",1,"")
A11: =IF(A4=A38,"שנת התקציב המבוקשת:","שנת התקציב המאושרת:") -> שנת התקציב המבוקשת: | B11: תאריך התחלה: | C11: תאריך סיום: | D11: סה"כ חודשים (אוטומטי): | E11: =IF(A4=A39,"התקופה המדווחת בדוח רבעוני זה - נא להקיש על התא ולבחור מרשימת הגלילה","לשימוש משרדי") -> לשימוש משרדי | G11: שם בודק מקצועי | J11: שם רכז הוועדה | Q11: =IF($A$10="רן יחזקאל",1,"") | V11: =IF($A$10="רן יחזקאל",1,"")
D12: =DATEDIF($B$12,$C$12+1,"m") -> 0 | V12: =IF($A$10="רן יחזקאל",1,"")
A13: כתובת החברה: רחוב+מספר | C13: ישוב | D13: מיקוד | E13: מספר חברה ברשם החברות (ח.פ.) | G13: תאריך הכנה | J13: תאריך הכנה | V13: =IF($A$10="רן יחזקאל",1,"")
V14: =IF($A$10="רן יחזקאל",1,"")
A15: איש קשר מתאם החברה | C15: טלפון איש הקשר | D15: פקס חברה | E15: E-MAIL | G15: שם מאשר מינהל סחר חוץ | J15: יו"ר הועדה | V15: =IF($A$10="רן יחזקאל",1,"") | AM15: =IF($A$10="רן יחזקאל",1,"")
AM16: =IF($A$10="רן יחזקאל",1,"")
G17: הזנת 3 השדות לעיל הינה תנאי למשיכת התקציב לשדות מטה | J17: הזנת 3 השדות לעיל הינה תנאי למשיכת התקציב לשדות מטה | P17: =IF($A$10="רן יחזקאל",1,"") | Q17: =IF($A$10="רן יחזקאל",1,"") | S17: =IF($A$10="רן יחזקאל",1,"") | T17: =IF($A$10="רן יחזקאל",1,"") | U17: =IF($A$10="רן יחזקאל",1,"") | V17: =IF($A$10="רן יחזקאל",1,"") | X17: =IF($A$10="רן יחזקאל",1,"") | Y17: =IF($A$10="רן יחזקאל",1,"") | Z17: =IF($A$10="רן יחזקאל",1,"") | AB17: =IF($A$10="רן יחזקאל",1,"") | AC17: =IF($A$10="רן יחזקאל",1,"") | AD17: =IF($A$10="רן יחזקאל",1,"") | AF17: =IF($A$10="רן יחזקאל",1,"") | AI17: =IF($A$10="רן יחזקאל",1,"") | AK17: =IF($A$10="רן יחזקאל",1,"") | AL17: =IF($A$10="רן יחזקאל",1,"") | AM17: =IF($A$10="רן יחזקאל",1,"")
A18: ריכוז התקציב המבוקש (נקלט אוטומטית מתוך הגליונות) | E18: =IF(I4=0,"% הסיוע המאושר:","% הסיוע בתוכנית:") -> % הסיוע בתוכנית: | F18: 0.5 | P18: =IF($A$10="רן יחזקאל",1,"") | S18: =IF($A$10="רן יחזקאל",1,"") | V18: =IF($A$10="רן יחזקאל",1,"") | Y18: =IF($A$10="רן יחזקאל",1,"") | AB18: =IF($A$10="רן יחזקאל",1,"") | AG18: =IF($A$10="רן יחזקאל",1,"") | AH18: =IF($A$10="רן יחזקאל",1,"") | AK18: =IF($A$10="רן יחזקאל",1,"")
A19: מס' | B19: סוג ההוצאה | C19: סה"כ הוצאות מבוקשות לטובת הפרויקט בש"ח | D19: התפלגות התקציב בדו"ח זה | E19: =IF(I4=0,"סך ההוצאות שאושרו בדיווחים קודמים עד לדוח זה","לא למילוי") -> לא למילוי | F19: =IF(I4=0, "סך ההוצאות המאושרות בדף התקציב","לא למילוי") -> לא למילוי | G19: סה"כ מומלץ בודק מקצועי | H19: אחוז מהתקציב | J19: סה"כ מאושר ועדה | K19: אחוז מהתקציב | S19: =IF($A$10="רן יחזקאל",1,"") | V19: =IF($A$10="רן יחזקאל",1,"") | Y19: =IF($A$10="רן יחזקאל",1,"") | AB19: =IF($A$10="רן יחזקאל",1,"") | AD19: =IF($A$10="רן יחזקאל",1,"") | AF19: =IF($A$10="רן יחזקאל",1,"") | AI19: =IF($A$10="רן יחזקאל",1,"") | AK19: =IF($A$10="רן יחזקאל",1,"") | AL19: =IF($A$10="רן יחזקאל",1,"")
A20: 1 | B20: שכר | C20: ='כח אדם - שכר'!L29 -> 0 | D20: =IF(C20>0,C20/$C$26,"") | G20: =IF(COUNTA($G$12,$G$14,$G$16)=3,'כח אדם - שכר'!Q29,0) -> 0 | H20: =IF(G20>0,G20/$G$27,"") | J20: =IF(COUNTA($J$12,$J$14,$J$16)=3,'כח אדם - שכר'!W29,0) -> 0 | K20: =IF(J20>0,J20/$J$27,"") | AD20: =IF($A$10="רן יחזקאל",1,"")
A21: 2 | B21: טיסות נסיעות ואש"ל | C21: ='טיסות נסיעות ואשל'!I28 -> 0 | D21: =IF(C21>0,C21/$C$26,"") | G21: =IF(COUNTA($G$12,$G$14,$G$16)=3,'טיסות נסיעות ואשל'!L28,0) -> 0 | H21: =IF(G21>0,G21/$G$27,"") | J21: =IF(COUNTA($J$12,$J$14,$J$16)=3,'טיסות נסיעות ואשל'!O28,0) -> 0 | K21: =IF(J21>0,J21/$J$27,"") | N21: =IF(C27=0,"",IF('טיסות נסיעות ואשל'!J28/('ראשי-פרטים כלליים וריכוז הוצאות'!C20+'ראשי-פרטים כלליים וריכוז הוצאות'!C22+'ראשי-פרטים כלליים וריכוז הוצאות'!C23+'ראשי-פרטים כלליים וריכוז הוצאות'!C24+'ראשי-פרטים כלליים וריכוז הוצאות'!C25+'ראשי-פרטים כלליים וריכוז הוצאות'!C26+'טיסות נסיעות ואשל'!J28)>0.2,"לתשומת ליבכם תקציב הנסיעות מוגבל ל-20 אחוז מסך התקציב",""))
A22: 3 | B22: קבלני משנה בארץ | C22: ='קבלני משנה בישראל'!D23 -> 0 | D22: =IF(C22>0,C22/$C$26,"") | G22: =IF(COUNTA($G$12,$G$14,$G$16)=3,'קבלני משנה בישראל'!F23,0) -> 0 | H22: =IF(G22>0,G22/$G$27,"") | J22: =IF(COUNTA($J$12,$J$14,$J$16)=3,'קבלני משנה בישראל'!I23,0) -> 0 | K22: =IF(J22>0,J22/$J$27,"")
A23: 4 | B23: קבלני משנה בחו"ל | C23: ='קבלני משנה בחוץ לארץ'!D23 -> 0 | D23: =IF(C23>0,C23/$C$26,"") | G23: =IF(COUNTA($G$12,$G$14,$G$16)=3,'קבלני משנה בחוץ לארץ'!F23,0) -> 0 | H23: =IF(G23>0,G23/$G$27,"") | J23: =IF(COUNTA($J$12,$J$14,$J$16)=3,'קבלני משנה בחוץ לארץ'!I23,0) -> 0 | K23: =IF(J23>0,J23/$J$27,"")
A24: 5 | B24: חומרים | C24: ='חומרים '!F53 -> 0 | D24: =IF(C24>0,C24/$C$26,"") | G24: =IF(COUNTA($G$12,$G$14,$G$16)=3,'חומרים '!H53,0) -> 0 | H24: =IF(G24>0,G24/$G$27,"") | J24: =IF(COUNTA($J$12,$J$14,$J$16)=3,'חומרים '!K53,0) -> 0 | K24: =IF(J24>0,J24/$J$27,"")
A25: 6 | B25: יועצים | C25: =יועצים!F33 -> 0 | D25: =IF(C25>0,C25/$C$26,"") | G25: =IF(COUNTA($G$12,$G$14,$G$16)=3,יועצים!I33,0) -> 0 | H25: =IF(G25>0,G25/$G$27,"") | J25: =IF(COUNTA($J$12,$J$14,$J$16)=3,יועצים!M33,0) -> 0 | K25: =IF(J25>0,J25/$J$27,"")
B26: סה"כ תקציב | C26: =SUM(C20:C25) -> 0 | D26: =IF($C$27>0,C26/$C$26,"") | E26: =IF(I4=1,"",(SUM(E20:E25))) | F26: =IF(I4=1,"",(SUM(F20:F25)))
B27: סה"כ מענק: | C27: =SUM(C20:C26)*F18 -> 0 | E27: =IF(I4=1,"",(E26*$F$18)) | F27: =IF(I4=1,"",(F26*$F$18)) | G27: =SUM(G20:G26) -> 0 | H27: =IF($G$27>0,G27/$G$27,"") | J27: =SUM(J20:J26) -> 0 | K27: =IF(J27>0,J27/$J$27,"")
A30: שם וחתימת מנהל הכספים | C30: שם וחתימת מנהל החברה | E30: חותמת חברה
A37: סוג הבקשה:
A38: פירוט תקציב לטובת השתתפות במכרז/הוכחת היתכנות בינ"ל
A39: דיווח רבעוני בקרן הסיוע בפרויקטים ומכרזים בין לאומיים
A41: מהות העבודה:
A42: מכרז
A43: הוכחת התכנות
A45: רבעון ראשון
A46: רבעון שני
A47: רבעון שלישי
A48: רבעון רביעי
A49: אחר
A52: שיעורי מענק
A53: 0.5
A54: 0.6
A59: תאריך התחלה | B59: תאריך סיום | C59: רבעון דיווח
A60: 42005 | B60: 42035 | C60: רבעון ראשון 2015
A61: 42036 | B61: 42063 | C61: רבעון שני 2015
A62: 42064 | B62: 42094 | C62: רבעון שלישי 2015
A63: 42095 | B63: 42124 | C63: רבעון רביעי 2015
A64: 42125 | B64: 42155 | C64: רבעון ראשון 2016
A65: 42156 | B65: 42185 | C65: רבעון שני 2016
A66: 42186 | B66: 42216 | C66: רבעון שלישי 2016
A67: 42217 | B67: 42247 | C67: רבעון רביעי 2016
A68: 42248 | B68: 42277 | C68: רבעון ראשון 2017
A69: 42278 | B69: 42308 | C69: רבעון שני 2017
A70: 42309 | B70: 42338 | C70: רבעון שלישי 2017
A71: 42339 | B71: 42369 | C71: רבעון רביעי 2017
... A79: 42583 | B79: 42613 | C79: רבעון רביעי 2019
A80: 42614 | B80: 42643
A81: 42644 | B81: 42674
A82: 42675 | B82: 42704
A83: 42705 | B83: 42735
A84: 42736 | B84: 42766
A85: 42767 | B85: 42794
A86: 42795 | B86: 42825
A87: 42826 | B87: 42855
A88: 42856 | B88: 42886
A89: 42887 | B89: 42916
A90: 42917 | B90: 42947
A91: 42948 | B91: 42978
... A108: 43466 | B108: 43496

Sheet כח אדם - שכר
A1: סעיף כח אדם - שכר | K1: תאריך: | L1: ='ראשי-פרטים כלליים וריכוז הוצאות'!F5 -> 0 | M1: למילוי הבודק המקצועי | R1: בודק מקצועי | S1: למילוי רכז הועדה | X1: רכז ועדה
B2: פרטי העובד | F2: נתוני שכר בגין חודש ממוצע לעובד: יש לדווח את עלויות השכר ששולמו בפועל | J2: סה"כ שכר
A3: מס' סד' | B3: שם משפחה + שם פרטי (למיין לפי שם המשפחה) | C3: תואר מקצועי | D3: תפקיד בתוכנית | E3: העסקה (מעמד העובד בחברה) | F3: עלות שכר חודש ממוצע בתקופת הפעילות | G3: חלקיות משרה | H3: אחוז תעסוקה בתוכנית | I3: מס' חודשי עבודה בתוכנית | J3: שנות אדם בפועל | K3: שכר בפועל | L3: שכר מוגבל בתקרה | M3: אחוז תעסוקה בתוכנית | N3: מס' חודשי עבודה בתוכנית | O3: נימוק לשינוי | P3: שנות אדם מומלצות בודק מקצועי | Q3: סה"כ שכר מומלץ ע"י בודק מקצועי | S3: אחוז תעסוקה בתוכנית | T3: מס' חודשי עבודה בתוכנית | U3: נימוק לשינוי | V3: שנות אדם מומלצות בודק מקצועי | W3: סה"כ שכר מאושר כלי סיוע
A4: 1 | J4: =IF(COUNTA(B4:I4)=8,I4*H4*G4/12,0) -> 0 | K4: =IF(COUNTA(B4:I4)=8,F4*H4*I4,0) -> 0 | L4: =IF(COUNTA(B4:I4)=8,(MIN(VLOOKUP(E4,$B$35:$C$38,2,FALSE),(F4/G4))*G4*H4*I4),0) -> 0 | M4: =IF(COUNTA(B4:I4)=8,H4,0) -> 0 | N4: =IF(COUNTA(B4:I4)=8,I4,0) -> 0 | P4: =IF(COUNTA(B4:I4)=8,G4*M4*N4/12,0) -> 0 | Q4: =IF(COUNTA(B4:I4)=8,(MIN(VLOOKUP(E4,$B$34:$C$37,2,FALSE),(F4/G4))*G4*M4*N4),0) -> 0 | S4: =IF(COUNTA(G4:N4)=8,M4,0) -> 0 | T4: =IF(COUNTA(B4:I4)=8,N4,0) -> 0 | V4: =IF(COUNTA(G4:N4)=8,G4*S4*T4/12,0) -> 0 | W4: =IF(COUNTA(B4:I4)=8,(MIN(VLOOKUP(E4,$B$34:$C$37,2,FALSE),(F4/G4))*G4*T4*S4),0) -> 0
A5: 2 | J5: =IF(COUNTA(B5:I5)=8,I5*H5*G5/12,0) -> 0 | K5: =IF(COUNTA(B5:I5)=8,F5*H5*I5,0) -> 0 | L5: =IF(COUNTA(B5:I5)=8,(MIN(VLOOKUP(E5,$B$34:$C$37,2,FALSE),(F5/G5))*G5*H5*I5),0) -> 0 | M5: =IF(COUNTA(B5:I5)=8,H5,0) -> 0 | N5: =IF(COUNTA(B5:I5)=8,I5,0) -> 0 | P5: =IF(COUNTA(B5:I5)=8,G5*M5*N5/12,0) -> 0 | Q5: =IF(COUNTA(B5:I5)=8,(MIN(VLOOKUP(E5,$B$34:$C$37,2,FALSE),(F5/G5))*G5*M5*N5),0) -> 0 | S5: =IF(COUNTA(B5:I5)=8,M5,0) -> 0 | T5: =IF(COUNTA(B5:I5)=8,N5,0) -> 0 | V5: =IF(COUNTA(B5:I5)=8,G5*S5*T5/12,0) -> 0 | W5: =IF(COUNTA(B5:I5)=8,(MIN(VLOOKUP(E5,$B$34:$C$37,2,FALSE),(F5/G5))*G5*T5*S5),0) -> 0
A6: 3 | J6: =IF(COUNTA(B6:I6)=8,I6*H6*G6/12,0) -> 0 | K6: =IF(COUNTA(B6:I6)=8,F6*H6*I6,0) -> 0 | L6: =IF(COUNTA(B6:I6)=8,(MIN(VLOOKUP(E6,$B$34:$C$37,2,FALSE),(F6/G6))*G6*H6*I6),0) -> 0 | M6: =IF(COUNTA(B6:I6)=8,H6,0) -> 0 | N6: =IF(COUNTA(B6:I6)=8,I6,0) -> 0 | P6: =IF(COUNTA(B6:I6)=8,G6*M6*N6/12,0) -> 0 | Q6: =IF(COUNTA(B6:I6)=8,(MIN(VLOOKUP(E6,$B$34:$C$37,2,FALSE),(F6/G6))*G6*M6*N6),0) -> 0 | S6: =IF(COUNTA(B6:I6)=8,M6,0) -> 0 | T6: =IF(COUNTA(B6:I6)=8,N6,0) -> 0 | V6: =IF(COUNTA(B6:I6)=8,G6*S6*T6/12,0) -> 0 | W6: =IF(COUNTA(B6:I6)=8,(MIN(VLOOKUP(E6,$B$34:$C$37,2,FALSE),(F6/G6))*G6*T6*S6),0) -> 0
A7: 4 | J7: =IF(COUNTA(B7:I7)=8,I7*H7*G7/12,0) -> 0 | K7: =IF(COUNTA(B7:I7)=8,F7*H7*I7,0) -> 0 | L7: =IF(COUNTA(B7:I7)=8,(MIN(VLOOKUP(E7,$B$34:$C$37,2,FALSE),(F7/G7))*G7*H7*I7),0) -> 0 | M7: =IF(COUNTA(B7:I7)=8,H7,0) -> 0 | N7: =IF(COUNTA(B7:I7)=8,I7,0) -> 0 | P7: =IF(COUNTA(B7:I7)=8,G7*M7*N7/12,0) -> 0 | Q7: =IF(COUNTA(B7:I7)=8,(MIN(VLOOKUP(E7,$B$34:$C$37,2,FALSE),(F7/G7))*G7*M7*N7),0) -> 0 | S7: =IF(COUNTA(B7:I7)=8,M7,0) -> 0 | T7: =IF(COUNTA(B7:I7)=8,N7,0) -> 0 | V7: =IF(COUNTA(B7:I7)=8,G7*S7*T7/12,0) -> 0 | W7: =IF(COUNTA(B7:I7)=8,(MIN(VLOOKUP(E7,$B$34:$C$37,2,FALSE),(F7/G7))*G7*T7*S7),0) -> 0
A8: 5 | J8: =IF(COUNTA(B8:I8)=8,I8*H8*G8/12,0) -> 0 | K8: =IF(COUNTA(B8:I8)=8,F8*H8*I8,0) -> 0 | L8: =IF(COUNTA(B8:I8)=8,(MIN(VLOOKUP(E8,$B$34:$C$37,2,FALSE),(F8/G8))*G8*H8*I8),0) -> 0 | M8: =IF(COUNTA(B8:I8)=8,H8,0) -> 0 | N8: =IF(COUNTA(B8:I8)=8,I8,0) -> 0 | P8: =IF(COUNTA(B8:I8)=8,G8*M8*N8/12,0) -> 0 | Q8: =IF(COUNTA(B8:I8)=8,(MIN(VLOOKUP(E8,$B$34:$C$37,2,FALSE),(F8/G8))*G8*M8*N8),0) -> 0 | S8: =IF(COUNTA(B8:I8)=8,M8,0) -> 0 | T8: =IF(COUNTA(B8:I8)=8,N8,0) -> 0 | V8: =IF(COUNTA(B8:I8)=8,G8*S8*T8/12,0) -> 0 | W8: =IF(COUNTA(B8:I8)=8,(MIN(VLOOKUP(E8,$B$34:$C$37,2,FALSE),(F8/G8))*G8*T8*S8),0) -> 0
A9: 6 | J9: =IF(COUNTA(B9:I9)=8,I9*H9*G9/12,0) -> 0 | K9: =IF(COUNTA(B9:I9)=8,F9*H9*I9,0) -> 0 | L9: =IF(COUNTA(B9:I9)=8,(MIN(VLOOKUP(E9,$B$34:$C$37,2,FALSE),(F9/G9))*G9*H9*I9),0) -> 0 | M9: =IF(COUNTA(B9:I9)=8,H9,0) -> 0 | N9: =IF(COUNTA(B9:I9)=8,I9,0) -> 0 | P9: =IF(COUNTA(B9:I9)=8,G9*M9*N9/12,0) -> 0 | Q9: =IF(COUNTA(B9:I9)=8,(MIN(VLOOKUP(E9,$B$34:$C$37,2,FALSE),(F9/G9))*G9*M9*N9),0) -> 0 | S9: =IF(COUNTA(B9:I9)=8,M9,0) -> 0 | T9: =IF(COUNTA(B9:I9)=8,N9,0) -> 0 | V9: =IF(COUNTA(B9:I9)=8,G9*S9*T9/12,0) -> 0 | W9: =IF(COUNTA(B9:I9)=8,(MIN(VLOOKUP(E9,$B$34:$C$37,2,FALSE),(F9/G9))*G9*T9*S9),0) -> 0
A10: 7 | J10: =IF(COUNTA(B10:I10)=8,I10*H10*G10/12,0) -> 0 | K10: =IF(COUNTA(B10:I10)=8,F10*H10*I10,0) -> 0 | L10: =IF(COUNTA(B10:I10)=8,(MIN(VLOOKUP(E10,$B$34:$C$37,2,FALSE),(F10/G10))*G10*H10*I10),0) -> 0 | M10: =IF(COUNTA(B10:I10)=8,H10,0) -> 0 | N10: =IF(COUNTA(B10:I10)=8,I10,0) -> 0 | P10: =IF(COUNTA(B10:I10)=8,G10*M10*N10/12,0) -> 0 | Q10: =IF(COUNTA(B10:I10)=8,(MIN(VLOOKUP(E10,$B$34:$C$37,2,FALSE),(F10/G10))*G10*M10*N10),0) -> 0 | S10: =IF(COUNTA(B10:I10)=8,M10,0) -> 0 | T10: =IF(COUNTA(B10:I10)=8,N10,0) -> 0 | V10: =IF(COUNTA(B10:I10)=8,G10*S10*T10/12,0) -> 0 | W10: =IF(COUNTA(B10:I10)=8,(MIN(VLOOKUP(E10,$B$34:$C$37,2,FALSE),(F10/G10))*G10*T10*S10),0) -> 0
A11: 8 | J11: =IF(COUNTA(B11:I11)=8,I11*H11*G11/12,0) -> 0 | K11: =IF(COUNTA(B11:I11)=8,F11*H11*I11,0) -> 0 | L11: =IF(COUNTA(B11:I11)=8,(MIN(VLOOKUP(E11,$B$34:$C$37,2,FALSE),(F11/G11))*G11*H11*I11),0) -> 0 | M11: =IF(COUNTA(B11:I11)=8,H11,0) -> 0 | N11: =IF(COUNTA(B11:I11)=8,I11,0) -> 0 | P11: =IF(COUNTA(B11:I11)=8,G11*M11*N11/12,0) -> 0 | Q11: =IF(COUNTA(B11:I11)=8,(MIN(VLOOKUP(E11,$B$34:$C$37,2,FALSE),(F11/G11))*G11*M11*N11),0) -> 0 | S11: =IF(COUNTA(B11:I11)=8,M11,0) -> 0 | T11: =IF(COUNTA(B11:I11)=8,N11,0) -> 0 | V11: =IF(COUNTA(B11:I11)=8,G11*S11*T11/12,0) -> 0 | W11: =IF(COUNTA(B11:I11)=8,(MIN(VLOOKUP(E11,$B$34:$C$37,2,FALSE),(F11/G11))*G11*T11*S11),0) -> 0
A12: 9 | J12: =IF(COUNTA(B12:I12)=8,I12*H12*G12/12,0) -> 0 | K12: =IF(COUNTA(B12:I12)=8,F12*H12*I12,0) -> 0 | L12: =IF(COUNTA(B12:I12)=8,(MIN(VLOOKUP(E12,$B$34:$C$37,2,FALSE),(F12/G12))*G12*H12*I12),0) -> 0 | M12: =IF(COUNTA(B12:I12)=8,H12,0) -> 0 | N12: =IF(COUNTA(B12:I12)=8,I12,0) -> 0 | P12: =IF(COUNTA(B12:I12)=8,G12*M12*N12/12,0) -> 0 | Q12: =IF(COUNTA(B12:I12)=8,(MIN(VLOOKUP(E12,$B$34:$C$37,2,FALSE),(F12/G12))*G12*M12*N12),0) -> 0 | S12: =IF(COUNTA(B12:I12)=8,M12,0) -> 0 | T12: =IF(COUNTA(B12:I12)=8,N12,0) -> 0 | V12: =IF(COUNTA(B12:I12)=8,G12*S12*T12/12,0) -> 0 | W12: =IF(COUNTA(B12:I12)=8,(MIN(VLOOKUP(E12,$B$34:$C$37,2,FALSE),(F12/G12))*G12*T12*S12),0) -> 0
A13: 10 | J13: =IF(COUNTA(B13:I13)=8,I13*H13*G13/12,0) -> 0 | K13: =IF(COUNTA(B13:I13)=8,F13*H13*I13,0) -> 0 | L13: =IF(COUNTA(B13:I13)=8,(MIN(VLOOKUP(E13,$B$34:$C$37,2,FALSE),(F13/G13))*G13*H13*I13),0) -> 0 | M13: =IF(COUNTA(B13:I13)=8,H13,0) -> 0 | N13: =IF(COUNTA(B13:I13)=8,I13,0) -> 0 | P13: =IF(COUNTA(B13:I13)=8,G13*M13*N13/12,0) -> 0 | Q13: =IF(COUNTA(B13:I13)=8,(MIN(VLOOKUP(E13,$B$34:$C$37,2,FALSE),(F13/G13))*G13*M13*N13),0) -> 0 | S13: =IF(COUNTA(B13:I13)=8,M13,0) -> 0 | T13: =IF(COUNTA(B13:I13)=8,N13,0) -> 0 | V13: =IF(COUNTA(B13:I13)=8,G13*S13*T13/12,0) -> 0 | W13: =IF(COUNTA(B13:I13)=8,(MIN(VLOOKUP(E13,$B$34:$C$37,2,FALSE),(F13/G13))*G13*T13*S13),0) -> 0
A14: 11 | J14: =IF(COUNTA(B14:I14)=8,I14*H14*G14/12,0) -> 0 | K14: =IF(COUNTA(B14:I14)=8,F14*H14*I14,0) -> 0 | L14: =IF(COUNTA(B14:I14)=8,(MIN(VLOOKUP(E14,$B$34:$C$37,2,FALSE),(F14/G14))*G14*H14*I14),0) -> 0 | M14: =IF(COUNTA(B14:I14)=8,H14,0) -> 0 | N14: =IF(COUNTA(B14:I14)=8,I14,0) -> 0 | P14: =IF(COUNTA(B14:I14)=8,G14*M14*N14/12,0) -> 0 | Q14: =IF(COUNTA(B14:I14)=8,(MIN(VLOOKUP(E14,$B$34:$C$37,2,FALSE),(F14/G14))*G14*M14*N14),0) -> 0 | S14: =IF(COUNTA(B14:I14)=8,M14,0) -> 0 | T14: =IF(COUNTA(B14:I14)=8,N14,0) -> 0 | V14: =IF(COUNTA(B14:I14)=8,G14*S14*T14/12,0) -> 0 | W14: =IF(COUNTA(B14:I14)=8,(MIN(VLOOKUP(E14,$B$34:$C$37,2,FALSE),(F14/G14))*G14*T14*S14),0) -> 0
A15: 12 | J15: =IF(COUNTA(B15:I15)=8,I15*H15*G15/12,0) -> 0 | K15: =IF(COUNTA(B15:I15)=8,F15*H15*I15,0) -> 0 | L15: =IF(COUNTA(B15:I15)=8,(MIN(VLOOKUP(E15,$B$34:$C$37,2,FALSE),(F15/G15))*G15*H15*I15),0) -> 0 | M15: =IF(COUNTA(B15:I15)=8,H15,0) -> 0 | N15: =IF(COUNTA(B15:I15)=8,I15,0) -> 0 | P15: =IF(COUNTA(B15:I15)=8,G15*M15*N15/12,0) -> 0 | Q15: =IF(COUNTA(B15:I15)=8,(MIN(VLOOKUP(E15,$B$34:$C$37,2,FALSE),(F15/G15))*G15*M15*N15),0) -> 0 | S15: =IF(COUNTA(B15:I15)=8,M15,0) -> 0 | T15: =IF(COUNTA(B15:I15)=8,N15,0) -> 0 | V15: =IF(COUNTA(B15:I15)=8,G15*S15*T15/12,0) -> 0 | W15: =IF(COUNTA(B15:I15)=8,(MIN(VLOOKUP(E15,$B$34:$C$37,2,FALSE),(F15/G15))*G15*T15*S15),0) -> 0
A16: 13 | J16: =IF(COUNTA(B16:I16)=8,I16*H16*G16/12,0) -> 0 | K16: =IF(COUNTA(B16:I16)=8,F16*H16*I16,0) -> 0 | L16: =IF(COUNTA(B16:I16)=8,(MIN(VLOOKUP(E16,$B$34:$C$37,2,FALSE),(F16/G16))*G16*H16*I16),0) -> 0 | M16: =IF(COUNTA(B16:I16)=8,H16,0) -> 0 | N16: =IF(COUNTA(B16:I16)=8,I16,0) -> 0 | P16: =IF(COUNTA(B16:I16)=8,G16*M16*N16/12,0) -> 0 | Q16: =IF(COUNTA(B16:I16)=8,(MIN(VLOOKUP(E16,$B$34:$C$37,2,FALSE),(F16/G16))*G16*M16*N16),0) -> 0 | S16: =IF(COUNTA(B16:I16)=8,M16,0) -> 0 | T16: =IF(COUNTA(B16:I16)=8,N16,0) -> 0 | V16: =IF(COUNTA(B16:I16)=8,G16*S16*T16/12,0) -> 0 | W16: =IF(COUNTA(B16:I16)=8,(MIN(VLOOKUP(E16,$B$34:$C$37,2,FALSE),(F16/G16))*G16*T16*S16),0) -> 0
... A28: 25 | J28: =IF(COUNTA(B28:I28)=8,I28*H28*G28/12,0) -> 0 | K28: =IF(COUNTA(B28:I28)=8,F28*H28*I28,0) -> 0 | L28: =IF(COUNTA(B28:I28)=8,(MIN(VLOOKUP(E28,$B$34:$C$37,2,FALSE),(F28/G28))*G28*H28*I28),0) -> 0 | M28: =IF(COUNTA(B28:I28)=8,H28,0) -> 0 | N28: =IF(COUNTA(B28:I28)=8,I28,0) -> 0 | P28: =IF(COUNTA(B28:I28)=8,G28*M28*N28/12,0) -> 0 | Q28: =IF(COUNTA(B28:I28)=8,(MIN(VLOOKUP(E28,$B$34:$C$37,2,FALSE),(F28/G28))*G28*M28*N28),0) -> 0 | S28: =IF(COUNTA(B28:I28)=8,M28,0) -> 0 | T28: =IF(COUNTA(B28:I28)=8,N28,0) -> 0 | V28: =IF(COUNTA(B28:I28)=8,G28*S28*T28/12,0) -> 0 | W28: =IF(COUNTA(B28:I28)=8,(MIN(VLOOKUP(E28,$B$34:$C$37,2,FALSE),(F28/G28))*G28*T28*S28),0) -> 0
B29: סה"כ משכורות: | F29: =SUM(F4:F28) -> 0 | J29: =SUM(J4:J28) -> 0 | K29: =SUM(K4:K28) -> 0 | L29: =SUM(L4:L28) -> 0 | P29: =SUM(P4:P28) -> 0 | Q29: =SUM(Q4:Q28) -> 0 | V29: =SUM(V4:V28) -> 0 | W29: =SUM(W4:W28) -> 0
B34: סוג ההעסקה | C34: תקרת עלות שכר כוללת
B35: בעל עניין | C35: 48000
B36: עובד בחברה | C36: 36000
B37: עובד חיצוני (חשבונית) | C37: 36000
B38: חב' כ"א | C38: 36000

Sheet טיסות נסיעות ואשל
A1: טיסות נסיעות ואש"ל (בכל שורה יש להזין נוסע אחד ונסיעה אחת) הזנה בש"ח בלבד | I1: תאריך: | J1: ='ראשי-פרטים כלליים וריכוז הוצאות'!F5 -> 0 | K1: למילוי ע"י הבודק | M1: בודק מקצועי | N1: למילוי ע"י הבודק | P1: רכז ועדה
A2: מס' סד' | B2: שם+תפקיד | C2: יעד הנסיעה | D2: חודש מתוכנן לנסיעה | E2: משך נסיעה (ימים) | F2: עלות טיסה בש"ח | G2: עלות נסיעה אל שדה התעופה וחזרה | H2: עלות אש"ל לכל ימי הנסיעה | I2: הסכום ששולם בש"ח | J2: הסכום בו ניתן להכיר מוגבל בתקרות אש"ל | K2: נימוק לשינוי | L2: סה"כ סכום מומלץ בש"ח | N2: נימוק לשינוי | O2: סה"כ סכום מומלץ בש"ח
A3: 1 | I3: =IF(COUNTA(B3:D3)=3,H3+G3+F3,0) -> 0 | J3: =IF(COUNTA(B3:D3)=3,IF(E3>0,(IF((H3/E3)>1000,(1000*E3)+G3+F3,H3+G3+F3)),G3+F3),0) -> 0 | L3: =J3 -> 0 | O3: =L3 -> 0 | Q3: =IF(AND(E3=0,H3>0),"משך הנסיעה לא דווח ולכן לא יכלל האשל בסכום הסופי",( IF(E3>0,IF(H3/E3>700,"דיווח הוצאות האשל חרג מסך של 700 שח ליום ולכן הוגבל",""),"")))
A4: 2 | I4: =IF(COUNTA(B4:D4)=3,H4+G4+F4,0) -> 0 | J4: =IF(COUNTA(B4:D4)=3,IF(E4>0,(IF((H4/E4)>1000,(1000*E4)+G4+F4,H4+G4+F4)),G4+F4),0) -> 0 | L4: =J4 -> 0 | O4: =L4 -> 0 | Q4: =IF(AND(E4=0,H4>0),"משך הנסיעה לא דווח ולכן לא יכלל האשל בסכום הסופי",( IF(E4>0,IF(H4/E4>700,"דיווח הוצאות האשל חרג מסך של 700 שח ליום ולכן הוגבל",""),"")))
A5: 3 | I5: =IF(COUNTA(B5:D5)=3,H5+G5+F5,0) -> 0 | J5: =IF(COUNTA(B5:D5)=3,IF(E5>0,(IF((H5/E5)>1000,(1000*E5)+G5+F5,H5+G5+F5)),G5+F5),0) -> 0 | L5: =J5 -> 0 | O5: =L5 -> 0 | Q5: =IF(AND(E5=0,H5>0),"משך הנסיעה לא דווח ולכן לא יכלל האשל בסכום הסופי",( IF(E5>0,IF(H5/E5>700,"דיווח הוצאות האשל חרג מסך של 700 שח ליום ולכן הוגבל",""),"")))
A6: 4 | I6: =IF(COUNTA(B6:D6)=3,H6+G6+F6,0) -> 0 | J6: =IF(COUNTA(B6:D6)=3,IF(E6>0,(IF((H6/E6)>1000,(1000*E6)+G6+F6,H6+G6+F6)),G6+F6),0) -> 0 | L6: =J6 -> 0 | O6: =L6 -> 0 | Q6: =IF(AND(E6=0,H6>0),"משך הנסיעה לא דווח ולכן לא יכלל האשל בסכום הסופי",( IF(E6>0,IF(H6/E6>700,"דיווח הוצאות האשל חרג מסך של 700 שח ליום ולכן הוגבל",""),"")))
A7: 5 | I7: =IF(COUNTA(B7:D7)=3,H7+G7+F7,0) -> 0 | J7: =IF(COUNTA(B7:D7)=3,IF(E7>0,(IF((H7/E7)>1000,(1000*E7)+G7+F7,H7+G7+F7)),G7+F7),0) -> 0 | L7: =J7 -> 0 | O7: =L7 -> 0 | Q7: =IF(AND(E7=0,H7>0),"משך הנסיעה לא דווח ולכן לא יכלל האשל בסכום הסופי",( IF(E7>0,IF(H7/E7>700,"דיווח הוצאות האשל חרג מסך של 700 שח ליום ולכן הוגבל",""),"")))
A8: 6 | I8: =IF(COUNTA(B8:D8)=3,H8+G8+F8,0) -> 0 | J8: =IF(COUNTA(B8:D8)=3,IF(E8>0,(IF((H8/E8)>1000,(1000*E8)+G8+F8,H8+G8+F8)),G8+F8),0) -> 0 | L8: =J8 -> 0 | O8: =L8 -> 0 | Q8: =IF(AND(E8=0,H8>0),"משך הנסיעה לא דווח ולכן לא יכלל האשל בסכום הסופי",( IF(E8>0,IF(H8/E8>700,"דיווח הוצאות האשל חרג מסך של 700 שח ליום ולכן הוגבל",""),"")))
A9: 7 | I9: =IF(COUNTA(B9:D9)=3,H9+G9+F9,0) -> 0 | J9: =IF(COUNTA(B9:D9)=3,IF(E9>0,(IF((H9/E9)>1000,(1000*E9)+G9+F9,H9+G9+F9)),G9+F9),0) -> 0 | L9: =J9 -> 0 | O9: =L9 -> 0 | Q9: =IF(AND(E9=0,H9>0),"משך הנסיעה לא דווח ולכן לא יכלל האשל בסכום הסופי",( IF(E9>0,IF(H9/E9>700,"דיווח הוצאות האשל חרג מסך של 700 שח ליום ולכן הוגבל",""),"")))
A10: 8 | I10: =IF(COUNTA(B10:D10)=3,H10+G10+F10,0) -> 0 | J10: =IF(COUNTA(B10:D10)=3,IF(E10>0,(IF((H10/E10)>1000,(1000*E10)+G10+F10,H10+G10+F10)),G10+F10),0) -> 0 | L10: =J10 -> 0 | O10: =L10 -> 0 | Q10: =IF(AND(E10=0,H10>0),"משך הנסיעה לא דווח ולכן לא יכלל האשל בסכום הסופי",( IF(E10>0,IF(H10/E10>700,"דיווח הוצאות האשל חרג מסך של 700 שח ליום ולכן הוגבל",""),"")))
A11: 9 | I11: =IF(COUNTA(B11:D11)=3,H11+G11+F11,0) -> 0 | J11: =IF(COUNTA(B11:D11)=3,IF(E11>0,(IF((H11/E11)>1000,(1000*E11)+G11+F11,H11+G11+F11)),G11+F11),0) -> 0 | L11: =J11 -> 0 | O11: =L11 -> 0 | Q11: =IF(AND(E11=0,H11>0),"משך הנסיעה לא דווח ולכן לא יכלל האשל בסכום הסופי",( IF(E11>0,IF(H11/E11>700,"דיווח הוצאות האשל חרג מסך של 700 שח ליום ולכן הוגבל",""),"")))
A12: 10 | I12: =IF(COUNTA(B12:D12)=3,H12+G12+F12,0) -> 0 | J12: =IF(COUNTA(B12:D12)=3,IF(E12>0,(IF((H12/E12)>1000,(1000*E12)+G12+F12,H12+G12+F12)),G12+F12),0) -> 0 | L12: =J12 -> 0 | O12: =L12 -> 0 | Q12: =IF(AND(E12=0,H12>0),"משך הנסיעה לא דווח ולכן לא יכלל האשל בסכום הסופי",( IF(E12>0,IF(H12/E12>700,"דיווח הוצאות האשל חרג מסך של 700 שח ליום ולכן הוגבל",""),"")))
A13: 11 | I13: =IF(COUNTA(B13:D13)=3,H13+G13+F13,0) -> 0 | J13: =IF(COUNTA(B13:D13)=3,IF(E13>0,(IF((H13/E13)>1000,(1000*E13)+G13+F13,H13+G13+F13)),G13+F13),0) -> 0 | L13: =J13 -> 0 | O13: =L13 -> 0 | Q13: =IF(AND(E13=0,H13>0),"משך הנסיעה לא דווח ולכן לא יכלל האשל בסכום הסופי",( IF(E13>0,IF(H13/E13>700,"דיווח הוצאות האשל חרג מסך של 700 שח ליום ולכן הוגבל",""),"")))
A14: 12 | I14: =IF(COUNTA(B14:D14)=3,H14+G14+F14,0) -> 0 | J14: =IF(COUNTA(B14:D14)=3,IF(E14>0,(IF((H14/E14)>1000,(1000*E14)+G14+F14,H14+G14+F14)),G14+F14),0) -> 0 | L14: =J14 -> 0 | O14: =L14 -> 0 | Q14: =IF(AND(E14=0,H14>0),"משך הנסיעה לא דווח ולכן לא יכלל האשל בסכום הסופי",( IF(E14>0,IF(H14/E14>700,"דיווח הוצאות האשל חרג מסך של 700 שח ליום ולכן הוגבל",""),"")))
... A16: 14 | I16: =IF(COUNTA(B16:D16)=3,H16+G16+F16,0) -> 0 | J16: =IF(COUNTA(B16:D16)=3,IF(E16>0,(IF((H16/E16)>1000,(1000*E16)+G16+F16,H16+G16+F16)),G16+F16),0) -> 0 | L16: =J16 -> 0 | O16: =L16 -> 0 | Q16: =IF(AND(E16=0,H16>0),"משך הנסיעה לא דווח ולכן לא יכלל האשל בסכום הסופי",( IF(E16>0,IF(H16/E16>700,"דיווח הוצאות האשל חרג מסך של 700 שח ליום ולכן הוגבל",""),"")))
A17: 15 | I17: =IF(COUNTA(B17:D17)=3,H17+G17+F17,0) -> 0 | J17: =IF(COUNTA(B17:D17)=3,IF(E17>0,(IF((H17/E17)>1000,(1000*E17)+G17+F17,H17+G17+F17)),G17+F17),0) -> 0 | L17: =J17 -> 0 | O17: =L17 -> 0
A18: 16 | I18: =IF(COUNTA(B18:D18)=3,H18+G18+F18,0) -> 0 | J18: =IF(COUNTA(B18:D18)=3,IF(E18>0,(IF((H18/E18)>1000,(1000*E18)+G18+F18,H18+G18+F18)),G18+F18),0) -> 0 | L18: =J18 -> 0 | O18: =L18 -> 0
A19: 17 | I19: =IF(COUNTA(B19:D19)=3,H19+G19+F19,0) -> 0 | J19: =IF(COUNTA(B19:D19)=3,IF(E19>0,(IF((H19/E19)>1000,(1000*E19)+G19+F19,H19+G19+F19)),G19+F19),0) -> 0 | L19: =J19 -> 0 | O19: =L19 -> 0
A20: 18 | I20: =IF(COUNTA(B20:D20)=3,H20+G20+F20,0) -> 0 | J20: =IF(COUNTA(B20:D20)=3,IF(E20>0,(IF((H20/E20)>1000,(1000*E20)+G20+F20,H20+G20+F20)),G20+F20),0) -> 0 | L20: =J20 -> 0 | O20: =L20 -> 0
A21: 19 | I21: =IF(COUNTA(B21:D21)=3,H21+G21+F21,0) -> 0 | J21: =IF(COUNTA(B21:D21)=3,IF(E21>0,(IF((H21/E21)>1000,(1000*E21)+G21+F21,H21+G21+F21)),G21+F21),0) -> 0 | L21: =J21 -> 0 | O21: =L21 -> 0
A22: 20 | I22: =IF(COUNTA(B22:D22)=3,H22+G22+F22,0) -> 0 | J22: =IF(COUNTA(B22:D22)=3,IF(E22>0,(IF((H22/E22)>1000,(1000*E22)+G22+F22,H22+G22+F22)),G22+F22),0) -> 0 | L22: =J22 -> 0 | O22: =L22 -> 0 | Q22: =IF(AND(E22=0,H22>0),"משך הנסיעה לא דווח ולכן לא יכלל האשל בסכום הסופי",( IF(E22>0,IF(H22/E22>700,"דיווח הוצאות האשל חרג מסך של 700 שח ליום ולכן הוגבל",""),"")))
A23: 21 | I23: =IF(COUNTA(B23:D23)=3,H23+G23+F23,0) -> 0 | J23: =IF(COUNTA(B23:D23)=3,IF(E23>0,(IF((H23/E23)>1000,(1000*E23)+G23+F23,H23+G23+F23)),G23+F23),0) -> 0 | L23: =J23 -> 0 | O23: =L23 -> 0 | Q23: =IF(AND(E23=0,H23>0),"משך הנסיעה לא דווח ולכן לא יכלל האשל בסכום הסופי",( IF(E23>0,IF(H23/E23>700,"דיווח הוצאות האשל חרג מסך של 700 שח ליום ולכן הוגבל",""),"")))
A24: 22 | I24: =IF(COUNTA(B24:D24)=3,H24+G24+F24,0) -> 0 | J24: =IF(COUNTA(B24:D24)=3,IF(E24>0,(IF((H24/E24)>1000,(1000*E24)+G24+F24,H24+G24+F24)),G24+F24),0) -> 0 | L24: =J24 -> 0 | O24: =L24 -> 0 | Q24: =IF(AND(E24=0,H24>0),"משך הנסיעה לא דווח ולכן לא יכלל האשל בסכום הסופי",( IF(E24>0,IF(H24/E24>700,"דיווח הוצאות האשל חרג מסך של 700 שח ליום ולכן הוגבל",""),"")))
A25: 23 | I25: =IF(COUNTA(B25:D25)=3,H25+G25+F25,0) -> 0 | J25: =IF(COUNTA(B25:D25)=3,IF(E25>0,(IF((H25/E25)>1000,(1000*E25)+G25+F25,H25+G25+F25)),G25+F25),0) -> 0 | L25: =J25 -> 0 | O25: =L25 -> 0 | Q25: =IF(AND(E25=0,H25>0),"משך הנסיעה לא דווח ולכן לא יכלל האשל בסכום הסופי",( IF(E25>0,IF(H25/E25>700,"דיווח הוצאות האשל חרג מסך של 700 שח ליום ולכן הוגבל",""),"")))
A26: 24 | I26: =IF(COUNTA(B26:D26)=3,H26+G26+F26,0) -> 0 | J26: =IF(COUNTA(B26:D26)=3,IF(E26>0,(IF((H26/E26)>1000,(1000*E26)+G26+F26,H26+G26+F26)),G26+F26),0) -> 0 | L26: =J26 -> 0 | O26: =L26 -> 0 | Q26: =IF(AND(E26=0,H26>0),"משך הנסיעה לא דווח ולכן לא יכלל האשל בסכום הסופי",( IF(E26>0,IF(H26/E26>700,"דיווח הוצאות האשל חרג מסך של 700 שח ליום ולכן הוגבל",""),"")))
A27: 25 | I27: =IF(COUNTA(B27:D27)=3,H27+G27+F27,0) -> 0 | J27: =IF(COUNTA(B27:D27)=3,IF(E27>0,(IF((H27/E27)>1000,(1000*E27)+G27+F27,H27+G27+F27)),G27+F27),0) -> 0 | L27: =J27 -> 0 | O27: =L27 -> 0 | Q27: =IF(AND(E27=0,H27>0),"משך הנסיעה לא דווח ולכן לא יכלל האשל בסכום הסופי",( IF(E27>0,IF(H27/E27>700,"דיווח הוצאות האשל חרג מסך של 700 שח ליום ולכן הוגבל",""),"")))
B28: סה"כ | I28: =SUM(I3:I27) -> 0 | J28: =SUM(J3:J27) -> 0 | L28: =MIN(SUM(L3:L27),0.2*('ראשי-פרטים כלליים וריכוז הוצאות'!C20+'ראשי-פרטים כלליים וריכוז הוצאות'!C22+'ראשי-פרטים כלליים וריכוז הוצאות'!C23+'ראשי-פרטים כלליים וריכוז הוצאות'!C24+'ראשי-פרטים כלליים וריכוז הוצאות'!C25+'ראשי-פרטים כלליים וריכוז הוצאות'!C26)/0.8) -> 0 | O28: =SUM(O3:O27) -> 0
I29: =IF('ראשי-פרטים כלליים וריכוז הוצאות'!C27=0,"",IF('טיסות נסיעות ואשל'!J28/('ראשי-פרטים כלליים וריכוז הוצאות'!C20+'ראשי-פרטים כלליים וריכוז הוצאות'!C22+'ראשי-פרטים כלליים וריכוז הוצאות'!C23+'ראשי-פרטים כלליים וריכוז הוצאות'!C24+'ראשי-פרטים כלליים וריכוז הוצאות'!C25+'ראשי-פרטים כלליים וריכוז הוצאות'!C26+'טיסות נסיעות ואשל'!J28)>0.2,"לתשומת ליבכם - מחישוב הסכומים שהוזנו עד כה צפוי שהסכום הסופי לסעיף נסיעות יוגבל בגליון המרכז לתקרה של 20 אחוז וזאת על פי ההנחיות",""))
A50: 42005
A51: 42036
A52: 42064
A53: 42095
A54: 42125
A55: 42156
A56: 42186
A57: 42217
A58: 42248
A59: 42278
A60: 42309
A61: 42339
... A97: 43435

Sheet קבלני משנה בחוץ לארץ
A1: קבלני משנה בחוץ לארץ | C1: תאריך: | D1: ='ראשי-פרטים כלליים וריכוז הוצאות'!F5 -> 0 | E1: למילוי ע"י הבודק המקצועי | G1: בודק מקצועי | H1: למילוי ע"י רכז הועדה | J1: רכז ועדה
A2: מס' סד' | B2: מהות העבודה | C2: שם קבלן המשנה | D2: הסכום ששולם בש"ח | E2: נימוק לשינוי | F2: סה"כ סכום מומלץ בש"ח | H2: נימוק לשינוי | I2: סה"כ סכום מומלץ בש"ח
A3: 1 | F3: =D3 -> 0 | I3: =F3 -> 0
A4: 2 | F4: =D4 -> 0 | I4: =F4 -> 0
A5: 3 | F5: =D5 -> 0 | I5: =F5 -> 0
A6: 4 | F6: =D6 -> 0 | I6: =F6 -> 0
A7: 5 | F7: =D7 -> 0 | I7: =F7 -> 0
A8: 6 | F8: =D8 -> 0 | I8: =F8 -> 0
A9: 7 | F9: =D9 -> 0 | I9: =F9 -> 0
A10: 8 | F10: =D10 -> 0 | I10: =F10 -> 0
A11: 9 | F11: =D11 -> 0 | I11: =F11 -> 0
A12: 10 | F12: =D12 -> 0 | I12: =F12 -> 0
A13: 11 | F13: =D13 -> 0 | I13: =F13 -> 0
A14: 12 | F14: =D14 -> 0 | I14: =F14 -> 0
... A22: 20 | F22: =D22 -> 0 | I22: =F22 -> 0
B23: סה"כ | D23: =SUM(D3:D22) -> 0 | F23: =SUM(F3:F22) -> 0 | I23: =SUM(I3:I22) -> 0

Sheet קבלני משנה בישראל
A1: קבלני משנה בישראל | C1: תאריך: | D1: ='ראשי-פרטים כלליים וריכוז הוצאות'!F5 -> 0 | E1: למילוי ע"י הבודק המקצועי | G1: בודק מקצועי | H1: למילוי ע"י רכז הועדה | J1: רכז ועדה
A2: מס' סד' | B2: מהות העבודה | C2: שם קבלן המשנה בישראל | D2: הסכום ששולם בש"ח | E2: נימוק לשינוי | F2: סה"כ סכום מומלץ בש"ח | H2: נימוק לשינוי | I2: סה"כ סכום מומלץ בש"ח
A3: 1 | F3: =D3 -> 0 | I3: =F3 -> 0
A4: 2 | F4: =D4 -> 0 | I4: =F4 -> 0
A5: 3 | F5: =D5 -> 0 | I5: =F5 -> 0
A6: 4 | F6: =D6 -> 0 | I6: =F6 -> 0
A7: 5 | F7: =D7 -> 0 | I7: =F7 -> 0
A8: 6 | F8: =D8 -> 0 | I8: =F8 -> 0
A9: 7 | F9: =D9 -> 0 | I9: =F9 -> 0
A10: 8 | F10: =D10 -> 0 | I10: =F10 -> 0
A11: 9 | F11: =D11 -> 0 | I11: =F11 -> 0
A12: 10 | F12: =D12 -> 0 | I12: =F12 -> 0
A13: 11 | F13: =D13 -> 0 | I13: =F13 -> 0
A14: 12 | F14: =D14 -> 0 | I14: =F14 -> 0
... A22: 20 | F22: =D22 -> 0 | I22: =F22 -> 0
B23: סה"כ | D23: =SUM(D3:D22) -> 0 | F23: =SUM(F3:F22) -> 0 | I23: =SUM(I3:I22) -> 0

Sheet חומרים 
A1: סעיף חומרים (לטובת סקר היתכנות) | F1: ='ראשי-פרטים כלליים וריכוז הוצאות'!F5 -> 0 | G1: למילוי ע"י הבודק המקצועי | I1: בודק מקצועי | J1: למילוי ע"י הרכז הועדה | L1: רכז ועדה
A2: מס' סד' | B2: סוג החומר | C2: מטרה | D2: עלות יחידה | E2: כמות | F2: הסכום ששולם בש"ח | G2: נימוק לשינוי | H2: סה"כ סכום מומלץ בש"ח | J2: נימוק לשינוי | K2: סה"כ סכום מומלץ בש"ח
A3: 1 | F3: =D3*E3 -> 0 | H3: =F3 -> 0 | K3: =H3 -> 0
A4: 2 | F4: =D4*E4 -> 0 | H4: =F4 -> 0 | K4: =H4 -> 0
A5: 3 | F5: =D5*E5 -> 0 | H5: =F5 -> 0 | K5: =H5 -> 0
A6: 4 | F6: =D6*E6 -> 0 | H6: =F6 -> 0 | K6: =H6 -> 0
A7: 5 | F7: =D7*E7 -> 0 | H7: =F7 -> 0 | K7: =H7 -> 0
A8: 6 | F8: =D8*E8 -> 0 | H8: =F8 -> 0 | K8: =H8 -> 0
A9: 7 | F9: =D9*E9 -> 0 | H9: =F9 -> 0 | K9: =H9 -> 0
A10: 8 | F10: =D10*E10 -> 0 | H10: =F10 -> 0 | K10: =H10 -> 0
A11: 9 | F11: =D11*E11 -> 0 | H11: =F11 -> 0 | K11: =H11 -> 0
A12: 10 | F12: =D12*E12 -> 0 | H12: =F12 -> 0 | K12: =H12 -> 0
A13: 11 | F13: =D13*E13 -> 0 | H13: =F13 -> 0 | K13: =H13 -> 0
A14: 12 | F14: =D14*E14 -> 0 | H14: =F14 -> 0 | K14: =H14 -> 0
... A52: 50 | F52: =D52*E52 -> 0 | H52: =F52 -> 0 | K52: =H52 -> 0
B53: סה"כ | F53: =SUM(F3:F52) -> 0 | H53: =SUM(H3:H52) -> 0 | K53: =SUM(K3:K52) -> 0

Sheet יועצים
A1: סעיף יועצים (כולל שירותי עו"ד) | F1: ='ראשי-פרטים כלליים וריכוז הוצאות'!F5 -> 0 | G1: למילוי ע"י הבודק המקצועי | J1: בודק מקצועי | K1: למילוי ע"י רכז הועדה | N1: רכז ועדה
A2: מס' סד' | B2: שם חברת הייעוץ/יועץ | C2: תחום הייעוץ | D2: מס' שעות הייעוץ | E2: ערך שעת ייעוץ | F2: סך סעיף יועצים מוגבל בתקרות | G2: נימוק לשינוי | H2: שעות מומלצות | I2: סה"כ סכום מומלץ בש"ח | K2: נימוק לשינוי | L2: שעות מומלצות | M2: סה"כ סכום מומלץ בש"ח
A3: 1 | F3: =IF(OR(D3=0,E3=0),0,E3*D3) -> 0 | H3: =D3 -> 0 | I3: =E3*H3 -> 0 | M3: =I3 -> 0
A4: 2 | F4: =IF(OR(D4=0,E4=0),0,E4*D4) -> 0 | H4: =D4 -> 0 | I4: =E4*H4 -> 0 | M4: =I4 -> 0
A5: 3 | F5: =IF(OR(D5=0,E5=0),0,E5*D5) -> 0 | H5: =D5 -> 0 | I5: =E5*H5 -> 0 | M5: =I5 -> 0
A6: 4 | F6: =IF(OR(D6=0,E6=0),0,E6*D6) -> 0 | H6: =D6 -> 0 | I6: =E6*H6 -> 0 | M6: =I6 -> 0
A7: 5 | F7: =IF(OR(D7=0,E7=0),0,E7*D7) -> 0 | H7: =D7 -> 0 | I7: =E7*H7 -> 0 | M7: =I7 -> 0
A8: 6 | F8: =IF(OR(D8=0,E8=0),0,E8*D8) -> 0 | H8: =D8 -> 0 | I8: =E8*H8 -> 0 | M8: =I8 -> 0
A9: 7 | F9: =IF(OR(D9=0,E9=0),0,E9*D9) -> 0 | H9: =D9 -> 0 | I9: =E9*H9 -> 0 | M9: =I9 -> 0
A10: 8 | F10: =IF(OR(D10=0,E10=0),0,E10*D10) -> 0 | H10: =D10 -> 0 | I10: =E10*H10 -> 0 | M10: =I10 -> 0
A11: 9 | F11: =IF(OR(D11=0,E11=0),0,E11*D11) -> 0 | H11: =D11 -> 0 | I11: =E11*H11 -> 0 | M11: =I11 -> 0
A12: 10 | F12: =IF(OR(D12=0,E12=0),0,E12*D12) -> 0 | H12: =D12 -> 0 | I12: =E12*H12 -> 0 | M12: =I12 -> 0
A13: 11 | F13: =IF(OR(D13=0,E13=0),0,E13*D13) -> 0 | H13: =D13 -> 0 | I13: =E13*H13 -> 0 | M13: =I13 -> 0
A14: 12 | F14: =IF(OR(D14=0,E14=0),0,E14*D14) -> 0 | H14: =D14 -> 0 | I14: =E14*H14 -> 0 | M14: =I14 -> 0
... A32: 30 | F32: =IF(OR(D32=0,E32=0),0,E32*D32) -> 0 | H32: =D32 -> 0 | I32: =E32*H32 -> 0 | M32: =I32 -> 0
B33: סה"כ | F33: =SUM(F3:F32) -> 0 | I33: =SUM(I3:I32) -> 0 | M33: =SUM(M3:M32) -> 0

Sheet שונות
A1: דו"ח זה יש ימולא בעבור דו"ח רבעוני בלבד לתוכנית פעילה. אין צורך למלאו בעבור בקשת תקציב לתוכנית סיוע חדשה
F2: תאריך: | G2: ='ראשי-פרטים כלליים וריכוז הוצאות'!F5 -> 0
A3: דו"ח התקדמות רבעוני לחברת:
A4: רבעון מדווח:
A7: 1. מימוש המענק- דיווח נוכחי
A8: סעיף תמיכה | B8: תקציב מאושר לסעיף (בכתב האישור) | C8: תקציב שמומש עד כה (כולל הרבעון המדווח) | D8: תקציב שמומש ברבעון המדווח בלבד | E8: מהות המימוש
A9: שכר
A10: טיסות נסיעות ואש"ל
A11: קבלני משנה בארץ
A12: קבלני משנה בחו"ל
A13: חומרים
A14: יועצים
A15: סה"כ
A18: 2. מימוש תכנית העבודה
A19: [יש לתאר את המשימות המרכיבות את עיקר תכנית העבודה שהוצגו במסגרת טופס הבקשה לקבלת מענק, ומשימות נוספות במידה ונוספו, ואת ההתקדמות בביצוען]
A20: משימה | C20: מועד סיום משימה מתוכנן | D20: מועד סיום משימה משוער | E20: סטטוס התקדמות (%) | F20: תיאור סטטוס ביצוע המשימה
A27: 3. אירועים משמעותיים
A28: [יש לתאר אירועים שהתרחשו מאז הדיווח האחרון לקרן. תאר את האירועים כגון: פגישות עם המזמין, נסיעות לחו"ל, ממצאי סקר ההיתכנות, התקדמות הליך המכרז, חתימה על הסכם עם המזמין]
A29: מועד האירוע | B29: תיאור האירוע
A30: [חודש ושנה]
A37: 4. סיכום
A38: [האם הוכחת ההיתכנות / הגשת ההצעה במכרז הביא לזכייה בפרויקט? במידה וטרם התקבלה הכרעה ע"י המזמין, מתי צפויה להתקבל הכרעה? מהי הערכת החברה בדבר סיכוי הזכייה בפרויקט?]
A41: 5. הצהרה
A42: הריני מצהיר בזה כי המידע המופיע בדו"ח הינו למיטב ידעתי המידע הנכון, המעודכן ביותר והמלא המצוי בידי החברה ובידיעתי האישית וכי אני מתחייב להודיע למרכז הקרן על כל מידע חדש שיהיה קיים בידי החברה ובידיעתי האישית.
A43: תאריך הדיווח | B43: שם מגיש הדיווח ותפקידו | D43: חתימת מגיש הדיווח | F43: חותמת החברה
A60: רבעון דיווח
A61: רבעון ראשון 2015
A62: רבעון שני 2015
A63: רבעון שלישי 2015
A64: רבעון רביעי 2015
A65: רבעון ראשון 2016
A66: רבעון שני 2016
A67: רבעון שלישי 2016
A68: רבעון רביעי 2016
A69: רבעון ראשון 2017
A70: רבעון שני 2017
A71: רבעון שלישי 2017
... A80: רבעון רביעי 2019
