Workbook
Name _01_02: 'ראשי-פרטים כלליים וריכוז הוצאות'!#REF!
Name _01_02: 'ראשי-פרטים כלליים וריכוז הוצאות'!#REF!
Name haarot_takzivim: 'ראשי-פרטים כלליים וריכוז הוצאות'!$G$1
Name hachlatat_vaada: 'ראשי-פרטים כלליים וריכוז הוצאות'!$G$1
Name homarim_achuz_tkura: #REF!
Name homarim_kamut: #REF!
Name homarim_takziv: #REF!
Name homarim_teur: #REF!
Name kablanim_hearot: 'התמחות בשוק היעד'!$J$3:$J$24
Name kablanim_hul_hearot: 'תערוכות והדגמות בשוק היעד'!$L$3:$L$22
Name kablanim_hul_location: 'תערוכות והדגמות בשוק היעד'!$O$2
Name kablanim_hul_takziv: 'תערוכות והדגמות בשוק היעד'!$M$3:$M$22
Name kablanim_hul_teur: 'תערוכות והדגמות בשוק היעד'!$D$3:$D$22
Name kablanim_hul_toar: 'תערוכות והדגמות בשוק היעד'!$B$3:$B$22
Name kablanim_location: 'התמחות בשוק היעד'!$M$2
Name kablanim_takziv: 'התמחות בשוק היעד'!$K$3:$K$24
Name kablanim_teur: 'התמחות בשוק היעד'!$C$3:$C$24
Name kablanim_toar: 'התמחות בשוק היעד'!$B$3:$B$24
Name koah_adam_achuz: 'שכר עובד בחו"ל'!#REF!
Name koah_adam_achuz: 'שכר עובד בחו"ל'!#REF!
Name koah_adam_code_sachar: 'שכר עובד בחו"ל'!$A$4:$A$23
Name koah_adam_cost: 'שכר עובד בחו"ל'!$AF$4:$AF$23
Name koah_adam_limit_cost: 'שכר עובד בחו"ל'!#REF!
Name koah_adam_limit_cost: 'שכר עובד בחו"ל'!#REF!
Name koah_adam_mispar_hodashim: 'שכר עובד בחו"ל'!$P$4:$P$23
Name koah_adam_tafkid: 'שכר עובד בחו"ל'!$D$4:$D$23
Name koah_adam_takziv: 'שכר עובד בחו"ל'!$R$4:$R$23
Name koah_adam_teur: 'שכר עובד בחו"ל'!$B$4:$B$23
Name koah_adam_toar: 'שכר עובד בחו"ל'!$C$4:$C$23
Name patent_takziv: 'פרסום ושיווק מקוון'!$K$3:$K$32
Name patent_teur: 'פרסום ושיווק מקוון'!$B$3:$B$32
Name shonot_takziv: 'הקמת מערכי שיווק והפצה בחו"ל'!$K$2:$K$22
Name shonot_takziv: 'פרסום ושיווק מקוון'!#REF!
Name shonot_takziv: יועצים!$K$3:$K$23
Name shonot_teur: 'הקמת מערכי שיווק והפצה בחו"ל'!$B$2:$B$22
Name shonot_teur: 'פרסום ושיווק מקוון'!#REF!
Name shonot_teur: יועצים!$B$3:$B$23
Name takzivim_mumlazim: 'ראשי-פרטים כלליים וריכוז הוצאות'!$G$21:$G$31
Name takzivim_teur: 'ראשי-פרטים כלליים וריכוז הוצאות'!$B$21:$B$31
Name tekura_takziv: #REF!
Name tekura_takziv: 'תקינה, ייעוץ משפטי וביטוח'!$K$3:$K$19
Name tekura_takziv: #REF!
Name tekura_teur: #REF!
Name tekura_teur: 'תקינה, ייעוץ משפטי וביטוח'!$B$3:$B$19
Name tekura_teur: #REF!
Name ziyud_cost: #REF!
Name ziyud_cost: #REF!
Name ziyud_cost: #REF!
Name ziyud_kamut: #REF!
Name ziyud_kamut: #REF!
Name ziyud_kamut: #REF!
Name ziyud_mispar_hodashim: #REF!
Name ziyud_mispar_hodashim: #REF!
Name ziyud_mispar_hodashim: #REF!
Name ziyud_takziv: #REF!
Name ziyud_takziv: #REF!
Name ziyud_takziv: #REF!
Name ziyud_teur: #REF!
Name ziyud_teur: #REF!
Name ziyud_teur: #REF!

Sheet ראשי-פרטים כלליים וריכוז הוצאות
A1: מינהל סחר חוץ משרד הכלכלה והתעשייה | C1: מערך כלי סיוע - תוכנית כסף חכם | E1: גרסה: 01012018 | I1: הנה"ח | L1: כלי סיוע
A2: קישור לאתר מינהל סחר חוץ - משרד הכלכלה | D2: קישור למערך כלי סיוע לתעשייה - מינהל סחר חוץ
A4: דו"ח ביצוע והתקדמות רבעונית - תוכנית כסף חכם
A5: (על החברה למלא רק את התאים הצבועים בלבן) | E5: נכון לתאריך : | O5: =IF(COUNTA(F5)=1,"",(IF(COUNTA(F5)=0,"חובה למלא תאריך",""))) -> חובה למלא תאריך
A8: פרטים כלליים
A9: שם החברה | D9: מספר חברה ברשם החברות (ח.פ.) | E9: שוק יעד | G9: שם בודק הדיווח הכספי | J9: שם המבקר הנוסף מכלי סיוע | N9: =IF($A$10="רן יחזקאל",1,"") | O9: =IF($A$10="רן יחזקאל",1,"") | P9: =IF($A$10="רן יחזקאל",1,"") | Q9: =IF($A$10="רן יחזקאל",1,"") | S9: =IF($A$10="רן יחזקאל",1,"")
N10: =IF($A$10="רן יחזקאל",1,"") | S10: =IF($A$10="רן יחזקאל",1,"")
A11: כתובת החברה: רחוב | C11: מספר | D11: ישוב | E11: מיקוד | F11: טלפון חברה | G11: תאריך הכנה | J11: תאריך בדיקה | S11: =IF($A$10="רן יחזקאל",1,"")
S12: =IF($A$10="רן יחזקאל",1,"")
A13: איש קשר מטעם החברה | C13: טלפון איש הקשר | D13: פקס חברה | E13: E-MAIL | G13: שם מאשר מינהל סחר חוץ | J13: סוג ביקורת | S13: =IF($A$10="רן יחזקאל",1,"") | AJ13: =IF($A$10="רן יחזקאל",1,"")
AJ14: =IF($A$10="רן יחזקאל",1,"")
A15: נתונים לדו"ח זה | C15: החודשים המדווחים בדו"ח זה | E15: תקופת כתב האישור | G15: הזנת 3 השדות לעיל הינה תנאי למשיכת התקציב לשדות מטה | J15: הזנת 3 השדות לעיל הינה תנאי למשיכת התקציב לשדות מטה
A16: תקופת הדו"ח: | C16: :מחודש | D16: :עד חודש | E16: :תחילת התוכנית | F16: :סיום התוכנית
A17: שנת 2015 רבעון 1
M18: =IF($A$10="רן יחזקאל",1,"") | N18: =IF($A$10="רן יחזקאל",1,"") | P18: =IF($A$10="רן יחזקאל",1,"") | Q18: =IF($A$10="רן יחזקאל",1,"") | R18: =IF($A$10="רן יחזקאל",1,"") | S18: =IF($A$10="רן יחזקאל",1,"") | U18: =IF($A$10="רן יחזקאל",1,"") | V18: =IF($A$10="רן יחזקאל",1,"") | W18: =IF($A$10="רן יחזקאל",1,"") | Y18: =IF($A$10="רן יחזקאל",1,"") | Z18: =IF($A$10="רן יחזקאל",1,"") | AA18: =IF($A$10="רן יחזקאל",1,"") | AC18: =IF($A$10="רן יחזקאל",1,"") | AF18: =IF($A$10="רן יחזקאל",1,"") | AH18: =IF($A$10="רן יחזקאל",1,"") | AI18: =IF($A$10="רן יחזקאל",1,"") | AJ18: =IF($A$10="רן יחזקאל",1,"")
A19: ריכוז התקציב המבוקש (נקלט אוטומטית מתוך הגליונות) | E19: % הסיוע המאושר: | M19: =IF($A$10="רן יחזקאל",1,"") | P19: =IF($A$10="רן יחזקאל",1,"") | S19: =IF($A$10="רן יחזקאל",1,"") | V19: =IF($A$10="רן יחזקאל",1,"") | Y19: =IF($A$10="רן יחזקאל",1,"") | AD19: =IF($A$10="רן יחזקאל",1,"") | AE19: =IF($A$10="רן יחזקאל",1,"") | AH19: =IF($A$10="רן יחזקאל",1,"")
A20: מס' | B20: סוג ההוצאה | C20: סה"כ הוצאות מבוקשות לטובת הפרויקט בש"ח | D20: התפלגות התקציב בדו"ח זה | E20: סך ההוצאות שאושרו עד לדו"ח זה בדיווחים קודמים | F20: סך ההוצאות המאושרות בדף התקציב | G20: סה"כ מומלץ הנהח"ש | H20: אחוז מהתקציב | J20: סה"כ מומלץ מבקר מכלי סיוע | K20: אחוז מהתקציב | P20: =IF($A$10="רן יחזקאל",1,"") | S20: =IF($A$10="רן יחזקאל",1,"") | V20: =IF($A$10="רן יחזקאל",1,"") | Y20: =IF($A$10="רן יחזקאל",1,"") | AA20: =IF($A$10="רן יחזקאל",1,"") | AC20: =IF($A$10="רן יחזקאל",1,"") | AF20: =IF($A$10="רן יחזקאל",1,"") | AH20: =IF($A$10="רן יחזקאל",1,"") | AI20: =IF($A$10="רן יחזקאל",1,"")
A21: 1 | B21: יועצים | C21: =יועצים!I23 -> 0 | D21: =IF($C$32>0,C21/$C$32,"") | G21: =יועצים!K23 -> 0 | H21: =IF(G21>0,G21/$G$32,"") | J21: =יועצים!N23 -> 0 | K21: =IF(J21>0,J21/$J$32,"") | AA21: =IF($A$10="רן יחזקאל",1,"")
A22: 2 | B22: הקמת מערכי שיווק | C22: ='הקמת מערכי שיווק והפצה בחו"ל'!I23 -> 0 | D22: =IF($C$32>0,C22/$C$32,"") | G22: ='הקמת מערכי שיווק והפצה בחו"ל'!K23 -> 0 | H22: =IF(G22>0,G22/$G$32,"") | J22: ='הקמת מערכי שיווק והפצה בחו"ל'!N23 -> 0 | K22: =IF(J22>0,J22/$J$32,"")
A23: 3 | B23: שכר עובד בחו"ל | C23: ='שכר עובד בחו"ל'!O24 -> 0 | D23: =IF($C$32>0,C23/$C$32,"") | G23: ='שכר עובד בחו"ל'!R24 -> 0 | H23: =IF(G23>0,G23/$G$32,"") | J23: ='שכר עובד בחו"ל'!V24 -> 0 | K23: =IF(J23>0,J23/$J$32,"")
A24: 4 | B24: איסוף מידע | C24: ='התמחות בשוק היעד'!I13 -> 0 | D24: =IF($C$32>0,C24/$C$32,"") | G24: ='התמחות בשוק היעד'!K13 -> 0 | H24: =IF(G24>0,G24/$G$32,"") | J24: ='התמחות בשוק היעד'!N13 -> 0 | K24: =IF(J24>0,J24/$J$32,"")
A25: 5 | B25: הכשרה מקצועית | C25: ='התמחות בשוק היעד'!I25 -> 0 | G25: ='התמחות בשוק היעד'!K25 -> 0 | H25: =IF(G25>0,G25/$G$32,"") | J25: ='התמחות בשוק היעד'!N25 -> 0 | K25: =IF(J25>0,J25/$J$32,"")
A26: 6 | B26: פרסום ושיווק מקוון | C26: ='פרסום ושיווק מקוון'!I33 -> 0 | D26: =IF($C$32>0,C26/$C$32,"") | G26: ='פרסום ושיווק מקוון'!K33 -> 0 | H26: =IF(G26>0,G26/$G$32,"") | J26: ='פרסום ושיווק מקוון'!N33 -> 0 | K26: =IF(J26>0,J26/$J$32,"")
A27: 7 | B27: תערוכות והדגמות | C27: ='תערוכות והדגמות בשוק היעד'!K23 -> 0 | D27: =IF($C$32>0,C27/$C$32,"") | G27: ='תערוכות והדגמות בשוק היעד'!M23 -> 0 | H27: =IF(G27>0,G27/$G$32,"") | J27: ='תערוכות והדגמות בשוק היעד'!P23 -> 0 | K27: =IF(J27>0,J27/$J$32,"")
A28: 8 | B28: טיסות | C28: =טיסות!K13 -> 0 | G28: =טיסות!M13 -> 0 | H28: =IF(G28>0,G28/$G$32,"") | J28: =טיסות!P13 -> 0 | K28: =IF(J28>0,J28/$J$32,"")
A29: 9 | B29: תקינה | C29: ='תקינה, ייעוץ משפטי וביטוח'!I10 -> 0 | G29: ='תקינה, ייעוץ משפטי וביטוח'!K10 -> 0 | H29: =IF(G29>0,G29/$G$32,"") | J29: ='תקינה, ייעוץ משפטי וביטוח'!N10 -> 0 | K29: =IF(J29>0,J29/$J$32,"")
A30: 10 | B30: ייעוץ משפטי | C30: ='תקינה, ייעוץ משפטי וביטוח'!I19 -> 0 | G30: ='תקינה, ייעוץ משפטי וביטוח'!K19 -> 0 | H30: =IF(G30>0,G30/$G$32,"") | J30: ='תקינה, ייעוץ משפטי וביטוח'!N19 -> 0 | K30: =IF(J30>0,J30/$J$32,"")
A31: 11 | B31: ביטוח | C31: ='תקינה, ייעוץ משפטי וביטוח'!K28 -> 0 | D31: =IF($C$32>0,C31/$C$32,"") | G31: ='תקינה, ייעוץ משפטי וביטוח'!K28 -> 0 | H31: =IF(G31>0,G31/$G$32,"") | J31: ='תקינה, ייעוץ משפטי וביטוח'!N28 -> 0 | K31: =IF(J31>0,J31/$J$32,"")
B32: סה"כ תקציב | C32: =SUM(C21:C31) -> 0 | D32: =IF($C$32>0,C32/$C$32,"") | E32: =SUM(E21:E31) -> 0 | F32: =SUM(F21:F31) -> 0 | G32: =SUM(G21:G31) -> 0 | H32: =IF(G32>0,G32/$G$32,"") | J32: =SUM(J21:J31) -> 0 | K32: =IF(J32>0,J32/$J$32,"")
B33: סה"כ סיוע (מענק) | C33: =C32*$F$19 -> 0 | E33: =E32*$F$19 -> 0 | F33: =F32*$F$19 -> 0 | G33: =G32*$F$19 -> 0 | J33: =J32*$F$19 -> 0
A34: הצהרה:
A35: הננו מצהירים כי דו"ח זה תואם את הרשום בספרי החשבונות שלנו, וכי ההוצאות דלעיל הוצאו אך ורק בגין התוכנית המאושרת על בסיס מזומן בלבד. כל ההוצאות המדווחות בדו"ח זה לא נדרשו בעבר בתוכנית כסף חכם או במסגרת תוכנית סיוע אחרת
A38: שם וחתימת מנהל הכספים | C38: שם וחתימת מנהל החברה | E38: חותמת חברה *
A40: את הדו"ח יש לשלוח לדוא"ל: mf@economy.gov.il , בנוסף יש לשלוח את האסמכתאות והטופס החתום לכתובת:
A41: מערך כלי סיוע, מינהל סחר חוץ, תוכנית כסף חכם, בניין ג'נרי, רחוב בנק ישראל 5, קריית הממשלה, ת"ד 3166, ירושלים 9103101
A48: שנת 2014 רבעון 4
A49: שנת 2015 רבעון 1
A50: שנת 2015 רבעון 2
A51: שנת 2015 רבעון 3
A52: שנת 2015 רבעון 4
...

Sheet יועצים
A1: יועצים | I1: ='ראשי-פרטים כלליים וריכוז הוצאות'!F5 -> 0 | J1: למילוי מנהל חשבונות | L1: הנה"ח | M1: למילוי רכז התוכנית | O1: כלי סיוע
A2: מס' סד' | B2: שם חברת הייעוץ/יועץ | C2: תחום הייעוץ | D2: הערות (אם יש) | E2: מס' אסמכתא | F2: תאריך אסמכתא | G2: מטבע חשבונית ($,יורו וכו') | H2: הסכום המדווח במטבע חשבונית | I2: הסכום המדווח בדו"ח זה בש"ח | J2: נימוק לשינוי | K2: סה"כ סכום מומלץ | M2: נימוק לשינוי | N2: סה"כ תקציב מאושר
A3: 1 | K3: =I3 -> 0 | N3: =K3 -> 0 | O3: =IF(COUNTA(B3:I3)=0,"",(IF(COUNTA(B3:I3)>=7,""," יש למלא את כל תאי הנתונים על מנת שיבוצע חישוב")))
A4: 2 | K4: =I4 -> 0 | N4: =K4 -> 0 | O4: =IF(COUNTA(B4:I4)=0,"",(IF(COUNTA(B4:I4)>=7,""," יש למלא את כל תאי הנתונים על מנת שיבוצע חישוב")))
A5: 3 | K5: =I5 -> 0 | N5: =K5 -> 0 | O5: =IF(COUNTA(B5:I5)=0,"",(IF(COUNTA(B5:I5)>=7,""," יש למלא את כל תאי הנתונים על מנת שיבוצע חישוב")))
A6: 4 | K6: =I6 -> 0 | N6: =K6 -> 0 | O6: =IF(COUNTA(B6:I6)=0,"",(IF(COUNTA(B6:I6)>=7,""," יש למלא את כל תאי הנתונים על מנת שיבוצע חישוב")))
A7: 5 | K7: =I7 -> 0 | N7: =K7 -> 0 | O7: =IF(COUNTA(B7:I7)=0,"",(IF(COUNTA(B7:I7)>=7,""," יש למלא את כל תאי הנתונים על מנת שיבוצע חישוב")))
A8: 6 | K8: =I8 -> 0 | N8: =K8 -> 0 | O8: =IF(COUNTA(B8:I8)=0,"",(IF(COUNTA(B8:I8)>=7,""," יש למלא את כל תאי הנתונים על מנת שיבוצע חישוב")))
A9: 7 | K9: =I9 -> 0 | N9: =K9 -> 0 | O9: =IF(COUNTA(B9:I9)=0,"",(IF(COUNTA(B9:I9)>=7,""," יש למלא את כל תאי הנתונים על מנת שיבוצע חישוב")))
A10: 8 | K10: =I10 -> 0 | N10: =K10 -> 0 | O10: =IF(COUNTA(B10:I10)=0,"",(IF(COUNTA(B10:I10)>=7,""," יש למלא את כל תאי הנתונים על מנת שיבוצע חישוב")))
A11: 9 | K11: =I11 -> 0 | N11: =K11 -> 0 | O11: =IF(COUNTA(B11:I11)=0,"",(IF(COUNTA(B11:I11)>=7,""," יש למלא את כל תאי הנתונים על מנת שיבוצע חישוב")))
A12: 10 | K12: =I12 -> 0 | N12: =K12 -> 0 | O12: =IF(COUNTA(B12:I12)=0,"",(IF(COUNTA(B12:I12)>=7,""," יש למלא את כל תאי הנתונים על מנת שיבוצע חישוב")))
A13: 11 | K13: =I13 -> 0 | N13: =K13 -> 0 | O13: =IF(COUNTA(B13:I13)=0,"",(IF(COUNTA(B13:I13)>=7,""," יש למלא את כל תאי הנתונים על מנת שיבוצע חישוב")))
A14: 12 | K14: =I14 -> 0 | N14: =K14 -> 0 | O14: =IF(COUNTA(B14:I14)=0,"",(IF(COUNTA(B14:I14)>=7,""," יש למלא את כל תאי הנתונים על מנת שיבוצע חישוב")))
... A22: 20 | K22: =I22 -> 0 | N22: =K22 -> 0 | O22: =IF(COUNTA(B22:I22)=0,"",(IF(COUNTA(B22:I22)>=7,""," יש למלא את כל תאי הנתונים על מנת שיבוצע חישוב")))
B23: סה"כ: | I23: =SUM(I3:I22) -> 0 | K23: =SUM(K3:K22) -> 0 | N23: =SUM(N3:N22) -> 0

Sheet הקמת מערכי שיווק והפצה בחו"ל
A1: הקמת מערכי שיווק והפצה בחו"ל | I1: ='ראשי-פרטים כלליים וריכוז הוצאות'!F5 -> 0 | J1: למילוי מנהל חשבונות | L1: הנה"ח | M1: למילוי רכז התוכנית | O1: כלי סיוע
A2: מס' סד' | B2: שם הספק | C2: מהות העבודה | D2: הערות (אם יש) | E2: מס' אסמכתא | F2: תאריך אסמכתא | G2: מטבע חשבונית ($,יורו וכו') | H2: סכום במטבע חשבונית | I2: הסכום המדווח בדו"ח זה בש"ח | J2: נימוק לשינוי | K2: סה"כ סכום מומלץ | M2: נימוק לשינוי | N2: סה"כ תקציב מאושר
A3: 1 | K3: =I3 -> 0 | N3: =K3 -> 0 | O3: =IF(COUNTA(B3:I3)=0,"",(IF(COUNTA(B3:I3)>=7,"","יש למלא את כל תאי הנתונים")))
A4: 2 | K4: =I4 -> 0 | N4: =K4 -> 0 | O4: =IF(COUNTA(B4:I4)=0,"",(IF(COUNTA(B4:I4)>=7,"","יש למלא את כל תאי הנתונים")))
A5: 3 | K5: =I5 -> 0 | N5: =K5 -> 0 | O5: =IF(COUNTA(B5:I5)=0,"",(IF(COUNTA(B5:I5)>=7,"","יש למלא את כל תאי הנתונים")))
A6: 4 | K6: =I6 -> 0 | N6: =K6 -> 0 | O6: =IF(COUNTA(B6:I6)=0,"",(IF(COUNTA(B6:I6)>=7,"","יש למלא את כל תאי הנתונים")))
A7: 5 | K7: =I7 -> 0 | N7: =K7 -> 0 | O7: =IF(COUNTA(B7:I7)=0,"",(IF(COUNTA(B7:I7)>=7,"","יש למלא את כל תאי הנתונים")))
A8: 6 | K8: =I8 -> 0 | N8: =K8 -> 0 | O8: =IF(COUNTA(B8:I8)=0,"",(IF(COUNTA(B8:I8)>=7,"","יש למלא את כל תאי הנתונים")))
A9: 7 | K9: =I9 -> 0 | N9: =K9 -> 0 | O9: =IF(COUNTA(B9:I9)=0,"",(IF(COUNTA(B9:I9)>=7,"","יש למלא את כל תאי הנתונים")))
A10: 8 | K10: =I10 -> 0 | N10: =K10 -> 0 | O10: =IF(COUNTA(B10:I10)=0,"",(IF(COUNTA(B10:I10)>=7,"","יש למלא את כל תאי הנתונים")))
A11: 9 | K11: =I11 -> 0 | N11: =K11 -> 0 | O11: =IF(COUNTA(B11:I11)=0,"",(IF(COUNTA(B11:I11)>=7,"","יש למלא את כל תאי הנתונים")))
A12: 10 | K12: =I12 -> 0 | N12: =K12 -> 0 | O12: =IF(COUNTA(B12:I12)=0,"",(IF(COUNTA(B12:I12)>=7,"","יש למלא את כל תאי הנתונים")))
A13: 11 | K13: =I13 -> 0 | N13: =K13 -> 0 | O13: =IF(COUNTA(B13:I13)=0,"",(IF(COUNTA(B13:I13)>=7,"","יש למלא את כל תאי הנתונים")))
A14: 12 | K14: =I14 -> 0 | N14: =K14 -> 0 | O14: =IF(COUNTA(B14:I14)=0,"",(IF(COUNTA(B14:I14)>=7,"","יש למלא את כל תאי הנתונים")))
... A22: 20 | K22: =I22 -> 0 | N22: =K22 -> 0 | O22: =IF(COUNTA(B22:I22)=0,"",(IF(COUNTA(B22:I22)>=7,"","יש למלא את כל תאי הנתונים")))
B23: סה"כ: | I23: =SUM(I3:I22) -> 0 | K23: =SUM(K3:K22) -> 0 | N23: =SUM(N3:N22) -> 0

Sheet שכר עובד בחו"ל
A1: שכר עובד בחו"ל | E1: (גליון זה הינו תת סעיף ליעוץ והקמת מערכי שיווק ויסתכם בגליון הראשי) | N1: ='ראשי-פרטים כלליים וריכוז הוצאות'!F5 -> 0 | P1: למילוי מנהל חשבונות | S1: הנה"ח | T1: למילוי רכז התוכנית | W1: כלי סיוע
B2: פרטי העובד (מילוי כל הפרטים הינו תנאי לחישוב השכר) | J2: יש לדווח את עלויות השכר ששולמו בפועל - בגין כל חודש עבודה - שורה נפרדת | N2: סה"כ שכר מבוקש
A3: מס' סד' | B3: שם משפחה + שם פרטי (למיין לפי שם המשפחה) | C3: תואר מקצועי | D3: תפקיד במדינת היעד | E3: העסקה (מעמד העובד בחברה) | F3: הערות (אם יש) | G3: חודש מדווח | H3: מס' אסמכתא | I3: מטבע חשבונית/ תלוש שכר ($, יורו וכו') | J3: עלות השכר המלא בפועל במטבע מקומי | K3: עלות השכר המלא בפועל בש"ח | L3: חלקיות משרה-% | M3: אחוז תעסוקה בפרויקט-% | N3: שנות אדם | O3: הסכום המדווח בדו"ח זה | P3: אחוז תעסוקה בפרויקט | Q3: נימוק לשינוי | R3: סה"כ תקציב מאושר | T3: אחוז תעסוקה בפרויקט | U3: נימוק לשינוי | V3: סה"כ תקציב מאושר
A4: 1 | N4: =IF(COUNTA(B4:M4)>=11,M4*L4/12,0) -> 0 | O4: =IF(COUNTA(B4:M4)>=11,K4*M4,0) -> 0 | P4: =M4 -> 0 | R4: =K4*P4 -> 0 | T4: =P4 -> 0 | V4: =K4*T4 -> 0 | W4: =IF(COUNTA(B4:M4)=0,"",(IF(COUNTA(B4:M4)>=11,""," יש למלא את כל תאי הנתונים על מנת שיבוצע חישוב")))
A5: 2 | N5: =IF(COUNTA(B5:M5)>=11,M5*L5/12,0) -> 0 | O5: =IF(COUNTA(B5:M5)>=11,K5*M5,0) -> 0 | P5: =M5 -> 0 | R5: =K5*P5 -> 0 | T5: =P5 -> 0 | V5: =K5*T5 -> 0 | W5: =IF(COUNTA(B5:M5)=0,"",(IF(COUNTA(B5:M5)>=11,""," יש למלא את כל תאי הנתונים על מנת שיבוצע חישוב")))
A6: 3 | N6: =IF(COUNTA(B6:M6)>=11,M6*L6/12,0) -> 0 | O6: =IF(COUNTA(B6:M6)>=11,K6*M6,0) -> 0 | P6: =M6 -> 0 | R6: =K6*P6 -> 0 | T6: =P6 -> 0 | V6: =K6*T6 -> 0 | W6: =IF(COUNTA(B6:M6)=0,"",(IF(COUNTA(B6:M6)>=11,""," יש למלא את כל תאי הנתונים על מנת שיבוצע חישוב")))
A7: 4 | N7: =IF(COUNTA(B7:M7)>=11,M7*L7/12,0) -> 0 | O7: =IF(COUNTA(B7:M7)>=11,K7*M7,0) -> 0 | P7: =M7 -> 0 | R7: =K7*P7 -> 0 | T7: =P7 -> 0 | V7: =K7*T7 -> 0 | W7: =IF(COUNTA(B7:M7)=0,"",(IF(COUNTA(B7:M7)>=11,""," יש למלא את כל תאי הנתונים על מנת שיבוצע חישוב")))
A8: 5 | N8: =IF(COUNTA(B8:M8)>=11,M8*L8/12,0) -> 0 | O8: =IF(COUNTA(B8:M8)>=11,K8*M8,0) -> 0 | P8: =M8 -> 0 | R8: =K8*P8 -> 0 | T8: =P8 -> 0 | V8: =K8*T8 -> 0 | W8: =IF(COUNTA(B8:M8)=0,"",(IF(COUNTA(B8:M8)>=11,""," יש למלא את כל תאי הנתונים על מנת שיבוצע חישוב")))
A9: 6 | N9: =IF(COUNTA(B9:M9)>=11,M9*L9/12,0) -> 0 | O9: =IF(COUNTA(B9:M9)>=11,K9*M9,0) -> 0 | P9: =M9 -> 0 | R9: =K9*P9 -> 0 | T9: =P9 -> 0 | V9: =K9*T9 -> 0 | W9: =IF(COUNTA(B9:M9)=0,"",(IF(COUNTA(B9:M9)>=11,""," יש למלא את כל תאי הנתונים על מנת שיבוצע חישוב")))
A10: 7 | N10: =IF(COUNTA(B10:M10)>=11,M10*L10/12,0) -> 0 | O10: =IF(COUNTA(B10:M10)>=11,K10*M10,0) -> 0 | P10: =M10 -> 0 | R10: =K10*P10 -> 0 | T10: =P10 -> 0 | V10: =K10*T10 -> 0 | W10: =IF(COUNTA(B10:M10)=0,"",(IF(COUNTA(B10:M10)>=11,""," יש למלא את כל תאי הנתונים על מנת שיבוצע חישוב")))
A11: 8 | N11: =IF(COUNTA(B11:M11)>=11,M11*L11/12,0) -> 0 | O11: =IF(COUNTA(B11:M11)>=11,K11*M11,0) -> 0 | P11: =M11 -> 0 | R11: =K11*P11 -> 0 | T11: =P11 -> 0 | V11: =K11*T11 -> 0 | W11: =IF(COUNTA(B11:M11)=0,"",(IF(COUNTA(B11:M11)>=11,""," יש למלא את כל תאי הנתונים על מנת שיבוצע חישוב")))
A12: 9 | N12: =IF(COUNTA(B12:M12)>=11,M12*L12/12,0) -> 0 | O12: =IF(COUNTA(B12:M12)>=11,K12*M12,0) -> 0 | P12: =M12 -> 0 | R12: =K12*P12 -> 0 | T12: =P12 -> 0 | V12: =K12*T12 -> 0 | W12: =IF(COUNTA(B12:M12)=0,"",(IF(COUNTA(B12:M12)>=11,""," יש למלא את כל תאי הנתונים על מנת שיבוצע חישוב")))
A13: 10 | N13: =IF(COUNTA(B13:M13)>=11,M13*L13/12,0) -> 0 | O13: =IF(COUNTA(B13:M13)>=11,K13*M13,0) -> 0 | P13: =M13 -> 0 | R13: =K13*P13 -> 0 | T13: =P13 -> 0 | V13: =K13*T13 -> 0 | W13: =IF(COUNTA(B13:M13)=0,"",(IF(COUNTA(B13:M13)>=11,""," יש למלא את כל תאי הנתונים על מנת שיבוצע חישוב")))
A14: 11 | N14: =IF(COUNTA(B14:M14)>=11,M14*L14/12,0) -> 0 | O14: =IF(COUNTA(B14:M14)>=11,K14*M14,0) -> 0 | P14: =M14 -> 0 | R14: =K14*P14 -> 0 | T14: =P14 -> 0 | V14: =K14*T14 -> 0 | W14: =IF(COUNTA(B14:M14)=0,"",(IF(COUNTA(B14:M14)>=11,""," יש למלא את כל תאי הנתונים על מנת שיבוצע חישוב")))
A15: 12 | N15: =IF(COUNTA(B15:M15)>=11,M15*L15/12,0) -> 0 | O15: =IF(COUNTA(B15:M15)>=11,K15*M15,0) -> 0 | P15: =M15 -> 0 | R15: =K15*P15 -> 0 | T15: =P15 -> 0 | V15: =K15*T15 -> 0 | W15: =IF(COUNTA(B15:M15)=0,"",(IF(COUNTA(B15:M15)>=11,""," יש למלא את כל תאי הנתונים על מנת שיבוצע חישוב")))
... A23: 20 | N23: =IF(COUNTA(B23:M23)>=11,M23*L23/12,0) -> 0 | O23: =IF(COUNTA(B23:M23)>=11,K23*M23,0) -> 0 | P23: =M23 -> 0 | R23: =K23*P23 -> 0 | T23: =P23 -> 0 | V23: =K23*T23 -> 0 | W23: =IF(COUNTA(B23:M23)=0,"",(IF(COUNTA(B23:M23)>=11,""," יש למלא את כל תאי הנתונים על מנת שיבוצע חישוב")))
B24: סה"כ: | N24: =SUM(N4:N23) -> 0 | O24: =SUM(O4:O23) -> 0 | R24: =SUM(R4:R23) -> 0 | V24: =SUM(V4:V23) -> 0
B29: סוג ההעסקה | C29: תקרת עלות שכר מוכרת כולל תקורות
B30: בעל עניין
B31: עובד בחברה
B32: עובד חיצוני (חשבונית)
B33: חב' כ"א
B34: אחר (נא לפרט בהערות)
B37: 41944
B38: 41974
B39: 42005
B40: 42036
B41: 42064
B42: 42095
B43: 42125
B44: 42156
B45: 42186
B46: 42217
B47: 42248
B48: 42278
... B110: 44166

Sheet התמחות בשוק היעד
A1: איסוף מידע | I1: ='ראשי-פרטים כלליים וריכוז הוצאות'!F5 -> 0 | J1: למילוי מנהל חשבונות | L1: הנה"ח | M1: למילוי ע"י רכז התוכנית | O1: כלי סיוע
A2: מס' סד' | B2: סוג הפעילות | C2: מטרה | D2: הערות (אם יש) | E2: מס' אסמכתא | F2: תאריך אסמכתא | G2: מטבע חשבונית ($,יורו וכו') | H2: סכום במטבע חשבונית | I2: הסכום המדווח בדו"ח זה בש"ח | J2: נימוק לשינוי | K2: סה"כ סכום מומלץ | M2: נימוק לשינוי | N2: סה"כ תקציב מאושר
A3: 1 | K3: =I3 -> 0 | N3: =K3 -> 0 | O3: =IF(COUNTA(B3:I3)=0,"",(IF(COUNTA(B3:I3)>=7,"","יש למלא את כל תאי הנתונים")))
A4: 2 | K4: =I4 -> 0 | N4: =K4 -> 0 | O4: =IF(COUNTA(B4:I4)=0,"",(IF(COUNTA(B4:I4)>=7,"","יש למלא את כל תאי הנתונים")))
A5: 3 | K5: =I5 -> 0 | N5: =K5 -> 0 | O5: =IF(COUNTA(B5:I5)=0,"",(IF(COUNTA(B5:I5)>=7,"","יש למלא את כל תאי הנתונים")))
A6: 4 | K6: =I6 -> 0 | N6: =K6 -> 0 | O6: =IF(COUNTA(B6:I6)=0,"",(IF(COUNTA(B6:I6)>=7,"","יש למלא את כל תאי הנתונים")))
A7: 5 | K7: =I7 -> 0 | N7: =K7 -> 0 | O7: =IF(COUNTA(B7:I7)=0,"",(IF(COUNTA(B7:I7)>=7,"","יש למלא את כל תאי הנתונים")))
A8: 6 | K8: =I8 -> 0 | N8: =K8 -> 0 | O8: =IF(COUNTA(B8:I8)=0,"",(IF(COUNTA(B8:I8)>=7,"","יש למלא את כל תאי הנתונים")))
A9: 7 | K9: =I9 -> 0 | N9: =K9 -> 0 | O9: =IF(COUNTA(B9:I9)=0,"",(IF(COUNTA(B9:I9)>=7,"","יש למלא את כל תאי הנתונים")))
A10: 8 | K10: =I10 -> 0 | N10: =K10 -> 0 | O10: =IF(COUNTA(B10:I10)=0,"",(IF(COUNTA(B10:I10)>=7,"","יש למלא את כל תאי הנתונים")))
A11: 9 | K11: =I11 -> 0 | N11: =K11 -> 0 | O11: =IF(COUNTA(B11:I11)=0,"",(IF(COUNTA(B11:I11)>=7,"","יש למלא את כל תאי הנתונים")))
A12: 10 | K12: =I12 -> 0 | N12: =K12 -> 0 | O12: =IF(COUNTA(B12:I12)=0,"",(IF(COUNTA(B12:I12)>=7,"","יש למלא את כל תאי הנתונים")))
B13: סה"כ: | I13: =SUM(I3:I12) -> 0 | K13: =SUM(K3:K12) -> 0 | N13: =SUM(N3:N12) -> 0
A14: הכשרה מקצועית | I14: ='ראשי-פרטים כלליים וריכוז הוצאות'!F17 -> 0 | J14: למילוי מנהל חשבונות | L14: הנה"ח | M14: למילוי ע"י רכז התוכנית | O14: כלי סיוע
A15: 1 | K15: =I15 -> 0 | N15: =K15 -> 0 | O15: =IF(COUNTA(B15:I15)=0,"",(IF(COUNTA(B15:I15)>=7,"","יש למלא את כל תאי הנתונים")))
A16: 2 | K16: =I16 -> 0 | N16: =K16 -> 0 | O16: =IF(COUNTA(B16:I16)=0,"",(IF(COUNTA(B16:I16)>=7,"","יש למלא את כל תאי הנתונים")))
A17: 3 | K17: =I17 -> 0 | N17: =K17 -> 0 | O17: =IF(COUNTA(B17:I17)=0,"",(IF(COUNTA(B17:I17)>=7,"","יש למלא את כל תאי הנתונים")))
A18: 4 | K18: =I18 -> 0 | N18: =K18 -> 0 | O18: =IF(COUNTA(B18:I18)=0,"",(IF(COUNTA(B18:I18)>=7,"","יש למלא את כל תאי הנתונים")))
A19: 5 | K19: =I19 -> 0 | N19: =K19 -> 0 | O19: =IF(COUNTA(B19:I19)=0,"",(IF(COUNTA(B19:I19)>=7,"","יש למלא את כל תאי הנתונים")))
A20: 6 | K20: =I20 -> 0 | N20: =K20 -> 0 | O20: =IF(COUNTA(B20:I20)=0,"",(IF(COUNTA(B20:I20)>=7,"","יש למלא את כל תאי הנתונים")))
A21: 7 | K21: =I21 -> 0 | N21: =K21 -> 0 | O21: =IF(COUNTA(B21:I21)=0,"",(IF(COUNTA(B21:I21)>=7,"","יש למלא את כל תאי הנתונים")))
A22: 8 | K22: =I22 -> 0 | N22: =K22 -> 0 | O22: =IF(COUNTA(B22:I22)=0,"",(IF(COUNTA(B22:I22)>=7,"","יש למלא את כל תאי הנתונים")))
A23: 9 | K23: =I23 -> 0 | N23: =K23 -> 0
A24: 10 | K24: =I24 -> 0 | N24: =K24 -> 0 | O24: =IF(COUNTA(B24:I24)=0,"",(IF(COUNTA(B24:I24)>=7,"","יש למלא את כל תאי הנתונים")))
B25: סה"כ: | I25: =SUM(I15:I25) -> 0 | K25: =SUM(K15:K24) -> 0 | N25: =SUM(N3:N24) -> 0

Sheet פרסום ושיווק מקוון
A1: פרסום ושיווק מקוון | I1: ='ראשי-פרטים כלליים וריכוז הוצאות'!F5 -> 0 | J1: למילוי מנהל חשבונות | L1: הנה"ח | M1: למילוי ע"י רכז התוכנית | O1: כלי סיוע
A2: מס' סד' | B2: סוג הפעילות | C2: מטרה | D2: הערות (אם יש) | E2: מס' אסמכתא | F2: תאריך אסמכתא | G2: מטבע חשבונית ($,יורו וכו') | H2: סכום במטבע חשבונית | I2: הסכום המדווח בדו"ח זה | J2: נימוק לשינוי | K2: סה"כ סכום מומלץ | M2: נימוק לשינוי | N2: סה"כ תקציב מאושר
A3: 1 | K3: =I3 -> 0 | N3: =K3 -> 0 | O3: =IF(COUNTA(B3:I3)=0,"",(IF(COUNTA(B3:I3)>=7,"","יש למלא את כל תאי הנתונים")))
A4: 2 | K4: =I4 -> 0 | N4: =K4 -> 0
A5: 3 | K5: =I5 -> 0 | N5: =K5 -> 0
A6: 4 | K6: =I6 -> 0 | N6: =K6 -> 0
A7: 5 | K7: =I7 -> 0 | N7: =K7 -> 0
A8: 6 | K8: =I8 -> 0 | N8: =K8 -> 0
A9: 7 | K9: =I9 -> 0 | N9: =K9 -> 0
A10: 8 | K10: =I10 -> 0 | N10: =K10 -> 0
A11: 9 | K11: =I11 -> 0 | N11: =K11 -> 0
A12: 10 | K12: =I12 -> 0 | N12: =K12 -> 0
A13: 11 | K13: =I13 -> 0 | N13: =K13 -> 0
A14: 12 | K14: =I14 -> 0 | N14: =K14 -> 0 | O14: =IF(COUNTA(B14:I14)=0,"",(IF(COUNTA(B14:I14)>=7,"","יש למלא את כל תאי הנתונים")))
A15: 13 | K15: =I15 -> 0 | N15: =K15 -> 0 | O15: =IF(COUNTA(B15:I15)=0,"",(IF(COUNTA(B15:I15)>=7,"","יש למלא את כל תאי הנתונים")))
A16: 14 | K16: =I16 -> 0 | N16: =K16 -> 0 | O16: =IF(COUNTA(B16:I16)=0,"",(IF(COUNTA(B16:I16)>=7,"","יש למלא את כל תאי הנתונים")))
A17: 15 | K17: =I17 -> 0 | N17: =K17 -> 0 | O17: =IF(COUNTA(B17:I17)=0,"",(IF(COUNTA(B17:I17)>=7,"","יש למלא את כל תאי הנתונים")))
A18: 16 | K18: =I18 -> 0 | N18: =K18 -> 0 | O18: =IF(COUNTA(B18:I18)=0,"",(IF(COUNTA(B18:I18)>=7,"","יש למלא את כל תאי הנתונים")))
A19: 17 | K19: =I19 -> 0 | N19: =K19 -> 0 | O19: =IF(COUNTA(B19:I19)=0,"",(IF(COUNTA(B19:I19)>=7,"","יש למלא את כל תאי הנתונים")))
A20: 18 | K20: =I20 -> 0 | N20: =K20 -> 0 | O20: =IF(COUNTA(B20:I20)=0,"",(IF(COUNTA(B20:I20)>=7,"","יש למלא את כל תאי הנתונים")))
A21: 19 | K21: =I21 -> 0 | N21: =K21 -> 0 | O21: =IF(COUNTA(B21:I21)=0,"",(IF(COUNTA(B21:I21)>=7,"","יש למלא את כל תאי הנתונים")))
A22: 20 | K22: =I22 -> 0 | N22: =K22 -> 0 | O22: =IF(COUNTA(B22:I22)=0,"",(IF(COUNTA(B22:I22)>=7,"","יש למלא את כל תאי הנתונים")))
A23: 21 | K23: =I23 -> 0 | N23: =K23 -> 0 | O23: =IF(COUNTA(B23:I23)=0,"",(IF(COUNTA(B23:I23)>=7,"","יש למלא את כל תאי הנתונים")))
A24: 22 | K24: =I24 -> 0 | N24: =K24 -> 0 | O24: =IF(COUNTA(B24:I24)=0,"",(IF(COUNTA(B24:I24)>=7,"","יש למלא את כל תאי הנתונים")))
A25: 23 | K25: =I25 -> 0 | N25: =K25 -> 0 | O25: =IF(COUNTA(B25:I25)=0,"",(IF(COUNTA(B25:I25)>=7,"","יש למלא את כל תאי הנתונים")))
... A32: 30 | K32: =I32 -> 0 | N32: =K32 -> 0 | O32: =IF(COUNTA(B32:I32)=0,"",(IF(COUNTA(B32:I32)>=7,"","יש למלא את כל תאי הנתונים")))
B33: סה"כ: | I33: =SUM(I3:I32) -> 0 | K33: =SUM(K3:K32) -> 0 | N33: =SUM(N3:N32) -> 0

Sheet תערוכות והדגמות בשוק היעד
A1: תערוכות והדגמות | K1: ='ראשי-פרטים כלליים וריכוז הוצאות'!F5 -> 0 | L1: למילוי מנהל חשבונות | N1: הנה"ח | O1: למילוי ע"י רכז התוכנית | Q1: כלי סיוע
A2: מס' סד' | B2: סוג פעילות | C2: שם העיר בה תתקיים הפעילות | D2: מטרה | E2: תאריכי הפעילות | F2: הערות (אם יש) | G2: מס' אסמכתא | H2: תאריך אסמכתא | I2: מטבע חשבונית ($,יורו וכו') | J2: סכום במטבע חשבונית | K2: הסכום המדווח בדו"ח זה | L2: נימוק לשינוי | M2: סה"כ סכום מומלץ | O2: נימוק לשינוי | P2: סה"כ תקציב מאושר
A3: 1 | M3: =K3 -> 0 | P3: =M3 -> 0 | Q3: =IF(COUNTA(B3:K3)=0,"",(IF(COUNTA(B3:K3)>=7,"","יש למלא את כל תאי הנתונים")))
A4: 2 | M4: =K4 -> 0 | P4: =M4 -> 0 | Q4: =IF(COUNTA(B4:K4)=0,"",(IF(COUNTA(B4:K4)>=7,"","יש למלא את כל תאי הנתונים")))
A5: 3 | M5: =K5 -> 0 | P5: =M5 -> 0 | Q5: =IF(COUNTA(B5:K5)=0,"",(IF(COUNTA(B5:K5)>=7,"","יש למלא את כל תאי הנתונים")))
A6: 4 | M6: =K6 -> 0 | P6: =M6 -> 0 | Q6: =IF(COUNTA(B6:K6)=0,"",(IF(COUNTA(B6:K6)>=7,"","יש למלא את כל תאי הנתונים")))
A7: 5 | M7: =K7 -> 0 | P7: =M7 -> 0 | Q7: =IF(COUNTA(B7:K7)=0,"",(IF(COUNTA(B7:K7)>=7,"","יש למלא את כל תאי הנתונים")))
A8: 6 | M8: =K8 -> 0 | P8: =M8 -> 0 | Q8: =IF(COUNTA(B8:K8)=0,"",(IF(COUNTA(B8:K8)>=7,"","יש למלא את כל תאי הנתונים")))
A9: 7 | M9: =K9 -> 0 | P9: =M9 -> 0 | Q9: =IF(COUNTA(B9:K9)=0,"",(IF(COUNTA(B9:K9)>=7,"","יש למלא את כל תאי הנתונים")))
A10: 8 | M10: =K10 -> 0 | P10: =M10 -> 0 | Q10: =IF(COUNTA(B10:K10)=0,"",(IF(COUNTA(B10:K10)>=7,"","יש למלא את כל תאי הנתונים")))
A11: 9 | M11: =K11 -> 0 | P11: =M11 -> 0 | Q11: =IF(COUNTA(B11:K11)=0,"",(IF(COUNTA(B11:K11)>=7,"","יש למלא את כל תאי הנתונים")))
A12: 10 | M12: =K12 -> 0 | P12: =M12 -> 0 | Q12: =IF(COUNTA(B12:K12)=0,"",(IF(COUNTA(B12:K12)>=7,"","יש למלא את כל תאי הנתונים")))
A13: 11 | M13: =K13 -> 0 | P13: =M13 -> 0 | Q13: =IF(COUNTA(B13:K13)=0,"",(IF(COUNTA(B13:K13)>=7,"","יש למלא את כל תאי הנתונים")))
A14: 12 | M14: =K14 -> 0 | P14: =M14 -> 0 | Q14: =IF(COUNTA(B14:K14)=0,"",(IF(COUNTA(B14:K14)>=7,"","יש למלא את כל תאי הנתונים")))
... A22: 20 | M22: =K22 -> 0 | P22: =M22 -> 0 | Q22: =IF(COUNTA(B22:K22)=0,"",(IF(COUNTA(B22:K22)>=7,"","יש למלא את כל תאי הנתונים")))
B23: סה"כ: | K23: =SUM(K3:K22) -> 0 | M23: =SUM(M3:M22) -> 0 | P23: =SUM(P3:P22) -> 0

Sheet טיסות
A1: טיסות | K1: ='ראשי-פרטים כלליים וריכוז הוצאות'!F5 -> 0 | L1: למילוי מנהל חשבונות | N1: הנה"ח | O1: למילוי ע"י רכז התוכנית | Q1: כלי סיוע
A2: מס' סד' | B2: שם + תפקיד | C2: יעד נסיעה | D2: תאריכי נסיעה | E2: תאריכי פעילות | F2: מטרה | G2: מס' אסמכתא | H2: תאריך אסמכתא | I2: מטבע חשבונית ($,יורו וכו') | J2: סכום במטבע חשבונית | K2: הסכום המדווח בדו"ח זה | L2: נימוק לשינוי | M2: סה"כ סכום מומלץ | O2: נימוק לשינוי | P2: סה"כ תקציב מאושר
A3: 1 | M3: =K3 -> 0 | P3: =M3 -> 0 | Q3: =IF(COUNTA(B3:K3)=0,"",(IF(COUNTA(B3:K3)>=7,"","יש למלא את כל תאי הנתונים")))
A4: 2 | M4: =K4 -> 0 | P4: =M4 -> 0 | Q4: =IF(COUNTA(B4:K4)=0,"",(IF(COUNTA(B4:K4)>=7,"","יש למלא את כל תאי הנתונים")))
A5: 3 | M5: =K5 -> 0 | P5: =M5 -> 0 | Q5: =IF(COUNTA(B5:K5)=0,"",(IF(COUNTA(B5:K5)>=7,"","יש למלא את כל תאי הנתונים")))
A6: 4 | M6: =K6 -> 0 | P6: =M6 -> 0 | Q6: =IF(COUNTA(B6:K6)=0,"",(IF(COUNTA(B6:K6)>=7,"","יש למלא את כל תאי הנתונים")))
A7: 5 | M7: =K7 -> 0 | P7: =M7 -> 0 | Q7: =IF(COUNTA(B7:K7)=0,"",(IF(COUNTA(B7:K7)>=7,"","יש למלא את כל תאי הנתונים")))
A8: 6 | M8: =K8 -> 0 | P8: =M8 -> 0 | Q8: =IF(COUNTA(B8:K8)=0,"",(IF(COUNTA(B8:K8)>=7,"","יש למלא את כל תאי הנתונים")))
A9: 7 | M9: =K9 -> 0 | P9: =M9 -> 0 | Q9: =IF(COUNTA(B9:K9)=0,"",(IF(COUNTA(B9:K9)>=7,"","יש למלא את כל תאי הנתונים")))
A10: 8 | M10: =K10 -> 0 | P10: =M10 -> 0 | Q10: =IF(COUNTA(B10:K10)=0,"",(IF(COUNTA(B10:K10)>=7,"","יש למלא את כל תאי הנתונים")))
A11: 9 | M11: =K11 -> 0 | P11: =M11 -> 0 | Q11: =IF(COUNTA(B11:K11)=0,"",(IF(COUNTA(B11:K11)>=7,"","יש למלא את כל תאי הנתונים")))
A12: 10 | M12: =K12 -> 0 | P12: =M12 -> 0 | Q12: =IF(COUNTA(B12:K12)=0,"",(IF(COUNTA(B12:K12)>=7,"","יש למלא את כל תאי הנתונים")))
B13: סה"כ: | K13: =SUM(K3:K12) -> 0 | M13: =SUM(M3:M12) -> 0 | P13: =SUM(P3:P12) -> 0

Sheet תקינה, ייעוץ משפטי וביטוח
A1: תקינה | I1: ='ראשי-פרטים כלליים וריכוז הוצאות'!F5 -> 0 | J1: למילוי מנהל חשבונות | L1: הנה"ח | M1: למילוי ע"י רכז התוכנית | O1: כלי סיוע
A2: מס' סד' | B2: הפעילות | C2: מטרה | D2: הערות (אם יש) | E2: מס' אסמכתא | F2: תאריך אסמכתא | G2: מטבע חשבונית ($,יורו וכו') | H2: סכום במטבע חשבונית | I2: הסכום המדווח בדו"ח זה | J2: נימוק לשינוי | K2: סה"כ סכום מומלץ | M2: נימוק לשינוי | N2: סה"כ תקציב מאושר
A3: 1 | K3: =I3 -> 0 | N3: =K3 -> 0 | O3: =IF(COUNTA(B3:I3)=0,"",(IF(COUNTA(B3:I3)>=7,"","יש למלא את כל תאי הנתונים")))
A4: 2 | K4: =I4 -> 0 | N4: =K4 -> 0 | O4: =IF(COUNTA(B4:I4)=0,"",(IF(COUNTA(B4:I4)>=7,"","יש למלא את כל תאי הנתונים")))
A5: 3 | K5: =I5 -> 0 | N5: =K5 -> 0 | O5: =IF(COUNTA(B5:I5)=0,"",(IF(COUNTA(B5:I5)>=7,"","יש למלא את כל תאי הנתונים")))
A6: 4 | K6: =I6 -> 0 | N6: =K6 -> 0 | O6: =IF(COUNTA(B6:I6)=0,"",(IF(COUNTA(B6:I6)>=7,"","יש למלא את כל תאי הנתונים")))
A7: 5 | K7: =I7 -> 0 | N7: =K7 -> 0 | O7: =IF(COUNTA(B7:I7)=0,"",(IF(COUNTA(B7:I7)>=7,"","יש למלא את כל תאי הנתונים")))
A8: 6 | K8: =I8 -> 0 | N8: =K8 -> 0 | O8: =IF(COUNTA(B8:I8)=0,"",(IF(COUNTA(B8:I8)>=7,"","יש למלא את כל תאי הנתונים")))
A9: 7 | K9: =I9 -> 0 | N9: =K9 -> 0 | O9: =IF(COUNTA(B9:I9)=0,"",(IF(COUNTA(B9:I9)>=7,"","יש למלא את כל תאי הנתונים")))
B10: סה"כ: | I10: =SUM(I3:I9) -> 0 | K10: =SUM(K3:K9) -> 0 | N10: =SUM(N3:N9) -> 0
A11: ייעוץ משפטי | I11: ='ראשי-פרטים כלליים וריכוז הוצאות'!F15 -> 0 | J11: למילוי מנהל חשבונות | L11: הנה"ח | M11: למילוי ע"י רכז התוכנית | O11: כלי סיוע
A12: 1 | K12: =I12 -> 0 | N12: =K12 -> 0 | O12: =IF(COUNTA(B12:I12)=0,"",(IF(COUNTA(B12:I12)>=7,"","יש למלא את כל תאי הנתונים")))
A13: 2 | K13: =I13 -> 0 | N13: =K13 -> 0 | O13: =IF(COUNTA(B13:I13)=0,"",(IF(COUNTA(B13:I13)>=7,"","יש למלא את כל תאי הנתונים")))
A14: 3 | K14: =I14 -> 0 | N14: =K14 -> 0 | O14: =IF(COUNTA(B14:I14)=0,"",(IF(COUNTA(B14:I14)>=7,"","יש למלא את כל תאי הנתונים")))
A15: 4 | K15: =I15 -> 0 | N15: =K15 -> 0 | O15: =IF(COUNTA(B15:I15)=0,"",(IF(COUNTA(B15:I15)>=7,"","יש למלא את כל תאי הנתונים")))
A16: 5 | K16: =I16 -> 0 | N16: =K16 -> 0 | O16: =IF(COUNTA(B16:I16)=0,"",(IF(COUNTA(B16:I16)>=7,"","יש למלא את כל תאי הנתונים")))
A17: 6 | K17: =I17 -> 0 | N17: =K17 -> 0 | O17: =IF(COUNTA(B17:I17)=0,"",(IF(COUNTA(B17:I17)>=7,"","יש למלא את כל תאי הנתונים")))
A18: 7 | K18: =I18 -> 0 | N18: =K18 -> 0 | O18: =IF(COUNTA(B18:I18)=0,"",(IF(COUNTA(B18:I18)>=7,"","יש למלא את כל תאי הנתונים")))
B19: סה"כ: | I19: =SUM(I12:I18) -> 0 | K19: =SUM(K12:K18) -> 0 | N19: =SUM(N12:N18) -> 0
A20: ביטוח | I20: ='ראשי-פרטים כלליים וריכוז הוצאות'!F24 -> 0 | J20: למילוי מנהל חשבונות | L20: הנה"ח | M20: למילוי ע"י רכז התוכנית | O20: כלי סיוע
A21: 1 | K21: =I21 -> 0 | N21: =K21 -> 0 | O21: =IF(COUNTA(B21:I21)=0,"",(IF(COUNTA(B21:I21)>=7,"","יש למלא את כל תאי הנתונים")))
A22: 2 | K22: =I22 -> 0 | N22: =K22 -> 0
A23: 3 | K23: =I23 -> 0 | N23: =K23 -> 0
A24: 4 | K24: =I24 -> 0 | N24: =K24 -> 0
A25: 5 | K25: =I25 -> 0 | N25: =K25 -> 0
A26: 6 | K26: =I26 -> 0 | N26: =K26 -> 0
A27: 7 | K27: =I27 -> 0 | N27: =K27 -> 0
B28: סה"כ: | I28: =SUM(I21:I27) -> 0 | K28: =SUM(K21:K27) -> 0 | N28: =SUM(N21:N27) -> 0

Sheet דו"ח התקדמות רבעוני
A1: שם חברה: | F1: ='ראשי-פרטים כלליים וריכוז הוצאות'!F5 -> 0
A2: שוק יעד:
C5: דו"ח התקדמות לרבעון:
A7: הזן כאן:
A150: שנת 2014 רבעון 4
A151: שנת 2015 רבעון 1
A152: שנת 2015 רבעון 2
A153: שנת 2015 רבעון 3
A154: שנת 2015 רבעון 4
A155: שנת 2016 רבעון 1
A156: שנת 2016 רבעון 2
A157: שנת 2016 רבעון 3
A158: שנת 2016 רבעון 4
A159: שנת 2017 רבעון 1
A160: שנת 2017 רבעון 2
... A170: שנת 2019 רבעון 4
