{"text_format":"3","workbook":"xlsx","n_sheets":13,"sheets":["ראשי-פרטים כלליים וריכוז הוצאות","הובלה ושינוע","תכנון הנדסי של מרכז ההדגמה","חומרים ציוד והתקנה","שכר עובד בחו\"ל","טיסות לשוק היעד","שירותי ייעוץ","פרסום ושיווק ","משפטיות אגרות, רשיונות וביטוח","ניהול מאגד","דו\"ח התקדמות רבעוני","דף ראשי סרוק","טיסות נסיעות ואשל"],"not_rendered":{"defined_names":116,"comments":3},"read":"whole","date_system":"1900"}

{"sheet":"ראשי-פרטים כלליים וריכוז הוצאות","index":0,"n_rows":128,"n_cols":37,"rows_kept":128,"merged":[[0,0,0,1],[0,2,0,3],[0,4,0,6],[0,7,7,8],[0,10,7,11],[1,0,1,2],[1,3,1,6],[2,0,2,6],[3,0,3,6],[4,0,6,3],[4,5,4,6],[5,4,6,6],[7,0,7,6],[7,17,7,21],[8,0,8,2],[8,4,8,6],[8,7,8,8],[8,10,8,11],[9,0,9,2],[9,4,9,6],[9,7,9,8],[9,10,9,11],[10,0,10,1],[10,5,10,6],[10,7,10,8],[10,10,10,11],[11,0,11,1],[11,5,11,6],[11,7,11,8],[11,10,11,11],[12,0,12,1],[12,4,12,6],[12,7,12,8],[12,10,12,11],[13,0,13,1],[13,4,13,6],[13,7,13,8],[13,10,13,11],[14,0,14,1],[14,2,14,3],[14,4,14,6],[14,7,18,8],[14,10,18,11],[15,0,15,1],[15,5,15,6],[16,0,16,1],[16,5,16,6],[17,0,17,6],[18,0,18,3],[18,4,18,6],[30,0,30,6],[31,0,32,6],[33,0,33,1],[33,2,33,3],[33,4,33,6],[34,0,34,1],[34,2,34,3],[34,4,34,6],[36,0,36,12],[37,0,37,12],[38,0,38,6],[40,0,40,6]]}
["מינהל סחר חוץ - משרד הכלכלה",null,"מערך כלי סיוע - תוכנית מאגדי תשתית",null,"רן 010415",{"$nulls":4},"הנה\"ח",null,null,"כלי סיוע"]
["קישור לאתר מינהל סחר חוץ - משרד הכלכלה",null,null,"קישור למערך כלי סיוע לתעשייה - מינהל סחר חוץ"]
[]
["דו\"ח ביצוע והתקדמות רבעונית - תוכנית מאגדי תשתית"]
["(על החברה למלא רק את התאים הצבועים בלבן)",{"$nulls":3},"נכון לתאריך :",{"$nulls":10},{"$f":"IF(COUNTA(F5)=1,\"\",(IF(COUNTA(F5)=0,\"חובה למלא תאריך\",\"\")))","v":"חובה למלא תאריך"}]
[]
[]
["פרטים כלליים"]
["שם החברה",null,null,"מספר חברה ברשם החברות (ח.פ.)","שם מאגד/ארץ יעד ",null,null,"שם בודק הדיווח הכספי",null,null,"שם המבקר הנוסף מכלי סיוע",{"$nulls":3},{"$f":"IF($A$10=\"רן יחזקאל\",1,\"\")","v":""},{"$f":"IF($A$10=\"רן יחזקאל\",1,\"\")","v":""},{"$f":"IF($A$10=\"רן יחזקאל\",1,\"\")","v":""},{"$f":"IF($A$10=\"רן יחזקאל\",1,\"\")","v":""},null,{"$f":"IF($A$10=\"רן יחזקאל\",1,\"\")","v":""}]
[{"$nulls":14},{"$f":"IF($A$10=\"רן יחזקאל\",1,\"\")","v":""},{"$nulls":4},""]
["כתובת החברה: רחוב",null,"מספר","ישוב","מיקוד","טלפון חברה",null,"תאריך הכנה",null,null,"תאריך בדיקה",{"$nulls":8},""]
[{"$nulls":19},""]
["איש קשר מטעם החברה",null,"טלפון איש הקשר","פקס חברה","E-MAIL",null,null,"שם מאשר מינהל סחר חוץ",null,null,"סוג ביקורת",{"$nulls":8},"",{"$nulls":16},{"$f":"IF($A$10=\"רן יחזקאל\",1,\"\")","v":""}]
[{"$nulls":36},{"$f":"IF($A$10=\"רן יחזקאל\",1,\"\")","v":""}]
["נתונים לדו\"ח זה",null,"החודשים המדווחים בדו\"ח זה",null,"תקופת כתב האישור",null,null,"הזנת 3 השדות לעיל הינה תנאי למשיכת התקציב לשדות מטה",null,null,"הזנת 3 השדות לעיל הינה תנאי למשיכת התקציב לשדות מטה",{"$nulls":25},{"$f":"IF($A$10=\"רן יחזקאל\",1,\"\")","v":""}]
["תקופת הדו\"ח:",null,":מחודש",":עד חודש",":תחילת התוכנית",":סיום התוכנית",{"$nulls":30},""]
["שנת 2015 רבעון 1",{"$nulls":35},""]
[{"$nulls":13},{"$f":"IF($A$10=\"רן יחזקאל\",1,\"\")","v":""},{"$f":"IF($A$10=\"רן יחזקאל\",1,\"\")","v":""},null,{"$f":"IF($A$10=\"רן יחזקאל\",1,\"\")","v":""},"","","",null,{"$f":"IF($A$10=\"רן יחזקאל\",1,\"\")","v":""},"","",null,{"$f":"IF($A$10=\"רן יחזקאל\",1,\"\")","v":""},"","",null,{"$f":"IF($A$10=\"רן יחזקאל\",1,\"\")","v":""},null,null,{"$f":"IF($A$10=\"רן יחזקאל\",1,\"\")","v":""},null,{"$f":"IF($A$10=\"רן יחזקאל\",1,\"\")","v":""},"",""]
["ריכוז התקציב המבוקש (נקלט אוטומטית מתוך הגליונות)",{"$nulls":12},{"$f":"IF($A$10=\"רן יחזקאל\",1,\"\")","v":""},null,null,"",null,null,"",null,null,"",null,null,"",{"$nulls":4},{"$f":"IF($A$10=\"רן יחזקאל\",1,\"\")","v":""},{"$f":"IF($A$10=\"רן יחזקאל\",1,\"\")","v":""},null,null,""]
["מס' ","סוג ההוצאה","סה\"כ הוצאות מבוקשות לטובת הפרויקט בש\"ח","התפלגות התקציב בדו\"ח זה","סך ההוצאות שאושרו עד לדו\"ח זה בדיווחים קודמים","סך ההוצאות המאושרות  בדף התקציב","אחוז ניצול עד כה","סה\"כ מומלץ הנהח\"ש","אחוז מהתקציב",null,"סה\"כ מומלץ מבקר מכלי סיוע","אחוז מהתקציב",{"$nulls":4},"",null,null,"",null,null,"",null,null,"",null,{"$f":"IF($A$10=\"רן יחזקאל\",1,\"\")","v":""},null,{"$f":"IF($A$10=\"רן יחזקאל\",1,\"\")","v":""},null,null,{"$f":"IF($A$10=\"רן יחזקאל\",1,\"\")","v":""},null,{"$f":"IF($A$10=\"רן יחזקאל\",1,\"\")","v":""},{"$f":"IF($A$10=\"רן יחזקאל\",1,\"\")","v":""}]
[1,"הובלה ושינוע",{"$f":"'הובלה ושינוע'!I25","v":0},{"$f":"IF($C$30>0,C21/$C$30,\"\")","v":""},null,null,{"$f":"IF(F21>0,(C21+E21)/F21,\"\")","v":""},{"$f":"'הובלה ושינוע'!K25","v":0},{"$f":"IF(H21>0,H21/$H$30,\"\")","v":""},null,{"$f":"'הובלה ושינוע'!N25","v":0},{"$f":"IF(K21>0,K21/$K$30,\"\")","v":""},{"$nulls":15},{"$f":"IF($A$10=\"רן יחזקאל\",1,\"\")","v":""}]
[2,"תכנון הנדסי של מרכז ההדגמה",{"$f":"'תכנון הנדסי של מרכז ההדגמה'!I23","v":0},{"$f":"IF($C$30>0,C22/$C$30,\"\")","v":""},null,null,{"$f":"IF(F22>0,(C22+E22)/F22,\"\")","v":""},{"$f":"'תכנון הנדסי של מרכז ההדגמה'!K23","v":0},{"$f":"IF(H22>0,H22/$H$30,\"\")","v":""},null,{"$f":"'תכנון הנדסי של מרכז ההדגמה'!N23","v":0},{"$f":"IF(K22>0,K22/$K$30,\"\")","v":""}]
[3,"חומרים, ציוד והתקנה",{"$f":"'חומרים ציוד והתקנה'!I23","v":0},"",null,null,"",{"$f":"'חומרים ציוד והתקנה'!K23","v":0},"",null,{"$f":"'חומרים ציוד והתקנה'!N23","v":0},""]
[4,"שכר עובד בחו\"ל",{"$f":"'שכר עובד בחו\"ל'!O24","v":0},"",null,null,"",{"$f":"'שכר עובד בחו\"ל'!R24","v":0},"",null,{"$f":"'שכר עובד בחו\"ל'!V24","v":0},""]
[5,"טיסות לשוק היעד",{"$f":"'טיסות לשוק היעד'!I23","v":0},"",null,null,"",{"$f":"'טיסות לשוק היעד'!K23","v":0},"",null,{"$f":"'טיסות לשוק היעד'!N23","v":0},""]
[6,"שירותי ייעוץ",{"$f":"'שירותי ייעוץ'!I23","v":0},"",null,null,"",{"$f":"'שירותי ייעוץ'!K23","v":0},"",null,{"$f":"'שירותי ייעוץ'!N23","v":0},""]
[7,"פרסום ושיווק",{"$f":"'פרסום ושיווק '!I23","v":0},"",null,null,"",{"$f":"'פרסום ושיווק '!K23","v":0},"",null,{"$f":"'פרסום ושיווק '!N23","v":0},{"$f":"IF(K27>0,K27/$K$30,\"\")","v":""}]
[8,"משפטיות, אגרות, רשיונות וביטוח",{"$f":"'משפטיות אגרות, רשיונות וביטוח'!I23","v":0},"",null,null,"",{"$f":"'משפטיות אגרות, רשיונות וביטוח'!K23","v":0},{"$f":"IF(H28>0,H28/$H$30,\"\")","v":""},null,{"$f":"'משפטיות אגרות, רשיונות וביטוח'!N23","v":0},{"$f":"IF(K28>0,K28/$K$30,\"\")","v":""}]
[9,"ניהול מאגד",{"$f":"'ניהול מאגד'!I23","v":0},{"$f":"IF($C$30>0,C29/$C$30,\"\")","v":""},null,null,"",{"$f":"'ניהול מאגד'!K23","v":0},"",null,{"$f":"'ניהול מאגד'!N23","v":0},""]
[null,"סה\"כ",{"$f":"SUM(C21:C29)","v":0},{"$f":"IF($C$30>0,C30/$C$30,\"\")","v":""},{"$f":"SUM(E21:E29)","v":0},{"$f":"SUM(F21:F29)","v":0},"",{"$f":"SUM(H21:H29)","v":0},"",null,{"$f":"SUM(K21:K29)","v":0},""]
["הצהרה:"]
["הננו מצהירים כי דו\"ח זה תואם את הרשום בספרי החשבונות שלנו, וכי ההוצאות דלעיל הוצאו אך ורק בגין התוכנית המאושרת על בסיס מזומן בלבד. כל ההוצאות המדווחות בדו\"ח זה לא נדרשו בעבר בתוכנית כסף חכם או במסגרת תוכנית סיוע אחרת "]
[]
[]
["שם וחתימת מנהל המאגד",null,"שם וחתימת מנהל החברה",null,"חותמת חברה *"]
[null,null," "]
["את הדו\"ח יש לשלוח לדוא\"ל: CF@economy.gov.il  , בנוסף יש לשלוח את האסמכתאות והטופס החתום לכתובת:"]
["מערך כלי סיוע, מינהל סחר חוץ, תוכנית מאגדי תשתית, בניין ג'נרי, רחוב בנק ישראל 5, קריית הממשלה, ת\"ד 3166, ירושלים 9103101"]
[]
[]
[]
[]
[]
[]
["שנת 2014 רבעון 4"]
["שנת 2015 רבעון 1"]
["שנת 2015 רבעון 2"]
["שנת 2015 רבעון 3"]
["שנת 2015 רבעון 4"]
["שנת 2016 רבעון 1"]
["שנת 2016 רבעון 2"]
["שנת 2016 רבעון 3"]
["שנת 2016 רבעון 4"]
["שנת 2017 רבעון 1"]
["שנת 2017 רבעון 2"]
["שנת 2017 רבעון 3"]
["שנת 2017 רבעון 4"]
["שנת 2018 רבעון 1"]
["שנת 2018 רבעון 2"]
["שנת 2018 רבעון 3"]
["שנת 2018 רבעון 4"]
["שנת 2019 רבעון 1"]
["שנת 2019 רבעון 2"]
["שנת 2019 רבעון 3"]
["שנת 2019 רבעון 4"]
[]
["2014-11-01","2014-11-30"]
["2014-12-01","2014-12-31"]
["2015-01-01","2015-01-31"]
["2015-02-01","2015-02-28"]
["2015-03-01","2015-03-31"]
["2015-04-01","2015-04-30"]
["2015-05-01","2015-05-31"]
["2015-06-01","2015-06-30"]
["2015-07-01","2015-07-31"]
["2015-08-01","2015-08-31"]
["2015-09-01","2015-09-30"]
["2015-10-01","2015-10-31"]
["2015-11-01","2015-11-30"]
["2015-12-01","2015-12-31"]
["2016-01-01","2016-01-31"]
["2016-02-01","2016-02-29"]
["2016-03-01","2016-03-31"]
["2016-04-01","2016-04-30"]
["2016-05-01","2016-05-31"]
["2016-06-01","2016-06-30"]
["2016-07-01","2016-07-31"]
["2016-08-01","2016-08-31"]
["2016-09-01","2016-09-30"]
["2016-10-01","2016-10-31"]
["2016-11-01","2016-11-30"]
["2016-12-01","2016-12-31"]
["2017-01-01","2017-01-31"]
["2017-02-01","2017-02-28"]
["2017-03-01","2017-03-31"]
["2017-04-01","2017-04-30"]
["2017-05-01","2017-05-31"]
["2017-06-01","2017-06-30"]
["2017-07-01","2017-07-31"]
["2017-08-01","2017-08-31"]
["2017-09-01","2017-09-30"]
["2017-10-01","2017-10-31"]
["2017-11-01","2017-11-30"]
["2017-12-01","2017-12-31"]
["2018-01-01","2018-01-31"]
["2018-02-01","2018-02-28"]
["2018-03-01","2018-03-31"]
["2018-04-01","2018-04-30"]
["2018-05-01","2018-05-31"]
["2018-06-01","2018-06-30"]
["2018-07-01","2018-07-31"]
["2018-08-01","2018-08-31"]
["2018-09-01","2018-09-30"]
["2018-10-01","2018-10-31"]
["2018-11-01","2018-11-30"]
["2018-12-01","2018-12-31"]
["2019-01-01","2019-01-31"]
["2019-02-01","2019-02-28"]
["2019-03-01","2019-03-31"]
["2019-04-01","2019-04-30"]
["2019-05-01","2019-05-31"]
["2019-06-01","2019-06-30"]
["2019-07-01","2019-07-31"]
["2019-08-01","2019-08-31"]
["2019-09-01","2019-09-30"]
["2019-10-01","2019-10-31"]
["2019-11-01","2019-11-30"]
["2019-12-01","2019-12-31"]

{"sheet":"הובלה ושינוע","index":1,"n_rows":25,"n_cols":15,"rows_kept":25,"merged":[[0,0,0,3],[0,9,0,10],[0,12,0,13],[24,1,24,7]]}
["3.1 הובלה ושינוע של מרכיבי מרכז ההדגמה לשוק היעד כולל ביטוח",{"$nulls":7},{"$f":"'ראשי-פרטים כלליים וריכוז הוצאות'!F5","v":"00:00:00"},"למילוי מנהל חשבונות",null,"הנה\"ח","למילוי רכז התוכנית",null,"כלי סיוע"]
["מס' סד'","שם הספק","מהות העבודה ","הערות (אם יש)","מס' אסמכתא","תאריך אסמכתא","מטבע חשבונית ($,יורו וכו')","סכום במטבע חשבונית","הסכום המדווח בדו\"ח זה בש\"ח ","נימוק לשינוי","סה\"כ סכום מומלץ ",null,"נימוק לשינוי","סה\"כ תקציב מאושר"]
[1,{"$nulls":9},{"$f":"I3","v":0},null,null,{"$f":"K3","v":0},{"$f":"IF(COUNTA(B3:I3)=0,\"\",(IF(COUNTA(B3:I3)>=7,\"\",\"יש למלא את כל תאי הנתונים\")))","v":""}]
[2,{"$nulls":9},{"$f":"I4","v":0},null,null,{"$f":"K4","v":0},{"$f":"IF(COUNTA(B4:I4)=0,\"\",(IF(COUNTA(B4:I4)>=7,\"\",\"יש למלא את כל תאי הנתונים\")))","v":""}]
[3,{"$nulls":9},0,null,null,0,""]
[4,{"$nulls":9},0,null,null,0,""]
[5,{"$nulls":9},0,null,null,0,""]
[6,{"$nulls":9},0,null,null,0,""]
[7,{"$nulls":9},0,null,null,0,""]
[8,{"$nulls":9},0,null,null,0,""]
[9,{"$nulls":9},0,null,null,0,""]
[10,{"$nulls":9},0,null,null,0,""]
[11,{"$nulls":9},0,null,null,0,""]
[12,{"$nulls":9},0,null,null,0,""]
[13,{"$nulls":9},0,null,null,0,""]
[14,{"$nulls":9},0,null,null,0,""]
[15,{"$nulls":9},0,null,null,0,""]
[16,{"$nulls":9},0,null,null,0,""]
[17,{"$nulls":9},0,null,null,0,""]
[18,{"$nulls":9},0,null,null,0,""]
[19,{"$nulls":9},0,null,null,0,""]
[20,{"$nulls":9},0,null,null,0,""]
[21,{"$nulls":9},0,null,null,0,""]
[22,{"$nulls":9},0,null,null,0,""]
[null,"סה\"כ:",{"$nulls":6},{"$f":"SUM(I3:I24)","v":0},null,{"$f":"SUM(K3:K24)","v":0},null,null,{"$f":"SUM(N3:N24)","v":0}]

{"sheet":"תכנון הנדסי של מרכז ההדגמה","index":2,"n_rows":23,"n_cols":15,"rows_kept":23,"merged":[[0,0,0,2],[0,3,0,7],[0,9,0,10],[0,12,0,13],[22,1,22,7]]}
["3.2 תכנון הנדסי של מרכז ההדגמה",{"$nulls":7},{"$f":"'ראשי-פרטים כלליים וריכוז הוצאות'!F5","v":"00:00:00"},"למילוי מנהל חשבונות",null,"הנה\"ח","למילוי רכז התוכנית",null,"כלי סיוע"]
["מס' סד'","שם חברת הייעוץ/יועץ","תחום הייעוץ ","הערות (אם יש)","מס' אסמכתא ","תאריך אסמכתא","מטבע חשבונית ($,יורו וכו')","הסכום המדווח במטבע חשבונית","הסכום המדווח בדו\"ח זה בש\"ח","נימוק לשינוי","סה\"כ סכום מומלץ ",null,"נימוק לשינוי","סה\"כ תקציב מאושר "]
[1,{"$nulls":9},{"$f":"I3","v":0},null,null,{"$f":"K3","v":0},{"$f":"IF(COUNTA(B3:I3)=0,\"\",(IF(COUNTA(B3:I3)>=7,\"\",\" יש למלא את כל תאי הנתונים על מנת שיבוצע חישוב\")))","v":""}]
[2,{"$nulls":9},{"$f":"I4","v":0},null,null,{"$f":"K4","v":0},{"$f":"IF(COUNTA(B4:I4)=0,\"\",(IF(COUNTA(B4:I4)>=7,\"\",\" יש למלא את כל תאי הנתונים על מנת שיבוצע חישוב\")))","v":""}]
[3,{"$nulls":9},0,null,null,0,""]
[4,{"$nulls":9},0,null,null,0,""]
[5,{"$nulls":9},0,null,null,0,""]
[6,{"$nulls":9},0,null,null,0,""]
[7,{"$nulls":9},0,null,null,0,""]
[8,{"$nulls":9},0,null,null,0,""]
[9,{"$nulls":9},0,null,null,0,""]
[10,{"$nulls":9},0,null,null,0,""]
[11,{"$nulls":9},0,null,null,0,""]
[12,{"$nulls":9},0,null,null,0,""]
[13,{"$nulls":9},0,null,null,0,""]
[14,{"$nulls":9},0,null,null,0,""]
[15,{"$nulls":9},0,null,null,0,""]
[16,{"$nulls":9},0,null,null,0,""]
[17,{"$nulls":9},0,null,null,0,""]
[18,{"$nulls":9},0,null,null,0,""]
[19,{"$nulls":9},0,null,null,0,""]
[20,{"$nulls":9},0,null,null,0,""]
[null,"סה\"כ:",{"$nulls":6},{"$f":"SUM(I3:I22)","v":0},null,{"$f":"SUM(K3:K22)","v":0},null,null,{"$f":"SUM(N3:N22)","v":0}]

{"sheet":"חומרים ציוד והתקנה","index":3,"n_rows":23,"n_cols":15,"rows_kept":23,"merged":[[0,0,0,2],[0,9,0,10],[0,12,0,13],[22,1,22,7],[24,0,30,1]]}
["3.3 עלויות חומרים, ציוד והתקנה לטובת מתקן ההדגמה",{"$nulls":7},{"$f":"'ראשי-פרטים כלליים וריכוז הוצאות'!F5","v":"00:00:00"},"למילוי מנהל חשבונות",null,"הנה\"ח","למילוי ע\"י רכז התוכנית",null,"כלי סיוע"]
["מס' סד'","סוג הפעילות","מטרה","הערות (אם יש)","מס' אסמכתא","תאריך אסמכתא","מטבע חשבונית ($,יורו וכו')","סכום במטבע חשבונית","הסכום המדווח בדו\"ח זה בש\"ח ","נימוק לשינוי","סה\"כ סכום מומלץ ",null,"נימוק לשינוי","סה\"כ תקציב מאושר"]
[1,{"$nulls":9},{"$f":"I3","v":0},null,null,{"$f":"K3","v":0},{"$f":"IF(COUNTA(B3:I3)=0,\"\",(IF(COUNTA(B3:I3)>=7,\"\",\"יש למלא את כל תאי הנתונים\")))","v":""}]
[2,{"$nulls":9},{"$f":"I4","v":0},null,null,{"$f":"K4","v":0},{"$f":"IF(COUNTA(B4:I4)=0,\"\",(IF(COUNTA(B4:I4)>=7,\"\",\"יש למלא את כל תאי הנתונים\")))","v":""}]
[3,{"$nulls":9},0,null,null,0,""]
[4,{"$nulls":9},0,null,null,0,""]
[5,{"$nulls":9},0,null,null,0,""]
[6,{"$nulls":9},0,null,null,0,""]
[7,{"$nulls":9},0,null,null,0,""]
[8,{"$nulls":9},0,null,null,0,""]
[9,{"$nulls":9},0,null,null,0,""]
[10,{"$nulls":9},0,null,null,0,""]
[11,{"$nulls":9},0,null,null,0,""]
[12,{"$nulls":9},0,null,null,0,""]
[13,{"$nulls":9},0,null,null,0,""]
[14,{"$nulls":9},0,null,null,0,""]
[15,{"$nulls":9},0,null,null,0,""]
[16,{"$nulls":9},0,null,null,0,""]
[17,{"$nulls":9},0,null,null,0,""]
[18,{"$nulls":9},0,null,null,0,""]
[19,{"$nulls":9},0,null,null,0,""]
[20,{"$nulls":9},0,null,null,0,""]
[null,"סה\"כ:",{"$nulls":6},{"$f":"SUM(I3:I22)","v":0},null,{"$f":"SUM(K3:K22)","v":0},null,null,{"$f":"SUM(N3:N22)","v":0}]

{"sheet":"שכר עובד בחו\"ל","index":4,"n_rows":110,"n_cols":23,"rows_kept":110,"merged":[[0,1,0,7],[0,13,0,14],[0,15,0,17],[0,19,0,21],[1,1,1,4],[1,9,1,12],[1,13,1,14],[1,15,1,17],[1,19,1,21],[23,1,23,12],[25,1,25,2]]}
[null,"3.4 שכר עובד בחו\"ל",{"$nulls":11},{"$f":"'ראשי-פרטים כלליים וריכוז הוצאות'!F5","v":"00:00:00"},null,"למילוי מנהל חשבונות",null,null,"הנה\"ח","למילוי רכז התוכנית",null,null,"כלי סיוע"]
[null,"פרטי העובד (מילוי כל הפרטים הינו תנאי לחישוב השכר)",{"$nulls":7},"יש לדווח את עלויות השכר ששולמו בפועל - בגין כל חודש עבודה - שורה נפרדת",{"$nulls":3},"סה\"כ שכר מבוקש"]
["מס' סד'","שם משפחה + שם פרטי (למיין לפי שם המשפחה)","תואר מקצועי","תפקיד במדינת היעד","העסקה (מעמד העובד בחברה)","הערות (אם יש)","חודש מדווח","מס' אסמכתא","מטבע חשבונית/ תלוש שכר ($, יורו וכו')","עלות השכר המלא בפועל במטבע מקומי","עלות השכר המלא בפועל בש\"ח","חלקיות משרה-%","אחוז תעסוקה בפרויקט-%","שנות אדם","הסכום המדווח בדו\"ח זה","אחוז תעסוקה בפרויקט","נימוק לשינוי","סה\"כ תקציב מאושר",null,"אחוז תעסוקה בפרויקט","נימוק לשינוי","סה\"כ תקציב מאושר "]
[1,{"$nulls":12},{"$f":"IF(COUNTA(B4:M4)>=11,M4*L4/12,0)","v":{"v":0,"d":"0.00"}},{"$f":"IF(COUNTA(B4:M4)>=11,K4*M4,0)","v":0},{"$f":"M4","v":{"v":0,"d":"0%"}},null,{"$f":"K4*P4","v":0},null,{"$f":"P4","v":{"v":0,"d":"0%"}},null,{"$f":"K4*T4","v":0},{"$f":"IF(COUNTA(B4:M4)=0,\"\",(IF(COUNTA(B4:M4)>=11,\"\",\" יש למלא את כל תאי הנתונים על מנת שיבוצע חישוב\")))","v":""}]
[2,{"$nulls":12},{"$f":"IF(COUNTA(B5:M5)>=11,M5*L5/12,0)","v":{"v":0,"d":"0.00"}},{"$f":"IF(COUNTA(B5:M5)>=11,K5*M5,0)","v":0},{"$f":"M5","v":{"v":0,"d":"0%"}},null,{"$f":"K5*P5","v":0},null,{"$f":"P5","v":{"v":0,"d":"0%"}},null,{"$f":"K5*T5","v":0},""]
[3,{"$nulls":12},{"v":0,"d":"0.00"},0,{"v":0,"d":"0%"},null,0,null,{"v":0,"d":"0%"},null,0,""]
[4,{"$nulls":12},{"v":0,"d":"0.00"},0,{"v":0,"d":"0%"},null,0,null,{"v":0,"d":"0%"},null,0,""]
[5,{"$nulls":12},{"v":0,"d":"0.00"},0,{"v":0,"d":"0%"},null,0,null,{"v":0,"d":"0%"},null,0,""]
[6,{"$nulls":12},{"v":0,"d":"0.00"},0,{"v":0,"d":"0%"},null,0,null,{"v":0,"d":"0%"},null,0,""]
[7,{"$nulls":12},{"v":0,"d":"0.00"},0,{"v":0,"d":"0%"},null,0,null,{"v":0,"d":"0%"},null,0,""]
[8,{"$nulls":12},{"v":0,"d":"0.00"},0,{"v":0,"d":"0%"},null,0,null,{"v":0,"d":"0%"},null,0,""]
[9,{"$nulls":12},{"v":0,"d":"0.00"},0,{"v":0,"d":"0%"},null,0,null,{"v":0,"d":"0%"},null,0,""]
[10,{"$nulls":12},{"v":0,"d":"0.00"},0,{"v":0,"d":"0%"},null,0,null,{"v":0,"d":"0%"},null,0,""]
[11,{"$nulls":12},{"v":0,"d":"0.00"},0,{"v":0,"d":"0%"},null,0,null,{"v":0,"d":"0%"},null,0,""]
[12,{"$nulls":12},{"v":0,"d":"0.00"},0,{"v":0,"d":"0%"},null,0,null,{"v":0,"d":"0%"},null,0,""]
[13,{"$nulls":12},{"v":0,"d":"0.00"},0,{"v":0,"d":"0%"},null,0,null,{"v":0,"d":"0%"},null,0,""]
[14,{"$nulls":12},{"v":0,"d":"0.00"},0,{"v":0,"d":"0%"},null,0,null,{"v":0,"d":"0%"},null,0,""]
[15,{"$nulls":12},{"v":0,"d":"0.00"},0,{"v":0,"d":"0%"},null,0,null,{"v":0,"d":"0%"},null,0,""]
[16,{"$nulls":12},{"v":0,"d":"0.00"},0,{"v":0,"d":"0%"},null,0,null,{"v":0,"d":"0%"},null,0,""]
[17,{"$nulls":12},{"v":0,"d":"0.00"},0,{"v":0,"d":"0%"},null,0,null,{"v":0,"d":"0%"},null,0,""]
[18,{"$nulls":12},{"v":0,"d":"0.00"},0,{"v":0,"d":"0%"},null,0,null,{"v":0,"d":"0%"},null,0,""]
[19,{"$nulls":12},{"v":0,"d":"0.00"},0,{"v":0,"d":"0%"},null,0,null,{"v":0,"d":"0%"},null,0,""]
[20,{"$nulls":12},{"v":0,"d":"0.00"},0,{"v":0,"d":"0%"},null,0,null,{"v":0,"d":"0%"},null,0,""]
[null,"סה\"כ:",{"$nulls":11},{"$f":"SUM(N4:N23)","v":{"v":0,"d":"0.00"}},{"$f":"SUM(O4:O23)","v":0},null,null,{"$f":"SUM(R4:R23)","v":0},{"$nulls":3},{"$f":"SUM(V4:V23)","v":0}]
[]
[]
[]
[]
[null,"סוג ההעסקה","תקרת עלות שכר מוכרת כולל תקורות"]
[null,"בעל עניין"]
[null,"עובד בחברה"]
[null,"עובד חיצוני (חשבונית)"]
[null,"חב' כ\"א"]
[null,"אחר (נא לפרט בהערות)"]
[]
[]
[null,"2014-11-01"]
[null,"2014-12-01"]
[null,"2015-01-01"]
[null,"2015-02-01"]
[null,"2015-03-01"]
[null,"2015-04-01"]
[null,"2015-05-01"]
[null,"2015-06-01"]
[null,"2015-07-01"]
[null,"2015-08-01"]
[null,"2015-09-01"]
[null,"2015-10-01"]
[null,"2015-11-01"]
[null,"2015-12-01"]
[null,"2016-01-01"]
[null,"2016-02-01"]
[null,"2016-03-01"]
[null,"2016-04-01"]
[null,"2016-05-01"]
[null,"2016-06-01"]
[null,"2016-07-01"]
[null,"2016-08-01"]
[null,"2016-09-01"]
[null,"2016-10-01"]
[null,"2016-11-01"]
[null,"2016-12-01"]
[null,"2017-01-01"]
[null,"2017-02-01"]
[null,"2017-03-01"]
[null,"2017-04-01"]
[null,"2017-05-01"]
[null,"2017-06-01"]
[null,"2017-07-01"]
[null,"2017-08-01"]
[null,"2017-09-01"]
[null,"2017-10-01"]
[null,"2017-11-01"]
[null,"2017-12-01"]
[null,"2018-01-01"]
[null,"2018-02-01"]
[null,"2018-03-01"]
[null,"2018-04-01"]
[null,"2018-05-01"]
[null,"2018-06-01"]
[null,"2018-07-01"]
[null,"2018-08-01"]
[null,"2018-09-01"]
[null,"2018-10-01"]
[null,"2018-11-01"]
[null,"2018-12-01"]
[null,"2019-01-01"]
[null,"2019-02-01"]
[null,"2019-03-01"]
[null,"2019-04-01"]
[null,"2019-05-01"]
[null,"2019-06-01"]
[null,"2019-07-01"]
[null,"2019-08-01"]
[null,"2019-09-01"]
[null,"2019-10-01"]
[null,"2019-11-01"]
[null,"2019-12-01"]
[null,"2020-01-01"]
[null,"2020-02-01"]
[null,"2020-03-01"]
[null,"2020-04-01"]
[null,"2020-05-01"]
[null,"2020-06-01"]
[null,"2020-07-01"]
[null,"2020-08-01"]
[null,"2020-09-01"]
[null,"2020-10-01"]
[null,"2020-11-01"]
[null,"2020-12-01"]

{"sheet":"טיסות לשוק היעד","index":5,"n_rows":23,"n_cols":15,"rows_kept":23,"merged":[[0,0,0,3],[0,9,0,10],[0,12,0,13],[22,1,22,7]]}
["3.5 טיסות לשוק היעד",{"$nulls":7},{"$f":"'ראשי-פרטים כלליים וריכוז הוצאות'!F5","v":"00:00:00"},"למילוי מנהל חשבונות",null,"הנה\"ח","למילוי ע\"י רכז התוכנית",null,"כלי סיוע"]
["מס' סד'","סוג פעילות","מטרה","הערות (אם יש)","מס' אסמכתא","תאריך אסמכתא","מטבע חשבונית ($,יורו וכו')","סכום במטבע חשבונית","הסכום המדווח בדו\"ח זה","נימוק לשינוי","סה\"כ סכום מומלץ",null,"נימוק לשינוי","סה\"כ תקציב מאושר"]
[1,{"$nulls":9},{"$f":"I3","v":0},null,null,{"$f":"K3","v":0},{"$f":"IF(COUNTA(B3:I3)=0,\"\",(IF(COUNTA(B3:I3)>=7,\"\",\"יש למלא את כל תאי הנתונים\")))","v":""}]
[2,{"$nulls":9},{"$f":"I4","v":0},null,null,{"$f":"K4","v":0},{"$f":"IF(COUNTA(B4:I4)=0,\"\",(IF(COUNTA(B4:I4)>=7,\"\",\"יש למלא את כל תאי הנתונים\")))","v":""}]
[3,{"$nulls":9},0,null,null,0,""]
[4,{"$nulls":9},0,null,null,0,""]
[5,{"$nulls":9},0,null,null,0,""]
[6,{"$nulls":9},0,null,null,0,""]
[7,{"$nulls":9},0,null,null,0,""]
[8,{"$nulls":9},0,null,null,0,""]
[9,{"$nulls":9},0,null,null,0,""]
[10,{"$nulls":9},0,null,null,0,""]
[11,{"$nulls":9},0,null,null,0,""]
[12,{"$nulls":9},0,null,null,0,""]
[13,{"$nulls":9},0,null,null,0,""]
[14,{"$nulls":9},0,null,null,0,""]
[15,{"$nulls":9},0,null,null,0,""]
[16,{"$nulls":9},0,null,null,0,""]
[17,{"$nulls":9},0,null,null,0,""]
[18,{"$nulls":9},0,null,null,0,""]
[19,{"$nulls":9},0,null,null,0,""]
[20,{"$nulls":9},0,null,null,0,""]
[null,"סה\"כ:",{"$nulls":6},{"$f":"SUM(I3:I22)","v":0},null,{"$f":"SUM(K3:K22)","v":0},null,null,{"$f":"SUM(N3:N22)","v":0}]

{"sheet":"שירותי ייעוץ","index":6,"n_rows":23,"n_cols":15,"rows_kept":23,"merged":[[0,0,0,2],[0,3,0,7],[0,9,0,10],[0,12,0,13],[22,1,22,7]]}
["3.6 שירותי ייעוץ",{"$nulls":7},{"$f":"'ראשי-פרטים כלליים וריכוז הוצאות'!F5","v":"00:00:00"},"למילוי מנהל חשבונות",null,"הנה\"ח","למילוי רכז התוכנית",null,"כלי סיוע"]
["מס' סד'","שם חברת הייעוץ/יועץ","תחום הייעוץ ","הערות (אם יש)","מס' אסמכתא ","תאריך אסמכתא","מטבע חשבונית ($,יורו וכו')","הסכום המדווח במטבע חשבונית","הסכום המדווח בדו\"ח זה בש\"ח","נימוק לשינוי","סה\"כ סכום מומלץ ",null,"נימוק לשינוי","סה\"כ תקציב מאושר "]
[1,{"$nulls":9},{"$f":"I3","v":0},null,null,{"$f":"K3","v":0},{"$f":"IF(COUNTA(B3:I3)=0,\"\",(IF(COUNTA(B3:I3)>=7,\"\",\" יש למלא את כל תאי הנתונים על מנת שיבוצע חישוב\")))","v":""}]
[2,{"$nulls":9},{"$f":"I4","v":0},null,null,{"$f":"K4","v":0},{"$f":"IF(COUNTA(B4:I4)=0,\"\",(IF(COUNTA(B4:I4)>=7,\"\",\" יש למלא את כל תאי הנתונים על מנת שיבוצע חישוב\")))","v":""}]
[3,{"$nulls":9},0,null,null,0,""]
[4,{"$nulls":9},0,null,null,0,""]
[5,{"$nulls":9},0,null,null,0,""]
[6,{"$nulls":9},0,null,null,0,""]
[7,{"$nulls":9},0,null,null,0,""]
[8,{"$nulls":9},0,null,null,0,""]
[9,{"$nulls":9},0,null,null,0,""]
[10,{"$nulls":9},0,null,null,0,""]
[11,{"$nulls":9},0,null,null,0,""]
[12,{"$nulls":9},0,null,null,0,""]
[13,{"$nulls":9},0,null,null,0,""]
[14,{"$nulls":9},0,null,null,0,""]
[15,{"$nulls":9},0,null,null,0,""]
[16,{"$nulls":9},0,null,null,0,""]
[17,{"$nulls":9},0,null,null,0,""]
[18,{"$nulls":9},0,null,null,0,""]
[19,{"$nulls":9},0,null,null,0,""]
[20,{"$nulls":9},0,null,null,0,""]
[null,"סה\"כ:",{"$nulls":6},{"$f":"SUM(I3:I22)","v":0},null,{"$f":"SUM(K3:K22)","v":0},null,null,{"$f":"SUM(N3:N22)","v":0}]

{"sheet":"פרסום ושיווק ","index":7,"n_rows":23,"n_cols":15,"rows_kept":23,"merged":[[0,0,0,7],[0,9,0,10],[0,12,0,13],[22,1,22,7]]}
["3.7 פרסום ושיווק",{"$nulls":7},{"$f":"'ראשי-פרטים כלליים וריכוז הוצאות'!F5","v":"00:00:00"},"למילוי מנהל חשבונות",null,"הנה\"ח","למילוי ע\"י רכז התוכנית",null,"כלי סיוע"]
["מס' סד'","סוג הפעילות","מטרה","הערות (אם יש)","מס' אסמכתא","תאריך אסמכתא","מטבע חשבונית ($,יורו וכו')","סכום במטבע חשבונית","הסכום המדווח בדו\"ח זה","נימוק לשינוי","סה\"כ סכום מומלץ ",null,"נימוק לשינוי","סה\"כ תקציב מאושר"]
[1,{"$nulls":9},{"$f":"I3","v":0},null,null,{"$f":"K3","v":0},{"$f":"IF(COUNTA(B3:I3)=0,\"\",(IF(COUNTA(B3:I3)>=7,\"\",\"יש למלא את כל תאי הנתונים\")))","v":""}]
[2,{"$nulls":9},{"$f":"I4","v":0},null,null,{"$f":"K4","v":0},{"$f":"IF(COUNTA(B4:I4)=0,\"\",(IF(COUNTA(B4:I4)>=7,\"\",\"יש למלא את כל תאי הנתונים\")))","v":""}]
[3,{"$nulls":9},0,null,null,0,""]
[4,{"$nulls":9},0,null,null,0,""]
[5,{"$nulls":9},0,null,null,0,""]
[6,{"$nulls":9},0,null,null,0,""]
[7,{"$nulls":9},0,null,null,0,""]
[8,{"$nulls":9},0,null,null,0,""]
[9,{"$nulls":9},0,null,null,0,""]
[10,{"$nulls":9},0,null,null,0,""]
[11,{"$nulls":9},0,null,null,0,""]
[12,{"$nulls":9},0,null,null,0,""]
[13,{"$nulls":9},0,null,null,0,""]
[14,{"$nulls":9},0,null,null,0,""]
[15,{"$nulls":9},0,null,null,0,""]
[16,{"$nulls":9},0,null,null,0,""]
[17,{"$nulls":9},0,null,null,0,""]
[18,{"$nulls":9},0,null,null,0,""]
[19,{"$nulls":9},0,null,null,0,""]
[20,{"$nulls":9},0,null,null,0,""]
[null,"סה\"כ:",{"$nulls":6},{"$f":"SUM(I3:I22)","v":0},null,{"$f":"SUM(K3:K22)","v":0},null,null,{"$f":"SUM(N3:N22)","v":0}]

{"sheet":"משפטיות אגרות, רשיונות וביטוח","index":8,"n_rows":23,"n_cols":15,"rows_kept":23,"merged":[[0,0,0,2],[0,9,0,10],[0,12,0,13],[22,1,22,7]]}
["3.8. 3.9. 3.10 . משפטיות, רישיונות ואגרות, ביטוח",{"$nulls":7},{"$f":"'ראשי-פרטים כלליים וריכוז הוצאות'!F5","v":"00:00:00"},"למילוי מנהל חשבונות",null,"הנה\"ח","למילוי ע\"י רכז התוכנית",null,"כלי סיוע"]
["מס' סד'","הפעילות","מטרה","הערות (אם יש)","מס' אסמכתא","תאריך אסמכתא","מטבע חשבונית ($,יורו וכו')","סכום במטבע חשבונית","הסכום המדווח בדו\"ח זה","נימוק לשינוי","סה\"כ סכום מומלץ",null,"נימוק לשינוי","סה\"כ תקציב מאושר "]
[1,{"$nulls":9},{"$f":"I3","v":0},null,null,{"$f":"K3","v":0},{"$f":"IF(COUNTA(B3:I3)=0,\"\",(IF(COUNTA(B3:I3)>=7,\"\",\"יש למלא את כל תאי הנתונים\")))","v":""}]
[2,{"$nulls":9},0,null,null,{"$f":"K4","v":0},""]
[3,{"$nulls":9},0,null,null,0,""]
[4,{"$nulls":9},{"$f":"I6","v":0},null,null,{"$f":"K6","v":0},""]
[5,{"$nulls":9},0,null,null,0,""]
[6,{"$nulls":9},0,null,null,0,""]
[7,{"$nulls":9},0,null,null,0,""]
[8,{"$nulls":9},0,null,null,0,""]
[9,{"$nulls":9},0,null,null,0,""]
[10,{"$nulls":9},0,null,null,0,""]
[11,{"$nulls":9},0,null,null,0,""]
[12,{"$nulls":9},0,null,null,0,""]
[13,{"$nulls":9},0,null,null,0,""]
[14,{"$nulls":9},0,null,null,0,""]
[15,{"$nulls":9},0,null,null,0,""]
[16,{"$nulls":9},0,null,null,0,""]
[17,{"$nulls":9},0,null,null,0,""]
[18,{"$nulls":9},0,null,null,0,""]
[19,{"$nulls":9},0,null,null,0,""]
[20,{"$nulls":9},0,null,null,0,""]
[null,"סה\"כ:",{"$nulls":6},{"$f":"SUM(I3:I22)","v":0},null,{"$f":"SUM(K3:K22)","v":0},null,null,{"$f":"SUM(N3:N22)","v":0}]

{"sheet":"ניהול מאגד","index":9,"n_rows":23,"n_cols":15,"rows_kept":23,"merged":[[0,0,0,2],[0,9,0,10],[0,12,0,13],[22,1,22,7]]}
["12.2 הוצאות ניהול מאגד",{"$nulls":7},{"$f":"'ראשי-פרטים כלליים וריכוז הוצאות'!F5","v":"00:00:00"},"למילוי מנהל חשבונות",null,"הנה\"ח","למילוי ע\"י רכז התוכנית",null,"כלי סיוע"]
["מס' סד'","הפעילות","מטרה","הערות (אם יש)","מס' אסמכתא","תאריך אסמכתא","מטבע חשבונית ($,יורו וכו')","סכום במטבע חשבונית","הסכום המדווח בדו\"ח זה","נימוק לשינוי","סה\"כ סכום מומלץ",null,"נימוק לשינוי","סה\"כ תקציב מאושר "]
[1,{"$nulls":9},{"$f":"I3","v":0},null,null,{"$f":"K3","v":0},{"$f":"IF(COUNTA(B3:I3)=0,\"\",(IF(COUNTA(B3:I3)>=7,\"\",\"יש למלא את כל תאי הנתונים\")))","v":""}]
[2,{"$nulls":9},0,null,null,{"$f":"K4","v":0},""]
[3,{"$nulls":9},0,null,null,0,""]
[4,{"$nulls":9},0,null,null,0,""]
[5,{"$nulls":9},0,null,null,0,""]
[6,{"$nulls":9},0,null,null,0,""]
[7,{"$nulls":9},0,null,null,0,""]
[8,{"$nulls":9},0,null,null,0,""]
[9,{"$nulls":9},0,null,null,0,""]
[10,{"$nulls":9},0,null,null,0,""]
[11,{"$nulls":9},0,null,null,0,""]
[12,{"$nulls":9},0,null,null,0,""]
[13,{"$nulls":9},0,null,null,0,""]
[14,{"$nulls":9},0,null,null,0,""]
[15,{"$nulls":9},0,null,null,0,""]
[16,{"$nulls":9},0,null,null,0,""]
[17,{"$nulls":9},0,null,null,0,""]
[18,{"$nulls":9},0,null,null,0,""]
[19,{"$nulls":9},0,null,null,0,""]
[20,{"$nulls":9},0,null,null,0,""]
[null,"סה\"כ:",{"$nulls":6},{"$f":"SUM(I3:I22)","v":0},null,{"$f":"SUM(K3:K22)","v":0},null,null,{"$f":"SUM(N3:N22)","v":0}]

{"sheet":"דו\"ח התקדמות רבעוני","index":10,"n_rows":171,"n_cols":6,"rows_kept":171,"merged":[[0,1,0,3],[1,1,1,3],[2,1,2,3],[5,3,5,4]]}
["שם חברה:",{"$nulls":4},{"$f":"'ראשי-פרטים כלליים וריכוז הוצאות'!F5","v":"00:00:00"}]
["שם מאגד (עיר ומדינה)"]
["שוק יעד:"]
[]
[]
[null,null,"מאגדי תשתית - דו\"ח התקדמות  לרבעון:"]
[]
["הזן כאן: "]
{"$rows_empty":142}
["שנת 2014 רבעון 4"]
["שנת 2015 רבעון 1"]
["שנת 2015 רבעון 2"]
["שנת 2015 רבעון 3"]
["שנת 2015 רבעון 4"]
["שנת 2016 רבעון 1"]
["שנת 2016 רבעון 2"]
["שנת 2016 רבעון 3"]
["שנת 2016 רבעון 4"]
["שנת 2017 רבעון 1"]
["שנת 2017 רבעון 2"]
["שנת 2017 רבעון 3"]
["שנת 2017 רבעון 4"]
["שנת 2018 רבעון 1"]
["שנת 2018 רבעון 2"]
["שנת 2018 רבעון 3"]
["שנת 2018 רבעון 4"]
["שנת 2019 רבעון 1"]
["שנת 2019 רבעון 2"]
["שנת 2019 רבעון 3"]
["שנת 2019 רבעון 4"]

{"sheet":"דף ראשי סרוק","index":11,"n_rows":4,"n_cols":1,"rows_kept":4}
[]
["בגליון זה ניתן להדביק את העמוד הראשי החתום והסרוק של חוברת עבודה זו "]
["נא לבצע את הסריקה לאחר הזנת הנתונים המלאה, חתימה של המנכ\"ל ומנהל הכספים וחותמת החברה"]
["נא לשים לב לרזולוציית הסריקה, על מנת שהקובץ לא יחרוג בגודל ולהדביק את הקובץ בתוך המסגרת"]

{"sheet":"טיסות נסיעות ואשל","index":12,"n_rows":97,"n_cols":15,"rows_kept":97,"hidden":true,"merged":[[0,0,0,6],[0,10,0,11],[27,12,32,13],[28,8,35,9]]}
["טיסות נסיעות ואש\"ל (בכל שורה יש להזין נוסע אחד ונסיעה אחת) הזנה בש\"ח בלבד",{"$nulls":7},"תאריך:",{"$f":"'ראשי-פרטים כלליים וריכוז הוצאות'!F5","v":"00:00:00"},"למילוי ע\"י הבודק"]
["מס' סד'","שם+תפקיד","יעד הנסיעה","חודש מתוכנן לנסיעה","משך נסיעה (ימים)","עלות טיסה בש\"ח","עלות נסיעה אל שדה התעופה וחזרה","עלות אש\"ל לכל ימי הנסיעה","הסכום ששולם בש\"ח ","הסכום בו ניתן להכיר מוגבל בתקרות אש\"ל","נימוק לשינוי","סה\"כ סכום מומלץ בש\"ח "]
[1,{"$nulls":7},{"$f":"IF(COUNTA(B3:D3)=3,H3+G3+F3,0)","v":0},{"$f":"IF(COUNTA(B3:D3)=3,IF(E3>0,(IF((H3/E3)>1000,(1000*E3)+G3+F3,H3+G3+F3)),G3+F3),0)","v":0},null,{"$f":"J3","v":0},null,null,{"$f":"IF(AND(E3=0,H3>0),\"משך הנסיעה לא דווח ולכן לא יכלל האשל בסכום הסופי\",( IF(E3>0,IF(H3/E3>700,\"דיווח הוצאות האשל חרג מסך של 700 שח ליום ולכן הוגבל\",\"\"),\"\")))","v":""}]
[2,{"$nulls":7},0,{"$f":"IF(COUNTA(B4:D4)=3,IF(E4>0,(IF((H4/E4)>1000,(1000*E4)+G4+F4,H4+G4+F4)),G4+F4),0)","v":0},null,{"$f":"J4","v":0},null,null,{"$f":"IF(AND(E4=0,H4>0),\"משך הנסיעה לא דווח ולכן לא יכלל האשל בסכום הסופי\",( IF(E4>0,IF(H4/E4>700,\"דיווח הוצאות האשל חרג מסך של 700 שח ליום ולכן הוגבל\",\"\"),\"\")))","v":""}]
[3,{"$nulls":7},0,0,null,0,null,null,""]
[4,{"$nulls":7},0,0,null,0,null,null,""]
[5,{"$nulls":7},0,0,null,0,null,null,""]
[6,{"$nulls":7},0,0,null,0,null,null,""]
[7,{"$nulls":7},0,0,null,0,null,null,""]
[8,{"$nulls":7},0,0,null,0,null,null,""]
[9,{"$nulls":7},0,0,null,0,null,null,""]
[10,{"$nulls":7},0,0,null,0,null,null,""]
[11,{"$nulls":7},0,0,null,0,null,null,""]
[12,{"$nulls":7},0,0,null,0,null,null,""]
[13,{"$nulls":7},0,0,null,0,null,null,""]
[14,{"$nulls":7},0,0,null,0,null,null,""]
[15,{"$nulls":7},{"$f":"IF(COUNTA(B17:D17)=3,H17+G17+F17,0)","v":0},0,null,{"$f":"J17","v":0}]
[16,{"$nulls":7},0,0,null,0]
[17,{"$nulls":7},0,0,null,0]
[18,{"$nulls":7},0,0,null,0]
[19,{"$nulls":7},0,0,null,0]
[20,{"$nulls":7},0,0,null,0,null,null,""]
[21,{"$nulls":7},0,0,null,0,null,null,""]
[22,{"$nulls":7},0,0,null,0,null,null,""]
[23,{"$nulls":7},0,0,null,0,null,null,""]
[24,{"$nulls":7},0,0,null,0,null,null,""]
[25,{"$nulls":7},0,0,null,0,null,null,""]
[null,"סה\"כ",{"$nulls":6},{"$f":"SUM(I3:I27)","v":0},{"$f":"SUM(J3:J27)","v":0},null,{"$f":"MIN(SUM(L3:L27),0.2*('ראשי-פרטים כלליים וריכוז הוצאות'!C21+'ראשי-פרטים כלליים וריכוז הוצאות'!C25+'ראשי-פרטים כלליים וריכוז הוצאות'!C26+'ראשי-פרטים כלליים וריכוז הוצאות'!C29+'ראשי-פרטים כלליים וריכוז הוצאות'!#REF!+'ראשי-פרטים כלליים וריכוז הוצאות'!#REF!)/0.8)","v":{"$error":"#REF!"}},{"$f":"IF(((('ראשי-פרטים כלליים וריכוז הוצאות'!C21+'ראשי-פרטים כלליים וריכוז הוצאות'!C25+'ראשי-פרטים כלליים וריכוז הוצאות'!C26+'ראשי-פרטים כלליים וריכוז הוצאות'!C29+'ראשי-פרטים כלליים וריכוז הוצאות'!#REF!+'ראשי-פרטים כלליים וריכוז הוצאות'!#REF!)/0.8)*0.2)<(SUM(L1:L27)),\"בודק יקר שים לב שהתקציב לסעיף הוגבל אוטומטית ל-20 אחוז מהתקציב הסופי\",\"\")","v":{"$error":"#REF!"}}]
[{"$nulls":8},{"$f":"IF('ראשי-פרטים כלליים וריכוז הוצאות'!C30=0,\"\",IF('טיסות נסיעות ואשל'!J28/('ראשי-פרטים כלליים וריכוז הוצאות'!C21+'ראשי-פרטים כלליים וריכוז הוצאות'!C25+'ראשי-פרטים כלליים וריכוז הוצאות'!C26+'ראשי-פרטים כלליים וריכוז הוצאות'!C29+'ראשי-פרטים כלליים וריכוז הוצאות'!#REF!+'ראשי-פרטים כלליים וריכוז הוצאות'!#REF!+'טיסות נסיעות ואשל'!J28)>0.2,\"לתשומת ליבכם - מחישוב הסכומים שהוזנו עד כה צפוי שהסכום הסופי לסעיף נסיעות יוגבל בגליון המרכז לתקרה של 20 אחוז וזאת על פי ההנחיות\",\"\"))","v":""}]
{"$rows_empty":20}
["2011-01-01"]
["2011-02-01"]
["2011-03-01"]
["2011-04-01"]
["2011-05-01"]
["2011-06-01"]
["2011-07-01"]
["2011-08-01"]
["2011-09-01"]
["2011-10-01"]
["2011-11-01"]
["2011-12-01"]
["2012-01-01"]
["2012-02-01"]
["2012-03-01"]
["2012-04-01"]
["2012-05-01"]
["2012-06-01"]
["2012-07-01"]
["2012-08-01"]
["2012-09-01"]
["2012-10-01"]
["2012-11-01"]
["2012-12-01"]
["2013-01-01"]
["2013-02-01"]
["2013-03-01"]
["2013-04-01"]
["2013-05-01"]
["2013-06-01"]
["2013-07-01"]
["2013-08-01"]
["2013-09-01"]
["2013-10-01"]
["2013-11-01"]
["2013-12-01"]
["2014-01-01"]
["2014-02-01"]
["2014-03-01"]
["2014-04-01"]
["2014-05-01"]
["2014-06-01"]
["2014-07-01"]
["2014-08-01"]
["2014-09-01"]
["2014-10-01"]
["2014-11-01"]
["2014-12-01"]