Workbook
Name ViewSelectorLinks02: מכירות [1]ללקוח!$E$12
Name ViewSelectorLinks02: מכירות [1]ללקוח!$E$12
Name ViewSelectorLinks02: מכירות [1]ללקוח!$E$12
Name ViewSelectorLinks02: מכירות [1]ללקוח!$E$12
Name ViewSelectorLinks02: מכירות [1]ללקוח!$E$12
Name ViewSelectorLinks02: מכירות [1]ללקוח!$E$12
Name ViewSelectorLinks02: מכירות [1]ללקוח!$E$12
Name ViewSelectorLinks02: מכירות [1]ללקוח!$E$12
Name ViewSelectorLinks02: מכירות [1]ללקוח!$E$12
Name ViewSelectorLinks02\x7eChartTrand: מכירות [1]ללקוח!$E$12
Name ViewSelectorLinks02\x7eChartTrand: מכירות [1]ללקוח!$E$12
Name ViewSelectorLinks02\x7eChartTrand: מכירות [1]ללקוח!$E$12
Name ViewSelectorLinks02\x7eChartTrand: מכירות [1]ללקוח!$E$12
Name ViewSelectorLinks02\x7eChartTrand: מכירות [1]ללקוח!$E$12
Name ViewSelectorLinks02\x7eChartTrand: מכירות [1]ללקוח!$E$12
Name ViewSelectorLinks02\x7eChartTrand: מכירות [1]ללקוח!$E$12
Name ViewSelectorLinks02\x7eChartTrand: מכירות [1]ללקוח!$E$12
Name ViewSelectorLinks02\x7eChartTrand: מכירות [1]ללקוח!$E$12
Name ViewSelectorRepLink21: מכירות [1]ללקוח!$E$12
Name ViewSelectorRepLink21: מכירות [1]ללקוח!$E$12
Name ViewSelectorRepLink21: מכירות [1]ללקוח!$E$12
Name ViewSelectorRepLink21: מכירות [1]ללקוח!$E$12
Name ViewSelectorRepLink21: מכירות [1]ללקוח!$E$12
Name ViewSelectorRepLink21: מכירות [1]ללקוח!$E$12
Name ViewSelectorRepLink21: מכירות [1]ללקוח!$E$12
Name ViewSelectorRepLink21: מכירות [1]ללקוח!$E$12
Name ViewSelectorRepLink21: מכירות [1]ללקוח!$E$12
Name ViewSelectorRepLink22: מכירות [1]ללקוח!$E$12
Name ViewSelectorRepLink22: מכירות [1]ללקוח!$E$12
Name ViewSelectorRepLink22: מכירות [1]ללקוח!$E$12
Name ViewSelectorRepLink22: מכירות [1]ללקוח!$E$12
Name ViewSelectorRepLink22: מכירות [1]ללקוח!$E$12
Name ViewSelectorRepLink22: מכירות [1]ללקוח!$E$12
Name ViewSelectorRepLink22: מכירות [1]ללקוח!$E$12
Name ViewSelectorRepLink22: מכירות [1]ללקוח!$E$12
Name ViewSelectorRepLink22: מכירות [1]ללקוח!$E$12
Name ViewSelectorRepLink23: מכירות [1]ללקוח!$E$12
Name ViewSelectorRepLink23: מכירות [1]ללקוח!$E$12
Name ViewSelectorRepLink23: מכירות [1]ללקוח!$E$12
Name ViewSelectorRepLink23: מכירות [1]ללקוח!$E$12
Name ViewSelectorRepLink23: מכירות [1]ללקוח!$E$12
Name ViewSelectorRepLink23: מכירות [1]ללקוח!$E$12
Name ViewSelectorRepLink23: מכירות [1]ללקוח!$E$12
Name ViewSelectorRepLink23: מכירות [1]ללקוח!$E$12
Name ViewSelectorRepLink23: מכירות [1]ללקוח!$E$12

Sheet תמחיר-מוצרי החקירה (2)
A1: התמחיר בפועל | B1: הנתונים באלפי ₪
A2: יש להגיש נתונים ביחס למוצרי החקירה אשר מהווים 80% לפחות ממכירות החברה בערכים כספיים | K2: התמחיר המותאם ל - LME 10000
A3: שנה | B3: 2019 | K3: שנה | L3: 2019
A4: מרכיב | B4: =+'[2]N2XY5X16 '!$C$5 -> N2XY 5X16 | C4: =+'[2]N2XY5X10 '!$C$6 -> N2XY 5X10 | D4: =+'[2]N2XY5X6 '!$C$5 -> N2XY 5X6 | E4: =+'[2]N2XY 3X2.5 '!$C$5 -> N2XY 3X2.5 | F4: =+'[2]N2XY 3X1.5'!$C$5 -> N2XY 3X1.5 | G4: =+'[2]NYA2.5'!$C$5 -> NYA-1*2.5 | H4: =+'[2]NYA2.5'!$C$5 -> NYA-1*2.5 | I4: סה"כ | K4: מרכיב | L4: שם מוצר 1 | M4: שם מוצר 2 | N4: שם מוצר ... | O4: שם מוצר 10
A5: מכירות (אלפי ₪) | B5: ='[3]ריכוז דוח רווה"פ שנתיים- מדגם'!$L$18/1000 -> 3214.152 | C5: ='[3]ריכוז דוח רווה"פ שנתיים- מדגם'!$L$35/1000 -> 3491.178 | D5: ='[3]ריכוז דוח רווה"פ שנתיים- מדגם'!$L$51/1000 -> 1153.485 | E5: ='[3]ריכוז דוח רווה"פ שנתיים- מדגם'!$L$67/1000 -> 3901.336 | F5: ='[3]ריכוז דוח רווה"פ שנתיים- מדגם'!$L$83/1000 -> 3774.742 | G5: ='[3]ריכוז דוח רווה"פ שנתיים- מדגם'!$L$100/1000 -> 6606.375 | H5: ='[3]ריכוז דוח רווה"פ שנתיים- מדגם'!$L$116/1000 -> 4860.586 | I5: =SUM(B5:H5) -> 27001.854 | K5: מחיר מכירה ממוצע לתקופה, ₪ קילומטר | U5: הוצ' מימון 2021 | W5: 9167
A6: עלות חו"ג, אלפי ₪ לקילומטר | B6: =('[3]ריכוז דוח רווה"פ שנתיים- מדגם'!$O$18/1000)-B7-B8 -> 67.04 | C6: =('[3]ריכוז דוח רווה"פ שנתיים- מדגם'!$O$35/1000)-C7-C8 -> 73.425 | D6: =('[3]ריכוז דוח רווה"פ שנתיים- מדגם'!$O$51/1000)-D7-D8 -> 40.65 | E6: =('[3]ריכוז דוח רווה"פ שנתיים- מדגם'!$O$67/1000)-E7-E8 -> 78.075 | F6: =('[3]ריכוז דוח רווה"פ שנתיים- מדגם'!$O$83/1000)-F7-F8 -> 101.557 | G6: =('[3]ריכוז דוח רווה"פ שנתיים- מדגם'!$O$100/1000)-G7-G8 -> 211.23 | H6: =('[3]ריכוז דוח רווה"פ שנתיים- מדגם'!$O$116/1000)-H7-H8 -> 150.898 | I6: =SUM(B6:H6) -> 722.875 | K6: עלות חו"ג, ₪ לקילומטר | V6: IFRS | W6: -1656
A7: עבודה, אלפי ₪ לקילומטר | B7: ='[3]ריכוז דוח רווה"פ שנתיים- מדגם'!$M$18/1000 -> 2985.378 | C7: ='[3]ריכוז דוח רווה"פ שנתיים- מדגם'!$M$35/1000 -> 3353.482 | D7: ='[3]ריכוז דוח רווה"פ שנתיים- מדגם'!$M$51/1000 -> 1028.874 | E7: ='[3]ריכוז דוח רווה"פ שנתיים- מדגם'!$M$67/1000 -> 3303.471 | F7: ='[3]ריכוז דוח רווה"פ שנתיים- מדגם'!$M$83/1000 -> 3279.954 | G7: ='[3]ריכוז דוח רווה"פ שנתיים- מדגם'!$M$100/1000 -> 5819.012 | H7: ='[3]ריכוז דוח רווה"פ שנתיים- מדגם'!$M$116/1000 -> 4143.314 | I7: =SUM(B7:H7) -> 23913.485 | K7: עבודה, ₪ לקילומטר | V7: הלואת בעלים | W7: -1755
A8: אנרגיה/חרושת, אלפי ₪ לקילומטר | B8: ='[3]ריכוז דוח רווה"פ שנתיים- מדגם'!$N$18/1000 -> 162.56 | C8: ='[3]ריכוז דוח רווה"פ שנתיים- מדגם'!$N$35/1000 -> 206.925 | D8: ='[3]ריכוז דוח רווה"פ שנתיים- מדגם'!$N$51/1000 -> 69.6 | E8: ='[3]ריכוז דוח רווה"פ שנתיים- מדגם'!$N$67/1000 -> 163.09 | F8: ='[3]ריכוז דוח רווה"פ שנתיים- מדגם'!$N$83/1000 -> 213.022 | G8: ='[3]ריכוז דוח רווה"פ שנתיים- מדגם'!$N$100/1000 -> 258.17 | H8: ='[3]ריכוז דוח רווה"פ שנתיים- מדגם'!$N$116/1000 -> 258.429 | I8: =SUM(B8:H8) -> 1331.796 | K8: אנרגיה/חרושת, ₪ לקילומטר | W8: =SUM(W5:W7) -> 5756
A9: רווח גולמי, אלפי ₪ לקילומטר | B9: =+B5-B6-B7-B8 -> -0.826 | C9: =+C5-C6-C7-C8 -> -142.654 | D9: =+D5-D6-D7-D8 -> 14.361 | E9: =+E5-E6-E7-E8 -> 356.7 | F9: =+F5-F6-F7-F8 -> 180.209 | G9: =+G5-G6-G7-G8 -> 317.963 | H9: =+H5-H6-H7-H8 -> 307.945 | I9: =SUM(B9:H9) -> 1033.698 | K9: רווח גולמי, ₪ לקילומטר
A10: הוצאות הנהלה וכלליות, אלפי ₪ לקילומטר | B10: 77 | C10: 77 | D10: 38 | E10: 101 | F10: ='[3]ריכוז דוח רווה"פ שנתיים- מדגם'!$P$83/1000 -> 81.741 | G10: 194 | H10: 130 | I10: =SUM(B10:H10) -> 698.741 | K10: הוצאות הנהלה וכלליות, ₪ לקילומטר | U10: מכירות | W10: 323226
A11: הוצאות מכירה ושיווק, אלפי ₪ לקילומטר | I11: =SUM(B11:H11) -> 0 | K11: הוצאות מכירה ושיווק, ₪ לקילומטר
A12: רווח תפעולי,אלפי ₪ לקילומטר | B12: =+B9-B10 -> -77.826 | C12: =+C9-C10 -> -219.654 | D12: =+D9-D10 -> -23.639 | E12: =+E9-E10 -> 255.7 | F12: =+F9-F10 -> 98.468 | G12: =+G9-G10 -> 123.963 | H12: =+H9-H10 -> 177.945 | I12: =SUM(B12:H12) -> 334.957 | K12: רווח תפעולי, ₪ לקילומטר | U12: מכירות מתח נמוך | W12: 102000
A13: הוצאות מימון, אלפי ₪ לקילומטר | I13: =SUM(B13:H13) -> 0 | K13: הוצאות מימון, ₪ לקילומטר
A14: הוצאות/הכנסות אחרות, אלפי ₪ לקילומטר | I14: =SUM(B14:H14) -> 0 | K14: הוצאות/הכנסות אחרות, ₪ לקילומטר | U14: אחוז הוצ' המימון ליחוס | W14: =W12/W10*W8 -> 1816.4133
A15: רווח לפני מס, אלפי ₪ לקילומטר | B15: =B12-B13-B14 -> -77.826 | C15: =C12-C13-C14 -> -219.654 | D15: =D12-D13-D14 -> -23.639 | E15: =E12-E13-E14 -> 255.7 | F15: =F12-F13-F14 -> 98.468 | G15: =G12-G13-G14 -> 123.963 | H15: =H12-H13-H14 -> 177.945 | I15: =SUM(B15:H15) -> 334.957 | J15: 248 | K15: רווח לפני מס, ₪ לקילומטר
W16: =W14/W12 -> 0.017807973
A18: התמחיר בפועל | B18: הנתונים באלפי ₪ | K18: התמחיר המותאם ל - LME 10000
A19: שנה | B19: 2020 | K19: שנה | L19: 2020
A20: מרכיב | B20: =+'[2]N2XY5X16 '!$C$5 -> N2XY 5X16 | C20: =+'[2]N2XY5X10 '!$C$6 -> N2XY 5X10 | D20: =+'[2]N2XY5X6 '!$C$5 -> N2XY 5X6 | E20: =+'[2]N2XY 3X2.5 '!$C$5 -> N2XY 3X2.5 | F20: =+'[2]N2XY 3X1.5'!$C$5 -> N2XY 3X1.5 | G20: =+'[2]NYA2.5'!$C$5 -> NYA-1*2.5 | H20: =+'[2]NYA2.5'!$C$5 -> NYA-1*2.5 | I20: סה"כ | K20: מרכיב | L20: שם מוצר 1 | M20: שם מוצר 2 | N20: שם מוצר ... | O20: שם מוצר 10
A21: מכירות (אלפי ₪) | B21: ='[3]ריכוז דוח רווה"פ שנתיים- מדגם'!$AA$18/1000 -> 4567.034 | C21: ='[3]ריכוז דוח רווה"פ שנתיים- מדגם'!$AA$35/1000 -> 6247.482 | D21: ='[3]ריכוז דוח רווה"פ שנתיים- מדגם'!$AA$51/1000 -> 1204.866 | E21: ='[3]ריכוז דוח רווה"פ שנתיים- מדגם'!$AA$67/1000 -> 4705.932 | F21: ='[3]ריכוז דוח רווה"פ שנתיים- מדגם'!$AA$83/1000 -> 4258.844 | G21: ='[3]ריכוז דוח רווה"פ שנתיים- מדגם'!$AA$100/1000 -> 11098.689 | H21: ='[3]ריכוז דוח רווה"פ שנתיים- מדגם'!$AA$116/1000 -> 8581.559 | I21: =SUM(B21:H21) -> 40664.406 | K21: מחיר מכירה ממוצע לתקופה, ₪ קילומטר
A22: עלות חו"ג, אלפי ₪ לקילומטר | B22: =('[3]ריכוז דוח רווה"פ שנתיים- מדגם'!$AD$18/1000)-B23-B24 -> -232.664 | C22: =('[3]ריכוז דוח רווה"פ שנתיים- מדגם'!$AD$35/1000)-C23-C24 -> -373.55 | D22: =('[3]ריכוז דוח רווה"פ שנתיים- מדגם'!$AD$51/1000)-D23-D24 -> -71.92 | E22: =('[3]ריכוז דוח רווה"פ שנתיים- מדגם'!$AD$67/1000)-E23-E24 -> -202.421 | F22: =('[3]ריכוז דוח רווה"פ שנתיים- מדגם'!$AD$83/1000)-F23-F24 -> -245.96 | G22: =('[3]ריכוז דוח רווה"פ שנתיים- מדגם'!$AD$100/1000)-G23-G24 -> -441.342 | H22: =('[3]ריכוז דוח רווה"פ שנתיים- מדגם'!$AD$116/1000)-H23-H24 -> -449.094 | I22: =SUM(B22:H22) -> -2016.951 | K22: עלות חו"ג, ₪ לקילומטר
A23: עבודה, אלפי ₪ לקילומטר | B23: ='[3]ריכוז דוח רווה"פ שנתיים- מדגם'!$AC$18/1000 -> 232.664 | C23: ='[3]ריכוז דוח רווה"פ שנתיים- מדגם'!$AC$35/1000 -> 373.55 | D23: ='[3]ריכוז דוח רווה"פ שנתיים- מדגם'!$AC$51/1000 -> 71.92 | E23: ='[3]ריכוז דוח רווה"פ שנתיים- מדגם'!$AC$67/1000 -> 202.421 | F23: ='[3]ריכוז דוח רווה"פ שנתיים- מדגם'!$AC$83/1000 -> 245.96 | G23: ='[3]ריכוז דוח רווה"פ שנתיים- מדגם'!$AC$100/1000 -> 441.342 | H23: ='[3]ריכוז דוח רווה"פ שנתיים- מדגם'!$AC$116/1000 -> 449.094 | I23: =SUM(B23:H23) -> 2016.951 | K23: עבודה, ₪ לקילומטר
A24: אנרגיה/חרושת, אלפי ₪ לקילומטר | B24: ='[3]ריכוז דוח רווה"פ שנתיים- מדגם'!$AD$18/1000 -> 4698.932 | C24: ='[3]ריכוז דוח רווה"פ שנתיים- מדגם'!$AD$35/1000 -> 6684.874 | D24: ='[3]ריכוז דוח רווה"פ שנתיים- מדגם'!$AD$51/1000 -> 1214.054 | E24: ='[3]ריכוז דוח רווה"פ שנתיים- מדגם'!$AD$67/1000 -> 4369.369 | F24: ='[3]ריכוז דוח רווה"פ שנתיים- מדגם'!$AD$83/1000 -> 4141.622 | G24: ='[3]ריכוז דוח רווה"פ שנתיים- מדגם'!$AD$100/1000 -> 11006.153 | H24: ='[3]ריכוז דוח רווה"פ שנתיים- מדגם'!$AD$116/1000 -> 8347.81 | I24: =SUM(B24:H24) -> 40462.814 | K24: אנרגיה/חרושת, ₪ לקילומטר
A25: רווח גולמי, אלפי ₪ לקילומטר | B25: =+B21-B22-B23-B24 -> -131.898 | C25: =+C21-C22-C23-C24 -> -437.392 | D25: =+D21-D22-D23-D24 -> -9.188 | E25: =+E21-E22-E23-E24 -> 336.563 | F25: =+F21-F22-F23-F24 -> 117.222 | G25: =+G21-G22-G23-G24 -> 92.536 | H25: =+H21-H22-H23-H24 -> 233.749 | I25: =SUM(B25:H25) -> 201.592 | K25: רווח גולמי, ₪ לקילומטר
A26: הוצאות הנהלה וכלליות, אלפי ₪ לקילומטר | B26: 106 | C26: 133 | D26: 38 | E26: ='[3]ריכוז דוח רווה"פ שנתיים- מדגם'!$AE$67/1000 -> 124.12 | F26: ='[3]ריכוז דוח רווה"פ שנתיים- מדגם'!$AE$83/1000 -> 91.52 | G26: 330 | H26: 227 | I26: =SUM(B26:H26) -> 1049.64 | K26: הוצאות הנהלה וכלליות, ₪ לקילומטר
A27: הוצאות מכירה ושיווק, אלפי ₪ לקילומטר | I27: =SUM(B27:H27) -> 0 | K27: הוצאות מכירה ושיווק, ₪ לקילומטר
A28: רווח תפעולי,אלפי ₪ לקילומטר | B28: =+B25-B26 -> -237.898 | C28: =+C25-C26 -> -570.392 | D28: =+D25-D26 -> -47.188 | E28: =+E25-E26 -> 212.443 | F28: =+F25-F26 -> 25.702 | G28: =+G25-G26 -> -237.464 | H28: =+H25-H26 -> 6.749 | I28: =SUM(B28:H28) -> -848.048 | K28: רווח תפעולי, ₪ לקילומטר
A29: הוצאות מימון, אלפי ₪ לקילומטר | I29: =SUM(B29:H29) -> 0 | K29: הוצאות מימון, ₪ לקילומטר
A30: הוצאות/הכנסות אחרות, אלפי ₪ לקילומטר | I30: =SUM(B30:H30) -> 0 | K30: הוצאות/הכנסות אחרות, ₪ לקילומטר
A31: רווח לפני מס, אלפי ₪ לקילומטר | B31: =B28-B29-B30 -> -237.898 | C31: =C28-C29-C30 -> -570.392 | D31: =D28-D29-D30 -> -47.188 | E31: =E28-E29-E30 -> 212.443 | F31: =F28-F29-F30 -> 25.702 | G31: =G28-G29-G30 -> -237.464 | H31: =H28-H29-H30 -> 6.749 | I31: =SUM(B31:H31) -> -848.048 | J31: -995 | K31: רווח לפני מס, ₪ לקילומטר
A34: התמחיר בפועל | B34: הנתונים באלפי ₪ | K34: התמחיר המותאם ל - LME 10000
A35: שנה | B35: 2021 | K35: שנה | L35: 2021
A36: מרכיב | B36: =+'[2]N2XY5X16 '!$C$5 -> N2XY 5X16 | C36: =+'[2]N2XY5X10 '!$C$6 -> N2XY 5X10 | D36: =+'[2]N2XY5X6 '!$C$5 -> N2XY 5X6 | E36: =+'[2]N2XY 3X2.5 '!$C$5 -> N2XY 3X2.5 | F36: =+'[2]N2XY 3X1.5'!$C$5 -> N2XY 3X1.5 | G36: =+'[2]NYA2.5'!$C$5 -> NYA-1*2.5 | H36: =+'[2]NYA2.5'!$C$5 -> NYA-1*2.5 | I36: סה"כ | K36: מרכיב | L36: שם מוצר 1 | M36: שם מוצר 2 | N36: שם מוצר ... | O36: שם מוצר 10
A37: מכירות (אלפי ₪) | B37: ='[3]ריכוז דוח רווה"פ שנתיים- מדגם'!$AP$18/1000 -> 5505.852 | C37: ='[3]ריכוז דוח רווה"פ שנתיים- מדגם'!$AP$35/1000 -> 7883.874 | D37: ='[3]ריכוז דוח רווה"פ שנתיים- מדגם'!$AP$51/1000 -> 2825.922 | E37: ='[3]ריכוז דוח רווה"פ שנתיים- מדגם'!$AP$67/1000 -> 9427.129 | F37: ='[3]ריכוז דוח רווה"פ שנתיים- מדגם'!$AP$83/1000 -> 8917.932 | G37: ='[3]ריכוז דוח רווה"פ שנתיים- מדגם'!$AP$100/1000 -> 18212.958 | H37: ='[3]ריכוז דוח רווה"פ שנתיים- מדגם'!$AP$116/1000 -> 13538.327 | I37: =SUM(B37:H37) -> 66311.994 | K37: מחיר מכירה ממוצע לתקופה, ₪ קילומטר
A38: עלות חו"ג, אלפי ₪ לקילומטר | B38: =('[3]ריכוז דוח רווה"פ שנתיים- מדגם'!$AS$18/1000)-B39-B40 -> -86 | C38: =('[3]ריכוז דוח רווה"פ שנתיים- מדגם'!$AS$35/1000)-C39-C40 -> 7420.736 | D38: =('[3]ריכוז דוח רווה"פ שנתיים- מדגם'!$AS$51/1000)-D39-D40 -> 2479.202 | E38: =('[3]ריכוז דוח רווה"פ שנתיים- מדגם'!$AS$67/1000)-E39-E40 -> 8157.487 | F38: =('[3]ריכוז דוח רווה"פ שנתיים- מדגם'!$AS$83/1000)-F39-F40 -> 8051.552 | G38: =('[3]ריכוז דוח רווה"פ שנתיים- מדגם'!$AS$100/1000)-G39-G40 -> 16555.06 | H38: =('[3]ריכוז דוח רווה"פ שנתיים- מדגם'!$AS$116/1000)-H39-H40 -> 12107.366 | I38: =SUM(B38:H38) -> 54685.403 | K38: עלות חו"ג, ₪ לקילומטר
A39: עבודה, אלפי ₪ לקילומטר | B39: ='[3]ריכוז דוח רווה"פ שנתיים- מדגם'!$AS$18/1000 -> 5352.881 | C39: 353 | D39: 125 | E39: 303 | F39: 396 | G39: 524 | H39: 534 | I39: =SUM(B39:H39) -> 7587.881 | K39: עבודה, ₪ לקילומטר
A40: אנרגיה/חרושת, אלפי ₪ לקילומטר | B40: 86 | C40: ='[3]ריכוז דוח רווה"פ שנתיים- מדגם'!$AT$35/1000 -> 161.789 | D40: ='[3]ריכוז דוח רווה"פ שנתיים- מדגם'!$AT$51/1000 -> 76.953 | E40: ='[3]ריכוז דוח רווה"פ שנתיים- מדגם'!$AT$67/1000 -> 180.488 | F40: ='[3]ריכוז דוח רווה"פ שנתיים- מדגם'!$AT$83/1000 -> 161.035 | G40: ='[3]ריכוז דוח רווה"פ שנתיים- מדגם'!$AT$100/1000 -> 452.314 | H40: ='[3]ריכוז דוח רווה"פ שנתיים- מדגם'!$AT$116/1000 -> 309.199 | I40: =SUM(B40:H40) -> 1427.778 | K40: אנרגיה/חרושת, ₪ לקילומטר
A41: רווח גולמי, אלפי ₪ לקילומטר | B41: =+B37-B38-B39-B40 -> 152.971 | C41: =+C37-C38-C39-C40 -> -51.651 | D41: =+D37-D38-D39-D40 -> 144.767 | E41: =+E37-E38-E39-E40 -> 786.154 | F41: =+F37-F38-F39-F40 -> 309.345 | G41: =+G37-G38-G39-G40 -> 681.584 | H41: =+H37-H38-H39-H40 -> 587.762 | I41: =SUM(B41:H41) -> 2610.932 | K41: רווח גולמי, ₪ לקילומטר
A42: הוצאות הנהלה וכלליות, אלפי ₪ לקילומטר | B42: 88 | C42: 125 | D42: 65 | E42: ='[3]ריכוז דוח רווה"פ שנתיים- מדגם'!$AT$67/1000 -> 180.488 | F42: ='[3]ריכוז דוח רווה"פ שנתיים- מדגם'!$AT$83/1000 -> 161.035 | G42: 369 | H42: 249 | I42: =SUM(B42:H42) -> 1237.523 | K42: הוצאות הנהלה וכלליות, ₪ לקילומטר
A43: הוצאות מכירה ושיווק, אלפי ₪ לקילומטר | I43: =SUM(B43:H43) -> 0 | K43: הוצאות מכירה ושיווק, ₪ לקילומטר
...

Sheet דוחות רווח והפסד
A1: דוח רווח והפסד - השוק הישראלי - מוצרי חקירת ההיצף - ייצור מוצר מקומי בלבד, ₪ אלפי ₪
A2: תקופה | B2: הכנסות | C2: עלות המכירות | D2: רווח גולמי | E2: הוצאות מכירה | F2: הוצאות הנהלה וכלליות | G2: רווח תפעולי | H2: הוצאות מימון, נטו | I2: רווח לאחר מימון | J2: הוצאות אחרות | K2: רווח לפני מס | L2: מסים | M2: רווח נקי
A3: Q1 2020
A4: Q2 2020
A5: Q3 2020
A6: Q4 2020
A7: סה"כ 2020
A8: Q1 2021
A9: Q2 2021
A10: Q3 2021
A11: Q4 2021
A12: סה"כ 2021
A13: Q1 2022
A14: Q2 2022
... A24: דוח רווח והפסד - השוק הישראלי - מוצרי חקירת ההיצף -ייבוא בלבד (למילוי במידה וקיים יבוא ע"י בית העסק) , ₪ אלפי ₪
A25: תקופה | B25: הכנסות | C25: עלות המכירות | D25: רווח גולמי | E25: הוצאות מכירה | F25: הוצאות הנהלה וכלליות | G25: רווח תפעולי | H25: הוצאות מימון, נטו | I25: רווח לאחר מימון | J25: הוצאות אחרות | K25: רווח לפני מס | L25: מסים | M25: רווח נקי
A26: Q1 2020
A27: Q2 2020
A28: Q3 2020
A29: Q4 2020
A30: סה"כ 2020
A31: Q1 2021
A32: Q2 2021
A33: Q3 2021
A34: Q4 2021
A35: סה"כ 2021
A36: Q1 2022
A37: Q2 2022
... A47: דוח רווח והפסד - כלל החברה, ₪
A48: תקופה | B48: הכנסות | C48: עלות המכירות | D48: רווח גולמי | E48: הוצאות מכירה | F48: הוצאות הנהלה וכלליות | G48: רווח תפעולי | H48: הוצאות מימון, נטו | I48: רווח לאחר מימון | J48: הוצאות אחרות | K48: רווח לפני מס | L48: מסים | M48: רווח נקי
A49: Q1 2020
A50: Q2 2020
A51: Q3 2020
A52: Q4 2020
A53: סה"כ 2020
A54: Q1 2021
A55: Q2 2021
A56: Q3 2021
A57: Q4 2021
A58: סה"כ 2021
...

Sheet מכירות ומחירים - השוק הישראלי
A1: היקף מכירות מוצרי חקירת ההיצף שיוצרו ונמכרו בישראל
A3: מכירות, 1 ק"ג
A4: תקופה | B4: מוצר 1 | C4: מוצר 2 | D4: מוצר 3 | E4: מוצר 4 | F4: מוצר 5 | G4: מוצר 6 | H4: מוצר 7 | I4: מוצר 8 | J4: סה"כ
B5: צורת המוצר | C5: צורת המוצר | D5: צורת המוצר | E5: צורת המוצר | F5: צורת המוצר | G5: צורת המוצר | H5: צורת המוצר | I5: צורת המוצר
B6: חומרים פעילים | C6: חומרים פעילים | D6: חומרים פעילים | E6: חומרים פעילים | F6: חומרים פעילים | G6: חומרים פעילים | H6: חומרים פעילים | I6: חומרים פעילים
A7: Q1 2020
A8: Q2 2020
A9: Q3 2020
A10: Q4 2020
A11: סה"כ 2020
A12: Q1 2021
A13: Q2 2021
A14: Q3 2021
A15: Q4 2021
A16: סה"כ 2021
A17: Q1 2022
A18: Q2 2022
... A29: מחירים, ₪ לק"ג
A30: תקופה | B30: מוצר 1 | C30: מוצר 2 | D30: מוצר 3 | E30: מוצר 4 | F30: מוצר 5 | G30: מוצר 6 | H30: מוצר 7 | I30: מוצר 8 | J30: סה"כ
B31: צורת המוצר | C31: צורת המוצר | D31: צורת המוצר | E31: צורת המוצר | F31: צורת המוצר | G31: צורת המוצר | H31: צורת המוצר | I31: צורת המוצר
B32: חומרים פעילים | C32: חומרים פעילים | D32: חומרים פעילים | E32: חומרים פעילים | F32: חומרים פעילים | G32: חומרים פעילים | H32: חומרים פעילים | I32: חומרים פעילים
A33: Q1 2020
A34: Q2 2020
A35: Q3 2020
A36: Q4 2020
A37: סה"כ 2020
A38: Q1 2021
A39: Q2 2021
A40: Q3 2021
A41: Q4 2021
A42: סה"כ 2021
A43: Q1 2022
A44: Q2 2022
... A55: מחירים, $ לק"ג
A56: תקופה | B56: מוצר 1 | C56: מוצר 2 | D56: מוצר 3 | E56: מוצר 4 | F56: מוצר 5 | G56: מוצר 6 | H56: מוצר 7 | I56: מוצר 8 | J56: סה"כ
B57: צורת המוצר | C57: צורת המוצר | D57: צורת המוצר | E57: צורת המוצר | F57: צורת המוצר | G57: צורת המוצר | H57: צורת המוצר | I57: צורת המוצר
B58: חומרים פעילים | C58: חומרים פעילים | D58: חומרים פעילים | E58: חומרים פעילים | F58: חומרים פעילים | G58: חומרים פעילים | H58: חומרים פעילים | I58: חומרים פעילים
A59: Q1 2020
A60: Q2 2020
A61: Q3 2020
...

Sheet תמחיר -מוצרי החקירה
A2: התמחיר בפועל | C2: הנתונים באלפי ₪
A3: מוצרים מיובאים יש להזין כמוצר נפרד.
A4: שנה | B4: 2020
A5: מרכיב | B5: בסיס העמסה | C5: מוצר 1 | D5: מוצר 2 | E5: מוצר 3 | F5: מוצר 4 | G5: מוצר 5 | H5: מוצר 6 | I5: מוצר 7
A6: מכירות (אלפי ₪)
A7: עלות חומרי גלם, אלפי ₪ לק"ג
A8: עבודה, אלפי ₪ לק"ג
A9: אנרגיה אלפי ₪ לק"ג
A10: רווח גולמי, אלפי ₪ לק"ג
A11: הוצאות הנהלה וכלליות, אלפי ₪ לק"ג
A12: הוצאות מכירה ושיווק, אלפי ₪ לק"ג
A13: רווח תפעולי,אלפי ₪ לק"ג
A14: הוצאות מימון, אלפי ₪ לק"ג
A15: הוצאות/הכנסות אחרות, אלפי ₪ לק"ג
A16: רווח לפני מס, אלפי ₪ לק"ג | C16: =+C13-C14 -> 0 | D16: =+D13-D14 -> 0 | E16: =+E13-E14 -> 0 | F16: =+F13-F14 -> 0 | G16: =+G13-G14 -> 0 | H16: =+H13-H14 -> 0 | I16: =+I13-I14 -> 0
A19: התמחיר בפועל | C19: הנתונים באלפי ₪
A20: מוצרים מיובאים יש להזין כמוצר נפרד.
A21: שנה | B21: 2021
A22: מרכיב | B22: בסיס העמסה | C22: מוצר 1 | D22: מוצר 2 | E22: מוצר 3 | F22: מוצר 4 | G22: מוצר 5 | H22: מוצר 6 | I22: מוצר 7
A23: מכירות (אלפי ₪)
A24: עלות חומרי גלם, אלפי ₪ לק"ג
A25: עבודה, אלפי ₪ לק"ג
A26: אנרגיה אלפי ₪ לק"ג
A27: רווח גולמי, אלפי ₪ לק"ג
A28: הוצאות הנהלה וכלליות, אלפי ₪ לק"ג
A29: הוצאות מכירה ושיווק, אלפי ₪ לק"ג
A30: רווח תפעולי,אלפי ₪ לק"ג
A31: הוצאות מימון, אלפי ₪ לק"ג
A32: הוצאות/הכנסות אחרות, אלפי ₪ לק"ג
A33: רווח לפני מס, אלפי ₪ לק"ג | C33: =+C30-C31 -> 0 | D33: =+D30-D31 -> 0 | E33: =+E30-E31 -> 0 | F33: =+F30-F31 -> 0 | G33: =+G30-G31 -> 0 | H33: =+H30-H31 -> 0 | I33: =+I30-I31 -> 0
A36: התמחיר בפועל | C36: הנתונים באלפי ₪
A37: מוצרים מיובאים יש להזין כמוצר נפרד.
A38: שנה | B38: 2022
A39: מרכיב | B39: בסיס העמסה | C39: מוצר 1 | D39: מוצר 2 | E39: מוצר 3 | F39: מוצר 4 | G39: מוצר 5 | H39: מוצר 6 | I39: מוצר 7
A40: מכירות (אלפי ₪)
A41: עלות חומרי גלם, אלפי ₪ לק"ג
A42: עבודה, אלפי ₪ לק"ג
A43: אנרגיה אלפי ₪ לק"ג
A44: רווח גולמי, אלפי ₪ לק"ג
A45: הוצאות הנהלה וכלליות, אלפי ₪ לק"ג
...

Sheet נתח שוק
A1: יש להגיש הערכת המבקשת ביחס לנתח השוק בתחום מוצרי החקירה בערכים כספיים. יש , $
A3: מכירות, $- הנתונים באלפים
A4: תיאור | B4: Q1 2020 | C4: Q2 2020 | D4: Q3 2020 | E4: Q4 2020 | F4: Q1 2021 | G4: Q2 2021 | H4: Q3 2021 | I4: Q4 2021 | J4: Q1 2022 | K4: Q2 2022 | L4: Q3 2022 | M4: Q4 2022 | N4: Q1 2023 | O4: Q2 2023 | P4: Q3 2023 | Q4: Q4 2023
A5: ייצור מקומי בלבד- בית העסק המדווח
A6: סה"כ יצרנים ישראליים נוספים
A7: סה"כ התעשייה המקומית
A8: סה"כ יבוא מקנדה
A9: סך היבוא מקנדה ע"י בית העסק המדווח
A10: סה"כ יבוא ממדינות נוספות
A11: סך היבוא ממדינות נוספות ע"י בית העסק המדווח
A12: סה"כ

Sheet מספר המועסקים
A1: מספר המועסקים , ממוצע שנתי - כלל החברה
A2: מחלקה | B2: 2020 | C2: 2021 | D2: 2022 | E2: 2023
A3: מטה
A4: גידול חקלאי
A5: יצור
A6: שיווק
A7: אחזקה | B7: ראה פירוט טבלה למטה
A8: א. איכות
A9: לוגיסטיקה
A10: אריזה
A11: סה"כ
A14: מספר המועסקים, ממוצע שנתי - מיוחס למוצרי החקירה- ייצור מקומי בלבד
A15: מחלקה | B15: 2020 | C15: 2021 | D15: 2022 | E15: 2023
A16: מטה
A17: גידול חקלאי
A18: יצור
A19: שיווק | B19: ראה פירוט טבלה למטה
A20: אחזקה
A21: א. איכות
A22: לוגיסטיקה
A23: אריזה
A24: סה"כ
A26: מספר המועסקים, ממוצע שנתי - מיוחס למוצרי החקירה- ייבוא בלבד
A27: מחלקה | B27: 2020 | C27: 2021 | D27: 2022 | E27: 2023
A28: מטה
A29: גידול חקלאי
A30: יצור
A31: שיווק | B31: ראה פירוט טבלה למטה
A32: אחזקה
A33: א. איכות
A34: לוגיסטיקה
A35: אריזה
A36: סה"כ
E37: עובדים סה"כ כלל החברה
B40: 43831 | D40: 44166 | F40: 44197 | H40: 44531 | J40: 44562 | L40: 44896 | N40: 44927 | P40: 45261
B41: עובדים | C41: עלות | D41: עובדים | E41: עלות | F41: עובדים | G41: עלות | H41: עובדים | I41: עלות | J41: עובדים | K41: עלות | L41: עובדים | M41: עלות | N41: עובדים | O41: עלות | P41: עובדים | Q41: עלות
A42: מטה
A43: גידול
A44: יצור
A45: שיווק
...

Sheet שכר
A1: שכר, ₪
A2: תיאור | B2: 2020 | C2: 2021 | D2: 2022 | E2: 2023
A3: מנכ"ל
A4: מנהל כספים
A5: מנהל שיווק
A6: מנהל תחום יבוא
A7: מנהל ייצור
A8: מנהל תפעול
A9: עובד יצור בעל משכורת ממוצעת
A10: עובד יבוא בעל משכורת ממוצעת
A11: עובד שיווק בעל משכורת ממוצעת
A12: עובד משרד בעל משכורת ממוצעת
A14: שכר, ₪
A15: תיאור | B15: 2020 | C15: 2021 | D15: 2022 | E15: 2023
A16: סה"כ עלויות השכר בחברה
A17: עלויות שכר - מיוחס למוצרי החקירה-ייצור מקומי בלבד
A18: עלויות שכר - מיוחס למוצרי החקירה-יבוא בלבד

Sheet ניצול כושר היצור
A2: ניצול כושר היצור של העסק ביחס לכלל המוצרים (השוק המקומי + היצוא), ק"ג
A4: תיאור | B4: 2020 | C4: 2021 | D4: 2022 | E4: 2023
A5: מספר משמרות בכושר ייצור מקסימלי*
A6: כושר ייצור מקסימלי*
A7: ייצור לשוק המקומי*
A8: ייצור לחו"ל*
A9: סה"כ הייצור שוק מקומי ויצוא* | B9: =B7+B8 -> 0 | C9: =C7+C8 -> 0 | D9: =D7+D8 -> 0 | E9: =E7+E8 -> 0
A10: ניצול כושר הייצור- שוק מקומי ויצוא* | B10: =B9/B6 -> #DIV/0! | C10: =C9/C6 -> #DIV/0! | D10: =D9/D6 -> #DIV/0! | E10: =E9/E6 -> #DIV/0!
A11: כושר ייצור מקסימלי של כלל הענף
A12: *בית העסק המדווח
A14: תארו בקצרה את תהליך הייצור של המוצר הישראלי המיוצר במפעלכם:

Sheet פריון
A2: פריון במונחים כספיים - כלל החברה | B2: הנתונים באלפי ₪.
A3: תיאור | B3: 2020 | C3: 2021 | D3: 2022 | E3: 2023
A4: מכירות, ₪ | B4: ='דוחות רווח והפסד'!B53 -> 0 | C4: ='דוחות רווח והפסד'!B58 -> 0 | D4: ='דוחות רווח והפסד'!B63 -> 0 | E4: ='דוחות רווח והפסד'!B68 -> 0
A5: מספר המועסקים, ממוצע שנתי | B5: ='מספר המועסקים'!B11 -> 0 | C5: ='מספר המועסקים'!C11 -> 0 | D5: ='מספר המועסקים'!D11 -> 0 | E5: ='מספר המועסקים'!E11 -> 0
A6: פריון, ₪ לעובד | B6: =B4/B5 -> #DIV/0! | C6: =C4/C5 -> #DIV/0! | D6: =D4/D5 -> #DIV/0! | E6: =E4/E5 -> #DIV/0!
A7: שיעור שינוי, % | B7: - | C7: =C6/B6-1 -> #DIV/0! | D7: =D6/C6-1 -> #DIV/0! | E7: =E6/D6-1 -> #DIV/0!
A10: פריון במונחים כספיים - ייצור מקומי של מוצר החקירה | B10: הנתונים באלפי ₪.
A11: תיאור | B11: 2020 | C11: 2021 | D11: 2022 | E11: 2023
A12: מכירות, ₪ | B12: ='דוחות רווח והפסד'!B7 -> 0 | C12: ='דוחות רווח והפסד'!B12 -> 0 | D12: ='דוחות רווח והפסד'!B17 -> 0 | E12: ='דוחות רווח והפסד'!B22 -> 0
A13: מספר המועסקים, ממוצע שנתי | B13: ='מספר המועסקים'!B24 -> 0 | C13: ='מספר המועסקים'!C24 -> 0 | D13: ='מספר המועסקים'!D24 -> 0 | E13: ='מספר המועסקים'!E24 -> 0
A14: פריון, ₪ לעובד | B14: =B12/B13 -> #DIV/0! | C14: =C12/C13 -> #DIV/0! | D14: =D12/D13 -> #DIV/0! | E14: =E12/E13 -> #DIV/0!
A15: שיעור שינוי, % | B15: - | C15: =C14/B14-1 -> #DIV/0! | D15: =D14/C14-1 -> #DIV/0! | E15: =E14/D14-1 -> #DIV/0!
A18: פריון במונחים כספיים - ייבוא מוצר החקירה | B18: הנתונים באלפי ₪.
A19: תיאור | B19: 2020 | C19: 2021 | D19: 2022 | E19: 2023
A20: מכירות, ₪ | B20: ='דוחות רווח והפסד'!B30 -> 0 | C20: ='דוחות רווח והפסד'!B35 -> 0 | D20: ='דוחות רווח והפסד'!B40 -> 0 | E20: ='דוחות רווח והפסד'!B45 -> 0
A21: מספר המועסקים, ממוצע שנתי | B21: ='מספר המועסקים'!B36 -> 0 | C21: ='מספר המועסקים'!C36 -> 0 | D21: ='מספר המועסקים'!D36 -> 0 | E21: ='מספר המועסקים'!E36 -> 0
A22: פריון, ₪ לעובד | B22: =B20/B21 -> #DIV/0! | C22: =C20/C21 -> #DIV/0! | D22: =D20/D21 -> #DIV/0! | E22: =E20/E21 -> #DIV/0!
A23: שיעור שינוי, % | B23: - | C23: =C22/B22-1 -> #DIV/0! | D23: =D22/C22-1 -> #DIV/0! | E23: =E22/D22-1 -> #DIV/0!

Sheet תזרים מזומנים
A1: תזרים מזומנים נטו מפעילות מוצרי החקירה מייצור מקומי, בשוק המקומי
A2: תקופה | B2: תזרים מזומנים מפעילות שוטפת נטו, ₪ | C2: שיעור שינוי, %
A3: 2020 | C3: -
A4: 2021 | C4: =B4/B3-1 -> #DIV/0!
A5: 2022 | C5: =B5/B4-1 -> #DIV/0!
A6: 2023 | C6: =B6/B5-1 -> #DIV/0!
A8: תזרים מזומנים נטו מפעילות מוצרי החקירה המיובאים, בשוק המקומי
A9: תקופה | B9: תזרים מזומנים מפעילות שוטפת נטו, ₪ | C9: שיעור שינוי, %
A10: 2020 | C10: -
A11: 2021 | C11: =B11/B10-1 -> #DIV/0!
A12: 2022 | C12: =B12/B11-1 -> #DIV/0!
A13: 2023 | C13: =B13/B12-1 -> #DIV/0!

Sheet מלאי
A1: מלאי ממוצע של מוצרי החקירה
A2: תקופה | B2: מלאי מוצרי החקירה-ייצור מקומי, ₪ | C2: מלאי מוצרי החקירה-יבוא, ₪ | D2: מלאי מוצרי החקירה - סה"כ מיצור מקומי ויבוא, ₪
A3: Q1 2020
A4: Q2 2020
A5: Q3 2020
A6: Q4 2020
A7: סה"כ 2020
A8: Q1 2021
A9: Q2 2021
A10: Q3 2021
A11: Q4 2021
A12: סה"כ 2021
A13: Q1 2022
A14: Q2 2022
... A22: סה"כ 2023

Sheet תשואה על השקעות
A1: תשואה על השקעות בתחום מוצרי החקירה מייצור מקומי- בשוק המקומי
B2: 2020 | C2: 2021 | D2: 2022 | E2: 2023
A3: רווח לפני מס, מוצרי החקירה | B3: ='דוחות רווח והפסד'!K7 -> 0 | C3: ='דוחות רווח והפסד'!K12 -> 0 | D3: ='דוחות רווח והפסד'!K17 -> 0 | E3: ='דוחות רווח והפסד'!K22 -> 0
A4: הון עצמי
A5: אחוז מכירות מוצרי החקירה | B5: ='דוחות רווח והפסד'!B7/'דוחות רווח והפסד'!B53 -> #DIV/0! | C5: ='דוחות רווח והפסד'!B12/'דוחות רווח והפסד'!B58 -> #DIV/0! | D5: ='דוחות רווח והפסד'!B17/'דוחות רווח והפסד'!B63 -> #DIV/0! | E5: ='דוחות רווח והפסד'!B22/'דוחות רווח והפסד'!B68 -> #DIV/0!
A6: הון עצמי לאחר הכפלה באחוז מוצרי החקירה | B6: =B5*B4 -> #DIV/0! | C6: =C5*C4 -> #DIV/0! | D6: =D5*D4 -> #DIV/0! | E6: =E5*E4 -> #DIV/0!
A7: תשואה על השקעות, % | B7: =B3/B6 -> #DIV/0! | C7: =C3/C6 -> #DIV/0! | D7: =D3/D6 -> #DIV/0! | E7: =E3/E6 -> #DIV/0!
A8: שיעור שינוי, % | B8: - | C8: =C7/B7-1 -> #DIV/0! | D8: =D7/C7-1 -> #DIV/0! | E8: =E7/D7-1 -> #DIV/0!
A11: תשואה על השקעות בתחום מוצרי החקירה מיבוא- בשוק המקומי
B12: 2020 | C12: 2021 | D12: 2022 | E12: 2023
A13: רווח לפני מס, מוצרי החקירה | B13: ='דוחות רווח והפסד'!K30 -> 0 | C13: ='דוחות רווח והפסד'!K35 -> 0 | D13: ='דוחות רווח והפסד'!K40 -> 0 | E13: ='דוחות רווח והפסד'!K45 -> 0
A14: הון עצמי
A15: אחוז מכירות מוצרי החקירה | B15: ='דוחות רווח והפסד'!B30/'דוחות רווח והפסד'!B53 -> #DIV/0! | C15: ='דוחות רווח והפסד'!B35/'דוחות רווח והפסד'!B58 -> #DIV/0! | D15: ='דוחות רווח והפסד'!B40/'דוחות רווח והפסד'!B63 -> #DIV/0! | E15: ='דוחות רווח והפסד'!B45/'דוחות רווח והפסד'!B68 -> #DIV/0!
A16: הון עצמי לאחר הכפלה באחוז מוצרי החקירה | B16: =B15*B14 -> #DIV/0! | C16: =C15*C14 -> #DIV/0! | D16: =D15*D14 -> #DIV/0! | E16: =E15*E14 -> #DIV/0!
A17: תשואה על השקעות, % | B17: =B13/B16 -> #DIV/0! | C17: =C13/C16 -> #DIV/0! | D17: =D13/D16 -> #DIV/0! | E17: =E13/E16 -> #DIV/0!
A18: שיעור שינוי, % | B18: - | C18: =C17/B17-1 -> #DIV/0! | D18: =D17/C17-1 -> #DIV/0! | E18: =E17/D17-1 -> #DIV/0!

Sheet צמיחה
A2: נא לפרט כיצד יבוא מחו"ל פוגע בצמיחת החברה

Sheet היכולת לגייס הון או השקעות
A3: נא לפרט כיצד יבוא מחו"ל פוגע ביכולת החברה לגייס הון ו/או השקעות
