Workbook
Name דולר: #REF!
Name מים_לשכנים: '[1]מים לשכנים'!$D$8

Sheet שינוי בצריכה לשנה
B2: שיעור שינוי לשנה סטנדרטית | D2: 2009 | E2: 2010 | F2: 2011 | G2: 2012 | H2: 2013 | I2: 2014 | J2: 2015
A3: ביתי | B3: =+'הנחות בסיס'!B5 -> 0.018 | D3: -0.1 | E3: 0 | F3: -0.031 | G3: 0.01 | H3: 0.06 | I3: =+$B3 -> 0.018 | J3: =+$B3 -> 0.018
A4: תעשייה | B4: =+'הנחות בסיס'!B6 -> 0 | D4: -0.02 | E4: =+$B4 -> 0 | F4: 0 | G4: =+$B4 -> 0 | H4: =+$B4 -> 0 | I4: =+$B4 -> 0 | J4: =+$B4 -> 0
A5: חקלאות שפירים | B5: =+'הנחות בסיס'!B7 -> 0 | D5: -0.03 | E5: 0.15 | F5: 0 | G5: 0 | H5: =+$B5 -> 0 | I5: 0 | J5: 0
A6: חקלאות קולחין | B6: =+'הנחות בסיס'!B8 -> 0.04 | D6: 0 | E6: =+$B6 -> 0.04 | F6: =+$B6 -> 0.04 | G6: 0.02 | H6: 0.02 | I6: =+$B6 -> 0.04 | J6: =+$B6 -> 0.04
A7: שפד"ן | B7: 0.01 | D7: 0 | E7: 0 | F7: =+$B7 -> 0.01 | G7: -0.01 | H7: 0.04 | I7: =+$B7 -> 0.01 | J7: =+$B7 -> 0.01
A8: מליחים | B8: 0.01 | D8: 0 | E8: =+$B8 -> 0.01 | F8: =+$B8 -> 0.01 | G8: =+$B8 -> 0.01 | H8: =+$B8 -> 0.01 | I8: =+$B8 -> 0.01 | J8: =+$B8 -> 0.01
A9: ירדן | B9: =+'הנחות בסיס'!B11 -> 0 | D9: =+$B9 -> 0 | E9: 0.1 | F9: =+$B9 -> 0 | G9: =+$B9 -> 0 | H9: =+$B9 -> 0 | I9: =+$B9 -> 0 | J9: =+$B9 -> 0
A10: פלסטינים | B10: =+'הנחות בסיס'!B12 -> 0.03 | D10: =+$B10 -> 0.03 | E10: =+$B10 -> 0.03 | F10: =+$B10 -> 0.03 | G10: =+$B10 -> 0.03 | H10: =+$B10 -> 0.03 | I10: =+$B10 -> 0.03 | J10: =+$B10 -> 0.03
A11: מים לטבע | B11: =+'הנחות בסיס'!B13 -> 0.08 | D11: =+$B11 -> 0.08 | E11: =+$B11 -> 0.08 | F11: =+$B11 -> 0.08 | G11: =+$B11 -> 0.08 | H11: =+$B11 -> 0.08 | I11: =+$B11 -> 0.08 | J11: =+$B11 -> 0.08
A12: רשויות מקומיות | B12: 0.01 | G12: =+$B$12 -> 0.01 | H12: =+$B$12 -> 0.01 | I12: =+$B$12 -> 0.01 | J12: =+$B$12 -> 0.01

Sheet כמויות על פני השנים
B1: 2008 | C1: 2009 | D1: 2010 | E1: 2011 | F1: 2012 | G1: 2013 | H1: 2014 | I1: 2015
A2: שפירים לבית | B2: =VLOOKUP(A2,#REF!,4,0) -> #REF! | C2: 563100 | D2: =+C2*(1+'שינוי בצריכה לשנה'!E$3)+4700 -> 567800 | E2: =+D2*(1+'שינוי בצריכה לשנה'!F$3) -> 550198.2 | F2: =+E2*(1+'שינוי בצריכה לשנה'!G$3) -> 555700.18 | G2: =+F2*(1+'שינוי בצריכה לשנה'!H$3) -> 589042.19 | H2: =+G2*(1+'שינוי בצריכה לשנה'!I$3) -> 599644.95 | I2: =+H2*(1+'שינוי בצריכה לשנה'!J$3) -> 610438.56
A3: מזה:
A4: בתי מלון | B4: =+'[2]התפלגות 2007'!$P$199/1000 -> 11121.539 | C4: =+'[2]התפלגות 2007'!$P$199/1000 -> 11121.539 | D4: =(+C4*'שינוי בצריכה לשנה'!E$3+'כמויות על פני השנים'!C4)*0.7 -> 7785.0773 | E4: =+D4*'שינוי בצריכה לשנה'!F$3+'כמויות על פני השנים'!D4+6000 -> 13543.74 | F4: =+E4*'שינוי בצריכה לשנה'!G$3+'כמויות על פני השנים'!E4 -> 13679.177 | G4: =+F4*'שינוי בצריכה לשנה'!H$3+'כמויות על פני השנים'!F4 -> 14499.928 | H4: =+G4*'שינוי בצריכה לשנה'!I$3+'כמויות על פני השנים'!G4 -> 14760.927 | I4: =+H4*'שינוי בצריכה לשנה'!J$3+'כמויות על פני השנים'!H4 -> 15026.623
A5: שפירים לתעשייה | B5: =VLOOKUP(A5,#REF!,4,0) -> #REF! | C5: 72300 | D5: =+C5*(1+'שינוי בצריכה לשנה'!E$4) -> 72300 | E5: =+D5*(1+'שינוי בצריכה לשנה'!F$4) -> 72300 | F5: =+E5*(1+'שינוי בצריכה לשנה'!G$4) -> 72300 | G5: =+F5*(1+'שינוי בצריכה לשנה'!H$4) -> 72300 | H5: =+G5*(1+'שינוי בצריכה לשנה'!I$4) -> 72300 | I5: =+H5*(1+'שינוי בצריכה לשנה'!J$4) -> 72300
A6: נחותים לתעשייה - בסיס | B6: =VLOOKUP(A6,#REF!,4,0) -> #REF! | C6: 1917.809 | D6: =+C6*(1+'שינוי בצריכה לשנה'!E$4) -> 1917.809 | E6: =+D6*(1+'שינוי בצריכה לשנה'!F$4) -> 1917.809 | F6: =+E6*(1+'שינוי בצריכה לשנה'!G$4) -> 1917.809 | G6: =+F6*(1+'שינוי בצריכה לשנה'!H$4) -> 1917.809 | H6: =+G6*(1+'שינוי בצריכה לשנה'!I$4) -> 1917.809 | I6: =+H6*(1+'שינוי בצריכה לשנה'!J$4) -> 1917.809
A7: רשות מקומית | E7: 41000 | F7: =+E7*(1+'שינוי בצריכה לשנה'!G$12) -> 41410 | G7: =+F7*(1+'שינוי בצריכה לשנה'!H$12) -> 41824.1 | H7: =+G7*(1+'שינוי בצריכה לשנה'!I$12) -> 42242.341 | I7: =+H7*(1+'שינוי בצריכה לשנה'!J$12) -> 42664.764
A8: בית שאן מעינות | B8: =VLOOKUP(A8,#REF!,4,0) -> #REF! | C8: 0 | D8: =+C8 -> 0 | E8: =+D8 -> 0 | F8: =+E8 -> 0 | G8: =+F8 -> 0 | H8: =+G8 -> 0 | I8: =+H8 -> 0
A9: בית שאן קידוחים | B9: =VLOOKUP(A9,#REF!,4,0) -> #REF! | D9: =+C9 -> 0 | E9: =+D9 -> 0 | F9: =+E9 -> 0 | G9: =+F9 -> 0 | H9: =+G9 -> 0 | I9: =+H9 -> 0
A10: שפירים לחקלאות א' | B10: =VLOOKUP(A10,#REF!,4,0) -> #REF! | C10: 175732.03 | D10: =+C10*('שינוי בצריכה לשנה'!E$5+1) -> 202091.83 | E10: =+D10*('שינוי בצריכה לשנה'!F$5+1) -> 202091.83 | F10: =+'[3]תחזית 2012'!B10*1000 -> 196859.55 | G10: =+F10*('שינוי בצריכה לשנה'!H$5+1) -> 196859.55 | H10: =+G10*('שינוי בצריכה לשנה'!I$5+1) -> 196859.55 | I10: =+H10*('שינוי בצריכה לשנה'!J$5+1) -> 196859.55
A11: שפירים לחקלאות ב' | B11: =VLOOKUP(A11,#REF!,4,0) -> #REF! | C11: 32538.901 | D11: =+C11*('שינוי בצריכה לשנה'!E$5+1) -> 37419.736 | E11: =+D11*('שינוי בצריכה לשנה'!F$5+1) -> 37419.736 | F11: =+'[3]תחזית 2012'!B11*1000 -> 53067.509 | G11: =+F11*('שינוי בצריכה לשנה'!H$5+1) -> 53067.509 | H11: =+G11*('שינוי בצריכה לשנה'!I$5+1) -> 53067.509 | I11: =+H11*('שינוי בצריכה לשנה'!J$5+1) -> 53067.509
A12: שפירים לחקלאות ג' | B12: =VLOOKUP(A12,#REF!,4,0) -> #REF! | C12: 24166.223 | D12: =+C12*('שינוי בצריכה לשנה'!E$5+1) -> 27791.156 | E12: =+D12*('שינוי בצריכה לשנה'!F$5+1) -> 27791.156 | F12: =+'[3]תחזית 2012'!B12*1000 -> 18203.7 | G12: =+F12*('שינוי בצריכה לשנה'!H$5+1) -> 18203.7 | H12: =+G12*('שינוי בצריכה לשנה'!I$5+1) -> 18203.7 | I12: =+H12*('שינוי בצריכה לשנה'!J$5+1) -> 18203.7
A13: שפירים חריגה | B13: =VLOOKUP(A13,#REF!,4,0) -> #REF! | C13: 0 | D13: =+C13*('שינוי בצריכה לשנה'!E$5+1) -> 0 | E13: =+D13*('שינוי בצריכה לשנה'!F$5+1) -> 0 | F13: =+E13*('שינוי בצריכה לשנה'!G$5+1) -> 0 | G13: =+F13*('שינוי בצריכה לשנה'!H$5+1) -> 0 | H13: =+G13*('שינוי בצריכה לשנה'!I$5+1) -> 0 | I13: =+H13*('שינוי בצריכה לשנה'!J$5+1) -> 0
A14: עמק הירדן | B14: =VLOOKUP(A14,#REF!,4,0) -> #REF! | C14: 0.858 | D14: =+C14 -> 0.858 | E14: =+D14*('שינוי בצריכה לשנה'!F$5+1) -> 0.858 | F14: =+E14*('שינוי בצריכה לשנה'!G$5+1) -> 0.858 | G14: =+F14*('שינוי בצריכה לשנה'!H$5+1) -> 0.858 | H14: =+G14*('שינוי בצריכה לשנה'!I$5+1) -> 0.858 | I14: =+H14*('שינוי בצריכה לשנה'!J$5+1) -> 0.858
A15: עמק הירדן תחום המוא"ז בית שאן | B15: =VLOOKUP(A15,#REF!,4,0) -> #REF! | C15: 3137.27 | D15: =+C15 -> 3137.27 | E15: =+D15*('שינוי בצריכה לשנה'!F$5+1) -> 3137.27 | F15: =+E15*('שינוי בצריכה לשנה'!G$5+1) -> 3137.27 | G15: =+F15*('שינוי בצריכה לשנה'!H$5+1) -> 3137.27 | H15: =+G15*('שינוי בצריכה לשנה'!I$5+1) -> 3137.27 | I15: =+H15*('שינוי בצריכה לשנה'!J$5+1) -> 3137.27
A16: גבעת יואב | B16: =VLOOKUP(A16,#REF!,4,0) -> #REF! | C16: 247.739 | D16: =+C16 -> 247.739 | E16: =+D16*('שינוי בצריכה לשנה'!F$5+1) -> 247.739 | F16: =+E16*('שינוי בצריכה לשנה'!G$5+1) -> 247.739 | G16: =+F16*('שינוי בצריכה לשנה'!H$5+1) -> 247.739 | H16: =+G16*('שינוי בצריכה לשנה'!I$5+1) -> 247.739 | I16: =+H16*('שינוי בצריכה לשנה'!J$5+1) -> 247.739
A17: מעלה גמלא | B17: =VLOOKUP(A17,#REF!,4,0) -> #REF! | C17: 309.262 | D17: =+C17 -> 309.262 | E17: =+D17*('שינוי בצריכה לשנה'!F$5+1) -> 309.262 | F17: =+E17*('שינוי בצריכה לשנה'!G$5+1) -> 309.262 | G17: =+F17*('שינוי בצריכה לשנה'!H$5+1) -> 309.262 | H17: =+G17*('שינוי בצריכה לשנה'!I$5+1) -> 309.262 | I17: =+H17*('שינוי בצריכה לשנה'!J$5+1) -> 309.262
A18: חולתא למדגה | B18: =VLOOKUP(A18,#REF!,4,0) -> #REF! | C18: 18.5 | D18: =+C18 -> 18.5 | E18: =+D18*('שינוי בצריכה לשנה'!F$5+1) -> 18.5 | F18: =+E18*('שינוי בצריכה לשנה'!G$5+1) -> 18.5 | G18: =+F18*('שינוי בצריכה לשנה'!H$5+1) -> 18.5 | H18: =+G18*('שינוי בצריכה לשנה'!I$5+1) -> 18.5 | I18: =+H18*('שינוי בצריכה לשנה'!J$5+1) -> 18.5
A19: בית שאן קידוחים | B19: =VLOOKUP(A19,#REF!,4,0) -> #REF! | D19: =+C19*('שינוי בצריכה לשנה'!E$5+1) -> 0 | E19: =+D19*('שינוי בצריכה לשנה'!F$5+1) -> 0 | F19: =+E19*('שינוי בצריכה לשנה'!G$5+1) -> 0 | G19: =+F19*('שינוי בצריכה לשנה'!H$5+1) -> 0 | H19: =+G19*('שינוי בצריכה לשנה'!I$5+1) -> 0 | I19: =+H19*('שינוי בצריכה לשנה'!J$5+1) -> 0
A20: בית שאן מעיינות (מליחים ומתוקים) | B20: =VLOOKUP(A20,#REF!,4,0) -> #REF! | C20: 62467.066 | D20: =+C20 -> 62467.066 | E20: =+D20*('שינוי בצריכה לשנה'!F$5+1) -> 62467.066 | F20: =+E20*('שינוי בצריכה לשנה'!G$5+1) -> 62467.066 | G20: =+F20*('שינוי בצריכה לשנה'!H$5+1) -> 62467.066 | H20: =+G20*('שינוי בצריכה לשנה'!I$5+1) -> 62467.066 | I20: =+H20*('שינוי בצריכה לשנה'!J$5+1) -> 62467.066
A21: שפעה מילוי מאגרים | B21: =VLOOKUP(A21,#REF!,4,0) -> #REF! | C21: 5603.007 | D21: =+C21*('שינוי בצריכה לשנה'!E$5+1) -> 6443.458 | E21: =+D21*('שינוי בצריכה לשנה'!F$5+1) -> 6443.458 | F21: =+E21*('שינוי בצריכה לשנה'!G$5+1) -> 6443.458 | G21: =+F21*('שינוי בצריכה לשנה'!H$5+1) -> 6443.458 | H21: =+G21*('שינוי בצריכה לשנה'!I$5+1) -> 6443.458 | I21: =+H21*('שינוי בצריכה לשנה'!J$5+1) -> 6443.458
A22: שפעה | B22: =VLOOKUP(A22,#REF!,4,0) -> #REF! | C22: 0 | D22: =+C22 -> 0 | E22: =+D22*('שינוי בצריכה לשנה'!F$5+1) -> 0 | F22: =+E22*('שינוי בצריכה לשנה'!G$5+1) -> 0 | G22: =+F22*('שינוי בצריכה לשנה'!H$5+1) -> 0 | H22: =+G22*('שינוי בצריכה לשנה'!I$5+1) -> 0 | I22: =+H22*('שינוי בצריכה לשנה'!J$5+1) -> 0
A23: עיון זמר א'+ב'+ג' | B23: =VLOOKUP(A23,#REF!,4,0) -> #REF! | C23: 17444.851 | D23: =+C23*('שינוי בצריכה לשנה'!E$5+1) -> 20061.579 | E23: =+D23*('שינוי בצריכה לשנה'!F$5+1) -> 20061.579 | F23: =+E23*('שינוי בצריכה לשנה'!G$5+1) -> 20061.579 | G23: =+F23*('שינוי בצריכה לשנה'!H$5+1) -> 20061.579 | H23: =+G23*('שינוי בצריכה לשנה'!I$5+1) -> 20061.579 | I23: =+H23*('שינוי בצריכה לשנה'!J$5+1) -> 20061.579
A24: שפד"ן | B24: =VLOOKUP(A24,#REF!,4,0) -> #REF! | C24: 131893.01 | D24: =+C24*(1+'שינוי בצריכה לשנה'!E$7) -> 131893.01 | E24: =+D24*(1+'שינוי בצריכה לשנה'!F$7) -> 133211.94 | F24: =+E24*(1+'שינוי בצריכה לשנה'!G$7) -> 131879.82 | G24: =+F24*(1+'שינוי בצריכה לשנה'!H$7) -> 137155.02 | H24: =+G24*(1+'שינוי בצריכה לשנה'!I$7) -> 138526.57 | I24: =+H24*(1+'שינוי בצריכה לשנה'!J$7) -> 139911.83
A25: שפד"ן חריגה | B25: =VLOOKUP(A25,#REF!,4,0) -> #REF! | C25: 8009.987 | D25: =+C25 -> 8009.987 | E25: =+D25 -> 8009.987 | F25: =+E25 -> 8009.987 | H25: =+G25 -> 0 | I25: =+H25 -> 0
A26: קולחים | B26: =VLOOKUP(A26,#REF!,4,0) -> #REF! | C26: 58791.919 | D26: =+C26*(1+'שינוי בצריכה לשנה'!E$6) -> 61143.596 | E26: =+D26*(1+'שינוי בצריכה לשנה'!F$6) -> 63589.34 | F26: =+E26*(1+'שינוי בצריכה לשנה'!G$6) -> 64861.126 | G26: =+F26*(1+'שינוי בצריכה לשנה'!H$6) -> 66158.349 | H26: =+G26*(1+'שינוי בצריכה לשנה'!I$6) -> 68804.683 | I26: =+H26*(1+'שינוי בצריכה לשנה'!J$6) -> 71556.87
A27: מליחים חקלאות (תעריף ממוצע) | B27: =VLOOKUP(A27,#REF!,4,0) -> #REF! | C27: 63550.509 | D27: =+C27*(1+'שינוי בצריכה לשנה'!E$8) -> 64186.014 | E27: =+D27*(1+'שינוי בצריכה לשנה'!F$8) -> 64827.874 | F27: =+E27*(1+'שינוי בצריכה לשנה'!G$8) -> 65476.153 | G27: =+F27*(1+'שינוי בצריכה לשנה'!H$8) -> 66130.915 | H27: =+G27*(1+'שינוי בצריכה לשנה'!I$8) -> 66792.224 | I27: =+H27*(1+'שינוי בצריכה לשנה'!J$8) -> 67460.146
A28: רשות שמורות הטבע | B28: =VLOOKUP(A28,#REF!,4,0) -> #REF! | C28: 11111.659 | D28: =+C28*(1+'שינוי בצריכה לשנה'!E$11) -> 12000.592 | E28: =+D28*(1+'שינוי בצריכה לשנה'!F$11) -> 12960.639 | F28: =+E28*(1+'שינוי בצריכה לשנה'!G$11) -> 13997.49 | G28: =+F28*(1+'שינוי בצריכה לשנה'!H$11) -> 15117.289 | H28: =+G28*(1+'שינוי בצריכה לשנה'!I$11) -> 16326.673 | I28: =+H28*(1+'שינוי בצריכה לשנה'!J$11) -> 17632.806
A29: ממלכת ירדן | B29: =+#REF! -> #REF! | C29: 45976.2 | D29: =+C29*(1+'שינוי בצריכה לשנה'!E$9) -> 50573.82 | E29: =+D29*(1+'שינוי בצריכה לשנה'!F$9) -> 50573.82 | F29: 40000 | G29: =+F29*(1+'שינוי בצריכה לשנה'!H$9)+5000 -> 45000 | H29: =+G29*(1+'שינוי בצריכה לשנה'!I$9) -> 45000 | I29: =+H29*(1+'שינוי בצריכה לשנה'!J$9) -> 45000
A30: ממלכת ירדן קניה | F30: 10000 | G30: 10000 | H30: 10000 | I30: 10000
A31: רשות פלסטינאית | B31: =VLOOKUP(A31,#REF!,4,0) -> #REF! | C31: 53835.9 | D31: =+C31*(1+'שינוי בצריכה לשנה'!E$10) -> 55450.977 | E31: =+D31*(1+'שינוי בצריכה לשנה'!F$10) -> 57114.506 | F31: =+E31*(1+'שינוי בצריכה לשנה'!G$10) -> 58827.941 | G31: =+F31*(1+'שינוי בצריכה לשנה'!H$10) -> 60592.78 | H31: =+G31*(1+'שינוי בצריכה לשנה'!I$10) -> 62410.563 | I31: =+H31*(1+'שינוי בצריכה לשנה'!J$10) -> 64282.88
A32: בית שאן בית, תעשייה וחקלאות | B32: =VLOOKUP(A32,#REF!,4,0) -> #REF! | C32: 16276.122 | D32: =+C32*(1+'שינוי בצריכה לשנה'!E$5) -> 18717.54 | E32: =+D32*(1+'שינוי בצריכה לשנה'!F$5) -> 18717.54 | F32: =+E32*(1+'שינוי בצריכה לשנה'!G$5) -> 18717.54 | G32: =+F32*(1+'שינוי בצריכה לשנה'!H$5) -> 18717.54 | H32: =+G32*(1+'שינוי בצריכה לשנה'!I$5) -> 18717.54 | I32: =+H32*(1+'שינוי בצריכה לשנה'!J$5) -> 18717.54
B35: =SUM(B2:B34) -> #REF! | C35: =SUM(C2:C34)-C4 -> 1348428.8 | D35: =SUM(D2:D34)-D4 -> 1403981.8 | E35: =SUM(E2:E34)-E4 -> 1434410.1 | F35: =SUM(F2:F34)-F4 -> 1443914.5 | G35: =SUM(G2:G34)-G4 -> 1484772.5 | H35: =SUM(H2:H34)-H4 -> 1503499.8 | I35: =SUM(I2:I34)-I4 -> 1522699.7

Sheet מחירים על פני השנים
B1: 2008 | C1: 2009 | D1: 2010 | E1: 2011 | F1: 2012 | G1: 2013 | H1: 2014 | I1: 2015 | P1: 1.03
A2: שפירים לבית | B2: =VLOOKUP(A2,#REF!,3,0) -> #REF!
A3: תעשייה ישיר | B3: =VLOOKUP(A3,#REF!,3,0) -> #REF! | D3: 0.53 | E3: 0.6 | F3: 0.76 | G3: 0.87 | H3: 1 | P3: =0.857/7*6 -> 0.73457143
A4: תעשייה לתאגיד
A5: נחותים לתעשייה - בסיס | B5: =VLOOKUP(A5,#REF!,3,0) -> #REF!
A6: בית שאן מעינות | B6: =+B30 -> 0.1 | C6: =+B6 -> 0.1 | D6: =+C6 -> 0.1 | E6: =+D6 -> 0.1 | F6: =+E6 -> 0.1 | G6: =+F6 -> 0.1 | H6: =+G6 -> 0.1 | I6: =+H6 -> 0.1
A7: בית שאן קידוחים | B7: =+B30 -> 0.1 | C7: =+B7 -> 0.1 | D7: =+C7 -> 0.1 | E7: =+D7 -> 0.1 | F7: =+E7 -> 0.1 | G7: =+F7 -> 0.1 | H7: =+G7 -> 0.1 | I7: =+H7 -> 0.1
A8: שפירים לחקלאות א' | B8: =VLOOKUP(A8,#REF!,3,0) -> #REF! | C8: 1.337 | D8: =+($B8*3+$G8*1)/4 -> #REF! | E8: =+'[4]1.7.2010'!$E$10*1.011 -> 1.6281508 | F8: =0.368+1.429 -> 1.797 | G8: =(1.449+0.498)*1.015 -> 1.976205 | H8: =+G8+0.12 -> 2.096205 | I8: =(1.425+0.735)*$P$1 -> 2.2248
A9: שפירים לחקלאות ב' | B9: =VLOOKUP(A9,#REF!,3,0) -> #REF! | C9: 1.575 | D9: =+($B9*3+$G9*1)/4 -> #REF! | E9: =+'[4]1.7.2010'!$E$17*1.011 -> 1.8755061 | F9: =0.368+1.685 -> 2.053 | G9: =(1.709+0.498)*1.015 -> 2.240105 | H9: =+G9+0.12 -> 2.360105 | I9: =(1.68+0.735)*$P$1 -> 2.48745
A10: שפירים לחקלאות ג' | B10: =VLOOKUP(A10,#REF!,3,0) -> #REF! | C10: 2.058 | D10: =+($B10*3+$G10*1)/4 -> #REF! | E10: =+'[4]1.7.2010'!$E$24*1.011 -> 2.3774919 | F10: =0.368+2.202 -> 2.57 | G10: =(2.232+0.498)*1.015 -> 2.77095 | H10: =+G10+0.12 -> 2.89095 | I10: =(2.195+0.735)*P1 -> 3.0179
A11: שפירים חריגה | B11: =VLOOKUP(A11,#REF!,3,0) -> #REF! | C11: 2.058 | D11: =+($B11*3+$G11*1)/4 -> #REF! | E11: =+E10 -> 2.3774919 | F11: =+F10 -> 2.57 | G11: =+G10 -> 2.77095 | H11: =+H10 -> 2.89095 | I11: =+I10 -> 3.0179
A12: עמק הירדן | B12: =VLOOKUP(A12,#REF!,3,0) -> #REF! | C12: 1.172 | D12: =+D8 -> #REF! | E12: =+E8*0.8 -> 1.3025206 | F12: =+F8 -> 1.797 | G12: =+G8 -> 1.976205 | H12: =+H8 -> 2.096205 | I12: =+I8 -> 2.2248
A13: עמק הירדן תחום המוא"ז בית שאן | B13: =VLOOKUP(A13,#REF!,3,0) -> #REF! | C13: 0.976 | D13: =+D12 -> #REF! | E13: =+E12 -> 1.3025206 | F13: =+F12 -> 1.797 | G13: =+G12 -> 1.976205 | H13: =+H12 -> 2.096205 | I13: =+I8 -> 2.2248
A14: גבעת יואב | B14: =VLOOKUP(A14,#REF!,3,0) -> #REF! | C14: 0.829 | D14: =+D13 -> #REF! | E14: =+E8 -> 1.6281508 | F14: =+F8 -> 1.797 | G14: =+G8 -> 1.976205 | H14: =+H8 -> 2.096205 | I14: =+I8 -> 2.2248
A15: מעלה גמלא | B15: =VLOOKUP(A15,#REF!,3,0) -> #REF! | C15: 0.647 | D15: =+D14 -> #REF! | E15: =+E8*0.9 -> 1.4653357 | F15: =+F8 -> 1.797 | G15: =+G8 -> 1.976205 | H15: =+H8 -> 2.096205 | I15: =+I8 -> 2.2248
A16: חולתא למדגה | B16: =VLOOKUP(A16,#REF!,3,0) -> #REF! | C16: 0.365 | D16: =+D15 -> #REF! | E16: =+E8*0.8 -> 1.3025206 | F16: =+F8 -> 1.797 | G16: =+G8 -> 1.976205 | H16: =+H8 -> 2.096205 | I16: =+I8 -> 2.2248
A17: בית שאן קידוחים | B17: =+B18 -> 0.1 | C17: =+B17 -> 0.1 | D17: =+($B17*3+$G17*1)/4 -> 0.1 | E17: =+($B17*2+$G17*2)/4 -> 0.1 | F17: =+($B17+3*$G17)/4 -> 0.1 | G17: =+G18 -> 0.1 | H17: =+G17 -> 0.1 | I17: =+G17 -> 0.1
A18: בית שאן מעיינות (מליחים ומתוקים) | B18: =+B30 -> 0.1 | C18: =+B18 -> 0.1 | D18: =+($B18*3+$G18*1)/4 -> 0.1 | E18: =+($B18*2+$G18*2)/4 -> 0.1 | F18: =+($B18+3*$G18)/4 -> 0.1 | G18: =+G30 -> 0.1 | H18: =+G18 -> 0.1 | I18: =+G18 -> 0.1
A19: שפעה מילוי מאגרים | B19: =VLOOKUP(A19,#REF!,3,0) -> #REF! | C19: 0.512 | D19: =+($B19*3+$G19*1)/4 -> #REF! | E19: =(0.526+0.118*2)*1.011 -> 0.770382 | F19: =0.547+0.368 -> 0.915 | G19: =0.526+0.118*4 -> 0.998 | H19: =0.526+0.118*5 -> 1.116 | I19: =(0.545+0.735)*P1 -> 1.3184
A20: שפעה | B20: =VLOOKUP(A20,#REF!,3,0) -> #REF! | C20: 0.434 | D20: =+($B20*3+$G20*1)/4 -> #REF! | E20: =(0.446+0.118*2)*1.011 -> 0.689502 | F20: =0.464+0.368 -> 0.832 | G20: =0.446+0.118*4 -> 0.918 | H20: =0.446+0.118*5 -> 1.036 | I20: =(0.462+0.735)*P1 -> 1.23291
A21: עיון זמר א'+ב'+ג' | B21: =VLOOKUP(A21,#REF!,3,0) -> #REF! | C21: =+B21 -> #REF! | D21: =+D8-0.2 -> #REF! | E21: =+E8 -> 1.6281508 | F21: =+F8-0.2 -> 1.597 | G21: =+G8 -> 1.976205 | H21: =+H8 -> 2.096205 | I21: =+I8 -> 2.2248
A22: שפד"ן | B22: =VLOOKUP(A22,#REF!,3,0) -> #REF! | C22: =+B22 -> #REF! | D22: 0.923 | E22: =+'[4]1.7.2010'!$E$198*1.011 -> 0.92104692 | F22: 0.976 | G22: =1.023*1.015 -> 1.038345 | H22: =1.034*1.03 -> 1.06502 | I22: 1.052 | P22: 1.073
A23: שפד"ן חריגה | B23: =VLOOKUP(A23,#REF!,3,0) -> #REF! | C23: =+B23 -> #REF! | D23: =(E22+0.36)*2/3+(E22+0.96)*1/3 -> 1.4810469 | E23: =(F22+0.36)*2/3+(F22+0.96)*1/3 -> 1.536 | F23: =(G22+0.36)*2/3+(G22+0.96)*1/3 -> 1.598345 | G23: =(H22+0.36)*2/3+(H22+0.96)*1/3 -> 1.62502 | H23: =(P22+0.36)*2/3+(P22+0.96)*1/3 -> 1.633 | I23: =(I22+0.36)*2/3+(I22+0.96)*1/3 -> 1.612 | P23: =(L22+0.36)*2/3+(L22+0.96)*1/3 -> 0.56
A24: קולחים | B24: =VLOOKUP(A24,#REF!,3,0) -> #REF! | C24: 0.627 | D24: =+($B24*3+$G24*1)/4 -> #REF! | E24: =+'[4]1.7.2010'!$E$207*1.011 -> 0.79200185 | F24: 0.847 | G24: =0.877*1.015 -> 0.890155 | H24: =0.882*1.03 -> 0.90846 | I24: 0.892
A25: מליחים חקלאות (תעריף ממוצע) | B25: =VLOOKUP(A25,#REF!,3,0) -> #REF! | C25: =+'[5]הכנסות רשות שחון 09'!$C$29 -> 0.81182411 | D25: =+'[6]חישוב הכנסות 2009'!$E$30/'[6]חישוב הכנסות 2009'!$D$30*1.04 -> 0.84429708 | E25: =+D25*(1+$S$25) -> 0.87806896 | F25: =+E25*(1+$S$25) -> 0.91319172 | G25: =+F25*(1+$S$25+3%) -> 0.97711514 | H25: =+G25*(1+$S$25) -> 1.0161997 | I25: =+G25*P1 -> 1.0064286 | P25: מקדם עליית מחיר מים מליחים | S25: 0.04
A26: רשות שמורות הטבע | B26: =VLOOKUP(A26,#REF!,3,0) -> #REF! | C26: =+B26 -> #REF! | D26: =+($B26*3+$G26*1)/4 -> #REF! | E26: =+'[7]מחירים על פני השנים'!$E$26 -> 0.53834471 | F26: =+'[7]מחירים על פני השנים'!$F$27 -> 0.13125 | G26: 1 | H26: =+G26 -> 1 | I26: =+G26 -> 1
A27: ממלכת ירדן | B27: =VLOOKUP(A27,#REF!,3,0) -> #REF! | C27: =+B27 -> #REF! | D27: =+($B27*3+$G27*1)/4 -> #REF! | E27: =+'[7]מחירים על פני השנים'!$E$27 -> 0.14574 | F27: =0.035*3.75 -> 0.13125 | G27: =0.04*4 -> 0.16 | H27: =+G27 -> 0.16 | I27: =+G27*P1 -> 0.1648
A28: ממלכת ירדן קניה | F28: =0.375*3.75 -> 1.40625 | G28: =0.4*4 -> 1.6 | H28: =0.375*3.8 -> 1.425 | I28: =+G28*P1 -> 1.648
A29: רשות פלסטינאית | B29: =VLOOKUP(A29,#REF!,3,0) -> #REF! | C29: =+B29 -> #REF! | D29: =+C29 -> #REF! | E29: =+'[7]מחירים על פני השנים'!$E$29 -> 2.373 | F29: 2.35 | G29: 2.5 | H29: =+G29 -> 2.5 | I29: =+G29*P1 -> 2.575
A30: בית שאן בית, תעשייה וחקלאות | B30: 0.1 | C30: =+B30 -> 0.1 | D30: =+($B30*3+$G30*1)/4 -> 0.1 | E30: 0.1 | F30: =+($B30+3*$G30)/4 -> 0.1 | G30: =+E30 -> 0.1 | H30: =+G30 -> 0.1 | I30: =+F30 -> 0.1

Sheet עלויות מוכרות לשנת 2013
A2: ריכוז העלויות וההכנסות המוכרות לתקופה 1-12/2013
B4: ריכוז הנתונים במחירים שוטפים | C4: יחידות | D4: ינואר | E4: פברואר | F4: מרץ | G4: אפריל | H4: מאי | I4: יוני | J4: יולי | K4: אוגוסט | L4: ספטמבר | M4: אוקטובר | N4: נובמבר | O4: דצמבר | P4: סה"כ | Q4: נתוני רבעון ראשון 2010 | R4: הסבר
D6: ינואר | E6: פברואר | F6: מרץ | G6: אפריל | H6: מאי | I6: יוני | J6: יולי | K6: אוגוסט | L6: ספטמבר | M6: אוקטובר | N6: נובמבר | O6: דצמבר | P6: 1-12/2013 (אלש"ח)
B8: אנרגיה | D8: 36438.412 | E8: 32734.851 | F8: 40929.872 | G8: 60277.064 | H8: 70918.14 | I8: 72771.063 | J8: 72755.639 | K8: 70436.22 | L8: 67449.093 | M8: 56778.027 | N8: 54950.434 | O8: 49226.492 | P8: 685665.31
B9: השבחת מים | D9: 2267.7887 | E9: 1810.0491 | F9: 4572.5616 | G9: 5117.974 | H9: 6022.8237 | I9: 6213.4021 | J9: 7093.457 | K9: 6426.5446 | L9: 6624.6456 | M9: 5429.9266 | N9: 5396.1108 | O9: 4214.3112 | P9: 61189.595
B10: קניות מים מאחרים | D10: 104115.01 | E10: 104115.01 | F10: 104115.01 | G10: 104115.01 | H10: 104115.01 | I10: 104115.01 | J10: 104115.01 | K10: 104115.01 | L10: 104115.01 | M10: 104115.01 | N10: 104115.01 | O10: 104115.01 | P10: 1249380.1
B11: סה"כ משתנות | D11: =SUM(D8:D10) -> 142821.21 | E11: =SUM(E8:E10) -> 138659.91 | F11: =SUM(F8:F10) -> 149617.44 | G11: =SUM(G8:G10) -> 169510.04 | H11: =SUM(H8:H10) -> 181055.97 | I11: =SUM(I8:I10) -> 183099.47 | J11: =SUM(J8:J10) -> 183964.1 | K11: =SUM(K8:K10) -> 180977.77 | ... P11: =SUM(P8:P10) -> 1996235
B13: סה"כ קבועות | D13: 45105.522 | E13: 45105.522 | F13: 45105.522 | G13: 45105.522 | H13: 45105.522 | I13: 45105.522 | J13: 45108.628 | K13: 45108.628 | L13: 45108.628 | M13: 45108.628 | N13: 45108.628 | O13: 45108.628 | P13: 541284.9
B15: אחזקה | D15: 18636.74 | E15: 18636.74 | F15: 18636.74 | G15: 18636.74 | H15: 18636.74 | I15: 18636.74 | J15: 18636.74 | K15: 18636.74 | L15: 18636.74 | M15: 18636.74 | N15: 18636.74 | O15: 18636.74 | P15: 223640.89
B17: החזר הון מקורות | D17: 77616.763 | E17: 77437.022 | F17: 77257.282 | G17: 78098.724 | H17: 77917.381 | I17: 77736.039 | J17: 78583.023 | K17: 78400.078 | L17: 78217.133 | M17: 79085.902 | N17: 78893.047 | O17: 78700.259 | P17: 937942.65
B18: תשואה מפא"ר | D18: 5395.4504 | E18: 5411.83 | F18: 5428.2095 | G18: 5479.4435 | H18: 5530.6775 | I18: 5581.9115 | J18: 5591.2695 | K18: 5600.6275 | L18: 5609.9855 | M18: 5619.3435 | N18: 5628.7014 | O18: 5638.0594 | P18: 66515.509
B19: סה"כ הון | D19: =SUM(D17:D18) -> 83012.213 | E19: =SUM(E17:E18) -> 82848.852 | F19: =SUM(F17:F18) -> 82685.491 | G19: =SUM(G17:G18) -> 83578.167 | H19: =SUM(H17:H18) -> 83448.059 | I19: =SUM(I17:I18) -> 83317.95 | J19: =SUM(J17:J18) -> 84174.292 | K19: =SUM(K17:K18) -> 84000.705 | ... P19: =SUM(P17:P18) -> 1004458.2
B21: עמק חפר | D21: 266.97153 | E21: 266.6633 | F21: 266.64729 | G21: 267.93755 | H21: 268.11511 | I21: 268.09721 | J21: 268.0793 | K21: 268.0614 | L21: 268.0435 | M21: 268.0256 | N21: 268.0077 | O21: 267.98979 | P21: 3212.6393
B22: רשות פלסטינית | D22: -87.68827 | E22: 4.1914332 | F22: -490.52479 | G22: -875.11509 | H22: 696.00269 | I22: -3384.8628 | J22: -193.19415 | K22: 323.99291 | L22: -153.39916 | M22: 100.33058 | N22: -596.65862 | O22: 2254.6548 | P22: -2402.2704
B23: הגברת המטר | D23: 519.18286 | E23: 519.65551 | F23: 519.97061 | G23: 520.91592 | H23: 289.75 | I23: 289.75 | J23: 289.75 | K23: 289.75 | L23: 289.75 | M23: 522.49143 | N23: 553.75887 | O23: 560.63387 | P23: 5165.3591
B24: כתבי שיפוי | P24: 500
B25: סה"כ אחרים | D25: =SUM(D21:D24) -> 698.46612 | E25: =SUM(E21:E24) -> 790.51025 | F25: =SUM(F21:F24) -> 296.09311 | G25: =SUM(G21:G24) -> -86.261626 | H25: =SUM(H21:H24) -> 1253.8678 | I25: =SUM(I21:I24) -> -2827.0156 | J25: =SUM(J21:J24) -> 364.63515 | K25: =SUM(K21:K24) -> 881.80431 | ... P25: =SUM(P21:P24) -> 6475.728
P26: =SUM(D26:O26) -> 0
B27: סה"כ עלות מוכרת | D27: =D11+D13+D15+D19+D25 -> 290274.15 | E27: =E11+E13+E15+E19+E25 -> 286041.53 | F27: =F11+F13+F15+F19+F25 -> 296341.29 | G27: =G11+G13+G15+G19+G25 -> 316744.21 | H27: =H11+H13+H15+H19+H25 -> 329500.16 | I27: =I11+I13+I15+I19+I25 -> 327332.67 | J27: =J11+J13+J15+J19+J25 -> 332248.4 | K27: =K11+K13+K15+K19+K25 -> 329605.65 | ... P27: =P11+P13+P15+P19+P25 -> 3772094.6
B28: סך כמות המים שסיפקה מקורות | C28: אלמ"ק | D28: =[8]אנרגיה!D10 -> 76227.01 | E28: =[8]אנרגיה!E10 -> 68646.318 | F28: =[8]אנרגיה!F10 -> 84286.243 | G28: =[8]אנרגיה!G10 -> 123338.85 | H28: =[8]אנרגיה!H10 -> 146242.57 | I28: =[8]אנרגיה!I10 -> 151249.11 | J28: =[8]אנרגיה!J10 -> 149118.04 | K28: =[8]אנרגיה!K10 -> 149118.04 | ... O28: =[8]אנרגיה!O10 -> 100330.02 | P28: =SUM(D28:O28) -> 1427000 | Q28: 219291 | R28: פער של 7.5%
B31: הכנסות אחרות - 50% | C31: אלש"ח | D31: =[8]הכנסות!D28 -> 833.33333 | E31: =[8]הכנסות!E28 -> 833.33333 | F31: =[8]הכנסות!F28 -> 833.33333 | G31: =[8]הכנסות!G28 -> 833.33333 | H31: =[8]הכנסות!H28 -> 833.33333 | I31: =[8]הכנסות!I28 -> 833.33333 | J31: =[8]הכנסות!J28 -> 833.33333 | K31: =[8]הכנסות!K28 -> 833.33333 | ... O31: =[8]הכנסות!O28 -> 833.33333 | P31: =SUM(D31:O31) -> 10000 | Q31: 2453 | R31: במרץ 2010 היה "זיכוי" בגובה 6.6 מלש"ח
B32: הכנסות מגורמי חוץ - 7% | C32: אלש"ח | D32: =[8]הכנסות!D35 -> -110.36347 | E32: =[8]הכנסות!E35 -> 299.10391 | F32: =[8]הכנסות!F35 -> 627.30318 | G32: =[8]הכנסות!G35 -> 765.78348 | H32: =[8]הכנסות!H35 -> 1608.6706 | I32: =[8]הכנסות!I35 -> 4845.8907 | J32: =[8]הכנסות!J35 -> 1343.9353 | K32: =[8]הכנסות!K35 -> 1343.9353 | ... O32: =[8]הכנסות!O35 -> 1343.9353 | P32: =SUM(D32:O32) -> 16100
B34: סה"כ הכנסות מוכרות | C34: אלש"ח | D34: =SUM(D31:D33) -> 722.96986 | E34: =SUM(E31:E33) -> 1132.4372 | F34: =SUM(F31:F33) -> 1460.6365 | G34: =SUM(G31:G33) -> 1599.1168 | H34: =SUM(H31:H33) -> 2442.004 | I34: =SUM(I31:I33) -> 5679.224 | J34: =SUM(J31:J33) -> 2177.2686 | K34: =SUM(K31:K33) -> 2177.2686 | ... O34: =SUM(O31:O33) -> 2177.2686 | P34: =SUM(P31:P32) -> 26100 | Q34: =SUM(Q31:Q33) -> 2453 | R34: נובע בעיקר מגידול בתעריפים וגם מגידול מכמויות המים
B37: הורדת שאיבה ראשונה בגין מותפלים | F37: =0.127278928886158/0.5*0.2 -> 0.050911572 | G37: =-87*1000 -> -87000 | P37: =+G37*F37 -> -4429.3067
B38: החזר מפא"ר | P38: =700000*3.675% -> 25725
B39: אומדן החזר מקורות | P39: =+[9]גיליון11!$P$78 -> 175000
P40: =P27-P31-P32+P38+P39+P37 -> 3942290.3

Sheet תוספת עלויות במהלך השנים
A1: 2008 | B1: שנה | C1: פרוייקט | D1: עלות לקוב | E1: סה"כ קובים | F1: השקעה | G1: פחת | H1: תשואה | I1: סה"כ עלות | J1: =+#REF!/1000 -> #REF! | K1: =+E89 -> 0
A2: =IF(B2=B3,"",B2) | B2: 2009 | C2: הרחבת אשקלון | D2: 2.774 | E2: 2.5 | J2: =+J1+I2 -> #REF! | K2: =IF(E2<0,-E2+K1,K1) -> 0
A3: =IF(B3=B4,"",B3) | B3: 2009 | C3: הרחבת פלמחים | D3: 2.7 | E3: 3.5 | J3: =+J2+I3 -> #REF! | K3: =IF(E3<0,-E3+K2,K2) -> 0
A4: =IF(B4=B5,"",B4) | B4: 2009 | C4: השקעות מעבר לפחת | F4: 100 | G4: 40 | H4: =5%*0.65+6.5%*0.35 -> 0.05525 | J4: =+J3+I4 -> #REF! | K4: =IF(E4<0,-E4+K3,K3) -> 0
A5: =IF(B5=B6,"",B5) | B5: 2009 | C5: עלות חיבור מים מליחים | F5: 0 | G5: 40 | H5: =5%*0.65+6.5%*0.35 -> 0.05525 | I5: =+H5*F5+F5/G5 -> 0 | J5: =+J4+I5 -> #REF! | K5: =IF(E5<0,-E5+K4,K4) -> 0
A6: =IF(B6=B7,"",B6) | B6: 2009 | C6: רכישת מים מליחים | D6: 2.1 | E6: 1.5 | J6: =+J5+I6 -> #REF! | K6: =IF(E6<0,-E6+K5,K5) -> 0
A7: =IF(B7=B8,"",B7) | B7: 2009 | C7: הורדת חצי ראשונה בגין מותפלים | D7: =+#REF!/2 -> #REF! | E7: 0 | I7: =+E7*D7 -> #REF! | J7: =+J6+I7 -> #REF! | K7: =IF(E7<0,-E7+K6,K6) -> 0
A8: =IF(B8=B9,"",B8) | B8: 2009 | C8: עלויות משתנות | D8: 0.44 | E8: =+(HLOOKUP(B8,'כמויות על פני השנים'!$B:$H,33,0)-HLOOKUP(B8-1,'כמויות על פני השנים'!$B:$H,33,0))/1000 -> 0 | J8: =+J7+I8 -> #REF! | K8: =IF(E8<0,-E8+K7,K7) -> 0
A9: =IF(B9=B10,"",B9) | B9: 2009 | C9: התייעלות | D9: 0.015 | E9: 1300 | J9: =+J8+I9 -> #REF! | K9: =IF(E9<0,-E9+K8,K8) -> 0
A10: =IF(B10=B11,"",B10) -> 2009 | B10: 2009 | C10: חיבור מפיקים פרטיים | D10: 1.7 | E10: 10 | J10: =+'[10]ריכוז '!$M$31/1000 -> 2783.3537 | K10: =IF(E10<0,-E10+K9,K9) -> 0
A11: =IF(B11=B12,"",B11) | B11: 2010 | C11: חדרה | D11: 2.52 | E11: 100 | I11: =+E11*D11 -> 252 | J11: =+J10+I11 -> 3035.3537 | K11: =IF(E11<0,-E11+K10,K10) -> 0 | L11: רכישת מים
A12: =IF(B12=B13,"",B12) | B12: 2010 | C12: עלות חיבור מתקני התפלת מי ים | F12: 400 | G12: 40 | H12: =5%*0.65+6.5%*0.35 -> 0.05525 | I12: =+H12*F12+F12/G12 -> 32.1 | J12: =+J11+I12 -> 3067.4537 | K12: =IF(E12<0,-E12+K11,K11) -> 0 | L12: הון
A13: =IF(B13=B14,"",B13) | B13: 2010 | C13: עלות חיבור מים מליחים | F13: 0 | G13: 40 | H13: =5%*0.65+6.5%*0.35 -> 0.05525 | I13: =+H13*F13+F13/G13 -> 0 | J13: =+J12+I13 -> 3067.4537 | K13: =IF(E13<0,-E13+K12,K12) -> 0
A14: =IF(B14=B15,"",B14) | B14: 2010 | C14: השקעות מעבר לפחת | F14: =+F4 -> 100 | G14: =+G13 -> 40 | H14: =5%*0.65+6.5%*0.35 -> 0.05525 | I14: =+H14*F14+F14/G14 -> 8.025 | J14: =+J13+I14 -> 3075.4787 | K14: =IF(E14<0,-E14+K13,K13) -> 0 | L14: הון
A15: =IF(B15=B16,"",B15) | B15: 2010 | C15: חיבור מפיקים פרטיים | D15: 1.5 | E15: 10 | I15: =+E15*D15 -> 15 | J15: =+J14+I15 -> 3090.4787 | K15: =IF(E15<0,-E15+K14,K14) -> 0 | L15: רכישת מים
A16: =IF(B16=B17,"",B16) | B16: 2010 | C16: הרחבת אשקלון | D16: 2.62 | E16: 9 | I16: =+E16*D16 -> 23.58 | J16: =+J15+I16 -> 3114.0587 | K16: =IF(E16<0,-E16+K15,K15) -> 0 | L16: רכישת מים
A17: =IF(B17=B18,"",B17) | B17: 2010 | C17: הרחבת פלמחים | D17: 2.6 | E17: 9.5 | I17: =+E17*D17 -> 24.7 | J17: =+J16+I17 -> 3138.7587 | K17: =IF(E17<0,-E17+K16,K16) -> 0 | L17: רכישת מים
A18: =IF(B18=B19,"",B18) | B18: 2010 | C18: רכישת מים מותפלים תעוזית | D18: 2.4 | I18: =+E18*D18 -> 0 | J18: =+J17+I18 -> 3138.7587 | K18: =IF(E18<0,-E18+K17,K17) -> 0 | L18: רכישת מים
A19: =IF(B19=B20,"",B19) | B19: 2010 | C19: הורדת מחצית שאיבה ראשונה בגין מותפלים | D19: =+#REF!/2 -> #REF! | E19: =-(E15+E16+E17+E11) -> -128.5 | I19: =+E19*D19 -> #REF! | J19: =+J18+I19 -> #REF! | K19: =IF(E19<0,-E19+K18,K18) -> 128.5
A20: =IF(B20=B21,"",B20) | B20: 2010 | C20: עלויות משתנות | D20: =+D8 -> 0.44 | E20: =+(HLOOKUP(B20,'כמויות על פני השנים'!$B:$H,33,0)-HLOOKUP(B20-1,'כמויות על פני השנים'!$B:$H,33,0))/1000 -> 0 | I20: =+E20*D20 -> 0 | J20: =+J19+I20 -> #REF! | K20: =IF(E20<0,-E20+K19,K19) -> 128.5 | L20: אנרגיה והשבחה
A21: =IF(B21=B22,"",B21) | B21: 2010 | C21: התייעלות | D21: =+D9 -> 0.015 | E21: 1300 | I21: =-E21*D21 -> -19.5 | J21: =+J20+I21 -> #REF! | K21: =IF(E21<0,-E21+K20,K20) -> 128.5 | L21: קבועות
A22: =IF(B22=B23,"",B22) -> 2010 | B22: 2010 | C22: רכישת מים מליחים | D22: 2.1 | E22: 2.5 | I22: =+E22*D22 -> 5.25 | J22: =+J21+I22 -> #REF! | K22: =IF(E22<0,-E22+K21,K21) -> 128.5 | L22: רכישת מים | N22: להכניס את העלויות המאושרות
A23: =IF(B23=B24,"",B23) | B23: 2011 | C23: השקעות מעבר לפחת | F23: =+F14 -> 100 | G23: 40 | H23: =5%*0.65+6.5%*0.35 -> 0.05525 | I23: =+H23*F23+F23/G23 -> 8.025 | J23: =+J22+I23 -> #REF! | K23: =IF(E23<0,-E23+K22,K22) -> 128.5
A24: =IF(B24=B25,"",B24) | B24: 2011 | C24: עלות חיבור מים מליחים | F24: 110 | G24: 40 | H24: =5%*0.65+6.5%*0.35 -> 0.05525 | I24: =+H24*F24+F24/G24 -> 8.8275 | J24: =+J23+I24 -> #REF! | K24: =IF(E24<0,-E24+K23,K23) -> 128.5
A25: =IF(B25=B26,"",B25) | B25: 2011 | C25: רכישת מים מליחים | D25: 1.7 | E25: 10 | I25: =+E25*D25 -> 17 | J25: =+J24+I25 -> #REF! | K25: =IF(E25<0,-E25+K24,K24) -> 128.5
A26: =IF(B26=B27,"",B26) | B26: 2011 | C26: הרחבת אשקלון | D26: 2.62 | E26: 3.5 | I26: =+E26*D26 -> 9.17 | J26: =+J25+I26 -> #REF! | K26: =IF(E26<0,-E26+K25,K25) -> 128.5
A27: =IF(B27=B28,"",B27) | B27: 2011 | C27: הרחבת פלמחים | D27: 2.6 | E27: 2 | I27: =+E27*D27 -> 5.2 | J27: =+J26+I27 -> #REF! | K27: =IF(E27<0,-E27+K26,K26) -> 128.5
A28: =IF(B28=B29,"",B28) | B28: 2011 | C28: הרחבת חדרה | D28: 2.7 | E28: 27 | I28: =+E28*D28 -> 72.9 | J28: =+J27+I28 -> #REF! | K28: =IF(E28<0,-E28+K27,K27) -> 128.5
A29: =IF(B29=B30,"",B29) | B29: 2011 | C29: רכישת מים מותפלים תעוזית | D29: 2.4 | E29: 20 | I29: =+E29*D29 -> 48 | J29: =+J28+I29 -> #REF! | K29: =IF(E29<0,-E29+K28,K28) -> 128.5
A30: =IF(B30=B31,"",B30) | B30: 2011 | C30: הורדת שאיבה שנייה בגין מותפלים | D30: =+#REF!/2 -> #REF! | E30: =-(E35+E25+E26+E27) -> -25.5 | I30: =+E30*D30 -> #REF! | J30: =+J29+I30 -> #REF! | K30: =IF(E30<0,-E30+K29,K29) -> 154
A31: =IF(B31=B32,"",B31) | B31: 2011 | C31: עלויות משתנות | D31: =+D20 -> 0.44 | E31: =+(HLOOKUP(B31,'כמויות על פני השנים'!$B:$H,34,0)-HLOOKUP(B31-1,'כמויות על פני השנים'!$B:$H,34,0))/1000 -> 0 | I31: =+E31*D31 -> 0 | J31: =+J30+I31 -> #REF! | K31: =IF(E31<0,-E31+K30,K30) -> 154
A32: =IF(B32=B34,"",B32) | B32: 2011 | C32: עלויות מוכרות 2011 לפני תוספת השקעות | J32: =+#REF!/1000 -> #REF! | K32: =IF(E32<0,-E32+K31,K31) -> 154 | M32: 550
B33: 2011 | C33: השקעות מעבר לפחת | F33: 185 | G33: 40 | H33: =5%*0.65+6.5%*0.35 -> 0.05525 | I33: =+H33*F33+F33/G33 -> 14.84625 | J33: =+J32+I33 -> #REF! | K33: =IF(E33<0,-E33+K32,K32) -> 154 | M33: =+M32*0.02 -> 11
A34: =IF(B34=B35,"",B34) | B34: 2011 | C34: חובות בגין שנים עברו | I34: =-(#REF!)/3/1000 -> #REF! | J34: =+J33+I34 -> #REF! | K34: =IF(E34<0,-E34+K32,K32) -> 154
A35: =IF(B35=B36,"",B35) -> 2011 | B35: 2011 | C35: חיבור מפיקים פרטיים | D35: 1.7 | E35: 10 | I35: 17 | J35: =+J34+I35 -> #REF! | K35: =IF(E35<0,-E35+K34,K34) -> 154
A36: =IF(B36=B37,"",B36) | B36: 2012 | C36: השקעות מעבר לפחת | F36: =+F23 -> 100 | G36: 40 | H36: =5%*0.65+6.5%*0.35 -> 0.05525 | I36: =+H36*F36+F36/G36 -> 8.025 | J36: =+J35+I36 -> #REF! | K36: =IF(E36<0,-E36+K35,K35) -> 154
A37: =IF(B37=B38,"",B37) | B37: 2012 | C37: עלות חיבור מים מליחים | F37: 80 | G37: 40 | H37: =5%*0.65+6.5%*0.35 -> 0.05525 | I37: =+H37*F37+F37/G37 -> 6.42 | J37: =+J36+I37 -> #REF! | K37: =IF(E37<0,-E37+K36,K36) -> 154
A38: =IF(B38=B39,"",B38) | B38: 2012 | C38: התאמת המערכת הארצית לקליטת מותפלים (קו ירקון מערבי) | F38: 200 | G38: 40 | H38: =5%*0.65+6.5%*0.35 -> 0.05525 | I38: =+H38*F38+F38/G38 -> 16.05 | J38: =+J37+I38 -> #REF! | K38: =IF(E38<0,-E38+K37,K37) -> 154
A39: =IF(B39=B40,"",B39) | B39: 2012 | C39: המערכת החמישית - הקטע המערבי | F39: 100 | G39: 40 | H39: =5%*0.65+6.5%*0.35 -> 0.05525 | I39: =+H39*F39+F39/G39 -> 8.025 | J39: =+J38+I39 -> #REF! | K39: =IF(E39<0,-E39+K38,K38) -> 154
A40: =IF(B40=B41,"",B40) | B40: 2012 | C40: רכישת מים מליחים | D40: 2.1 | E40: 6 | I40: =+E40*D40 -> 12.6 | J40: =+J39+I40 -> #REF! | K40: =IF(E40<0,-E40+K39,K39) -> 154
...

Sheet תרחיש מפורט
A1: שנה | E1: =+G1 -> 2013 | G1: 2013
G2: =VLOOKUP(G1,'תוספת עלויות במהלך השנים'!$1:$141,2,0) -> 2013
A3: עלויות | B3: 2012 | F3: עלות מוכרת צפויה (כולל רווח) | G3: =+'עלויות מוכרות לשנת 2013'!P40 -> 3942290.3
A5: מקורות לכיסוי
B6: כמות | E6: מחיר | F6: כמות
A7: שפירים לבית | B7: 121483.3 | E7: =+F43 -> 5.9399016 | F7: =VLOOKUP($A7,'כמויות על פני השנים'!$2:$40,+G$2-2006,0)-F16-F14-F15-F8-F9-F10 -> 189645.04 | G7: =+F7*E7 -> 1126472.9
A8: רשויות מקומיות גבוה | B8: 80000 | E8: =+E7+'הנחות בסיס'!C17 -> 6.9599016 | F8: 53000 | G8: =+F8*E8 -> 368874.79
A9: רשויות מקומיות נמוך | B9: 80000 | E9: =+E16+'הנחות בסיס'!C17 -> 2.3959016 | F9: 65000 | G9: =+F9*E9 -> 155733.61
A10: צרכן שאינו ספק | B10: 33897.7 | E10: =+'[12]תעריף השלמה לרשויות מקומיות'!$I$5/1.16 -> 8.9343875 | F10: =+B10 -> 33897.7 | G10: =+F10*E10 -> 302855.19
A11: תעשייה שולי | B11: 40000 | E11: =7.066*1.02 -> 7.20732 | F11: =+B11 -> 40000 | G11: =+F11*E11 -> 288292.8
A12: שפירים לתעשייה | B12: 32300 | E12: =+(E11-VLOOKUP(G2,'[13]נתוני תאגידים'!$B$245:$CA$250,70,0))*VLOOKUP(G2,'[13]נתוני תאגידים'!$B$252:$CA$257,70,0)-(1-VLOOKUP(G2,'[13]נתוני תאגידים'!$B$261:$CA$267,70,0))*'הנחות בסיס'!$C$15 -> 4.2250155 | F12: =VLOOKUP($A12,'כמויות על פני השנים'!$2:$40,+G$2-2006,0)-F11 -> 32300 | G12: =+F12*E12 -> 136468
A13: נחותים לתעשייה - בסיס | B13: 1917.809 | E13: =+E12 -> 4.2250155 | F13: =VLOOKUP($A13,'כמויות על פני השנים'!$2:$40,+G$2-2006,0) -> 1917.809 | G13: =+F13*E13 -> 8102.7727
A14: בתי מלון | B14: 13679.177 | E14: =+E13 -> 4.2250155 | F14: =VLOOKUP($A14,'כמויות על פני השנים'!$2:$40,+G$2-2006,0) -> 14499.928 | G14: =+F14*E14 -> 61262.42
A15: רשות מקומית | B15: 41000 | E15: =+(E7*F7+E16*F16)/(F16+F7) -> 3.6557709 | F15: 43000 | G15: =+F15*E15 -> 157198.15
A16: בסיסי | B16: 185640 | E16: =+E7-'הנחות בסיס'!$C$15 -> 1.3759016 | F16: =+B16*'שינוי בצריכה לשנה'!$B$3+B16+B9-F9-13982 -> 189999.52 | G16: =+F16*E16 -> 261420.65
A17: בית שאן קידוחים | B17: 0 | E17: =VLOOKUP($A17,'מחירים על פני השנים'!$1:$30,G$2-2006,0) -> 0.1 | F17: =VLOOKUP($A17,'כמויות על פני השנים'!$2:$40,+G$2-2006,0) -> 0 | G17: =+F17*E17 -> 0
A18: שפירים לחקלאות א' | B18: 196859.55 | E18: =VLOOKUP($A18,'מחירים על פני השנים'!$1:$30,G$2-2006,0) -> 1.976205 | F18: =VLOOKUP($A18,'כמויות על פני השנים'!$2:$40,+G$2-2006,0) -> 196859.55 | G18: =+F18*E18 -> 389034.83
A19: שפירים לחקלאות ב' | B19: 53067.509 | E19: =VLOOKUP($A19,'מחירים על פני השנים'!$1:$30,G$2-2006,0) -> 2.240105 | F19: =VLOOKUP($A19,'כמויות על פני השנים'!$2:$40,+G$2-2006,0) -> 53067.509 | G19: =+F19*E19 -> 118876.79
A20: שפירים לחקלאות ג' | B20: 18203.7 | E20: =VLOOKUP($A20,'מחירים על פני השנים'!$1:$30,G$2-2006,0) -> 2.77095 | F20: =VLOOKUP($A20,'כמויות על פני השנים'!$2:$40,+G$2-2006,0) -> 18203.7 | G20: =+F20*E20 -> 50441.543
A21: שפירים חריגה | B21: 0 | E21: =VLOOKUP($A21,'מחירים על פני השנים'!$1:$30,G$2-2006,0) -> 2.77095 | F21: =VLOOKUP($A21,'כמויות על פני השנים'!$2:$40,+G$2-2006,0) -> 0 | G21: =+F21*E21 -> 0
A22: עמק הירדן | B22: 0.858 | E22: =VLOOKUP($A22,'מחירים על פני השנים'!$1:$30,G$2-2006,0) -> 1.976205 | F22: =VLOOKUP($A22,'כמויות על פני השנים'!$2:$40,+G$2-2006,0) -> 0.858 | G22: =+F22*E22 -> 1.6955839
A23: עמק הירדן תחום המוא"ז בית שאן | B23: 3137.27 | E23: =VLOOKUP($A23,'מחירים על פני השנים'!$1:$30,G$2-2006,0) -> 1.976205 | F23: =VLOOKUP($A23,'כמויות על פני השנים'!$2:$40,+G$2-2006,0) -> 3137.27 | G23: =+F23*E23 -> 6199.8887
A24: גבעת יואב | B24: 247.739 | E24: =VLOOKUP($A24,'מחירים על פני השנים'!$1:$30,G$2-2006,0) -> 1.976205 | F24: =VLOOKUP($A24,'כמויות על פני השנים'!$2:$40,+G$2-2006,0) -> 247.739 | G24: =+F24*E24 -> 489.58305
A25: מעלה גמלא | B25: 309.262 | E25: =VLOOKUP($A25,'מחירים על פני השנים'!$1:$30,G$2-2006,0) -> 1.976205 | F25: =VLOOKUP($A25,'כמויות על פני השנים'!$2:$40,+G$2-2006,0) -> 309.262 | G25: =+F25*E25 -> 611.16511
A26: חולתא למדגה | B26: 18.5 | E26: =VLOOKUP($A26,'מחירים על פני השנים'!$1:$30,G$2-2006,0) -> 1.976205 | F26: =VLOOKUP($A26,'כמויות על פני השנים'!$2:$40,+G$2-2006,0) -> 18.5 | G26: =+F26*E26 -> 36.559792
A27: בית שאן קידוחים | B27: 0 | E27: =VLOOKUP($A27,'מחירים על פני השנים'!$1:$30,G$2-2006,0) -> 0.1 | F27: =VLOOKUP($A27,'כמויות על פני השנים'!$2:$40,+G$2-2006,0) -> 0 | G27: =+F27*E27 -> 0
A28: בית שאן מעיינות (מליחים ומתוקים) | B28: 62467.066 | E28: =VLOOKUP($A28,'מחירים על פני השנים'!$1:$30,G$2-2006,0) -> 0.1 | F28: =VLOOKUP($A28,'כמויות על פני השנים'!$2:$40,+G$2-2006,0) -> 62467.066 | G28: =+F28*E28 -> 6246.7066
... A40: בית שאן בית, תעשייה וחקלאות | B40: 18717.54 | E40: =VLOOKUP($A40,'מחירים על פני השנים'!$1:$30,G$2-2006,0) -> 0.1 | F40: =VLOOKUP($A40,'כמויות על פני השנים'!$2:$40,+G$2-2006,0) -> 18717.54 | G40: =+F40*E40 -> 1871.754
F41: =+F7+F16+F15+F8+F9 -> 540644.56 | G41: =SUM(G17:G40)+G11+G12+G13+G14+G10 -> 1872590.2
F42: =+G42/F41 -> 3.8282085 | G42: =+G3-G41 -> 2069700.1
F43: =+(G42+G43+G44)/F41 -> 5.9399016 | G43: =+F16*'הנחות בסיס'!$C$15+F15*F16/(F16+F7)*'הנחות בסיס'!$C$15+F9*'הנחות בסיס'!$C$15-(F8+F9)*'הנחות בסיס'!$C$17 -> 1141675.4
F45: =SUM(F7:F40) -> 1442948.4 | G45: =SUM(G7:G40) -> 3942290.3
G46: =+G45-G3 -> 0
A52: אחיד נמוך | E52: =+E48+E56 -> 3.9173964
A54: מים בלבד | E54: =+(E7/VLOOKUP(E1,'[14]נתוני תאגידים'!$B$253:$BS$257,70,0)+VLOOKUP(E1,'[14]נתוני תאגידים'!$B$245:$BS$250,70,0)) -> 8.8112235
A56: נמוך | E56: =+E54-'הנחות בסיס'!$C$15*(VLOOKUP(E1,'[14]נתוני תאגידים'!$B$261:$BS$265,70,0))/VLOOKUP(E1,'[14]נתוני תאגידים'!$B$253:$BS$257,70,0) -> 3.9173964
A59: תוספת איגודי ערים
F60: גידול בצרכנים הלא ביתיים | G60: =SUM(G17:G40)+G14+G12+G11 -> 1561632.3
G61: =SUM(C17:C39)+C14+C12+C11 -> 0
G62: =+G60-G61 -> 1561632.3

Sheet הנחות בסיס
A2: הנחות עיקריות
B4: שיעור שינוי לשנה | C4: מחירי 2013
A5: ביתי | B5: 0.018 | C5: =+'תרחיש מפורט'!E7 -> 5.9399016
A6: תעשייה | B6: 0 | C6: =+'תרחיש מפורט'!E16 -> 1.3759016
A7: חקלאות שפירים | B7: 0
A8: חקלאות קולחין | B8: 0.04
A9: שפד"ן | B9: 0
A10: מליחים | B10: 0.02
A11: ירדן | B11: 0
A12: פלסטינים | B12: 0.03
A13: מים לטבע | B13: 0.08
A15: שולי - בסיסי | C15: =+'[15]גיליון סימולציות'!$H$16 -> 4.564
A17: תוספת ספק אחר | C17: =+D17+F17 -> 1.02 | D17: 0.6 | F17: 0.42
