Workbook

Sheet רפת חריגים 
B1: נתוני השפכים החריגים שנדגמו ברפת | F1: יש לבחור שנת חיוב >> | H1: 2016
B3: טור א' - מרכיבים | C3: יחידת מדידה | D3: שפכי היצרן (המפעל) שנדגמו | E3: שפכי המט"ש | F3: קולחי המט"ש | G3: איכות להזרמה לביוב טור ב' בכללים | H3: ערכי טור ג' בכללים
B4: ספיקת שפכים | C4: מ"ק ליום | D4: ='סימולאטור רפת'!C16 -> 20 | E4: 15000 | L4: 2016 | M4: 2017 | N4: 2018
A5: 2 | B5: צריכת חמצן כימית (COD) | C5: מג"ל | D5: 2000 | E5: 1000 | F5: 70 | G5: 800 | H5: =HLOOKUP($H$1,$L$4:$N$8,ROW()-3,0) -> 3800 | L5: 3800 | M5: 4500 | N5: 5000
A6: 3 | B6: כלל מוצקים מרחפים (TSS) | C6: מג"ל | D6: 1000 | E6: 450 | F6: 10 | G6: 400 | H6: =HLOOKUP($H$1,$L$4:$N$8,ROW()-3,0) -> 1800 | L6: 1800 | M6: 2500 | N6: 3000
A7: 4 | B7: חנקן קילדל | C7: מג"ל | D7: 100 | E7: 80 | F7: 10 | G7: 50 | H7: =HLOOKUP($H$1,$L$4:$N$8,ROW()-3,0) -> 300 | L7: 300 | M7: 400 | N7: 450
A8: 5 | B8: זרחן כ-P | C8: מג"ל | D8: 50 | E8: 20 | F8: 5 | G8: 15 | H8: =HLOOKUP($H$1,$L$4:$N$8,ROW()-3,0) -> 70 | L8: 70 | M8: 80 | N8: 90
D10: תא ירוק להשלמת נתונים. יש להשלים נתונים גם בגיליון סימולאטור
D12: פקטורי חישוב לחלוקת העלות לפי מזהם
C14: המזהם | D14: אנרגיה | E14: כימיקלים/ייצור בוצה | F14: החזר הון\הוצאות קבועות
D15: Pfactor | E15: Cfactor | F15: INVfactor
C16: COD | D16: 0.55 | E16: 0.33 | F16: 0.41
C17: NH4 | D17: 0.18 | E17: 0.02 | F17: 0.09
C18: TSS | D18: 0.1 | E18: 0.55 | F18: 0.4
C19: PO4 | D19: 0.05 | E19: 0.05 | F19: 0.05
C21: פקטור חישוב לאיכות לפי ענבר
C23: האיכות הנדרשת | D23: הפקטור הכולל
C24: איכות להשקייה ללא מגבלות | D24: 1.23
C25: איכות נמוכה מההשקייה ללא מגבלות | D25: 1
C27: נתוני עלות
C29: צריכת אנרגיה סגולית | D29: קווט"ש למ"ק | E29: 0.65
C30: ממוצע תעו"ז מתח גבוה | D30: ₪ לקווט"ש | E30: 0.33
C31: מחיר כימיקל | D31: ₪ לק'"ג | E31: 15.43
C32: עלות פינוי בוצה | D32: ₪ לטון | E32: 154.17
C33: השקעה לפי נוסחת עלות כתלות בספיקה (50% מההשקעה ילקחו בחשבון) | D33: ₪ | E33: =0.05*(E4)^0.68*10^6 -> 34571009
C34: מקדם החזר הון | D34: עשרוני | E34: 0.095
C35: החזר הון | D35: ₪ לשנה | E35: =E34*E33 -> 3284245.9
C36: עלויות קבועות למט"ש לפי נוסחת עלות כתלות בספיקה | D36: ₪ למ"ק | E36: =5.19*(E4)^-0.26 -> 0.42597453
C37: CF להשקעה ולהוצאות הקבועות | D37: עשרוני | E37: 0.85
C39: נוסחת השקעה | D39: 0.05*(QdWWTP)^0.68*10^6
C40: נוסחת חישוב עלות קבועה | D40: 5.19*(QdWWTP)^-0.26
C42: חישובי עומסי מזהמים להרחקה
E44: עומס זיהום להרחקה משפכי היצרן | F44: עומס זיהום מסולק במט"ש
C45: COD | D45: ק"ג ליום | E45: =(D5-G5)*$D$4*10^-3 -> 24 | F45: =(E5-F5)*$E$4*10^-3 -> 13950
C46: TSS | D46: ק"ג ליום | E46: =(D6-G6)*$D$4*10^-3 -> 12 | F46: =(E6-F6)*$E$4*10^-3 -> 6600
C47: NH4 -N | D47: ק"ג ליום | E47: =(D7-G7)*$D$4*10^-3 -> 1 | F47: =(E7-F7)*$E$4*10^-3 -> 1050
C48: PO4-P | D48: ק"ג ליום | E48: =(D8-G8)*$D$4*10^-3 -> 0.7 | F48: =(E8-F8)*$E$4*10^-3 -> 225
C50: חישוב מרכיבי העלות
E51: חנקן | F51: זרחן
B52: המרכיב | C52: COD | D52: TSS | E52: NH4 | F52: PO4
B53: עלות כוללת למזהם | C53: =IF(D5<=G5,0,IF('סימולאטור רפת'!C28="במסגרת ההסדר",((D5-G5)/(E5-F5))*(($E$29*D16*$E$30)+(0.007*E16*$E$31)+(0.5*$E$34*$E$33*F16*$E$37/(365*$E$4))+($E$36*$E$37*F16)+(0.002*E16*$E$32))*D24,((D5-G5)/(E5-F5))*(($E$29*D16*$E$30*2)+(0.007*E16*$E$31)+(0.5*$E$34*$E$33*F16*$E$37/(365*$E$4))+($E$36*$E$37*F16)+(0.002*E16*$E$32*1.2))*D24)) -> 0.80679846 | D53: =IF(D6<=G6,0,IF('סימולאטור רפת'!C28="במסגרת ההסדר",((D6-G6)/(E6-F6))*(($E$29*D18*$E$30)+(0.007*E18*$E$31)+(0.5*$E$34*$E$33*F18*$E$37/(365*$E$4))+($E$36*$E$37*F18)+(0.002*E18*$E$32))*D24,((D6-G6)/(E6-F6))*(($E$29*D18*$E$30*2)+(0.007*E18*$E$31)+(0.5*$E$34*$E$33*F18*$E$37/(365*$E$4))+($E$36*$E$37*F18)+(0.002*E18*$E$32*1.2))*D24)) -> 0.83402458 | E53: =IF(OR(E54="לא",D7<=G7),0,IF('סימולאטור רפת'!C28="במסגרת ההסדר",((D7-G7)/(E7-F7))*(($E$29*D17*$E$30)+(0.007*E17*$E$31)+(0.5*$E$34*$E$33*F17*$E$37/(365*$E$4))+($E$36*$E$37*F17)+(0.002*E17*$E$32))*D24,((D7-G7)/(E7-F7))*(($E$29*D17*$E$30*2)+(0.007*E17*$E$31)+(0.5*$E$34*$E$33*F17*$E$37/(365*$E$4))+($E$36*$E$37*F17)+(0.002*E17*$E$32*1.2))*D24)) -> 0.090026145 | F53: =IF(OR(F54="לא",D8<=G8),0,IF('סימולאטור רפת'!C28="במסגרת ההסדר",((D8-G8)/(E8-F8))*(($E$29*D19*$E$30)+(0.007*E19*$E$31)+(0.5*$E$34*$E$33*F19*$E$37/(365*$E$4))+($E$36*$E$37*F19)+(0.002*E19*$E$32))*D24,((D8-G8)/(E8-F8))*(($E$29*D19*$E$30*2)+(0.007*E19*$E$31)+(0.5*$E$34*$E$33*F19*$E$37/(365*$E$4))+($E$36*$E$37*F19)+(0.002*E19*$E$32*1.2))*D24)) -> 0.17906932
B54: העלות מחויבת לפי נתוני ההסכם או הדיגום הנמוך מבינהם. המט"ש מרחיק: | E54: כן | F54: כן
C56: נוסחאות החישוב לפי הכללים
B69: חריגים לא בהסדר:
B83: ="חישוב מרכיבי עלות כתלות במזהם בשקלים חדשים למ''ק ממוצע של שפכי היצרן"&" - "&'סימולאטור רפת'!C28&"*" -> חישוב מרכיבי עלות כתלות במזהם בשקלים חדשים למ''ק ממוצע של שפכי היצרן - במסגרת ההסדר*
B85: המרכיב | C85: צריכת חמצן כימית (COD) | D85: כלל מוצקים מרחפים (TSS) | E85: חנקן קילדל | F85: זרחן כ-P | G85: עלות כוללת למפעל בש"ח למ"ק שפכים ממוצע
B86: סה"כ למט"ש באיכות להשקייה ללא מגבלות | C86: =IF('רפת חריגים '!C53>0,'רפת חריגים '!C53,0) -> 0.80679846 | D86: =IF('רפת חריגים '!D53>0,'רפת חריגים '!D53,0) -> 0.83402458 | E86: =E53 -> 0.090026145 | F86: =F53 -> 0.17906932 | G86: =SUM(C86:F86) -> 1.9099185
B87: סה"כ למט"ש באיכות שניונית | C87: =C86/'רפת חריגים '!$D$24 -> 0.65593371 | D87: =D86/'רפת חריגים '!$D$24 -> 0.67806876 | E87: =E86/'רפת חריגים '!$D$24 -> 0.073191988 | F87: =F86/'רפת חריגים '!$D$24 -> 0.14558481 | G87: =SUM(C87:F87) -> 1.5527793
B89: *הסימולאטור בודק האם הערכים שנקבעו הינם במסגרת טור ג' בתוספת ובהתאם נקבעים הערכים המירביים לחיוב שמוזנים בגיליון הסימולאטור.
B92: הערה
B93: יתכנו שינויים במונחים בין הכללים כפי שמתפרסמים ברשומות לבין המינוחים המקצועיים להלן. בכל מקרה של סתירה יגברו המונחים המופיעים בכללים.

Sheet רפת אסורים
B3: נתוני השפכים האסורים שנדגמו ברפת
B5: תא ירוק להשלמת נתונים. יש להשלים נתונים גם בגיליון סימולאטור
C7: כלוריד | D7: נתרן
B8: ערך נמדד בדיגום | C8: 1000 | D8: 1200
B9: ערך נמדד במי הרקע | C9: 125 | D9: 100
B12: Wp | C12: 5.517
C14: כלוריד | D14: נתרן
B15: Cw | C15: 20 | D15: 15
B16: ערך דלתא | C16: 800 | D16: 600
B17: ערך סף אסורים | C17: =C16+$C$9 -> 925 | D17: =D16+$D$9 -> 700
B19: Ps | C19: =ROUND(MIN(20,IF($C8>C$17,($C8-C$17)/(C$17-C$15)*$C$12,0)),3) -> 0.457 | D19: =ROUND(MIN(20,IF($D8>D$17,($D8-D$17)/(D$17-D$15)*$C$12,0)),3) -> 4.027

Sheet סימולאטור רפת
A1: סימולאטור עזר לחיוב חשבון הצרכן בהתאם לכללי שפכי מפעלים רפתות:
A2: (תא בירוק - נתונים שיש להזין)
A4: עלות כוללת למפעל בש"ח למ"ק שפכים ממוצע לפי סוג המט"ש (יש לבחור לפי מים או ביוב מבין 2 האפשרויות) | C4: סה"כ למט"ש באיכות להשקייה ללא מגבלות
A6: חיוב לפי כמות (מים/שפכים)** | C6: מים
A7: מכפלת תעריף לחריגים לפי מ"ק מים לרפת בהתאם לכמויות החיוב* | C7: 0.7
A8: % ההזרמה לביוב מכמות המים כפי שקבע מכון התקנים - אם אין, יש להשאיר 0% | C8: 0
A10: תאריך ביצוע הדגימה | C10: 41791
A11: תאריך הדיגום הקודם (לפני מועד הדגימה הנוכחית) | C11: 41760
A12: כמות שנקראה בשעון המים/מד השפכים וחוייבה בחשבון הקודם | C12: 600
A13: מספר הימים שחוייבו בחשבון הקודם (לצורך חישוב ההממוצע היומי) | C13: 30
A15: מס' ימים לחיוב או 90 ימים אחורה הקצר מבינהם | C15: =IF(C10-C11>90,90,C10-C11) -> 31
A16: כמות יומית ממוצעת לחיוב במ"ק מים/שפכים | C16: =C12/C13 -> 20
A17: סה"כ כמות מים/שפכים לחיוב לתקופה | C17: =C15*C16 -> 620
A19: תעריף השפכים החריגים (Px) בש"ח למ"ק שפכים לפי סוג המט"ש** | C19: =VLOOKUP(C4,'רפת חריגים '!B86:G87,6,0) -> 1.9099185
A20: ="תעריף השפכים החריגים לחיוב בש''ח למ''ק"&" "&C6 -> תעריף השפכים החריגים לחיוב בש''ח למ''ק מים | C20: =IF(C6="מים",IF(C8<>0,C8*C19,C7*C19),C19) -> 1.3369429
B22: ='רפת חריגים '!D3 -> שפכי היצרן (המפעל) שנדגמו | C22: ='רפת חריגים '!H3 -> ערכי טור ג' בכללים
A23: צריכת חמצן כימית (COD) | B23: ='רפת חריגים '!D5 -> 2000 | C23: ='רפת חריגים '!H5 -> 3800
A24: כלל מוצקים מרחפים (TSS) | B24: ='רפת חריגים '!D6 -> 1000 | C24: ='רפת חריגים '!H6 -> 1800
A25: חנקן קילדל | B25: ='רפת חריגים '!D7 -> 100 | C25: ='רפת חריגים '!H7 -> 300
A26: זרחן כ-P | B26: ='רפת חריגים '!D8 -> 50 | C26: ='רפת חריגים '!H8 -> 70
A28: בדיקה האם היתה חריגה מהסדר עם הספק | C28: =IF(OR(C23<B23,C24<B24,C25<B25,C26<B26),"חרג מההסדר","במסגרת ההסדר") -> במסגרת ההסדר
A30: תוספת לאגרה עבור שפכים אסורים - כלורידים | C30: ='רפת אסורים'!C19 -> 0.457
A31: תוספת לאגרה עבור חיוב שפכים אסורים - נתרן | C31: ='רפת אסורים'!D19 -> 4.027
A32: סה"כ תוספת לאגרה בגין שפכים אסורים | C32: =C31+C30 -> 4.484
A34: חיוב בגין שפכים חריגים | C34: =C20*C17 -> 828.90463
A35: חיוב בגין שפכים אסורים | C35: =IF(C6="מים",IF(C8=0,C7,C8),1)*C32*C17 -> 1946.056
A37: סה"כ החיוב למפעל בגין הזרמת השפכים (חריגים ואסורים) | C37: =C35+C34 -> 2774.9606
A39: *אם החיוב נעשה לפי מד מים בכניסה לרפת - יש לבחור 0.35. **במידה ויש מד שפכים יש לבחור ביוב.

Sheet טופס הודעת חיוב
G1: תאריך
A2: טופס הודעת חיוב לפי סעיף 11(ו) לכללים - רפתות
A4: לכבוד
B6: הנדון: הודעת תשלום בעד הזרמת שפכי תעשייה
A8: הרני להודיעך, כי בדיגום שנערך במפעל בתאריך | F8: נמצאו שפכים | G8: חרגים ואסורים
A9: כהגדרתם בכללי תאגידי מים וביוב(שפכי מפעלים המוזרמים למערכת הביוב), התשע"ד-2014 (להלן הכללים)
A10: לפי המפורט בטבלה שלהלן:
A12: שפכים חריגים:
A14: מרכיב נבדק | C14: יחידות | D14: ערך מרבי מותר להזרמה לביוב | E14: ערך שנמצא בדגימת השפכים | F14: ערך בשפכי המט"ש | G14: ערך בקולחים היוצאים מהמט"ש
A15: ='רפת חריגים '!B5 -> צריכת חמצן כימית (COD)
A16: ='רפת חריגים '!B6 -> כלל מוצקים מרחפים (TSS)
A17: ='רפת חריגים '!B7 -> חנקן קילדל
A18: ='רפת חריגים '!B8 -> זרחן כ-P
A20: בעד החריגות המפורטות לעיל, על המפעל לשלם את התעריפים הבאים לפי הפרוט שלהלן:
A22: ספיקת השפכים בכניסה למט"ש: | D22: ='סימולאטור רפת'!C16 -> 20 | E22: מ"ק ליום.
A24: תעריף השפכים החריגים (Px) לרפת בש"ח למ"ק שפכים לפי סוג המט"ש הנו | G24: ='סימולאטור רפת'!C19 -> 1.9099185 | H24: ש''ח למ"ק.
A26: תעריך לשפכים חריגים לפי כמויות צריכת המים לפי מיקום נקודת הדיגום הינה | G26: ='סימולאטור רפת'!C20 -> 1.3369429 | H26: ש''ח למ"ק.
A28: שפכים אסורים:
B30: תעריף לשפכים אסורים לחיוב עבור הזרמת כלוריד ונתרן | G30: ='סימולאטור רפת'!C32 -> 4.484 | H30: ש''ח למ"ק.
B32: מרכיב נבדק | C32: יחידות | D32: ערך שנמצא בדגימת השפכים | E32: אחוז חריגה מהמותר להזרמה בכללים | F32: תעריף הביוב לפי חריגה (2/4/6)
B33: ='רפת אסורים'!C14 -> כלוריד
B34: ='רפת אסורים'!D14 -> נתרן
B36: תקופת החיוב | D36: עד
B38: ="כמות מים/שפכים לחיוב לפי "&'סימולאטור רפת'!C15&" ימים:" -> כמות מים/שפכים לחיוב לפי 31 ימים: | E38: ='סימולאטור רפת'!C17 -> 620 | F38: מ"ק
B40: סה"כ חיוב על הזרמת שפכים חריגים: | E40: ='סימולאטור רפת'!C34 -> 828.90463 | F40: ₪
B42: סה"כ חיוב על הזרמת שפכים אסורים: | E42: ='סימולאטור רפת'!C35 -> 1946.056 | F42: ₪
B44: סה"כ לתשלום בגין שפכים חריגים ואסורים | E44: =E42+E40 -> 2774.9606 | F44: ₪
B46: סך עלויות הדיגום בהתאם לכללי התעריפים* | F46: ₪
B49: סה"כ לתשלום לתקופה | E49: =E46+E44 -> 2774.9606 | F49: ₪
A51: *תכנית הדיגום הדו-שנתית שאושרה.
A53: לידיעתך, הנך רשאי להביא בפני החברה את טענותיך בכתב בעניין הודעת החיוב, בתוך 30 ימים מקבלת הודעה זו.

Sheet דיווח דיגומים
B1: מס' סידורי | C1: שם מפעל | D1: כתובת המפעל | E1: מגזר תעשייתי לפי התוספת השלישית | F1: אופן הדיגום (חטף/מורכב) | G1: כמות מים/שפכים שנתית | H1: מספר בדיקות שנתי מתוכנן עפ"י תכנית הדיגום | I1: מספר בדיקות בפועל | J1: האם יש הסכם להזרמת שפכים חריגים כן/לא | K1: מספר דיגומים שנמצאו שפכים חריגים | L1: מספק דיגומים שנמצאו שפכים אסורים | M1: מספר הדיגומים שלא נמצאו חריגות (אסורים או חריגים) | N1: הערות
B2: 1
B3: 2
B4: 3
B5: 4
B6: 5
B7: 6
B8: 7
B9: 8
B10: 9
B11: 10
B12: 11
B13: 12
... B46: 45

Sheet דיווח חריגים
F1: ריכוז מירבי המותר הזרמה על פי הסכם (מג"ל \ ערך) | J1: ממוצע ריכוזים בפועל (מג"ל \ ערך)
B2: מס' | C2: שם מפעל | D2: מגזר תעשייתי | E2: כמות מים/שפכים שנתית | F2: COD | G2: TSS | H2: חנקן קילדל | I2: זרחן | J2: COD | K2: TSS | L2: חנקן קילדל | M2: זרחן
B3: 1
B4: 2
B5: 3
B6: 4
B7: 5
B8: 6
B9: 7
B10: 8
B11: 9
B12: 10
B13: 11
B14: 12
... B27: 25

Sheet תוצאות דיגום אסורים
B1: מס' | C1: שם מפעל | D1: מגזר תעשייתי | E1: צריכת מים לדיגום | F1: תאריך הדיגום | G1: הפרמטר החורג | H1: ערך נמדד
B2: 1 | C2: משה משה בע"מ (דוגמא) | E2: 1450 | F2: 41289 | G2: כלוריד | H2: 500
B3: 2 | C3: משה משה בע"מ (דוגמא) | E3: 1450 | F3: 41289 | G3: נתרן | H3: 400
B4: 3 | C4: משה משה בע"מ (דוגמא) | E4: 1450 | F4: 41289 | G4: PH | H4: 5
B5: 4 | C5: משה משה בע"מ (דוגמא) | E5: 1380 | F5: 41507 | G5: כלוריד | H5: 480
B6: 5
B7: 6
B8: 7
B9: 8
B10: 9
B11: 10
B12: 11
B13: 12
B14: 13
B15: 14
B16: 15
B17: 16
... B26: 25

Sheet דיווח כספי שנתי
B1: מס"ד | C1: שם מפעל | D1: כמות מים/שפכים שנתית | E1: שפכים אסורים | G1: שפכים חריגים בהסדר | I1: שפכים חריגים שלא בהסדר | K1: סה"כ חיוב שנתי בגין שפכי מפעלים ב- ₪ | L1: הערות
E2: כמות מים שחוייבה | F2: היקף החיוב השנתי ₪ | G2: כמות מים שחוייבה | H2: היקף החיוב השנתי ₪ | I2: כמות מים שחוייבה | J2: היקף החיוב השנתי ₪
B3: 1 | K3: =J3+H3+F3 -> 0
B4: 2 | K4: =J4+H4+F4 -> 0
B5: 3 | K5: =J5+H5+F5 -> 0
B6: 4 | K6: =J6+H6+F6 -> 0
B7: 5 | K7: =J7+H7+F7 -> 0
B8: 6 | K8: =J8+H8+F8 -> 0
B9: 7 | K9: =J9+H9+F9 -> 0
B10: 8 | K10: =J10+H10+F10 -> 0
B11: 9 | K11: =J11+H11+F11 -> 0
B12: 10 | K12: =J12+H12+F12 -> 0
B13: 11 | K13: =J13+H13+F13 -> 0
B14: 12 | K14: =J14+H14+F14 -> 0
... B31: 29 | K31: =J31+H31+F31 -> 0
