Workbook

Sheet תעריף ביוב רשויות 
C1: ביוב כולל מע"מ | D1: מקורות נמוך | E1: מקורות גבוה | F1: ביוב לפני מע"מ | H1: 0.17
A2: 1 | B2: אור עקיבא | C2: =F2*(1+$H$1) -> 3.7764407 | D2: =+VLOOKUP(B2,'תעריף רכישה רשויות '!$B:$G,3,0) -> 1.8351812 | E2: =+VLOOKUP(B2,'תעריף רכישה רשויות '!$B:$G,2,0) -> 5.7738672 | F2: =+VLOOKUP(B2,'תעריף רכישה רשויות '!$B:$G,5,0) -> 3.2277271
A3: 2 | B3: אליכין | C3: =F3*(1+$H$1) -> 2.7613141 | D3: =+VLOOKUP(B3,'תעריף רכישה רשויות '!$B:$G,3,0) -> 2.6299733 | E3: =+VLOOKUP(B3,'תעריף רכישה רשויות '!$B:$G,2,0) -> 6.5686593 | F3: =+VLOOKUP(B3,'תעריף רכישה רשויות '!$B:$G,5,0) -> 2.3600975
A4: 3 | B4: באר יעקב | C4: =F4*(1+$H$1) -> 2.7916634 | D4: =+VLOOKUP(B4,'תעריף רכישה רשויות '!$B:$G,3,0) -> 2.6062113 | E4: =+VLOOKUP(B4,'תעריף רכישה רשויות '!$B:$G,2,0) -> 6.5448973 | F4: =+VLOOKUP(B4,'תעריף רכישה רשויות '!$B:$G,5,0) -> 2.3860371
A5: 4 | B5: בית שאן | C5: =F5*(1+$H$1) -> 2.7721385 | D5: =+VLOOKUP(B5,'תעריף רכישה רשויות '!$B:$G,3,0) -> 2.6214983 | E5: =+VLOOKUP(B5,'תעריף רכישה רשויות '!$B:$G,2,0) -> 6.5601843 | F5: =+VLOOKUP(B5,'תעריף רכישה רשויות '!$B:$G,5,0) -> 2.3693492
A6: 5 | B6: בנימינה - גבעת עדה | C6: =F6*(1+$H$1) -> 3.7764407 | D6: =+VLOOKUP(B6,'תעריף רכישה רשויות '!$B:$G,3,0) -> 1.8351812 | E6: =+VLOOKUP(B6,'תעריף רכישה רשויות '!$B:$G,2,0) -> 5.7738672 | F6: =+VLOOKUP(B6,'תעריף רכישה רשויות '!$B:$G,5,0) -> 3.2277271
A7: 6 | B7: גבעת שמואל | C7: =F7*(1+$H$1) -> 4.3981113 | D7: =+VLOOKUP(B7,'תעריף רכישה רשויות '!$B:$G,3,0) -> 1.348445 | E7: =+VLOOKUP(B7,'תעריף רכישה רשויות '!$B:$G,2,0) -> 5.287131 | F7: =+VLOOKUP(B7,'תעריף רכישה רשויות '!$B:$G,5,0) -> 3.7590695
A8: 7 | B8: גיסר אל זרקא | C8: =F8*(1+$H$1) -> 3.7764407 | D8: =+VLOOKUP(B8,'תעריף רכישה רשויות '!$B:$G,3,0) -> 1.8351812 | E8: =+VLOOKUP(B8,'תעריף רכישה רשויות '!$B:$G,2,0) -> 5.7738672 | F8: =+VLOOKUP(B8,'תעריף רכישה רשויות '!$B:$G,5,0) -> 3.2277271
A9: 8 | B9: דלית אל כרמל | C9: =F9*(1+$H$1) -> 2.7721385 | D9: =+VLOOKUP(B9,'תעריף רכישה רשויות '!$B:$G,3,0) -> 2.6214983 | E9: =+VLOOKUP(B9,'תעריף רכישה רשויות '!$B:$G,2,0) -> 6.5601843 | F9: =+VLOOKUP(B9,'תעריף רכישה רשויות '!$B:$G,5,0) -> 2.3693492
A10: 9 | B10: חריש | C10: =F10*(1+$H$1) -> 2.5231759 | D10: =+VLOOKUP(B10,'תעריף רכישה רשויות '!$B:$G,3,0) -> 2.8164233 | E10: =+VLOOKUP(B10,'תעריף רכישה רשויות '!$B:$G,2,0) -> 6.7551093 | F10: =+VLOOKUP(B10,'תעריף רכישה רשויות '!$B:$G,5,0) -> 2.1565606
A11: 10 | B11: טייבה | C11: =F11*(1+$H$1) -> 2.1443197 | D11: =+VLOOKUP(B11,'תעריף רכישה רשויות '!$B:$G,3,0) -> 3.1130483 | E11: =+VLOOKUP(B11,'תעריף רכישה רשויות '!$B:$G,2,0) -> 7.0517343 | F11: =+VLOOKUP(B11,'תעריף רכישה רשויות '!$B:$G,5,0) -> 1.8327518
A12: 11 | B12: טירת הכרמל | C12: =F12*(1+$H$1) -> 3.778686 | D12: =+VLOOKUP(B12,'תעריף רכישה רשויות '!$B:$G,3,0) -> 1.7023078 | E12: =+VLOOKUP(B12,'תעריף רכישה רשויות '!$B:$G,2,0) -> 5.7721093 | F12: =+VLOOKUP(B12,'תעריף רכישה רשויות '!$B:$G,5,0) -> 3.2296461
A13: 12 | B13: כפר שמריהו | C13: =F13*(1+$H$1) -> 3.9230121 | D13: =+VLOOKUP(B13,'תעריף רכישה רשויות '!$B:$G,3,0) -> 1.6204233 | E13: =+VLOOKUP(B13,'תעריף רכישה רשויות '!$B:$G,2,0) -> 5.6591093 | F13: =+VLOOKUP(B13,'תעריף רכישה רשויות '!$B:$G,5,0) -> 3.3530018
... A29: 28 | B29: שהם | C29: =F29*(1+$H$1) -> 3.6166915 | D29: =+VLOOKUP(B29,'תעריף רכישה רשויות '!$B:$G,3,0) -> 1.9602566 | E29: =+VLOOKUP(B29,'תעריף רכישה רשויות '!$B:$G,2,0) -> 5.8989426 | F29: =+VLOOKUP(B29,'תעריף רכישה רשויות '!$B:$G,5,0) -> 3.0911893

Sheet תעריף רכישה רשויות 
C1: תעריף גבוה | D1: תעריף נמוך | E1: ביוב כולל מע"מ | F1: ביוב לפני מע"מ | G1: חלוקה | H1: 0.17 | L1: חלוקה בניכוי קרן שיקום | N1: ביוב מנוכה | O1: חלוקה
B2: שם רשות מקומית | Z2: אשכול חברתי
A3: 1 | B3: גבעת שמואל | C3: ='תעריף מים לכמות נוספת'!D3 -> 5.287131 | D3: ='תעריף כמות מוכרת'!D3 -> 1.348445 | E3: =F3*(1+$H$1) -> 4.3981113 | F3: =('תעריף מים לכמות נוספת'!L3+'תעריף מים לכמות נוספת'!J3+'תעריף מים לכמות נוספת'!K3+'תעריף מים לכמות נוספת'!I3)/(1-'תחשיב הכרה בעלויות '!$C$21)/(1-'תחשיב הכרה בעלויות '!$C$22) -> 3.7590695 | G3: =('תעריף מים לכמות נוספת'!G3+'תעריף מים לכמות נוספת'!H3) -> 0.942629 | H3: ='תעריף מים לכמות נוספת'!M3 -> 10.559746 | I3: =1/(1-'תחשיב הכרה בעלויות '!$C$21)/(1-'תחשיב הכרה בעלויות '!$C$22) -> 1.0916435 | J3: =(H3-G3-F3)/I3 -> 5.3662647 | K3: =J3-C3 -> 0.079133704 | L3: =G3-'תחשיב הכרה בעלויות '!$D$11-'תחשיב הכרה בעלויות '!$K$11 -> 0.11785118 | N3: =F3/I3 -> 3.4434956 | O3: =L3+'תעריף מים לכמות נוספת'!E3+'תעריף מים לכמות נוספת'!F3 -> 1.0043419 | P3: =H3-N3-O3 -> 6.1119088 | Q3: =P3-C3-'תחשיב הכרה בעלויות '!$D$11-'תחשיב הכרה בעלויות '!$K$11 -> -7.2164497e-16 | R3: =N3-('תעריף מים לכמות נוספת'!L3+'תעריף מים לכמות נוספת'!J3+'תעריף מים לכמות נוספת'!K3+'תעריף מים לכמות נוספת'!I3) -> 0 | S3: ='תעריף כמות מוכרת'!E3+'תעריף כמות מוכרת'!F3+'תעריף כמות מוכרת'!G3-'תעריף כמות מוכרת'!I3 -> 0.9443619 | T3: ='תעריף כמות מוכרת'!M3 -> 6.5610803 | U3: =T3-S3-N3 -> 2.1732228 | V3: =U3-D3-'תחשיב הכרה בעלויות '!$E$19-'תחשיב הכרה בעלויות '!$I$19 -> 6.1062266e-16 | W3: =IFERROR(VLOOKUP($B3,'כמויות 2013'!$B$205:$H$257,7,0),0) -> 1660781 | X3: =W3*C3 -> 8780766.7 | Y3: =W3*D3 -> 2239471.8 | Z3: =+VLOOKUP(B3,'אשכול חברתי'!$A:$E,2,0) -> 8
A4: 2 | B4: בית שאן | C4: ='תעריף מים לכמות נוספת'!D4 -> 6.5601843 | D4: ='תעריף כמות מוכרת'!D4 -> 2.6214983 | E4: =F4*(1+$H$1) -> 2.7721385 | F4: =('תעריף מים לכמות נוספת'!L4+'תעריף מים לכמות נוספת'!J4+'תעריף מים לכמות נוספת'!K4+'תעריף מים לכמות נוספת'!I4)/(1-'תחשיב הכרה בעלויות '!$C$21)/(1-'תחשיב הכרה בעלויות '!$C$22) -> 2.3693492 | G4: =('תעריף מים לכמות נוספת'!G4+'תעריף מים לכמות נוספת'!H4) -> 0.942629 | H4: ='תעריף מים לכמות נוספת'!M4 -> 10.559746 | I4: =1/(1-'תחשיב הכרה בעלויות '!$C$21)/(1-'תחשיב הכרה בעלויות '!$C$22) -> 1.0916435 | J4: =(H4-G4-F4)/I4 -> 6.639318 | K4: =J4-C4 -> 0.079133704 | L4: =G4-'תחשיב הכרה בעלויות '!$D$11-'תחשיב הכרה בעלויות '!$K$11 -> 0.11785118 | N4: =F4/I4 -> 2.1704423 | O4: =L4+'תעריף מים לכמות נוספת'!E4+'תעריף מים לכמות נוספת'!F4 -> 1.0043419 | P4: =H4-N4-O4 -> 7.3849621 | Q4: =P4-C4-'תחשיב הכרה בעלויות '!$D$11-'תחשיב הכרה בעלויות '!$K$11 -> -1.6098234e-15 | R4: =N4-('תעריף מים לכמות נוספת'!L4+'תעריף מים לכמות נוספת'!J4+'תעריף מים לכמות נוספת'!K4+'תעריף מים לכמות נוספת'!I4) -> 0 | S4: ='תעריף כמות מוכרת'!E4+'תעריף כמות מוכרת'!F4+'תעריף כמות מוכרת'!G4-'תעריף כמות מוכרת'!I4 -> 0.9443619 | T4: ='תעריף כמות מוכרת'!M4 -> 6.5610803 | U4: =T4-S4-N4 -> 3.4462761 | V4: =U4-D4-'תחשיב הכרה בעלויות '!$E$19-'תחשיב הכרה בעלויות '!$I$19 -> 1.9428903e-15 | W4: =IFERROR(VLOOKUP($B4,'כמויות 2013'!$B$205:$H$257,7,0),0) -> 1694107 | X4: =W4*C4 -> 11113654 | Y4: =W4*D4 -> 4441098.6 | Z4: =+VLOOKUP(B4,'אשכול חברתי'!$A:$E,2,0) -> 4
A5: 3 | B5: בנימינה - גבעת עדה | C5: ='תעריף מים לכמות נוספת'!D5 -> 5.7738672 | D5: ='תעריף כמות מוכרת'!D5 -> 1.8351812 | E5: =F5*(1+$H$1) -> 3.7764407 | F5: =('תעריף מים לכמות נוספת'!L5+'תעריף מים לכמות נוספת'!J5+'תעריף מים לכמות נוספת'!K5+'תעריף מים לכמות נוספת'!I5)/(1-'תחשיב הכרה בעלויות '!$C$21)/(1-'תחשיב הכרה בעלויות '!$C$22) -> 3.2277271 | G5: =('תעריף מים לכמות נוספת'!G5+'תעריף מים לכמות נוספת'!H5) -> 0.942629 | H5: ='תעריף מים לכמות נוספת'!M5 -> 10.559746 | I5: =1/(1-'תחשיב הכרה בעלויות '!$C$21)/(1-'תחשיב הכרה בעלויות '!$C$22) -> 1.0916435 | J5: =(H5-G5-F5)/I5 -> 5.8530009 | K5: =J5-C5 -> 0.079133704 | L5: =G5-'תחשיב הכרה בעלויות '!$D$11-'תחשיב הכרה בעלויות '!$K$11 -> 0.11785118 | N5: =F5/I5 -> 2.9567594 | O5: =L5+'תעריף מים לכמות נוספת'!E5+'תעריף מים לכמות נוספת'!F5 -> 1.0043419 | P5: =H5-N5-O5 -> 6.598645 | Q5: =P5-C5-'תחשיב הכרה בעלויות '!$D$11-'תחשיב הכרה בעלויות '!$K$11 -> -7.2164497e-16 | R5: =N5-('תעריף מים לכמות נוספת'!L5+'תעריף מים לכמות נוספת'!J5+'תעריף מים לכמות נוספת'!K5+'תעריף מים לכמות נוספת'!I5) -> 0 | S5: ='תעריף כמות מוכרת'!E5+'תעריף כמות מוכרת'!F5+'תעריף כמות מוכרת'!G5-'תעריף כמות מוכרת'!I5 -> 0.9443619 | T5: ='תעריף כמות מוכרת'!M5 -> 6.5610803 | U5: =T5-S5-N5 -> 2.659959 | V5: =U5-D5-'תחשיב הכרה בעלויות '!$E$19-'תחשיב הכרה בעלויות '!$I$19 -> 1.0547119e-15 | W5: =IFERROR(VLOOKUP($B5,'כמויות 2013'!$B$205:$H$257,7,0),0) -> 2117520 | X5: =W5*C5 -> 12226279 | Y5: =W5*D5 -> 3886032.9 | Z5: =+VLOOKUP(B5,'אשכול חברתי'!$A:$E,2,0) -> 8
A6: 4 | B6: פרדיס | C6: ='תעריף מים לכמות נוספת'!D6 -> 6.4056093 | D6: ='תעריף כמות מוכרת'!D6 -> 2.4669233 | E6: =F6*(1+$H$1) -> 2.9695653 | F6: =('תעריף מים לכמות נוספת'!L6+'תעריף מים לכמות נוספת'!J6+'תעריף מים לכמות נוספת'!K6+'תעריף מים לכמות נוספת'!I6)/(1-'תחשיב הכרה בעלויות '!$C$21)/(1-'תחשיב הכרה בעלויות '!$C$22) -> 2.53809 | G6: =('תעריף מים לכמות נוספת'!G6+'תעריף מים לכמות נוספת'!H6) -> 0.942629 | H6: ='תעריף מים לכמות נוספת'!M6 -> 10.559746 | I6: =1/(1-'תחשיב הכרה בעלויות '!$C$21)/(1-'תחשיב הכרה בעלויות '!$C$22) -> 1.0916435 | J6: =(H6-G6-F6)/I6 -> 6.484743 | K6: =J6-C6 -> 0.079133704 | L6: =G6-'תחשיב הכרה בעלויות '!$D$11-'תחשיב הכרה בעלויות '!$K$11 -> 0.11785118 | N6: =F6/I6 -> 2.3250173 | O6: =L6+'תעריף מים לכמות נוספת'!E6+'תעריף מים לכמות נוספת'!F6 -> 1.0043419 | P6: =H6-N6-O6 -> 7.2303871 | Q6: =P6-C6-'תחשיב הכרה בעלויות '!$D$11-'תחשיב הכרה בעלויות '!$K$11 -> -7.2164497e-16 | R6: =N6-('תעריף מים לכמות נוספת'!L6+'תעריף מים לכמות נוספת'!J6+'תעריף מים לכמות נוספת'!K6+'תעריף מים לכמות נוספת'!I6) -> 0 | S6: ='תעריף כמות מוכרת'!E6+'תעריף כמות מוכרת'!F6+'תעריף כמות מוכרת'!G6-'תעריף כמות מוכרת'!I6 -> 0.9443619 | T6: ='תעריף כמות מוכרת'!M6 -> 6.5610803 | U6: =T6-S6-N6 -> 3.2917011 | V6: =U6-D6-'תחשיב הכרה בעלויות '!$E$19-'תחשיב הכרה בעלויות '!$I$19 -> 1.0547119e-15 | W6: =IFERROR(VLOOKUP($B6,'כמויות 2013'!$B$205:$H$257,7,0),0) -> 705909 | X6: =W6*C6 -> 4521777.3 | Y6: =W6*D6 -> 1741423.4 | Z6: =+VLOOKUP(B6,'אשכול חברתי'!$A:$E,2,0) -> 2
A7: 5 | B7: דלית אל כרמל | C7: ='תעריף מים לכמות נוספת'!D7 -> 6.5601843 | D7: ='תעריף כמות מוכרת'!D7 -> 2.6214983 | E7: =F7*(1+$H$1) -> 2.7721385 | F7: =('תעריף מים לכמות נוספת'!L7+'תעריף מים לכמות נוספת'!J7+'תעריף מים לכמות נוספת'!K7+'תעריף מים לכמות נוספת'!I7)/(1-'תחשיב הכרה בעלויות '!$C$21)/(1-'תחשיב הכרה בעלויות '!$C$22) -> 2.3693492 | G7: =('תעריף מים לכמות נוספת'!G7+'תעריף מים לכמות נוספת'!H7) -> 0.942629 | H7: ='תעריף מים לכמות נוספת'!M7 -> 10.559746 | I7: =1/(1-'תחשיב הכרה בעלויות '!$C$21)/(1-'תחשיב הכרה בעלויות '!$C$22) -> 1.0916435 | J7: =(H7-G7-F7)/I7 -> 6.639318 | K7: =J7-C7 -> 0.079133704 | L7: =G7-'תחשיב הכרה בעלויות '!$D$11-'תחשיב הכרה בעלויות '!$K$11 -> 0.11785118 | N7: =F7/I7 -> 2.1704423 | O7: =L7+'תעריף מים לכמות נוספת'!E7+'תעריף מים לכמות נוספת'!F7 -> 1.0043419 | P7: =H7-N7-O7 -> 7.3849621 | Q7: =P7-C7-'תחשיב הכרה בעלויות '!$D$11-'תחשיב הכרה בעלויות '!$K$11 -> -1.6098234e-15 | R7: =N7-('תעריף מים לכמות נוספת'!L7+'תעריף מים לכמות נוספת'!J7+'תעריף מים לכמות נוספת'!K7+'תעריף מים לכמות נוספת'!I7) -> 0 | S7: ='תעריף כמות מוכרת'!E7+'תעריף כמות מוכרת'!F7+'תעריף כמות מוכרת'!G7-'תעריף כמות מוכרת'!I7 -> 0.9443619 | T7: ='תעריף כמות מוכרת'!M7 -> 6.5610803 | U7: =T7-S7-N7 -> 3.4462761 | V7: =U7-D7-'תחשיב הכרה בעלויות '!$E$19-'תחשיב הכרה בעלויות '!$I$19 -> 1.9428903e-15 | W7: =IFERROR(VLOOKUP($B7,'כמויות 2013'!$B$205:$H$257,7,0),0) -> 2024981 | X7: =W7*C7 -> 13284249 | Y7: =W7*D7 -> 5308484.2 | Z7: =+VLOOKUP(B7,'אשכול חברתי'!$A:$E,2,0) -> 3
A8: 6 | B8: עוספיה | C8: ='תעריף מים לכמות נוספת'!D8 -> 6.5601843 | D8: ='תעריף כמות מוכרת'!D8 -> 2.6214983 | E8: =F8*(1+$H$1) -> 2.7721385 | F8: =('תעריף מים לכמות נוספת'!L8+'תעריף מים לכמות נוספת'!J8+'תעריף מים לכמות נוספת'!K8+'תעריף מים לכמות נוספת'!I8)/(1-'תחשיב הכרה בעלויות '!$C$21)/(1-'תחשיב הכרה בעלויות '!$C$22) -> 2.3693492 | G8: =('תעריף מים לכמות נוספת'!G8+'תעריף מים לכמות נוספת'!H8) -> 0.942629 | H8: ='תעריף מים לכמות נוספת'!M8 -> 10.559746 | I8: =1/(1-'תחשיב הכרה בעלויות '!$C$21)/(1-'תחשיב הכרה בעלויות '!$C$22) -> 1.0916435 | J8: =(H8-G8-F8)/I8 -> 6.639318 | K8: =J8-C8 -> 0.079133704 | L8: =G8-'תחשיב הכרה בעלויות '!$D$11-'תחשיב הכרה בעלויות '!$K$11 -> 0.11785118 | N8: =F8/I8 -> 2.1704423 | O8: =L8+'תעריף מים לכמות נוספת'!E8+'תעריף מים לכמות נוספת'!F8 -> 1.0043419 | P8: =H8-N8-O8 -> 7.3849621 | Q8: =P8-C8-'תחשיב הכרה בעלויות '!$D$11-'תחשיב הכרה בעלויות '!$K$11 -> -1.6098234e-15 | R8: =N8-('תעריף מים לכמות נוספת'!L8+'תעריף מים לכמות נוספת'!J8+'תעריף מים לכמות נוספת'!K8+'תעריף מים לכמות נוספת'!I8) -> 0 | S8: ='תעריף כמות מוכרת'!E8+'תעריף כמות מוכרת'!F8+'תעריף כמות מוכרת'!G8-'תעריף כמות מוכרת'!I8 -> 0.9443619 | T8: ='תעריף כמות מוכרת'!M8 -> 6.5610803 | U8: =T8-S8-N8 -> 3.4462761 | V8: =U8-D8-'תחשיב הכרה בעלויות '!$E$19-'תחשיב הכרה בעלויות '!$I$19 -> 1.9428903e-15 | W8: =IFERROR(VLOOKUP($B8,'כמויות 2013'!$B$205:$H$257,7,0),0) -> 1257577 | X8: =W8*C8 -> 8249936.9 | Y8: =W8*D8 -> 3296736 | Z8: =+VLOOKUP(B8,'אשכול חברתי'!$A:$E,2,0) -> 4
A9: 7 | B9: טירת הכרמל | C9: ='תעריף מים לכמות נוספת'!D9 -> 5.7721093 | D9: ='תעריף כמות מוכרת'!D9 -> 1.7023078 | E9: =F9*(1+$H$1) -> 3.778686 | F9: =('תעריף מים לכמות נוספת'!L9+'תעריף מים לכמות נוספת'!J9+'תעריף מים לכמות נוספת'!K9+'תעריף מים לכמות נוספת'!I9)/(1-'תחשיב הכרה בעלויות '!$C$21)/(1-'תחשיב הכרה בעלויות '!$C$22) -> 3.2296461 | G9: =('תעריף מים לכמות נוספת'!G9+'תעריף מים לכמות נוספת'!H9) -> 0.942629 | H9: ='תעריף מים לכמות נוספת'!M9 -> 10.559746 | I9: =1/(1-'תחשיב הכרה בעלויות '!$C$21)/(1-'תחשיב הכרה בעלויות '!$C$22) -> 1.0916435 | J9: =(H9-G9-F9)/I9 -> 5.851243 | K9: =J9-C9 -> 0.079133704 | L9: =G9-'תחשיב הכרה בעלויות '!$D$11-'תחשיב הכרה בעלויות '!$K$11 -> 0.11785118 | N9: =F9/I9 -> 2.9585173 | O9: =L9+'תעריף מים לכמות נוספת'!E9+'תעריף מים לכמות נוספת'!F9 -> 1.0043419 | P9: =H9-N9-O9 -> 6.5968871 | Q9: =P9-C9-'תחשיב הכרה בעלויות '!$D$11-'תחשיב הכרה בעלויות '!$K$11 -> -7.2164497e-16 | R9: =N9-('תעריף מים לכמות נוספת'!L9+'תעריף מים לכמות נוספת'!J9+'תעריף מים לכמות נוספת'!K9+'תעריף מים לכמות נוספת'!I9) -> 0 | S9: ='תעריף כמות מוכרת'!E9+'תעריף כמות מוכרת'!F9+'תעריף כמות מוכרת'!G9-'תעריף כמות מוכרת'!I9 -> 0.9443619 | T9: ='תעריף כמות מוכרת'!M9 -> 6.5610803 | U9: =T9-S9-N9 -> 2.6582011 | V9: =U9-D9-'תחשיב הכרה בעלויות '!$E$19-'תחשיב הכרה בעלויות '!$I$19 -> 0.13111549 | W9: =IFERROR(VLOOKUP($B9,'כמויות 2013'!$B$205:$H$257,7,0),0) -> 1792313 | X9: =W9*C9 -> 10345427 | Y9: =W9*D9 -> 3051068.4 | Z9: =+VLOOKUP(B9,'אשכול חברתי'!$A:$E,2,0) -> 4
A10: 8 | B10: קלנסואה | C10: ='תעריף מים לכמות נוספת'!D10 -> 7.0517343 | D10: ='תעריף כמות מוכרת'!D10 -> 3.1130483 | E10: =F10*(1+$H$1) -> 2.1443197 | F10: =('תעריף מים לכמות נוספת'!L10+'תעריף מים לכמות נוספת'!J10+'תעריף מים לכמות נוספת'!K10+'תעריף מים לכמות נוספת'!I10)/(1-'תחשיב הכרה בעלויות '!$C$21)/(1-'תחשיב הכרה בעלויות '!$C$22) -> 1.8327518 | G10: =('תעריף מים לכמות נוספת'!G10+'תעריף מים לכמות נוספת'!H10) -> 0.942629 | H10: ='תעריף מים לכמות נוספת'!M10 -> 10.559746 | I10: =1/(1-'תחשיב הכרה בעלויות '!$C$21)/(1-'תחשיב הכרה בעלויות '!$C$22) -> 1.0916435 | J10: =(H10-G10-F10)/I10 -> 7.130868 | K10: =J10-C10 -> 0.079133704 | L10: =G10-'תחשיב הכרה בעלויות '!$D$11-'תחשיב הכרה בעלויות '!$K$11 -> 0.11785118 | N10: =F10/I10 -> 1.6788923 | O10: =L10+'תעריף מים לכמות נוספת'!E10+'תעריף מים לכמות נוספת'!F10 -> 1.0043419 | P10: =H10-N10-O10 -> 7.8765121 | Q10: =P10-C10-'תחשיב הכרה בעלויות '!$D$11-'תחשיב הכרה בעלויות '!$K$11 -> -1.6098234e-15 | R10: =N10-('תעריף מים לכמות נוספת'!L10+'תעריף מים לכמות נוספת'!J10+'תעריף מים לכמות נוספת'!K10+'תעריף מים לכמות נוספת'!I10) -> 0 | S10: ='תעריף כמות מוכרת'!E10+'תעריף כמות מוכרת'!F10+'תעריף כמות מוכרת'!G10-'תעריף כמות מוכרת'!I10 -> 0.9443619 | T10: ='תעריף כמות מוכרת'!M10 -> 6.5610803 | U10: =T10-S10-N10 -> 3.9378261 | V10: =U10-D10-'תחשיב הכרה בעלויות '!$E$19-'תחשיב הכרה בעלויות '!$I$19 -> 1.4988011e-15 | W10: =IFERROR(VLOOKUP($B10,'כמויות 2013'!$B$205:$H$257,7,0),0) -> 1757055 | X10: =W10*C10 -> 12390285 | Y10: =W10*D10 -> 5469797.1 | Z10: =+VLOOKUP(B10,'אשכול חברתי'!$A:$E,2,0) -> 2
A11: 9 | B11: קרית יערים | C11: ='תעריף מים לכמות נוספת'!D11 -> 5.7721093 | D11: ='תעריף כמות מוכרת'!D11 -> 0.91781914 | E11: =F11*(1+$H$1) -> 3.778686 | F11: =('תעריף מים לכמות נוספת'!L11+'תעריף מים לכמות נוספת'!J11+'תעריף מים לכמות נוספת'!K11+'תעריף מים לכמות נוספת'!I11)/(1-'תחשיב הכרה בעלויות '!$C$21)/(1-'תחשיב הכרה בעלויות '!$C$22) -> 3.2296461 | G11: =('תעריף מים לכמות נוספת'!G11+'תעריף מים לכמות נוספת'!H11) -> 0.942629 | H11: ='תעריף מים לכמות נוספת'!M11 -> 10.559746 | I11: =1/(1-'תחשיב הכרה בעלויות '!$C$21)/(1-'תחשיב הכרה בעלויות '!$C$22) -> 1.0916435 | J11: =(H11-G11-F11)/I11 -> 5.851243 | K11: =J11-C11 -> 0.079133704 | L11: =G11-'תחשיב הכרה בעלויות '!$D$11-'תחשיב הכרה בעלויות '!$K$11 -> 0.11785118 | N11: =F11/I11 -> 2.9585173 | O11: =L11+'תעריף מים לכמות נוספת'!E11+'תעריף מים לכמות נוספת'!F11 -> 1.0043419 | P11: =H11-N11-O11 -> 6.5968871 | Q11: =P11-C11-'תחשיב הכרה בעלויות '!$D$11-'תחשיב הכרה בעלויות '!$K$11 -> -7.2164497e-16 | R11: =N11-('תעריף מים לכמות נוספת'!L11+'תעריף מים לכמות נוספת'!J11+'תעריף מים לכמות נוספת'!K11+'תעריף מים לכמות נוספת'!I11) -> 0 | S11: ='תעריף כמות מוכרת'!E11+'תעריף כמות מוכרת'!F11+'תעריף כמות מוכרת'!G11-'תעריף כמות מוכרת'!I11 -> 0.9443619 | T11: ='תעריף כמות מוכרת'!M11 -> 6.5610803 | U11: =T11-S11-N11 -> 2.6582011 | V11: =U11-D11-'תחשיב הכרה בעלויות '!$E$19-'תחשיב הכרה בעלויות '!$I$19 -> 0.91560415 | W11: =IFERROR(VLOOKUP($B11,'כמויות 2013'!$B$205:$H$257,7,0),0) -> 255605 | X11: =W11*C11 -> 1475380 | Y11: =W11*D11 -> 234599.16 | Z11: =+VLOOKUP(B11,'אשכול חברתי'!$A:$E,2,0) -> 3
A12: 11 | B12: כפר שמריהו | C12: ='תעריף מים לכמות נוספת'!D12 -> 5.6591093 | D12: ='תעריף כמות מוכרת'!D12 -> 1.6204233 | E12: =F12*(1+$H$1) -> 3.9230121 | F12: =('תעריף מים לכמות נוספת'!L12+'תעריף מים לכמות נוספת'!J12+'תעריף מים לכמות נוספת'!K12+'תעריף מים לכמות נוספת'!I12)/(1-'תחשיב הכרה בעלויות '!$C$21)/(1-'תחשיב הכרה בעלויות '!$C$22) -> 3.3530018 | G12: =('תעריף מים לכמות נוספת'!G12+'תעריף מים לכמות נוספת'!H12) -> 0.942629 | H12: ='תעריף מים לכמות נוספת'!M12 -> 10.559746 | I12: =1/(1-'תחשיב הכרה בעלויות '!$C$21)/(1-'תחשיב הכרה בעלויות '!$C$22) -> 1.0916435 | J12: =(H12-G12-F12)/I12 -> 5.738243 | K12: =J12-C12 -> 0.079133704 | L12: =G12-'תחשיב הכרה בעלויות '!$D$11-'תחשיב הכרה בעלויות '!$K$11 -> 0.11785118 | N12: =F12/I12 -> 3.0715173 | O12: =L12+'תעריף מים לכמות נוספת'!E12+'תעריף מים לכמות נוספת'!F12 -> 1.0043419 | P12: =H12-N12-O12 -> 6.4838871 | Q12: =P12-C12-'תחשיב הכרה בעלויות '!$D$11-'תחשיב הכרה בעלויות '!$K$11 -> 0 | R12: =N12-('תעריף מים לכמות נוספת'!L12+'תעריף מים לכמות נוספת'!J12+'תעריף מים לכמות נוספת'!K12+'תעריף מים לכמות נוספת'!I12) -> 0 | S12: ='תעריף כמות מוכרת'!E12+'תעריף כמות מוכרת'!F12+'תעריף כמות מוכרת'!G12-'תעריף כמות מוכרת'!I12 -> 0.9443619 | T12: ='תעריף כמות מוכרת'!M12 -> 6.5610803 | U12: =T12-S12-N12 -> 2.5452011 | V12: =U12-D12-'תחשיב הכרה בעלויות '!$E$19-'תחשיב הכרה בעלויות '!$I$19 -> 0.1 | W12: =IFERROR(VLOOKUP($B12,'כמויות 2013'!$B$205:$H$257,7,0),0) -> 763350 | X12: =W12*C12 -> 4319881.1 | Y12: =W12*D12 -> 1236950.1 | Z12: =+VLOOKUP(B12,'אשכול חברתי'!$A:$E,2,0) -> 10
A13: 12 | B13: מיתר | C13: ='תעריף מים לכמות נוספת'!D13 -> 6.3398343 | D13: ='תעריף כמות מוכרת'!D13 -> 2.4011483 | E13: =F13*(1+$H$1) -> 3.0535746 | F13: =('תעריף מים לכמות נוספת'!L13+'תעריף מים לכמות נוספת'!J13+'תעריף מים לכמות נוספת'!K13+'תעריף מים לכמות נוספת'!I13)/(1-'תחשיב הכרה בעלויות '!$C$21)/(1-'תחשיב הכרה בעלויות '!$C$22) -> 2.6098928 | G13: =('תעריף מים לכמות נוספת'!G13+'תעריף מים לכמות נוספת'!H13) -> 0.942629 | H13: ='תעריף מים לכמות נוספת'!M13 -> 10.559746 | I13: =1/(1-'תחשיב הכרה בעלויות '!$C$21)/(1-'תחשיב הכרה בעלויות '!$C$22) -> 1.0916435 | J13: =(H13-G13-F13)/I13 -> 6.418968 | K13: =J13-C13 -> 0.079133704 | L13: =G13-'תחשיב הכרה בעלויות '!$D$11-'תחשיב הכרה בעלויות '!$K$11 -> 0.11785118 | N13: =F13/I13 -> 2.3907923 | O13: =L13+'תעריף מים לכמות נוספת'!E13+'תעריף מים לכמות נוספת'!F13 -> 1.0043419 | P13: =H13-N13-O13 -> 7.1646121 | Q13: =P13-C13-'תחשיב הכרה בעלויות '!$D$11-'תחשיב הכרה בעלויות '!$K$11 -> -7.2164497e-16 | R13: =N13-('תעריף מים לכמות נוספת'!L13+'תעריף מים לכמות נוספת'!J13+'תעריף מים לכמות נוספת'!K13+'תעריף מים לכמות נוספת'!I13) -> 0 | S13: ='תעריף כמות מוכרת'!E13+'תעריף כמות מוכרת'!F13+'תעריף כמות מוכרת'!G13-'תעריף כמות מוכרת'!I13 -> 0.9443619 | T13: ='תעריף כמות מוכרת'!M13 -> 6.5610803 | U13: =T13-S13-N13 -> 3.2259261 | V13: =U13-D13-'תחשיב הכרה בעלויות '!$E$19-'תחשיב הכרה בעלויות '!$I$19 -> 1.4988011e-15 | W13: =IFERROR(VLOOKUP($B13,'כמויות 2013'!$B$205:$H$257,7,0),0) -> 946960 | X13: =W13*C13 -> 6003569.5 | Y13: =W13*D13 -> 2273791.4 | Z13: =+VLOOKUP(B13,'אשכול חברתי'!$A:$E,2,0) -> 9
A14: 14 | B14: שהם | C14: ='תעריף מים לכמות נוספת'!D14 -> 5.8989426 | D14: ='תעריף כמות מוכרת'!D14 -> 1.9602566 | E14: =F14*(1+$H$1) -> 3.6166915 | F14: =('תעריף מים לכמות נוספת'!L14+'תעריף מים לכמות נוספת'!J14+'תעריף מים לכמות נוספת'!K14+'תעריף מים לכמות נוספת'!I14)/(1-'תחשיב הכרה בעלויות '!$C$21)/(1-'תחשיב הכרה בעלויות '!$C$22) -> 3.0911893 | G14: =('תעריף מים לכמות נוספת'!G14+'תעריף מים לכמות נוספת'!H14) -> 0.942629 | H14: ='תעריף מים לכמות נוספת'!M14 -> 10.559746 | I14: =1/(1-'תחשיב הכרה בעלויות '!$C$21)/(1-'תחשיב הכרה בעלויות '!$C$22) -> 1.0916435 | J14: =(H14-G14-F14)/I14 -> 5.9780763 | K14: =J14-C14 -> 0.079133704 | L14: =G14-'תחשיב הכרה בעלויות '!$D$11-'תחשיב הכרה בעלויות '!$K$11 -> 0.11785118 | N14: =F14/I14 -> 2.831684 | O14: =L14+'תעריף מים לכמות נוספת'!E14+'תעריף מים לכמות נוספת'!F14 -> 1.0043419 | P14: =H14-N14-O14 -> 6.7237204 | Q14: =P14-C14-'תחשיב הכרה בעלויות '!$D$11-'תחשיב הכרה בעלויות '!$K$11 -> -7.2164497e-16 | R14: =N14-('תעריף מים לכמות נוספת'!L14+'תעריף מים לכמות נוספת'!J14+'תעריף מים לכמות נוספת'!K14+'תעריף מים לכמות נוספת'!I14) -> 0 | S14: ='תעריף כמות מוכרת'!E14+'תעריף כמות מוכרת'!F14+'תעריף כמות מוכרת'!G14-'תעריף כמות מוכרת'!I14 -> 0.9443619 | T14: ='תעריף כמות מוכרת'!M14 -> 6.5610803 | U14: =T14-S14-N14 -> 2.7850344 | V14: =U14-D14-'תחשיב הכרה בעלויות '!$E$19-'תחשיב הכרה בעלויות '!$I$19 -> 1.0547119e-15 | W14: =IFERROR(VLOOKUP($B14,'כמויות 2013'!$B$205:$H$257,7,0),0) -> 1625594 | X14: =W14*C14 -> 9589285.7 | Y14: =W14*D14 -> 3186581.4 | Z14: =+VLOOKUP(B14,'אשכול חברתי'!$A:$E,2,0) -> 8
... A30: 30 | B30: באר יעקב | C30: ='תעריף מים לכמות נוספת'!D30 -> 6.5448973 | D30: ='תעריף כמות מוכרת'!D30 -> 2.6062113 | E30: =F30*(1+$H$1) -> 2.7916634 | F30: =('תעריף מים לכמות נוספת'!L30+'תעריף מים לכמות נוספת'!J30+'תעריף מים לכמות נוספת'!K30+'תעריף מים לכמות נוספת'!I30)/(1-'תחשיב הכרה בעלויות '!$C$21)/(1-'תחשיב הכרה בעלויות '!$C$22) -> 2.3860371 | G30: =('תעריף מים לכמות נוספת'!G30+'תעריף מים לכמות נוספת'!H30) -> 0.942629 | H30: ='תעריף מים לכמות נוספת'!M30 -> 10.559746 | I30: =1/(1-'תחשיב הכרה בעלויות '!$C$21)/(1-'תחשיב הכרה בעלויות '!$C$22) -> 1.0916435 | J30: =(H30-G30-F30)/I30 -> 6.624031 | K30: =J30-C30 -> 0.079133704 | L30: =G30-'תחשיב הכרה בעלויות '!$D$11-'תחשיב הכרה בעלויות '!$K$11 -> 0.11785118 | N30: =F30/I30 -> 2.1857293 | O30: =L30+'תעריף מים לכמות נוספת'!E30+'תעריף מים לכמות נוספת'!F30 -> 1.0043419 | P30: =H30-N30-O30 -> 7.3696751 | Q30: =P30-C30-'תחשיב הכרה בעלויות '!$D$11-'תחשיב הכרה בעלויות '!$K$11 -> -7.2164497e-16 | R30: =N30-('תעריף מים לכמות נוספת'!L30+'תעריף מים לכמות נוספת'!J30+'תעריף מים לכמות נוספת'!K30+'תעריף מים לכמות נוספת'!I30) -> 0 | S30: ='תעריף כמות מוכרת'!E30+'תעריף כמות מוכרת'!F30+'תעריף כמות מוכרת'!G30-'תעריף כמות מוכרת'!I30 -> 0.9443619 | T30: ='תעריף כמות מוכרת'!M30 -> 6.5610803 | U30: =T30-S30-N30 -> 3.4309891 | V30: =U30-D30-'תחשיב הכרה בעלויות '!$E$19-'תחשיב הכרה בעלויות '!$I$19 -> 1.0547119e-15 | W30: =IFERROR(VLOOKUP($B30,'כמויות 2013'!$B$205:$H$257,7,0),0) -> 1521693 | X30: =W30*C30 -> 9959324.4 | Y30: =W30*D30 -> 3965853.5 | Z30: =+VLOOKUP(B30,'אשכול חברתי'!$A:$E,2,0) -> 6
C31: =X31/$W$31 -> 6.2708528 | D31: =Y31/$W$31 -> 2.2701395 | W31: =SUM(W3:W30) -> 41373820 | X31: =SUM(X3:X30) -> 2.5944913e+08 | Y31: =SUM(Y3:Y30) -> 93924342
B32: גדרה
B33: זמר
B34: בני עי"ש
B35: יהוד-מונוסון
B36: קריית מלאכי
B40: כעביה-טבאש

Sheet תעריף כמות מוכרת
R1: חוקי עזר
A2: מס' | B2: תעריף גבוה כולל גביית קרן שיקום מים וביוב | C2: שם רשות מקומית | D2: תעריף מים נמוך | E2: פחת מים | F2: פחת גביה | G2: מרווח חלוקה מים | H2: קרן שיקום מים | I2: קרן שיקום ביוב | J2: מרווח חלוקה ביוב | K2: מט"ש | L2: שרותי תשתית | M2: תעריף מכירה נמוך | P2: רכיב ביוב כולל מט"ש והולכה מודל מוצע | Q2: רכיב ביוב ללא מט"ש חוקי עזר | R2: אגרה | S2: מט"ש | T2: החזר הון | U2: יחס ביוב | V2: תעריף ביוב תאגיד סמוך | W2: הערות 1 | X2: הערות 2 | Y2: מט"ש | Z2: סוג | AD2: יישוב | AE2: מרווח מים | AF2: מרווח ביוב | AG2: מט"ש | AH2: הולכה | AI2: תעריף רכישה גבוה
A3: 1 | B3: =M3-L3-K3-J3-G3-F3-E3 -> 2.1732228 | C3: גבעת שמואל | D3: =M3-L3-K3-J3-I3-H3-G3-F3-E3 -> 1.348445 | E3: ='תעריף מים לכמות נוספת'!E3 -> 0.72809451 | F3: =M3*'תחשיב הכרה בעלויות '!$C$22 -> 0.098416205 | G3: ='תחשיב הכרה בעלויות '!$M$30 -> 0.55879601 | H3: ='תחשיב הכרה בעלויות '!$E$19 -> 0.38383298 | I3: ='תחשיב הכרה בעלויות '!$I$19 -> 0.44094483 | J3: ='תחשיב הכרה בעלויות '!$M$24 -> 0.85657249 | K3: =3414/'כמויות 2013'!H220*1000 -> 2.0556594 | L3: =150*1000/'כמויות 2013'!H220 -> 0.090318952 | M3: =+'[1]גיליון סימולציה לתעריפי 2016'!$G$39 -> 6.5610803 | P3: =J3+I3+K3+L3+(E3+F3)/2 -> 3.856751 | R3: =+IFERROR(VLOOKUP(TRIM(C3&"-"&$R$2),'אגרות ביוב'!$A$8:$J$72,10,0),0) -> 2.5179916 | S3: =+IFERROR(VLOOKUP(TRIM(C3&"-"&$S$2),'אגרות ביוב'!$A$8:$J$72,10,0),0) -> 0 | T3: =+IFERROR(VLOOKUP(TRIM(C3&"-"&$T$2),'אגרות ביוב'!$A$8:$J$72,10,0),0) -> 0 | V3: =3.703 -> 3.703 | W3: לפי נתוני המועצה מסמך בוכניק כללו תקורות וגביה ועלויות בפועל של עובדים | X3: הולכה דרך מיתב | Y3: איגודן | Z3: איגודן | AD3: =C3 -> גבעת שמואל | AE3: =E3/2+F3/2+G3+H3 -> 1.3558844 | AF3: =E3/2+F3/2+I3+J3 -> 1.7107727 | AG3: =K3 -> 2.0556594 | AH3: =L3 -> 0.090318952 | AI3: =D3 -> 1.348445
A4: 2 | B4: =M4-L4-K4-J4-G4-F4-E4 -> 3.4462761 | C4: בית שאן | D4: =M4-L4-K4-J4-I4-H4-G4-F4-E4 -> 2.6214983 | E4: ='תעריף מים לכמות נוספת'!E4 -> 0.72809451 | F4: =M4*'תחשיב הכרה בעלויות '!$C$22 -> 0.098416205 | G4: ='תחשיב הכרה בעלויות '!$M$30 -> 0.55879601 | H4: ='תחשיב הכרה בעלויות '!$E$19 -> 0.38383298 | I4: ='תחשיב הכרה בעלויות '!$I$19 -> 0.44094483 | J4: ='תחשיב הכרה בעלויות '!$M$24 -> 0.85657249 | K4: =מטש!D40 -> 0.872925 | M4: =M3 -> 6.5610803 | P4: =J4+I4+K4+L4+(E4+F4)/2 -> 2.5836977 | R4: =+IFERROR(VLOOKUP(TRIM(C4&"-"&$R$2),'אגרות ביוב'!$A$8:$J$72,10,0),0) -> 1.6029244 | S4: =+IFERROR(VLOOKUP(TRIM(C4&"-"&$S$2),'אגרות ביוב'!$A$8:$J$72,10,0),0) -> 0 | T4: =+IFERROR(VLOOKUP(TRIM(C4&"-"&$T$2),'אגרות ביוב'!$A$8:$J$72,10,0),0) -> 0 | Y4: בית שאן | Z4: שניוני | AD4: =C4 -> בית שאן | AE4: =E4/2+F4/2+G4+H4 -> 1.3558844 | AF4: =E4/2+F4/2+I4+J4 -> 1.7107727 | AG4: =K4 -> 0.872925 | AH4: =L4 -> 0 | AI4: =D4 -> 2.6214983
A5: 3 | B5: =M5-L5-K5-J5-G5-F5-E5 -> 2.659959 | C5: בנימינה- גבעת עדה | D5: =M5-L5-K5-J5-I5-H5-G5-F5-E5 -> 1.8351812 | E5: ='תעריף מים לכמות נוספת'!E5 -> 0.72809451 | F5: =M5*'תחשיב הכרה בעלויות '!$C$22 -> 0.098416205 | G5: ='תחשיב הכרה בעלויות '!$M$30 -> 0.55879601 | H5: ='תחשיב הכרה בעלויות '!$E$19 -> 0.38383298 | I5: ='תחשיב הכרה בעלויות '!$I$19 -> 0.44094483 | J5: ='תחשיב הכרה בעלויות '!$M$24 -> 0.85657249 | K5: =K29 -> 1.6592421 | M5: =M4 -> 6.5610803 | P5: =J5+I5+K5+L5+(E5+F5)/2 -> 3.3700148 | R5: =+IFERROR(VLOOKUP(TRIM(C5&"-"&$R$2),'אגרות ביוב'!$A$8:$J$72,10,0),0) -> 2.6831401 | S5: =+IFERROR(VLOOKUP(TRIM(C5&"-"&$S$2),'אגרות ביוב'!$A$8:$J$72,10,0),0) -> 0 | T5: =+IFERROR(VLOOKUP(TRIM(C5&"-"&$T$2),'אגרות ביוב'!$A$8:$J$72,10,0),0) -> 0 | X5: נתונים מגזבר אור עקיבא במייל | Y5: חדרה | Z5: שניוני | AD5: =C5 -> בנימינה- גבעת עדה | AE5: =E5/2+F5/2+G5+H5 -> 1.3558844 | AF5: =E5/2+F5/2+I5+J5 -> 1.7107727 | AG5: =K5 -> 1.6592421 | AH5: =L5 -> 0 | AI5: =D5 -> 1.8351812
A6: 4 | B6: =M6-L6-K6-J6-G6-F6-E6 -> 3.2917011 | C6: פרדיס | D6: =M6-L6-K6-J6-I6-H6-G6-F6-E6 -> 2.4669233 | E6: ='תעריף מים לכמות נוספת'!E6 -> 0.72809451 | F6: =M6*'תחשיב הכרה בעלויות '!$C$22 -> 0.098416205 | G6: ='תחשיב הכרה בעלויות '!$M$30 -> 0.55879601 | H6: ='תחשיב הכרה בעלויות '!$E$19 -> 0.38383298 | I6: ='תחשיב הכרה בעלויות '!$I$19 -> 0.44094483 | J6: ='תחשיב הכרה בעלויות '!$M$24 -> 0.85657249 | K6: =1.37*מטש!D43 -> 1.0275 | M6: =M5 -> 6.5610803 | P6: =J6+I6+K6+L6+(E6+F6)/2 -> 2.7382727 | R6: =+IFERROR(VLOOKUP(TRIM(C6&"-"&$R$2),'אגרות ביוב'!$A$8:$J$72,10,0),0) -> 0 | S6: =+IFERROR(VLOOKUP(TRIM(C6&"-"&$S$2),'אגרות ביוב'!$A$8:$J$72,10,0),0) -> 0 | T6: =+IFERROR(VLOOKUP(TRIM(C6&"-"&$T$2),'אגרות ביוב'!$A$8:$J$72,10,0),0) -> 0 | Y6: מעין צבי | Z6: שניוני | AD6: =C6 -> פרדיס | AE6: =E6/2+F6/2+G6+H6 -> 1.3558844 | AF6: =E6/2+F6/2+I6+J6 -> 1.7107727 | AG6: =K6 -> 1.0275 | AH6: =L6 -> 0 | AI6: =D6 -> 2.4669233
A7: 5 | B7: =M7-L7-K7-J7-G7-F7-E7 -> 3.4462761 | C7: דלית אל כרמל | D7: =M7-L7-K7-J7-I7-H7-G7-F7-E7 -> 2.6214983 | E7: ='תעריף מים לכמות נוספת'!E7 -> 0.72809451 | F7: =M7*'תחשיב הכרה בעלויות '!$C$22 -> 0.098416205 | G7: ='תחשיב הכרה בעלויות '!$M$30 -> 0.55879601 | H7: ='תחשיב הכרה בעלויות '!$E$19 -> 0.38383298 | I7: ='תחשיב הכרה בעלויות '!$I$19 -> 0.44094483 | J7: ='תחשיב הכרה בעלויות '!$M$24 -> 0.85657249 | K7: =K4 -> 0.872925 | M7: =M6 -> 6.5610803 | P7: =J7+I7+K7+L7+(E7+F7)/2 -> 2.5836977 | R7: =+IFERROR(VLOOKUP(TRIM(C7&"-"&$R$2),'אגרות ביוב'!$A$8:$J$72,10,0),0) -> 0 | S7: =+IFERROR(VLOOKUP(TRIM(C7&"-"&$S$2),'אגרות ביוב'!$A$8:$J$72,10,0),0) -> 0 | T7: =+IFERROR(VLOOKUP(TRIM(C7&"-"&$T$2),'אגרות ביוב'!$A$8:$J$72,10,0),0) -> 0 | Y7: ניר עציון | Z7: שניוני | AD7: =C7 -> דלית אל כרמל | AE7: =E7/2+F7/2+G7+H7 -> 1.3558844 | AF7: =E7/2+F7/2+I7+J7 -> 1.7107727 | AG7: =K7 -> 0.872925 | AH7: =L7 -> 0 | AI7: =D7 -> 2.6214983
A8: 6 | B8: =M8-L8-K8-J8-G8-F8-E8 -> 3.4462761 | C8: עספייה | D8: =M8-L8-K8-J8-I8-H8-G8-F8-E8 -> 2.6214983 | E8: ='תעריף מים לכמות נוספת'!E8 -> 0.72809451 | F8: =M8*'תחשיב הכרה בעלויות '!$C$22 -> 0.098416205 | G8: ='תחשיב הכרה בעלויות '!$M$30 -> 0.55879601 | H8: ='תחשיב הכרה בעלויות '!$E$19 -> 0.38383298 | I8: ='תחשיב הכרה בעלויות '!$I$19 -> 0.44094483 | J8: ='תחשיב הכרה בעלויות '!$M$24 -> 0.85657249 | K8: =K7 -> 0.872925 | M8: =M7 -> 6.5610803 | P8: =J8+I8+K8+L8+(E8+F8)/2 -> 2.5836977 | R8: =+IFERROR(VLOOKUP(TRIM(C8&"-"&$R$2),'אגרות ביוב'!$A$8:$J$72,10,0),0) -> 0 | S8: =+IFERROR(VLOOKUP(TRIM(C8&"-"&$S$2),'אגרות ביוב'!$A$8:$J$72,10,0),0) -> 0 | T8: =+IFERROR(VLOOKUP(TRIM(C8&"-"&$T$2),'אגרות ביוב'!$A$8:$J$72,10,0),0) -> 0 | Y8: ניר עציון | Z8: שניוני | AD8: =C8 -> עספייה | AE8: =E8/2+F8/2+G8+H8 -> 1.3558844 | AF8: =E8/2+F8/2+I8+J8 -> 1.7107727 | AG8: =K8 -> 0.872925 | AH8: =L8 -> 0 | AI8: =D8 -> 2.6214983
A9: 7 | B9: =M9-L9-K9-J9-G9-F9-E9 -> 2.5270856 | C9: טירת כרמל | D9: =M9-L9-K9-J9-I9-H9-G9-F9-E9 -> 1.7023078 | E9: ='תעריף מים לכמות נוספת'!E9 -> 0.72809451 | F9: =M9*'תחשיב הכרה בעלויות '!$C$22 -> 0.098416205 | G9: ='תחשיב הכרה בעלויות '!$M$30 -> 0.55879601 | H9: ='תחשיב הכרה בעלויות '!$E$19 -> 0.38383298 | I9: ='תחשיב הכרה בעלויות '!$I$19 -> 0.44094483 | J9: ='תחשיב הכרה בעלויות '!$M$24 -> 0.85657249 | K9: 1.661 | L9: =235000/'כמויות 2013'!G229 -> 0.13111549 | M9: =M8 -> 6.5610803 | P9: =J9+I9+K9+L9+(E9+F9)/2 -> 3.5028882 | R9: =+IFERROR(VLOOKUP(TRIM(C9&"-"&$R$2),'אגרות ביוב'!$A$8:$J$72,10,0),0) -> 1.9090753 | S9: =+IFERROR(VLOOKUP(TRIM(C9&"-"&$S$2),'אגרות ביוב'!$A$8:$J$72,10,0),0) -> 0 | T9: =+IFERROR(VLOOKUP(TRIM(C9&"-"&$T$2),'אגרות ביוב'!$A$8:$J$72,10,0),0) -> 0 | Y9: ניר עציון | Z9: שנינ | AD9: =C9 -> טירת כרמל | AE9: =E9/2+F9/2+G9+H9 -> 1.3558844 | AF9: =E9/2+F9/2+I9+J9 -> 1.7107727 | AG9: =K9 -> 1.661 | AH9: =L9 -> 0.13111549 | AI9: =D9 -> 1.7023078
A10: 8 | B10: =M10-L10-K10-J10-G10-F10-E10 -> 3.9378261 | C10: קלנסואה | D10: =M10-L10-K10-J10-I10-H10-G10-F10-E10 -> 3.1130483 | E10: ='תעריף מים לכמות נוספת'!E10 -> 0.72809451 | F10: =M10*'תחשיב הכרה בעלויות '!$C$22 -> 0.098416205 | G10: ='תחשיב הכרה בעלויות '!$M$30 -> 0.55879601 | H10: ='תחשיב הכרה בעלויות '!$E$19 -> 0.38383298 | I10: ='תחשיב הכרה בעלויות '!$I$19 -> 0.44094483 | J10: ='תחשיב הכרה בעלויות '!$M$24 -> 0.85657249 | K10: =מטש!B40 -> 0.381375 | M10: =M9 -> 6.5610803 | P10: =J10+I10+K10+L10+(E10+F10)/2 -> 2.0921477 | R10: =+IFERROR(VLOOKUP(TRIM(C10&"-"&$R$2),'אגרות ביוב'!$A$8:$J$72,10,0),0) -> 0 | S10: =+IFERROR(VLOOKUP(TRIM(C10&"-"&$S$2),'אגרות ביוב'!$A$8:$J$72,10,0),0) -> 0 | T10: =+IFERROR(VLOOKUP(TRIM(C10&"-"&$T$2),'אגרות ביוב'!$A$8:$J$72,10,0),0) -> 0 | AD10: =C10 -> קלנסואה | AE10: =E10/2+F10/2+G10+H10 -> 1.3558844 | AF10: =E10/2+F10/2+I10+J10 -> 1.7107727 | AG10: =K10 -> 0.381375 | AH10: =L10 -> 0 | AI10: =D10 -> 3.1130483
A11: 9 | B11: =M11-L11-K11-J11-G11-F11-E11 -> 1.7425969 | C11: קריית יערים | D11: =M11-L11-K11-J11-I11-H11-G11-F11-E11 -> 0.91781914 | E11: ='תעריף מים לכמות נוספת'!E11 -> 0.72809451 | F11: =M11*'תחשיב הכרה בעלויות '!$C$22 -> 0.098416205 | G11: ='תחשיב הכרה בעלויות '!$M$30 -> 0.55879601 | H11: ='תחשיב הכרה בעלויות '!$E$19 -> 0.38383298 | I11: ='תחשיב הכרה בעלויות '!$I$19 -> 0.44094483 | J11: ='תחשיב הכרה בעלויות '!$M$24 -> 0.85657249 | K11: =K9 -> 1.661 | L11: =234033/'כמויות 2013'!G252 -> 0.91560415 | M11: =M10 -> 6.5610803 | P11: =J11+I11+K11+L11+(E11+F11)/2 -> 4.2873768 | R11: =+IFERROR(VLOOKUP(TRIM(C11&"-"&$R$2),'אגרות ביוב'!$A$8:$J$72,10,0),0) -> 2.1591072 | S11: =+IFERROR(VLOOKUP(TRIM(C11&"-"&$S$2),'אגרות ביוב'!$A$8:$J$72,10,0),0) -> 0 | T11: =+IFERROR(VLOOKUP(TRIM(C11&"-"&$T$2),'אגרות ביוב'!$A$8:$J$72,10,0),0) -> 0 | V11: 3.028 | W11: כמו מי שמש להפחית הון | X11: הולכה דרך בית שמש לברר עלות | Y11: בית שמש | Z11: שניוני | AD11: =C11 -> קריית יערים | AE11: =E11/2+F11/2+G11+H11 -> 1.3558844 | AF11: =E11/2+F11/2+I11+J11 -> 1.7107727 | AG11: =K11 -> 1.661 | AH11: =L11 -> 0.91560415 | AI11: =D11 -> 0.91781914
A12: 11 | B12: =M12-L12-K12-J12-G12-F12-E12 -> 2.4452011 | C12: כפר שמריהו | D12: =M12-L12-K12-J12-I12-H12-G12-F12-E12 -> 1.6204233 | E12: ='תעריף מים לכמות נוספת'!E12 -> 0.72809451 | F12: =M12*'תחשיב הכרה בעלויות '!$C$22 -> 0.098416205 | G12: ='תחשיב הכרה בעלויות '!$M$30 -> 0.55879601 | H12: ='תחשיב הכרה בעלויות '!$E$19 -> 0.38383298 | I12: ='תחשיב הכרה בעלויות '!$I$19 -> 0.44094483 | J12: ='תחשיב הכרה בעלויות '!$M$24 -> 0.85657249 | K12: 1.774 | L12: 0.1 | M12: =M11 -> 6.5610803 | P12: =J12+I12+K12+L12+(E12+F12)/2 -> 3.5847727 | R12: =+IFERROR(VLOOKUP(TRIM(C12&"-"&$R$2),'אגרות ביוב'!$A$8:$J$72,10,0),0) -> 0.85897937 | S12: =+IFERROR(VLOOKUP(TRIM(C12&"-"&$S$2),'אגרות ביוב'!$A$8:$J$72,10,0),0) -> 0 | T12: =+IFERROR(VLOOKUP(TRIM(C12&"-"&$T$2),'אגרות ביוב'!$A$8:$J$72,10,0),0) -> 0 | U12: אין מערכת ביוב עדיין | X12: יוני - אין חיבור עדיין אין עלות | AD12: =C12 -> כפר שמריהו | AE12: =E12/2+F12/2+G12+H12 -> 1.3558844 | AF12: =E12/2+F12/2+I12+J12 -> 1.7107727 | AG12: =K12 -> 1.774 | AH12: =L12 -> 0.1 | AI12: =D12 -> 1.6204233
A13: 12 | B13: =M13-L13-K13-J13-G13-F13-E13 -> 3.2259261 | C13: מיתר | D13: =M13-L13-K13-J13-I13-H13-G13-F13-E13 -> 2.4011483 | E13: ='תעריף מים לכמות נוספת'!E13 -> 0.72809451 | F13: =M13*'תחשיב הכרה בעלויות '!$C$22 -> 0.098416205 | G13: ='תחשיב הכרה בעלויות '!$M$30 -> 0.55879601 | H13: ='תחשיב הכרה בעלויות '!$E$19 -> 0.38383298 | I13: ='תחשיב הכרה בעלויות '!$I$19 -> 0.44094483 | J13: ='תחשיב הכרה בעלויות '!$M$24 -> 0.85657249 | K13: =מטש!F40 -> 1.093275 | M13: =M12 -> 6.5610803 | P13: =J13+I13+K13+L13+(E13+F13)/2 -> 2.8040477 | R13: =+IFERROR(VLOOKUP(TRIM(C13&"-"&$R$2),'אגרות ביוב'!$A$8:$J$72,10,0),0) -> 0.88939134 | S13: =+IFERROR(VLOOKUP(TRIM(C13&"-"&$S$2),'אגרות ביוב'!$A$8:$J$72,10,0),0) -> 0 | T13: =+IFERROR(VLOOKUP(TRIM(C13&"-"&$T$2),'אגרות ביוב'!$A$8:$J$72,10,0),0) -> 0 | U13: 0.65 | X13: התקבלו נתונים - לא סופי | Y13: שוקת | Z13: שלישוני | AD13: =C13 -> מיתר | AE13: =E13/2+F13/2+G13+H13 -> 1.3558844 | AF13: =E13/2+F13/2+I13+J13 -> 1.7107727 | AG13: =K13 -> 1.093275 | AH13: =L13 -> 0 | AI13: =D13 -> 2.4011483
A14: 14 | B14: =M14-L14-K14-J14-G14-F14-E14 -> 2.7850344 | C14: שהם | D14: =M14-L14-K14-J14-I14-H14-G14-F14-E14 -> 1.9602566 | E14: ='תעריף מים לכמות נוספת'!E14 -> 0.72809451 | F14: =M14*'תחשיב הכרה בעלויות '!$C$22 -> 0.098416205 | G14: ='תחשיב הכרה בעלויות '!$M$30 -> 0.55879601 | H14: ='תחשיב הכרה בעלויות '!$E$19 -> 0.38383298 | I14: ='תחשיב הכרה בעלויות '!$I$19 -> 0.44094483 | J14: ='תחשיב הכרה בעלויות '!$M$24 -> 0.85657249 | K14: =1.389/1.2 -> 1.1575 | L14: =(49+46+50+54-6+84+60+47+68)/1200 -> 0.37666667 | M14: =M13 -> 6.5610803 | P14: =J14+I14+K14+L14+(E14+F14)/2 -> 3.2449393 | R14: =+IFERROR(VLOOKUP(TRIM(C14&"-"&$R$2),'אגרות ביוב'!$A$8:$J$72,10,0),0) -> 0 | S14: =+IFERROR(VLOOKUP(TRIM(C14&"-"&$S$2),'אגרות ביוב'!$A$8:$J$72,10,0),0) -> 0 | T14: =+IFERROR(VLOOKUP(TRIM(C14&"-"&$T$2),'אגרות ביוב'!$A$8:$J$72,10,0),0) -> 0 | X14: מט"ש איילון לפי תקציב והולכה לפי כרטיסים | AD14: =C14 -> שהם | AE14: =E14/2+F14/2+G14+H14 -> 1.3558844 | AF14: =E14/2+F14/2+I14+J14 -> 1.7107727 | AG14: =K14 -> 1.1575 | AH14: =L14 -> 0.37666667 | AI14: =D14 -> 1.9602566
A15: 15 | B15: =M15-L15-K15-J15-G15-F15-E15 -> 3.4547511 | C15: אליכין | D15: =M15-L15-K15-J15-I15-H15-G15-F15-E15 -> 2.6299733 | E15: ='תעריף מים לכמות נוספת'!E15 -> 0.72809451 | F15: =M15*'תחשיב הכרה בעלויות '!$C$22 -> 0.098416205 | G15: ='תחשיב הכרה בעלויות '!$M$30 -> 0.55879601 | H15: ='תחשיב הכרה בעלויות '!$E$19 -> 0.38383298 | I15: ='תחשיב הכרה בעלויות '!$I$19 -> 0.44094483 | J15: ='תחשיב הכרה בעלויות '!$M$24 -> 0.85657249 | K15: =מטש!G40 -> 0.86445 | M15: =M14 -> 6.5610803 | P15: =J15+I15+K15+L15+(E15+F15)/2 -> 2.5752227 | R15: =+IFERROR(VLOOKUP(TRIM(C15&"-"&$R$2),'אגרות ביוב'!$A$8:$J$72,10,0),0) -> 1.1493225 | S15: =+IFERROR(VLOOKUP(TRIM(C15&"-"&$S$2),'אגרות ביוב'!$A$8:$J$72,10,0),0) -> 2.5458111 | T15: =+IFERROR(VLOOKUP(TRIM(C15&"-"&$T$2),'אגרות ביוב'!$A$8:$J$72,10,0),0) -> 0 | X15: אין מידע - מט"ש לשאול את זאבי | Y15: נתניה | AD15: =C15 -> אליכין | AE15: =E15/2+F15/2+G15+H15 -> 1.3558844 | AF15: =E15/2+F15/2+I15+J15 -> 1.7107727 | AG15: =K15 -> 0.86445 | AH15: =L15 -> 0 | AI15: =D15 -> 2.6299733
A16: 16 | B16: =M16-L16-K16-J16-G16-F16-E16 -> 3.9378261 | C16: טייבה | D16: =M16-L16-K16-J16-I16-H16-G16-F16-E16 -> 3.1130483 | E16: ='תעריף מים לכמות נוספת'!E16 -> 0.72809451 | F16: =M16*'תחשיב הכרה בעלויות '!$C$22 -> 0.098416205 | G16: ='תחשיב הכרה בעלויות '!$M$30 -> 0.55879601 | H16: ='תחשיב הכרה בעלויות '!$E$19 -> 0.38383298 | I16: ='תחשיב הכרה בעלויות '!$I$19 -> 0.44094483 | J16: ='תחשיב הכרה בעלויות '!$M$24 -> 0.85657249 | K16: =K10 -> 0.381375 | M16: =M15 -> 6.5610803 | P16: =J16+I16+K16+L16+(E16+F16)/2 -> 2.0921477 | R16: =+IFERROR(VLOOKUP(TRIM(C16&"-"&$R$2),'אגרות ביוב'!$A$8:$J$72,10,0),0) -> 1.1924065 | S16: =+IFERROR(VLOOKUP(TRIM(C16&"-"&$S$2),'אגרות ביוב'!$A$8:$J$72,10,0),0) -> 0.71253557 | T16: =+IFERROR(VLOOKUP(TRIM(C16&"-"&$T$2),'אגרות ביוב'!$A$8:$J$72,10,0),0) -> 2.2830221 | AD16: =C16 -> טייבה | AE16: =E16/2+F16/2+G16+H16 -> 1.3558844 | AF16: =E16/2+F16/2+I16+J16 -> 1.7107727 | AG16: =K16 -> 0.381375 | AH16: =L16 -> 0 | AI16: =D16 -> 3.1130483
A17: 17 | B17: =M17-L17-K17-J17-G17-F17-E17 -> 2.6582011 | C17: כפר תבור | D17: =M17-L17-K17-J17-I17-H17-G17-F17-E17 -> 1.8334233 | E17: ='תעריף מים לכמות נוספת'!E17 -> 0.72809451 | F17: =M17*'תחשיב הכרה בעלויות '!$C$22 -> 0.098416205 | G17: ='תחשיב הכרה בעלויות '!$M$30 -> 0.55879601 | H17: ='תחשיב הכרה בעלויות '!$E$19 -> 0.38383298 | I17: ='תחשיב הכרה בעלויות '!$I$19 -> 0.44094483 | J17: ='תחשיב הכרה בעלויות '!$M$24 -> 0.85657249 | K17: =K11 -> 1.661 | M17: =M16 -> 6.5610803 | P17: =J17+I17+K17+L17+(E17+F17)/2 -> 3.3717727 | R17: =+IFERROR(VLOOKUP(TRIM(C17&"-"&$R$2),'אגרות ביוב'!$A$8:$J$72,10,0),0) -> 0.70042006 | S17: =+IFERROR(VLOOKUP(TRIM(C17&"-"&$S$2),'אגרות ביוב'!$A$8:$J$72,10,0),0) -> 1.5009001 | T17: =+IFERROR(VLOOKUP(TRIM(C17&"-"&$T$2),'אגרות ביוב'!$A$8:$J$72,10,0),0) -> 0 | AD17: =C17 -> כפר תבור | AE17: =E17/2+F17/2+G17+H17 -> 1.3558844 | AF17: =E17/2+F17/2+I17+J17 -> 1.7107727 | AG17: =K17 -> 1.661 | AH17: =L17 -> 0 | AI17: =D17 -> 1.8334233
A18: 18 | B18: =M18-L18-K18-J18-G18-F18-E18 -> 3.2259261 | C18: להבים | D18: =M18-L18-K18-J18-I18-H18-G18-F18-E18 -> 2.4011483 | E18: ='תעריף מים לכמות נוספת'!E18 -> 0.72809451 | F18: =M18*'תחשיב הכרה בעלויות '!$C$22 -> 0.098416205 | G18: ='תחשיב הכרה בעלויות '!$M$30 -> 0.55879601 | H18: ='תחשיב הכרה בעלויות '!$E$19 -> 0.38383298 | I18: ='תחשיב הכרה בעלויות '!$I$19 -> 0.44094483 | J18: ='תחשיב הכרה בעלויות '!$M$24 -> 0.85657249 | K18: =מטש!F40 -> 1.093275 | M18: =M17 -> 6.5610803 | P18: =J18+I18+K18+L18+(E18+F18)/2 -> 2.8040477 | R18: 1.51 | S18: 1.82 | T18: =+IFERROR(VLOOKUP(TRIM(C18&"-"&$T$2),'אגרות ביוב'!$A$8:$J$72,10,0),0) -> 0.32131596 | U18: =SUM(R18:T18) -> 3.651316 | X18: השערה שלישוני ללא עלות הון ההקמה במימון ממ"י | Y18: להבים | Z18: שלישוני | AD18: =C18 -> להבים | AE18: =E18/2+F18/2+G18+H18 -> 1.3558844 | AF18: =E18/2+F18/2+I18+J18 -> 1.7107727 | AG18: =K18 -> 1.093275 | AH18: =L18 -> 0 | AI18: =D18 -> 2.4011483
A19: 19 | B19: =M19-L19-K19-J19-G19-F19-E19 -> 3.2428761 | C19: נהריה | D19: =M19-L19-K19-J19-I19-H19-G19-F19-E19 -> 2.4180983 | E19: ='תעריף מים לכמות נוספת'!E19 -> 0.72809451 | F19: =M19*'תחשיב הכרה בעלויות '!$C$22 -> 0.098416205 | G19: ='תחשיב הכרה בעלויות '!$M$30 -> 0.55879601 | H19: ='תחשיב הכרה בעלויות '!$E$19 -> 0.38383298 | I19: ='תחשיב הכרה בעלויות '!$I$19 -> 0.44094483 | J19: ='תחשיב הכרה בעלויות '!$M$24 -> 0.85657249 | K19: =מטש!E38 -> 1.076325 | M19: =M18 -> 6.5610803 | P19: =J19+I19+K19+L19+(E19+F19)/2 -> 2.7870977 | R19: =+IFERROR(VLOOKUP(TRIM(C19&"-"&$R$2),'אגרות ביוב'!$A$8:$J$72,10,0),0) -> 1.9617288 | S19: =+IFERROR(VLOOKUP(TRIM(C19&"-"&$S$2),'אגרות ביוב'!$A$8:$J$72,10,0),0) -> 1.7165127 | T19: =+IFERROR(VLOOKUP(TRIM(C19&"-"&$T$2),'אגרות ביוב'!$A$8:$J$72,10,0),0) -> 0 | U19: =P18-K18-I18 -> 1.2698279 | Y19: נהריה | Z19: שניוני | AD19: =C19 -> נהריה | AE19: =E19/2+F19/2+G19+H19 -> 1.3558844 | AF19: =E19/2+F19/2+I19+J19 -> 1.7107727 | AG19: =K19 -> 1.076325 | AH19: =L19 -> 0 | AI19: =D19 -> 2.4180983
A20: 20 | B20: =M20-L20-K20-J20-G20-F20-E20 -> 2.7748185 | C20: נשר | D20: =M20-L20-K20-J20-I20-H20-G20-F20-E20 -> 1.9500407 | E20: ='תעריף מים לכמות נוספת'!E20 -> 0.72809451 | F20: =M20*'תחשיב הכרה בעלויות '!$C$22 -> 0.098416205 | G20: ='תחשיב הכרה בעלויות '!$M$30 -> 0.55879601 | H20: ='תחשיב הכרה בעלויות '!$E$19 -> 0.38383298 | I20: ='תחשיב הכרה בעלויות '!$I$19 -> 0.44094483 | J20: ='תחשיב הכרה בעלויות '!$M$24 -> 0.85657249 | K20: ='[2]מטשים 2015'!$K$76 -> 1.5443826 | M20: =M19 -> 6.5610803 | P20: =J20+I20+K20+L20+(E20+F20)/2 -> 3.2551553 | R20: =+IFERROR(VLOOKUP(TRIM(C20&"-"&$R$2),'אגרות ביוב'!$A$8:$J$72,10,0),0) -> 0.6312256 | S20: =+IFERROR(VLOOKUP(TRIM(C20&"-"&$S$2),'אגרות ביוב'!$A$8:$J$72,10,0),0) -> 0 | T20: =+IFERROR(VLOOKUP(TRIM(C20&"-"&$T$2),'אגרות ביוב'!$A$8:$J$72,10,0),0) -> 0 | W20: תחשיב עלות אחזקה עלות עובדים חריגה | X20: התקבל תחשיב של בוכניק | Y20: חיפה | Z20: שניוני | AD20: =C20 -> נשר | AE20: =E20/2+F20/2+G20+H20 -> 1.3558844 | AF20: =E20/2+F20/2+I20+J20 -> 1.7107727 | AG20: =K20 -> 1.5443826 | AH20: =L20 -> 0 | AI20: =D20 -> 1.9500407
A21: 21 | B21: =M21-L21-K21-J21-G21-F21-E21 -> 2.7592011 | C21: סביון | D21: =M21-L21-K21-J21-I21-H21-G21-F21-E21 -> 1.9344233 | E21: ='תעריף מים לכמות נוספת'!E21 -> 0.72809451 | F21: =M21*'תחשיב הכרה בעלויות '!$C$22 -> 0.098416205 | G21: ='תחשיב הכרה בעלויות '!$M$30 -> 0.55879601 | H21: ='תחשיב הכרה בעלויות '!$E$19 -> 0.38383298 | I21: ='תחשיב הכרה בעלויות '!$I$19 -> 0.44094483 | J21: ='תחשיב הכרה בעלויות '!$M$24 -> 0.85657249 | K21: 1.24 | L21: 0.32 | M21: =M20 -> 6.5610803 | P21: =J21+I21+K21+L21+(E21+F21)/2 -> 3.2707727 | R21: =+IFERROR(VLOOKUP(TRIM(C21&"-"&$R$2),'אגרות ביוב'!$A$8:$J$72,10,0),0) -> 3.3242824 | S21: =+IFERROR(VLOOKUP(TRIM(C21&"-"&$S$2),'אגרות ביוב'!$A$8:$J$72,10,0),0) -> 0 | T21: =+IFERROR(VLOOKUP(TRIM(C21&"-"&$T$2),'אגרות ביוב'!$A$8:$J$72,10,0),0) -> 0 | U21: אין מערכת ביוב | AD21: =C21 -> סביון | AE21: =E21/2+F21/2+G21+H21 -> 1.3558844 | AF21: =E21/2+F21/2+I21+J21 -> 1.7107727 | AG21: =K21 -> 1.24 | AH21: =L21 -> 0.32 | AI21: =D21 -> 1.9344233
A22: 22 | B22: =M22-L22-K22-J22-G22-F22-E22 -> 3.2259261 | C22: עומר | D22: =M22-L22-K22-J22-I22-H22-G22-F22-E22 -> 2.4011483 | E22: ='תעריף מים לכמות נוספת'!E22 -> 0.72809451 | F22: =M22*'תחשיב הכרה בעלויות '!$C$22 -> 0.098416205 | G22: ='תחשיב הכרה בעלויות '!$M$30 -> 0.55879601 | H22: ='תחשיב הכרה בעלויות '!$E$19 -> 0.38383298 | I22: ='תחשיב הכרה בעלויות '!$I$19 -> 0.44094483 | J22: ='תחשיב הכרה בעלויות '!$M$24 -> 0.85657249 | K22: =מטש!F40 -> 1.093275 | M22: =M21 -> 6.5610803 | P22: =J22+I22+K22+L22+(E22+F22)/2 -> 2.8040477 | R22: =+IFERROR(VLOOKUP(TRIM(C22&"-"&$R$2),'אגרות ביוב'!$A$8:$J$72,10,0),0) -> 2.7805115 | S22: =+IFERROR(VLOOKUP(TRIM(C22&"-"&$S$2),'אגרות ביוב'!$A$8:$J$72,10,0),0) -> 0 | T22: =+IFERROR(VLOOKUP(TRIM(C22&"-"&$T$2),'אגרות ביוב'!$A$8:$J$72,10,0),0) -> 0 | Y22: עומר | Z22: שלישוני | AD22: =C22 -> עומר | AE22: =E22/2+F22/2+G22+H22 -> 1.3558844 | AF22: =E22/2+F22/2+I22+J22 -> 1.7107727 | AG22: =K22 -> 1.093275 | AH22: =L22 -> 0 | AI22: =D22 -> 2.4011483
A23: 23 | B23: =M23-L23-K23-J23-G23-F23-E23 -> 2.2040875 | C23: פרדס חנה-כרכור | D23: =M23-L23-K23-J23-I23-H23-G23-F23-E23 -> 1.3793097 | E23: ='תעריף מים לכמות נוספת'!E23 -> 0.72809451 | F23: =M23*'תחשיב הכרה בעלויות '!$C$22 -> 0.098416205 | G23: ='תחשיב הכרה בעלויות '!$M$30 -> 0.55879601 | H23: ='תחשיב הכרה בעלויות '!$E$19 -> 0.38383298 | I23: ='תחשיב הכרה בעלויות '!$I$19 -> 0.44094483 | J23: ='תחשיב הכרה בעלויות '!$M$24 -> 0.85657249 | K23: =K29 -> 1.6592421 | L23: =(1+0.4+0.2+0.6-K23)*145/(145.5+26.5) -> 0.45587149 | M23: =M22 -> 6.5610803 | P23: =J23+I23+K23+L23+(E23+F23)/2 -> 3.8258863 | R23: =+IFERROR(VLOOKUP(TRIM(C23&"-"&$R$2),'אגרות ביוב'!$A$8:$J$72,10,0),0) -> 2.8688195 | S23: =+IFERROR(VLOOKUP(TRIM(C23&"-"&$S$2),'אגרות ביוב'!$A$8:$J$72,10,0),0) -> 0 | T23: =+IFERROR(VLOOKUP(TRIM(C23&"-"&$T$2),'אגרות ביוב'!$A$8:$J$72,10,0),0) -> 0 | Y23: חדרה | Z23: שניוני | AD23: =C23 -> פרדס חנה-כרכור | AE23: =E23/2+F23/2+G23+H23 -> 1.3558844 | AF23: =E23/2+F23/2+I23+J23 -> 1.7107727 | AG23: =K23 -> 1.6592421 | AH23: =L23 -> 0.45587149 | AI23: =D23 -> 1.3793097
A24: 24 | B24: =M24-L24-K24-J24-G24-F24-E24 -> 3.9378261 | C24: שדרות | D24: =M24-L24-K24-J24-I24-H24-G24-F24-E24 -> 3.1130483 | E24: ='תעריף מים לכמות נוספת'!E24 -> 0.72809451 | F24: =M24*'תחשיב הכרה בעלויות '!$C$22 -> 0.098416205 | G24: ='תחשיב הכרה בעלויות '!$M$30 -> 0.55879601 | H24: ='תחשיב הכרה בעלויות '!$E$19 -> 0.38383298 | I24: ='תחשיב הכרה בעלויות '!$I$19 -> 0.44094483 | J24: ='תחשיב הכרה בעלויות '!$M$24 -> 0.85657249 | K24: =מטש!B40 -> 0.381375 | M24: =M23 -> 6.5610803 | P24: =J24+I24+K24+L24+(E24+F24)/2 -> 2.0921477 | R24: =+IFERROR(VLOOKUP(TRIM(C24&"-"&$R$2),'אגרות ביוב'!$A$8:$J$72,10,0),0) -> 0 | S24: =+IFERROR(VLOOKUP(TRIM(C24&"-"&$S$2),'אגרות ביוב'!$A$8:$J$72,10,0),0) -> 0 | T24: =+IFERROR(VLOOKUP(TRIM(C24&"-"&$T$2),'אגרות ביוב'!$A$8:$J$72,10,0),0) -> 0 | X24: עדיין לא פועל ? | Y24: שדרות | Z24: שלישוני | AD24: =C24 -> שדרות | AE24: =E24/2+F24/2+G24+H24 -> 1.3558844 | AF24: =E24/2+F24/2+I24+J24 -> 1.7107727 | AG24: =K24 -> 0.381375 | AH24: =L24 -> 0 | AI24: =D24 -> 3.1130483
A25: 25 | B25: =M25-L25-K25-J25-G25-F25-E25 -> 3.4462761 | C25: מעיליא | D25: =M25-L25-K25-J25-I25-H25-G25-F25-E25 -> 2.6214983 | E25: ='תעריף מים לכמות נוספת'!E25 -> 0.72809451 | F25: =M25*'תחשיב הכרה בעלויות '!$C$22 -> 0.098416205 | G25: ='תחשיב הכרה בעלויות '!$M$30 -> 0.55879601 | H25: ='תחשיב הכרה בעלויות '!$E$19 -> 0.38383298 | I25: ='תחשיב הכרה בעלויות '!$I$19 -> 0.44094483 | J25: ='תחשיב הכרה בעלויות '!$M$24 -> 0.85657249 | K25: =מטש!D40 -> 0.872925 | M25: =M24 -> 6.5610803 | P25: =J25+I25+K25+L25+(E25+F25)/2 -> 2.5836977 | R25: =+IFERROR(VLOOKUP(TRIM(C25&"-"&$R$2),'אגרות ביוב'!$A$8:$J$72,10,0),0) -> 0.97462849 | S25: =+IFERROR(VLOOKUP(TRIM(C25&"-"&$S$2),'אגרות ביוב'!$A$8:$J$72,10,0),0) -> 0 | T25: =+IFERROR(VLOOKUP(TRIM(C25&"-"&$T$2),'אגרות ביוב'!$A$8:$J$72,10,0),0) -> 0 | AD25: =C25 -> מעיליא | AE25: =E25/2+F25/2+G25+H25 -> 1.3558844 | AF25: =E25/2+F25/2+I25+J25 -> 1.7107727 | AG25: =K25 -> 0.872925 | AH25: =L25 -> 0 | AI25: =D25 -> 2.6214983
A26: 26 | B26: =M26-L26-K26-J26-G26-F26-E26 -> 3.4462761 | C26: ראש פינה | D26: =M26-L26-K26-J26-I26-H26-G26-F26-E26 -> 2.6214983 | E26: ='תעריף מים לכמות נוספת'!E26 -> 0.72809451 | F26: =M26*'תחשיב הכרה בעלויות '!$C$22 -> 0.098416205 | G26: ='תחשיב הכרה בעלויות '!$M$30 -> 0.55879601 | H26: ='תחשיב הכרה בעלויות '!$E$19 -> 0.38383298 | I26: ='תחשיב הכרה בעלויות '!$I$19 -> 0.44094483 | J26: ='תחשיב הכרה בעלויות '!$M$24 -> 0.85657249 | K26: =מטש!D40 -> 0.872925 | M26: =M25 -> 6.5610803 | P26: =J26+I26+K26+L26+(E26+F26)/2 -> 2.5836977 | R26: =+IFERROR(VLOOKUP(TRIM(C26&"-"&$R$2),'אגרות ביוב'!$A$8:$J$72,10,0),0) -> 2.0865661 | S26: =+IFERROR(VLOOKUP(TRIM(C26&"-"&$S$2),'אגרות ביוב'!$A$8:$J$72,10,0),0) -> 0 | T26: =+IFERROR(VLOOKUP(TRIM(C26&"-"&$T$2),'אגרות ביוב'!$A$8:$J$72,10,0),0) -> 0 | X26: לבדוק עם פלג | Y26: צח"ר | Z26: שלישוני | AD26: =C26 -> ראש פינה | AE26: =E26/2+F26/2+G26+H26 -> 1.3558844 | AF26: =E26/2+F26/2+I26+J26 -> 1.7107727 | AG26: =K26 -> 0.872925 | AH26: =L26 -> 0 | AI26: =D26 -> 2.6214983
A27: 27 | B27: =M27-L27-K27-J27-G27-F27-E27 -> 2.659959 | C27: ג'סר אל זרקא | D27: =M27-L27-K27-J27-I27-H27-G27-F27-E27 -> 1.8351812 | E27: ='תעריף מים לכמות נוספת'!E27 -> 0.72809451 | F27: =M27*'תחשיב הכרה בעלויות '!$C$22 -> 0.098416205 | G27: ='תחשיב הכרה בעלויות '!$M$30 -> 0.55879601 | H27: ='תחשיב הכרה בעלויות '!$E$19 -> 0.38383298 | I27: ='תחשיב הכרה בעלויות '!$I$19 -> 0.44094483 | J27: ='תחשיב הכרה בעלויות '!$M$24 -> 0.85657249 | K27: =K29 -> 1.6592421 | M27: =M26 -> 6.5610803 | P27: =J27+I27+K27+L27+(E27+F27)/2 -> 3.3700148 | R27: =+IFERROR(VLOOKUP(TRIM(C27&"-"&$R$2),'אגרות ביוב'!$A$8:$J$72,10,0),0) -> 2.4541021 | S27: =+IFERROR(VLOOKUP(TRIM(C27&"-"&$S$2),'אגרות ביוב'!$A$8:$J$72,10,0),0) -> 0 | T27: =+IFERROR(VLOOKUP(TRIM(C27&"-"&$T$2),'אגרות ביוב'!$A$8:$J$72,10,0),0) -> 0.82218648 | X27: =X5 -> נתונים מגזבר אור עקיבא במייל | Y27: חדרה | Z27: שניוני | AD27: =C27 -> ג'סר אל זרקא | AE27: =E27/2+F27/2+G27+H27 -> 1.3558844 | AF27: =E27/2+F27/2+I27+J27 -> 1.7107727 | AG27: =K27 -> 1.6592421 | AH27: =L27 -> 0 | AI27: =D27 -> 1.8351812
A28: 28 | B28: =M28-L28-K28-J28-G28-F28-E28 -> 3.6412011 | C28: קציר-חריש | D28: =M28-L28-K28-J28-I28-H28-G28-F28-E28 -> 2.8164233 | E28: ='תעריף מים לכמות נוספת'!E28 -> 0.72809451 | F28: =M28*'תחשיב הכרה בעלויות '!$C$22 -> 0.098416205 | G28: ='תחשיב הכרה בעלויות '!$M$30 -> 0.55879601 | H28: ='תחשיב הכרה בעלויות '!$E$19 -> 0.38383298 | I28: ='תחשיב הכרה בעלויות '!$I$19 -> 0.44094483 | J28: ='תחשיב הכרה בעלויות '!$M$24 -> 0.85657249 | K28: =מטש!E40 -> 0.678 | M28: =M27 -> 6.5610803 | P28: =J28+I28+K28+L28+(E28+F28)/2 -> 2.3887727 | R28: =+IFERROR(VLOOKUP(TRIM(C28&"-"&$R$2),'אגרות ביוב'!$A$8:$J$72,10,0),0) -> 1.065059 | S28: =+IFERROR(VLOOKUP(TRIM(C28&"-"&$S$2),'אגרות ביוב'!$A$8:$J$72,10,0),0) -> 0 | T28: =+IFERROR(VLOOKUP(TRIM(C28&"-"&$T$2),'אגרות ביוב'!$A$8:$J$72,10,0),0) -> 0 | X28: מט"ש בהקמה | AD28: =C28 -> קציר-חריש | AE28: =E28/2+F28/2+G28+H28 -> 1.3558844 | AF28: =E28/2+F28/2+I28+J28 -> 1.7107727 | AG28: =K28 -> 0.678 | AH28: =L28 -> 0 | AI28: =D28 -> 2.8164233
A29: 29 | B29: =M29-L29-K29-J29-G29-F29-E29 -> 2.659959 | C29: אור עקיבא | D29: =M29-L29-K29-J29-I29-H29-G29-F29-E29 -> 1.8351812 | E29: ='תעריף מים לכמות נוספת'!E29 -> 0.72809451 | F29: =M29*'תחשיב הכרה בעלויות '!$C$22 -> 0.098416205 | G29: ='תחשיב הכרה בעלויות '!$M$30 -> 0.55879601 | H29: ='תחשיב הכרה בעלויות '!$E$19 -> 0.38383298 | I29: ='תחשיב הכרה בעלויות '!$I$19 -> 0.44094483 | J29: ='תחשיב הכרה בעלויות '!$M$24 -> 0.85657249 | K29: ='[2]מטשים 2015'!$K$56 -> 1.6592421 | M29: =M28 -> 6.5610803 | P29: =J29+I29+K29+L29+(E29+F29)/2 -> 3.3700148 | R29: =+IFERROR(VLOOKUP(TRIM(C29&"-"&$R$2),'אגרות ביוב'!$A$8:$J$72,10,0),0) -> 2.610679 | S29: =+IFERROR(VLOOKUP(TRIM(C29&"-"&$S$2),'אגרות ביוב'!$A$8:$J$72,10,0),0) -> 0 | T29: =+IFERROR(VLOOKUP(TRIM(C29&"-"&$T$2),'אגרות ביוב'!$A$8:$J$72,10,0),0) -> 0 | U29: =1045/1643 -> 0.63603165 | X29: נתונים מגזבר אור עקיבא במייל | Y29: חדרה | Z29: שניוני
C30: באר יעקב | D30: =M30-L30-K30-J30-I30-H30-G30-F30-E30 -> 2.6062113 | E30: =+E29 -> 0.72809451 | F30: =+F29 -> 0.098416205 | G30: ='תחשיב הכרה בעלויות '!$M$30 -> 0.55879601 | H30: ='תחשיב הכרה בעלויות '!$E$19 -> 0.38383298 | I30: ='תחשיב הכרה בעלויות '!$I$19 -> 0.44094483 | J30: ='תחשיב הכרה בעלויות '!$M$24 -> 0.85657249 | K30: =+'[3]מטשים 2015'!$B$7 -> 0.88821199 | M30: =M29 -> 6.5610803
A32: 1 | C32: גדרה | D32: =M32-L32-K32-J32-I32-H32-G32-F32-E32 -> 6.510045 | E32: ='תחשיב הכרה בעלויות '!$C$14+'תחשיב הכרה בעלויות '!$J$14 -> 0.87303059 | F32: ='תחשיב הכרה בעלויות '!$C$15+'תחשיב הכרה בעלויות '!$J$15 -> 0.15177809 | G32: ='תחשיב הכרה בעלויות '!$M$30 -> 0.55879601 | H32: ='תחשיב הכרה בעלויות '!$E$19 -> 0.38383298 | I32: ='תחשיב הכרה בעלויות '!$I$19 -> 0.44094483 | J32: ='תחשיב הכרה בעלויות '!$M$24 -> 0.85657249 | K32: 1.2 | M32: 10.975 | R32: =+IFERROR(VLOOKUP(TRIM(C32&"-"&$R$2),'אגרות ביוב'!$A$8:$J$72,10,0),0) -> 1.4729215 | S32: =+IFERROR(VLOOKUP(TRIM(C32&"-"&$S$2),'אגרות ביוב'!$A$8:$J$72,10,0),0) -> 1.0110732 | T32: =+IFERROR(VLOOKUP(TRIM(C32&"-"&$T$2),'אגרות ביוב'!$A$8:$J$72,10,0),0) -> 0 | W32: מצטרף לתאגיד | Y32: נשגב | Z32: שלישוני | AD32: יישוב | AE32: מרווח מים | AF32: מרווח ביוב | AG32: מט"ש | AH32: הולכה | AI32: תעריף רכישה גבוה
A33: 2 | C33: זמר | D33: =M33-L33-K33-J33-I33-H33-G33-F33-E33 -> 7.710045 | E33: ='תחשיב הכרה בעלויות '!$C$14+'תחשיב הכרה בעלויות '!$J$14 -> 0.87303059 | F33: ='תחשיב הכרה בעלויות '!$C$15+'תחשיב הכרה בעלויות '!$J$15 -> 0.15177809 | G33: ='תחשיב הכרה בעלויות '!$M$30 -> 0.55879601 | H33: ='תחשיב הכרה בעלויות '!$E$19 -> 0.38383298 | I33: ='תחשיב הכרה בעלויות '!$I$19 -> 0.44094483 | J33: ='תחשיב הכרה בעלויות '!$M$24 -> 0.85657249 | M33: 10.975 | R33: =+IFERROR(VLOOKUP(TRIM(C33&"-"&$R$2),'אגרות ביוב'!$A$8:$J$72,10,0),0) -> 0 | S33: =+IFERROR(VLOOKUP(TRIM(C33&"-"&$S$2),'אגרות ביוב'!$A$8:$J$72,10,0),0) -> 0 | T33: =+IFERROR(VLOOKUP(TRIM(C33&"-"&$T$2),'אגרות ביוב'!$A$8:$J$72,10,0),0) -> 0 | W33: צורף לתאגיד | AD33: =AD3 -> גבעת שמואל | AE33: =AE3 -> 1.3558844 | AF33: =AF3 -> 1.7107727 | AG33: =AG3 -> 2.0556594 | AH33: =AH3 -> 0.090318952 | AI33: =AI3 -> 1.348445
A34: 3 | C34: בני עי"ש | D34: =M34-L34-K34-J34-I34-H34-G34-F34-E34 -> 6.510045 | E34: ='תחשיב הכרה בעלויות '!$C$14+'תחשיב הכרה בעלויות '!$J$14 -> 0.87303059 | F34: ='תחשיב הכרה בעלויות '!$C$15+'תחשיב הכרה בעלויות '!$J$15 -> 0.15177809 | G34: ='תחשיב הכרה בעלויות '!$M$30 -> 0.55879601 | H34: ='תחשיב הכרה בעלויות '!$E$19 -> 0.38383298 | I34: ='תחשיב הכרה בעלויות '!$I$19 -> 0.44094483 | J34: ='תחשיב הכרה בעלויות '!$M$24 -> 0.85657249 | K34: 1.2 | M34: 10.975 | R34: =+IFERROR(VLOOKUP(TRIM(C34&"-"&$R$2),'אגרות ביוב'!$A$8:$J$72,10,0),0) -> 2.268574 | S34: =+IFERROR(VLOOKUP(TRIM(C34&"-"&$S$2),'אגרות ביוב'!$A$8:$J$72,10,0),0) -> 0.91270015 | T34: =+IFERROR(VLOOKUP(TRIM(C34&"-"&$T$2),'אגרות ביוב'!$A$8:$J$72,10,0),0) -> 0 | W34: מצטרף לתאגיד | Y34: נשגב | Z34: שלישוני | AD34: =AD19 -> נהריה | AE34: =AE19 -> 1.3558844 | AF34: =AF19 -> 1.7107727 | AG34: =AG19 -> 1.076325 | AH34: =AH19 -> 0 | AI34: =AI19 -> 2.4180983
A35: 4 | C35: יהוד-מונוסון | D35: =M35-L35-K35-J35-I35-H35-G35-F35-E35 -> 7.110045 | E35: ='תחשיב הכרה בעלויות '!$C$14+'תחשיב הכרה בעלויות '!$J$14 -> 0.87303059 | F35: ='תחשיב הכרה בעלויות '!$C$15+'תחשיב הכרה בעלויות '!$J$15 -> 0.15177809 | G35: ='תחשיב הכרה בעלויות '!$M$30 -> 0.55879601 | H35: ='תחשיב הכרה בעלויות '!$E$19 -> 0.38383298 | I35: ='תחשיב הכרה בעלויות '!$I$19 -> 0.44094483 | J35: ='תחשיב הכרה בעלויות '!$M$24 -> 0.85657249 | L35: 0.6 | M35: 10.975 | R35: =+IFERROR(VLOOKUP(TRIM(C35&"-"&$R$2),'אגרות ביוב'!$A$8:$J$72,10,0),0) -> 1.0805431 | S35: =+IFERROR(VLOOKUP(TRIM(C35&"-"&$S$2),'אגרות ביוב'!$A$8:$J$72,10,0),0) -> 2.3598069 | T35: =+IFERROR(VLOOKUP(TRIM(C35&"-"&$T$2),'אגרות ביוב'!$A$8:$J$72,10,0),0) -> 1.6394448 | V35: =3.531 -> 3.531 | W35: כמו קריית אונו צריך להפחית הון | X35: הולכה דרך אור יהודה לברר עלות | Y35: איגודן | Z35: איגודן | AD35: =AD20 -> נשר | AE35: =AE20 -> 1.3558844 | AF35: =AF20 -> 1.7107727 | AG35: =AG20 -> 1.5443826 | AH35: =AH20 -> 0 | AI35: =AI20 -> 1.9500407
A36: 5 | C36: קריית מלאכי | D36: =M36-L36-K36-J36-I36-H36-G36-F36-E36 -> 6.060045 | E36: ='תחשיב הכרה בעלויות '!$C$14+'תחשיב הכרה בעלויות '!$J$14 -> 0.87303059 | F36: ='תחשיב הכרה בעלויות '!$C$15+'תחשיב הכרה בעלויות '!$J$15 -> 0.15177809 | G36: ='תחשיב הכרה בעלויות '!$M$30 -> 0.55879601 | H36: ='תחשיב הכרה בעלויות '!$E$19 -> 0.38383298 | I36: ='תחשיב הכרה בעלויות '!$I$19 -> 0.44094483 | J36: ='תחשיב הכרה בעלויות '!$M$24 -> 0.85657249 | K36: 1.65 | M36: 10.975 | R36: =+IFERROR(VLOOKUP(TRIM(C36&"-"&$R$2),'אגרות ביוב'!$A$8:$J$72,10,0),0) -> 1.4354744 | S36: =+IFERROR(VLOOKUP(TRIM(C36&"-"&$S$2),'אגרות ביוב'!$A$8:$J$72,10,0),0) -> 1.4354744 | T36: =+IFERROR(VLOOKUP(TRIM(C36&"-"&$T$2),'אגרות ביוב'!$A$8:$J$72,10,0),0) -> 0 | W36: מצטרף לתאגיד | Y36: תימורים | Z36: שניוני | AD36: =AD14 -> שהם | AE36: =AE14 -> 1.3558844 | AF36: =AF14 -> 1.7107727 | AG36: =AG14 -> 1.1575 | AH36: =AH14 -> 0.37666667 | AI36: =AI14 -> 1.9602566
AD37: =#REF! -> #REF! | AE37: =#REF! -> #REF! | AF37: =#REF! -> #REF! | AG37: =#REF! -> #REF! | AH37: =#REF! -> #REF! | AI37: =#REF! -> #REF!
A40: 9 | C40: כעביה-טבאש | D40: =M40-L40-K40-J40-I40-H40-G40-F40-E40 -> 7.710045 | E40: ='תחשיב הכרה בעלויות '!$C$14+'תחשיב הכרה בעלויות '!$J$14 -> 0.87303059 | F40: ='תחשיב הכרה בעלויות '!$C$15+'תחשיב הכרה בעלויות '!$J$15 -> 0.15177809 | G40: ='תחשיב הכרה בעלויות '!$M$30 -> 0.55879601 | H40: ='תחשיב הכרה בעלויות '!$E$19 -> 0.38383298 | I40: ='תחשיב הכרה בעלויות '!$I$19 -> 0.44094483 | J40: ='תחשיב הכרה בעלויות '!$M$24 -> 0.85657249 | M40: 10.975 | R40: =+IFERROR(VLOOKUP(TRIM(C40&"-"&$R$2),'אגרות ביוב'!$A$8:$J$72,10,0),0) -> 0 | S40: =+IFERROR(VLOOKUP(TRIM(C40&"-"&$S$2),'אגרות ביוב'!$A$8:$J$72,10,0),0) -> 0 | T40: =+IFERROR(VLOOKUP(TRIM(C40&"-"&$T$2),'אגרות ביוב'!$A$8:$J$72,10,0),0) -> 0
K45: =2.2*0.75 -> 1.65

Sheet תעריף מים לכמות נוספת
R1: חוקי עזר | AI1: תעריף רשויות מקומיות | AJ1: 4.885 | AK1: תעריף רשות מקומית | AM1: 9.559
A2: מס' | B2: תעריף גבוה כולל גביית קרן שיקום מים וביוב | C2: שם רשות מקומית | D2: תעריף מים גבוה | E2: פחת מים | F2: פחת גביה | G2: מרווח חלוקה מים | H2: קרן שיקום מים | I2: קרן שיקום ביוב | J2: מרווח חלוקה ביוב | K2: מט"ש | L2: שרותי תשתית | M2: תעריף מכירה גבוה | P2: רכיב ביוב כולל מט"ש והולכה מודל מוצע | Q2: רכיב ביוב ללא מט"ש חוקי עזר | R2: אגרה | S2: מט"ש | T2: החזר הון | U2: יחס ביוב | V2: תעריף ביוב תאגיד סמוך | W2: הערות 1 | X2: הערות 2 | Y2: מט"ש | Z2: סוג | AD2: יישוב | AE2: מרווח מים | AF2: מרווח ביוב | AG2: מט"ש | AH2: הולכה | AI2: תעריף רכישה גבוה | AJ2: תעריף צרכן למים וביוב לפני כמות מוכרת | AK2: תעריף צרכן למים וביוב תאגיד כמות מוכרת כולל מע"מ | AL2: הפרש לכמות מוכרת | AM2: תעריף צרכן למים וביוב מעל כמות מוכרת | AN2: תעריף צרכן למים וביוב תאגיד | AO2: הפרש לתעריף שולי | AP2: תעריף ביוב כולל מע"מ מתווה חדש | AQ2: תעריף למים רשויות + ביוב חדש כולל מע"מ ללא קטימה לפי תעריף תאגידים | AR2: תעריף צרכן מים _+ ביוב בשתי שורות | AS2: הפרש - בין תעריף נוכחי לתעריף עם ביוב מוצע | AT2: הפרש בין תעריף קודם לצרכן לבין תעריף חדש לפי תאגידים | AV2: תעריף ביוב שביקשו רשויות מסויימות
A3: 1 | B3: =M3-L3-K3-J3-G3-F3-E3 -> 6.1119088 | C3: גבעת שמואל | D3: =M3-L3-K3-J3-I3-H3-G3-F3-E3 -> 5.287131 | E3: =(M3-F3)*'תחשיב הכרה בעלויות '!$C$21 -> 0.72809451 | F3: =M3*'תחשיב הכרה בעלויות '!$C$22 -> 0.15839619 | G3: ='תחשיב הכרה בעלויות '!$M$30 -> 0.55879601 | H3: ='תחשיב הכרה בעלויות '!$E$19 -> 0.38383298 | I3: ='תחשיב הכרה בעלויות '!$I$19 -> 0.44094483 | J3: ='תחשיב הכרה בעלויות '!$M$24 -> 0.85657249 | K3: ='תעריף כמות מוכרת'!K3 -> 2.0556594 | L3: =150*1000/'כמויות 2013'!H220 -> 0.090318952 | M3: =+'[1]גיליון סימולציה לתעריפי 2016'!$F$39 -> 10.559746 | P3: =J3+I3+K3+L3 -> 3.4434956 | R3: =+IFERROR(VLOOKUP(TRIM(C3&"-"&$R$2),'אגרות ביוב'!$A$8:$J$72,10,0),0) -> 2.5179916 | S3: =+IFERROR(VLOOKUP(TRIM(C3&"-"&$S$2),'אגרות ביוב'!$A$8:$J$72,10,0),0) -> 0 | T3: =+IFERROR(VLOOKUP(TRIM(C3&"-"&$T$2),'אגרות ביוב'!$A$8:$J$72,10,0),0) -> 0 | V3: =3.703 -> 3.703 | W3: לפי נתוני המועצה מסמך בוכניק כללו תקורות וגביה ועלויות בפועל של עובדים | X3: הולכה דרך מיתב | Y3: איגודן | Z3: איגודן | AD3: =C3 -> גבעת שמואל | AE3: =E3/2+F3/2+G3+H3 -> 1.3858743 | AF3: =E3/2+F3/2+I3+J3 -> 1.7407627 | AG3: =K3 -> 2.0556594 | AH3: =L3 -> 0.090318952 | AI3: =D3 -> 5.287131 | AJ3: =R3+T3+S3+$AJ$1 -> 7.4029916 | AK3: 7.966 | AL3: =IF(R3+S3+T3=0,"E",AK3-AJ3) -> 0.56300836 | AM3: =R3+T3+S3+$AM$1 -> 12.076992 | AN3: 12.821 | AO3: =IF(R3+T3+S3=0,"E",AN3-AM3) -> 0.74400836 | AP3: ='[4]תעריף רכישה רשויות '!D3 -> 4.1663863 | AQ3: =AP3+$AM$1 -> 13.725386 | AR3: =IF(($AM$1+AP3)>AN3,AN3,$AM$1+AP3) -> 12.821 | AS3: =IF(R3+T3+S3=0,"E",AR3-AM3) -> 0.74400836 | AT3: =AN3-AR3+AS3 -> 0.74400836 | AV3: 3.36 | AW3: ללא קרן שיקום
A4: 2 | B4: =M4-L4-K4-J4-G4-F4-E4 -> 7.3849621 | C4: בית שאן | D4: =M4-L4-K4-J4-I4-H4-G4-F4-E4 -> 6.5601843 | E4: =(M4-F4)*'תחשיב הכרה בעלויות '!$C$21 -> 0.72809451 | F4: =M4*'תחשיב הכרה בעלויות '!$C$22 -> 0.15839619 | G4: ='תחשיב הכרה בעלויות '!$M$30 -> 0.55879601 | H4: ='תחשיב הכרה בעלויות '!$E$19 -> 0.38383298 | I4: ='תחשיב הכרה בעלויות '!$I$19 -> 0.44094483 | J4: ='תחשיב הכרה בעלויות '!$M$24 -> 0.85657249 | K4: ='תעריף כמות מוכרת'!K4 -> 0.872925 | M4: =M3 -> 10.559746 | P4: =J4+I4+K4+L4 -> 2.1704423 | R4: =+IFERROR(VLOOKUP(TRIM(C4&"-"&$R$2),'אגרות ביוב'!$A$8:$J$72,10,0),0) -> 1.6029244 | S4: =+IFERROR(VLOOKUP(TRIM(C4&"-"&$S$2),'אגרות ביוב'!$A$8:$J$72,10,0),0) -> 0 | T4: =+IFERROR(VLOOKUP(TRIM(C4&"-"&$T$2),'אגרות ביוב'!$A$8:$J$72,10,0),0) -> 0 | Y4: בית שאן | Z4: שניוני | AD4: =C4 -> בית שאן | AE4: =E4/2+F4/2+G4+H4 -> 1.3858743 | AF4: =E4/2+F4/2+I4+J4 -> 1.7407627 | AG4: =K4 -> 0.872925 | AH4: =L4 -> 0 | AI4: =D4 -> 6.5601843 | AJ4: =R4+T4+S4+$AJ$1 -> 6.4879244 | AK4: 7.966 | AL4: =IF(R4+S4+T4=0,"E",AK4-AJ4) -> 1.4780756 | AM4: =R4+T4+S4+$AM$1 -> 11.161924 | AN4: 12.821 | AO4: =IF(R4+T4+S4=0,"E",AN4-AM4) -> 1.6590756 | AP4: ='[4]תעריף רכישה רשויות '!D4 -> 2.5404135 | AQ4: =AP4+$AM$1 -> 12.099413 | AR4: =IF(($AM$1+AP4)>AN4,AN4,$AM$1+AP4) -> 12.099413 | AS4: =IF(R4+T4+S4=0,"E",AR4-AM4) -> 0.93748906 | AT4: =AN4-AR4+AS4 -> 1.6590756 | AX4: =+AR4-AM4 -> 0.93748906
A5: 3 | B5: =M5-L5-K5-J5-G5-F5-E5 -> 6.598645 | C5: בנימינה- גבעת עדה | D5: =M5-L5-K5-J5-I5-H5-G5-F5-E5 -> 5.7738672 | E5: =(M5-F5)*'תחשיב הכרה בעלויות '!$C$21 -> 0.72809451 | F5: =M5*'תחשיב הכרה בעלויות '!$C$22 -> 0.15839619 | G5: ='תחשיב הכרה בעלויות '!$M$30 -> 0.55879601 | H5: ='תחשיב הכרה בעלויות '!$E$19 -> 0.38383298 | I5: ='תחשיב הכרה בעלויות '!$I$19 -> 0.44094483 | J5: ='תחשיב הכרה בעלויות '!$M$24 -> 0.85657249 | K5: ='תעריף כמות מוכרת'!K5 -> 1.6592421 | M5: =M4 -> 10.559746 | P5: =J5+I5+K5+L5 -> 2.9567594 | R5: =+IFERROR(VLOOKUP(TRIM(C5&"-"&$R$2),'אגרות ביוב'!$A$8:$J$72,10,0),0) -> 2.6831401 | S5: =+IFERROR(VLOOKUP(TRIM(C5&"-"&$S$2),'אגרות ביוב'!$A$8:$J$72,10,0),0) -> 0 | T5: =+IFERROR(VLOOKUP(TRIM(C5&"-"&$T$2),'אגרות ביוב'!$A$8:$J$72,10,0),0) -> 0 | X5: נתונים מגזבר אור עקיבא במייל | Y5: חדרה | Z5: שניוני | AD5: =C5 -> בנימינה- גבעת עדה | AE5: =E5/2+F5/2+G5+H5 -> 1.3858743 | AF5: =E5/2+F5/2+I5+J5 -> 1.7407627 | AG5: =K5 -> 1.6592421 | AH5: =L5 -> 0 | AI5: =D5 -> 5.7738672 | AJ5: =R5+T5+S5+$AJ$1 -> 7.5681401 | AK5: 7.966 | AL5: =IF(R5+S5+T5=0,"E",AK5-AJ5) -> 0.39785987 | AM5: =R5+T5+S5+$AM$1 -> 12.24214 | AN5: 12.821 | AO5: =IF(R5+T5+S5=0,"E",AN5-AM5) -> 0.57885987 | AP5: ='[4]תעריף רכישה רשויות '!D5 -> 3.2126729 | AQ5: =AP5+$AM$1 -> 12.771673 | AR5: =IF(($AM$1+AP5)>AN5,AN5,$AM$1+AP5) -> 12.771673 | AS5: =IF(R5+T5+S5=0,"E",AR5-AM5) -> 0.52953272 | AT5: =AN5-AR5+AS5 -> 0.57885987 | AX5: =+AR5-AM5 -> 0.52953272
A6: 4 | B6: =M6-L6-K6-J6-G6-F6-E6 -> 7.2303871 | C6: פרדיס | D6: =M6-L6-K6-J6-I6-H6-G6-F6-E6 -> 6.4056093 | E6: =(M6-F6)*'תחשיב הכרה בעלויות '!$C$21 -> 0.72809451 | F6: =M6*'תחשיב הכרה בעלויות '!$C$22 -> 0.15839619 | G6: ='תחשיב הכרה בעלויות '!$M$30 -> 0.55879601 | H6: ='תחשיב הכרה בעלויות '!$E$19 -> 0.38383298 | I6: ='תחשיב הכרה בעלויות '!$I$19 -> 0.44094483 | J6: ='תחשיב הכרה בעלויות '!$M$24 -> 0.85657249 | K6: ='תעריף כמות מוכרת'!K6 -> 1.0275 | M6: =M5 -> 10.559746 | P6: =J6+I6+K6+L6 -> 2.3250173 | R6: =+IFERROR(VLOOKUP(TRIM(C6&"-"&$R$2),'אגרות ביוב'!$A$8:$J$72,10,0),0) -> 0 | S6: =+IFERROR(VLOOKUP(TRIM(C6&"-"&$S$2),'אגרות ביוב'!$A$8:$J$72,10,0),0) -> 0 | T6: =+IFERROR(VLOOKUP(TRIM(C6&"-"&$T$2),'אגרות ביוב'!$A$8:$J$72,10,0),0) -> 0 | Y6: מעין צבי | Z6: שניוני | AD6: =C6 -> פרדיס | AE6: =E6/2+F6/2+G6+H6 -> 1.3858743 | AF6: =E6/2+F6/2+I6+J6 -> 1.7407627 | AG6: =K6 -> 1.0275 | AH6: =L6 -> 0 | AI6: =D6 -> 6.4056093 | AJ6: =R6+T6+S6+$AJ$1 -> 4.885 | AK6: 7.966 | AL6: =IF(R6+S6+T6=0,"E",AK6-AJ6) -> E | AM6: =R6+T6+S6+$AM$1 -> 9.559 | AN6: 12.821 | AO6: =IF(R6+T6+S6=0,"E",AN6-AM6) -> E | AP6: ='[4]תעריף רכישה רשויות '!D6 -> 2.4753709 | AQ6: =AP6+$AM$1 -> 12.034371 | AR6: =IF(($AM$1+AP6)>AN6,AN6,$AM$1+AP6) -> 12.034371 | AS6: =IF(R6+T6+S6=0,"E",AR6-AM6) -> E | AT6: =AN6-AR6+AS6 -> #VALUE! | AX6: =+AR6-AM6 -> 2.4753709
A7: 5 | B7: =M7-L7-K7-J7-G7-F7-E7 -> 7.3849621 | C7: דלית אל כרמל | D7: =M7-L7-K7-J7-I7-H7-G7-F7-E7 -> 6.5601843 | E7: =(M7-F7)*'תחשיב הכרה בעלויות '!$C$21 -> 0.72809451 | F7: =M7*'תחשיב הכרה בעלויות '!$C$22 -> 0.15839619 | G7: ='תחשיב הכרה בעלויות '!$M$30 -> 0.55879601 | H7: ='תחשיב הכרה בעלויות '!$E$19 -> 0.38383298 | I7: ='תחשיב הכרה בעלויות '!$I$19 -> 0.44094483 | J7: ='תחשיב הכרה בעלויות '!$M$24 -> 0.85657249 | K7: ='תעריף כמות מוכרת'!K7 -> 0.872925 | M7: =M6 -> 10.559746 | P7: =J7+I7+K7+L7 -> 2.1704423 | R7: =1.1*מדדים!G69/מדדים!K61 -> 1.3675702 | S7: =0.46*מדדים!G69/מדדים!K61 -> 0.57189298 | T7: =+IFERROR(VLOOKUP(TRIM(C7&"-"&$T$2),'אגרות ביוב'!$A$8:$J$72,10,0),0) -> 0 | Y7: ניר עציון | Z7: שניוני | AD7: =C7 -> דלית אל כרמל | AE7: =E7/2+F7/2+G7+H7 -> 1.3858743 | AF7: =E7/2+F7/2+I7+J7 -> 1.7407627 | AG7: =K7 -> 0.872925 | AH7: =L7 -> 0 | AI7: =D7 -> 6.5601843 | AJ7: =R7+T7+S7+$AJ$1 -> 6.8244632 | AK7: 7.966 | AL7: =IF(R7+S7+T7=0,"E",AK7-AJ7) -> 1.1415368 | AM7: =R7+T7+S7+$AM$1 -> 11.498463 | AN7: 12.821 | AO7: =IF(R7+T7+S7=0,"E",AN7-AM7) -> 1.3225368 | AP7: ='[4]תעריף רכישה רשויות '!D7 -> 2.5404135 | AQ7: =AP7+$AM$1 -> 12.099413 | AR7: =IF(($AM$1+AP7)>AN7,AN7,$AM$1+AP7) -> 12.099413 | AS7: =IF(R7+T7+S7=0,"E",AR7-AM7) -> 0.60095031 | AT7: =AN7-AR7+AS7 -> 1.3225368 | AX7: =+AR7-AM7 -> 0.60095031
A8: 6 | B8: =M8-L8-K8-J8-G8-F8-E8 -> 7.3849621 | C8: עספייה | D8: =M8-L8-K8-J8-I8-H8-G8-F8-E8 -> 6.5601843 | E8: =(M8-F8)*'תחשיב הכרה בעלויות '!$C$21 -> 0.72809451 | F8: =M8*'תחשיב הכרה בעלויות '!$C$22 -> 0.15839619 | G8: ='תחשיב הכרה בעלויות '!$M$30 -> 0.55879601 | H8: ='תחשיב הכרה בעלויות '!$E$19 -> 0.38383298 | I8: ='תחשיב הכרה בעלויות '!$I$19 -> 0.44094483 | J8: ='תחשיב הכרה בעלויות '!$M$24 -> 0.85657249 | K8: ='תעריף כמות מוכרת'!K8 -> 0.872925 | M8: =M7 -> 10.559746 | P8: =J8+I8+K8+L8 -> 2.1704423 | R8: =+IFERROR(VLOOKUP(TRIM(C8&"-"&$R$2),'אגרות ביוב'!$A$8:$J$72,10,0),0) -> 0 | S8: =+IFERROR(VLOOKUP(TRIM(C8&"-"&$S$2),'אגרות ביוב'!$A$8:$J$72,10,0),0) -> 0 | T8: =+IFERROR(VLOOKUP(TRIM(C8&"-"&$T$2),'אגרות ביוב'!$A$8:$J$72,10,0),0) -> 0 | Y8: ניר עציון | Z8: שניוני | AD8: =C8 -> עספייה | AE8: =E8/2+F8/2+G8+H8 -> 1.3858743 | AF8: =E8/2+F8/2+I8+J8 -> 1.7407627 | AG8: =K8 -> 0.872925 | AH8: =L8 -> 0 | AI8: =D8 -> 6.5601843 | AJ8: =R8+T8+S8+$AJ$1 -> 4.885 | AK8: 7.966 | AL8: =IF(R8+S8+T8=0,"E",AK8-AJ8) -> E | AM8: =R8+T8+S8+$AM$1 -> 9.559 | AN8: 12.821 | AO8: =IF(R8+T8+S8=0,"E",AN8-AM8) -> E | AP8: ='[4]תעריף רכישה רשויות '!D8 -> 2.5404135 | AQ8: =AP8+$AM$1 -> 12.099413 | AR8: =IF(($AM$1+AP8)>AN8,AN8,$AM$1+AP8) -> 12.099413 | AS8: =IF(R8+T8+S8=0,"E",AR8-AM8) -> E | AT8: =AN8-AR8+AS8 -> #VALUE! | AX8: =+AR8-AM8 -> 2.5404135
A9: 7 | B9: =M9-L9-K9-J9-G9-F9-E9 -> 6.5968871 | C9: טירת כרמל | D9: =M9-L9-K9-J9-I9-H9-G9-F9-E9 -> 5.7721093 | E9: =(M9-F9)*'תחשיב הכרה בעלויות '!$C$21 -> 0.72809451 | F9: =M9*'תחשיב הכרה בעלויות '!$C$22 -> 0.15839619 | G9: ='תחשיב הכרה בעלויות '!$M$30 -> 0.55879601 | H9: ='תחשיב הכרה בעלויות '!$E$19 -> 0.38383298 | I9: ='תחשיב הכרה בעלויות '!$I$19 -> 0.44094483 | J9: ='תחשיב הכרה בעלויות '!$M$24 -> 0.85657249 | K9: ='תעריף כמות מוכרת'!K9 -> 1.661 | M9: =M8 -> 10.559746 | P9: =J9+I9+K9+L9 -> 2.9585173 | R9: =+IFERROR(VLOOKUP(TRIM(C9&"-"&$R$2),'אגרות ביוב'!$A$8:$J$72,10,0),0) -> 1.9090753 | S9: =+IFERROR(VLOOKUP(TRIM(C9&"-"&$S$2),'אגרות ביוב'!$A$8:$J$72,10,0),0) -> 0 | T9: =+IFERROR(VLOOKUP(TRIM(C9&"-"&$T$2),'אגרות ביוב'!$A$8:$J$72,10,0),0) -> 0 | Y9: ניר עציון | Z9: שנינ | AD9: =C9 -> טירת כרמל | AE9: =E9/2+F9/2+G9+H9 -> 1.3858743 | AF9: =E9/2+F9/2+I9+J9 -> 1.7407627 | AG9: =K9 -> 1.661 | AH9: =L9 -> 0 | AI9: =D9 -> 5.7721093 | AJ9: =R9+T9+S9+$AJ$1 -> 6.7940753 | AK9: 7.966 | AL9: =IF(R9+S9+T9=0,"E",AK9-AJ9) -> 1.1719247 | AM9: =R9+T9+S9+$AM$1 -> 11.468075 | AN9: 12.821 | AO9: =IF(R9+T9+S9=0,"E",AN9-AM9) -> 1.3529247 | AP9: ='[4]תעריף רכישה רשויות '!D9 -> 2.5404135 | AQ9: =AP9+$AM$1 -> 12.099413 | AR9: =IF(($AM$1+AP9)>AN9,AN9,$AM$1+AP9) -> 12.099413 | AS9: =IF(R9+T9+S9=0,"E",AR9-AM9) -> 0.63133821 | AT9: =AN9-AR9+AS9 -> 1.3529247 | AX9: =+AR9-AM9 -> 0.63133821
A10: 8 | B10: =M10-L10-K10-J10-G10-F10-E10 -> 7.8765121 | C10: קלנסואה | D10: =M10-L10-K10-J10-I10-H10-G10-F10-E10 -> 7.0517343 | E10: =(M10-F10)*'תחשיב הכרה בעלויות '!$C$21 -> 0.72809451 | F10: =M10*'תחשיב הכרה בעלויות '!$C$22 -> 0.15839619 | G10: ='תחשיב הכרה בעלויות '!$M$30 -> 0.55879601 | H10: ='תחשיב הכרה בעלויות '!$E$19 -> 0.38383298 | I10: ='תחשיב הכרה בעלויות '!$I$19 -> 0.44094483 | J10: ='תחשיב הכרה בעלויות '!$M$24 -> 0.85657249 | K10: ='תעריף כמות מוכרת'!K10 -> 0.381375 | M10: =M9 -> 10.559746 | P10: =J10+I10+K10+L10 -> 1.6788923 | R10: =+IFERROR(VLOOKUP(TRIM(C10&"-"&$R$2),'אגרות ביוב'!$A$8:$J$72,10,0),0) -> 0 | S10: =+IFERROR(VLOOKUP(TRIM(C10&"-"&$S$2),'אגרות ביוב'!$A$8:$J$72,10,0),0) -> 0 | T10: =+IFERROR(VLOOKUP(TRIM(C10&"-"&$T$2),'אגרות ביוב'!$A$8:$J$72,10,0),0) -> 0 | AD10: =C10 -> קלנסואה | AE10: =E10/2+F10/2+G10+H10 -> 1.3858743 | AF10: =E10/2+F10/2+I10+J10 -> 1.7407627 | AG10: =K10 -> 0.381375 | AH10: =L10 -> 0 | AI10: =D10 -> 7.0517343 | AJ10: =R10+T10+S10+$AJ$1 -> 4.885 | AK10: 7.966 | AL10: =IF(R10+S10+T10=0,"E",AK10-AJ10) -> E | AM10: =R10+T10+S10+$AM$1 -> 9.559 | AN10: 12.821 | AO10: =IF(R10+T10+S10=0,"E",AN10-AM10) -> E | AP10: ='[4]תעריף רכישה רשויות '!D10 -> 1.9125946 | AQ10: =AP10+$AM$1 -> 11.471595 | AR10: =IF(($AM$1+AP10)>AN10,AN10,$AM$1+AP10) -> 11.471595 | AS10: =IF(R10+T10+S10=0,"E",AR10-AM10) -> E | AT10: =AN10-AR10+AS10 -> #VALUE! | AX10: =+AR10-AM10 -> 1.9125946
A11: 9 | B11: =M11-L11-K11-J11-G11-F11-E11 -> 6.5968871 | C11: קריית יערים | D11: =M11-L11-K11-J11-I11-H11-G11-F11-E11 -> 5.7721093 | E11: =(M11-F11)*'תחשיב הכרה בעלויות '!$C$21 -> 0.72809451 | F11: =M11*'תחשיב הכרה בעלויות '!$C$22 -> 0.15839619 | G11: ='תחשיב הכרה בעלויות '!$M$30 -> 0.55879601 | H11: ='תחשיב הכרה בעלויות '!$E$19 -> 0.38383298 | I11: ='תחשיב הכרה בעלויות '!$I$19 -> 0.44094483 | J11: ='תחשיב הכרה בעלויות '!$M$24 -> 0.85657249 | K11: ='תעריף כמות מוכרת'!K11 -> 1.661 | M11: =M10 -> 10.559746 | P11: =J11+I11+K11+L11 -> 2.9585173 | R11: =+IFERROR(VLOOKUP(TRIM(C11&"-"&$R$2),'אגרות ביוב'!$A$8:$J$72,10,0),0) -> 2.1591072 | S11: =+IFERROR(VLOOKUP(TRIM(C11&"-"&$S$2),'אגרות ביוב'!$A$8:$J$72,10,0),0) -> 0 | T11: =+IFERROR(VLOOKUP(TRIM(C11&"-"&$T$2),'אגרות ביוב'!$A$8:$J$72,10,0),0) -> 0 | V11: 3.028 | W11: כמו מי שמש להפחית הון | X11: הולכה דרך בית שמש לברר עלות | Y11: בית שמש | Z11: שניוני | AD11: =C11 -> קריית יערים | AE11: =E11/2+F11/2+G11+H11 -> 1.3858743 | AF11: =E11/2+F11/2+I11+J11 -> 1.7407627 | AG11: =K11 -> 1.661 | AH11: =L11 -> 0 | AI11: =D11 -> 5.7721093 | AJ11: =R11+T11+S11+$AJ$1 -> 7.0441072 | AK11: 7.966 | AL11: =IF(R11+S11+T11=0,"E",AK11-AJ11) -> 0.92189275 | AM11: =R11+T11+S11+$AM$1 -> 11.718107 | AN11: 12.821 | AO11: =IF(R11+T11+S11=0,"E",AN11-AM11) -> 1.1028928 | AP11: ='[4]תעריף רכישה רשויות '!D11 -> 2.5404135 | AQ11: =AP11+$AM$1 -> 12.099413 | AR11: =IF(($AM$1+AP11)>AN11,AN11,$AM$1+AP11) -> 12.099413 | AS11: =IF(R11+T11+S11=0,"E",AR11-AM11) -> 0.38130622 | AT11: =AN11-AR11+AS11 -> 1.1028928 | AX11: =+AR11-AM11 -> 0.38130622
A12: 11 | B12: =M12-L12-K12-J12-G12-F12-E12 -> 6.4838871 | C12: כפר שמריהו | D12: =M12-L12-K12-J12-I12-H12-G12-F12-E12 -> 5.6591093 | E12: =(M12-F12)*'תחשיב הכרה בעלויות '!$C$21 -> 0.72809451 | F12: =M12*'תחשיב הכרה בעלויות '!$C$22 -> 0.15839619 | G12: ='תחשיב הכרה בעלויות '!$M$30 -> 0.55879601 | H12: ='תחשיב הכרה בעלויות '!$E$19 -> 0.38383298 | I12: ='תחשיב הכרה בעלויות '!$I$19 -> 0.44094483 | J12: ='תחשיב הכרה בעלויות '!$M$24 -> 0.85657249 | K12: ='תעריף כמות מוכרת'!K12 -> 1.774 | M12: =M11 -> 10.559746 | P12: =J12+I12+K12+L12 -> 3.0715173 | R12: =+IFERROR(VLOOKUP(TRIM(C12&"-"&$R$2),'אגרות ביוב'!$A$8:$J$72,10,0),0) -> 0.85897937 | S12: =+IFERROR(VLOOKUP(TRIM(C12&"-"&$S$2),'אגרות ביוב'!$A$8:$J$72,10,0),0) -> 0 | T12: =+IFERROR(VLOOKUP(TRIM(C12&"-"&$T$2),'אגרות ביוב'!$A$8:$J$72,10,0),0) -> 0 | U12: אין מערכת ביוב עדיין | X12: יוני - אין חיבור עדיין אין עלות | AD12: =C12 -> כפר שמריהו | AE12: =E12/2+F12/2+G12+H12 -> 1.3858743 | AF12: =E12/2+F12/2+I12+J12 -> 1.7407627 | AG12: =K12 -> 1.774 | AH12: =L12 -> 0 | AI12: =D12 -> 5.6591093 | AJ12: =R12+T12+S12+$AJ$1 -> 5.7439794 | AK12: 7.966 | AL12: =IF(R12+S12+T12=0,"E",AK12-AJ12) -> 2.2220206 | AM12: =R12+T12+S12+$AM$1 -> 10.417979 | AN12: 12.821 | AO12: =IF(R12+T12+S12=0,"E",AN12-AM12) -> 2.4030206 | AP12: ='[4]תעריף רכישה רשויות '!D13 -> 2.9581611 | AQ12: =AP12+$AM$1 -> 12.517161 | AR12: =IF(($AM$1+AP12)>AN12,AN12,$AM$1+AP12) -> 12.517161 | AS12: =IF(R12+T12+S12=0,"E",AR12-AM12) -> 2.0991818 | AT12: =AN12-AR12+AS12 -> 2.4030206 | AX12: =+AR12-AM12 -> 2.0991818
A13: 12 | B13: =M13-L13-K13-J13-G13-F13-E13 -> 7.1646121 | C13: מיתר | D13: =M13-L13-K13-J13-I13-H13-G13-F13-E13 -> 6.3398343 | E13: =(M13-F13)*'תחשיב הכרה בעלויות '!$C$21 -> 0.72809451 | F13: =M13*'תחשיב הכרה בעלויות '!$C$22 -> 0.15839619 | G13: ='תחשיב הכרה בעלויות '!$M$30 -> 0.55879601 | H13: ='תחשיב הכרה בעלויות '!$E$19 -> 0.38383298 | I13: ='תחשיב הכרה בעלויות '!$I$19 -> 0.44094483 | J13: ='תחשיב הכרה בעלויות '!$M$24 -> 0.85657249 | K13: ='תעריף כמות מוכרת'!K13 -> 1.093275 | M13: =M12 -> 10.559746 | P13: =J13+I13+K13+L13 -> 2.3907923 | R13: =+IFERROR(VLOOKUP(TRIM(C13&"-"&$R$2),'אגרות ביוב'!$A$8:$J$72,10,0),0) -> 0.88939134 | S13: =+IFERROR(VLOOKUP(TRIM(C13&"-"&$S$2),'אגרות ביוב'!$A$8:$J$72,10,0),0) -> 0 | T13: =+IFERROR(VLOOKUP(TRIM(C13&"-"&$T$2),'אגרות ביוב'!$A$8:$J$72,10,0),0) -> 0 | U13: 0.75 | X13: התקבלו נתונים - לא סופי | Y13: שוקת | Z13: שלישוני | AD13: =C13 -> מיתר | AE13: =E13/2+F13/2+G13+H13 -> 1.3858743 | AF13: =E13/2+F13/2+I13+J13 -> 1.7407627 | AG13: =K13 -> 1.093275 | AH13: =L13 -> 0 | AI13: =D13 -> 6.3398343 | AJ13: =R13+T13+S13+$AJ$1 -> 5.7743913 | AK13: 7.966 | AL13: =IF(R13+S13+T13=0,"E",AK13-AJ13) -> 2.1916087 | AM13: =R13+T13+S13+$AM$1 -> 10.448391 | AN13: 12.821 | AO13: =IF(R13+T13+S13=0,"E",AN13-AM13) -> 2.3726087 | AP13: ='[4]תעריף רכישה רשויות '!D14 -> 2.5877665 | AQ13: =AP13+$AM$1 -> 12.146767 | AR13: =IF(($AM$1+AP13)>AN13,AN13,$AM$1+AP13) -> 12.146767 | AS13: =IF(R13+T13+S13=0,"E",AR13-AM13) -> 1.6983752 | AT13: =AN13-AR13+AS13 -> 2.3726087 | AV13: 1.75 | AW13: ללא קרן שיקום | AX13: =+AR13-AM13 -> 1.6983752
A14: 14 | B14: =M14-L14-K14-J14-G14-F14-E14 -> 6.7237204 | C14: שהם | D14: =M14-L14-K14-J14-I14-H14-G14-F14-E14 -> 5.8989426 | E14: =(M14-F14)*'תחשיב הכרה בעלויות '!$C$21 -> 0.72809451 | F14: =M14*'תחשיב הכרה בעלויות '!$C$22 -> 0.15839619 | G14: ='תחשיב הכרה בעלויות '!$M$30 -> 0.55879601 | H14: ='תחשיב הכרה בעלויות '!$E$19 -> 0.38383298 | I14: ='תחשיב הכרה בעלויות '!$I$19 -> 0.44094483 | J14: ='תחשיב הכרה בעלויות '!$M$24 -> 0.85657249 | K14: ='תעריף כמות מוכרת'!K14 -> 1.1575 | L14: =(49+46+50+54-6+84+60+47+68)/1200 -> 0.37666667 | M14: =M13 -> 10.559746 | P14: =J14+I14+K14+L14 -> 2.831684 | R14: =1.27*מדדים!G69/מדדים!B50 -> 2.3697976 | S14: =+IFERROR(VLOOKUP(TRIM(C14&"-"&$S$2),'אגרות ביוב'!$A$8:$J$72,10,0),0) -> 0 | T14: =+IFERROR(VLOOKUP(TRIM(C14&"-"&$T$2),'אגרות ביוב'!$A$8:$J$72,10,0),0) -> 0 | X14: מט"ש איילון לפי תקציב והולכה לפי כרטיסים | AD14: =C14 -> שהם | AE14: =E14/2+F14/2+G14+H14 -> 1.3858743 | AF14: =E14/2+F14/2+I14+J14 -> 1.7407627 | AG14: =K14 -> 1.1575 | AH14: =L14 -> 0.37666667 | AI14: =D14 -> 5.8989426 | AJ14: =R14+T14+S14+$AJ$1 -> 7.2547976 | AK14: 7.966 | AL14: =IF(R14+S14+T14=0,"E",AK14-AJ14) -> 0.71120239 | AM14: =R14+T14+S14+$AM$1 -> 11.928798 | AN14: 12.821 | AO14: =IF(R14+T14+S14=0,"E",AN14-AM14) -> 0.89220239 | AP14: ='[4]תעריף רכישה רשויות '!D16 -> 3.3849664 | AQ14: =AP14+$AM$1 -> 12.943966 | AR14: =IF(($AM$1+AP14)>AN14,AN14,$AM$1+AP14) -> 12.821 | AS14: =IF(R14+T14+S14=0,"E",AR14-AM14) -> 0.89220239 | AT14: =AN14-AR14+AS14 -> 0.89220239 | AX14: =+AR14-AM14 -> 0.89220239
A15: 15 | B15: =M15-L15-K15-J15-G15-F15-E15 -> 7.3934371 | C15: אליכין | D15: =M15-L15-K15-J15-I15-H15-G15-F15-E15 -> 6.5686593 | E15: =(M15-F15)*'תחשיב הכרה בעלויות '!$C$21 -> 0.72809451 | F15: =M15*'תחשיב הכרה בעלויות '!$C$22 -> 0.15839619 | G15: ='תחשיב הכרה בעלויות '!$M$30 -> 0.55879601 | H15: ='תחשיב הכרה בעלויות '!$E$19 -> 0.38383298 | I15: ='תחשיב הכרה בעלויות '!$I$19 -> 0.44094483 | J15: ='תחשיב הכרה בעלויות '!$M$24 -> 0.85657249 | K15: ='תעריף כמות מוכרת'!K15 -> 0.86445 | M15: =M14 -> 10.559746 | P15: =J15+I15+K15+L15 -> 2.1619673 | R15: =+IFERROR(VLOOKUP(TRIM(C15&"-"&$R$2),'אגרות ביוב'!$A$8:$J$72,10,0),0) -> 1.1493225 | S15: =+IFERROR(VLOOKUP(TRIM(C15&"-"&$S$2),'אגרות ביוב'!$A$8:$J$72,10,0),0) -> 2.5458111 | T15: =+IFERROR(VLOOKUP(TRIM(C15&"-"&$T$2),'אגרות ביוב'!$A$8:$J$72,10,0),0) -> 0 | X15: אין מידע - מט"ש לשאול את זאבי | Y15: נתניה | AD15: =C15 -> אליכין | AE15: =E15/2+F15/2+G15+H15 -> 1.3858743 | AF15: =E15/2+F15/2+I15+J15 -> 1.7407627 | AG15: =K15 -> 0.86445 | AH15: =L15 -> 0 | AI15: =D15 -> 6.5686593 | AJ15: =R15+T15+S15+$AJ$1 -> 8.5801336 | AK15: 7.966 | AL15: =IF(R15+S15+T15=0,"E",AK15-AJ15) -> -0.61413358 | AM15: =R15+T15+S15+$AM$1 -> 13.254134 | AN15: 12.821 | AO15: =IF(R15+T15+S15=0,"E",AN15-AM15) -> -0.43313358 | AP15: ='[4]תעריף רכישה רשויות '!D17 -> 2.529589 | AQ15: =AP15+$AM$1 -> 12.088589 | AR15: =IF(($AM$1+AP15)>AN15,AN15,$AM$1+AP15) -> 12.088589 | AS15: =IF(R15+T15+S15=0,"E",AR15-AM15) -> -1.1655446 | AT15: =AN15-AR15+AS15 -> -0.43313358 | AX15: =+AR15-AM15 -> -1.1655446
A16: 16 | B16: =M16-L16-K16-J16-G16-F16-E16 -> 7.8765121 | C16: טייבה | D16: =M16-L16-K16-J16-I16-H16-G16-F16-E16 -> 7.0517343 | E16: =(M16-F16)*'תחשיב הכרה בעלויות '!$C$21 -> 0.72809451 | F16: =M16*'תחשיב הכרה בעלויות '!$C$22 -> 0.15839619 | G16: ='תחשיב הכרה בעלויות '!$M$30 -> 0.55879601 | H16: ='תחשיב הכרה בעלויות '!$E$19 -> 0.38383298 | I16: ='תחשיב הכרה בעלויות '!$I$19 -> 0.44094483 | J16: ='תחשיב הכרה בעלויות '!$M$24 -> 0.85657249 | K16: ='תעריף כמות מוכרת'!K16 -> 0.381375 | M16: =M15 -> 10.559746 | P16: =J16+I16+K16+L16 -> 1.6788923 | R16: =+IFERROR(VLOOKUP(TRIM(C16&"-"&$R$2),'אגרות ביוב'!$A$8:$J$72,10,0),0) -> 1.1924065 | S16: =+IFERROR(VLOOKUP(TRIM(C16&"-"&$S$2),'אגרות ביוב'!$A$8:$J$72,10,0),0) -> 0.71253557 | T16: =+IFERROR(VLOOKUP(TRIM(C16&"-"&$T$2),'אגרות ביוב'!$A$8:$J$72,10,0),0) -> 2.2830221 | AD16: =C16 -> טייבה | AE16: =E16/2+F16/2+G16+H16 -> 1.3858743 | AF16: =E16/2+F16/2+I16+J16 -> 1.7407627 | AG16: =K16 -> 0.381375 | AH16: =L16 -> 0 | AI16: =D16 -> 7.0517343 | AJ16: =R16+T16+S16+$AJ$1 -> 9.0729642 | AK16: 7.966 | AL16: =IF(R16+S16+T16=0,"E",AK16-AJ16) -> -1.1069642 | AM16: =R16+T16+S16+$AM$1 -> 13.746964 | AN16: 12.821 | AO16: =IF(R16+T16+S16=0,"E",AN16-AM16) -> -0.92596418 | AP16: ='[4]תעריף רכישה רשויות '!D18 -> 1.9125946 | AQ16: =AP16+$AM$1 -> 11.471595 | AR16: =IF(($AM$1+AP16)>AN16,AN16,$AM$1+AP16) -> 11.471595 | AS16: =IF(R16+T16+S16=0,"E",AR16-AM16) -> -2.2753696 | AT16: =AN16-AR16+AS16 -> -0.92596418 | AX16: =+AR16-AM16 -> -2.2753696
A17: 17 | B17: =M17-L17-K17-J17-G17-F17-E17 -> 6.5968871 | C17: כפר תבור | D17: =M17-L17-K17-J17-I17-H17-G17-F17-E17 -> 5.7721093 | E17: =(M17-F17)*'תחשיב הכרה בעלויות '!$C$21 -> 0.72809451 | F17: =M17*'תחשיב הכרה בעלויות '!$C$22 -> 0.15839619 | G17: ='תחשיב הכרה בעלויות '!$M$30 -> 0.55879601 | H17: ='תחשיב הכרה בעלויות '!$E$19 -> 0.38383298 | I17: ='תחשיב הכרה בעלויות '!$I$19 -> 0.44094483 | J17: ='תחשיב הכרה בעלויות '!$M$24 -> 0.85657249 | K17: ='תעריף כמות מוכרת'!K17 -> 1.661 | M17: =M16 -> 10.559746 | P17: =J17+I17+K17+L17 -> 2.9585173 | R17: =+IFERROR(VLOOKUP(TRIM(C17&"-"&$R$2),'אגרות ביוב'!$A$8:$J$72,10,0),0) -> 0.70042006 | S17: =+IFERROR(VLOOKUP(TRIM(C17&"-"&$S$2),'אגרות ביוב'!$A$8:$J$72,10,0),0) -> 1.5009001 | T17: =+IFERROR(VLOOKUP(TRIM(C17&"-"&$T$2),'אגרות ביוב'!$A$8:$J$72,10,0),0) -> 0 | AD17: =C17 -> כפר תבור | AE17: =E17/2+F17/2+G17+H17 -> 1.3858743 | AF17: =E17/2+F17/2+I17+J17 -> 1.7407627 | AG17: =K17 -> 1.661 | AH17: =L17 -> 0 | AI17: =D17 -> 5.7721093 | AJ17: =R17+T17+S17+$AJ$1 -> 7.0863202 | AK17: 7.966 | AL17: =IF(R17+S17+T17=0,"E",AK17-AJ17) -> 0.8796798 | AM17: =R17+T17+S17+$AM$1 -> 11.76032 | AN17: 12.821 | AO17: =IF(R17+T17+S17=0,"E",AN17-AM17) -> 1.0606798 | AP17: ='[4]תעריף רכישה רשויות '!D19 -> 2.5404135 | AQ17: =AP17+$AM$1 -> 12.099413 | AR17: =IF(($AM$1+AP17)>AN17,AN17,$AM$1+AP17) -> 12.099413 | AS17: =IF(R17+T17+S17=0,"E",AR17-AM17) -> 0.33909327 | AT17: =AN17-AR17+AS17 -> 1.0606798 | AV17: 3.79 | AW17: כולל 1.04 קרן שיקום
A18: 18 | B18: =M18-L18-K18-J18-G18-F18-E18 -> 7.1646121 | C18: להבים | D18: =M18-L18-K18-J18-I18-H18-G18-F18-E18 -> 6.3398343 | E18: =(M18-F18)*'תחשיב הכרה בעלויות '!$C$21 -> 0.72809451 | F18: =M18*'תחשיב הכרה בעלויות '!$C$22 -> 0.15839619 | G18: ='תחשיב הכרה בעלויות '!$M$30 -> 0.55879601 | H18: ='תחשיב הכרה בעלויות '!$E$19 -> 0.38383298 | I18: ='תחשיב הכרה בעלויות '!$I$19 -> 0.44094483 | J18: ='תחשיב הכרה בעלויות '!$M$24 -> 0.85657249 | K18: ='תעריף כמות מוכרת'!K18 -> 1.093275 | M18: =M17 -> 10.559746 | P18: =J18+I18+K18+L18 -> 2.3907923 | R18: =+IFERROR(VLOOKUP(TRIM(C18&"-"&$R$2),'אגרות ביוב'!$A$8:$J$72,10,0),0) -> 1.53243 | S18: =+IFERROR(VLOOKUP(TRIM(C18&"-"&$S$2),'אגרות ביוב'!$A$8:$J$72,10,0),0) -> 1.8537459 | T18: =+IFERROR(VLOOKUP(TRIM(C18&"-"&$T$2),'אגרות ביוב'!$A$8:$J$72,10,0),0) -> 0.32131596 | X18: השערה שלישוני ללא עלות הון ההקמה במימון ממ"י | Y18: להבים | Z18: שלישוני | AD18: =C18 -> להבים | AE18: =E18/2+F18/2+G18+H18 -> 1.3858743 | AF18: =E18/2+F18/2+I18+J18 -> 1.7407627 | AG18: =K18 -> 1.093275 | AH18: =L18 -> 0 | AI18: =D18 -> 6.3398343 | AJ18: =R18+T18+S18+$AJ$1 -> 8.5924919 | AK18: 7.966 | AL18: =IF(R18+S18+T18=0,"E",AK18-AJ18) -> -0.62649189 | AM18: =R18+T18+S18+$AM$1 -> 13.266492 | AN18: 12.821 | AO18: =IF(R18+T18+S18=0,"E",AN18-AM18) -> -0.44549189 | AP18: ='[4]תעריף רכישה רשויות '!D20 -> 2.8218495 | AQ18: =AP18+$AM$1 -> 12.38085 | AR18: =IF(($AM$1+AP18)>AN18,AN18,$AM$1+AP18) -> 12.38085 | AS18: =IF(R18+T18+S18=0,"E",AR18-AM18) -> -0.88564236 | AT18: =AN18-AR18+AS18 -> -0.44549189 | AV18: 3.29 | AW18: כולל 29 אג' קרן שיקום
A19: 19 | B19: =M19-L19-K19-J19-G19-F19-E19 -> 7.1815621 | C19: נהריה | D19: =M19-L19-K19-J19-I19-H19-G19-F19-E19 -> 6.3567843 | E19: =(M19-F19)*'תחשיב הכרה בעלויות '!$C$21 -> 0.72809451 | F19: =M19*'תחשיב הכרה בעלויות '!$C$22 -> 0.15839619 | G19: ='תחשיב הכרה בעלויות '!$M$30 -> 0.55879601 | H19: ='תחשיב הכרה בעלויות '!$E$19 -> 0.38383298 | I19: ='תחשיב הכרה בעלויות '!$I$19 -> 0.44094483 | J19: ='תחשיב הכרה בעלויות '!$M$24 -> 0.85657249 | K19: ='תעריף כמות מוכרת'!K19 -> 1.076325 | M19: =M18 -> 10.559746 | P19: =J19+I19+K19+L19 -> 2.3738423 | R19: =+IFERROR(VLOOKUP(TRIM(C19&"-"&$R$2),'אגרות ביוב'!$A$8:$J$72,10,0),0) -> 1.9617288 | S19: =+IFERROR(VLOOKUP(TRIM(C19&"-"&$S$2),'אגרות ביוב'!$A$8:$J$72,10,0),0) -> 1.7165127 | T19: =+IFERROR(VLOOKUP(TRIM(C19&"-"&$T$2),'אגרות ביוב'!$A$8:$J$72,10,0),0) -> 0 | Y19: נהריה | Z19: שניוני | AD19: =C19 -> נהריה | AE19: =E19/2+F19/2+G19+H19 -> 1.3858743 | AF19: =E19/2+F19/2+I19+J19 -> 1.7407627 | AG19: =K19 -> 1.076325 | AH19: =L19 -> 0 | AI19: =D19 -> 6.3567843 | AJ19: =R19+T19+S19+$AJ$1 -> 8.5632415 | AK19: 7.966 | AL19: =IF(R19+S19+T19=0,"E",AK19-AJ19) -> -0.59724146 | AM19: =R19+T19+S19+$AM$1 -> 13.237241 | AN19: 12.821 | AO19: =IF(R19+T19+S19=0,"E",AN19-AM19) -> -0.41624146 | AP19: ='[4]תעריף רכישה רשויות '!D21 -> 2.2914508 | AQ19: =AP19+$AM$1 -> 11.850451 | AR19: =IF(($AM$1+AP19)>AN19,AN19,$AM$1+AP19) -> 11.850451 | AS19: =IF(R19+T19+S19=0,"E",AR19-AM19) -> -1.3867907 | AT19: =AN19-AR19+AS19 -> -0.41624146
A20: 20 | B20: =M20-L20-K20-J20-G20-F20-E20 -> 6.7135045 | C20: נשר | D20: =M20-L20-K20-J20-I20-H20-G20-F20-E20 -> 5.8887267 | E20: =(M20-F20)*'תחשיב הכרה בעלויות '!$C$21 -> 0.72809451 | F20: =M20*'תחשיב הכרה בעלויות '!$C$22 -> 0.15839619 | G20: ='תחשיב הכרה בעלויות '!$M$30 -> 0.55879601 | H20: ='תחשיב הכרה בעלויות '!$E$19 -> 0.38383298 | I20: ='תחשיב הכרה בעלויות '!$I$19 -> 0.44094483 | J20: ='תחשיב הכרה בעלויות '!$M$24 -> 0.85657249 | K20: ='תעריף כמות מוכרת'!K20 -> 1.5443826 | M20: =M19 -> 10.559746 | P20: =J20+I20+K20+L20 -> 2.8418999 | R20: =+IFERROR(VLOOKUP(TRIM(C20&"-"&$R$2),'אגרות ביוב'!$A$8:$J$72,10,0),0) -> 0.6312256 | S20: =+IFERROR(VLOOKUP(TRIM(C20&"-"&$S$2),'אגרות ביוב'!$A$8:$J$72,10,0),0) -> 0 | T20: =+IFERROR(VLOOKUP(TRIM(C20&"-"&$T$2),'אגרות ביוב'!$A$8:$J$72,10,0),0) -> 0 | W20: תחשיב עלות אחזקה עלות עובדים חריגה | X20: התקבל תחשיב של בוכניק | Y20: חיפה | Z20: שניוני | AD20: =C20 -> נשר | AE20: =E20/2+F20/2+G20+H20 -> 1.3858743 | AF20: =E20/2+F20/2+I20+J20 -> 1.7407627 | AG20: =K20 -> 1.5443826 | AH20: =L20 -> 0 | AI20: =D20 -> 5.8887267 | AJ20: =R20+T20+S20+$AJ$1 -> 5.5162256 | AK20: 7.966 | AL20: =IF(R20+S20+T20=0,"E",AK20-AJ20) -> 2.4497744 | AM20: =R20+T20+S20+$AM$1 -> 10.190226 | AN20: 12.821 | AO20: =IF(R20+T20+S20=0,"E",AN20-AM20) -> 2.6307744 | AP20: ='[4]תעריף רכישה רשויות '!D22 -> 3.5705153 | AQ20: =AP20+$AM$1 -> 13.129515 | AR20: =IF(($AM$1+AP20)>AN20,AN20,$AM$1+AP20) -> 12.821 | AS20: =IF(R20+T20+S20=0,"E",AR20-AM20) -> 2.6307744 | AT20: =AN20-AR20+AS20 -> 2.6307744 | AV20: 2.76 | AW20: ללא קרן שיקום
A21: 21 | B21: =M21-L21-K21-J21-G21-F21-E21 -> 7.0178871 | C21: סביון | D21: =M21-L21-K21-J21-I21-H21-G21-F21-E21 -> 6.1931093 | E21: =(M21-F21)*'תחשיב הכרה בעלויות '!$C$21 -> 0.72809451 | F21: =M21*'תחשיב הכרה בעלויות '!$C$22 -> 0.15839619 | G21: ='תחשיב הכרה בעלויות '!$M$30 -> 0.55879601 | H21: ='תחשיב הכרה בעלויות '!$E$19 -> 0.38383298 | I21: ='תחשיב הכרה בעלויות '!$I$19 -> 0.44094483 | J21: ='תחשיב הכרה בעלויות '!$M$24 -> 0.85657249 | K21: ='תעריף כמות מוכרת'!K21 -> 1.24 | M21: =M20 -> 10.559746 | P21: =J21+I21+K21+L21 -> 2.5375173 | R21: =+IFERROR(VLOOKUP(TRIM(C21&"-"&$R$2),'אגרות ביוב'!$A$8:$J$72,10,0),0) -> 3.3242824 | S21: =+IFERROR(VLOOKUP(TRIM(C21&"-"&$S$2),'אגרות ביוב'!$A$8:$J$72,10,0),0) -> 0 | T21: =+IFERROR(VLOOKUP(TRIM(C21&"-"&$T$2),'אגרות ביוב'!$A$8:$J$72,10,0),0) -> 0 | U21: אין מערכת ביוב | AD21: =C21 -> סביון | AE21: =E21/2+F21/2+G21+H21 -> 1.3858743 | AF21: =E21/2+F21/2+I21+J21 -> 1.7407627 | AG21: =K21 -> 1.24 | AH21: =L21 -> 0 | AI21: =D21 -> 6.1931093 | AJ21: =R21+T21+S21+$AJ$1 -> 8.2092824 | AK21: 7.966 | AL21: =IF(R21+S21+T21=0,"E",AK21-AJ21) -> -0.24328238 | AM21: =R21+T21+S21+$AM$1 -> 12.883282 | AN21: 12.821 | AO21: =IF(R21+T21+S21=0,"E",AN21-AM21) -> -0.062282384 | AP21: ='[4]תעריף רכישה רשויות '!D23 -> 1.4254937 | AQ21: =AP21+$AM$1 -> 10.984494 | AR21: =IF(($AM$1+AP21)>AN21,AN21,$AM$1+AP21) -> 10.984494 | AS21: =IF(R21+T21+S21=0,"E",AR21-AM21) -> -1.8987887 | AT21: =AN21-AR21+AS21 -> -0.062282384
A22: 22 | B22: =M22-L22-K22-J22-G22-F22-E22 -> 7.1646121 | C22: עומר | D22: =M22-L22-K22-J22-I22-H22-G22-F22-E22 -> 6.3398343 | E22: =(M22-F22)*'תחשיב הכרה בעלויות '!$C$21 -> 0.72809451 | F22: =M22*'תחשיב הכרה בעלויות '!$C$22 -> 0.15839619 | G22: ='תחשיב הכרה בעלויות '!$M$30 -> 0.55879601 | H22: ='תחשיב הכרה בעלויות '!$E$19 -> 0.38383298 | I22: ='תחשיב הכרה בעלויות '!$I$19 -> 0.44094483 | J22: ='תחשיב הכרה בעלויות '!$M$24 -> 0.85657249 | K22: ='תעריף כמות מוכרת'!K22 -> 1.093275 | M22: =M21 -> 10.559746 | P22: =J22+I22+K22+L22 -> 2.3907923 | R22: =+IFERROR(VLOOKUP(TRIM(C22&"-"&$R$2),'אגרות ביוב'!$A$8:$J$72,10,0),0) -> 2.7805115 | S22: =+IFERROR(VLOOKUP(TRIM(C22&"-"&$S$2),'אגרות ביוב'!$A$8:$J$72,10,0),0) -> 0 | T22: =+IFERROR(VLOOKUP(TRIM(C22&"-"&$T$2),'אגרות ביוב'!$A$8:$J$72,10,0),0) -> 0 | Y22: עומר | Z22: שלישוני | AD22: =C22 -> עומר | AE22: =E22/2+F22/2+G22+H22 -> 1.3858743 | AF22: =E22/2+F22/2+I22+J22 -> 1.7407627 | AG22: =K22 -> 1.093275 | AH22: =L22 -> 0 | AI22: =D22 -> 6.3398343 | AJ22: =R22+T22+S22+$AJ$1 -> 7.6655115 | AK22: 7.966 | AL22: =IF(R22+S22+T22=0,"E",AK22-AJ22) -> 0.30048853 | AM22: =R22+T22+S22+$AM$1 -> 12.339511 | AN22: 12.821 | AO22: =IF(R22+T22+S22=0,"E",AN22-AM22) -> 0.48148853 | AP22: ='[4]תעריף רכישה רשויות '!D24 -> 2.8218495 | AQ22: =AP22+$AM$1 -> 12.38085 | AR22: =IF(($AM$1+AP22)>AN22,AN22,$AM$1+AP22) -> 12.38085 | AS22: =IF(R22+T22+S22=0,"E",AR22-AM22) -> 0.041338052 | AT22: =AN22-AR22+AS22 -> 0.48148853 | AV22: 3.69 | AW22: ללא קרן שיקום
A23: 23 | B23: =M23-L23-K23-J23-G23-F23-E23 -> 6.598645 | C23: פרדס חנה-כרכור | D23: =M23-L23-K23-J23-I23-H23-G23-F23-E23 -> 5.7738672 | E23: =(M23-F23)*'תחשיב הכרה בעלויות '!$C$21 -> 0.72809451 | F23: =M23*'תחשיב הכרה בעלויות '!$C$22 -> 0.15839619 | G23: ='תחשיב הכרה בעלויות '!$M$30 -> 0.55879601 | H23: ='תחשיב הכרה בעלויות '!$E$19 -> 0.38383298 | I23: ='תחשיב הכרה בעלויות '!$I$19 -> 0.44094483 | J23: ='תחשיב הכרה בעלויות '!$M$24 -> 0.85657249 | K23: ='תעריף כמות מוכרת'!K23 -> 1.6592421 | M23: =M22 -> 10.559746 | P23: =J23+I23+K23+L23 -> 2.9567594 | R23: =+IFERROR(VLOOKUP(TRIM(C23&"-"&$R$2),'אגרות ביוב'!$A$8:$J$72,10,0),0) -> 2.8688195 | S23: =+IFERROR(VLOOKUP(TRIM(C23&"-"&$S$2),'אגרות ביוב'!$A$8:$J$72,10,0),0) -> 0 | T23: =+IFERROR(VLOOKUP(TRIM(C23&"-"&$T$2),'אגרות ביוב'!$A$8:$J$72,10,0),0) -> 0 | Y23: חדרה | Z23: שניוני | AD23: =C23 -> פרדס חנה-כרכור | AE23: =E23/2+F23/2+G23+H23 -> 1.3858743 | AF23: =E23/2+F23/2+I23+J23 -> 1.7407627 | AG23: =K23 -> 1.6592421 | AH23: =L23 -> 0 | AI23: =D23 -> 5.7738672 | AJ23: =R23+T23+S23+$AJ$1 -> 7.7538195 | AK23: 7.966 | AL23: =IF(R23+S23+T23=0,"E",AK23-AJ23) -> 0.2121805 | AM23: =R23+T23+S23+$AM$1 -> 12.427819 | AN23: 12.821 | AO23: =IF(R23+T23+S23=0,"E",AN23-AM23) -> 0.3931805 | AP23: ='[4]תעריף רכישה רשויות '!D25 -> 3.2126729 | AQ23: =AP23+$AM$1 -> 12.771673 | AR23: =IF(($AM$1+AP23)>AN23,AN23,$AM$1+AP23) -> 12.771673 | AS23: =IF(R23+T23+S23=0,"E",AR23-AM23) -> 0.34385336 | AT23: =AN23-AR23+AS23 -> 0.3931805
A24: 24 | B24: =M24-L24-K24-J24-G24-F24-E24 -> 7.8765121 | C24: שדרות | D24: =M24-L24-K24-J24-I24-H24-G24-F24-E24 -> 7.0517343 | E24: =(M24-F24)*'תחשיב הכרה בעלויות '!$C$21 -> 0.72809451 | F24: =M24*'תחשיב הכרה בעלויות '!$C$22 -> 0.15839619 | G24: ='תחשיב הכרה בעלויות '!$M$30 -> 0.55879601 | H24: ='תחשיב הכרה בעלויות '!$E$19 -> 0.38383298 | I24: ='תחשיב הכרה בעלויות '!$I$19 -> 0.44094483 | J24: ='תחשיב הכרה בעלויות '!$M$24 -> 0.85657249 | K24: ='תעריף כמות מוכרת'!K24 -> 0.381375 | M24: =M23 -> 10.559746 | P24: =J24+I24+K24+L24 -> 1.6788923 | R24: ='אגרות ביוב'!J72 -> 0.38938015 | S24: =+IFERROR(VLOOKUP(TRIM(C24&"-"&$S$2),'אגרות ביוב'!$A$8:$J$72,10,0),0) -> 0 | T24: =+IFERROR(VLOOKUP(TRIM(C24&"-"&$T$2),'אגרות ביוב'!$A$8:$J$72,10,0),0) -> 0 | X24: עדיין לא פועל ? | Y24: שדרות | Z24: שלישוני | AD24: =C24 -> שדרות | AE24: =E24/2+F24/2+G24+H24 -> 1.3858743 | AF24: =E24/2+F24/2+I24+J24 -> 1.7407627 | AG24: =K24 -> 0.381375 | AH24: =L24 -> 0 | AI24: =D24 -> 7.0517343 | AJ24: =R24+T24+S24+$AJ$1 -> 5.2743802 | AK24: 7.966 | AL24: =IF(R24+S24+T24=0,"E",AK24-AJ24) -> 2.6916198 | AM24: =R24+T24+S24+$AM$1 -> 9.9483802 | AN24: 12.821 | AO24: =IF(R24+T24+S24=0,"E",AN24-AM24) -> 2.8726198 | AP24: ='[4]תעריף רכישה רשויות '!D26 -> 1.9125946 | AQ24: =AP24+$AM$1 -> 11.471595 | AR24: =IF(($AM$1+AP24)>AN24,AN24,$AM$1+AP24) -> 11.471595 | AS24: =IF(R24+T24+S24=0,"E",AR24-AM24) -> 1.5232144 | AT24: =AN24-AR24+AS24 -> 2.8726198
A25: 25 | B25: =M25-L25-K25-J25-G25-F25-E25 -> 7.3849621 | C25: מעיליא | D25: =M25-L25-K25-J25-I25-H25-G25-F25-E25 -> 6.5601843 | E25: =(M25-F25)*'תחשיב הכרה בעלויות '!$C$21 -> 0.72809451 | F25: =M25*'תחשיב הכרה בעלויות '!$C$22 -> 0.15839619 | G25: ='תחשיב הכרה בעלויות '!$M$30 -> 0.55879601 | H25: ='תחשיב הכרה בעלויות '!$E$19 -> 0.38383298 | I25: ='תחשיב הכרה בעלויות '!$I$19 -> 0.44094483 | J25: ='תחשיב הכרה בעלויות '!$M$24 -> 0.85657249 | K25: ='תעריף כמות מוכרת'!K25 -> 0.872925 | M25: =M24 -> 10.559746 | P25: =J25+I25+K25+L25 -> 2.1704423 | R25: =+IFERROR(VLOOKUP(TRIM(C25&"-"&$R$2),'אגרות ביוב'!$A$8:$J$72,10,0),0) -> 0.97462849 | S25: =+IFERROR(VLOOKUP(TRIM(C25&"-"&$S$2),'אגרות ביוב'!$A$8:$J$72,10,0),0) -> 0 | T25: =+IFERROR(VLOOKUP(TRIM(C25&"-"&$T$2),'אגרות ביוב'!$A$8:$J$72,10,0),0) -> 0 | AD25: =C25 -> מעיליא | AE25: =E25/2+F25/2+G25+H25 -> 1.3858743 | AF25: =E25/2+F25/2+I25+J25 -> 1.7407627 | AG25: =K25 -> 0.872925 | AH25: =L25 -> 0 | AI25: =D25 -> 6.5601843 | AJ25: =R25+T25+S25+$AJ$1 -> 5.8596285 | AK25: 7.966 | AL25: =IF(R25+S25+T25=0,"E",AK25-AJ25) -> 2.1063715 | AM25: =R25+T25+S25+$AM$1 -> 10.533628 | AN25: 12.821 | AO25: =IF(R25+T25+S25=0,"E",AN25-AM25) -> 2.2873715 | AP25: ='[4]תעריף רכישה רשויות '!D27 -> 2.5404135 | AQ25: =AP25+$AM$1 -> 12.099413 | AR25: =IF(($AM$1+AP25)>AN25,AN25,$AM$1+AP25) -> 12.099413 | AS25: =IF(R25+T25+S25=0,"E",AR25-AM25) -> 1.565785 | AT25: =AN25-AR25+AS25 -> 2.2873715
A26: 26 | B26: =M26-L26-K26-J26-G26-F26-E26 -> 7.3849621 | C26: ראש פינה | D26: =M26-L26-K26-J26-I26-H26-G26-F26-E26 -> 6.5601843 | E26: =(M26-F26)*'תחשיב הכרה בעלויות '!$C$21 -> 0.72809451 | F26: =M26*'תחשיב הכרה בעלויות '!$C$22 -> 0.15839619 | G26: ='תחשיב הכרה בעלויות '!$M$30 -> 0.55879601 | H26: ='תחשיב הכרה בעלויות '!$E$19 -> 0.38383298 | I26: ='תחשיב הכרה בעלויות '!$I$19 -> 0.44094483 | J26: ='תחשיב הכרה בעלויות '!$M$24 -> 0.85657249 | K26: ='תעריף כמות מוכרת'!K26 -> 0.872925 | M26: =M25 -> 10.559746 | P26: =J26+I26+K26+L26 -> 2.1704423 | R26: =+IFERROR(VLOOKUP(TRIM(C26&"-"&$R$2),'אגרות ביוב'!$A$8:$J$72,10,0),0) -> 2.0865661 | S26: =+IFERROR(VLOOKUP(TRIM(C26&"-"&$S$2),'אגרות ביוב'!$A$8:$J$72,10,0),0) -> 0 | T26: =+IFERROR(VLOOKUP(TRIM(C26&"-"&$T$2),'אגרות ביוב'!$A$8:$J$72,10,0),0) -> 0 | X26: לבדוק עם פלג | Y26: צח"ר | Z26: שלישוני | AD26: =C26 -> ראש פינה | AE26: =E26/2+F26/2+G26+H26 -> 1.3858743 | AF26: =E26/2+F26/2+I26+J26 -> 1.7407627 | AG26: =K26 -> 0.872925 | AH26: =L26 -> 0 | AI26: =D26 -> 6.5601843 | AJ26: =R26+T26+S26+$AJ$1 -> 6.9715661 | AK26: 7.966 | AL26: =IF(R26+S26+T26=0,"E",AK26-AJ26) -> 0.99443394 | AM26: =R26+T26+S26+$AM$1 -> 11.645566 | AN26: 12.821 | AO26: =IF(R26+T26+S26=0,"E",AN26-AM26) -> 1.1754339 | AP26: ='[4]תעריף רכישה רשויות '!D28 -> 2.5404135 | AQ26: =AP26+$AM$1 -> 12.099413 | AR26: =IF(($AM$1+AP26)>AN26,AN26,$AM$1+AP26) -> 12.099413 | AS26: =IF(R26+T26+S26=0,"E",AR26-AM26) -> 0.4538474 | AT26: =AN26-AR26+AS26 -> 1.1754339
A27: 27 | B27: =M27-L27-K27-J27-G27-F27-E27 -> 6.598645 | C27: ג'סר אל זרקא | D27: =M27-L27-K27-J27-I27-H27-G27-F27-E27 -> 5.7738672 | E27: =(M27-F27)*'תחשיב הכרה בעלויות '!$C$21 -> 0.72809451 | F27: =M27*'תחשיב הכרה בעלויות '!$C$22 -> 0.15839619 | G27: ='תחשיב הכרה בעלויות '!$M$30 -> 0.55879601 | H27: ='תחשיב הכרה בעלויות '!$E$19 -> 0.38383298 | I27: ='תחשיב הכרה בעלויות '!$I$19 -> 0.44094483 | J27: ='תחשיב הכרה בעלויות '!$M$24 -> 0.85657249 | K27: ='תעריף כמות מוכרת'!K27 -> 1.6592421 | M27: =M26 -> 10.559746 | R27: =+IFERROR(VLOOKUP(TRIM(C27&"-"&$R$2),'אגרות ביוב'!$A$8:$J$72,10,0),0) -> 2.4541021 | S27: =+IFERROR(VLOOKUP(TRIM(C27&"-"&$S$2),'אגרות ביוב'!$A$8:$J$72,10,0),0) -> 0 | T27: =+IFERROR(VLOOKUP(TRIM(C27&"-"&$T$2),'אגרות ביוב'!$A$8:$J$72,10,0),0) -> 0.82218648 | X27: =X5 -> נתונים מגזבר אור עקיבא במייל | Y27: חדרה | Z27: שניוני | AD27: =C27 -> ג'סר אל זרקא | AE27: =E27/2+F27/2+G27+H27 -> 1.3858743 | AF27: =E27/2+F27/2+I27+J27 -> 1.7407627 | AG27: =K27 -> 1.6592421 | AH27: =L27 -> 0 | AI27: =D27 -> 5.7738672 | AJ27: =R27+T27+S27+$AJ$1 -> 8.1612885 | AK27: 7.966 | AL27: =IF(R27+S27+T27=0,"E",AK27-AJ27) -> -0.19528854 | AM27: =R27+T27+S27+$AM$1 -> 12.835289 | AN27: 12.821 | AO27: =IF(R27+T27+S27=0,"E",AN27-AM27) -> -0.014288539 | AP27: ='[4]תעריף רכישה רשויות '!D29 -> 3.2126729 | AQ27: =AP27+$AM$1 -> 12.771673 | AR27: =IF(($AM$1+AP27)>AN27,AN27,$AM$1+AP27) -> 12.771673 | AS27: =IF(R27+T27+S27=0,"E",AR27-AM27) -> -0.06361568 | AT27: =AN27-AR27+AS27 -> -0.014288539
A28: 28 | B28: =M28-L28-K28-J28-G28-F28-E28 -> 7.5798871 | C28: קציר-חריש | D28: =M28-L28-K28-J28-I28-H28-G28-F28-E28 -> 6.7551093 | E28: =(M28-F28)*'תחשיב הכרה בעלויות '!$C$21 -> 0.72809451 | F28: =M28*'תחשיב הכרה בעלויות '!$C$22 -> 0.15839619 | G28: ='תחשיב הכרה בעלויות '!$M$30 -> 0.55879601 | H28: ='תחשיב הכרה בעלויות '!$E$19 -> 0.38383298 | I28: ='תחשיב הכרה בעלויות '!$I$19 -> 0.44094483 | J28: ='תחשיב הכרה בעלויות '!$M$24 -> 0.85657249 | K28: ='תעריף כמות מוכרת'!K28 -> 0.678 | M28: =M27 -> 10.559746 | R28: =+IFERROR(VLOOKUP(TRIM(C28&"-"&$R$2),'אגרות ביוב'!$A$8:$J$72,10,0),0) -> 1.065059 | S28: =+IFERROR(VLOOKUP(TRIM(C28&"-"&$S$2),'אגרות ביוב'!$A$8:$J$72,10,0),0) -> 0 | T28: =+IFERROR(VLOOKUP(TRIM(C28&"-"&$T$2),'אגרות ביוב'!$A$8:$J$72,10,0),0) -> 0 | X28: מט"ש בהקמה | AD28: =C28 -> קציר-חריש | AE28: =E28/2+F28/2+G28+H28 -> 1.3858743 | AF28: =E28/2+F28/2+I28+J28 -> 1.7407627 | AG28: =K28 -> 0.678 | AH28: =L28 -> 0 | AI28: =D28 -> 6.7551093 | AJ28: =R28+T28+S28+$AJ$1 -> 5.950059 | AK28: 7.966 | AL28: =IF(R28+S28+T28=0,"E",AK28-AJ28) -> 2.015941 | AM28: =R28+T28+S28+$AM$1 -> 10.624059 | AN28: 12.821 | AO28: =IF(R28+T28+S28=0,"E",AN28-AM28) -> 2.196941 | AP28: ='[4]תעריף רכישה רשויות '!D30 -> 2.2914508 | AQ28: =AP28+$AM$1 -> 11.850451 | AR28: =IF(($AM$1+AP28)>AN28,AN28,$AM$1+AP28) -> 11.850451 | AS28: =IF(R28+T28+S28=0,"E",AR28-AM28) -> 1.2263918 | AT28: =AN28-AR28+AS28 -> 2.196941
A29: 29 | B29: =M29-L29-K29-J29-G29-F29-E29 -> 6.598645 | C29: אור עקיבא | D29: =M29-L29-K29-J29-I29-H29-G29-F29-E29 -> 5.7738672 | E29: =(M29-F29)*'תחשיב הכרה בעלויות '!$C$21 -> 0.72809451 | F29: =M29*'תחשיב הכרה בעלויות '!$C$22 -> 0.15839619 | G29: ='תחשיב הכרה בעלויות '!$M$30 -> 0.55879601 | H29: ='תחשיב הכרה בעלויות '!$E$19 -> 0.38383298 | I29: ='תחשיב הכרה בעלויות '!$I$19 -> 0.44094483 | J29: ='תחשיב הכרה בעלויות '!$M$24 -> 0.85657249 | K29: ='תעריף כמות מוכרת'!K29 -> 1.6592421 | M29: =M28 -> 10.559746 | R29: =+IFERROR(VLOOKUP(TRIM(C29&"-"&$R$2),'אגרות ביוב'!$A$8:$J$72,10,0),0) -> 2.610679 | S29: =+IFERROR(VLOOKUP(TRIM(C29&"-"&$S$2),'אגרות ביוב'!$A$8:$J$72,10,0),0) -> 0 | T29: =+IFERROR(VLOOKUP(TRIM(C29&"-"&$T$2),'אגרות ביוב'!$A$8:$J$72,10,0),0) -> 0 | U29: 0.75 | X29: נתונים מגזבר אור עקיבא במייל | Y29: חדרה | Z29: שניוני | AD29: =C29 -> אור עקיבא | AE29: =E29/2+F29/2+G29+H29 -> 1.3858743 | AF29: =E29/2+F29/2+I29+J29 -> 1.7407627 | AG29: =K29 -> 1.6592421 | AH29: =L29 -> 0 | AI29: =D29 -> 5.7738672 | AJ29: =R29+T29+S29+$AJ$1 -> 7.495679 | AK29: 8.966 | AL29: =IF(R29+S29+T29=0,"E",AK29-AJ29) -> 1.470321 | AM29: =R29+T29+S29+$AM$1 -> 12.169679 | AN29: 12.821 | AO29: =IF(R29+T29+S29=0,"E",AN29-AM29) -> 0.65132103 | AP29: ='[4]תעריף רכישה רשויות '!D31 -> 3.2126729 | AQ29: =AP29+$AM$1 -> 12.771673 | AR29: =IF(($AM$1+AP29)>AN29,AN29,$AM$1+AP29) -> 12.771673 | AS29: =IF(R29+T29+S29=0,"E",AR29-AM29) -> 0.60199389 | AT29: =AN29-AR29+AS29 -> 0.65132103
A30: 30 | B30: =M30-L30-K30-J30-G30-F30-E30 -> 7.3696751 | C30: באר יעקב | D30: =M30-L30-K30-J30-I30-H30-G30-F30-E30 -> 6.5448973 | E30: =(M30-F30)*'תחשיב הכרה בעלויות '!$C$21 -> 0.72809451 | F30: =M30*'תחשיב הכרה בעלויות '!$C$22 -> 0.15839619 | G30: ='תחשיב הכרה בעלויות '!$M$30 -> 0.55879601 | H30: ='תחשיב הכרה בעלויות '!$E$19 -> 0.38383298 | I30: ='תחשיב הכרה בעלויות '!$I$19 -> 0.44094483 | J30: ='תחשיב הכרה בעלויות '!$M$24 -> 0.85657249 | K30: =+'[3]מטשים 2015'!$B$7 -> 0.88821199 | M30: =M29 -> 10.559746
M31: =M30 -> 10.559746
A32: 1 | C32: גדרה | D32: =M32-L32-K32-J32-I32-H32-G32-F32-E32 -> 6.0947913 | E32: ='תחשיב הכרה בעלויות '!$C$14+'תחשיב הכרה בעלויות '!$J$14 -> 0.87303059 | F32: ='תחשיב הכרה בעלויות '!$C$15+'תחשיב הכרה בעלויות '!$J$15 -> 0.15177809 | G32: ='תחשיב הכרה בעלויות '!$M$30 -> 0.55879601 | H32: ='תחשיב הכרה בעלויות '!$E$19 -> 0.38383298 | I32: ='תחשיב הכרה בעלויות '!$I$19 -> 0.44094483 | J32: ='תחשיב הכרה בעלויות '!$M$24 -> 0.85657249 | K32: 1.2 | M32: =M31 -> 10.559746 | R32: =+IFERROR(VLOOKUP(TRIM(C32&"-"&$R$2),'אגרות ביוב'!$A$8:$J$72,10,0),0) -> 1.4729215 | S32: =+IFERROR(VLOOKUP(TRIM(C32&"-"&$S$2),'אגרות ביוב'!$A$8:$J$72,10,0),0) -> 1.0110732 | T32: =+IFERROR(VLOOKUP(TRIM(C32&"-"&$T$2),'אגרות ביוב'!$A$8:$J$72,10,0),0) -> 0 | W32: מצטרף לתאגיד | Y32: נשגב | Z32: שלישוני | AD32: יישוב | AE32: מרווח מים | AF32: מרווח ביוב | AG32: מט"ש | AH32: הולכה | AI32: תעריף רכישה גבוה
A33: 2 | C33: זמר | D33: =M33-L33-K33-J33-I33-H33-G33-F33-E33 -> 7.2947913 | E33: ='תחשיב הכרה בעלויות '!$C$14+'תחשיב הכרה בעלויות '!$J$14 -> 0.87303059 | F33: ='תחשיב הכרה בעלויות '!$C$15+'תחשיב הכרה בעלויות '!$J$15 -> 0.15177809 | G33: ='תחשיב הכרה בעלויות '!$M$30 -> 0.55879601 | H33: ='תחשיב הכרה בעלויות '!$E$19 -> 0.38383298 | I33: ='תחשיב הכרה בעלויות '!$I$19 -> 0.44094483 | J33: ='תחשיב הכרה בעלויות '!$M$24 -> 0.85657249 | M33: =M32 -> 10.559746 | R33: =+IFERROR(VLOOKUP(TRIM(C33&"-"&$R$2),'אגרות ביוב'!$A$8:$J$72,10,0),0) -> 0 | S33: =+IFERROR(VLOOKUP(TRIM(C33&"-"&$S$2),'אגרות ביוב'!$A$8:$J$72,10,0),0) -> 0 | T33: =+IFERROR(VLOOKUP(TRIM(C33&"-"&$T$2),'אגרות ביוב'!$A$8:$J$72,10,0),0) -> 0 | W33: צורף לתאגיד | AD33: =AD3 -> גבעת שמואל | AE33: =AE3 -> 1.3858743 | AF33: =AF3 -> 1.7407627 | AG33: =AG3 -> 2.0556594 | AH33: =AH3 -> 0.090318952 | AI33: =AI3 -> 5.287131
A34: 3 | C34: בני עי"ש | D34: =M34-L34-K34-J34-I34-H34-G34-F34-E34 -> 6.0947913 | E34: ='תחשיב הכרה בעלויות '!$C$14+'תחשיב הכרה בעלויות '!$J$14 -> 0.87303059 | F34: ='תחשיב הכרה בעלויות '!$C$15+'תחשיב הכרה בעלויות '!$J$15 -> 0.15177809 | G34: ='תחשיב הכרה בעלויות '!$M$30 -> 0.55879601 | H34: ='תחשיב הכרה בעלויות '!$E$19 -> 0.38383298 | I34: ='תחשיב הכרה בעלויות '!$I$19 -> 0.44094483 | J34: ='תחשיב הכרה בעלויות '!$M$24 -> 0.85657249 | K34: 1.2 | M34: =M33 -> 10.559746 | R34: =+IFERROR(VLOOKUP(TRIM(C34&"-"&$R$2),'אגרות ביוב'!$A$8:$J$72,10,0),0) -> 2.268574 | S34: =+IFERROR(VLOOKUP(TRIM(C34&"-"&$S$2),'אגרות ביוב'!$A$8:$J$72,10,0),0) -> 0.91270015 | T34: =+IFERROR(VLOOKUP(TRIM(C34&"-"&$T$2),'אגרות ביוב'!$A$8:$J$72,10,0),0) -> 0 | W34: מצטרף לתאגיד | Y34: נשגב | Z34: שלישוני | AD34: =AD19 -> נהריה | AE34: =AE19 -> 1.3858743 | AF34: =AF19 -> 1.7407627 | AG34: =AG19 -> 1.076325 | AH34: =AH19 -> 0 | AI34: =AI19 -> 6.3567843
A35: 4 | C35: יהוד-מונוסון | D35: =M35-L35-K35-J35-I35-H35-G35-F35-E35 -> 6.6947913 | E35: ='תחשיב הכרה בעלויות '!$C$14+'תחשיב הכרה בעלויות '!$J$14 -> 0.87303059 | F35: ='תחשיב הכרה בעלויות '!$C$15+'תחשיב הכרה בעלויות '!$J$15 -> 0.15177809 | G35: ='תחשיב הכרה בעלויות '!$M$30 -> 0.55879601 | H35: ='תחשיב הכרה בעלויות '!$E$19 -> 0.38383298 | I35: ='תחשיב הכרה בעלויות '!$I$19 -> 0.44094483 | J35: ='תחשיב הכרה בעלויות '!$M$24 -> 0.85657249 | L35: 0.6 | M35: =M34 -> 10.559746 | R35: =+IFERROR(VLOOKUP(TRIM(C35&"-"&$R$2),'אגרות ביוב'!$A$8:$J$72,10,0),0) -> 1.0805431 | S35: =+IFERROR(VLOOKUP(TRIM(C35&"-"&$S$2),'אגרות ביוב'!$A$8:$J$72,10,0),0) -> 2.3598069 | T35: =+IFERROR(VLOOKUP(TRIM(C35&"-"&$T$2),'אגרות ביוב'!$A$8:$J$72,10,0),0) -> 1.6394448 | V35: =3.531 -> 3.531 | W35: כמו קריית אונו צריך להפחית הון | X35: הולכה דרך אור יהודה לברר עלות | Y35: איגודן | Z35: איגודן | AD35: =AD20 -> נשר | AE35: =AE20 -> 1.3858743 | AF35: =AF20 -> 1.7407627 | AG35: =AG20 -> 1.5443826 | AH35: =AH20 -> 0 | AI35: =AI20 -> 5.8887267
A36: 5 | C36: קריית מלאכי | D36: =M36-L36-K36-J36-I36-H36-G36-F36-E36 -> 5.6447913 | E36: ='תחשיב הכרה בעלויות '!$C$14+'תחשיב הכרה בעלויות '!$J$14 -> 0.87303059 | F36: ='תחשיב הכרה בעלויות '!$C$15+'תחשיב הכרה בעלויות '!$J$15 -> 0.15177809 | G36: ='תחשיב הכרה בעלויות '!$M$30 -> 0.55879601 | H36: ='תחשיב הכרה בעלויות '!$E$19 -> 0.38383298 | I36: ='תחשיב הכרה בעלויות '!$I$19 -> 0.44094483 | J36: ='תחשיב הכרה בעלויות '!$M$24 -> 0.85657249 | K36: 1.65 | M36: =M35 -> 10.559746 | R36: =+IFERROR(VLOOKUP(TRIM(C36&"-"&$R$2),'אגרות ביוב'!$A$8:$J$72,10,0),0) -> 1.4354744 | S36: =+IFERROR(VLOOKUP(TRIM(C36&"-"&$S$2),'אגרות ביוב'!$A$8:$J$72,10,0),0) -> 1.4354744 | T36: =+IFERROR(VLOOKUP(TRIM(C36&"-"&$T$2),'אגרות ביוב'!$A$8:$J$72,10,0),0) -> 0 | W36: מצטרף לתאגיד | Y36: תימורים | Z36: שניוני | AD36: =AD14 -> שהם | AE36: =AE14 -> 1.3858743 | AF36: =AF14 -> 1.7407627 | AG36: =AG14 -> 1.1575 | AH36: =AH14 -> 0.37666667 | AI36: =AI14 -> 5.8989426
M37: =M36 -> 10.559746 | AD37: =#REF! -> #REF! | AE37: =#REF! -> #REF! | AF37: =#REF! -> #REF! | AG37: =#REF! -> #REF! | AH37: =#REF! -> #REF! | AI37: =#REF! -> #REF!
M38: =M37 -> 10.559746
M39: =M38 -> 10.559746
A40: 9 | C40: כעביה-טבאש | D40: =M40-L40-K40-J40-I40-H40-G40-F40-E40 -> 7.2947913 | E40: ='תחשיב הכרה בעלויות '!$C$14+'תחשיב הכרה בעלויות '!$J$14 -> 0.87303059 | F40: ='תחשיב הכרה בעלויות '!$C$15+'תחשיב הכרה בעלויות '!$J$15 -> 0.15177809 | G40: ='תחשיב הכרה בעלויות '!$M$30 -> 0.55879601 | H40: ='תחשיב הכרה בעלויות '!$E$19 -> 0.38383298 | I40: ='תחשיב הכרה בעלויות '!$I$19 -> 0.44094483 | J40: ='תחשיב הכרה בעלויות '!$M$24 -> 0.85657249 | M40: =M39 -> 10.559746 | R40: =+IFERROR(VLOOKUP(TRIM(C40&"-"&$R$2),'אגרות ביוב'!$A$8:$J$72,10,0),0) -> 0 | S40: =+IFERROR(VLOOKUP(TRIM(C40&"-"&$S$2),'אגרות ביוב'!$A$8:$J$72,10,0),0) -> 0 | T40: =+IFERROR(VLOOKUP(TRIM(C40&"-"&$T$2),'אגרות ביוב'!$A$8:$J$72,10,0),0) -> 0
M41: =M40 -> 10.559746
M42: =M41 -> 10.559746
M43: =M42 -> 10.559746
M44: =M43 -> 10.559746

Sheet תחשיב הכרה בעלויות 
B1: תערי, מלא
B2: מים | I2: ביוב
B3: מרווח לתאגיד ממוצע בשנת 2015 | C3: ספק מועצה מקומית | E3: הפרש | F3: הסבר להפרש | I3: מרווח לתאגיד ממוצע בשנת 2015 | J3: ספק מועצה מקומית | L3: הפרש
A5: עלויות הון
A6: פחת מערכת מים | B6: =+'[5]ספק למספר ישובים'!B6 -> 0.40789992 | C6: =B6 -> 0.40789992 | E6: =+B6-C6 -> 0 | I6: =+'[1]תחשיב תעריף 2016'!C125 -> 0.48049746 | J6: =+I6 -> 0.48049746 | L6: =+I6-J6 -> 0
A7: ריבית מערכת מים | B7: =+'[5]ספק למספר ישובים'!B7 -> 0.21077028 | C7: =B7 -> 0.21077028 | E7: =+B7-C7 -> 0 | I7: =+'[1]תחשיב תעריף 2016'!C126 -> 0.24873459 | J7: =+I7 -> 0.24873459 | L7: =+I7-J7 -> 0
A8: תשואה מערכת מים | B8: =+'[5]ספק למספר ישובים'!B8 -> 0.14969152 | C8: 0 | E8: =+B8-C8 -> 0.14969152 | F8: מלכ"ר - לא נדרש רווח עם זאת הנחנו כי שיעור ההלוואות (הון זר) ששימשו להשקעות גדול מבתאגיד בכ-20% | I8: =+'[1]תחשיב תעריף 2016'!C127 -> 0.1744211 | J8: 0 | L8: =+I8-J8 -> 0.1744211
A9: זכויות מים | B9: =+'[5]ספק למספר ישובים'!B9 -> 0.10463456 | C9: =B9 -> 0.10463456 | E9: =+B9-C9 -> 0 | L9: =+I9-J9 -> 0
A10: החזר צרכנים | B10: =+'[5]ספק למספר ישובים'!B10 -> -0.33947179 | C10: =+B10 -> -0.33947179 | E10: =+B10-C10 -> 0 | F10: הצרכנים זכאים לקיזוז עלויות ההון בגין היטלים ששילמו בעבר. עם זאת בתאגידים, היות והם נדרשו לשלם לרשויות המקומיות 40% מסך התשתיות (גם כאלו שנקנו בממון היטלים) נוטרל חלק מהקיזוז הנדרש. החל משנת 2010 כלל ההיטלים ששילמו הצרכנים בתאגידים מקוזזים. לגבי הספקים אומדן קיזוז ההיטלים נעשה ללא קיומן של הלוואות לרשויות בגי צרכנים גם על הלוואת הרשות לתאגיד | I10: =+'[1]תחשיב תעריף 2016'!$C$128 -> -0.28828722 | J10: =+I10 -> -0.28828722 | L10: =+I10-J10 -> 0
B11: ='[6]ספק למספר ישובים'!B11 -> 0 | D11: =SUM(C6:C10) -> 0.38383298 | K11: =SUM(J6:J10) -> 0.44094483
A12: עלויות תפעול | B12: ='[6]ספק למספר ישובים'!B12 -> 0
A13: רכיב תפעול מים | B13: =K30 -> 0.68419717 | C13: =M30 -> 0.55879601 | E13: =+B13-C13 -> 0.12540115 | F13: הספק לא נדרש לאמות מידה של התאגיד. | I13: =K24 -> 0.92933194 | J13: =M24 -> 0.85657249 | L13: =+I13-J13 -> 0.072759443
A14: פחת מים | B14: =+'[5]ספק למספר ישובים'!$B$14 -> 0.62916388 | C14: =+B14*C21/'[7]תחשיב תעריף 2015'!$C$130 -> 0.6013309 | E14: =+B14-C14 -> 0.027832975 | F14: לפי יעד הפחת | I14: ='[1]תחשיב תעריף 2016'!$C$130*'[1]ריכוז עלויות'!$D$60 -> 0.28427548 | J14: =+I14*C21/'[7]תחשיב תעריף 2015'!$C$130 -> 0.27169969 | L14: =+I14-J14 -> 0.012575789
A15: פחת גביה | B15: =+'[5]ספק למספר ישובים'!$B$15 -> 0.11853795 | C15: =+B15/'[7]תחשיב תעריף 2015'!$C$131*C22 -> 0.08740946 | E15: =+B15-C15 -> 0.03112849 | F15: לפי יעד הפחת | I15: ='[1]תחשיב תעריף 2016'!$C$131*'[1]ריכוז עלויות'!$D$60 -> 0.087291753 | J15: =+I15/'[7]תחשיב תעריף 2015'!$C$131*C22 -> 0.064368626 | L15: =+I15-J15 -> 0.022923127
D16: =SUM(C13:C15) -> 1.2475364
A17: סה"כ תעריף | B17: =SUM(B4:B16) -> 1.9654235 | C17: =SUM(C4:C16) -> 1.6313694 | E17: =SUM(E6:E15) -> 0.33405414 | I17: =SUM(I4:I16) -> 1.9162651 | J17: =SUM(J4:J16) -> 1.6335856 | L17: =SUM(L6:L15) -> 0.28267946
A19: הפחתת תחזוקת מונים | C19: -0.16 | E19: =+D11 -> 0.38383298 | F19: בגין קרן שיקום | I19: =K11 -> 0.44094483 | J19: בגין קרן שיקום
C20: =SUM(C17:C19) -> 1.4713694 | F20: =+E19+I19 -> 0.82477781 | I20: הכרה מלאה לפי תאגידים | K20: חלק יחסי מרכיב | L20: הפחתה בגין רגולציה שונה | M20: סה"כ לרכיב
A21: יעד פחת מים | C21: 0.07 | H21: ביוב | I21: ='[1]תחשיב עלות תפעול לשנת 2016'!$BF$144 -> 0.6777911 | J21: 1 | K21: =J21*I21 -> 0.6777911 | L21: 0.05 | M21: =K21-L21*K21 -> 0.64390154 | N21: ללא אמות מידה הנדסיות, ללא חובות צילום ושטיפה מלאות, ללא חובת הגשת תוכניות, ללא חובת רישום תקלות , ללא חובת שאיבת בורות סופגים ועוד בהפחתת - ביוביות ואנרגיה
A22: יעד פחת גבייה | C22: 0.015 | H22: הנהלה | I22: ='[1]תחשיב עלות תפעול לשנת 2016'!$BF$148 -> 0.15251039 | J22: 0.5 | K22: =J22*I22 -> 0.076255195 | L22: 0.05 | M22: =K22-L22*K22 -> 0.072442435 | N22: ללא חובות דיווח , ללא חובת הכנת דו"חות כספיים מפורטים , ללא רישום עלויות מפורט ועוד
H23: גבייה | I23: ='[1]תחשיב עלות תפעול לשנת 2016'!$BF$146 -> 0.35057129 | J23: 0.5 | K23: =J23*I23 -> 0.17528564 | L23: 0.2 | M23: =K23-L23*K23 -> 0.14022852 | N23: ללא אמות מידה לשרות מלאות, ללא חובת הודעות לצרכנים , ללא חובת פיצויים לצרכנים ועוד
K24: =SUM(K21:K23) -> 0.92933194 | M24: =SUM(M21:M23) -> 0.85657249
A26: חלש | I26: הכרה מלאה לפי תאגידים | K26: חלק יחסי מרכיב | L26: הפחתה בגין רגולציה שונה
A27: יעד פחת מים | C27: 0.1166 | H27: מים | I27: =+'[1]תחשיב עלות תפעול לשנת 2016'!$BF$142 -> 0.43265633 | J27: 1 | K27: =J27*I27 -> 0.43265633 | L27: 0.2 | M27: =K27-L27*K27 -> 0.34612506 | N27: ללא אמות מידה להפסקות מים, ללא חובות יידוע הפסקות מים, ללא חובות דיווח כמות גבוהה, גבוהה מאוד חריגה , ללא חובות קריאה ומתן הערכה , ללא פיצויים לצרכנים, אין מידע על בריכות אגירה מרביתם של היישובים הקטנים נסמכים על איגום של חברת מקורות ועוד
A28: יעד פחת גבייה | C28: 0.0667 | H28: הנהלה | I28: ='[1]תחשיב עלות תפעול לשנת 2016'!$BF$148 -> 0.15251039 | J28: 0.5 | K28: =J28*I28 -> 0.076255195 | L28: 0.05 | M28: =K28-L28*K28 -> 0.072442435 | N28: ללא חובות דיווח , ללא חובת הכנת דו"חות כספיים מפורטים , ללא רישום עלויות מפורט ועוד
H29: גבייה | I29: ='[1]תחשיב עלות תפעול לשנת 2016'!$BF$146 -> 0.35057129 | J29: 0.5 | K29: =J29*I29 -> 0.17528564 | L29: 0.2 | M29: =K29-L29*K29 -> 0.14022852 | N29: ללא אמות מידה לשרות מלאות, ללא חובת הודעות לצרכנים , ללא חובת פיצויים לצרכנים ועוד
I30: =SUM(I27:I29) -> 0.93573801 | K30: =SUM(K27:K29) -> 0.68419717 | M30: =SUM(M27:M29) -> 0.55879601

Sheet מדדים
A1: הופק לאחרונה עבור ירחון מחירים מס' 9/2013
A2: א. מדד המחירים לצרכן
A3: לוח 3.1 .- מדד המחירים לצרכן לפי בסיס ספטמבר 1951 = 100.0
A4: שנה | B4: חודש | N4: שנה
B5: 12 | C5: 11 | D5: 10 | E5: 9 | F5: 8 | G5: 7 | H5: 6 | I5: 5 | J5: 4 | K5: 3 | L5: 2 | M5: 1
A7: 1951 | B7: 107 | C7: 105 | D7: 103 | E7: 100 | N7: 1951
A8: 1952 | B8: 178 | C8: 175 | D8: 173 | E8: 169 | F8: 165 | G8: 162 | H8: 157 | I8: 150 | J8: 144 | K8: 132 | L8: 120 | M8: 113 | N8: 1952
A9: 1953 | B9: 212 | C9: 208 | D9: 207 | E9: 205 | F9: 201 | G9: 200 | H9: 197 | I9: 191 | J9: 187 | K9: 184 | L9: 182 | M9: 181 | N9: 1953
A10: 1954 | B10: 228 | C10: 228 | D10: 227 | E10: 227 | F10: 222 | G10: 217 | H10: 214 | I10: 218 | J10: 217 | K10: 217 | L10: 216 | M10: 214 | N10: 1954
A11: 1955 | B11: 239 | C11: 236 | D11: 238 | E11: 239 | F11: 231 | G11: 233 | H11: 232 | I11: 230 | J11: 230 | K11: 229 | L11: 228 | M11: 228 | N11: 1955
A12: 1956 | B12: 250 | C12: 248 | D12: 259 | E12: 260 | F12: 247 | G12: 244 | H12: 249 | I12: 249 | J12: 246 | K12: 244 | L12: 239 | M12: 238 | N12: 1956
A13: 1957 | B13: 263 | C13: 267 | D13: 268 | E13: 268 | F13: 269 | G13: 264 | H13: 258 | I13: 270 | J13: 265 | K13: 261 | L13: 259 | M13: 254 | N13: 1957
A14: 1958 | B14: 274 | C14: 273 | D14: 280 | E14: 280 | F14: 274 | G14: 274 | H14: 267 | I14: 276 | J14: 272 | K14: 268 | L14: 269 | M14: 267 | N14: 1958
A15: 1959 | B15: 279.7048 | C15: 281.0813 | D15: 280.5307 | E15: 275.5753 | F15: 269.5187 | G15: 269.794 | H15: 273.3729 | I15: 287.1379 | J15: 276.4012 | K15: 277.7777 | L15: 277.5024 | M15: 275.3 | N15: 1959
A16: 1960 | B16: 289.3403 | C16: 291.2674 | D16: 292.3686 | E16: 286.5873 | F16: 279.4295 | G16: 278.8789 | H16: 277.5024 | I16: 284.1096 | J16: 278.6036 | K16: 281.9072 | L16: 279.1542 | M16: 278.6036 | N16: 1960
A17: 1961 | B17: 315.4938 | C17: 311.3643 | D17: 308.8866 | E17: 304.7571 | F17: 294.8463 | G17: 297.324 | H17: 303.9312 | I17: 314.6679 | J17: 293.7451 | K17: 294.0204 | L17: 293.4698 | M17: 295.9475 | N17: 1961
A18: 1962 | B18: 347.7039 | C18: 343.8497 | D18: 341.372 | E18: 337.7931 | F18: 330.0847 | G18: 326.2305 | H18: 323.4775 | I18: 327.8823 | J18: 331.1859 | K18: 325.4046 | L18: 318.2468 | M18: 316.595 | N18: 1962
A19: 1963 | B19: 365.0478 | C19: 363.1207 | D19: 356.2382 | E19: 353.4852 | F19: 346.6027 | G19: 352.384 | H19: 352.1087 | I19: 355.137 | J19: 343.8497 | K19: 347.7039 | L19: 347.7039 | M19: 347.7039 | N19: 1963
... A68: 2012 | B68: 33468938 | C68: 33405610 | D68: 33563930 | E68: 33627258 | F68: 33627258 | G68: 33278953 | H68: 33247289 | I68: 33342282 | J68: 33342282 | K68: 33057305 | L68: 32930648 | M68: 32930648 | N68: 2012
A69: 2013 | E69: 34076762 | F69: 34076762 | G69: 34010140 | H69: 33910209 | I69: 33643724 | J69: 33610413 | K69: 33477171 | L69: 33410549 | M69: 33410549 | N69: 2013

Sheet כמויות 2013
A1: מספר | C1: מספר | E1: אוכלוסיה | F1: תקבולים | G1: תקבולים | H1: סה"כ | I1: צריכה | J1: צריכה | K1: צריכה | L1: צריכה | M1: סה"כ | N1: סה"כ | O1: סה"כ | P1: צר' סגולית | Q1: צר' סגולית | R1: צר' סגולית
A2: סידורי | B2: שם התאגיד | C2: צרכן | D2: שם הישוב | E2: 2013 | F2: הפקה | G2: קניה | H2: תקבולים | I2: במגורים | J2: ביתית | K2: תעשייתית | L2: חקלאית | M2: צריכה | N2: פחת | O2: פחת | P2: מגורים | Q2: ביתית | R2: כולל פחת
E3: נפש | F3: מ"ק | G3: מ"ק | H3: מ"ק | I3: מ"ק | J3: מ"ק | K3: מ"ק | L3: מ"ק | M3: מ"ק | N3: מ"ק | O3: % | P3: מ"ק/נ/שנה | Q3: מ"ק/נ/שנה | R3: מ"ק/נ/שנה
A4: 1 | B4: אלעין | C4: 639 | D4: אבו סנאן | E4: 13045 | F4: 0 | G4: 836726 | H4: 836726 | I4: 648253 | J4: 709274 | K4: 0 | L4: 6112 | M4: 715386 | N4: 121340 | O4: 14.50176 | P4: 49.693599 | Q4: 54.37133 | R4: 63.672978
D5: ג'וליס | E5: 5975 | F5: 0 | G5: 541048 | H5: 541048 | I5: 361594 | J5: 431333 | K5: 0 | L5: 1174 | M5: 432507 | N5: 108541 | O5: 20.061251 | P5: 60.517824 | Q5: 72.189623 | R5: 90.355481
D6: כפר יסיף | E6: 9267 | F6: 0 | G6: 679932 | H6: 679932 | I6: 519043 | J6: 594129 | K6: 0 | L6: 1053 | M6: 595182 | N6: 84750 | O6: 12.464482 | P6: 56.00982 | Q6: 64.112334 | R6: 73.257689
D7: ירכא | E7: 15806 | F7: 0 | G7: 1460684 | H7: 1460684 | I7: 759575 | J7: 1110819 | K7: 49883 | L7: 56552 | M7: 1217254 | N7: 243430 | O7: 16.66548 | P7: 48.056118 | Q7: 70.278312 | R7: 85.679426
D8: גדידה-אלמכר | E8: 19552 | F8: 0 | G8: 1404248 | H8: 1404248 | I8: 815966 | J8: 924663 | K8: 0 | L8: 25179 | M8: 949842 | N8: 454406 | O8: 32.359384 | P8: 41.733122 | Q8: 47.292502 | R8: 70.533398
D9: מזרעה | E9: 3547 | F9: 0 | G9: 318977 | H9: 318977 | I9: 192944 | J9: 229477 | K9: 0 | L9: 27630 | M9: 257107 | N9: 61870 | O9: 19.396383 | P9: 54.396391 | Q9: 64.696081 | R9: 82.138991
D10: יאנוח-ג'ת | E10: 6092 | F10: 0 | G10: 472685 | H10: 472685 | I10: 311945 | J10: 342647 | K10: 0 | L10: 8634 | M10: 351281 | N10: 121404 | O10: 25.683912 | P10: 51.20568 | Q10: 56.245404 | R10: 76.173835
D11: סה"כ תאגיד | E11: 73284 | F11: 0 | G11: 5714300 | H11: 5714300 | I11: 3609320 | J11: 4342342 | K11: 49883 | L11: 126334 | M11: 4518559 | N11: 1195741 | O11: 20.925415 | P11: 49.251133 | Q11: 59.253616 | R11: 75.570152
A12: 2 | B12: הגיחון | C12: 8625 | D12: ירושלים | E12: 829863 | F12: 0 | G12: 60304291 | H12: 60304291 | I12: 30838650 | J12: 49379456 | K12: 2898572 | L12: 314660 | M12: 52592688 | N12: 7711603 | O12: 12.787818 | P12: 37.161134 | Q12: 59.503142 | R12: 68.795764
D13: אבו גוש | E13: 6600 | F13: 0 | G13: 426213 | H13: 426213 | I13: 281196 | J13: 325509 | K13: 0 | L13: 849 | M13: 326358 | N13: 99855 | O13: 23.428427 | P13: 42.605455 | Q13: 49.319545 | R13: 64.449091
D14: מבשרת ציון | E14: 24638 | F14: 0 | G14: 1863885 | H14: 1863885 | I14: 1512818 | J14: 1692923 | K14: 1467 | L14: 0 | M14: 1694390 | N14: 169495 | O14: 9.0936404 | P14: 61.401818 | Q14: 68.711868 | R14: 75.591282
D15: סה"כ תאגיד | E15: 861101 | F15: 0 | G15: 62594389 | H15: 62594389 | I15: 32632664 | J15: 51397888 | K15: 2900039 | L15: 315509 | M15: 54613436 | N15: 7980953 | O15: 12.750269 | P15: 37.896442 | Q15: 59.688571 | R15: 68.956883
A16: 3 | B16: הרי נצרת | C16: 765 | D16: איכסאל | E16: 13095 | F16: 0 | G16: 886010 | H16: 886010 | I16: 584058 | J16: 685262 | K16: 0 | L16: 30198 | M16: 715460 | N16: 170550 | O16: 19.249218 | P16: 44.601604 | Q16: 52.33005 | R16: 65.354105
D17: ריינה | E17: 17759 | F17: 0 | G17: 1392189 | H17: 1392189 | I17: 790419 | J17: 857237 | K17: 105246 | L17: 222 | M17: 962705 | N17: 429484 | O17: 30.849547 | P17: 44.50808 | Q17: 48.270567 | R17: 72.454586
D18: עילוט | E18: 7292 | F18: 0 | G18: 572681 | H18: 572681 | I18: 325230 | J18: 385285 | K18: 36564 | L18: 2295 | M18: 424144 | N18: 148537 | O18: 25.937127 | P18: 44.600933 | Q18: 52.83667 | R18: 73.206528
D19: יפיע | E19: 17674 | F19: 0 | G19: 1099283 | H19: 1099283 | I19: 796773 | J19: 858797 | K19: 0 | L19: 3834 | M19: 862631 | N19: 236652 | O19: 21.52785 | P19: 45.081645 | Q19: 48.590981 | R19: 61.980819
D20: נצרת | E20: 74363 | F20: 0 | G20: 5547993 | H20: 5547993 | I20: 3128356 | J20: 4339875 | K20: 71034 | L20: 0 | M20: 4410909 | N20: 1137084 | O20: 20.495412 | P20: 42.068717 | Q20: 58.360677 | R20: 73.651668
D21: סה"כ תאגיד | E21: 130183 | F21: 0 | G21: 9498156 | H21: 9498156 | I21: 5624836 | J21: 7126456 | K21: 212844 | L21: 36549 | M21: 7375849 | N21: 2122307 | O21: 22.344411 | P21: 43.207147 | Q21: 54.741833 | R21: 71.044322
A22: 4 | B22: התנור | C22: 718 | D22: מטולה | E22: 1564 | F22: 0 | G22: 204987 | H22: 204987 | I22: 120988 | J22: 179256 | K22: 13196 | L22: 0 | M22: 192452 | N22: 12535 | O22: 6.1150219 | P22: 77.358056 | Q22: 114.61381 | R22: 122.62852
D23: קרית שמונה | E23: 23114 | F23: 0 | G23: 1864757 | H23: 1864757 | I23: 1199551 | J23: 1597550 | K23: 57542 | L23: 9018 | M23: 1664110 | N23: 200647 | O23: 10.759954 | P23: 51.897162 | Q23: 69.11612 | R23: 77.796876
D24: קצרין | E24: 6736 | F24: 0 | G24: 744808 | H24: 744808 | I24: 339876 | J24: 551768 | K24: 117923 | L24: 0 | M24: 669691 | N24: 75117 | O24: 10.085418 | P24: 50.456651 | Q24: 81.913302 | R24: 93.064875
D25: מסעדה | E25: 3375 | F25: 0 | G25: 247209 | H25: 247209 | I25: 159182 | J25: 196481 | K25: 0 | L25: 0 | M25: 196481 | N25: 50728 | O25: 20.520289 | P25: 47.165037 | Q25: 58.216593 | R25: 73.247111
D26: מגדל שמס | E26: 10340 | F26: 0 | G26: 822421 | H26: 822421 | I26: 429722 | J26: 487565 | K26: 9797 | L26: 0 | M26: 497362 | N26: 325059 | O26: 39.524647 | P26: 41.559188 | Q26: 47.153288 | R26: 78.590329
D27: סה"כ תאגיד | E27: 45129 | F27: 0 | G27: 3884182 | H27: 3884182 | I27: 2249319 | J27: 3012620 | K27: 198458 | L27: 9018 | M27: 3220096 | N27: 664086 | O27: 17.097191 | P27: 49.841986 | Q27: 66.755745 | R27: 81.471027
A28: 5 | B28: יובלים אשדוד | C28: 6562 | D28: אשדוד | E28: 216511 | F28: 411490 | G28: 17790156 | H28: 18201646 | I28: 10090541 | J28: 14675660 | K28: 2181807 | L28: 0 | M28: 16857467 | N28: 1344179 | O28: 7.384931 | P28: 46.605212 | Q28: 67.782515 | R28: 73.990878
D29: סה"כ תאגיד | E29: 216511 | F29: 411490 | G29: 17790156 | H29: 18201646 | I29: 10090541 | J29: 14675660 | K29: 2181807 | L29: 0 | M29: 16857467 | N29: 1344179 | O29: 7.384931 | P29: 46.605212 | Q29: 67.782515 | R29: 73.990878
A30: 6 | B30: יובלים בשומרון 2003 | C30: 9503 | D30: אריאל | E30: 18089 | F30: 0 | G30: 1266580 | H30: 1266580 | I30: 778158 | J30: 1172832 | K30: 28160 | L30: 0 | M30: 1200992 | N30: 65588 | O30: 5.1783543 | P30: 43.018298 | Q30: 64.836752 | R30: 68.462602
D31: קרני שומרון | E31: 6560 | F31: 0 | G31: 582228 | H31: 582228 | I31: 325231 | J31: 489976 | K31: 61958 | L31: 0 | M31: 551934 | N31: 30294 | O31: 5.2031163 | P31: 49.577896 | Q31: 74.691463 | R31: 79.309451
D32: סה"כ תאגיד | E32: 24649 | F32: 0 | G32: 1848808 | H32: 1848808 | I32: 1103389 | J32: 1662808 | K32: 90118 | L32: 0 | M32: 1752926 | N32: 95882 | O32: 5.1861524 | P32: 44.764047 | Q32: 67.459451 | R32: 71.349345
A33: 7 | B33: ימים | C33: 3143 | D33: קרית ים | E33: 38681 | F33: 0 | G33: 2855064 | H33: 2855064 | I33: 1785624 | J33: 2311989 | K33: 3845 | L33: 0 | M33: 2315834 | N33: 539230 | O33: 18.886792 | P33: 46.162819 | Q33: 59.770663 | R33: 73.711098
D34: סה"כ תאגיד | E34: 38681 | F34: 0 | G34: 2855064 | H34: 2855064 | I34: 1785624 | J34: 2311989 | K34: 3845 | L34: 0 | M34: 2315834 | N34: 539230 | O34: 18.886792 | P34: 46.162819 | Q34: 59.770663 | R34: 73.711098
A35: 8 | B35: כפרי גליל תחתון | C35: 504 | D35: דבוריה | E35: 9551 | F35: 0 | G35: 625300 | H35: 625300 | I35: 476239 | J35: 524294 | K35: 0 | L35: 8958 | M35: 533252 | N35: 92048 | O35: 14.720614 | P35: 49.862737 | Q35: 54.894147 | R35: 64.531672
D36: טורעאן | E36: 12830 | F36: 0 | G36: 858313 | H36: 858313 | I36: 592167 | J36: 646577 | K36: 0 | L36: 31786 | M36: 678363 | N36: 179950 | O36: 20.965545 | P36: 46.154871 | Q36: 50.395713 | R36: 64.421434
D37: שבלי | E37: 5470 | F37: 0 | G37: 393150 | H37: 393150 | I37: 232019 | J37: 256125 | K37: 0 | L37: 7112 | M37: 263237 | N37: 129913 | O37: 33.044131 | P37: 42.416636 | Q37: 46.823583 | R37: 70.573675
D38: בועיינה-נוג'ידאת | E38: 8715 | F38: 0 | G38: 364368 | H38: 364368 | I38: 236087 | J38: 269764 | K38: 27741 | L38: 5444 | M38: 302949 | N38: 61419 | O38: 16.85631 | P38: 27.08973 | Q38: 30.953987 | R38: 38.001492
D39: כפר כנא | E39: 20516 | F39: 0 | G39: 1445688 | H39: 1445688 | I39: 865726 | J39: 962766 | K39: 14639 | L39: 31156 | M39: 1008561 | N39: 437127 | O39: 30.236607 | P39: 42.197602 | Q39: 46.927569 | R39: 68.234207
D40: משהד | E40: 7594 | F40: 0 | G40: 454380 | H40: 454380 | I40: 289159 | J40: 299211 | K40: 0 | L40: 14187 | M40: 313398 | N40: 140982 | O40: 31.027334 | P40: 38.077298 | Q40: 39.400974 | R40: 57.965894
D41: עין מאהל | E41: 12065 | F41: 0 | G41: 686061 | H41: 686061 | I41: 456916 | J41: 495665 | K41: 0 | L41: 7730 | M41: 503395 | N41: 182666 | O41: 26.625329 | P41: 37.871198 | Q41: 41.082884 | R41: 56.223042
D42: סה"כ תאגיד | E42: 76741 | F42: 0 | G42: 4827260 | H42: 4827260 | I42: 3148313 | J42: 3454402 | K42: 42380 | L42: 106373 | M42: 3603155 | N42: 1224105 | O42: 25.358174 | P42: 41.025176 | Q42: 45.013774 | R42: 60.964895
A43: 9 | B43: מי-נע | C43: 953 | D43: נצרת עלית | E43: 40460 | F43: 0 | G43: 3277360 | H43: 3277360 | I43: 1867358 | J43: 2403816 | K43: 518010 | L43: 0 | M43: 2921826 | N43: 355534 | O43: 10.848183 | P43: 46.153188 | Q43: 59.41216 | R43: 68.199456
D44: מגדל העמק | E44: 24810 | F44: 0 | G44: 2801877 | H44: 2801877 | I44: 1102184 | J44: 1457418 | K44: 1097066 | L44: 0 | M44: 2554484 | N44: 247393 | O44: 8.8295453 | P44: 44.42499 | Q44: 58.743168 | R44: 68.714672
D45: עפולה | E45: 42770 | F45: 0 | G45: 3794197 | H45: 3794197 | I45: 2069777 | J45: 2656535 | K45: 147407 | L45: 22081 | M45: 2826023 | N45: 968174 | O45: 25.517231 | P45: 48.393196 | Q45: 62.112111 | R45: 84.748866
D46: סה"כ תאגיד | E46: 108040 | F46: 0 | G46: 9873434 | H46: 9873434 | I46: 5039319 | J46: 6517769 | K46: 1762483 | L46: 22081 | M46: 8302333 | N46: 1571101 | O46: 15.912407 | P46: 46.643086 | Q46: 60.327369 | R46: 74.869215
A47: 10 | B47: מי אביבים 2010 | C47: 8209 | D47: תל אביב-יפו | E47: 418590 | F47: 3930160 | G47: 42066327 | H47: 45996487 | I47: 26120229 | J47: 39179779 | K47: 1451818 | L47: 15272 | M47: 40646869 | N47: 5349618 | O47: 11.630493 | P47: 62.400509 | Q47: 93.599415 | R47: 106.37951
D48: סה"כ תאגיד | E48: 418590 | F48: 3930160 | G48: 42066327 | H48: 45996487 | I48: 26120229 | J48: 39179779 | K48: 1451818 | L48: 15272 | M48: 40646869 | N48: 5349618 | O48: 11.630493 | P48: 62.400509 | Q48: 93.599415 | R48: 106.37951
A49: 11 | B49: מי אונו | C49: 7926 | D49: קרית אונו | E49: 35546 | F49: 1957280 | G49: 779262 | H49: 2736542 | I49: 2121679 | J49: 2561124 | K49: 0 | L49: 0 | M49: 2561124 | N49: 175418 | O49: 6.4102067 | P49: 59.688263 | Q49: 72.050976 | R49: 76.985934
D50: סה"כ תאגיד | E50: 35546 | F50: 1957280 | G50: 779262 | H50: 2736542 | I50: 2121679 | J50: 2561124 | K50: 0 | L50: 0 | M50: 2561124 | N50: 175418 | O50: 6.4102067 | P50: 59.688263 | Q50: 72.050976 | R50: 76.985934
A51: 12 | B51: מי אשקלון | C51: 6590 | D51: אשקלון | E51: 123478 | F51: 0 | G51: 11222691 | H51: 11222691 | I51: 6266409 | J51: 8841063 | K51: 863729 | L51: 81742 | M51: 9786534 | N51: 1436157 | O51: 12.796904 | P51: 50.749194 | Q51: 71.600309 | R51: 83.231183
D52: נתיבות | E52: 29529 | F52: 0 | G52: 2297273 | H52: 2297273 | I52: 1302629 | J52: 1846180 | K52: 23714 | L52: 0 | M52: 1869894 | N52: 427379 | O52: 18.603753 | P52: 44.113549 | Q52: 62.520912 | R52: 76.994107
D53: סה"כ תאגיד | E53: 153007 | F53: 0 | G53: 13519964 | H53: 13519964 | I53: 7569038 | J53: 10687243 | K53: 887443 | L53: 81742 | M53: 11656428 | N53: 1863536 | O53: 13.783587 | P53: 49.468573 | Q53: 69.848066 | R53: 82.027482
A54: 13 | B54: מי ברק | C54: 7695 | D54: בני ברק | E54: 172485 | F54: 3813080 | G54: 6694733 | H54: 10507813 | I54: 7083967 | J54: 9429899 | K54: 712784 | L54: 0 | M54: 10142683 | N54: 365130 | O54: 3.474843 | P54: 41.070047 | Q54: 54.670835 | R54: 56.787715
D55: סה"כ תאגיד | E55: 172485 | F55: 3813080 | G55: 6694733 | H55: 10507813 | I55: 7083967 | J55: 9429899 | K55: 712784 | L55: 0 | M55: 10142683 | N55: 365130 | O55: 3.474843 | P55: 41.070047 | Q55: 54.670835 | R55: 56.787715
A56: 14 | B56: מי בת-ים | C56: 7739 | D56: בת ים | E56: 128871 | F56: 7521670 | G56: 1696083 | H56: 9217753 | I56: 6567727 | J56: 8115472 | K56: 208958 | L56: 0 | M56: 8324430 | N56: 893323 | O56: 9.6913315 | P56: 50.963576 | Q56: 62.973609 | R56: 69.905526
D57: סה"כ תאגיד | E57: 128871 | F57: 7521670 | G57: 1696083 | H57: 9217753 | I57: 6567727 | J57: 8115472 | K57: 208958 | L57: 0 | M57: 8324430 | N57: 893323 | O57: 9.6913315 | P57: 50.963576 | Q57: 62.973609 | R57: 69.905526
A58: 15 | B58: מי גבעתיים | C58: 7776 | D58: גבעתיים | E58: 56159 | F58: 1665570 | G58: 2134179 | H58: 3799749 | I58: 3063190 | J58: 3641800 | K58: 0 | L58: 0 | M58: 3641800 | N58: 157949 | O58: 4.1568272 | P58: 54.544953 | Q58: 64.848021 | R58: 67.660553
D59: סה"כ תאגיד | E59: 56159 | F59: 1665570 | G59: 2134179 | H59: 3799749 | I59: 3063190 | J59: 3641800 | K59: 0 | L59: 0 | M59: 3641800 | N59: 157949 | O59: 4.1568272 | P59: 54.544953 | Q59: 64.848021 | R59: 67.660553
A60: 16 | B60: מי הגליל | C60: 1245 | D60: סכנין | E60: 28136 | F60: 0 | G60: 1989780 | H60: 1989780 | I60: 1118467 | J60: 1378898 | K60: 18471 | L60: 19611 | M60: 1416980 | N60: 572800 | O60: 28.787102 | P60: 39.752168 | Q60: 49.008317 | R60: 69.366577
D61: נחף | E61: 11695 | F61: 0 | G61: 635244 | H61: 635244 | I61: 446085 | J61: 510570 | K61: 0 | L61: 5024 | M61: 515594 | N61: 119650 | O61: 18.835282 | P61: 38.143224 | Q61: 43.657118 | R61: 53.887986
D62: דיר חנא | E62: 9526 | F62: 0 | G62: 613603 | H62: 613603 | I62: 401035 | J62: 463744 | K62: 0 | L62: 12371 | M62: 476115 | N62: 137488 | O62: 22.40667 | P62: 42.098992 | Q62: 48.681923 | R62: 63.114844
D63: בענה | E63: 7664 | F63: 0 | G63: 710062 | H63: 710062 | I63: 354176 | J63: 411642 | K63: 0 | L63: 89894 | M63: 501536 | N63: 208526 | O63: 29.367295 | P63: 46.212944 | Q63: 53.711117 | R63: 80.919624
D64: עראבה | E64: 23038 | F64: 0 | G64: 1666354 | H64: 1666354 | I64: 1073095 | J64: 1222317 | K64: 13628 | L64: 26337 | M64: 1262282 | N64: 404072 | O64: 24.248869 | P64: 46.579347 | Q64: 53.056559 | R64: 70.595928
D65: מגד' אל כרום | E65: 14249 | F65: 0 | G65: 925603 | H65: 925603 | I65: 643309 | J65: 738476 | K65: 0 | L65: 0 | M65: 738476 | N65: 187127 | O65: 20.216767 | P65: 45.147659 | Q65: 51.826514 | R65: 64.959155
D66: דיר אל עסד | E66: 11303 | F66: 0 | G66: 737962 | H66: 737962 | I66: 439334 | J66: 496222 | K66: 0 | L66: 17203 | M66: 513425 | N66: 224537 | O66: 30.426634 | P66: 38.868796 | Q66: 43.901796 | R66: 63.767053
D67: סה"כ תאגיד | E67: 105611 | F67: 0 | G67: 7278608 | H67: 7278608 | I67: 4475501 | J67: 5221869 | K67: 32099 | L67: 170440 | M67: 5424408 | N67: 1854200 | O67: 25.474651 | P67: 42.377224 | Q67: 49.444367 | R67: 67.00125
A68: 17 | B68: מי הוד השרון | C68: 4014 | D68: הוד השרון | E68: 52437 | F68: 210 | G68: 5027835 | H68: 5028045 | I68: 3272306 | J68: 4189974 | K68: 119976 | L68: 306462 | M68: 4616412 | N68: 411633 | O68: 8.1867406 | P68: 62.404524 | Q68: 79.904914 | R68: 87.754963
D69: סה"כ תאגיד | E69: 52437 | F69: 210 | G69: 5027835 | H69: 5028045 | I69: 3272306 | J69: 4189974 | K69: 119976 | L69: 306462 | M69: 4616412 | N69: 411633 | O69: 8.1867406 | P69: 62.404524 | Q69: 79.904914 | R69: 87.754963
A70: 18 | B70: מי הרצליה | C70: 7803 | D70: הרצליה | E70: 89813 | F70: 3350310 | G70: 7184538 | H70: 10534848 | I70: 6806773 | J70: 9519374 | K70: 273668 | L70: 62671 | M70: 9855713 | N70: 679135 | O70: 6.4465572 | P70: 75.788282 | Q70: 105.99105 | R70: 113.5527
D71: סה"כ תאגיד | E71: 89813 | F71: 3350310 | G71: 7184538 | H71: 10534848 | I71: 6806773 | J71: 9519374 | K71: 273668 | L71: 62671 | M71: 9855713 | N71: 679135 | O71: 6.4465572 | P71: 75.788282 | Q71: 105.99105 | R71: 113.5527
A72: 19 | B72: מי חדרה | C72: 2177 | D72: חדרה | E72: 85397 | F72: 2563330 | G72: 4721702 | H72: 7285032 | I72: 4455175 | J72: 6160370 | K72: 161799 | L72: 43098 | M72: 6365267 | N72: 919765 | O72: 12.625408 | P72: 52.170158 | Q72: 72.138014 | R72: 82.908475
D73: סה"כ תאגיד | E73: 85397 | F73: 2563330 | G73: 4721702 | H73: 7285032 | I73: 4455175 | J73: 6160370 | K73: 161799 | L73: 43098 | M73: 6365267 | N73: 919765 | O73: 12.625408 | P73: 52.170158 | Q73: 72.138014 | R73: 82.908475
A74: 20 | B74: מי יבנה | C74: 4567 | D74: יבנה | E74: 36506 | F74: 0 | G74: 3957076 | H74: 3957076 | I74: 1995198 | J74: 2950522 | K74: 334340 | L74: 0 | M74: 3284862 | N74: 672214 | O74: 16.987644 | P74: 54.653975 | Q74: 80.822933 | R74: 99.236728
D75: גן יבנה | E75: 21231 | F75: 426540 | G75: 1417594 | H75: 1844134 | I75: 1223576 | J75: 1525174 | K75: 74589 | L75: 21262 | M75: 1621025 | N75: 223109 | O75: 12.098307 | P75: 57.631576 | Q75: 71.837125 | R75: 82.345768
D76: סה"כ תאגיד | E76: 57737 | F76: 426540 | G76: 5374670 | H76: 5801210 | I76: 3218774 | J76: 4475696 | K76: 408929 | L76: 21262 | M76: 4905887 | N76: 895323 | O76: 15.433384 | P76: 55.748896 | Q76: 77.51868 | R76: 93.025599
A77: 21 | B77: מי כרמל | C77: 2473 | D77: חיפה | E77: 273177 | F77: 0 | G77: 23731634 | H77: 23731634 | I77: 11333640 | J77: 18552907 | K77: 1469207 | L77: 0 | M77: 20022114 | N77: 3709520 | O77: 15.631119 | P77: 41.488266 | Q77: 67.915333 | R77: 81.494515
D78: סה"כ תאגיד | E78: 273177 | F78: 0 | G78: 23731634 | H78: 23731634 | I78: 11333640 | J78: 18552907 | K78: 1469207 | L78: 0 | M78: 20022114 | N78: 3709520 | O78: 15.631119 | P78: 41.488266 | Q78: 67.915333 | R78: 81.494515
A79: 22 | B79: מי לוד | C79: 4762 | D79: לוד | E79: 71642 | F79: 0 | G79: 5283303 | H79: 5283303 | I79: 3222803 | J79: 4293729 | K79: 198668 | L79: 2342 | M79: 4494739 | N79: 788564 | O79: 14.925587 | P79: 44.984827 | Q79: 59.933126 | R79: 70.940133
D80: סה"כ תאגיד | E80: 71642 | F80: 0 | G80: 5283303 | H80: 5283303 | I80: 3222803 | J80: 4293729 | K80: 198668 | L80: 2342 | M80: 4494739 | N80: 788564 | O80: 14.925587 | P80: 44.984827 | Q80: 59.933126 | R80: 70.940133
A81: 23 | B81: מי מודיעין | C81: 4919 | D81: מודיעין | E81: 85426 | F81: 0 | G81: 6467671 | H81: 6467671 | I81: 4389689 | J81: 5895731 | K81: 0 | L81: 0 | M81: 5895731 | N81: 571940 | O81: 8.8430596 | P81: 51.385866 | Q81: 69.015651 | R81: 75.710802
D82: סה"כ תאגיד | E82: 85426 | F82: 0 | G82: 6467671 | H82: 6467671 | I82: 4389689 | J82: 5895731 | K82: 0 | L82: 0 | M82: 5895731 | N82: 571940 | O82: 8.8430596 | P82: 51.385866 | Q82: 69.015651 | R82: 75.710802
A83: 24 | B83: מי נתניה (2003) | C83: 5316 | D83: נתניה | E83: 196978 | F83: 7116560 | G83: 9493012 | H83: 16609572 | I83: 10345115 | J83: 13900249 | K83: 1216424 | L83: 5327 | M83: 15122000 | N83: 1487572 | O83: 8.9561128 | P83: 52.519139 | Q83: 70.56752 | R83: 78.119491
D84: סה"כ תאגיד | E84: 196978 | F84: 7116560 | G84: 9493012 | H84: 16609572 | I84: 10345115 | J84: 13900249 | K84: 1216424 | L84: 5327 | M84: 15122000 | N84: 1487572 | O84: 8.9561128 | P84: 52.519139 | Q84: 70.56752 | R84: 78.119491
A85: 25 | B85: מי עירון | C85: 2586 | D85: אום אל פחם | E85: 50597 | F85: 0 | G85: 3436005 | H85: 3436005 | I85: 2189977 | J85: 2843957 | K85: 26049 | L85: 3993 | M85: 2873999 | N85: 562006 | O85: 16.356379 | P85: 43.282744 | Q85: 56.208016 | R85: 67.315513
D86: כפר קרע | E86: 17141 | F86: 0 | G86: 1443250 | H86: 1443250 | I86: 995437 | J86: 1150259 | K86: 43034 | L86: 14227 | M86: 1207520 | N86: 235730 | O86: 16.333276 | P86: 58.07345 | Q86: 67.105711 | R86: 80.858118
D87: ערערה | E87: 9000 | F87: 0 | G87: 496231 | H87: 496231 | I87: 328312 | J87: 402093 | K87: 0 | L87: 0 | M87: 402093 | N87: 94138 | O87: 18.9706 | P87: 36.479111 | Q87: 44.677 | R87: 55.136778
D88: בסמ"ה | E88: 2000 | F88: 0 | G88: 149332 | H88: 149332 | I88: 104684 | J88: 109126 | K88: 0 | L88: 1445 | M88: 110571 | N88: 38761 | O88: 25.956259 | P88: 52.342 | Q88: 54.563 | R88: 73.9435
D89: מעלה עירון | E89: 2100 | F89: 0 | G89: 221890 | H89: 221890 | I89: 108532 | J89: 168481 | K89: 0 | L89: 106 | M89: 168587 | N89: 53303 | O89: 24.022263 | P89: 51.681905 | Q89: 80.229048 | R89: 105.61143
D90: באקה-ג'ת | E90: 37805 | F90: 0 | G90: 2753292 | H90: 2753292 | I90: 1818316 | J90: 2088587 | K90: 45540 | L90: 0 | M90: 2134127 | N90: 619165 | O90: 22.488171 | P90: 48.097236 | Q90: 55.246317 | R90: 71.624177
D91: סה"כ תאגיד | E91: 118643 | F91: 0 | G91: 8500000 | H91: 8500000 | I91: 5545258 | J91: 6762503 | K91: 114623 | L91: 19771 | M91: 6896897 | N91: 1603103 | O91: 18.860035 | P91: 46.739024 | Q91: 56.998753 | R91: 70.510742
A92: 26 | B92: מי עכו | C92: 1224 | D92: עכו עיריה | E92: 47397 | F92: 0 | G92: 3624682 | H92: 3624682 | I92: 2064787 | J92: 2942338 | K92: 312961 | L92: 103673 | M92: 3358972 | N92: 265710 | O92: 7.3305741 | P92: 43.563664 | Q92: 62.07857 | R92: 67.684621
D93: סה"כ תאגיד | E93: 47397 | F93: 0 | G93: 3624682 | H93: 3624682 | I93: 2064787 | J93: 2942338 | K93: 312961 | L93: 103673 | M93: 3358972 | N93: 265710 | O93: 7.3305741 | P93: 43.563664 | Q93: 62.07857 | R93: 67.684621
A94: 27 | B94: מי ציונה | C94: 5243 | D94: נס ציונה | E94: 44779 | F94: 2154220 | G94: 1614125 | H94: 3768345 | I94: 2437406 | J94: 3420370 | K94: 127220 | L94: 5389 | M94: 3552979 | N94: 215366 | O94: 5.7151349 | P94: 54.431899 | Q94: 76.383349 | R94: 81.192881
D95: מזכרת בתיה | E95: 11187 | F95: 0 | G95: 975501 | H95: 975501 | I95: 690435 | J95: 878844 | K95: 0 | L95: 978 | M95: 879822 | N95: 95679 | O95: 9.8081909 | P95: 61.717619 | Q95: 78.559399 | R95: 87.112094
D96: קרית עקרון | E96: 10718 | F96: 0 | G96: 904879 | H96: 904879 | I96: 602434 | J96: 800618 | K96: 11175 | L96: 0 | M96: 811793 | N96: 93086 | O96: 10.287121 | P96: 56.207688 | Q96: 74.698451 | R96: 83.383467
D97: סה"כ תאגיד | E97: 66684 | F97: 2154220 | G97: 3494505 | H97: 5648725 | I97: 3730275 | J97: 5099832 | K97: 138395 | L97: 6367 | M97: 5244594 | N97: 404131 | O97: 7.1543755 | P97: 55.939581 | Q97: 76.477596 | R97: 82.537985
A98: 28 | B98: מי קרית ביאליק | C98: 3043 | D98: קרית ביאליק | E98: 38591 | F98: 0 | G98: 2951636 | H98: 2951636 | I98: 1937071 | J98: 2561273 | K98: 119080 | L98: 7354 | M98: 2687707 | N98: 263929 | O98: 8.9417869 | P98: 50.19489 | Q98: 66.369698 | R98: 73.208831
D99: סה"כ תאגיד | E99: 38591 | F99: 0 | G99: 2951636 | H99: 2951636 | I99: 1937071 | J99: 2561273 | K99: 119080 | L99: 7354 | M99: 2687707 | N99: 263929 | O99: 8.9417869 | P99: 50.19489 | Q99: 66.369698 | R99: 73.208831
A100: 29 | B100: מי קרית גת (2008) | C100: 7315 | D100: קרית גת | E100: 49352 | F100: 0 | G100: 7841386 | H100: 7841386 | I100: 2201899 | J100: 3302783 | K100: 4140294 | L100: 0 | M100: 7443077 | N100: 398309 | O100: 5.0795739 | P100: 44.616206 | Q100: 66.922982 | R100: 74.993759
...

Sheet אגרות ביוב
C1: מדד יולי 2013 | D1: =מדדים!G69 -> 34010140
C3: תעריפי אגרות ביוב ומים למגורים למ"ק לרשויות שאינן מאוגדות
J6: תעריפי יולי 2013
C7: שם הרשות | D7: סוג הנכס | E7: סוג התשלום | F7: תעריף ביוב בש"ח למ"ק במחירי מדד הבסיס | G7: תאריך בסיס | H7: תאריך מדד בסיס | I7: מדד בסיס | J7: תעריף אגרת ביוב במחירי יולי 2013 | K7: אגרת מים - כמות מוכרת | L7: אגרת מים - מעבר לכמות מוכרת | M7: סה"כ אגרת מים וביוב - כמות מוכרת | N7: סה"כ אגרת מים וביוב - מעבר לכמות מוכרת
A8: =C8&"-"&E8 -> בוקעאתא-אגרה | B8: 27 | C8: בוקעאתא | D8: כל הנכסים | E8: אגרה | F8: 0.9 | G8: 35841 | J8: =F8*$D$1/$I$11 -> 1.3087388
A9: =C9&"-"&E9 -> בוקעאתא-מט"ש | B9: 27 | C9: =C8 -> בוקעאתא | E9: מט"ש | F9: 0.87 | G9: 35841 | J9: =F9*$D$1/$I$11 -> 1.2651142
A10: =C10&"-"&E10 -> בוקעאתא-החזר הון | B10: 27 | C10: =C9 -> בוקעאתא | E10: החזר הון | F10: 1.82 | G10: 35841 | J10: =F10*$D$1/$I$11 -> 2.6465607
A11: =C11&"-"&E11 -> בוקעאתא-ס"ה | B11: 27 | C11: =C10 -> בוקעאתא | E11: ס"ה | F11: =SUM(F8:F10) -> 3.59 | H11: 35796 | I11: =מדדים!M54 -> 23388262 | J11: =F11*$D$1/I11 -> 5.2204137 | K11: 5.684 | L11: 11.121 | M11: =J11+K11 -> 10.904414 | N11: =J11+L11 -> 16.341414
A12: =C12&"-"&E12 -> יהוד-מונוסון-אגרה | B12: 5 | C12: יהוד-מונוסון | D12: כל הנכסים | E12: אגרה | F12: 0.87 | G12: 37848 | J12: =F12*$D$1/$I$15 -> 1.0805431
A13: =C13&"-"&E13 -> יהוד-מונוסון-מט"ש | B13: 5 | C13: =C12 -> יהוד-מונוסון | E13: מט"ש | F13: 1.9 | G13: 37848 | J13: =F13*$D$1/$I$15 -> 2.3598069
A14: =C14&"-"&E14 -> יהוד-מונוסון-החזר הון | B14: 5 | C14: =C13 -> יהוד-מונוסון | E14: החזר הון | F14: 1.32 | G14: 37848 | J14: =F14*$D$1/$I$15 -> 1.6394448
A15: =C15&"-"&E15 -> יהוד-מונוסון-ס"ה | B15: 5 | C15: =C14 -> יהוד-מונוסון | E15: ס"ה | F15: =SUM(F12:F14) -> 4.09 | H15: 37803 | I15: =מדדים!G59 -> 27383286 | J15: =F15*$D$1/I15 -> 5.0797948 | K15: 5.684 | L15: 11.121 | M15: =J15+K15 -> 10.763795 | N15: =J15+L15 -> 16.200795
A16: =C16&"-"&E16 -> טייבה-אגרה | B16: 3 | C16: טייבה | D16: כל הנכסים | E16: אגרה | F16: 0.82 | G16: 35841 | J16: =F16*$D$1/$I$19 -> 1.1924065
A17: =C17&"-"&E17 -> טייבה-מט"ש | B17: 3 | C17: טייבה | E17: מט"ש | F17: 0.49 | G17: 35841 | J17: =F17*$D$1/$I$19 -> 0.71253557
A18: =C18&"-"&E18 -> טייבה-החזר הון | B18: 3 | C18: טייבה | E18: החזר הון | F18: 1.57 | G18: 35841 | J18: =F18*$D$1/$I$19 -> 2.2830221
A19: =C19&"-"&E19 -> טייבה-ס"ה | B19: 3 | C19: טייבה | E19: ס"ה | F19: =SUM(F16:F18) -> 2.88 | H19: 35796 | I19: =מדדים!M54 -> 23388262 | J19: =F19*$D$1/$I$19 -> 4.1879642 | K19: 5.684 | L19: 11.121 | M19: =J19+K19 -> 9.8719642 | N19: =J19+L19 -> 15.308964
A20: =C20&"-"&E20 -> ג'סר אל זרקא-אגרה | B20: 20 | C20: ג'סר אל זרקא | D20: כל הנכסים | E20: אגרה | F20: 1.97 | G20: 37909 | J20: =F20*$D$1/$I$23 -> 2.4541021
A21: =C21&"-"&E21 -> ג'סר אל זרקא-החזר הון | B21: 20 | C21: =C20 -> ג'סר אל זרקא | E21: החזר הון | F21: 0.66 | G21: 37909 | J21: =F21*$D$1/$I$23 -> 0.82218648
A22: =C22&"-"&E22 -> ג'סר אל זרקא-אגרת פחת | B22: 20 | C22: =C21 -> ג'סר אל זרקא | E22: אגרת פחת | F22: 0.35 | G22: 37909 | J22: =F22*$D$1/$I$23 -> 0.43600798
A23: =C23&"-"&E23 -> ג'סר אל זרקא-ס"ה | B23: 20 | C23: =C22 -> ג'סר אל זרקא | E23: ס"ה | F23: =SUM(F20:F22) -> 2.98 | H23: 37865 | I23: =מדדים!E59 -> 27301218 | J23: =F23*$D$1/$I$23 -> 3.7122965 | K23: 5.684 | L23: 11.121 | M23: =J23+K23 -> 9.3962965 | N23: =J23+L23 -> 14.833297
A24: =C24&"-"&E24 -> להבים-אגרה | B24: 26 | C24: להבים | D24: כל הנכסים | E24: אגרה | F24: 1.24 | G24: 38275 | J24: =F24*$D$1/$I$27 -> 1.53243
A25: =C25&"-"&E25 -> להבים-מט"ש | B25: 26 | C25: =C24 -> להבים | E25: מט"ש | F25: 1.5 | G25: 38275 | J25: =F25*$D$1/$I$27 -> 1.8537459
A26: =C26&"-"&E26 -> להבים-החזר הון | B26: 26 | C26: =C25 -> להבים | E26: החזר הון | F26: 0.26 | G26: 38275 | J26: =F26*$D$1/$I$27 -> 0.32131596
A27: =C27&"-"&E27 -> להבים-ס"ה | B27: 26 | C27: =C26 -> להבים | E27: ס"ה | F27: =SUM(F24:F26) -> 3 | H27: 38231 | I27: =מדדים!E60 -> 27520066 | J27: =F27*$D$1/$I$27 -> 3.7074919 | K27: 5.684 | L27: 11.121 | M27: =J27+K27 -> 9.3914919 | N27: =J27+L27 -> 14.828492
A28: =C28&"-"&E28 -> אליכין-אגרה | B28: 31 | C28: אליכין | D28: כל הנכסים | E28: אגרה | F28: 0.93 | G28: 38214 | J28: =F28*$D$1/$I$30 -> 1.1493225
A29: =C29&"-"&E29 -> אליכין-מט"ש | B29: 31 | C29: =C28 -> אליכין | E29: מט"ש | F29: 2.06 | G29: 38214 | J29: =F29*$D$1/$I$30 -> 2.5458111
A30: =C30&"-"&E30 -> אליכין-ס"ה | B30: 31 | C30: =C29 -> אליכין | E30: ס"ה | F30: =SUM(F28:F29) -> 2.99 | H30: 38169 | I30: =מדדים!G60 -> 27520066 | J30: =F30*$D$1/$I$30 -> 3.6951336 | K30: 5.684 | L30: 11.121 | M30: =J30+K30 -> 9.3791336 | N30: =J30+L30 -> 14.816134
A31: =C31&"-"&E31 -> נהריה-אגרה | B31: 2 | C31: נהריה | D31: מגורים ולשימוש | E31: אגרה | F31: 1.6 | G31: 37787 | J31: =F31*$D$1/$I$33 -> 1.9617288
A32: =C32&"-"&E32 -> נהריה-מט"ש | B32: 2 | C32: נהריה | D32: אחר שאינו תעשייה | E32: מט"ש | F32: 1.4 | G32: 37787 | J32: =F32*$D$1/$I$33 -> 1.7165127
A33: =C33&"-"&E33 -> נהריה-ס"ה | B33: 2 | C33: נהריה | E33: ס"ה | F33: =SUM(F31:F32) -> 3 | H33: 37742 | I33: =מדדים!I59 -> 27738913 | J33: =F33*$D$1/$I$33 -> 3.6782415 | K33: 5.684 | L33: 11.121 | M33: =J33+K33 -> 9.3622415 | N33: =J33+L33 -> 14.799241
A34: =C34&"-"&E34 -> סביון-אגרה | B34: 32 | C34: סביון | D34: מגורים | E34: אגרה | F34: 0.9 | G34: 32827 | H34: 32782 | I34: =מדדים!D45 -> 9207739.5 | J34: =F34*$D$1/I34 -> 3.3242824 | K34: 5.684 | L34: 11.121 | M34: =J34+K34 -> 9.0082824 | N34: =J34+L34 -> 14.445282
A35: =C35&"-"&E35 -> רחובות- | B35: 1 | C35: רחובות | D35: מגורים | F35: 2.46 | G35: 36937 | H35: 36892 | I35: =מדדים!M57 -> 25511710 | J35: =F35*$D$1/I35 -> 3.2794722 | K35: 5.684 | L35: 11.121 | M35: =J35+K35 -> 8.9634722 | N35: =J35+L35 -> 14.400472
A36: =C36&"-"&E36 -> בני עי"ש-אגרה | B36: 24 | C36: בני עי"ש | D36: כל הנכסים | E36: אגרה | F36: 1.67 | G36: 36295 | H36: 36251 | I36: =מדדים!J55 -> 25036404 | J36: =F36*$D$1/I36 -> 2.268574
A37: =C37&"-"&E37 -> בני עי"ש-מט"ש | B37: 24 | C37: =C36 -> בני עי"ש | E37: מט"ש | F37: 0.74 | G37: 38183 | H37: 38139 | I37: =מדדים!H60 -> 27574778 | J37: =F37*$D$1/I37 -> 0.91270015
A38: =C38&"-"&E38 -> בני עי"ש-ס"ה | B38: 24 | C38: =C37 -> בני עי"ש | E38: ס"ה | J38: =J37+J36 -> 3.1812741 | K38: 5.684 | L38: 11.121 | M38: =J38+K38 -> 8.8652741 | N38: =J38+L38 -> 14.302274
A39: =C39&"-"&E39 -> פרדס חנה-כרכור-אגרה | B39: 4 | C39: פרדס חנה-כרכור | D39: כל נכס פרט לנכס המשמש לתעשיה | E39: אגרה | F39: 1.54 | G39: 34745 | H39: 34700 | I39: =מדדים!M51 -> 18256853 | J39: =F39*$D$1/I39 -> 2.8688195 | K39: 5.684 | L39: 11.121 | M39: =J39+K39 -> 8.5528195 | N39: =J39+L39 -> 13.989819
A40: =C40&"-"&E40 -> קריית מלאכי-אגרה | B40: 10 | C40: קריית מלאכי | D40: כל הנכסים פרט | E40: אגרה | F40: 1.15 | G40: 37970 | J40: =F40*$D$1/$I$42 -> 1.4354744
A41: =C41&"-"&E41 -> קריית מלאכי-מט"ש | B41: 10 | C41: =C40 -> קריית מלאכי | D41: לתעשייה | E41: מט"ש | F41: 1.15 | G41: 37970 | J41: =F41*$D$1/$I$42 -> 1.4354744
A42: =C42&"-"&E42 -> קריית מלאכי-ס"ה | B42: 10 | C42: =C41 -> קריית מלאכי | E42: ס"ה | F42: =SUM(F40:F41) -> 2.3 | H42: 37926 | I42: =מדדים!C59 -> 27246507 | J42: =F42*$D$1/$I$42 -> 2.8709487 | K42: 5.684 | L42: 11.121 | M42: =J42+K42 -> 8.5549487 | N42: =J42+L42 -> 13.991949
A43: =C43&"-"&E43 -> עומר-אגרה | B43: 23 | C43: עומר | D43: כל הנכסים | E43: אגרה | F43: 2.1 | G43: 21.12.2000 לפי מועד תחילה | H43: 36831 | I43: =מדדים!C56 -> 25686387 | J43: =F43*$D$1/I43 -> 2.7805115 | K43: 5.684 | L43: 11.121 | M43: =J43+K43 -> 8.4645115 | N43: =J43+L43 -> 13.901511
A44: =C44&"-"&E44 -> כפר תבור-אגרה | B44: 33 | C44: כפר תבור | D44: כל הנכסים | E44: אגרה | F44: 0.56 | G44: 38001 | J44: =F44*$D$1/$I$47 -> 0.70042006
A45: =C45&"-"&E45 -> כפר תבור-מט"ש | B45: 33 | C45: =C44 -> כפר תבור | E45: מט"ש | F45: 1.2 | G45: 38001 | J45: =F45*$D$1/$I$47 -> 1.5009001
A46: =C46&"-"&E46 -> כפר תבור-שיקום המערכת | B46: 33 | C46: =C45 -> כפר תבור | E46: שיקום המערכת | F46: 0.44 | G46: 38001 | J46: =F46*$D$1/$I$47 -> 0.55033005
A47: =C47&"-"&E47 -> כפר תבור-סה | B47: 33 | C47: =C46 -> כפר תבור | E47: סה | F47: =SUM(F44:F46) -> 2.2 | H47: 37956 | I47: =מדדים!B59 -> 27191795 | J47: =F47*$D$1/$I$47 -> 2.7516502 | K47: 5.684 | L47: 11.121 | M47: =J47+K47 -> 8.4356502 | N47: =J47+L47 -> 13.87265
A48: =C48&"-"&E48 -> בנימינה- גבעת עדה-אגרה | B48: 19 | C48: בנימינה- גבעת עדה | D48: לכל נכס למעט תעשיה או מלאכה | E48: אגרה | F48: 1.51 | G48: 34987 | H48: 34943 | I48: =מדדים!E51 -> 19140004 | J48: =F48*$D$1/I48 -> 2.6831401 | K48: 5.684 | L48: 11.121 | M48: =J48+K48 -> 8.3671401 | N48: =J48+L48 -> 13.80414
A49: =C49&"-"&E49 -> אור עקיבא-אגרה | B49: 16 | C49: אור עקיבא | D49: כל הנכסים למעט תעשיה | E49: אגרה | F49: 1.8 | G49: 35749 | H49: 35704 | I49: =מדדים!D53 -> 23449169 | J49: =F49*$D$1/I49 -> 2.610679 | K49: 5.684 | L49: 11.121 | M49: =J49+K49 -> 8.294679 | N49: =J49+L49 -> 13.731679
A50: =C50&"-"&E50 -> גבעת שמואל-אגרה | B50: 8 | C50: גבעת שמואל | D50: כל הנכסים | E50: אגרה | F50: 1.94 | G50: לפי תאריך פרסום 10.12.2001 | H50: 37165 | I50: =מדדים!D57 -> 26203293 | J50: =F50*$D$1/I50 -> 2.5179916 | K50: 5.684 | L50: 11.121 | M50: =J50+K50 -> 8.2019916 | N50: =J50+L50 -> 13.638992
A51: =C51&"-"&E51 -> גדרה-אגרה | B51: 6 | C51: גדרה | D51: מגורים,חקלאות | E51: אגרה | F51: 1.18 | G51: 37970 | J51: =F51*$D$1/$I$53 -> 1.4729215
A52: =C52&"-"&E52 -> גדרה-מט"ש | B52: 6 | C52: =C51 -> גדרה | D52: לבניה | E52: מט"ש | F52: 0.81 | G52: 37970 | J52: =F52*$D$1/$I$53 -> 1.0110732
A53: =C53&"-"&E53 -> גדרה-ס"ה | B53: 6 | C53: =C52 -> גדרה | E53: ס"ה | F53: =SUM(F51:F52) -> 1.99 | H53: 37926 | I53: =מדדים!C59 -> 27246507 | J53: =F53*$D$1/$I$53 -> 2.4839947 | K53: 5.684 | L53: 11.121 | M53: =J53+K53 -> 8.1679947 | N53: =J53+L53 -> 13.604995
A54: =C54&"-"&E54 -> קריית יערים-אגרה | B54: 30 | C54: קריית יערים | D54: כל הנכסים | E54: אגרה | F54: 1.67 | G54: 37302 | J54: =F54*$D$1/$I$56 -> 2.1591072
A55: =C55&"-"&E55 -> קריית יערים-קרן פחת | B55: 30 | C55: =C54 -> קריית יערים | E55: קרן פחת | F55: 0.25 | G55: 37302 | J55: =F55*$D$1/$I$56 -> 0.32321965
A56: =C56&"-"&E56 -> קריית יערים-ס"ה | B56: 30 | C56: =C55 -> קריית יערים | E56: ס"ה | F56: =SUM(F54:F55) -> 1.92 | H56: 37257 | I56: =מדדים!M58 -> 26305750 | J56: =F56*$D$1/$I$56 -> 2.4823269 | K56: 5.684 | L56: 11.121 | M56: =J56+K56 -> 8.1663269 | N56: =J56+L56 -> 13.603327
A57: =C57&"-"&E57 -> ראש פינה-אגרה | B57: 35 | C57: ראש פינה | D57: נכס למגורים | E57: אגרה | F57: =0.81+F58 -> 1.68 | G57: 37848 | J57: =F57*$D$1/$I$59 -> 2.0865661
A58: =C58&"-"&E58 -> ראש פינה-ביב מאסף | B58: 35 | C58: =C57 -> ראש פינה | E58: ביב מאסף | F58: 0.87 | G58: 37848 | J58: =F58*$D$1/$I$59 -> 1.0805431
A59: =C59&"-"&E59 -> ראש פינה-ס"ה | B59: 35 | C59: =C58 -> ראש פינה | E59: ס"ה | F59: =SUM(F57:F58) -> 2.55 | H59: 37803 | I59: =מדדים!G59 -> 27383286 | J59: =F59*$D$1/$I$59 -> 3.1671092 | K59: 5.684 | L59: 11.121 | M59: =J59+K59 -> 8.8511092 | N59: =J59+L59 -> 14.288109
A60: =C60&"-"&E60 -> עין קניה-אגרה | B60: 37 | C60: עין קניה | D60: כל הנכסים | E60: אגרה | F60: 1.01 | G60: 38457 | J60: =F60*$D$1/$I$62 -> 1.2556781
A61: =C61&"-"&E61 -> עין קניה-מט"ש | B61: 37 | C61: =C60 -> עין קניה | E61: מט"ש | F61: 0.62 | G61: 38457 | J61: =F61*$D$1/$I$62 -> 0.77081228
A62: =C62&"-"&E62 -> עין קניה-ס"ה | B62: 37 | C62: =C61 -> עין קניה | E62: ס"ה | F62: =SUM(F60:F61) -> 1.63 | H62: 38412 | I62: =מדדים!K61 -> 27355930 | J62: =F62*$D$1/$I$62 -> 2.0264903 | K62: 5.684 | L62: 11.121 | M62: =J62+K62 -> 7.7104903 | N62: =J62+L62 -> 13.14749
A63: =C63&"-"&E63 -> טירת כרמל-אגרה | B63: 14 | C63: טירת כרמל | D63: נכס אחר | E63: אגרה | F63: 1.56 | G63: 37605 | H63: 37561 | I63: =מדדים!C58 -> 27791371 | J63: =F63*$D$1/I63 -> 1.9090753 | K63: 5.684 | L63: 11.121 | M63: =J63+K63 -> 7.5930753 | N63: =J63+L63 -> 13.030075
A64: =C64&"-"&E64 -> באר יעקב-אגרה | B64: 18 | C64: באר יעקב | D64: כל נכס אחר למעט מסחר תעשיה ומלאכה | E64: אגרה | F64: 1.393 | G64: 36295 | H64: 36251 | I64: =מדדים!J55 -> 25036404 | J64: =F64*$D$1/I64 -> 1.8922896 | K64: 5.684 | L64: 11.121 | M64: =J64+K64 -> 7.5762896 | N64: =J64+L64 -> 13.01329
A65: =C65&"-"&E65 -> בית שאן-אגרה | B65: 15 | C65: בית שאן | D65: מגורים או מלאכה | E65: אגרה | F65: 0.25 | G65: 28.9.1986 מועד תחילה | H65: 31625 | I65: =מדדים!F42 -> 5304389.3 | J65: =F65*$D$1/I65 -> 1.6029244 | K65: 5.684 | L65: 11.121 | M65: =J65+K65 -> 7.2869244 | N65: =J65+L65 -> 12.723924
A66: =C66&"-"&E66 -> זכרון יעקב-אגרה | B66: 11 | C66: זכרון יעקב | D66: לכל צריכה למעט חקלאות ובניה | E66: אגרה | F66: 1.5 | G66: 21.9.1978 מועד תחילה | H66: אוגוסט 1978 בלירות | I66: =מדדים!F34 -> 3889.4239 | J66: =F66/10000*$D$1/I66 -> 1.3116393 | K66: 5.684 | L66: 11.121 | M66: =J66+K66 -> 6.9956393 | N66: =J66+L66 -> 12.432639
A67: =C67&"-"&E67 -> קציר-חריש-אגרה | B67: 29 | C67: קציר-חריש | D67: כל הנכסים | E67: אגרה | F67: 0.7 | G67: 35535 | H67: 35490 | I67: =מדדים!K53 -> 22352844 | J67: =F67*$D$1/I67 -> 1.065059 | K67: 5.684 | L67: 11.121 | M67: =J67+K67 -> 6.749059 | N67: =J67+L67 -> 12.186059
A68: =C68&"-"&E68 -> מעיליא-אגרה | B68: 34 | C68: מעיליא | D68: לכל מ"ק למעט חקלאות | E68: אגרה | F68: 0.82 | H68: 38869 | I68: =מדדים!H62 -> 28614303 | J68: =F68*$D$1/I68 -> 0.97462849 | K68: 5.684 | L68: 11.121 | M68: =J68+K68 -> 6.6586285 | N68: =J68+L68 -> 12.095628
A69: =C69&"-"&E69 -> מיתר-אגרה | B69: 25 | C69: מיתר | D69: כל הנכסים | E69: אגרה | F69: 0.2 | G69: לפי תאריך פרסום 20.11.1988 | H69: 32417 | I69: =מדדים!D44 -> 7647958.5 | J69: =F69*$D$1/I69 -> 0.88939134 | K69: 5.684 | L69: 11.121 | M69: =J69+K69 -> 6.5733913 | N69: =J69+L69 -> 12.010391
A70: =C70&"-"&E70 -> כפר שמריהו-אגרה | B70: 36 | C70: כפר שמריהו | D70: כל הנכסים | E70: אגרה | F70: 0.71 | G70: 39128 | H70: 39083 | I70: =מדדים!M63 -> 28111501 | J70: =F70*$D$1/I70 -> 0.85897937 | K70: 5.684 | L70: 11.121 | M70: =J70+K70 -> 6.5429794 | N70: =J70+L70 -> 11.979979
A71: =C71&"-"&E71 -> נשר-אגרה | B71: 7 | C71: נשר | D71: מגורים | E71: אגרה | F71: 0.18 | G71: 26.4.1990 לפי תעריף תחילה | H71: 32933 | I71: =מדדים!K46 -> 9698315.8 | J71: =F71*$D$1/I71 -> 0.6312256 | K71: 5.684 | L71: 11.121 | M71: =J71+K71 -> 6.3152256 | N71: =J71+L71 -> 11.752226
A72: =C72&"-"&E72 -> שדרות- | B72: 9 | C72: שדרות | D72: האגרה נקובה בלירות - כנראה בטעות | F72: 0.3 | G72: לפי מועד תיקונים 10.12.2001 | H72: 37165 | I72: =מדדים!D57 -> 26203293 | J72: =F72*$D$1/I72 -> 0.38938015 | K72: 5.684 | L72: 11.121 | M72: =J72+K72 -> 6.0733802 | N72: =J72+L72 -> 11.51038
A73: =C73&"-"&E73 -> קלנסואה- | B73: 12 | C73: קלנסואה | D73: חוק העזר מתייחס להיטל ביוב ולא לאגרת ביוב
A74: =C74&"-"&E74 -> שהם- | B74: 13 | C74: שהם | D74: חוק העזר מתייחס להיטל ביוב ולא לאגרת ביוב
A75: =C75&"-"&E75 -> דלית אל כרמל- | B75: 17 | C75: דלית אל כרמל
A76: =C76&"-"&E76 -> פורדיס- | B76: 21 | C76: פורדיס | D76: חוק העזר מתייחס להיטל ביוב ולא לאגרת ביוב
A77: =C77&"-"&E77 -> עספייה- | B77: 22 | C77: עספייה
A78: =C78&"-"&E78 -> כעביה-טבאש- | B78: 28 | C78: כעביה-טבאש
A79: =C79&"-"&E79 -> זמר- | B79: 38 | C79: זמר | D79: חוק העזר מתייחס להיטל ביוב ולא לאגרת ביוב
C80: ממוצע | J80: =AVERAGE(J8:J79) -> 1.9704577 | K80: =AVERAGE(K8:K79) -> 5.684 | L80: =AVERAGE(L8:L79) -> 11.121 | M80: =AVERAGE(M8:M79) -> 8.2593103 | N80: =AVERAGE(N8:N79) -> 13.69631

Sheet מטש
A3: דו"ח אדן - אוקטובר 2006
A4: למ"ק ביוב
A5: ירוד | D5: בסיסי | F5: ללא מגבלות | H5: איכות נדרשת (נחל) | L5: בסיסי | N5: ללא מגבלות
B6: גודל מט"ש | D6: גודל מט"ש | F6: גודל מט"ש | H6: גודל מט"ש | L6: גודל מט"ש | N6: גודל מט"ש
B7: קטן | C7: גדול | D7: קטן | E7: גדול | F7: קטן | G7: גדול | H7: קטן | I7: גדול | L7: קטן | M7: גדול | N7: קטן | O7: גדול
A8: הון | B8: 0.4 | C8: 0.3 | D8: 0.88 | E8: 0.47 | F8: 1.1 | G8: 0.66 | H8: 1.3 | I8: 0.8 | K8: הון | L8: =D8/($D$13+0.07) -> 0.44444444 | M8: =E8/($E$13+0.07) -> 0.35074627 | N8: =F8/($F$13+0.07) -> 0.44715447 | O8: =G8/($G$13+0.07) -> 0.37714286
A9: אנרגיה | B9: 0.15 | C9: 0.12 | D9: 0.25 | E9: 0.2 | F9: 0.3 | G9: 0.23 | H9: 0.35 | I9: 0.28 | K9: אנרגיה | L9: =D9/($D$13+0.07) -> 0.12626263 | M9: =E9/($E$13+0.07) -> 0.14925373 | N9: =F9/($F$13+0.07) -> 0.12195122 | O9: =G9/($G$13+0.07) -> 0.13142857
A10: כימיכלים | F10: 0.06 | G10: 0.06 | H10: 0.15 | I10: 0.15 | K10: כימיכלים | L10: =D10/($D$13+0.07) -> 0 | M10: =E10/($E$13+0.07) -> 0 | N10: =F10/($F$13+0.07) -> 0.024390244 | O10: =G10/($G$13+0.07) -> 0.034285714
A11: בוצה | D11: 0.23 | E11: 0.23 | F11: 0.35 | G11: 0.35 | H11: 0.42 | I11: 0.42 | K11: בוצה | L11: =D11/($D$13+0.07) -> 0.11616162 | M11: =E11/($E$13+0.07) -> 0.17164179 | N11: =F11/($F$13+0.07) -> 0.14227642 | O11: =G11/($G$13+0.07) -> 0.2
A12: קבועות | B12: 0.3 | C12: 0.15 | D12: 0.55 | E12: 0.37 | F12: 0.58 | G12: 0.38 | H12: 0.6 | I12: 0.4 | K12: קבועות | L12: =D12/($D$13+0.07) -> 0.27777778 | M12: =E12/($E$13+0.07) -> 0.2761194 | N12: =F12/($F$13+0.07) -> 0.23577236 | O12: =G12/($G$13+0.07) -> 0.21714286
A13: סה"כ | B13: =SUM(B8:B12) -> 0.85 | C13: =SUM(C8:C12) -> 0.57 | D13: =SUM(D8:D12) -> 1.91 | E13: =SUM(E8:E12) -> 1.27 | F13: =SUM(F8:F12) -> 2.39 | G13: =SUM(G8:G12) -> 1.68 | H13: =SUM(H8:H12) -> 2.82 | I13: =SUM(I8:I12) -> 2.05
A15: בתוספת 13%
A16: למ"ק ביוב
A17: ירוד | D17: בסיסי | F17: ללא מגבלות | H17: איכות נדרשת (נחל)
B18: גודל מט"ש | D18: גודל מט"ש | F18: גודל מט"ש | H18: גודל מט"ש
B19: קטן | C19: גדול | D19: קטן | E19: גדול | F19: קטן | G19: גדול | H19: קטן | I19: גדול
A20: הון | B20: =+B8*1.13 -> 0.452 | C20: =+C8*1.13 -> 0.339 | D20: =+D8*1.13 -> 0.9944 | E20: =+E8*1.13 -> 0.5311 | F20: =+F8*1.13 -> 1.243 | G20: =+G8*1.13 -> 0.7458 | H20: =+H8*1.13 -> 1.469 | I20: =+I8*1.13 -> 0.904
A21: אנרגיה | B21: =+B9*1.13 -> 0.1695 | C21: =+C9*1.13 -> 0.1356 | D21: =+D9*1.13 -> 0.2825 | E21: =+E9*1.13 -> 0.226 | F21: =+F9*1.13 -> 0.339 | G21: =+G9*1.13 -> 0.2599 | H21: =+H9*1.13 -> 0.3955 | I21: =+I9*1.13 -> 0.3164
A22: כימיכלים | B22: =+B10*1.13 -> 0 | C22: =+C10*1.13 -> 0 | D22: =+D10*1.13 -> 0 | E22: =+E10*1.13 -> 0 | F22: =+F10*1.13 -> 0.0678 | G22: =+G10*1.13 -> 0.0678 | H22: =+H10*1.13 -> 0.1695 | I22: =+I10*1.13 -> 0.1695
A23: בוצה | B23: =+B11*1.13 -> 0 | C23: =+C11*1.13 -> 0 | D23: =+D11*1.13 -> 0.2599 | E23: =+E11*1.13 -> 0.2599 | F23: =+F11*1.13 -> 0.3955 | G23: =+G11*1.13 -> 0.3955 | H23: =+H11*1.13 -> 0.4746 | I23: =+I11*1.13 -> 0.4746
A24: קבועות | B24: =+B12*1.13 -> 0.339 | C24: =+C12*1.13 -> 0.1695 | D24: =+D12*1.13 -> 0.6215 | E24: =+E12*1.13 -> 0.4181 | F24: =+F12*1.13 -> 0.6554 | G24: =+G12*1.13 -> 0.4294 | H24: =+H12*1.13 -> 0.678 | I24: =+I12*1.13 -> 0.452
A25: סה"כ | B25: =SUM(B20:B24) -> 0.9605 | C25: =SUM(C20:C24) -> 0.6441 | D25: =SUM(D20:D24) -> 2.1583 | E25: =SUM(E20:E24) -> 1.4351 | F25: =SUM(F20:F24) -> 2.7007 | G25: =SUM(G20:G24) -> 1.8984 | H25: =SUM(H20:H24) -> 3.1866 | I25: =SUM(I20:I24) -> 2.3165
A29: למ"ק מים
A30: ירוד | D30: בסיסי | F30: ללא מגבלות | H30: איכות נדרשת (נחל)
B31: גודל מט"ש | D31: גודל מט"ש | F31: גודל מט"ש | H31: גודל מט"ש
B32: קטן | C32: גדול | D32: קטן | E32: גדול | F32: קטן | G32: גדול | H32: קטן | I32: גדול
A33: הון | B33: =+B20*0.75 -> 0.339 | C33: =+C20*0.75 -> 0.25425 | D33: =+D20*0.75 -> 0.7458 | E33: =+E20*0.75 -> 0.398325 | F33: =+F20*0.75 -> 0.93225 | G33: =+G20*0.75 -> 0.55935 | H33: =+H20*0.75 -> 1.10175 | I33: =+I20*0.75 -> 0.678
A34: אנרגיה | B34: =+B21*0.75 -> 0.127125 | C34: =+C21*0.75 -> 0.1017 | D34: =+D21*0.75 -> 0.211875 | E34: =+E21*0.75 -> 0.1695 | F34: =+F21*0.75 -> 0.25425 | G34: =+G21*0.75 -> 0.194925 | H34: =+H21*0.75 -> 0.296625 | I34: =+I21*0.75 -> 0.2373
A35: כימיכלים | B35: =+B22*0.75 -> 0 | C35: =+C22*0.75 -> 0 | D35: =+D22*0.75 -> 0 | E35: =+E22*0.75 -> 0 | F35: =+F22*0.75 -> 0.05085 | G35: =+G22*0.75 -> 0.05085 | H35: =+H22*0.75 -> 0.127125 | I35: =+I22*0.75 -> 0.127125
A36: בוצה | B36: =+B23*0.75 -> 0 | C36: =+C23*0.75 -> 0 | D36: =+D23*0.75 -> 0.194925 | E36: =+E23*0.75 -> 0.194925 | F36: =+F23*0.75 -> 0.296625 | G36: =+G23*0.75 -> 0.296625 | H36: =+H23*0.75 -> 0.35595 | I36: =+I23*0.75 -> 0.35595
A37: קבועות | B37: =+B24*0.75 -> 0.25425 | C37: =+C24*0.75 -> 0.127125 | D37: =+D24*0.75 -> 0.466125 | E37: =+E24*0.75 -> 0.313575 | F37: =+F24*0.75 -> 0.49155 | G37: =+G24*0.75 -> 0.32205 | H37: =+H24*0.75 -> 0.5085 | I37: =+I24*0.75 -> 0.339
A38: סה"כ | B38: =SUM(B33:B37) -> 0.720375 | C38: =SUM(C33:C37) -> 0.483075 | D38: =SUM(D33:D37) -> 1.618725 | E38: =SUM(E33:E37) -> 1.076325 | F38: =SUM(F33:F37) -> 2.025525 | G38: =SUM(G33:G37) -> 1.4238 | H38: =SUM(H33:H37) -> 2.38995 | I38: =SUM(I33:I37) -> 1.737375
A40: תפעול בלבד | B40: =B38-B33 -> 0.381375 | C40: =C38-C33 -> 0.228825 | D40: =D38-D33 -> 0.872925 | E40: =E38-E33 -> 0.678 | F40: =F38-F33 -> 1.093275 | G40: =G38-G33 -> 0.86445 | H40: =H38-H33 -> 1.2882 | I40: =I38-I33 -> 1.059375
B43: יחס קולחין למים | D43: 0.75

Sheet אשכול חברתי
A1: שם הרשות המקומית | B1: אשכול חברתי-כלכלי 2008 (1 נמוך, 10 גבוה) | C1: סוציו חדש | E1: מס' תושבים
A2: אבו גוש | B2: 3 | C2: =+VLOOKUP(A2,#REF!,3,0) -> #REF! | D2: =+C2-B2 -> #REF! | E2: 5279
A3: אבו סנאן | B3: 3 | C3: =+VLOOKUP(A3,#REF!,3,0) -> #REF! | D3: =+C3-B3 -> #REF! | E3: 10948
A4: אבן יהודה | B4: 8 | C4: =+VLOOKUP(A4,#REF!,3,0) -> #REF! | D4: =+C4-B4 -> #REF! | E4: 8675
A5: אום אל-פחם | B5: 2 | C5: =+VLOOKUP(A5,#REF!,3,0) -> #REF! | D5: =+C5-B5 -> #REF! | E5: 39046
A6: אופקים | B6: 3 | C6: =+VLOOKUP(A6,#REF!,3,0) -> #REF! | D6: =+C6-B6 -> #REF! | E6: 23694
A7: אור יהודה | B7: 5 | C7: =+VLOOKUP(A7,#REF!,3,0) -> #REF! | D7: =+C7-B7 -> #REF! | E7: 29421
A8: אור עקיבא | B8: 4 | C8: =+VLOOKUP(A8,#REF!,3,0) -> #REF! | D8: =+C8-B8 -> #REF! | E8: 15673
A9: אורנית | B9: 8 | C9: =+VLOOKUP(A9,#REF!,3,0) -> #REF! | D9: =+C9-B9 -> #REF! | E9: 5316
A10: אזור | B10: 6 | C10: =+VLOOKUP(A10,#REF!,3,0) -> #REF! | D10: =+C10-B10 -> #REF! | E10: 9895
A11: אילת | B11: 5 | C11: =+VLOOKUP(A11,#REF!,3,0) -> #REF! | D11: =+C11-B11 -> #REF! | E11: 43547
A12: אכסאל | B12: 2 | C12: =+VLOOKUP(A12,#REF!,3,0) -> #REF! | D12: =+C12-B12 -> #REF! | E12: 10623
A13: אליכין | B13: 5 | C13: =+VLOOKUP(A13,#REF!,3,0) -> #REF! | D13: =+C13-B13 -> #REF! | E13: 2499
... A53: גני תקווה | B53: 8 | C53: =+VLOOKUP(A53,#REF!,3,0) -> #REF! | D53: =+C53-B53 -> #REF! | E53: 11843
A54: דלית אל כרמל | B54: 3 | C54: =+VLOOKUP(#REF!,#REF!,3,0) -> #REF! | D54: =+C54-B54 -> #REF! | E54: 23219
A55: דבורייה | B55: 2 | C55: =+VLOOKUP(A55,#REF!,3,0) -> #REF! | D55: =+C55-B55 -> #REF! | E55: 7902
A56: דיר אלאסד | B56: 2 | C56: =+VLOOKUP(A56,#REF!,3,0) -> #REF! | D56: =+C56-B56 -> #REF! | E56: 0
A57: דיר חנא | B57: 3 | C57: =+VLOOKUP(A57,#REF!,3,0) -> #REF! | D57: =+C57-B57 -> #REF! | E57: 8166
A58: דימונה | B58: 4 | C58: =+VLOOKUP(A58,#REF!,3,0) -> #REF! | D58: =+C58-B58 -> #REF! | E58: 33896
A59: הוד השרון | B59: 8 | C59: =+VLOOKUP(A59,#REF!,3,0) -> #REF! | D59: =+C59-B59 -> #REF! | E59: 40173
A60: הר אדר | B60: 9 | C60: =+VLOOKUP(A60,#REF!,3,0) -> #REF! | D60: =+C60-B60 -> #REF! | E60: 1839
A61: הרצליה | B61: 8 | C61: =+VLOOKUP(A61,#REF!,3,0) -> #REF! | D61: =+C61-B61 -> #REF! | E61: 83644
A62: זכרון יעקב | B62: 8 | C62: =+VLOOKUP(A62,#REF!,3,0) -> #REF! | D62: =+C62-B62 -> #REF! | E62: 14990
A63: זמר | B63: 3 | C63: =+VLOOKUP(A63,#REF!,3,0) -> #REF! | D63: =+C63-B63 -> #REF! | E63: 4909
A64: זרזיר | B64: 2 | C64: =+VLOOKUP(A64,#REF!,3,0) -> #REF! | D64: =+C64-B64 -> #REF! | E64: 5946
A65: חדרה | B65: 5 | C65: =+VLOOKUP(A65,#REF!,3,0) -> #REF! | D65: =+C65-B65 -> #REF! | E65: 74920
A66: חולון | B66: 5 | C66: =+VLOOKUP(A66,#REF!,3,0) -> #REF! | D66: =+C66-B66 -> #REF! | E66: 165773
... A140: סכנין | B140: 2 | C140: =+VLOOKUP(A140,#REF!,3,0) -> #REF! | D140: =+C140-B140 -> #REF! | E140: 23224
A141: ע'ג'ר | B141: .. | C141: =+VLOOKUP(A141,#REF!,3,0) -> #REF! | D141: =+C141-B141 -> #REF! | E141: 1905
A142: עומר | B142: 10 | C142: =+VLOOKUP(A142,#REF!,3,0) -> #REF! | D142: =+C142-B142 -> #REF! | E142: 5906
A143: עילבון | B143: 4 | C143: =+VLOOKUP(A143,#REF!,3,0) -> #REF! | D143: =+C143-B143 -> #REF! | E143: 4139
A144: עילוט | B144: 2 | C144: =+VLOOKUP(A144,#REF!,3,0) -> #REF! | D144: =+C144-B144 -> #REF! | E144: 6192
A145: עין מאהל | B145: 2 | C145: =+VLOOKUP(A145,#REF!,3,0) -> #REF! | D145: =+C145-B145 -> #REF! | E145: 10136
A146: עין קיניא | B146: 2 | C146: =+VLOOKUP(A146,#REF!,3,0) -> #REF! | D146: =+C146-B146 -> #REF! | E146: 1758
A147: עכו | B147: 4 | C147: =+VLOOKUP(A147,#REF!,3,0) -> #REF! | D147: =+C147-B147 -> #REF! | E147: 45639
A148: עמנואל | B148: 2 | C148: =+VLOOKUP(A148,#REF!,3,0) -> #REF! | D148: =+C148-B148 -> #REF! | E148: 2455
A149: עוספיה | B149: 4 | C149: =+VLOOKUP(A149,#REF!,3,0) -> #REF! | D149: =+C149-B149 -> #REF! | E149: 0
A150: עפולה | B150: 5 | C150: =+VLOOKUP(A150,#REF!,3,0) -> #REF! | D150: =+C150-B150 -> #REF! | E150: 38862
A151: עראבה | B151: 2 | C151: =+VLOOKUP(A151,#REF!,3,0) -> #REF! | D151: =+C151-B151 -> #REF! | E151: 18533
A152: ערד | B152: 5 | C152: =+VLOOKUP(A152,#REF!,3,0) -> #REF! | D152: =+C152-B152 -> #REF! | E152: 24140
A153: ערערה | B153: 2 | C153: =+VLOOKUP(A153,#REF!,3,0) -> #REF! | D153: =+C153-B153 -> #REF! | E153: 14866
... A202: תל שבע | B202: 1 | C202: =+VLOOKUP(A202,#REF!,3,0) -> #REF! | D202: =+C202-B202 -> #REF! | E202: 11916
