Workbook

Sheet תעריף ביוב רשויות 
C1: ביוב כולל מע"מ | D1: מקורות נמוך | E1: מקורות גבוה | F1: ביוב לפני מע"מ | H1: 0.17
A2: 1 | B2: אור עקיבא | C2: =F2*(1+$H$1) -> 3.7764407 | D2: =+VLOOKUP(B2,'תעריף רכישה רשויות '!$B:$G,3,0) -> 1.8351812 | E2: =+VLOOKUP(B2,'תעריף רכישה רשויות '!$B:$G,2,0) -> 5.7738672 | F2: =+VLOOKUP(B2,'תעריף רכישה רשויות '!$B:$G,5,0) -> 3.2277271
A3: 2 | B3: אליכין | C3: =F3*(1+$H$1) -> 2.7613141 | D3: =+VLOOKUP(B3,'תעריף רכישה רשויות '!$B:$G,3,0) -> 2.6299733 | E3: =+VLOOKUP(B3,'תעריף רכישה רשויות '!$B:$G,2,0) -> 6.5686593 | F3: =+VLOOKUP(B3,'תעריף רכישה רשויות '!$B:$G,5,0) -> 2.3600975
A4: 3 | B4: באר יעקב | C4: =F4*(1+$H$1) -> 2.7916634 | D4: =+VLOOKUP(B4,'תעריף רכישה רשויות '!$B:$G,3,0) -> 2.6062113 | E4: =+VLOOKUP(B4,'תעריף רכישה רשויות '!$B:$G,2,0) -> 6.5448973 | F4: =+VLOOKUP(B4,'תעריף רכישה רשויות '!$B:$G,5,0) -> 2.3860371
A5: 4 | B5: בית שאן | C5: =F5*(1+$H$1) -> 2.7721385 | D5: =+VLOOKUP(B5,'תעריף רכישה רשויות '!$B:$G,3,0) -> 2.6214983 | E5: =+VLOOKUP(B5,'תעריף רכישה רשויות '!$B:$G,2,0) -> 6.5601843 | F5: =+VLOOKUP(B5,'תעריף רכישה רשויות '!$B:$G,5,0) -> 2.3693492
A6: 5 | B6: בנימינה - גבעת עדה | C6: =F6*(1+$H$1) -> 3.7764407 | D6: =+VLOOKUP(B6,'תעריף רכישה רשויות '!$B:$G,3,0) -> 1.8351812 | E6: =+VLOOKUP(B6,'תעריף רכישה רשויות '!$B:$G,2,0) -> 5.7738672 | F6: =+VLOOKUP(B6,'תעריף רכישה רשויות '!$B:$G,5,0) -> 3.2277271
A7: 6 | B7: גבעת שמואל | C7: =F7*(1+$H$1) -> 4.3981113 | D7: =+VLOOKUP(B7,'תעריף רכישה רשויות '!$B:$G,3,0) -> 1.348445 | E7: =+VLOOKUP(B7,'תעריף רכישה רשויות '!$B:$G,2,0) -> 5.287131 | F7: =+VLOOKUP(B7,'תעריף רכישה רשויות '!$B:$G,5,0) -> 3.7590695
A8: 7 | B8: גיסר אל זרקא | C8: =F8*(1+$H$1) -> 3.7764407 | D8: =+VLOOKUP(B8,'תעריף רכישה רשויות '!$B:$G,3,0) -> 1.8351812 | E8: =+VLOOKUP(B8,'תעריף רכישה רשויות '!$B:$G,2,0) -> 5.7738672 | F8: =+VLOOKUP(B8,'תעריף רכישה רשויות '!$B:$G,5,0) -> 3.2277271
A9: 8 | B9: דלית אל כרמל | C9: =F9*(1+$H$1) -> 2.7721385 | D9: =+VLOOKUP(B9,'תעריף רכישה רשויות '!$B:$G,3,0) -> 2.6214983 | E9: =+VLOOKUP(B9,'תעריף רכישה רשויות '!$B:$G,2,0) -> 6.5601843 | F9: =+VLOOKUP(B9,'תעריף רכישה רשויות '!$B:$G,5,0) -> 2.3693492
A10: 9 | B10: חריש | C10: =F10*(1+$H$1) -> 2.5231759 | D10: =+VLOOKUP(B10,'תעריף רכישה רשויות '!$B:$G,3,0) -> 2.8164233 | E10: =+VLOOKUP(B10,'תעריף רכישה רשויות '!$B:$G,2,0) -> 6.7551093 | F10: =+VLOOKUP(B10,'תעריף רכישה רשויות '!$B:$G,5,0) -> 2.1565606
A11: 10 | B11: טייבה | C11: =F11*(1+$H$1) -> 2.1443197 | D11: =+VLOOKUP(B11,'תעריף רכישה רשויות '!$B:$G,3,0) -> 3.1130483 | E11: =+VLOOKUP(B11,'תעריף רכישה רשויות '!$B:$G,2,0) -> 7.0517343 | F11: =+VLOOKUP(B11,'תעריף רכישה רשויות '!$B:$G,5,0) -> 1.8327518
A12: 11 | B12: טירת הכרמל | C12: =F12*(1+$H$1) -> 3.778686 | D12: =+VLOOKUP(B12,'תעריף רכישה רשויות '!$B:$G,3,0) -> 1.7023078 | E12: =+VLOOKUP(B12,'תעריף רכישה רשויות '!$B:$G,2,0) -> 5.7721093 | F12: =+VLOOKUP(B12,'תעריף רכישה רשויות '!$B:$G,5,0) -> 3.2296461
A13: 12 | B13: כפר שמריהו | C13: =F13*(1+$H$1) -> 3.9230121 | D13: =+VLOOKUP(B13,'תעריף רכישה רשויות '!$B:$G,3,0) -> 1.6204233 | E13: =+VLOOKUP(B13,'תעריף רכישה רשויות '!$B:$G,2,0) -> 5.6591093 | F13: =+VLOOKUP(B13,'תעריף רכישה רשויות '!$B:$G,5,0) -> 3.3530018
... A29: 28 | B29: שהם | C29: =F29*(1+$H$1) -> 3.6166915 | D29: =+VLOOKUP(B29,'תעריף רכישה רשויות '!$B:$G,3,0) -> 1.9602566 | E29: =+VLOOKUP(B29,'תעריף רכישה רשויות '!$B:$G,2,0) -> 5.8989426 | F29: =+VLOOKUP(B29,'תעריף רכישה רשויות '!$B:$G,5,0) -> 3.0911893

Sheet תעריף רכישה רשויות 
C1: תעריף גבוה | D1: תעריף נמוך | E1: ביוב כולל מע"מ | F1: ביוב לפני מע"מ | G1: חלוקה | H1: 0.17 | L1: חלוקה בניכוי קרן שיקום | N1: ביוב מנוכה | O1: חלוקה
B2: שם רשות מקומית | Z2: אשכול חברתי
A3: 1 | B3: גבעת שמואל | C3: ='תעריף מים לכמות נוספת'!D3 -> 5.287131 | D3: ='תעריף כמות מוכרת'!D3 -> 1.348445 | E3: =F3*(1+$H$1) -> 4.3981113 | F3: =('תעריף מים לכמות נוספת'!L3+'תעריף מים לכמות נוספת'!J3+'תעריף מים לכמות נוספת'!K3+'תעריף מים לכמות נוספת'!I3)/(1-'תחשיב הכרה בעלויות '!$C$21)/(1-'תחשיב הכרה בעלויות '!$C$22) -> 3.7590695 | G3: =('תעריף מים לכמות נוספת'!G3+'תעריף מים לכמות נוספת'!H3) -> 0.942629 | H3: ='תעריף מים לכמות נוספת'!M3 -> 10.559746 | I3: =1/(1-'תחשיב הכרה בעלויות '!$C$21)/(1-'תחשיב הכרה בעלויות '!$C$22) -> 1.0916435 | J3: =(H3-G3-F3)/I3 -> 5.3662647 | K3: =J3-C3 -> 0.079133704 | L3: =G3-'תחשיב הכרה בעלויות '!$D$11-'תחשיב הכרה בעלויות '!$K$11 -> 0.11785118 | N3: =F3/I3 -> 3.4434956 | O3: =L3+'תעריף מים לכמות נוספת'!E3+'תעריף מים לכמות נוספת'!F3 -> 1.0043419 | P3: =H3-N3-O3 -> 6.1119088 | Q3: =P3-C3-'תחשיב הכרה בעלויות '!$D$11-'תחשיב הכרה בעלויות '!$K$11 -> -7.2164497e-16 | R3: =N3-('תעריף מים לכמות נוספת'!L3+'תעריף מים לכמות נוספת'!J3+'תעריף מים לכמות נוספת'!K3+'תעריף מים לכמות נוספת'!I3) -> 0 | S3: ='תעריף כמות מוכרת'!E3+'תעריף כמות מוכרת'!F3+'תעריף כמות מוכרת'!G3-'תעריף כמות מוכרת'!I3 -> 0.9443619 | T3: ='תעריף כמות מוכרת'!M3 -> 6.5610803 | U3: =T3-S3-N3 -> 2.1732228 | V3: =U3-D3-'תחשיב הכרה בעלויות '!$E$19-'תחשיב הכרה בעלויות '!$I$19 -> 6.1062266e-16 | W3: =IFERROR(VLOOKUP($B3,'כמויות 2013'!$B$205:$H$257,7,0),0) -> 1660781 | X3: =W3*C3 -> 8780766.7 | Y3: =W3*D3 -> 2239471.8 | Z3: =+VLOOKUP(B3,'אשכול חברתי'!$A:$E,2,0) -> 8
A4: 2 | B4: בית שאן | C4: ='תעריף מים לכמות נוספת'!D4 -> 6.5601843 | D4: ='תעריף כמות מוכרת'!D4 -> 2.6214983 | E4: =F4*(1+$H$1) -> 2.7721385 | F4: =('תעריף מים לכמות נוספת'!L4+'תעריף מים לכמות נוספת'!J4+'תעריף מים לכמות נוספת'!K4+'תעריף מים לכמות נוספת'!I4)/(1-'תחשיב הכרה בעלויות '!$C$21)/(1-'תחשיב הכרה בעלויות '!$C$22) -> 2.3693492 | G4: =('תעריף מים לכמות נוספת'!G4+'תעריף מים לכמות נוספת'!H4) -> 0.942629 | H4: ='תעריף מים לכמות נוספת'!M4 -> 10.559746 | I4: =1/(1-'תחשיב הכרה בעלויות '!$C$21)/(1-'תחשיב הכרה בעלויות '!$C$22) -> 1.0916435 | J4: =(H4-G4-F4)/I4 -> 6.639318 | K4: =J4-C4 -> 0.079133704 | L4: =G4-'תחשיב הכרה בעלויות '!$D$11-'תחשיב הכרה בעלויות '!$K$11 -> 0.11785118 | N4: =F4/I4 -> 2.1704423 | O4: =L4+'תעריף מים לכמות נוספת'!E4+'תעריף מים לכמות נוספת'!F4 -> 1.0043419 | P4: =H4-N4-O4 -> 7.3849621 | Q4: =P4-C4-'תחשיב הכרה בעלויות '!$D$11-'תחשיב הכרה בעלויות '!$K$11 -> -1.6098234e-15 | R4: =N4-('תעריף מים לכמות נוספת'!L4+'תעריף מים לכמות נוספת'!J4+'תעריף מים לכמות נוספת'!K4+'תעריף מים לכמות נוספת'!I4) -> 0 | S4: ='תעריף כמות מוכרת'!E4+'תעריף כמות מוכרת'!F4+'תעריף כמות מוכרת'!G4-'תעריף כמות מוכרת'!I4 -> 0.9443619 | T4: ='תעריף כמות מוכרת'!M4 -> 6.5610803 | U4: =T4-S4-N4 -> 3.4462761 | V4: =U4-D4-'תחשיב הכרה בעלויות '!$E$19-'תחשיב הכרה בעלויות '!$I$19 -> 1.9428903e-15 | W4: =IFERROR(VLOOKUP($B4,'כמויות 2013'!$B$205:$H$257,7,0),0) -> 1694107 | X4: =W4*C4 -> 11113654 | Y4: =W4*D4 -> 4441098.6 | Z4: =+VLOOKUP(B4,'אשכול חברתי'!$A:$E,2,0) -> 4
A5: 3 | B5: בנימינה - גבעת עדה | C5: ='תעריף מים לכמות נוספת'!D5 -> 5.7738672 | D5: ='תעריף כמות מוכרת'!D5 -> 1.8351812 | E5: =F5*(1+$H$1) -> 3.7764407 | F5: =('תעריף מים לכמות נוספת'!L5+'תעריף מים לכמות נוספת'!J5+'תעריף מים לכמות נוספת'!K5+'תעריף מים לכמות נוספת'!I5)/(1-'תחשיב הכרה בעלויות '!$C$21)/(1-'תחשיב הכרה בעלויות '!$C$22) -> 3.2277271 | G5: =('תעריף מים לכמות נוספת'!G5+'תעריף מים לכמות נוספת'!H5) -> 0.942629 | H5: ='תעריף מים לכמות נוספת'!M5 -> 10.559746 | I5: =1/(1-'תחשיב הכרה בעלויות '!$C$21)/(1-'תחשיב הכרה בעלויות '!$C$22) -> 1.0916435 | J5: =(H5-G5-F5)/I5 -> 5.8530009 | K5: =J5-C5 -> 0.079133704 | L5: =G5-'תחשיב הכרה בעלויות '!$D$11-'תחשיב הכרה בעלויות '!$K$11 -> 0.11785118 | N5: =F5/I5 -> 2.9567594 | O5: =L5+'תעריף מים לכמות נוספת'!E5+'תעריף מים לכמות נוספת'!F5 -> 1.0043419 | P5: =H5-N5-O5 -> 6.598645 | Q5: =P5-C5-'תחשיב הכרה בעלויות '!$D$11-'תחשיב הכרה בעלויות '!$K$11 -> -7.2164497e-16 | R5: =N5-('תעריף מים לכמות נוספת'!L5+'תעריף מים לכמות נוספת'!J5+'תעריף מים לכמות נוספת'!K5+'תעריף מים לכמות נוספת'!I5) -> 0 | S5: ='תעריף כמות מוכרת'!E5+'תעריף כמות מוכרת'!F5+'תעריף כמות מוכרת'!G5-'תעריף כמות מוכרת'!I5 -> 0.9443619 | T5: ='תעריף כמות מוכרת'!M5 -> 6.5610803 | U5: =T5-S5-N5 -> 2.659959 | V5: =U5-D5-'תחשיב הכרה בעלויות '!$E$19-'תחשיב הכרה בעלויות '!$I$19 -> 1.0547119e-15 | W5: =IFERROR(VLOOKUP($B5,'כמויות 2013'!$B$205:$H$257,7,0),0) -> 2117520 | X5: =W5*C5 -> 12226279 | Y5: =W5*D5 -> 3886032.9 | Z5: =+VLOOKUP(B5,'אשכול חברתי'!$A:$E,2,0) -> 8
A6: 4 | B6: פרדיס | C6: ='תעריף מים לכמות נוספת'!D6 -> 6.4056093 | D6: ='תעריף כמות מוכרת'!D6 -> 2.4669233 | E6: =F6*(1+$H$1) -> 2.9695653 | F6: =('תעריף מים לכמות נוספת'!L6+'תעריף מים לכמות נוספת'!J6+'תעריף מים לכמות נוספת'!K6+'תעריף מים לכמות נוספת'!I6)/(1-'תחשיב הכרה בעלויות '!$C$21)/(1-'תחשיב הכרה בעלויות '!$C$22) -> 2.53809 | G6: =('תעריף מים לכמות נוספת'!G6+'תעריף מים לכמות נוספת'!H6) -> 0.942629 | H6: ='תעריף מים לכמות נוספת'!M6 -> 10.559746 | I6: =1/(1-'תחשיב הכרה בעלויות '!$C$21)/(1-'תחשיב הכרה בעלויות '!$C$22) -> 1.0916435 | J6: =(H6-G6-F6)/I6 -> 6.484743 | K6: =J6-C6 -> 0.079133704 | L6: =G6-'תחשיב הכרה בעלויות '!$D$11-'תחשיב הכרה בעלויות '!$K$11 -> 0.11785118 | N6: =F6/I6 -> 2.3250173 | O6: =L6+'תעריף מים לכמות נוספת'!E6+'תעריף מים לכמות נוספת'!F6 -> 1.0043419 | P6: =H6-N6-O6 -> 7.2303871 | Q6: =P6-C6-'תחשיב הכרה בעלויות '!$D$11-'תחשיב הכרה בעלויות '!$K$11 -> -7.2164497e-16 | R6: =N6-('תעריף מים לכמות נוספת'!L6+'תעריף מים לכמות נוספת'!J6+'תעריף מים לכמות נוספת'!K6+'תעריף מים לכמות נוספת'!I6) -> 0 | S6: ='תעריף כמות מוכרת'!E6+'תעריף כמות מוכרת'!F6+'תעריף כמות מוכרת'!G6-'תעריף כמות מוכרת'!I6 -> 0.9443619 | T6: ='תעריף כמות מוכרת'!M6 -> 6.5610803 | U6: =T6-S6-N6 -> 3.2917011 | V6: =U6-D6-'תחשיב הכרה בעלויות '!$E$19-'תחשיב הכרה בעלויות '!$I$19 -> 1.0547119e-15 | W6: =IFERROR(VLOOKUP($B6,'כמויות 2013'!$B$205:$H$257,7,0),0) -> 705909 | X6: =W6*C6 -> 4521777.3 | Y6: =W6*D6 -> 1741423.4 | Z6: =+VLOOKUP(B6,'אשכול חברתי'!$A:$E,2,0) -> 2
A7: 5 | B7: דלית אל כרמל | C7: ='תעריף מים לכמות נוספת'!D7 -> 6.5601843 | D7: ='תעריף כמות מוכרת'!D7 -> 2.6214983 | E7: =F7*(1+$H$1) -> 2.7721385 | F7: =('תעריף מים לכמות נוספת'!L7+'תעריף מים לכמות נוספת'!J7+'תעריף מים לכמות נוספת'!K7+'תעריף מים לכמות נוספת'!I7)/(1-'תחשיב הכרה בעלויות '!$C$21)/(1-'תחשיב הכרה בעלויות '!$C$22) -> 2.3693492 | G7: =('תעריף מים לכמות נוספת'!G7+'תעריף מים לכמות נוספת'!H7) -> 0.942629 | H7: ='תעריף מים לכמות נוספת'!M7 -> 10.559746 | I7: =1/(1-'תחשיב הכרה בעלויות '!$C$21)/(1-'תחשיב הכרה בעלויות '!$C$22) -> 1.0916435 | J7: =(H7-G7-F7)/I7 -> 6.639318 | K7: =J7-C7 -> 0.079133704 | L7: =G7-'תחשיב הכרה בעלויות '!$D$11-'תחשיב הכרה בעלויות '!$K$11 -> 0.11785118 | N7: =F7/I7 -> 2.1704423 | O7: =L7+'תעריף מים לכמות נוספת'!E7+'תעריף מים לכמות נוספת'!F7 -> 1.0043419 | P7: =H7-N7-O7 -> 7.3849621 | Q7: =P7-C7-'תחשיב הכרה בעלויות '!$D$11-'תחשיב הכרה בעלויות '!$K$11 -> -1.6098234e-15 | R7: =N7-('תעריף מים לכמות נוספת'!L7+'תעריף מים לכמות נוספת'!J7+'תעריף מים לכמות נוספת'!K7+'תעריף מים לכמות נוספת'!I7) -> 0 | S7: ='תעריף כמות מוכרת'!E7+'תעריף כמות מוכרת'!F7+'תעריף כמות מוכרת'!G7-'תעריף כמות מוכרת'!I7 -> 0.9443619 | T7: ='תעריף כמות מוכרת'!M7 -> 6.5610803 | U7: =T7-S7-N7 -> 3.4462761 | V7: =U7-D7-'תחשיב הכרה בעלויות '!$E$19-'תחשיב הכרה בעלויות '!$I$19 -> 1.9428903e-15 | W7: =IFERROR(VLOOKUP($B7,'כמויות 2013'!$B$205:$H$257,7,0),0) -> 2024981 | X7: =W7*C7 -> 13284249 | Y7: =W7*D7 -> 5308484.2 | Z7: =+VLOOKUP(B7,'אשכול חברתי'!$A:$E,2,0) -> 3
A8: 6 | B8: עוספיה | C8: ='תעריף מים לכמות נוספת'!D8 -> 6.5601843 | D8: ='תעריף כמות מוכרת'!D8 -> 2.6214983 | E8: =F8*(1+$H$1) -> 2.7721385 | F8: =('תעריף מים לכמות נוספת'!L8+'תעריף מים לכמות נוספת'!J8+'תעריף מים לכמות נוספת'!K8+'תעריף מים לכמות נוספת'!I8)/(1-'תחשיב הכרה בעלויות '!$C$21)/(1-'תחשיב הכרה בעלויות '!$C$22) -> 2.3693492 | G8: =('תעריף מים לכמות נוספת'!G8+'תעריף מים לכמות נוספת'!H8) -> 0.942629 | H8: ='תעריף מים לכמות נוספת'!M8 -> 10.559746 | I8: =1/(1-'תחשיב הכרה בעלויות '!$C$21)/(1-'תחשיב הכרה בעלויות '!$C$22) -> 1.0916435 | J8: =(H8-G8-F8)/I8 -> 6.639318 | K8: =J8-C8 -> 0.079133704 | L8: =G8-'תחשיב הכרה בעלויות '!$D$11-'תחשיב הכרה בעלויות '!$K$11 -> 0.11785118 | N8: =F8/I8 -> 2.1704423 | O8: =L8+'תעריף מים לכמות נוספת'!E8+'תעריף מים לכמות נוספת'!F8 -> 1.0043419 | P8: =H8-N8-O8 -> 7.3849621 | Q8: =P8-C8-'תחשיב הכרה בעלויות '!$D$11-'תחשיב הכרה בעלויות '!$K$11 -> -1.6098234e-15 | R8: =N8-('תעריף מים לכמות נוספת'!L8+'תעריף מים לכמות נוספת'!J8+'תעריף מים לכמות נוספת'!K8+'תעריף מים לכמות נוספת'!I8) -> 0 | S8: ='תעריף כמות מוכרת'!E8+'תעריף כמות מוכרת'!F8+'תעריף כמות מוכרת'!G8-'תעריף כמות מוכרת'!I8 -> 0.9443619 | T8: ='תעריף כמות מוכרת'!M8 -> 6.5610803 | U8: =T8-S8-N8 -> 3.4462761 | V8: =U8-D8-'תחשיב הכרה בעלויות '!$E$19-'תחשיב הכרה בעלויות '!$I$19 -> 1.9428903e-15 | W8: =IFERROR(VLOOKUP($B8,'כמויות 2013'!$B$205:$H$257,7,0),0) -> 1257577 | X8: =W8*C8 -> 8249936.9 | Y8: =W8*D8 -> 3296736 | Z8: =+VLOOKUP(B8,'אשכול חברתי'!$A:$E,2,0) -> 4
A9: 7 | B9: טירת הכרמל | C9: ='תעריף מים לכמות נוספת'!D9 -> 5.7721093 | D9: ='תעריף כמות מוכרת'!D9 -> 1.7023078 | E9: =F9*(1+$H$1) -> 3.778686 | F9: =('תעריף מים לכמות נוספת'!L9+'תעריף מים לכמות נוספת'!J9+'תעריף מים לכמות נוספת'!K9+'תעריף מים לכמות נוספת'!I9)/(1-'תחשיב הכרה בעלויות '!$C$21)/(1-'תחשיב הכרה בעלויות '!$C$22) -> 3.2296461 | G9: =('תעריף מים לכמות נוספת'!G9+'תעריף מים לכמות נוספת'!H9) -> 0.942629 | H9: ='תעריף מים לכמות נוספת'!M9 -> 10.559746 | I9: =1/(1-'תחשיב הכרה בעלויות '!$C$21)/(1-'תחשיב הכרה בעלויות '!$C$22) -> 1.0916435 | J9: =(H9-G9-F9)/I9 -> 5.851243 | K9: =J9-C9 -> 0.079133704 | L9: =G9-'תחשיב הכרה בעלויות '!$D$11-'תחשיב הכרה בעלויות '!$K$11 -> 0.11785118 | N9: =F9/I9 -> 2.9585173 | O9: =L9+'תעריף מים לכמות נוספת'!E9+'תעריף מים לכמות נוספת'!F9 -> 1.0043419 | P9: =H9-N9-O9 -> 6.5968871 | Q9: =P9-C9-'תחשיב הכרה בעלויות '!$D$11-'תחשיב הכרה בעלויות '!$K$11 -> -7.2164497e-16 | R9: =N9-('תעריף מים לכמות נוספת'!L9+'תעריף מים לכמות נוספת'!J9+'תעריף מים לכמות נוספת'!K9+'תעריף מים לכמות נוספת'!I9) -> 0 | S9: ='תעריף כמות מוכרת'!E9+'תעריף כמות מוכרת'!F9+'תעריף כמות מוכרת'!G9-'תעריף כמות מוכרת'!I9 -> 0.9443619 | T9: ='תעריף כמות מוכרת'!M9 -> 6.5610803 | U9: =T9-S9-N9 -> 2.6582011 | V9: =U9-D9-'תחשיב הכרה בעלויות '!$E$19-'תחשיב הכרה בעלויות '!$I$19 -> 0.13111549 | W9: =IFERROR(VLOOKUP($B9,'כמויות 2013'!$B$205:$H$257,7,0),0) -> 1792313 | X9: =W9*C9 -> 10345427 | Y9: =W9*D9 -> 3051068.4 | Z9: =+VLOOKUP(B9,'אשכול חברתי'!$A:$E,2,0) -> 4
A10: 8 | B10: קלנסואה | C10: ='תעריף מים לכמות נוספת'!D10 -> 7.0517343 | D10: ='תעריף כמות מוכרת'!D10 -> 3.1130483 | E10: =F10*(1+$H$1) -> 2.1443197 | F10: =('תעריף מים לכמות נוספת'!L10+'תעריף מים לכמות נוספת'!J10+'תעריף מים לכמות נוספת'!K10+'תעריף מים לכמות נוספת'!I10)/(1-'תחשיב הכרה בעלויות '!$C$21)/(1-'תחשיב הכרה בעלויות '!$C$22) -> 1.8327518 | G10: =('תעריף מים לכמות נוספת'!G10+'תעריף מים לכמות נוספת'!H10) -> 0.942629 | H10: ='תעריף מים לכמות נוספת'!M10 -> 10.559746 | I10: =1/(1-'תחשיב הכרה בעלויות '!$C$21)/(1-'תחשיב הכרה בעלויות '!$C$22) -> 1.0916435 | J10: =(H10-G10-F10)/I10 -> 7.130868 | K10: =J10-C10 -> 0.079133704 | L10: =G10-'תחשיב הכרה בעלויות '!$D$11-'תחשיב הכרה בעלויות '!$K$11 -> 0.11785118 | N10: =F10/I10 -> 1.6788923 | O10: =L10+'תעריף מים לכמות נוספת'!E10+'תעריף מים לכמות נוספת'!F10 -> 1.0043419 | P10: =H10-N10-O10 -> 7.8765121 | Q10: =P10-C10-'תחשיב הכרה בעלויות '!$D$11-'תחשיב הכרה בעלויות '!$K$11 -> -1.6098234e-15 | R10: =N10-('תעריף מים לכמות נוספת'!L10+'תעריף מים לכמות נוספת'!J10+'תעריף מים לכמות נוספת'!K10+'תעריף מים לכמות נוספת'!I10) -> 0 | S10: ='תעריף כמות מוכרת'!E10+'תעריף כמות מוכרת'!F10+'תעריף כמות מוכרת'!G10-'תעריף כמות מוכרת'!I10 -> 0.9443619 | T10: ='תעריף כמות מוכרת'!M10 -> 6.5610803 | U10: =T10-S10-N10 -> 3.9378261 | V10: =U10-D10-'תחשיב הכרה בעלויות '!$E$19-'תחשיב הכרה בעלויות '!$I$19 -> 1.4988011e-15 | W10: =IFERROR(VLOOKUP($B10,'כמויות 2013'!$B$205:$H$257,7,0),0) -> 1757055 | X10: =W10*C10 -> 12390285 | Y10: =W10*D10 -> 5469797.1 | Z10: =+VLOOKUP(B10,'אשכול חברתי'!$A:$E,2,0) -> 2
A11: 9 | B11: קרית יערים | C11: ='תעריף מים לכמות נוספת'!D11 -> 5.7721093 | D11: ='תעריף כמות מוכרת'!D11 -> 0.91781914 | E11: =F11*(1+$H$1) -> 3.778686 | F11: =('תעריף מים לכמות נוספת'!L11+'תעריף מים לכמות נוספת'!J11+'תעריף מים לכמות נוספת'!K11+'תעריף מים לכמות נוספת'!I11)/(1-'תחשיב הכרה בעלויות '!$C$21)/(1-'תחשיב הכרה בעלויות '!$C$22) -> 3.2296461 | G11: =('תעריף מים לכמות נוספת'!G11+'תעריף מים לכמות נוספת'!H11) -> 0.942629 | H11: ='תעריף מים לכמות נוספת'!M11 -> 10.559746 | I11: =1/(1-'תחשיב הכרה בעלויות '!$C$21)/(1-'תחשיב הכרה בעלויות '!$C$22) -> 1.0916435 | J11: =(H11-G11-F11)/I11 -> 5.851243 | K11: =J11-C11 -> 0.079133704 | L11: =G11-'תחשיב הכרה בעלויות '!$D$11-'תחשיב הכרה בעלויות '!$K$11 -> 0.11785118 | N11: =F11/I11 -> 2.9585173 | O11: =L11+'תעריף מים לכמות נוספת'!E11+'תעריף מים לכמות נוספת'!F11 -> 1.0043419 | P11: =H11-N11-O11 -> 6.5968871 | Q11: =P11-C11-'תחשיב הכרה בעלויות '!$D$11-'תחשיב הכרה בעלויות '!$K$11 -> -7.2164497e-16 | R11: =N11-('תעריף מים לכמות נוספת'!L11+'תעריף מים לכמות נוספת'!J11+'תעריף מים לכמות נוספת'!K11+'תעריף מים לכמות נוספת'!I11) -> 0 | S11: ='תעריף כמות מוכרת'!E11+'תעריף כמות מוכרת'!F11+'תעריף כמות מוכרת'!G11-'תעריף כמות מוכרת'!I11 -> 0.9443619 | T11: ='תעריף כמות מוכרת'!M11 -> 6.5610803 | U11: =T11-S11-N11 -> 2.6582011 | V11: =U11-D11-'תחשיב הכרה בעלויות '!$E$19-'תחשיב הכרה בעלויות '!$I$19 -> 0.91560415 | W11: =IFERROR(VLOOKUP($B11,'כמויות 2013'!$B$205:$H$257,7,0),0) -> 255605 | X11: =W11*C11 -> 1475380 | Y11: =W11*D11 -> 234599.16 | Z11: =+VLOOKUP(B11,'אשכול חברתי'!$A:$E,2,0) -> 3
A12: 11 | B12: כפר שמריהו | C12: ='תעריף מים לכמות נוספת'!D12 -> 5.6591093 | D12: ='תעריף כמות מוכרת'!D12 -> 1.6204233 | E12: =F12*(1+$H$1) -> 3.9230121 | F12: =('תעריף מים לכמות נוספת'!L12+'תעריף מים לכמות נוספת'!J12+'תעריף מים לכמות נוספת'!K12+'תעריף מים לכמות נוספת'!I12)/(1-'תחשיב הכרה בעלויות '!$C$21)/(1-'תחשיב הכרה בעלויות '!$C$22) -> 3.3530018 | G12: =('תעריף מים לכמות נוספת'!G12+'תעריף מים לכמות נוספת'!H12) -> 0.942629 | H12: ='תעריף מים לכמות נוספת'!M12 -> 10.559746 | I12: =1/(1-'תחשיב הכרה בעלויות '!$C$21)/(1-'תחשיב הכרה בעלויות '!$C$22) -> 1.0916435 | J12: =(H12-G12-F12)/I12 -> 5.738243 | K12: =J12-C12 -> 0.079133704 | L12: =G12-'תחשיב הכרה בעלויות '!$D$11-'תחשיב הכרה בעלויות '!$K$11 -> 0.11785118 | N12: =F12/I12 -> 3.0715173 | O12: =L12+'תעריף מים לכמות נוספת'!E12+'תעריף מים לכמות נוספת'!F12 -> 1.0043419 | P12: =H12-N12-O12 -> 6.4838871 | Q12: =P12-C12-'תחשיב הכרה בעלויות '!$D$11-'תחשיב הכרה בעלויות '!$K$11 -> 0 | R12: =N12-('תעריף מים לכמות נוספת'!L12+'תעריף מים לכמות נוספת'!J12+'תעריף מים לכמות נוספת'!K12+'תעריף מים לכמות נוספת'!I12) -> 0 | S12: ='תעריף כמות מוכרת'!E12+'תעריף כמות מוכרת'!F12+'תעריף כמות מוכרת'!G12-'תעריף כמות מוכרת'!I12 -> 0.9443619 | T12: ='תעריף כמות מוכרת'!M12 -> 6.5610803 | U12: =T12-S12-N12 -> 2.5452011 | V12: =U12-D12-'תחשיב הכרה בעלויות '!$E$19-'תחשיב הכרה בעלויות '!$I$19 -> 0.1 | W12: =IFERROR(VLOOKUP($B12,'כמויות 2013'!$B$205:$H$257,7,0),0) -> 763350 | X12: =W12*C12 -> 4319881.1 | Y12: =W12*D12 -> 1236950.1 | Z12: =+VLOOKUP(B12,'אשכול חברתי'!$A:$E,2,0) -> 10
A13: 12 | B13: מיתר | C13: ='תעריף מים לכמות נוספת'!D13 -> 6.3398343 | D13: ='תעריף כמות מוכרת'!D13 -> 2.4011483 | E13: =F13*(1+$H$1) -> 3.0535746 | F13: =('תעריף מים לכמות נוספת'!L13+'תעריף מים לכמות נוספת'!J13+'תעריף מים לכמות נוספת'!K13+'תעריף מים לכמות נוספת'!I13)/(1-'תחשיב הכרה בעלויות '!$C$21)/(1-'תחשיב הכרה בעלויות '!$C$22) -> 2.6098928 | G13: =('תעריף מים לכמות נוספת'!G13+'תעריף מים לכמות נוספת'!H13) -> 0.942629 | H13: ='תעריף מים לכמות נוספת'!M13 -> 10.559746 | I13: =1/(1-'תחשיב הכרה בעלויות '!$C$21)/(1-'תחשיב הכרה בעלויות '!$C$22) -> 1.0916435 | J13: =(H13-G13-F13)/I13 -> 6.418968 | K13: =J13-C13 -> 0.079133704 | L13: =G13-'תחשיב הכרה בעלויות '!$D$11-'תחשיב הכרה בעלויות '!$K$11 -> 0.11785118 | N13: =F13/I13 -> 2.3907923 | O13: =L13+'תעריף מים לכמות נוספת'!E13+'תעריף מים לכמות נוספת'!F13 -> 1.0043419 | P13: =H13-N13-O13 -> 7.1646121 | Q13: =P13-C13-'תחשיב הכרה בעלויות '!$D$11-'תחשיב הכרה בעלויות '!$K$11 -> -7.2164497e-16 | R13: =N13-('תעריף מים לכמות נוספת'!L13+'תעריף מים לכמות נוספת'!J13+'תעריף מים לכמות נוספת'!K13+'תעריף מים לכמות נוספת'!I13) -> 0 | S13: ='תעריף כמות מוכרת'!E13+'תעריף כמות מוכרת'!F13+'תעריף כמות מוכרת'!G13-'תעריף כמות מוכרת'!I13 -> 0.9443619 | T13: ='תעריף כמות מוכרת'!M13 -> 6.5610803 | U13: =T13-S13-N13 -> 3.2259261 | V13: =U13-D13-'תחשיב הכרה בעלויות '!$E$19-'תחשיב הכרה בעלויות '!$I$19 -> 1.4988011e-15 | W13: =IFERROR(VLOOKUP($B13,'כמויות 2013'!$B$205:$H$257,7,0),0) -> 946960 | X13: =W13*C13 -> 6003569.5 | Y13: =W13*D13 -> 2273791.4 | Z13: =+VLOOKUP(B13,'אשכול חברתי'!$A:$E,2,0) -> 9
A14: 14 | B14: שהם | C14: ='תעריף מים לכמות נוספת'!D14 -> 5.8989426 | D14: ='תעריף כמות מוכרת'!D14 -> 1.9602566 | E14: =F14*(1+$H$1) -> 3.6166915 | F14: =('תעריף מים לכמות נוספת'!L14+'תעריף מים לכמות נוספת'!J14+'תעריף מים לכמות נוספת'!K14+'תעריף מים לכמות נוספת'!I14)/(1-'תחשיב הכרה בעלויות '!$C$21)/(1-'תחשיב הכרה בעלויות '!$C$22) -> 3.0911893 | G14: =('תעריף מים לכמות נוספת'!G14+'תעריף מים לכמות נוספת'!H14) -> 0.942629 | H14: ='תעריף מים לכמות נוספת'!M14 -> 10.559746 | I14: =1/(1-'תחשיב הכרה בעלויות '!$C$21)/(1-'תחשיב הכרה בעלויות '!$C$22) -> 1.0916435 | J14: =(H14-G14-F14)/I14 -> 5.9780763 | K14: =J14-C14 -> 0.079133704 | L14: =G14-'תחשיב הכרה בעלויות '!$D$11-'תחשיב הכרה בעלויות '!$K$11 -> 0.11785118 | N14: =F14/I14 -> 2.831684 | O14: =L14+'תעריף מים לכמות נוספת'!E14+'תעריף מים לכמות נוספת'!F14 -> 1.0043419 | P14: =H14-N14-O14 -> 6.7237204 | Q14: =P14-C14-'תחשיב הכרה בעלויות '!$D$11-'תחשיב הכרה בעלויות '!$K$11 -> -7.2164497e-16 | R14: =N14-('תעריף מים לכמות נוספת'!L14+'תעריף מים לכמות נוספת'!J14+'תעריף מים לכמות נוספת'!K14+'תעריף מים לכמות נוספת'!I14) -> 0 | S14: ='תעריף כמות מוכרת'!E14+'תעריף כמות מוכרת'!F14+'תעריף כמות מוכרת'!G14-'תעריף כמות מוכרת'!I14 -> 0.9443619 | T14: ='תעריף כמות מוכרת'!M14 -> 6.5610803 | U14: =T14-S14-N14 -> 2.7850344 | V14: =U14-D14-'תחשיב הכרה בעלויות '!$E$19-'תחשיב הכרה בעלויות '!$I$19 -> 1.0547119e-15 | W14: =IFERROR(VLOOKUP($B14,'כמויות 2013'!$B$205:$H$257,7,0),0) -> 1625594 | X14: =W14*C14 -> 9589285.7 | Y14: =W14*D14 -> 3186581.4 | Z14: =+VLOOKUP(B14,'אשכול חברתי'!$A:$E,2,0) -> 8
... A30: 30 | B30: באר יעקב | C30: ='תעריף מים לכמות נוספת'!D30 -> 6.5448973 | D30: ='תעריף כמות מוכרת'!D30 -> 2.6062113 | E30: =F30*(1+$H$1) -> 2.7916634 | F30: =('תעריף מים לכמות נוספת'!L30+'תעריף מים לכמות נוספת'!J30+'תעריף מים לכמות נוספת'!K30+'תעריף מים לכמות נוספת'!I30)/(1-'תחשיב הכרה בעלויות '!$C$21)/(1-'תחשיב הכרה בעלויות '!$C$22) -> 2.3860371 | G30: =('תעריף מים לכמות נוספת'!G30+'תעריף מים לכמות נוספת'!H30) -> 0.942629 | H30: ='תעריף מים לכמות נוספת'!M30 -> 10.559746 | I30: =1/(1-'תחשיב הכרה בעלויות '!$C$21)/(1-'תחשיב הכרה בעלויות '!$C$22) -> 1.0916435 | J30: =(H30-G30-F30)/I30 -> 6.624031 | K30: =J30-C30 -> 0.079133704 | L30: =G30-'תחשיב הכרה בעלויות '!$D$11-'תחשיב הכרה בעלויות '!$K$11 -> 0.11785118 | N30: =F30/I30 -> 2.1857293 | O30: =L30+'תעריף מים לכמות נוספת'!E30+'תעריף מים לכמות נוספת'!F30 -> 1.0043419 | P30: =H30-N30-O30 -> 7.3696751 | Q30: =P30-C30-'תחשיב הכרה בעלויות '!$D$11-'תחשיב הכרה בעלויות '!$K$11 -> -7.2164497e-16 | R30: =N30-('תעריף מים לכמות נוספת'!L30+'תעריף מים לכמות נוספת'!J30+'תעריף מים לכמות נוספת'!K30+'תעריף מים לכמות נוספת'!I30) -> 0 | S30: ='תעריף כמות מוכרת'!E30+'תעריף כמות מוכרת'!F30+'תעריף כמות מוכרת'!G30-'תעריף כמות מוכרת'!I30 -> 0.9443619 | T30: ='תעריף כמות מוכרת'!M30 -> 6.5610803 | U30: =T30-S30-N30 -> 3.4309891 | V30: =U30-D30-'תחשיב הכרה בעלויות '!$E$19-'תחשיב הכרה בעלויות '!$I$19 -> 1.0547119e-15 | W30: =IFERROR(VLOOKUP($B30,'כמויות 2013'!$B$205:$H$257,7,0),0) -> 1521693 | X30: =W30*C30 -> 9959324.4 | Y30: =W30*D30 -> 3965853.5 | Z30: =+VLOOKUP(B30,'אשכול חברתי'!$A:$E,2,0) -> 6
C31: =X31/$W$31 -> 6.2708528 | D31: =Y31/$W$31 -> 2.2701395 | W31: =SUM(W3:W30) -> 41373820 | X31: =SUM(X3:X30) -> 2.5944913e+08 | Y31: =SUM(Y3:Y30) -> 93924342
B32: גדרה
B33: זמר
B34: בני עי"ש
B35: יהוד-מונוסון
B36: קריית מלאכי
B40: כעביה-טבאש

Sheet תעריף כמות מוכרת
R1: חוקי עזר
A2: מס' | B2: תעריף גבוה כולל גביית קרן שיקום מים וביוב | C2: שם רשות מקומית | D2: תעריף מים נמוך | E2: פחת מים | F2: פחת גביה | G2: מרווח חלוקה מים | H2: קרן שיקום מים | I2: קרן שיקום ביוב | J2: מרווח חלוקה ביוב | K2: מט"ש | L2: שרותי תשתית | M2: תעריף מכירה נמוך | P2: רכיב ביוב כולל מט"ש והולכה מודל מוצע | Q2: רכיב ביוב ללא מט"ש חוקי עזר | R2: אגרה | S2: מט"ש | T2: החזר הון | U2: יחס ביוב | V2: תעריף ביוב תאגיד סמוך | W2: הערות 1 | X2: הערות 2 | Y2: מט"ש | Z2: סוג | AD2: יישוב | AE2: מרווח מים | AF2: מרווח ביוב | AG2: מט"ש | AH2: הולכה | AI2: תעריף רכישה גבוה
A3: 1 | B3: =M3-L3-K3-J3-G3-F3-E3 -> 2.1732228 | C3: גבעת שמואל | D3: =M3-L3-K3-J3-I3-H3-G3-F3-E3 -> 1.348445 | E3: ='תעריף מים לכמות נוספת'!E3 -> 0.72809451 | F3: =M3*'תחשיב הכרה בעלויות '!$C$22 -> 0.098416205 | G3: ='תחשיב הכרה בעלויות '!$M$30 -> 0.55879601 | H3: ='תחשיב הכרה בעלויות '!$E$19 -> 0.38383298 | I3: ='תחשיב הכרה בעלויות '!$I$19 -> 0.44094483 | J3: ='תחשיב הכרה בעלויות '!$M$24 -> 0.85657249 | K3: =3414/'כמויות 2013'!H220*1000 -> 2.0556594 | L3: =150*1000/'כמויות 2013'!H220 -> 0.090318952 | M3: =+'[1]גיליון סימולציה לתעריפי 2016'!$G$39 -> 6.5610803 | P3: =J3+I3+K3+L3+(E3+F3)/2 -> 3.856751 | R3: =+IFERROR(VLOOKUP(TRIM(C3&"-"&$R$2),'אגרות ביוב'!$A$8:$J$72,10,0),0) -> 2.5179916 | S3: =+IFERROR(VLOOKUP(TRIM(C3&"-"&$S$2),'אגרות ביוב'!$A$8:$J$72,10,0),0) -> 0 | T3: =+IFERROR(VLOOKUP(TRIM(C3&"-"&$T$2),'אגרות ביוב'!$A$8:$J$72,10,0),0) -> 0 | V3: =3.703 -> 3.703 | W3: לפי נתוני המועצה מסמך בוכניק כללו תקורות וגביה ועלויות בפועל של עובדים | X3: הולכה דרך מיתב | Y3: איגודן | Z3: איגודן | AD3: =C3 -> גבעת שמואל | AE3: =E3/2+F3/2+G3+H3 -> 1.3558844 | AF3: =E3/2+F3/2+I3+J3 -> 1.7107727 | AG3: =K3 -> 2.0556594 | AH3: =L3 -> 0.090318952 | AI3: =D3 -> 1.348445
A4: 2 | B4: =M4-L4-K4-J4-G4-F4-E4 -> 3.4462761 | C4: בית שאן | D4: =M4-L4-K4-J4-I4-H4-G4-F4-E4 -> 2.6214983 | E4: ='תעריף מים לכמות נוספת'!E4 -> 0.72809451 | F4: =M4*'תחשיב הכרה בעלויות '!$C$22 -> 0.098416205 | G4: ='תחשיב הכרה בעלויות '!$M$30 -> 0.55879601 | H4: ='תחשיב הכרה בעלויות '!$E$19 -> 0.38383298 | I4: ='תחשיב הכרה בעלויות '!$I$19 -> 0.44094483 | J4: ='תחשיב הכרה בעלויות '!$M$24 -> 0.85657249 | K4: =מטש!D40 -> 0.872925 | M4: =M3 -> 6.5610803 | P4: =J4+I4+K4+L4+(E4+F4)/2 -> 2.5836977 | R4: =+IFERROR(VLOOKUP(TRIM(C4&"-"&$R$2),'אגרות ביוב'!$A$8:$J$72,10,0),0) -> 1.6029244 | S4: =+IFERROR(VLOOKUP(TRIM(C4&"-"&$S$2),'אגרות ביוב'!$A$8:$J$72,10,0),0) -> 0 | T4: =+IFERROR(VLOOKUP(TRIM(C4&"-"&$T$2),'אגרות ביוב'!$A$8:$J$72,10,0),0) -> 0 | Y4: בית שאן | Z4: שניוני | AD4: =C4 -> בית שאן | AE4: =E4/2+F4/2+G4+H4 -> 1.3558844 | AF4: =E4/2+F4/2+I4+J4 -> 1.7107727 | AG4: =K4 -> 0.872925 | AH4: =L4 -> 0 | AI4: =D4 -> 2.6214983
A5: 3 | B5: =M5-L5-K5-J5-G5-F5-E5 -> 2.659959 | C5: בנימינה- גבעת עדה | D5: =M5-L5-K5-J5-I5-H5-G5-F5-E5 -> 1.8351812 | E5: ='תעריף מים לכמות נוספת'!E5 -> 0.72809451 | F5: =M5*'תחשיב הכרה בעלויות '!$C$22 -> 0.098416205 | G5: ='תחשיב הכרה בעלויות '!$M$30 -> 0.55879601 | H5: ='תחשיב הכרה בעלויות '!$E$19 -> 0.38383298 | I5: ='תחשיב הכרה בעלויות '!$I$19 -> 0.44094483 | J5: ='תחשיב הכרה בעלויות '!$M$24 -> 0.85657249 | K5: =K29 -> 1.6592421 | M5: =M4 -> 6.5610803 | P5: =J5+I5+K5+L5+(E5+F5)/2 -> 3.3700148 | R5: =+IFERROR(VLOOKUP(TRIM(C5&"-"&$R$2),'אגרות ביוב'!$A$8:$J$72,10,0),0) -> 2.6831401 | S5: =+IFERROR(VLOOKUP(TRIM(C5&"-"&$S$2),'אגרות ביוב'!$A$8:$J$72,10,0),0) -> 0 | T5: =+IFERROR(VLOOKUP(TRIM(C5&"-"&$T$2),'אגרות ביוב'!$A$8:$J$72,10,0),0) -> 0 | X5: נתונים מגזבר אור עקיבא במייל | Y5: חדרה | Z5: שניוני | AD5: =C5 -> בנימינה- גבעת עדה | AE5: =E5/2+F5/2+G5+H5 -> 1.3558844 | AF5: =E5/2+F5/2+I5+J5 -> 1.7107727 | AG5: =K5 -> 1.6592421 | AH5: =L5 -> 0 | AI5: =D5 -> 1.8351812
A6: 4 | B6: =M6-L6-K6-J6-G6-F6-E6 -> 3.2917011 | C6: פרדיס | D6: =M6-L6-K6-J6-I6-H6-G6-F6-E6 -> 2.4669233 | E6: ='תעריף מים לכמות נוספת'!E6 -> 0.72809451 | F6: =M6*'תחשיב הכרה בעלויות '!$C$22 -> 0.098416205 | G6: ='תחשיב הכרה בעלויות '!$M$30 -> 0.55879601 | H6: ='תחשיב הכרה בעלויות '!$E$19 -> 0.38383298 | I6: ='תחשיב הכרה בעלויות '!$I$19 -> 0.44094483 | J6: ='תחשיב הכרה בעלויות '!$M$24 -> 0.85657249 | K6: =1.37*מטש!D43 -> 1.0275 | M6: =M5 -> 6.5610803 | P6: =J6+I6+K6+L6+(E6+F6)/2 -> 2.7382727 | R6: =+IFERROR(VLOOKUP(TRIM(C6&"-"&$R$2),'אגרות ביוב'!$A$8:$J$72,10,0),0) -> 0 | S6: =+IFERROR(VLOOKUP(TRIM(C6&"-"&$S$2),'אגרות ביוב'!$A$8:$J$72,10,0),0) -> 0 | T6: =+IFERROR(VLOOKUP(TRIM(C6&"-"&$T$2),'אגרות ביוב'!$A$8:$J$72,10,0),0) -> 0 | Y6: מעין צבי | Z6: שניוני | AD6: =C6 -> פרדיס | AE6: =E6/2+F6/2+G6+H6 -> 1.3558844 | AF6: =E6/2+F6/2+I6+J6 -> 1.7107727 | AG6: =K6 -> 1.0275 | AH6: =L6 -> 0 | AI6: =D6 -> 2.4669233
A7: 5 | B7: =M7-L7-K7-J7-G7-F7-E7 -> 3.4462761 | C7: דלית אל כרמל | D7: =M7-L7-K7-J7-I7-H7-G7-F7-E7 -> 2.6214983 | E7: ='תעריף מים לכמות נוספת'!E7 -> 0.72809451 | F7: =M7*'תחשיב הכרה בעלויות '!$C$22 -> 0.098416205 | G7: ='תחשיב הכרה בעלויות '!$M$30 -> 0.55879601 | H7: ='תחשיב הכרה בעלויות '!$E$19 -> 0.38383298 | I7: ='תחשיב הכרה בעלויות '!$I$19 -> 0.44094483 | J7: ='תחשיב הכרה בעלויות '!$M$24 -> 0.85657249 | K7: =K4 -> 0.872925 | M7: =M6 -> 6.5610803 | P7: =J7+I7+K7+L7+(E7+F7)/2 -> 2.5836977 | R7: =+IFERROR(VLOOKUP(TRIM(C7&"-"&$R$2),'אגרות ביוב'!$A$8:$J$72,10,0),0) -> 0 | S7: =+IFERROR(VLOOKUP(TRIM(C7&"-"&$S$2),'אגרות ביוב'!$A$8:$J$72,10,0),0) -> 0 | T7: =+IFERROR(VLOOKUP(TRIM(C7&"-"&$T$2),'אגרות ביוב'!$A$8:$J$72,10,0),0) -> 0 | Y7: ניר עציון | Z7: שניוני | AD7: =C7 -> דלית אל כרמל | AE7: =E7/2+F7/2+G7+H7 -> 1.3558844 | AF7: =E7/2+F7/2+I7+J7 -> 1.7107727 | AG7: =K7 -> 0.872925 | AH7: =L7 -> 0 | AI7: =D7 -> 2.6214983
A8: 6 | B8: =M8-L8-K8-J8-G8-F8-E8 -> 3.4462761 | C8: עספייה | D8: =M8-L8-K8-J8-I8-H8-G8-F8-E8 -> 2.6214983 | E8: ='תעריף מים לכמות נוספת'!E8 -> 0.72809451 | F8: =M8*'תחשיב הכרה בעלויות '!$C$22 -> 0.098416205 | G8: ='תחשיב הכרה בעלויות '!$M$30 -> 0.55879601 | H8: ='תחשיב הכרה בעלויות '!$E$19 -> 0.38383298 | I8: ='תחשיב הכרה בעלויות '!$I$19 -> 0.44094483 | J8: ='תחשיב הכרה בעלויות '!$M$24 -> 0.85657249 | K8: =K7 -> 0.872925 | M8: =M7 -> 6.5610803 | P8: =J8+I8+K8+L8+(E8+F8)/2 -> 2.5836977 | R8: =+IFERROR(VLOOKUP(TRIM(C8&"-"&$R$2),'אגרות ביוב'!$A$8:$J$72,10,0),0) -> 0 | S8: =+IFERROR(VLOOKUP(TRIM(C8&"-"&$S$2),'אגרות ביוב'!$A$8:$J$72,10,0),0) -> 0 | T8: =+IFERROR(VLOOKUP(TRIM(C8&"-"&$T$2),'אגרות ביוב'!$A$8:$J$72,10,0),0) -> 0 | Y8: ניר עציון | Z8: שניוני | AD8: =C8 -> עספייה | AE8: =E8/2+F8/2+G8+H8 -> 1.3558844 | AF8: =E8/2+F8/2+I8+J8 -> 1.7107727 | AG8: =K8 -> 0.872925 | AH8: =L8 -> 0 | AI8: =D8 -> 2.6214983
A9: 7 | B9: =M9-L9-K9-J9-G9-F9-E9 -> 2.5270856 | C9: טירת כרמל | D9: =M9-L9-K9-J9-I9-H9-G9-F9-E9 -> 1.7023078 | E9: ='תעריף מים לכמות נוספת'!E9 -> 0.72809451 | F9: =M9*'תחשיב הכרה בעלויות '!$C$22 -> 0.098416205 | G9: ='תחשיב הכרה בעלויות '!$M$30 -> 0.55879601 | H9: ='תחשיב הכרה בעלויות '!$E$19 -> 0.38383298 | I9: ='תחשיב הכרה בעלויות '!$I$19 -> 0.44094483 | J9: ='תחשיב הכרה בעלויות '!$M$24 -> 0.85657249 | K9: 1.661 | L9: =235000/'כמויות 2013'!G229 -> 0.13111549 | M9: =M8 -> 6.5610803 | P9: =J9+I9+K9+L9+(E9+F9)/2 -> 3.5028882 | R9: =+IFERROR(VLOOKUP(TRIM(C9&"-"&$R$2),'אגרות ביוב'!$A$8:$J$72,10,0),0) -> 1.9090753 | S9: =+IFERROR(VLOOKUP(TRIM(C9&"-"&$S$2),'אגרות ביוב'!$A$8:$J$72,10,0),0) -> 0 | T9: =+IFERROR(VLOOKUP(TRIM(C9&"-"&$T$2),'אגרות ביוב'!$A$8:$J$72,10,0),0) -> 0 | Y9: ניר עציון | Z9: שנינ | AD9: =C9 -> טירת כרמל | AE9: =E9/2+F9/2+G9+H9 -> 1.3558844 | AF9: =E9/2+F9/2+I9+J9 -> 1.7107727 | AG9: =K9 -> 1.661 | AH9: =L9 -> 0.13111549 | AI9: =D9 -> 1.7023078
A10: 8 | B10: =M10-L10-K10-J10-G10-F10-E10 -> 3.9378261 | C10: קלנסואה | D10: =M10-L10-K10-J10-I10-H10-G10-F10-E10 -> 3.1130483 | E10: ='תעריף מים לכמות נוספת'!E10 -> 0.72809451 | F10: =M10*'תחשיב הכרה בעלויות '!$C$22 -> 0.098416205 | G10: ='תחשיב הכרה בעלויות '!$M$30 -> 0.55879601 | H10: ='תחשיב הכרה בעלויות '!$E$19 -> 0.38383298 | I10: ='תחשיב הכרה בעלויות '!$I$19 -> 0.44094483 | J10: ='תחשיב הכרה בעלויות '!$M$24 -> 0.85657249 | K10: =מטש!B40 -> 0.381375 | M10: =M9 -> 6.5610803 | P10: =J10+I10+K10+L10+(E10+F10)/2 -> 2.0921477 | R10: =+IFERROR(VLOOKUP(TRIM(C10&"-"&$R$2),'אגרות ביוב'!$A$8:$J$72,10,0),0) -> 0 | S10: =+IFERROR(VLOOKUP(TRIM(C10&"-"&$S$2),'אגרות ביוב'!$A$8:$J$72,10,0),0) -> 0 | T10: =+IFERROR(VLOOKUP(TRIM(C10&"-"&$T$2),'אגרות ביוב'!$A$8:$J$72,10,0),0) -> 0 | AD10: =C10 -> קלנסואה | AE10: =E10/2+F10/2+G10+H10 -> 1.3558844 | AF10: =E10/2+F10/2+I10+J10 -> 1.7107727 | AG10: =K10 -> 0.381375 | AH10: =L10 -> 0 | AI10: =D10 -> 3.1130483
A11: 9 | B11: =M11-L11-K11-J11-G11-F11-E11 -> 1.7425969 | C11: קריית יערים | D11: =M11-L11-K11-J11-I11-H11-G11-F11-E11 -> 0.91781914 | E11: ='תעריף מים לכמות נוספת'!E11 -> 0.72809451 | F11: =M11*'תחשיב הכרה בעלויות '!$C$22 -> 0.098416205 | G11: ='תחשיב הכרה בעלויות '!$M$30 -> 0.55879601 | H11: ='תחשיב הכרה בעלויות '!$E$19 -> 0.38383298 | I11: ='תחשיב הכרה בעלויות '!$I$19 -> 0.44094483 | J11: ='תחשיב הכרה בעלויות '!$M$24 -> 0.85657249 | K11: =K9 -> 1.661 | L11: =234033/'כמויות 2013'!G252 -> 0.91560415 | M11: =M10 -> 6.5610803 | P11: =J11+I11+K11+L11+(E11+F11)/2 -> 4.2873768 | R11: =+IFERROR(VLOOKUP(TRIM(C11&"-"&$R$2),'אגרות ביוב'!$A$8:$J$72,10,0),0) -> 2.1591072 | S11: =+IFERROR(VLOOKUP(TRIM(C11&"-"&$S$2),'אגרות ביוב'!$A$8:$J$72,10,0),0) -> 0 | T11: =+IFERROR(VLOOKUP(TRIM(C11&"-"&$T$2),'אגרות ביוב'!$A$8:$J$72,10,0),0) -> 0 | V11: 3.028 | W11: כמו מי שמש להפחית הון | X11: הולכה דרך בית שמש לברר עלות | Y11: בית שמש | Z11: שניוני | AD11: =C11 -> קריית יערים | AE11: =E11/2+F11/2+G11+H11 -> 1.3558844 | AF11: =E11/2+F11/2+I11+J11 -> 1.7107727 | AG11: =K11 -> 1.661 | AH11: =L11 -> 0.91560415 | AI11: =D11 -> 0.91781914
A12: 11 | B12: =M12-L12-K12-J12-G12-F12-E12 -> 2.4452011 | C12: כפר שמריהו | D12: =M12-L12-K12-J12-I12-H12-G12-F12-E12 -> 1.6204233 | E12: ='תעריף מים לכמות נוספת'!E12 -> 0.72809451 | F12: =M12*'תחשיב הכרה בעלויות '!$C$22 -> 0.098416205 | G12: ='תחשיב הכרה בעלויות '!$M$30 -> 0.55879601 | H12: ='תחשיב הכרה בעלויות '!$E$19 -> 0.38383298 | I12: ='תחשיב הכרה בעלויות '!$I$19 -> 0.44094483 | J12: ='תחשיב הכרה בעלויות '!$M$24 -> 0.85657249 | K12: 1.774 | L12: 0.1 | M12: =M11 -> 6.5610803 | P12: =J12+I12+K12+L12+(E12+F12)/2 -> 3.5847727 | R12: =+IFERROR(VLOOKUP(TRIM(C12&"-"&$R$2),'אגרות ביוב'!$A$8:$J$72,10,0),0) -> 0.85897937 | S12: =+IFERROR(VLOOKUP(TRIM(C12&"-"&$S$2),'אגרות ביוב'!$A$8:$J$72,10,0),0) -> 0 | T12: =+IFERROR(VLOOKUP(TRIM(C12&"-"&$T$2),'אגרות ביוב'!$A$8:$J$72,10,0),0) -> 0 | U12: אין מערכת ביוב עדיין | X12: יוני - אין חיבור עדיין אין עלות | AD12: =C12 -> כפר שמריהו | AE12: =E12/2+F12/2+G12+H12 -> 1.3558844 | AF12: =E12/2+F12/2+I12+J12 -> 1.7107727 | AG12: =K12 -> 1.774 | AH12: =L12 -> 0.1 | AI12: =D12 -> 1.6204233
A13: 12 | B13: =M13-L13-K13-J13-G13-F13-E13 -> 3.2259261 | C13: מיתר | D13: =M13-L13-K13-J13-I13-H13-G13-F13-E13 -> 2.4011483 | E13: ='תעריף מים לכמות נוספת'!E13 -> 0.72809451 | F13: =M13*'תחשיב הכרה בעלויות '!$C$22 -> 0.098416205 | G13: ='תחשיב הכרה בעלויות '!$M$30 -> 0.55879601 | H13: ='תחשיב הכרה בעלויות '!$E$19 -> 0.38383298 | I13: ='תחשיב הכרה בעלויות '!$I$19 -> 0.44094483 | J13: ='תחשיב הכרה בעלויות '!$M$24 -> 0.85657249 | K13: =מטש!F40 -> 1.093275 | M13: =M12 -> 6.5610803 | P13: =J13+I13+K13+L13+(E13+F13)/2 -> 2.8040477 | R13: =+IFERROR(VLOOKUP(TRIM(C13&"-"&$R$2),'אגרות ביוב'!$A$8:$J$72,10,0),0) -> 0.88939134 | S13: =+IFERROR(VLOOKUP(TRIM(C13&"-"&$S$2),'אגרות ביוב'!$A$8:$J$72,10,0),0) -> 0 | T13: =+IFERROR(VLOOKUP(TRIM(C13&"-"&$T$2),'אגרות ביוב'!$A$8:$J$72,10,0),0) -> 0 | U13: 0.65 | X13: התקבלו נתונים - לא סופי | Y13: שוקת | Z13: שלישוני | AD13: =C13 -> מיתר | AE13: =E13/2+F13/2+G13+H13 -> 1.3558844 | AF13: =E13/2+F13/2+I13+J13 -> 1.7107727 | AG13: =K13 -> 1.093275 | AH13: =L13 -> 0 | AI13: =D13 -> 2.4011483
A14: 14 | B14: =M14-L14-K14-J14-G14-F14-E14 -> 2.7850344 | C14: שהם | D14: =M14-L14-K14-J14-I14-H14-G14-F14-E14 -> 1.9602566 | E14: ='תעריף מים לכמות נוספת'!E14 -> 0.72809451 | F14: =M14*'תחשיב הכרה בעלויות '!$C$22 -> 0.098416205 | G14: ='תחשיב הכרה בעלויות '!$M$30 -> 0.55879601 | H14: ='תחשיב הכרה בעלויות '!$E$19 -> 0.38383298 | I14: ='תחשיב הכרה בעלויות '!$I$19 -> 0.44094483 | J14: ='תחשיב הכרה בעלויות '!$M$24 -> 0.85657249 | K14: =1.389/1.2 -> 1.1575 | L14: =(49+46+50+54-6+84+60+47+68)/1200 -> 0.37666667 | M14: =M13 -> 6.5610803 | P14: =J14+I14+K14+L14+(E14+F14)/2 -> 3.2449393 | R14: =+IFERROR(VLOOKUP(TRIM(C14&"-"&$R$2),'אגרות ביוב'!$A$8:$J$72,10,0),0) -> 0 | S14: =+IFERROR(VLOOKUP(TRIM(C14&"-"&$S$2),'אגרות ביוב'!$A$8:$J$72,10,0),0) -> 0 | T14: =+IFERROR(VLOOKUP(TRIM(C14&"-"&$T$2),'אגרות ביוב'!$A$8:$J$72,10,0),0) -> 0 | X14: מט"ש איילון לפי תקציב והולכה לפי כרטיסים | AD14: =C14 -> שהם | AE14: =E14/2+F14/2+G14+H14 -> 1.3558844 | AF14: =E14/2+F14/2+I14+J14 -> 1.7107727 | AG14: =K14 -> 1.1575 | AH14: =L14 -> 0.37666667 | AI14: =D14 -> 1.9602566
A15: 15 | B15: =M15-L15-K15-J15-G15-F15-E15 -> 3.4547511 | C15: אליכין | D15: =M15-L15-K15-J15-I15-H15-G15-F15-E15 -> 2.6299733 | E15: ='תעריף מים לכמות נוספת'!E15 -> 0.72809451 | F15: =M15*'תחשיב הכרה בעלויות '!$C$22 -> 0.098416205 | G15: ='תחשיב הכרה בעלויות '!$M$30 -> 0.55879601 | H15: ='תחשיב הכרה בעלויות '!$E$19 -> 0.38383298 | I15: ='תחשיב הכרה בעלויות '!$I$19 -> 0.44094483 | J15: ='תחשיב הכרה בעלויות '!$M$24 -> 0.85657249 | K15: =מטש!G40 -> 0.86445 | M15: =M14 -> 6.5610803 | P15: =J15+I15+K15+L15+(E15+F15)/2 -> 2.5752227 | R15: =+IFERROR(VLOOKUP(TRIM(C15&"-"&$R$2),'אגרות ביוב'!$A$8:$J$72,10,0),0) -> 1.1493225 | S15: =+IFERROR(VLOOKUP(TRIM(C15&"-"&$S$2),'אגרות ביוב'!$A$8:$J$72,10,0),0) -> 2.5458111 | T15: =+IFERROR(VLOOKUP(TRIM(C15&"-"&$T$2),'אגרות ביוב'!$A$8:$J$72,10,0),0) -> 0 | X15: אין מידע - מט"ש לשאול את זאבי | Y15: נתניה | AD15: =C15 -> אליכין | AE15: =E15/2+F15/2+G15+H15 -> 1.3558844 | AF15: =E15/2+F15/2+I15+J15 -> 1.7107727 | AG15: =K15 -> 0.86445 | AH15: =L15 -> 0 | AI15: =D15 -> 2.6299733
A16: 16 | B16: =M16-L16-K16-J16-G16-F16-E16 -> 3.9378261 | C16: טייבה | D16: =M16-L16-K16-J16-I16-H16-G16-F16-E16 -> 3.1130483 | E16: ='תעריף מים לכמות נוספת'!E16 -> 0.72809451 | F16: =M16*'תחשיב הכרה בעלויות '!$C$22 -> 0.098416205 | G16: ='תחשיב הכרה בעלויות '!$M$30 -> 0.55879601 | H16: ='תחשיב הכרה בעלויות '!$E$19 -> 0.38383298 | I16: ='תחשיב הכרה בעלויות '!$I$19 -> 0.44094483 | J16: ='תחשיב הכרה בעלויות '!$M$24 -> 0.85657249 | K16: =K10 -> 0.381375 | M16: =M15 -> 6.5610803 | P16: =J16+I16+K16+L16+(E16+F16)/2 -> 2.0921477 | R16: =+IFERROR(VLOOKUP(TRIM(C16&"-"&$R$2),'אגרות ביוב'!$A$8:$J$72,10,0),0) -> 1.1924065 | S16: =+IFERROR(VLOOKUP(TRIM(C16&"-"&$S$2),'אגרות ביוב'!$A$8:$J$72,10,0),0) -> 0.71253557 | T16: =+IFERROR(VLOOKUP(TRIM(C16&"-"&$T$2),'אגרות ביוב'!$A$8:$J$72,10,0),0) -> 2.2830221 | AD16: =C16 -> טייבה | AE16: =E16/2+F16/2+G16+H16 -> 1.3558844 | AF16: =E16/2+F16/2+I16+J16 -> 1.7107727 | AG16: =K16 -> 0.381375 | AH16: =L16 -> 0 | AI16: =D16 -> 3.1130483
A17: 17 | B17: =M17-L17-K17-J17-G17-F17-E17 -> 2.6582011 | C17: כפר תבור | D17: =M17-L17-K17-J17-I17-H17-G17-F17-E17 -> 1.8334233 | E17: ='תעריף מים לכמות נוספת'!E17 -> 0.72809451 | F17: =M17*'תחשיב הכרה בעלויות '!$C$22 -> 0.098416205 | G17: ='תחשיב הכרה בעלויות '!$M$30 -> 0.55879601 | H17: ='תחשיב הכרה בעלויות '!$E$19 -> 0.38383298 | I17: ='תחשיב הכרה בעלויות '!$I$19 -> 0.44094483 | J17: ='תחשיב הכרה בעלויות '!$M$24 -> 0.85657249 | K17: =K11 -> 1.661 | M17: =M16 -> 6.5610803 | P17: =J17+I17+K17+L17+(E17+F17)/2 -> 3.3717727 | R17: =+IFERROR(VLOOKUP(TRIM(C17&"-"&$R$2),'אגרות ביוב'!$A$8:$J$72,10,0),0) -> 0.70042006 | S17: =+IFERROR(VLOOKUP(TRIM(C17&"-"&$S$2),'אגרות ביוב'!$A$8:$J$72,10,0),0) -> 1.5009001 | T17: =+IFERROR(VLOOKUP(TRIM(C17&"-"&$T$2),'אגרות ביוב'!$A$8:$J$72,10,0),0) -> 0 | AD17: =C17 -> כפר תבור | AE17: =E17/2+F17/2+G17+H17 -> 1.3558844 | AF17: =E17/2+F17/2+I17+J17 -> 1.7107727 | AG17: =K17 -> 1.661 | AH17: =L17 -> 0 | AI17: =D17 -> 1.8334233
A18: 18 | B18: =M18-L18-K18-J18-G18-F18-E18 -> 3.2259261 | C18: להבים | D18: =M18-L18-K18-J18-I18-H18-G18-F18-E18 -> 2.4011483 | E18: ='תעריף מים לכמות נוספת'!E18 -> 0.72809451 | F18: =M18*'תחשיב הכרה בעלויות '!$C$22 -> 0.098416205 | G18: ='תחשיב הכרה בעלויות '!$M$30 -> 0.55879601 | H18: ='תחשיב הכרה בעלויות '!$E$19 -> 0.38383298 | I18: ='תחשיב הכרה בעלויות '!$I$19 -> 0.44094483 | J18: ='תחשיב הכרה בעלויות '!$M$24 -> 0.85657249 | K18: =מטש!F40 -> 1.093275 | M18: =M17 -> 6.5610803 | P18: =J18+I18+K18+L18+(E18+F18)/2 -> 2.8040477 | R18: 1.51 | S18: 1.82 | T18: =+IFERROR(VLOOKUP(TRIM(C18&"-"&$T$2),'אגרות ביוב'!$A$8:$J$72,10,0),0) -> 0.32131596 | U18: =SUM(R18:T18) -> 3.651316 | X18: השערה שלישוני ללא עלות הון ההקמה במימון ממ"י | Y18: להבים | Z18: שלישוני | AD18: =C18 -> להבים | AE18: =E18/2+F18/2+G18+H18 -> 1.3558844 | AF18: =E18/2+F18/2+I18+J18 -> 1.7107727 | AG18: =K18 -> 1.093275 | AH18: =L18 -> 0 | AI18: =D18 -> 2.4011483
A19: 19 | B19: =M19-L19-K19-J19-G19-F19-E19 -> 3.2428761 | C19: נהריה | D19: =M19-L19-K19-J19-I19-H19-G19-F19-E19 -> 2.4180983 | E19: ='תעריף מים לכמות נוספת'!E19 -> 0.72809451 | F19: =M19*'תחשיב הכרה בעלויות '!$C$22 -> 0.098416205 | G19: ='תחשיב הכרה בעלויות '!$M$30 -> 0.55879601 | H19: ='תחשיב הכרה בעלויות '!$E$19 -> 0.38383298 | I19: ='תחשיב הכרה בעלויות '!$I$19 -> 0.44094483 | J19: ='תחשיב הכרה בעלויות '!$M$24 -> 0.85657249 | K19: =מטש!E38 -> 1.076325 | M19: =M18 -> 6.5610803 | P19: =J19+I19+K19+L19+(E19+F19)/2 -> 2.7870977 | R19: =+IFERROR(VLOOKUP(TRIM(C19&"-"&$R$2),'אגרות ביוב'!$A$8:$J$72,10,0),0) -> 1.9617288 | S19: =+IFERROR(VLOOKUP(TRIM(C19&"-"&$S$2),'אגרות ביוב'!$A$8:$J$72,10,0),0) -> 1.7165127 | T19: =+IFERROR(VLOOKUP(TRIM(C19&"-"&$T$2),'אגרות ביוב'!$A$8:$J$72,10,0),0) -> 0 | U19: =P18-K18-I18 -> 1.2698279 | Y19: נהריה | Z19: שניוני | AD19: =C19 -> נהריה | AE19: =E19/2+F19/2+G19+H19 -> 1.3558844 | AF19: =E19/2+F19/2+I19+J19 -> 1.7107727 | AG19: =K19 -> 1.076325 | AH19: =L19 -> 0 | AI19: =D19 -> 2.4180983
A20: 20 | B20: =M20-L20-K20-J20-G20-F20-E20 -> 2.7748185 | C20: נשר | D20: =M20-L20-K20-J20-I20-H20-G20-F20-E20 -> 1.9500407 | E20: ='תעריף מים לכמות נוספת'!E20 -> 0.72809451 | F20: =M20*'תחשיב הכרה בעלויות '!$C$22 -> 0.098416205 | G20: ='תחשיב הכרה בעלויות '!$M$30 -> 0.55879601 | H20: ='תחשיב הכרה בעלויות '!$E$19 -> 0.38383298 | I20: ='תחשיב הכרה בעלויות '!$I$19 -> 0.44094483 | J20: ='תחשיב הכרה בעלויות '!$M$24 -> 0.85657249 | K20: ='[2]מטשים 2015'!$K$76 -> 1.5443826 | M20: =M19 -> 6.5610803 | P20: =J20+I20+K20+L20+(E20+F20)/2 -> 3.2551553 | R20: =+IFERROR(VLOOKUP(TRIM(C20&"-"&$R$2),'אגרות ביוב'!$A$8:$J$72,10,0),0) -> 0.6312256 | S20: =+IFERROR(VLOOKUP(TRIM(C20&"-"&$S$2),'אגרות ביוב'!$A$8:$J$72,10,0),0) -> 0 | T20: =+IFERROR(VLOOKUP(TRIM(C20&"-"&$T$2),'אגרות ביוב'!$A$8:$J$72,10,0),0) -> 0 | W20: תחשיב עלות אחזקה עלות עובדים חריגה | X20: התקבל תחשיב של בוכניק | Y20: חיפה | Z20: שניוני | AD20: =C20 -> נשר | AE20: =E20/2+F20/2+G20+H20 -> 1.3558844 | AF20: =E20/2+F20/2+I20+J20 -> 1.7107727 | AG20: =K20 -> 1.5443826 | AH20: =L20 -> 0 | AI20: =D20 -> 1.9500407
A21: 21 | B21: =M21-L21-K21-J21-G21-F21-E21 -> 2.7592011 | C21: סביון | D21: =M21-L21-K21-J21-I21-H21-G21-F21-E21 -> 1.9344233 | E21: ='תעריף מים לכמות נוספת'!E21 -> 0.72809451 | F21: =M21*'תחשיב הכרה בעלויות '!$C$22 -> 0.098416205 | G21: ='תחשיב הכרה בעלויות '!$M$30 -> 0.55879601 | H21: ='תחשיב הכרה בעלויות '!$E$19 -> 0.38383298 | I21: ='תחשיב הכרה בעלויות '!$I$19 -> 0.44094483 | J21: ='תחשיב הכרה בעלויות '!$M$24 -> 0.85657249 | K21: 1.24 | L21: 0.32 | M21: =M20 -> 6.5610803 | P21: =J21+I21+K21+L21+(E21+F21)/2 -> 3.2707727 | R21: =+IFERROR(VLOOKUP(TRIM(C21&"-"&$R$2),'אגרות ביוב'!$A$8:$J$72,10,0),0) -> 3.3242824 | S21: =+IFERROR(VLOOKUP(TRIM(C21&"-"&$S$2),'אגרות ביוב'!$A$8:$J$72,10,0),0) -> 0 | T21: =+IFERROR(VLOOKUP(TRIM(C21&"-"&$T$2),'אגרות ביוב'!$A$8:$J$72,10,0),0) -> 0 | U21: אין מערכת ביוב | AD21: =C21 -> סביון | AE21: =E21/2+F21/2+G21+H21 -> 1.3558844 | AF21: =E21/2+F21/2+I21+J21 -> 1.7107727 | AG21: =K21 -> 1.24 | AH21: =L21 -> 0.32 | AI21: =D21 -> 1.9344233
A22: 22 | B22: =M22-L22-K22-J22-G22-F22-E22 -> 3.2259261 | C22: עומר | D22: =M22-L22-K22-J22-I22-H22-G22-F22-E22 -> 2.4011483 | E22: ='תעריף מים לכמות נוספת'!E22 -> 0.72809451 | F22: =M22*'תחשיב הכרה בעלויות '!$C$22 -> 0.098416205 | G22: ='תחשיב הכרה בעלויות '!$M$30 -> 0.55879601 | H22: ='תחשיב הכרה בעלויות '!$E$19 -> 0.38383298 | I22: ='תחשיב הכרה בעלויות '!$I$19 -> 0.44094483 | J22: ='תחשיב הכרה בעלויות '!$M$24 -> 0.85657249 | K22: =מטש!F40 -> 1.093275 | M22: =M21 -> 6.5610803 | P22: =J22+I22+K22+L22+(E22+F22)/2 -> 2.8040477 | R22: =+IFERROR(VLOOKUP(TRIM(C22&"-"&$R$2),'אגרות ביוב'!$A$8:$J$72,10,0),0) -> 2.7805115 | S22: =+IFERROR(VLOOKUP(TRIM(C22&"-"&$S$2),'אגרות ביוב'!$A$8:$J$72,10,0),0) -> 0 | T22: =+IFERROR(VLOOKUP(TRIM(C22&"-"&$T$2),'אגרות ביוב'!$A$8:$J$72,10,0),0) -> 0 | Y22: עומר | Z22: שלישוני | AD22: =C22 -> עומר | AE22: =E22/2+F22/2+G22+H22 -> 1.3558844 | AF22: =E22/2+F22/2+I22+J22 -> 1.7107727 | AG22: =K22 -> 1.093275 | AH22: =L22 -> 0 | AI22: =D22 -> 2.4011483
A23: 23 | B23: =M23-L23-K23-J23-G23-F23-E23 -> 2.2040875 | C23: פרדס חנה-כרכור | D23: =M23-L23-K23-J23-I23-H23-G23-F23-E23 -> 1.3793097 | E23: ='תעריף מים לכמות נוספת'!E23 -> 0.72809451 | F23: =M23*'תחשיב הכרה בעלויות '!$C$22 -> 0.098416205 | G23: ='תחשיב הכרה בעלויות '!$M$30 -> 0.55879601 | H23: ='תחשיב הכרה בעלויות '!$E$19 -> 0.38383298 | I23: ='תחשיב הכרה בעלויות '!$I$19 -> 0.44094483 | J23: ='תחשיב הכרה בעלויות '!$M$24 -> 0.85657249 | K23: =K29 -> 1.6592421 | L23: =(1+0.4+0.2+0.6-K23)*145/(145.5+26.5) -> 0.45587149 | M23: =M22 -> 6.5610803 | P23: =J23+I23+K23+L23+(E23+F23)/2 -> 3.8258863 | R23: =+IFERROR(VLOOKUP(TRIM(C23&"-"&$R$2),'אגרות ביוב'!$A$8:$J$72,10,0),0) -> 2.8688195 | S23: =+IFERROR(VLOOKUP(TRIM(C23&"-"&$S$2),'אגרות ביוב'!$A$8:$J$72,10,0),0) -> 0 | T23: =+IFERROR(VLOOKUP(TRIM(C23&"-"&$T$2),'אגרות ביוב'!$A$8:$J$72,10,0),0) -> 0 | Y23: חדרה | Z23: שניוני | AD23: =C23 -> פרדס חנה-כרכור | AE23: =E23/2+F23/2+G23+H23 -> 1.3558844 | AF23: =E23/2+F23/2+I23+J23 -> 1.7107727 | AG23: =K23 -> 1.6592421 | AH23: =L23 -> 0.45587149 | AI23: =D23 -> 1.3793097
A24: 24 | B24: =M24-L24-K24-J24-G24-F24-E24 -> 3.9378261 | C24: שדרות | D24: =M24-L24-K24-J24-I24-H24-G24-F24-E24 -> 3.1130483 | E24: ='תעריף מים לכמות נוספת'!E24 -> 0.72809451 | F24: =M24*'תחשיב הכרה בעלויות '!$C$22 -> 0.098416205 | G24: ='תחשיב הכרה בעלויות '!$M$30 -> 0.55879601 | H24: ='תחשיב הכרה בעלויות '!$E$19 -> 0.38383298 | I24: ='תחשיב הכרה בעלויות '!$I$19 -> 0.44094483 | J24: ='תחשיב הכרה בעלויות '!$M$24 -> 0.85657249 | K24: =מטש!B40 -> 0.381375 | M24: =M23 -> 6.5610803 | P24: =J24+I24+K24+L24+(E24+F24)/2 -> 2.0921477 | R24: =+IFERROR(VLOOKUP(TRIM(C24&"-"&$R$2),'אגרות ביוב'!$A$8:$J$72,10,0),0) -> 0 | S24: =+IFERROR(VLOOKUP(TRIM(C24&"-"&$S$2),'אגרות ביוב'!$A$8:$J$72,10,0),0) -> 0 | T24: =+IFERROR(VLOOKUP(TRIM(C24&"-"&$T$2),'אגרות ביוב'!$A$8:$J$72,10,0),0) -> 0 | X24: עדיין לא פועל ? | Y24: שדרות | Z24: שלישוני | AD24: =C24 -> שדרות | AE24: =E24/2+F24/2+G24+H24 -> 1.3558844 | AF24: =E24/2+F24/2+I24+J24 -> 1.7107727 | AG24: =K24 -> 0.381375 | AH24: =L24 -> 0 | AI24: =D24 -> 3.1130483
A25: 25 | B25: =M25-L25-K25-J25-G25-F25-E25 -> 3.4462761 | C25: מעיליא | D25: =M25-L25-K25-J25-I25-H25-G25-F25-E25 -> 2.6214983 | E25: ='תעריף מים לכמות נוספת'!E25 -> 0.72809451 | F25: =M25*'תחשיב הכרה בעלויות '!$C$22 -> 0.098416205 | G25: ='תחשיב הכרה בעלויות '!$M$30 -> 0.55879601 | H25: ='תחשיב הכרה בעלויות '!$E$19 -> 0.38383298 | I25: ='תחשיב הכרה בעלויות '!$I$19 -> 0.44094483 | J25: ='תחשיב הכרה בעלויות '!$M$24 -> 0.85657249 | K25: =מטש!D40 -> 0.872925 | M25: =M24 -> 6.5610803 | P25: =J25+I25+K25+L25+(E25+F25)/2 -> 2.5836977 | R25: =+IFERROR(VLOOKUP(TRIM(C25&"-"&$R$2),'אגרות ביוב'!$A$8:$J$72,10,0),0) -> 0.97462849 | S25: =+IFERROR(VLOOKUP(TRIM(C25&"-"&$S$2),'אגרות ביוב'!$A$8:$J$72,10,0),0) -> 0 | T25: =+IFERROR(VLOOKUP(TRIM(C25&"-"&$T$2),'אגרות ביוב'!$A$8:$J$72,10,0),0) -> 0 | AD25: =C25 -> מעיליא | AE25: =E25/2+F25/2+G25+H25 -> 1.3558844 | AF25: =E25/2+F25/2+I25+J25 -> 1.7107727 | AG25: =K25 -> 0.872925 | AH25: =L25 -> 0 | AI25: =D25 -> 2.6214983
A26: 26 | B26: =M26-L26-K26-J26-G26-F26-E26 -> 3.4462761 | C26: ראש פינה | D26: =M26-L26-K26-J26-I26-H26-G26-F26-E26 -> 2.6214983 | E26: ='תעריף מים לכמות נוספת'!E26 -> 0.72809451 | F26: =M26*'תחשיב הכרה בעלויות '!$C$22 -> 0.098416205 | G26: ='תחשיב הכרה בעלויות '!$M$30 -> 0.55879601 | H26: ='תחשיב הכרה בעלויות '!$E$19 -> 0.38383298 | I26: ='תחשיב הכרה בעלויות '!$I$19 -> 0.44094483 | J26: ='תחשיב הכרה בעלויות '!$M$24 -> 0.85657249 | K26: =מטש!D40 -> 0.872925 | M26: =M25 -> 6.5610803 | P26: =J26+I26+K26+L26+(E26+F26)/2 -> 2.5836977 | R26: =+IFERROR(VLOOKUP(TRIM(C26&"-"&$R$2),'אגרות ביוב'!$A$8:$J$72,10,0),0) -> 2.0865661 | S26: =+IFERROR(VLOOKUP(TRIM(C26&"-"&$S$2),'אגרות ביוב'!$A$8:$J$72,10,0),0) -> 0 | T26: =+IFERROR(VLOOKUP(TRIM(C26&"-"&$T$2),'אגרות ביוב'!$A$8:$J$72,10,0),0) -> 0 | X26: לבדוק עם פלג | Y26: צח"ר | Z26: שלישוני | AD26: =C26 -> ראש פינה | AE26: =E26/2+F26/2+G26+H26 -> 1.3558844 | AF26: =E26/2+F26/2+I26+J26 -> 1.7107727 | AG26: =K26 -> 0.872925 | AH26: =L26 -> 0 | AI26: =D26 -> 2.6214983
A27: 27 | B27: =M27-L27-K27-J27-G27-F27-E27 -> 2.659959 | C27: ג'סר אל זרקא | D27: =M27-L27-K27-J27-I27-H27-G27-F27-E27 -> 1.8351812 | E27: ='תעריף מים לכמות נוספת'!E27 -> 0.72809451 | F27: =M27*'תחשיב הכרה בעלויות '!$C$22 -> 0.098416205 | G27: ='תחשיב הכרה בעלויות '!$M$30 -> 0.55879601 | H27: ='תחשיב הכרה בעלויות '!$E$19 -> 0.38383298 | I27: ='תחשיב הכרה בעלויות '!$I$19 -> 0.44094483 | J27: ='תחשיב הכרה בעלויות '!$M$24 -> 0.85657249 | K27: =K29 -> 1.6592421 | M27: =M26 -> 6.5610803 | P27: =J27+I27+K27+L27+(E27+F27)/2 -> 3.3700148 | R27: =+IFERROR(VLOOKUP(TRIM(C27&"-"&$R$2),'אגרות ביוב'!$A$8:$J$72,10,0),0) -> 2.4541021 | S27: =+IFERROR(VLOOKUP(TRIM(C27&"-"&$S$2),'אגרות ביוב'!$A$8:$J$72,10,0),0) -> 0 | T27: =+IFERROR(VLOOKUP(TRIM(C27&"-"&$T$2),'אגרות ביוב'!$A$8:$J$72,10,0),0) -> 0.82218648 | X27: =X5 -> נתונים מגזבר אור עקיבא במייל | Y27: חדרה | Z27: שניוני | AD27: =C27 -> ג'סר אל זרקא | AE27: =E27/2+F27/2+G27+H27 -> 1.3558844 | AF27: =E27/2+F27/2+I27+J27 -> 1.7107727 | AG27: =K27 -> 1.6592421 | AH27: =L27 -> 0 | AI27: =D27 -> 1.8351812
A28: 28 | B28: =M28-L28-K28-J28-G28-F28-E28 -> 3.6412011 | C28: קציר-חריש | D28: =M28-L28-K28-J28-I28-H28-G28-F28-E28 -> 2.8164233 | E28: ='תעריף מים לכמות נוספת'!E28 -> 0.72809451 | F28: =M28*'תחשיב הכרה בעלויות '!$C$22 -> 0.098416205 | G28: ='תחשיב הכרה בעלויות '!$M$30 -> 0.55879601 | H28: ='תחשיב הכרה בעלויות '!$E$19 -> 0.38383298 | I28: ='תחשיב הכרה בעלויות '!$I$19 -> 0.44094483 | J28: ='תחשיב הכרה בעלויות '!$M$24 -> 0.85657249 | K28: =מטש!E40 -> 0.678 | M28: =M27 -> 6.5610803 | P28: =J28+I28+K28+L28+(E28+F28)/2 -> 2.3887727 | R28: =+IFERROR(VLOOKUP(TRIM(C28&"-"&$R$2),'אגרות ביוב'!$A$8:$J$72,10,0),0) -> 1.065059 | S28: =+IFERROR(VLOOKUP(TRIM(C28&"-"&$S$2),'אגרות ביוב'!$A$8:$J$72,10,0),0) -> 0 | T28: =+IFERROR(VLOOKUP(TRIM(C28&"-"&$T$2),'אגרות ביוב'!$A$8:$J$72,10,0),0) -> 0 | X28: מט"ש בהקמה | AD28: =C28 -> קציר-חריש | AE28: =E28/2+F28/2+G28+H28 -> 1.3558844 | AF28: =E28/2+F28/2+I28+J28 -> 1.7107727 | AG28: =K28 -> 0.678 | AH28: =L28 -> 0 | AI28: =D28 -> 2.8164233
A29: 29 | B29: =M29-L29-K29-J29-G29-F29-E29 -> 2.659959 | C29: אור עקיבא | D29: =M29-L29-K29-J29-I29-H29-G29-F29-E29 -> 1.8351812 | E29: ='תעריף מים לכמות נוספת'!E29 -> 0.72809451 | F29: =M29*'תחשיב הכרה בעלויות '!$C$22 -> 0.098416205 | G29: ='תחשיב הכרה בעלויות '!$M$30 -> 0.55879601 | H29: ='תחשיב הכרה בעלויות '!$E$19 -> 0.38383298 | I29: ='תחשיב הכרה בעלויות '!$I$19 -> 0.44094483 | J29: ='תחשיב הכרה בעלויות '!$M$24 -> 0.85657249 | K29: ='[2]מטשים 2015'!$K$56 -> 1.6592421 | M29: =M28 -> 6.5610803 | P29: =J29+I29+K29+L29+(E29+F29)/2 -> 3.3700148 | R29: =+IFERROR(VLOOKUP(TRIM(C29&"-"&$R$2),'אגרות ביוב'!$A$8:$J$72,10,0),0) -> 2.610679 | S29: =+IFERROR(VLOOKUP(TRIM(C29&"-"&$S$2),'אגרות ביוב'!$A$8:$J$72,10,0),0) -> 0 | T29: =+IFERROR(VLOOKUP(TRIM(C29&"-"&$T$2),'אגרות ביוב'!$A$8:$J$72,10,0),0) -> 0 | U29: =1045/1643 -> 0.63603165 | X29: נתונים מגזבר אור עקיבא במייל | Y29: חדרה | Z29: שניוני
C30: באר יעקב | D30: =M30-L30-K30-J30-I30-H30-G30-F30-E30 -> 2.6062113 | E30: =+E29 -> 0.72809451 | F30: =+F29 -> 0.098416205 | G30: ='תחשיב הכרה בעלויות '!$M$30 -> 0.55879601 | H30: ='תחשיב הכרה בעלויות '!$E$19 -> 0.38383298 | I30: ='תחשיב הכרה בעלויות '!$I$19 -> 0.44094483 | J30: ='תחשיב הכרה בעלויות '!$M$24 -> 0.85657249 | K30: =+'[3]מטשים 2015'!$B$7 -> 0.88821199 | M30: =M29 -> 6.5610803
A32: 1 | C32: גדרה | D32: =M32-L32-K32-J32-I32-H32-G32-F32-E32 -> 6.510045 | E32: ='תחשיב הכרה בעלויות '!$C$14+'תחשיב הכרה בעלויות '!$J$14 -> 0.87303059 | F32: ='תחשיב הכרה בעלויות '!$C$15+'תחשיב הכרה בעלויות '!$J$15 -> 0.15177809 | G32: ='תחשיב הכרה בעלויות '!$M$30 -> 0.55879601 | H32: ='תחשיב הכרה בעלויות '!$E$19 -> 0.38383298 | I32: ='תחשיב הכרה בעלויות '!$I$19 -> 0.44094483 | J32: ='תחשיב הכרה בעלויות '!$M$24 -> 0.85657249 | K32: 1.2 | M32: 10.975 | R32: =+IFERROR(VLOOKUP(TRIM(C32&"-"&$R$2),'אגרות ביוב'!$A$8:$J$72,10,0),0) -> 1.4729215 | S32: =+IFERROR(VLOOKUP(TRIM(C32&"-"&$S$2),'אגרות ביוב'!$A$8:$J$72,10,0),0) -> 1.0110732 | T32: =+IFERROR(VLOOKUP(TRIM(C32&"-"&$T$2),'אגרות ביוב'!$A$8:$J$72,10,0),0) -> 0 | W32: מצטרף לתאגיד | Y32: נשגב | Z32: שלישוני | AD32: יישוב | AE32: מרווח מים | AF32: מרווח ביוב | AG32: מט"ש | AH32: הולכה | AI32: תעריף רכישה גבוה
A33: 2 | C33: זמר | D33: =M33-L33-K33-J33-I33-H33-G33-F33-E33 -> 7.710045 | E33: ='תחשיב הכרה בעלויות '!$C$14+'תחשיב הכרה בעלויות '!$J$14 -> 0.87303059 | F33: ='תחשיב הכרה בעלויות '!$C$15+'תחשיב הכרה בעלויות '!$J$15 -> 0.15177809 | G33: ='תחשיב הכרה בעלויות '!$M$30 -> 0.55879601 | H33: ='תחשיב הכרה בעלויות '!$E$19 -> 0.38383298 | I33: ='תחשיב הכרה בעלויות '!$I$19 -> 0.44094483 | J33: ='תחשיב הכרה בעלויות '!$M$24 -> 0.85657249 | M33: 10.975 | R33: =+IFERROR(VLOOKUP(TRIM(C33&"-"&$R$2),'אגרות ביוב'!$A$8:$J$72,10,0),0) -> 0 | S33: =+IFERROR(VLOOKUP(TRIM(C33&"-"&$S$2),'אגרות ביוב'!$A$8:$J$72,10,0),0) -> 0 | T33: =+IFERROR(VLOOKUP(TRIM(C33&"-"&$T$2),'אגרות ביוב'!$A$8:$J$72,10,0),0) -> 0 | W33: צורף לתאגיד | AD33: =AD3 -> גבעת שמואל | AE33: =AE3 -> 1.3558844 | AF33: =AF3 -> 1.7107727 | AG33: =AG3 -> 2.0556594 | AH33: =AH3 -> 0.090318952 | AI33: =AI3 -> 1.348445
A34: 3 | C34: בני עי"ש | D34: =M34-L34-K34-J34-I34-H34-G34-F34-E34 -> 6.510045 | E34: ='תחשיב הכרה בעלויות '!$C$14+'תחשיב הכרה בעלויות '!$J$14 -> 0.87303059 | F34: ='תחשיב הכרה בעלויות '!$C$15+'תחשיב הכרה בעלויות '!$J$15 -> 0.15177809 | G34: ='תחשיב הכרה בעלויות '!$M$30 -> 0.55879601 | H34: ='תחשיב הכרה בעלויות '!$E$19 -> 0.38383298 | I34: ='תחשיב הכרה בעלויות '!$I$19 -> 0.44094483 | J34: ='תחשיב הכרה בעלויות '!$M$24 -> 0.85657249 | K34: 1.2 | M34: 10.975 | R34: =+IFERROR(VLOOKUP(TRIM(C34&"-"&$R$2),'אגרות ביוב'!$A$8:$J$72,10,0),0) -> 2.268574 | S34: =+IFERROR(VLOOKUP(TRIM(C34&"-"&$S$2),'אגרות ביוב'!$A$8:$J$72,10,0),0) -> 0.91270015 | T34: =+IFERROR(VLOOKUP(TRIM(C34&"-"&$T$2),'אגרות ביוב'!$A$8:$J$72,10,0),0) -> 0 | W34: מצטרף לתאגיד | Y34: נשגב | Z34: שלישוני | AD34: =AD19 -> נהריה | AE34: =AE19 -> 1.3558844 | AF34: =AF19 -> 1.7107727 | AG34: =AG19 -> 1.076325 | AH34: =AH19 -> 0 | AI34: =AI19 -> 2.4180983
A35: 4 | C35: יהוד-מונוסון | D35: =M35-L35-K35-J35-I35-H35-G35-F35-E35 -> 7.110045 | E35: ='תחשיב הכרה בעלויות '!$C$14+'תחשיב הכרה בעלויות '!$J$14 -> 0.87303059 | F35: ='תחשיב הכרה בעלויות '!$C$15+'תחשיב הכרה בעלויות '!$J$15 -> 0.15177809 | G35: ='תחשיב הכרה בעלויות '!$M$30 -> 0.55879601 | H35: ='תחשיב הכרה בעלויות '!$E$19 -> 0.38383298 | I35: ='תחשיב הכרה בעלויות '!$I$19 -> 0.44094483 | J35: ='תחשיב הכרה בעלויות '!$M$24 -> 0.85657249 | L35: 0.6 | M35: 10.975 | R35: =+IFERROR(VLOOKUP(TRIM(C35&"-"&$R$2),'אגרות ביוב'!$A$8:$J$72,10,0),0) -> 1.0805431 | S35: =+IFERROR(VLOOKUP(TRIM(C35&"-"&$S$2),'אגרות ביוב'!$A$8:$J$72,10,0),0) -> 2.3598069 | T35: =+IFERROR(VLOOKUP(TRIM(C35&"-"&$T$2),'אגרות ביוב'!$A$8:$J$72,10,0),0) -> 1.6394448 | V35: =3.531 -> 3.531 | W35: כמו קריית אונו צריך להפחית הון | X35: הולכה דרך אור יהודה לברר עלות | Y35: איגודן | Z35: איגודן | AD35: =AD20 -> נשר | AE35: =AE20 -> 1.3558844 | AF35: =AF20 -> 1.7107727 | AG35: =AG20 -> 1.5443826 | AH35: =AH20 -> 0 | AI35: =AI20 -> 1.9500407
A36: 5 | C36: קריית מלאכי | D36: =M36-L36-K36-J36-I36-H36-G36-F36-E36 -> 6.060045 | E36: ='תחשיב הכרה בעלויות '!$C$14+'תחשיב הכרה בעלויות '!$J$14 -> 0.87303059 | F36: ='תחשיב הכרה בעלויות '!$C$15+'תחשיב הכרה בעלויות '!$J$15 -> 0.15177809 | G36: ='תחשיב הכרה בעלויות '!$M$30 -> 0.55879601 | H36: ='תחשיב הכרה בעלויות '!$E$19 -> 0.38383298 | I36: ='תחשיב הכרה בעלויות '!$I$19 -> 0.44094483 | J36: ='תחשיב הכרה בעלויות '!$M$24 -> 0.85657249 | K36: 1.65 | M36: 10.975 | R36: =+IFERROR(VLOOKUP(TRIM(C36&"-"&$R$2),'אגרות ביוב'!$A$8:$J$72,10,0),0) -> 1.4354744 | S36: =+IFERROR(VLOOKUP(TRIM(C36&"-"&$S$2),'אגרות ביוב'!$A$8:$J$72,10,0),0) -> 1.4354744 | T36: =+IFERROR(VLOOKUP(TRIM(C36&"-"&$T$2),'אגרות ביוב'!$A$8:$J$72,10,0),0) -> 0 | W36: מצטרף לתאגיד | Y36: תימורים | Z36: שניוני | AD36: =AD14 -> שהם | AE36: =AE14 -> 1.3558844 | AF36: =AF14 -> 1.7107727 | AG36: =AG14 -> 1.1575 | AH36: =AH14 -> 0.37666667 | AI36: =AI14 -> 1.9602566
AD37: =#REF! -> #REF! | AE37: =#REF! -> #REF! | AF37: =#REF! -> #REF! | AG37: =#REF! -> #REF! | AH37: =#REF! -> #REF! | AI37: =#REF! -> #REF!
A40: 9 | C40: כעביה-טבאש | D40: =M40-L40-K40-J40-I40-H40-G40-F40-E40 -> 7.710045 | E40: ='תחשיב הכרה בעלויות '!$C$14+'תחשיב הכרה בעלויות '!$J$14 -> 0.87303059 | F40: ='תחשיב הכרה בעלויות '!$C$15+'תחשיב הכרה בעלויות '!$J$15 -> 0.15177809 | G40: ='תחשיב הכרה בעלויות '!$M$30 -> 0.55879601 | H40: ='תחשיב הכרה בעלויות '!$E$19 -> 0.38383298 | I40: ='תחשיב הכרה בעלויות '!$I$19 -> 0.44094483 | J40: ='תחשיב הכרה בעלויות '!$M$24 -> 0.85657249 | M40: 10.975 | R40: =+IFERROR(VLOOKUP(TRIM(C40&"-"&$R$2),'אגרות ביוב'!$A$8:$J$72,10,0),0) -> 0 | S40: =+IFERROR(VLOOKUP(TRIM(C40&"-"&$S$2),'אגרות ביוב'!$A$8:$J$72,10,0),0) -> 0 | T40: =+IFERROR(VLOOKUP(TRIM(C40&"-"&$T$2),'אגרות ביוב'!$A$8:$J$72,10,0),0) -> 0
K45: =2.2*0.75 -> 1.65

Sheet תעריף מים לכמות נוספת
R1: חוקי עזר | AI1: תעריף רשויות מקומיות | AJ1: 4.885 | AK1: תעריף רשות מקומית | AM1: 9.559
A2: מס' | B2: תעריף גבוה כולל גביית קרן שיקום מים וביוב | C2: שם רשות מקומית | D2: תעריף מים גבוה | E2: פחת מים | F2: פחת גביה | G2: מרווח חלוקה מים | H2: קרן שיקום מים | I2: קרן שיקום ביוב | J2: מרווח חלוקה ביוב | K2: מט"ש | L2: שרותי תשתית | M2: תעריף מכירה גבוה | P2: רכיב ביוב כולל מט"ש והולכה מודל מוצע | Q2: רכיב ביוב ללא מט"ש חוקי עזר | R2: אגרה | S2: מט"ש | T2: החזר הון | U2: יחס ביוב | V2: תעריף ביוב תאגיד סמוך | W2: הערות 1 | X2: הערות 2 | Y2: מט"ש | Z2: סוג | AD2: יישוב | AE2: מרווח מים | AF2: מרווח ביוב | AG2: מט"ש | AH2: הולכה | AI2: תעריף רכישה גבוה | AJ2: תעריף צרכן למים וביוב לפני כמות מוכרת | AK2: תעריף צרכן למים וביוב תאגיד כמות מוכרת כולל מע"מ | AL2: הפרש לכמות מוכרת | AM2: תעריף צרכן למים וביוב מעל כמות מוכרת | AN2: תעריף צרכן למים וביוב תאגיד | AO2: הפרש לתעריף שולי | AP2: תעריף ביוב כולל מע"מ מתווה חדש | AQ2: תעריף למים רשויות + ביוב חדש כולל מע"מ ללא קטימה לפי תעריף תאגידים | AR2: תעריף צרכן מים _+ ביוב בשתי שורות | AS2: הפרש - בין תעריף נוכחי לתעריף עם ביוב מוצע | AT2: הפרש בין תעריף קודם לצרכן לבין תעריף חדש לפי תאגידים | AV2: תעריף ביוב שביקשו רשויות מסויימות
A3: 1 | B3: =M3-L3-K3-J3-G3-F3-E3 -> 6.1119088 | C3: גבעת שמואל | D3: =M3-L3-K3-J3-I3-H3-G3-F3-E3 -> 5.287131 | E3: =(M3-F3)*'תחשיב הכרה בעלויות '!$C$21 -> 0.72809451 | F3: =M3*'תחשיב הכרה בעלויות '!$C$22 -> 0.15839619 | G3: ='תחשיב הכרה בעלויות '!$M$30 -> 0.55879601 | H3: ='תחשיב הכרה בעלויות '!$E$19 -> 0.38383298 | I3: ='תחשיב הכרה בעלויות '!$I$19 -> 0.44094483 | J3: ='תחשיב הכרה בעלויות '!$M$24 -> 0.85657249 | K3: ='תעריף כמות מוכרת'!K3 -> 2.0556594 | L3: =150*1000/'כמויות 2013'!H220 -> 0.090318952 | M3: =+'[1]גיליון סימולציה לתעריפי 2016'!$F$39 -> 10.559746 | P3: =J3+I3+K3+L3 -> 3.4434956 | R3: =+IFERROR(VLOOKUP(TRIM(C3&"-"&$R$2),'אגרות ביוב'!$A$8:$J$72,10,0),0) -> 2.5179916 | S3: =+IFERROR(VLOOKUP(TRIM(C3&"-"&$S$2),'אגרות ביוב'!$A$8:$J$72,10,0),0) -> 0 | T3: =+IFERROR(VLOOKUP(TRIM(C3&"-"&$T$2),'אגרות ביוב'!$A$8:$J$72,10,0),0) -> 0 | V3: =3.703 -> 3.703 | W3: לפי נתוני המועצה מסמך בוכניק כללו תקורות וגביה ועלויות בפועל של עובדים | X3: הולכה דרך מיתב | Y3: איגודן | Z3: איגודן | AD3: =C3 -> גבעת שמואל | AE3: =E3/2+F3/2+G3+H3 -> 1.3858743 | AF3: =E3/2+F3/2+I3+J3 -> 1.7407627 | AG3: =K3 -> 2.0556594 | AH3: =L3 -> 0.090318952 | AI3: =D3 -> 5.287131 | AJ3: =R3+T3+S3+$AJ$1 -> 7.4029916 | AK3: 7.966 | AL3: =IF(R3+S3+T3=0,"E",AK3-AJ3) -> 0.56300836 | AM3: =R3+T3+S3+$AM$1 -> 12.076992 | AN3: 12.821 | AO3: =IF(R3+T3+S3=0,"E",AN3-AM3) -> 0.74400836 | AP3: ='[4]תעריף רכישה רשויות '!D3 -> 4.1663863 | AQ3: =AP3+$AM$1 -> 13.725386 | AR3: =IF(($AM$1+AP3)>AN3,AN3,$AM$1+AP3) -> 12.821 | AS3: =IF(R3+T3+S3=0,"E",AR3-AM3) -> 0.74400836 | AT3: =AN3-AR3+AS3 -> 0.74400836 | AV3: 3.36 | AW3: ללא קרן שיקום
