Workbook

Sheet נתוני תכן וחישובי עזר 
B1: חישוב תעריף עבור שפכים חריגים
B3: טור א' - מרכיבים | C3: יחידת מדידה | D3: שפכי היצרן (המפעל) שנדגמו | E3: שפכי המט"ש | F3: קולחי המט"ש | G3: איכות להזרמה לביוב טור ב' בכללים | H3: ערכי טור ג' בכללים או ערכים שאושרו הגבוהים מטור ג'
B4: ספיקת שפכים | C4: מ"ק ליום | D4: =סימולאטור!C16 -> 50.847458 | E4: 20000
B5: צריכת חמצן כימית (COD) | C5: מג"ל | D5: 2700 | E5: 1000 | F5: 40 | G5: 800 | H5: 2000
B6: כלל מוצקים מרחפים (TSS) | C6: מג"ל | D6: 1000 | E6: 470 | F6: 15 | G6: 400 | H6: 1000
B7: חנקן קילדל | C7: מג"ל | D7: 80 | E7: 70 | F7: 5 | G7: 50 | H7: 100
B8: זרחן כ-P | C8: מג"ל | D8: 10 | E8: 15 | F8: 5 | G8: 15 | H8: 30
D10: תא ירוק להשלמת נתונים. יש להשלים נתונים גם בגיליון 'סימולאטור'
C12: פקטורי חישוב לחלוקת העלות לפי מזהם
C14: המזהם | D14: אנרגיה | E14: כימיקלים/ייצור בוצה | F14: החזר הון\הוצאות קבועות
D15: Pfactor | E15: Cfactor | F15: INVfactor
C16: =B5 -> צריכת חמצן כימית (COD) | D16: 0.55 | E16: 0.33 | F16: 0.41
C17: =B7 -> חנקן קילדל | D17: 0.18 | E17: 0.02 | F17: 0.09
C18: =B6 -> כלל מוצקים מרחפים (TSS) | D18: 0.1 | E18: 0.55 | F18: 0.4
C19: =B8 -> זרחן כ-P | D19: 0.05 | E19: 0.05 | F19: 0.05
C21: פקטור חישוב לאיכות לפי ענבר
C23: האיכות הנדרשת | D23: הפקטור הכולל
C24: איכות להשקייה ללא מגבלות | D24: 1.23
C25: איכות נמוכה מההשקייה ללא מגבלות | D25: 1
C27: נתוני עלות
C29: צריכת אנרגיה סגולית | D29: קווט"ש למ"ק | E29: 0.65
C30: ממוצע תעו"ז מתח גבוה | D30: ₪ לקווט"ש | E30: 0.33
C31: מחיר כימיקל | D31: ₪ לק'"ג | E31: 15.43
C32: עלות פינוי בוצה | D32: ₪ לטון | E32: 154.17
C33: השקעה לפי נוסחת עלות כתלות בספיקה (50% מההשקעה ילקחו בחשבון) | D33: ₪ | E33: =0.05*(E4)^0.68*10^6 -> 42040745
C34: מקדם החזר הון | D34: עשרוני | E34: 0.095
C35: החזר הון | D35: ₪ לשנה | E35: =E34*E33 -> 3993870.8
C36: עלויות קבועות למט"ש לפי נוסחת עלות כתלות בספיקה | D36: ₪ למ"ק | E36: =5.19*(E4)^-0.26 -> 0.39527519
C37: CF להשקעה ולהוצאות הקבועות | D37: עשרוני | E37: 0.85
C39: נוסחת השקעה | D39: 0.05*(QdWWTP)^0.68*10^6
C40: נוסחת חישוב עלות קבועה | D40: 5.19*(QdWWTP)^-0.26
C42: חישובי עומסי מזהמים להרחקה
E44: עומס זיהום להרחקה משפכי היצרן | F44: עומס זיהום מסולק במט"ש
C45: =C16 -> צריכת חמצן כימית (COD) | D45: ק"ג ליום | E45: =(D5-G5)*$D$4*10^-3 -> 96.610169 | F45: =(E5-F5)*$E$4*10^-3 -> 19200
C46: =C18 -> כלל מוצקים מרחפים (TSS) | D46: ק"ג ליום | E46: =(D6-G6)*$D$4*10^-3 -> 30.508475 | F46: =(E6-F6)*$E$4*10^-3 -> 9100
C47: =C17 -> חנקן קילדל | D47: ק"ג ליום | E47: =(D7-G7)*$D$4*10^-3 -> 1.5254237 | F47: =(E7-F7)*$E$4*10^-3 -> 1300
C48: =C19 -> זרחן כ-P | D48: ק"ג ליום | E48: =(D8-G8)*$D$4*10^-3 -> -0.25423729 | F48: =(E8-F8)*$E$4*10^-3 -> 200
C50: חישוב מרכיבי העלות
E51: חנקן | F51: זרחן
B52: המרכיב | C52: =C45 -> צריכת חמצן כימית (COD) | D52: =C46 -> כלל מוצקים מרחפים (TSS) | E52: =C47 -> חנקן קילדל | F52: =C48 -> זרחן כ-P
...

Sheet סימולאטור
A1: סימולאטור עזר לחיוב חשבון הצרכן בהתאם לכללי שפכי מפעלים:
A2: (תא בירוק - נתונים שיש להשלימם)
A4: עלות כוללת למפעל בש"ח למ"ק שפכים ממוצע לפי סוג המט"ש (יש לבחור לפי מים או ביוב מבין 2 האפשרויות) | C4: סה"כ למט"ש באיכות להשקייה ללא מגבלות
A6: חיוב לפי כמות (מים/שפכים)* | C6: מים
A7: מכפלת תעריף לחריגים לפי מ"ק מים למפעל הנדגם בזרם תעשייתי (אחרת 0.7) | C7: 0.7
A8: % ההזרמה לביוב מכמות המים כפי שקבע מכון התקנים - אם אין, יש להשאיר 0% | C8: 0
A10: תאריך ביצוע הדגימה | C10: 41791
A11: תאריך הדיגום הקודם (לפני מועד הדגימה הנוכחית) | C11: 41734
A12: כמות שנקראה בשעון המים/מד השפכים וחויבה בחשבון הקודם | C12: 3000
A13: מספר הימים שחויבו בחשבון הקודם (לצורך חישוב הממוצע היומי) | C13: 59
A15: מס' ימים לחיוב או 90 ימים אחורה הקצר מבינהם | C15: =IF(C10-C11>90,90,C10-C11) -> 57
A16: כמות יומית ממוצעת לחיוב במ"ק מים/שפכים | C16: =C12/C13 -> 50.847458
A17: סה"כ כמות מים/שפכים לחיוב לתקופה | C17: =C15*C16 -> 2898.3051
A19: תעריף השפכים החריגים (Px) בש"ח למ"ק שפכים לפי סוג המט"ש | C19: =VLOOKUP(C4,'נתוני תכן וחישובי עזר '!B85:G86,6,0) -> 2.3565681
A20: ="תעריף השפכים החריגים לחיוב בש''ח למ''ק"&" "&C6 -> תעריף השפכים החריגים לחיוב בש''ח למ''ק מים | C20: =IF(C6="מים",IF(C8<>0,C8*C19,C7*C19),C19) -> 1.6495976
B22: ='נתוני תכן וחישובי עזר '!D3 -> שפכי היצרן (המפעל) שנדגמו | C22: ='נתוני תכן וחישובי עזר '!H3 -> ערכי טור ג' בכללים או ערכים שאושרו הגבוהים מטור ג'
A23: צריכת חמצן כימית (COD) | B23: ='נתוני תכן וחישובי עזר '!D5 -> 2700 | C23: ='נתוני תכן וחישובי עזר '!H5 -> 2000
A24: כלל מוצקים מרחפים (TSS) | B24: ='נתוני תכן וחישובי עזר '!D6 -> 1000 | C24: ='נתוני תכן וחישובי עזר '!H6 -> 1000
A25: חנקן קילדל | B25: ='נתוני תכן וחישובי עזר '!D7 -> 80 | C25: ='נתוני תכן וחישובי עזר '!H7 -> 100
A26: זרחן כ-P | B26: ='נתוני תכן וחישובי עזר '!D8 -> 10 | C26: ='נתוני תכן וחישובי עזר '!H8 -> 30
A28: בדיקה האם היתה חריגה מהסדר עם הספק** | C28: =IF(OR(C23<B23,C24<B24,C25<B25,C26<B26),"חרג מההסדר","במסגרת ההסדר") -> חרג מההסדר
A29: יש לבחור את סוג הספק | C29: תאגיד
A30: תעריף הביוב לפי מ"ק מים | C30: 3.5
A31: האם יש שפכים האסורים להזרמה (בחר) | C31: לא
A32: במידה ויש שפכים אסורים יש לבחור את הדירוג המתאים לשם חישוב החיוב (2/4/6) | C32: 2
A34: חיוב בגין שפכים חריגים | C34: =C20*C16*C15 -> 4781.0372
A35: חיוב בגין שפכים אסורים | C35: =IF(C31="כן",IF(C6="מים",1/0.7*IF(C8=0,C7,C8),IF(C29="תאגיד",1/0.7,1))*C32*C30*C16*C15,0) -> 0
A37: סה"כ החיוב למפעל בגין הזרמת השפכים (חריגים ואסורים) | C37: =C35+C34 -> 4781.0372
A39: הערות: 1. התשלום למפעל נקבע לפי הערכים שנדגמו בפועל. יש להזין את ערכי ההסדר רק אם הם גבוהים מטור ג'. 2. במידה והערכים שנדגמו גבוהים מאלו שבהסדר או מטור ג' הסימולאטור מחשב את העלות ההחרגה לכל רכיב לפי הנוסחה השניה בכללים שכוללת תוספת של פינוי בוצה ושל עלות אנרגיה בלתי מתוכננות. 3. במידה ונתגלו שפכים אסורים וישנם גם שפכים חריגים, יתווסף לתשלום השפכים החריגים (אם בהסדר ואם לא בהתאם) תשלום של פי 2,4,6 בהתאם (להלן: הפקטור) מאגרת הביוב עבור השפכים האסורים (קביעת הפקטור תעשה בהתאם לערך החריגה המקסימלי שיצא בדיגום). 4. הגיליון נעול ללא סיסמא, כדי למנוע מחיקת נתונים/סיסמאות בטעות. * במידה ויש מד שפכים יש לבחור ביוב. במידה ויש אישור מכון התקנים יש לבחור בחיוב לפי מים ולהזין את היחס שקבע מכון התקנים בתא המתאים. **הסימולאטור בודק האם הערכים שנקבעו הינם במסגרת ההסדר ובהתאם לכך נקבע תעריף ה- Px כמפורט בהערה 2.

Sheet טופס הודעת חיוב
A1: טופס הודעת חיוב (לפי סעיף 11(ה) לכללים)
G4: תאריך
A5: לכבוד
B10: הנדון: הודעת תשלום בעד הזרמת שפכי תעשייה
A12: הרני להודיעך, כי בדיגום שנערך במפעל בתאריך | D12: =סימולאטור!C10 -> 41791 | E12: נמצאו שפכים | F12: חריגים ואסורים
A13: כהגדרתם בכללי תאגידי מים וביוב (שפכי מפעלים המוזרמים למערכת הביוב), התשע"ד-2014 (להלן הכללים),
A14: לפי המפורט בטבלה שלהלן:
A16: שפכים חריגים:
B18: מרכיב נבדק | C18: יחידות | D18: ערך מרבי מותר להזרמה לביוב | E18: ערך שנמצא בדגימת השפכים | F18: ערך בשפכי המט"ש | G18: ערך בקולחים היוצאים מהמט"ש
A32: בעד החריגות המפורטות לעיל, על המפעל לשלם את התעריפים הבאים לפי הפרוט שלהלן:
A34: ספיקת השפכים בכניסה למט"ש: | C34: ='נתוני תכן וחישובי עזר '!E4 -> 20000 | D34: מ"ק ליום. | E34: ספיקת השפכים של המפעל: | G34: ='נתוני תכן וחישובי עזר '!D4 -> 50.847458 | H34: מ"ק ליום.
A36: התעריף שפכים חריגים לחיוב לפי הנוסחה בפרט 2 בתוספת השלישית לכללי תאגידי מים וביוב (תעריפים לשירותי
A38: מים וביוב והקמת מערכות מים או ביוב), התשע"ה-2009 (להלן כללי התעריפים): | G38: =סימולאטור!C19 -> 2.3565681 | H38: ש''ח למ"ק.
A40: תעריך לשפכים חריגים לפי כמויות צריכת המים/השפכים לפי מיקום נקדת הדיגום (כלל השפכים או זרם תעשייתי אחוד, כמפורט
A42: בסעיף 6 לכללים), לפי הנוסחה המפורטת בפרט 2 בתוספת השלישית בכללי התעריפים: | G42: =סימולאטור!C20 -> 1.6495976 | H42: ש''ח למ"ק.
A45: שפכים אסורים:
A47: תעריף שפכים אסורים לחיוב לפי הפרוט להלן:
A49: תעריף הביוב של החברה: | C49: =סימולאטור!C30 -> 3.5 | D49: ש''ח למ"ק.
B51: מרכיב נבדק | C51: יחידות | D51: ערך שנמצא בדגימת השפכים | E51: אחוז חריגה מהמותר להזרמה בכללים | F51: תעריף הביוב לפי חריגה (2/4/6)
B64: ערך מרבי המותר להכפלה בתעריף הביוב | E64: =IF(סימולאטור!C31="כן",סימולאטור!C32,"")
B66: תקופת החיוב | D66: עד
B68: ="כמות מים/שפכים לחיוב לפי "&סימולאטור!C15&" ימים:" -> כמות מים/שפכים לחיוב לפי 57 ימים: | E68: =סימולאטור!C17 -> 2898.3051 | F68: מ"ק
B70: סה"כ חיוב על הזרמת שפכים חריגים: | E70: =סימולאטור!C34 -> 4781.0372 | F70: ₪
B72: סה"כ חיוב על הזרמת שפכים אסורים: | E72: =סימולאטור!C35 -> 0 | F72: ₪
B74: סה"כ לתשלום בגין שפכים חריגים ואסורים | E74: =E72+E70 -> 4781.0372 | F74: ₪
B76: סך עלויות הדיגום בהתאם לכללי התעריפים* | F76: ₪
B79: סה"כ לתשלום לתקופה | E79: =E76+E74 -> 4781.0372 | F79: ₪
A86: *לפי תכנית הדיגום הדו שנתית שאושרה.
A88: לידיעתך, הנך רשאי להביא בפני החברה את טענותיך בכתב בעניין הודעת החיוב, בתוך 30 ימים מקבלת הודעה זו.
