Workbook
Name בית_שאן: 'פחתי מים לרשויות מצטרפות'!#REF!
Name קלנסווה: 'פחתי מים לרשויות מצטרפות'!#REF!

Sheet אשכול חברתי מעודכן
A1: שם הרשות המקומית | B1: אשכול חברתי-כלכלי 2008 (1 נמוך, 10 גבוה) | C1: סוציו חדש | E1: מס' תושבים
A2: אבו גוש | B2: 3 | C2: =+VLOOKUP(A2,#REF!,3,0) -> #REF! | D2: =+C2-B2 -> #REF! | E2: 5279
A3: אבו סנאן | B3: 3 | C3: =+VLOOKUP(A3,#REF!,3,0) -> #REF! | D3: =+C3-B3 -> #REF! | E3: 10948
A4: אבן יהודה | B4: 8 | C4: =+VLOOKUP(A4,#REF!,3,0) -> #REF! | D4: =+C4-B4 -> #REF! | E4: 8675
A5: אום אל-פחם | B5: 2 | C5: =+VLOOKUP(A5,#REF!,3,0) -> #REF! | D5: =+C5-B5 -> #REF! | E5: 39046
A6: אופקים | B6: 3 | C6: =+VLOOKUP(A6,#REF!,3,0) -> #REF! | D6: =+C6-B6 -> #REF! | E6: 23694
A7: אור יהודה | B7: 5 | C7: =+VLOOKUP(A7,#REF!,3,0) -> #REF! | D7: =+C7-B7 -> #REF! | E7: 29421
A8: אור עקיבא | B8: 4 | C8: =+VLOOKUP(A8,#REF!,3,0) -> #REF! | D8: =+C8-B8 -> #REF! | E8: 15673
A9: אורנית | B9: 8 | C9: =+VLOOKUP(A9,#REF!,3,0) -> #REF! | D9: =+C9-B9 -> #REF! | E9: 5316
A10: אזור | B10: 6 | C10: =+VLOOKUP(A10,#REF!,3,0) -> #REF! | D10: =+C10-B10 -> #REF! | E10: 9895
A11: אילת | B11: 5 | C11: =+VLOOKUP(A11,#REF!,3,0) -> #REF! | D11: =+C11-B11 -> #REF! | E11: 43547
A12: אכסאל | B12: 2 | C12: =+VLOOKUP(A12,#REF!,3,0) -> #REF! | D12: =+C12-B12 -> #REF! | E12: 10623
A13: אליכין | B13: 5 | C13: =+VLOOKUP(A13,#REF!,3,0) -> #REF! | D13: =+C13-B13 -> #REF! | E13: 2499
... A140: סכנין | B140: 2 | C140: =+VLOOKUP(A140,#REF!,3,0) -> #REF! | D140: =+C140-B140 -> #REF! | E140: 23224
A141: ע'ג'ר | B141: .. | C141: =+VLOOKUP(A141,#REF!,3,0) -> #REF! | D141: =+C141-B141 -> #REF! | E141: 1905
A142: עומר | B142: 10 | C142: =+VLOOKUP(A142,#REF!,3,0) -> #REF! | D142: =+C142-B142 -> #REF! | E142: 5906
A143: עילבון | B143: 4 | C143: =+VLOOKUP(A143,#REF!,3,0) -> #REF! | D143: =+C143-B143 -> #REF! | E143: 4139
A144: עילוט | B144: 2 | C144: =+VLOOKUP(A144,#REF!,3,0) -> #REF! | D144: =+C144-B144 -> #REF! | E144: 6192
A145: עין מאהל | B145: 2 | C145: =+VLOOKUP(A145,#REF!,3,0) -> #REF! | D145: =+C145-B145 -> #REF! | E145: 10136
A146: עין קיניא | B146: 2 | C146: =+VLOOKUP(A146,#REF!,3,0) -> #REF! | D146: =+C146-B146 -> #REF! | E146: 1758
A147: עכו | B147: 4 | C147: =+VLOOKUP(A147,#REF!,3,0) -> #REF! | D147: =+C147-B147 -> #REF! | E147: 45639
A148: עמנואל | B148: 2 | C148: =+VLOOKUP(A148,#REF!,3,0) -> #REF! | D148: =+C148-B148 -> #REF! | E148: 2455
A149: עוספייה | B149: 4 | C149: =+VLOOKUP(A149,#REF!,3,0) -> #REF! | D149: =+C149-B149 -> #REF! | E149: 0
A150: עפולה | B150: 5 | C150: =+VLOOKUP(A150,#REF!,3,0) -> #REF! | D150: =+C150-B150 -> #REF! | E150: 38862
A151: עראבה | B151: 2 | C151: =+VLOOKUP(A151,#REF!,3,0) -> #REF! | D151: =+C151-B151 -> #REF! | E151: 18533
A152: ערד | B152: 5 | C152: =+VLOOKUP(A152,#REF!,3,0) -> #REF! | D152: =+C152-B152 -> #REF! | E152: 24140
A153: ערערה | B153: 2 | C153: =+VLOOKUP(A153,#REF!,3,0) -> #REF! | D153: =+C153-B153 -> #REF! | E153: 14866
... A202: תל שבע | B202: 1 | C202: =+VLOOKUP(A202,#REF!,3,0) -> #REF! | D202: =+C202-B202 -> #REF! | E202: 11916

Sheet הנחות עבודה
C3: הנחות עבודה כלליות לכלל התאגידים
C5: ערך מופחת של ציוד אחר ומונים ביחס לכינון מלא | D5: 0.5
C7: רכיב תשומת המים | D7: 2016
C8: עלות שולית ממקורות ₪ לק"ב | D8: =+'[1]תרחיש מפורט'!$AD$7 -> 4.9116749 | V8: =+ROUND('[2]תרחישים לפי סוג מחיר'!V146,2) -> #REF! | W8: =+ROUND('[2]תרחישים לפי סוג מחיר'!W146,2) -> #REF! | X8: =+ROUND('[2]תרחישים לפי סוג מחיר'!X146,2) -> #REF! | Y8: =+ROUND('[2]תרחישים לפי סוג מחיר'!Y146,2) -> #REF!
C9: תעריף מופחת ₪ לק"ב | D9: =+'[1]תרחיש מפורט'!$AD$17 -> 1.0006749 | V9: =+ROUND('[2]תרחישים לפי סוג מחיר'!V147,2) -> #REF! | W9: =+ROUND('[2]תרחישים לפי סוג מחיר'!W147,2) -> #REF! | X9: =+ROUND('[2]תרחישים לפי סוג מחיר'!X147,2) -> #REF! | Y9: =+ROUND('[2]תרחישים לפי סוג מחיר'!Y147,2) -> #REF!
C10: כמות הצריכה הבסיסית לנפש לחודש | D10: 3.5
C12: רכיב ההון
C13: שיעור תשואה על הון עצמי | D13: 0.07
C14: ריבית על הון זר | D14: 0.05
C15: אחוז הון עצמי | D15: =1-D16 -> 0.3
C16: אחוז הון זר | D16: 0.7
C17: מחיר הון משוקלל | D17: =D15*D13+D14*D16 -> 0.056 | E17: תשואה משוקללת | F17: זר | G17: זכויות מים
E18: 3 | F18: 0.05 | G18: =+F18*D16+D13*D15 -> 0.056
C19: פחת חשבונאי | E19: אחר | F19: 0.04 | G19: =+F19*D16+D13*D15 -> 0.049
C20: אורך חיים מוכר:
C22: צנרת (מים וביוב) | D22: 35
C23: החזר פחת לצרכנים ישנים על השקעות ישנות | D23: 0.6
C24: גריעה נורמטיבית | E24: 2009 | F24: 2010 | G24: 2011
C25: ניכוי היטלים סקר קודם | D25: 0.8 | E25: 0.1 | F25: =1/30*2 -> 0.066666667 | G25: =1/30*1 -> 0.033333333
C26: ניכוי היטלים סקר נוכחי | D26: 0.8
C27: הפחתת רכוש לא רלוונטי למי שלא הגיש נספח | D27: 0.1
C28: הפחתת החזר מקסימלית מהתשואה לצרכנים ישנים | D28: =+D17 -> 0.056
C29: תקופה מינימלית של ההפחתה | D29: 16.833333
C30: תעריף שפד"ן | D30: 2.43 | E30: 2.5 | F30: =+E30*(1-1%) -> 2.475
C31: תעריף לעירייה | D31: =+'[3]תרחיש מפורט'!$V$16 -> 3.8111734
C32: דירג תאגידים
C33: חזק מאוד
C34: חזק | D34: 5
C35: חלש | D35: 0.65
C36: בינוני | D36: 0.1
C37: חזק מאוד | D37: 6.5
C38: שנת תחולה (החל מ-) | D38: 2004
C39: ותיק חזק מאוד החל מ- | D39: 6
C41: הון חוזר מים | D41: =0.052*(1+'סל מדדים'!F25) -> 0.051312197
C42: הון חוזר ביוב | D42: =0.02*(1+'סל מדדים'!F25) -> 0.01973546
C44: ביוביות
C45: תאגיד | D45: תוספת לעלות תפעולית בש"ח למ"ק
C46: פלג הגליל החברה האזורית למים וביוב בע"מ | D46: =+VLOOKUP(C46,[4]ביוביות!$T$18:$U$27,2,0) -> 0.080701331
C47: מי עירון בע"מ | D47: =+VLOOKUP(C47,[4]ביוביות!$T$18:$U$27,2,0) -> 0.33036895
C48: מי גליל | D48: =+VLOOKUP(C48,[4]ביוביות!$T$18:$U$27,2,0) -> 0.035306288
...

Sheet התפלגות מים 2012
B3: התפלגות צריכת המים העירונית לפי סוגי השימוש לשנת 2012
C4: תאגידים
B6: מספר | C6: שם התאגיד | E6: צריכה | G6: גינון ציבורי | I6: מוסדות | K6: בתי חולים | M6: בתי מרחץ | O6: מסחר | Q6: בנייה | S6: צריכה | U6: צריכה
B7: סידורי | D7: שם הישוב | E7: מגורים | G7: רשות מקומית | I7: רשות מקומית | M7: ומקוואות | O7: ומלאכה | S7: אחרת | U7: עירונית
E8: מ"ק | F8: % | G8: מ"ק | H8: % | I8: מ"ק | J8: % | K8: מ"ק | L8: % | M8: מ"ק | N8: % | O8: מ"ק | P8: % | Q8: מ"ק | R8: % | S8: מ"ק | T8: % | U8: מ"ק | V8: %
A9: 2012 | B9: 1 | D9: אבו סנאן | E9: 616761 | F9: 92.389517 | G9: 0 | H9: 0 | I9: 20806 | J9: 3.1166956 | K9: 0 | L9: 0 | M9: 0 | N9: 0 | O9: 12341 | P9: 1.8486562 | Q9: 11640 | R9: 1.7436478 | S9: 6018 | T9: 0.9014839 | U9: 667566 | V9: 100
D10: ג'וליס | E10: 313330 | F10: 85.910917 | G10: 0 | H10: 0 | I10: 11289 | J10: 3.0952936 | K10: 319 | L10: 0.087465555 | M10: 0 | N10: 0 | O10: 35043 | P10: 9.6083243 | Q10: 4640 | R10: 1.2722263 | S10: 94 | T10: 0.025773549 | U10: 364715 | V10: 100
D11: כפר יסיף | E11: 480811 | F11: 82.454756 | G11: 0 | H11: 0 | I11: 16996 | J11: 2.9146609 | K11: 89 | L11: 0.015262698 | M11: 0 | N11: 0 | O11: 69039 | P11: 11.839567 | Q11: 8502 | R11: 1.4580164 | S11: 7684 | T11: 1.3177368 | U11: 583121 | V11: 100
D12: ירכא | E12: 851729 | F12: 80.231521 | G12: 230 | H12: 0.021665635 | I12: 37308 | J12: 3.5143544 | K12: 31654 | L12: 2.9817566 | M12: 0 | N12: 0 | O12: 104777 | P12: 9.8698272 | Q12: 17173 | R12: 1.6176694 | S12: 18718 | T12: 1.7632059 | U12: 1061589 | V12: 100
D13: גדידה-אלמכר | E13: 1065763 | F13: 91.527134 | G13: 86 | H13: 0.0073856322 | I13: 65904 | J13: 3.5143544 | K13: 359 | L13: 0.03083072 | M13: 0 | N13: 0 | O13: 21843 | P13: 1.8758647 | Q13: 4780 | R13: 0.41050374 | S13: 5688 | T13: 0.48848228 | U13: 1164423 | V13: 100
D14: מזרעה | E14: 163711 | F14: 94.421598 | G14: 0 | H14: 0 | I14: 3048 | J14: 1.7579578 | K14: 106 | L14: 0.061136328 | M14: 0 | N14: 0 | O14: 4949 | P14: 2.8543744 | Q14: 1488 | R14: 0.85821563 | S14: 81 | T14: 0.046717383 | U14: 173383 | V14: 100
D15: יאנוח-ג'ת | E15: 363242 | F15: 91.964889 | G15: 2467 | H15: 0.62459017 | I15: 15935 | J15: 4.0343917 | K15: 0 | L15: 0 | M15: 0 | N15: 0 | O15: 6026 | P15: 1.5256507 | Q15: 523 | R15: 0.1324121 | S15: 6786 | T15: 1.718066 | U15: 394979 | V15: 100
C16: אל עין בע"מ | D16: סה"כ תאגיד | E16: 3855347 | F16: 87.427275 | G16: 2783 | H16: 0.063109782 | I16: 171286 | J16: 3.8842336 | K16: 32527 | L16: 0.73761116 | M16: 0 | N16: 0 | O16: 254018 | P16: 5.7603379 | Q16: 48746 | R16: 1.1054076 | S16: 45069 | T16: 1.0220247 | U16: 4409776 | V16: 100
A17: 2012 | B17: 2 | D17: ירושלים | E17: 30179993 | F17: 63.017481 | G17: 1459748 | H17: 3.0480339 | I17: 470728 | J17: 0.98290589 | K17: 631226 | L17: 1.3180345 | M17: 358499 | N17: 0.74856558 | O17: 2553875 | P17: 5.3326311 | Q17: 284160 | R17: 0.59334167 | S17: 11953233 | T17: 24.959006 | U17: 47891462 | V17: 100
D18: אבו גוש | E18: 251399 | F18: 88.057542 | G18: 1390 | H18: 0.48687538 | I18: 6075 | J18: 2.1278906 | K18: 2 | L18: 0.00070054012 | M18: 0 | N18: 0 | O18: 18346 | P18: 6.4260545 | Q18: 745 | R18: 0.26095119 | S18: 7537 | T18: 2.6399854 | U18: 285494 | V18: 100
D19: מבשרת ציון | E19: 1400194 | F19: 90.986088 | G19: 33346 | H19: 2.1668584 | I19: 27611 | J19: 1.794192 | K19: 715 | L19: 0.046461456 | M19: 430 | N19: 0.027941855 | O19: 26896 | P19: 1.7477305 | Q19: 155 | R19: 0.010072064 | S19: 49563 | T19: 3.2206562 | U19: 1538910 | V19: 100
C20: חברת הגיחון בע"מ תאגיד המים והביוב של ירושלים | D20: סה"כ תאגיד | E20: 31831586 | F20: 64.027017 | G20: 1494484 | H20: 3.0060504 | I20: 504414 | J20: 1.0145936 | K20: 631943 | L20: 1.2711093 | M20: 358929 | N20: 0.72196067 | O20: 2599117 | P20: 5.2279427 | Q20: 285060 | R20: 0.57337833 | S20: 12010333 | T20: 24.157948 | U20: 49715866 | V20: 100
A21: 2012 | B21: 3 | D21: איכסאל | E21: 658638 | F21: 81.765568 | G21: 65959 | H21: 8.1883752 | I21: 856 | J21: 0.10626676 | K21: 220 | L21: 0.02731155 | M21: 0 | N21: 0 | O21: 52417 | P21: 6.5072251 | Q21: 8444 | R21: 1.048267 | S21: 18986 | T21: 2.3569868 | U21: 805520 | V21: 100
D22: ריינה | E22: 885382 | F22: 86.553358 | G22: 100 | H22: 0.0097758209 | I22: 54527 | J22: 5.3304618 | K22: 3669 | L22: 0.35867487 | M22: 0 | N22: 0 | O22: 47932 | P22: 4.6857465 | Q22: 22311 | R22: 2.1810834 | S22: 9011 | T22: 0.88089922 | U22: 1022932 | V22: 100
D23: עילוט | E23: 356529 | F23: 82.245808 | G23: 0 | H23: 0 | I23: 14308 | J23: 3.3006376 | K23: 0 | L23: 0 | M23: 0 | N23: 0 | O23: 26291 | P23: 6.0649331 | Q23: 9670 | R23: 2.2307217 | S23: 26694 | T23: 6.1578991 | U23: 433492 | V23: 100
D24: יפיע | E24: 733369 | F24: 87.956819 | G24: 1024 | H24: 0.12281373 | I24: 59173 | J24: 7.0969305 | K24: 199 | L24: 0.023867121 | M24: 0 | N24: 0 | O24: 28923 | P24: 3.4688882 | Q24: 5879 | R24: 0.70509953 | S24: 5216 | T24: 0.62558244 | U24: 833783 | V24: 100
D25: נצרת | E25: 2851268 | F25: 78.372598 | G25: 6658 | H25: 0.18300797 | I25: 238371 | J25: 6.5520865 | K25: 71852 | L25: 1.9749907 | M25: 0 | N25: 0 | O25: 234079 | P25: 6.4341126 | Q25: 21846 | R25: 0.60047943 | S25: 214019 | T25: 5.8827248 | U25: 3638093 | V25: 100
C26: הרי נצרת מפעלי מים וביוב בע"מ | D26: סה"כ תאגיד | E26: 5485186 | F26: 81.457271 | G26: 73741 | H26: 1.0950842 | I26: 367235 | J26: 5.453591 | K26: 75940 | L26: 1.1277403 | M26: 0 | N26: 0 | O26: 389642 | P26: 5.7863442 | Q26: 68150 | R26: 1.0120556 | S26: 273926 | T26: 4.0679139 | U26: 6733820 | V26: 100
A27: 2012 | B27: 4 | D27: מטולה | E27: 119876 | F27: 63.136827 | G27: 13298 | H27: 7.0038501 | I27: 2873 | J27: 1.5131645 | K27: 137 | L27: 0.072155772 | M27: 26 | N27: 0.013693796 | O27: 3658 | P27: 1.9266118 | Q27: 842 | R27: 0.44346832 | S27: 49157 | T27: 25.890228 | U27: 189867 | V27: 100
D28: קרית שמונה | E28: 1189309 | F28: 71.331348 | G28: 90171 | H28: 5.4081984 | I28: 96106 | J28: 5.7641627 | K28: 3888 | L28: 0.23319111 | M28: 1623 | N28: 0.097342893 | O28: 203555 | P28: 12.208646 | Q28: 4986 | R28: 0.299046 | S28: 77664 | T28: 4.6580643 | U28: 1667302 | V28: 100
D29: קצרין | E29: 332975 | F29: 59.002133 | G29: 126259 | H29: 22.372702 | I29: 36121 | J29: 6.4005288 | K29: 1143 | L29: 0.20253604 | M29: 502 | N29: 0.088952837 | O29: 39321 | P29: 6.9675588 | Q29: 2018 | R29: 0.35758332 | S29: 26005 | T29: 4.608005 | U29: 564344 | V29: 100
C30: התנור מים וביוב בע"מ | D30: סה"כ תאגיד | E30: 1642160 | F30: 67.815453 | G30: 229728 | H30: 9.4869613 | I30: 135100 | J30: 5.5791565 | K30: 5168 | L30: 0.21342029 | M30: 2151 | N30: 0.088828761 | O30: 246534 | P30: 10.18099 | Q30: 7846 | R30: 0.3240123 | S30: 152826 | T30: 6.3111782 | U30: 2421513 | V30: 100
A31: 2012 | B31: 5 | D31: אשדוד | E31: 10043599 | F31: 70.634557 | G31: 1512131 | H31: 10.634505 | I31: 684414 | J31: 4.8133423 | K31: 24712 | L31: 0.17379439 | M31: 84043 | N31: 0.59105706 | O31: 1244223 | P31: 8.7503633 | Q31: 250402 | R31: 1.7610255 | S31: 375577 | T31: 2.6413555 | U31: 14219101 | V31: 100
C32: יובלים אשדוד בע"מ | D32: סה"כ תאגיד | E32: 10043599 | F32: 70.634557 | G32: 1512131 | H32: 10.634505 | I32: 684414 | J32: 4.8133423 | K32: 24712 | L32: 0.17379439 | M32: 84043 | N32: 0.59105706 | O32: 1244223 | P32: 8.7503633 | Q32: 250402 | R32: 1.7610255 | S32: 375577 | T32: 2.6413555 | U32: 14219101 | V32: 100
A33: 2012 | B33: 6 | D33: אריאל | E33: 773685 | F33: 66.078522 | G33: 157171 | H33: 13.423586 | I33: 137499 | J33: 11.743449 | K33: 0 | L33: 0 | M33: 412 | N33: 0.035187901 | O33: 79121 | P33: 6.7575289 | Q33: 9379 | R33: 0.80103719 | S33: 13590 | T33: 1.1606883 | U33: 1170857 | V33: 100
D34: קרני שומרון | E34: 305137 | F34: 63.460079 | G34: 59887 | H34: 12.454844 | I34: 34846 | J34: 7.2470068 | K34: 0 | L34: 0 | M34: 956 | N34: 0.19882163 | O34: 73237 | P34: 15.231276 | Q34: 1035 | R34: 0.21525145 | S34: 5735 | T34: 1.1927218 | U34: 480833 | V34: 100
C35: יובלים בשומרון בע"מ | D35: סה"כ תאגיד | E35: 1078822 | F35: 65.316252 | G35: 217058 | H35: 13.14157 | I35: 172345 | J35: 10.434464 | K35: 0 | L35: 0 | M35: 1368 | N35: 0.082824259 | O35: 152358 | P35: 9.2243702 | Q35: 10414 | R35: 0.63050572 | S35: 19325 | T35: 1.1700137 | U35: 1651690 | V35: 100
A36: 2012 | B36: 7 | D36: קרית ים | E36: 1905099 | F36: 79.614951 | G36: 296192 | H36: 12.377998 | I36: 89234 | J36: 3.7291293 | K36: 11557 | L36: 0.48297227 | M36: 490 | N36: 0.020477322 | O36: 47854 | P36: 1.9998404 | Q36: 9541 | R36: 0.39872272 | S36: 32924 | T36: 1.3759089 | U36: 2392891 | V36: 100
C37: ימים | D37: סה"כ תאגיד | E37: 1905099 | F37: 79.614951 | G37: 296192 | H37: 12.377998 | I37: 89234 | J37: 3.7291293 | K37: 11557 | L37: 0.48297227 | M37: 490 | N37: 0.020477322 | O37: 47854 | P37: 1.9998404 | Q37: 9541 | R37: 0.39872272 | S37: 32924 | T37: 1.3759089 | U37: 2392891 | V37: 100
A38: 2012 | B38: 8 | D38: דבוריה | E38: 463240 | F38: 89.424946 | G38: 0 | H38: 0 | I38: 14324 | J38: 2.7651389 | K38: 10749 | L38: 2.0750124 | M38: 0 | N38: 0 | O38: 3250 | P38: 0.62738769 | Q38: 9025 | R38: 1.7422074 | S38: 17433 | T38: 3.3653076 | U38: 518021 | V38: 100
D39: טורעאן | E39: 521505 | F39: 78.760772 | G39: 2661 | H39: 0.40187997 | I39: 64314 | J39: 9.713081 | K39: 0 | L39: 0 | M39: 0 | N39: 0 | O39: 4818 | P39: 0.72764288 | Q39: 11106 | R39: 1.6772939 | S39: 57734 | T39: 8.7193304 | U39: 662138 | V39: 100
D40: שבלי | E40: 230734 | F40: 90.046051 | G40: 5439 | H40: 2.1226194 | I40: 14879 | J40: 5.8066656 | K40: 0 | L40: 0 | M40: 0 | N40: 0 | O40: 362 | P40: 0.14127381 | Q40: 1171 | R40: 0.45699344 | S40: 3655 | T40: 1.4263971 | U40: 256240 | V40: 100
D41: בועיינה-נוג'ידאת | E41: 237211 | F41: 85.714337 | G41: 3936 | H41: 1.4222428 | I41: 26312 | J41: 9.5076352 | K41: 0 | L41: 0 | M41: 0 | N41: 0 | O41: 3031 | P41: 1.0952281 | Q41: 3840 | R41: 1.3875539 | S41: 2416 | T41: 0.87300268 | U41: 276746 | V41: 100
D42: כפר כנא | E42: 766866 | F42: 79.726491 | G42: 14095 | H42: 1.4653732 | I42: 63143 | J42: 6.5646017 | K42: 0 | L42: 0 | M42: 0 | N42: 0 | O42: 8408 | P42: 0.87412969 | Q42: 12539 | R42: 1.3036052 | S42: 96820 | T42: 10.065799 | U42: 961871 | V42: 100
D43: משהד | E43: 288455 | F43: 91.682161 | G43: 0 | H43: 0 | I43: 20190 | J43: 6.4171633 | K43: 0 | L43: 0 | M43: 0 | N43: 0 | O43: 226 | P43: 0.071831545 | Q43: 1710 | R43: 0.54350417 | S43: 4044 | T43: 1.2853397 | U43: 314625 | V43: 100
...

Sheet תחשיב להיטל מופחת
E1: =1+D1 -> 1 | F1: =1+E1 -> 2 | G1: =1+F1 -> 3 | H1: =1+G1 -> 4 | I1: =1+H1 -> 5 | J1: =1+I1 -> 6 | K1: =1+J1 -> 7 | L1: =1+K1 -> 8 | ... BG1: =1+BF1 -> 55
E2: מי שבע תאגיד המים והביוב לבאר שבע בע"מ | F2: מי שקמה תאגיד המים והביוב בע"מ | G2: חברת הגיחון בע"מ תאגיד המים והביוב של ירושלים | H2: מי אביבים 2010 בע"מ | I2: מי יבנה | J2: מי לוד בע"מ | K2: מי עירון בע"מ | L2: מי אונו | M2: מי גבעתיים | N2: מי הרצליה | O2: מי חדרה בע"מ | P2: מי כרמל | Q2: עין אפק | R2: עין נטפים מפעלי מים וביוב אילת בע"מ | S2: שרונים | T2: מי נתניה (2003) בע"מ | U2: מעיינות אתא | V2: יובלים בשומרון בע"מ | W2: מי בית שמש | X2: מעיינות הדרום | Y2: מעיינות העמקים | Z2: יובלים אשדוד בע"מ | AA2: מי בת ים | AB2: מי נע חברת המים והביוב של עיריית נצרת עילית בע"מ | AC2: מיתב מים תיעול וביוב בע"מ | AD2: מניב ראשון בע"מ | AE2: מי אשקלון | AF2: מי רעננה | AG2: תמ"ר תאגיד מים רמלה בע"מ | AH2: פלגי מוצקין | AI2: סובב שפרעם | AJ2: מי קריית גת | AK2: הרי נצרת מפעלי מים וביוב בע"מ | AL2: התנור מים וביוב בע"מ | AM2: מי ציונה בע"מ | AN2: מי רקת בע"מ | AO2: מי עכו | AP2: כפרי גליל תחתון בע"מ | AQ2: מי ברק בע"מ | AR2: מי גליל | AS2: מי הוד השרון | AT2: פלג הגליל החברה האזורית למים וביוב בע"מ | AU2: מעיינות השרון | AV2: פלגי השרון | AW2: מעיינות המשולש | AX2: ימים | AY2: מי תקווה | AZ2: נווה מדבר | BA2: מי רמת גן | BB2: מי רהט | BC2: מי קריית ביאליק | BD2: מי מודיעין | BE2: מעיינות זיו | BF2: עין כרמים | BG2: אל עין | BK2: מי אשקלון | BL2: הרי נצרת מפעלי מים וביוב בע"מ
E3: 2009-2010 | F3: 2009-2010 | G3: 2009-2011 | H3: 2010 בלבד | I3: 2010-2011 | J3: =+G3 -> 2009-2011 | K3: =+H3 -> 2010 בלבד | L3: 2010 | M3: 2010-2011 | N3: 2009-2010 | O3: 2009-2011 | P3: 2009-2010 | Q3: 2009-2011 | R3: 2009-2011 | S3: 2009-2010 | T3: 2009-2010 | U3: 2009-2010 | V3: 2009-2011 | W3: 2009-2011 | X3: 2010-2011 | Y3: 2009-2010 | Z3: 2009-2011 | AA3: 2009-2010 | AB3: 2009-2010 | AC3: 2009-2011 | AD3: 2009-2011 | AE3: 2009-2010 | AF3: 2009-2011 | AG3: 2009-2011 | AH3: 2009-2010 | AI3: 2009-2011 | AJ3: 2009-2011 | AK3: 2009-2011 | AL3: 2009-2011 | AM3: 2009-2011 | AN3: 2009-2011 | AO3: 2010-2011 | AP3: 2009-2011 | AQ3: 2010-2011 | AR3: 2010-2011 | AS3: 2010-2011 | AT3: 2010-2011 | AU3: 2010-2011 | AV3: 2011 | AW3: 1 | AX3: 1 | AY3: 1 | AZ3: 1 | BA3: 1 | BB3: 1 | BC3: 1 | BD3: 1 | BE3: 1 | BF3: 1 | BG3: 1 | BK3: =+HLOOKUP(BK2,$E$2:$AV$3,2,0) -> 2009-2010 | BL3: =+HLOOKUP(BL2,$E$2:$AV$3,2,0) -> 2009-2011
A6: =+'[6]גיליון סימולציה לתעריפי 2016'!$F$31 -> 0.8 | B6: היטלי פיתוח מים | E6: =-10643*$A$6-2849*$A$6-9662*$A$6 -> -18523.2 | F6: =-10565*$A$6-9343*$A$6-17185*$A$6 -> -29674.4 | G6: =-40115*$A$6-24472*$A$6-36031*$A$6 -> -80494.4 | H6: =-51696*$A$6-58130*$A$6 -> -87860.8 | I6: =-3356*$A$6-378*$A$6 -> -2987.2 | J6: =-2225*$A$6-1685*$A$6-3496*$A$6 -> -5924.8 | K6: =-1911*$A$6-1525*$A$6 -> -2748.8 | L6: =-1090*$A$6-4470*$A$6 -> -4448 | M6: =-2949*$A$6-1730*$A$6 -> -3743.2 | N6: =-37*$A$6-11407*$A$6-21881*$A$6 -> -26660 | O6: =-2561*$A$6-4924*$A$6-6828*$A$6 -> -11450.4 | P6: =-13428*$A$6-19066*$A$6 -> -25995.2 | Q6: =-183*$A$6-689*$A$6-586*$A$6 -> -1166.4 | R6: =-2718*$A$6-4016*$A$6-3098*$A$6 -> -7865.6 | S6: =-1715*$A$6-3423*$A$6-1359*$A$6 -> -5197.6 | T6: =-5354*$A$6-8126*$A$6-9224*$A$6 -> -18163.2 | U6: =-1721748/1000*$A$6-4441*$A$6-3885*$A$6 -> -8038.1984 | V6: =-367*$A$6-745*$A$6-571*$A$6 -> -1346.4 | W6: =-17*$A$6-2140*$A$6 -> -1725.6 | Y6: =-1208*$A$6-3134*$A$6 -> -3473.6 | Z6: =-6513*$A$6-8258*$A$6-19501*$A$6 -> -27417.6 | AA6: =(-1208696*$A$6-1222291*$A$6-13886*$A$6)/1000 -> -1955.8984 | AB6: =-492*$A$6-1742*$A$6-1799*$A$6 -> -3226.4 | AC6: =-27501*$A$6-42755*$A$6-27708*$A$6 -> -78371.2 | AD6: =-5419*$A$6-12288*$A$6-10001*$A$6 -> -22166.4 | AE6: =-9676*$A$6-18878*$A$6 -> -22843.2 | AF6: =-489*$A$6-1955*$A$6-3276*$A$6 -> -4576 | AG6: =-3198*$A$6-1947*$A$6-1345*$A$6 -> -5192 | AH6: =-1605*$A$6 -> -1284 | AI6: =-243*$A$6-2352*$A$6-4519*$A$6 -> -5691.2 | AJ6: =-297*$A$6-4122*$A$6-7043*$A$6 -> -9169.6 | AK6: =-5030*$A$6-8755*$A$6-11811*$A$6 -> -20476.8 | AL6: =-602*$A$6-444*$A$6-669*$A$6 -> -1372 | AM6: =-2576*$A$6-3712*$A$6 -> -5030.4 | AN6: =-1291*$A$6-1696*$A$6 -> -2389.6 | AO6: =-1081*$A$6 -> -864.8 | AP6: =-2044*$A$6-2550*$A$6 -> -3675.2 | AQ6: =-6510*$A$6 -> -5208 | AR6: =-667*$A$6-2755*$A$6 -> -2737.6 | AS6: =-10982*$A$6-24402*$A$6 -> -28307.2 | AT6: =-1375*$A$6-1755*$A$6 -> -2504 | AU6: =-1861*$A$6-3687*$A$6 -> -4438.4 | AV6: 0
E8: =SUM(E5:E7) -> -18523.2 | F8: =SUM(F5:F7) -> -29674.4 | G8: =SUM(G5:G7) -> -80494.4 | H8: =SUM(H5:H7) -> -87860.8 | I8: =SUM(I5:I7) -> -2987.2 | J8: =SUM(J5:J7) -> -5924.8 | K8: =SUM(K5:K7) -> -2748.8 | L8: =SUM(L5:L7) -> -4448 | ... X8: =SUM(X5:X7) -> 0 | Y8: =SUM(Y6:Y7) -> -3473.6 | Z8: =SUM(Z6:Z7) -> -27417.6 | AA8: =SUM(AA6:AA7) -> -1955.8984 | AB8: =SUM(AB6:AB7) -> -3226.4 | AC8: =SUM(AC6:AC7) -> -78371.2 | AD8: =SUM(AD6:AD7) -> -22166.4 | AE8: =SUM(AE6:AE7) -> -22843.2 | AF8: =SUM(AF6:AF7) -> -4576 | ... BG8: =SUM(BG6:BG7) -> 0
A11: =+'[6]גיליון סימולציה לתעריפי 2016'!$F$31 -> 0.8 | B11: היטלי פיתוח ביוב | E11: =-9519*$A$11-2465*$A$11-9340*$A$11 -> -17059.2 | F11: =-7677*$A$11-8038*$A$11-11351*$A$11 -> -21652.8 | G11: =-19825*$A$11-12372*$A$11-26101*$A$11 -> -46638.4 | H11: =-28619*$A$11-28953 -> -51848.2 | I11: =-265*$A$11-2864*$A$11 -> -2503.2 | J11: =-2728*$A$11-2275*$A$11-4842*$A$11 -> -7876 | K11: =-2732*$A$11-5708*$A$11 -> -6752 | L11: =-1165*$A$11-5525*$A$11 -> -5352 | M11: =-2366*$A$11-2175*$A$11 -> -3632.8 | N11: =-8311*$A$11-15913*$A$11 -> -19379.2 | O11: =-1757*$A$11-4748*$A$11-7227*$A$11 -> -10985.6 | P11: =-8210*$A$11-33135 -> -39703 | Q11: =-69*$A$11-262*$A$11-261*$A$11 -> -473.6 | R11: =-1282*$A$11-2027*$A$11-2763*$A$11 -> -4857.6 | S11: =-4740*$A$11-10576*$A$11-4923*$A$11 -> -16191.2 | T11: =-4984*$A$11-6243*$A$11-8285*$A$11 -> -15609.6 | U11: =-1898622/1000*$A$11-5858*$A$11-5017*$A$11 -> -10218.898 | W11: =-107*$A$11-12209*$A$11 -> -9852.8 | X11: =-1354*$A$11-1705*$A$11 -> -2447.2 | Y11: =-585*$A$11-3227*$A$11 -> -3049.6 | Z11: =-6790*$A$11-10963*$A$11-21017*$A$11 -> -31016 | AB11: =-2509*$A$11-3043*$A$11 -> -4441.6 | AC11: =-21276*$A$11-31204*$A$11-28955*$A$11 -> -65148 | AD11: =-10790*$A$11-10798*$A$11-15647 -> -32917.4 | AF11: =-976*$A$11-3133*$A$11-6080*$A$11 -> -8151.2 | AG11: =-2562*$A$11-2742*$A$11-3033*$A$11 -> -6669.6 | AH11: 0 | AI11: =-300*$A$11-3477*$A$11-4682 -> -7703.6 | AJ11: =-1082*$A$11-5686*$A$11 -> -5414.4 | AL11: =-307*$A$11-892*$A$11-367*$A$11 -> -1252.8 | AM11: =-2576*$A$11-3705*$A$11 -> -5024.8 | AN11: =-3470*$A$11-6344*$A$11 -> -7851.2 | AO11: =-636*$A$11 -> -508.8 | AP11: =-2590*$A$11-3223*$A$11 -> -4650.4 | AQ11: =-8853*$A$11 -> -7082.4 | AR11: =-507*$A$11-2486*$A$11 -> -2394.4 | AS11: 0 | AT11: =-2746*$A$11-2207*$A$11 -> -3962.4 | AU11: =-4643*$A$11-5548*$A$11 -> -8152.8 | AV11: =-18836*$A$11 -> -15068.8
E14: 2009-2010 | F14: 2009-2010 | G14: =+F14 -> 2009-2010 | H14: =+H3 -> 2010 בלבד | I14: =+I3 -> 2010-2011 | J14: =+J3 -> 2009-2011 | K14: =+K3 -> 2010 בלבד | L14: =+L3 -> 2010 | M14: =+M3 -> 2010-2011 | N14: =+N3 -> 2009-2010 | O14: =+O3 -> 2009-2011 | ... BG14: =+BG3 -> 1
B16: פחת נצבר היטלי פיתוח מים | E16: =10643*0.9/25*1.5+2849*0.9/25*2.5+9662*0.9/25*0.5 -> 1005.048 | F16: =10565*0.9/25*1.5+9343*0.9/25*2.5+17185*0.9/25*0.5 -> 1720.71 | G16: =40115*0.9/25*1.5+24472*0.9/25*2.5+36031*0.9/25*0.5 -> 5017.248 | H16: =51696*0.9/25*1.5+58130*0.9/25*0.5 -> 3837.924 | I16: =3356*0.9/25*1.5+378*0.9/25*0.5 -> 188.028 | J16: =1685*0.9/25*1.5+2225*0.9/25*2.5+3496*0.9/25*0.5 -> 354.168 | K16: =1911*0.9/25*1.5+1525*0.9/25*0.5 -> 130.644 | L16: =1090*0.9/25*1.5+4470*0.9/25*0.5 -> 139.32 | M16: =2949*0.9/25*1.5+1730*0.9/25*0.5 -> 190.386 | N16: =37*0.9/25*2.5+11407*0.9/25*1.5+21881*0.9/25*0.5 -> 1013.166 | O16: =2561*0.9/25*2.5+4924*0.9/25*1.5+6828*0.9/25*0.5 -> 619.29 | P16: =13428*0.9/25*1.5+19066*0.9/25*0.5 -> 1068.3 | Q16: =183*0.9/25*2.5+689*0.9/25*1.5+586*0.9/25*0.5 -> 64.224 | R16: =2718*0.9/25*2.5+4016*0.9/25*1.5+3098*0.9/25*0.5 -> 517.248 | S16: =1715*0.9/25*2.5+3423*0.9/25*1.5+1359*0.9/25*0.5 -> 363.654 | T16: =5354*0.9/25*2.5+8126*0.9/25*1.5+9224*0.9/25*0.5 -> 1086.696 | U16: =1721748/1000*0.9/25*2.5+4441*0.9/25*1.5+3885*0.9/25*0.5 -> 464.70132 | V16: =367*0.9/25*2.5+745*0.9/25*1.5+571*0.9/25*0.5 -> 83.538 | W16: =17*0.9/25*1.5+2140*0.9/25*0.5 -> 39.438 | Y16: =1208*0.9/25*1.5+3134*0.9/25*0.5 -> 121.644 | Z16: =6513*0.9/25*2.5+8258*0.9/25*1.5+19501*0.9/25*0.5 -> 1383.12 | AA16: =(1208696*0.9/25*2.5+1222291*0.9/25*1.5+13886*0.9/25*0.5)/1000 -> 175.0363 | AB16: =492*0.9/25*2.5+1742*0.9/25*1.5+1799*0.9/25*0.5 -> 170.73 | AC16: =27501*0.9/25*2.5+42755*0.9/25*1.5+27708*0.9/25*0.5 -> 5282.604 | AD16: =5419*0.9/25*2.5+12288*0.9/25*1.5+10001*0.9/25*0.5 -> 1331.28 | AE16: =9676*0.9/25*1.5+18878*0.9/25*0.5 -> 862.308 | AF16: =489*0.9/25*2.5+1955*0.9/25*1.5+3276*0.9/25*0.5 -> 208.548 | AG16: =3198*0.9/25*2.5+1947*0.9/25*1.5+1345*0.9/25*0.5 -> 417.168 | AH16: =1605*0.9/25*0.5 -> 28.89 | AI16: =243*0.9/25*2.5+2352*0.9/25*1.5+4519*0*25*0.5 -> 148.878 | AJ16: =297*0.9/25*2.5+4122*0.9/25*1.5+7043*0.9/25*0.5 -> 376.092 | AK16: =5030*0.9/25*2.5+8755*0.9/25*1.5-11811*0.5/25*0.9 -> 712.872 | AL16: =602*0.9/25*2.5+444*0.9/25*0.5+669*0.9/25*1.5 -> 98.298 | AM16: =2576*0.9/25*1.5+3712*0.9/25*0.5 -> 205.92 | AN16: =1291*0.9/25*1.5+1696*0.9/25*0.5 -> 100.242 | AO16: =1081*0.9/25*0.5 -> 19.458 | AP16: =2044*0.9/25*1.5+2550*0.9/25*0.5 -> 156.276 | AQ16: =6510*0.9/25*0.5 -> 117.18 | AR16: =667*0.9/25*1.5+2755*0.9/25*0.5 -> 85.608 | AS16: =10982*0.9/25*1.5+24402*0.9/25*0.5 -> 1032.264 | AT16: =1375*0.9/25*1.5+1755*0.9/25*0.5 -> 105.84 | AU16: =1861*0.9/25*1.5+3687*0.9/25*0.5 -> 166.86 | AV16: 0
B18: היטלי פיתוח נטו ( בניכוי פחת שנצבר) | E18: =+E35 -> -29162.752 | F18: =+F35 -> -60079.376 | G18: =+G35 -> -154292.76 | H18: =+H35 -> -218267.58 | I18: =+I35 -> -4787.232 | J18: =+J35 -> -9125.84 | K18: =+K35 -> -3880.672 | L18: =+L35 -> -6699.744 | ... BG18: =+BG35 -> -3305.172
B22: פחת נצבר היטלי פיתוח ביוב | E22: =9519*0.9/25*1.5+2465*0.9/25*2.5+9340*0.9/25*0.5 -> 903.996 | F22: =7677*0.9/25*1.5+8038*0.9/25*2.5+11351*0.9/25*0.5 -> 1342.296 | G22: =19825*0.9/25*1.5+12372*0.9/25*2.5+26101*0.9*0.5/25 -> 2653.848 | H22: =28619*0.9/25*1.5-28953*0.9/25*0.5 -> 1024.272 | I22: =265*0.9/25*1.5+2864*0.9/25*0.5 -> 65.862 | J22: =2275*0.9/25*1.5+2728*0.9/25*2.5+4842*0.9/25*0.5 -> 455.526 | K22: =2732*0.9/25*1.5+5708*0.9/25*0.5 -> 250.272 | L22: =1165*0.9/25*1.5+5525*0.9/25*0.5 -> 162.36 | M22: =2366*0.9/25*1.5+2175*0.9/25*0.5 -> 166.914 | N22: =8311*0.9/25*1.5+15913*0.9/25*0.5 -> 735.228 | O22: =1757*0.9*2.5+4748*0.9/25*1.5+7227*0.9/25*0.5 -> 4339.728 | P22: =8210*0.9/25*1.5+33135*0.9/25*0.5 -> 1039.77 | Q22: =69*0.9/25*2.5+262*0.9/25*1.5+261*0.9/25*0.5 -> 25.056 | R22: =1282*0.9/25*2.5+2027*0.9/25*1.5+2763*0.9/25*0.5 -> 274.572 | S22: =4740*0.9/25*2.5+10576*0.9/25*1.5+4923*0.9/25*0.5 -> 1086.318 | T22: =4984*0.9/25*2.5+6243*0.9/25*1.5+8285*0.9/25*0.5 -> 934.812 | U22: =1898622/1000*0.9/25*2.5+5858*0.9/25*1.5+5017*0.9/25*0.5 -> 577.51398 | W22: =107*0.9/25*1.5+12909/25*0.5 -> 263.958 | X22: =1354*0.9/25*1.5+1705*0.9/25*0.5 -> 103.806 | Y22: =585*0.9/25*1.5+3227*0.9/25*0.5 -> 89.676 | Z22: =6790*0.9/25*2.5+10963*0.9/25*1.5+21017*0.9/25*0.5 -> 1581.408 | AB22: =2509*0.9/25*1.5+3043*0.9/25*0.5 -> 190.26 | AC22: =21276*0.9/25*2.5+31204*0.9/25*1.5+28955*0.9/25*0.5 -> 4121.046 | AD22: =10790*0.9/25*2.5+10798*0.9/25*1.5+15647*0.9/25*0.5 -> 1835.838 | AF22: =976*0.9/25*2.5+3133*0.9/25*1.5+6080*0.9/25*0.5 -> 366.462 | AG22: =2562*0.9/25*2.5+2742*0.9/25*1.5+3033*0.9/25*0.5 -> 433.242 | AH22: 0 | AI22: =300*0.9/25*2.5+3477*0.9/25*1.5+4682*0.9/25*0.5 -> 299.034 | AJ22: =1082*0.9/25*1.5+5686*0.9/25*0.5 -> 160.776 | AL22: =-307*0.9/25*2.5+892*0.9/25*0.5*0.9+369*0.9/25*1.5 -> 6.7464 | AM22: =2576*0.9/25*1.5+3705*0.5*0.9 -> 1806.354 | AN22: =3470*0.9/25*1.5+6344*0.5*0.9 -> 3042.18 | AO22: =636*0.9/25*0.5 -> 11.448 | AP22: =2590*0.9/25*1.5+3223*0.9/25*0.5 -> 197.874 | AQ22: =8853*0.9/25*0.5 -> 159.354 | AR22: =504*0.9/25*1.5+2486*0.9/25*0.5 -> 71.964 | AT22: =2746*0.9/25*1.5+2207*0.9/25*0.5 -> 188.01 | AU22: =4643*0.9/25*1.5+5548*0.9/25*0.5 -> 350.586 | AV22: =18836*0.9/25*0.5 -> 339.048
B24: היטלי פיתוח נטו ( בניכוי פחת שנצבר) | E24: =+E46 -> -26440.864 | F24: =+F46 -> -43969.6 | G24: =+G46 -> -88840.196 | H24: =+H46 -> -127690.5 | I24: =+I46 -> -9344.448 | J24: =+J46 -> -6841.008 | K24: =+K46 -> -8920.672 | L24: =+L46 -> -8546.816 | ... BG24: =+BG46 -> -6361.472
B26: מים
B27: 2008 | E27: =+HLOOKUP(E$2,'נתוני תאגידים'!$1:$719,517,0)*($B27-2013.5+25)/25 -> -2496 | F27: =+HLOOKUP(F$2,'נתוני תאגידים'!$1:$719,517,0)*($B27-2013.5+25)/25 -> -5899.92 | G27: =+HLOOKUP(G$2,'נתוני תאגידים'!$1:$719,517,0)*($B27-2013.5+25)/25 -> -233.97192 | H27: =+HLOOKUP(H$2,'נתוני תאגידים'!$1:$719,517,0)*($B27-2013.5+25)/25 -> 0 | I27: =+HLOOKUP(I$2,'נתוני תאגידים'!$1:$719,517,0)*($B27-2013.5+25)/25 -> 0 | J27: =+HLOOKUP(J$2,'נתוני תאגידים'!$1:$719,517,0)*($B27-2013.5+25)/25 -> 0 | K27: =+HLOOKUP(K$2,'נתוני תאגידים'!$1:$719,517,0)*($B27-2013.5+25)/25 -> 0 | L27: =+HLOOKUP(L$2,'נתוני תאגידים'!$1:$719,517,0)*($B27-2013.5+25)/25 -> 0 | ... BG27: =+HLOOKUP(BG$2,'נתוני תאגידים'!$1:$719,517,0)*($B27-2013.5+25)/25 -> 0
B28: 2009 | E28: =+HLOOKUP(E$2,'נתוני תאגידים'!$1:$719,233,0)*($B28-2013.5+25)/25 -> -1868.944 | F28: =+HLOOKUP(F$2,'נתוני תאגידים'!$1:$719,233,0)*($B28-2013.5+25)/25 -> -6129.008 | G28: =+HLOOKUP(G$2,'נתוני תאגידים'!$1:$719,233,0)*($B28-2013.5+25)/25 -> -16053.632 | H28: =+HLOOKUP(H$2,'נתוני תאגידים'!$1:$719,233,0)*($B28-2013.5+25)/25 -> 0 | I28: =+HLOOKUP(I$2,'נתוני תאגידים'!$1:$719,233,0)*($B28-2013.5+25)/25 -> 0 | J28: =+HLOOKUP(J$2,'נתוני תאגידים'!$1:$719,233,0)*($B28-2013.5+25)/25 -> -1459.6 | K28: =+HLOOKUP(K$2,'נתוני תאגידים'!$1:$719,233,0)*($B28-2013.5+25)/25 -> 0 | L28: =+HLOOKUP(L$2,'נתוני תאגידים'!$1:$719,233,0)*($B28-2013.5+25)/25 -> 0 | ... BG28: =+HLOOKUP(BG$2,'נתוני תאגידים'!$1:$719,233,0)*($B28-2013.5+25)/25 -> 0
B29: 2010 | E29: =+HLOOKUP(E$2,'נתוני תאגידים'!$1:$719,235,0)*($B29-2013.5+25)/25 -> -7322.384 | F29: =+HLOOKUP(F$2,'נתוני תאגידים'!$1:$719,235,0)*($B29-2013.5+25)/25 -> -7268.72 | G29: =+HLOOKUP(G$2,'נתוני תאגידים'!$1:$719,235,0)*($B29-2013.5+25)/25 -> -27599.12 | H29: =+HLOOKUP(H$2,'נתוני תאגידים'!$1:$719,235,0)*($B29-2013.5+25)/25 -> -35566.848 | I29: =+HLOOKUP(I$2,'נתוני תאגידים'!$1:$719,235,0)*($B29-2013.5+25)/25 -> -2308.928 | J29: =+HLOOKUP(J$2,'נתוני תאגידים'!$1:$719,235,0)*($B29-2013.5+25)/25 -> -1159.28 | K29: =+HLOOKUP(K$2,'נתוני תאגידים'!$1:$719,235,0)*($B29-2013.5+25)/25 -> -1314.768 | L29: =+HLOOKUP(L$2,'נתוני תאגידים'!$1:$719,235,0)*($B29-2013.5+25)/25 -> -749.92 | ... BG29: =+HLOOKUP(BG$2,'נתוני תאגידים'!$1:$719,235,0)*($B29-2013.5+25)/25 -> 0
A30: =+'[6]גיליון סימולציה לתעריפי 2016'!$F$31 -> 0.8 | B30: 2011 | E30: =+HLOOKUP(E$2,'נתוני תאגידים'!$1:$719,237,0)*($B30-2013.5+25)/25 -> -6956.64 | F30: =+HLOOKUP(F$2,'נתוני תאגידים'!$1:$719,237,0)*($B30-2013.5+25)/25 -> -12373.2 | G30: =+HLOOKUP(G$2,'נתוני תאגידים'!$1:$719,237,0)*($B30-2013.5+25)/25 -> -25942.32 | H30: =+HLOOKUP(H$2,'נתוני תאגידים'!$1:$719,237,0)*($B30-2013.5+25)/25 -> -41853.6 | I30: =+HLOOKUP(I$2,'נתוני תאגידים'!$1:$719,237,0)*($B30-2013.5+25)/25 -> -272.16 | J30: =+HLOOKUP(J$2,'נתוני תאגידים'!$1:$719,237,0)*($B30-2013.5+25)/25 -> -2517.12 | K30: =+HLOOKUP(K$2,'נתוני תאגידים'!$1:$719,237,0)*($B30-2013.5+25)/25 -> -1098 | L30: =+HLOOKUP(L$2,'נתוני תאגידים'!$1:$719,237,0)*($B30-2013.5+25)/25 -> -3218.4 | ... BG30: =+HLOOKUP(BG$2,'נתוני תאגידים'!$1:$719,237,0)*($B30-2013.5+25)/25 -> -818.1
A31: =+'[6]גיליון סימולציה לתעריפי 2016'!$F$31 -> 0.8 | B31: 2012 | E31: =+HLOOKUP(E$2,'נתוני תאגידים'!$1:$719,239,0)*($B31-2013.5+25)/25*$A$31 -> -5585.856 | F31: =+HLOOKUP(F$2,'נתוני תאגידים'!$1:$719,239,0)*($B31-2013.5+25)/25*$A$31 -> -15985.264 | G31: =+HLOOKUP(G$2,'נתוני תאגידים'!$1:$719,239,0)*($B31-2013.5+25)/25*$A$31 -> -47564.752 | H31: =+HLOOKUP(H$2,'נתוני תאגידים'!$1:$719,239,0)*($B31-2013.5+25)/25*$A$31 -> -71817.504 | I31: =+HLOOKUP(I$2,'נתוני תאגידים'!$1:$719,239,0)*($B31-2013.5+25)/25*$A$31 -> -553.472 | J31: =+HLOOKUP(J$2,'נתוני תאגידים'!$1:$719,239,0)*($B31-2013.5+25)/25*$A$31 -> -2430.464 | K31: =+HLOOKUP(K$2,'נתוני תאגידים'!$1:$719,239,0)*($B31-2013.5+25)/25*$A$31 -> -1467.904 | L31: =+HLOOKUP(L$2,'נתוני תאגידים'!$1:$719,239,0)*($B31-2013.5+25)/25*$A$31 -> -258.688 | ... BG31: =+HLOOKUP(BG$2,'נתוני תאגידים'!$1:$719,239,0)*($B31-2013.5+25)/25*$A$31 -> -768.544
A32: =+'[6]גיליון סימולציה לתעריפי 2016'!$F$31 -> 0.8 | B32: 2013 | E32: =+HLOOKUP(E$2,'נתוני תאגידים'!$1:$719,241,0)*($B32-2013.5+25)/25*$A$32 -> -4932.928 | F32: =+HLOOKUP(F$2,'נתוני תאגידים'!$1:$719,241,0)*($B32-2013.5+25)/25*$A$32 -> -12423.264 | G32: =+HLOOKUP(G$2,'נתוני תאגידים'!$1:$719,241,0)*($B32-2013.5+25)/25*$A$32 -> -36898.96 | H32: =+HLOOKUP(H$2,'נתוני תאגידים'!$1:$719,241,0)*($B32-2013.5+25)/25*$A$32 -> -69029.632 | I32: =+HLOOKUP(I$2,'נתוני תאגידים'!$1:$719,241,0)*($B32-2013.5+25)/25*$A$32 -> -1652.672 | J32: =+HLOOKUP(J$2,'נתוני תאגידים'!$1:$719,241,0)*($B32-2013.5+25)/25*$A$32 -> -1559.376 | K32: =+HLOOKUP(K$2,'נתוני תאגידים'!$1:$719,241,0)*($B32-2013.5+25)/25*$A$32 -> 0 | L32: =+HLOOKUP(L$2,'נתוני תאגידים'!$1:$719,241,0)*($B32-2013.5+25)/25*$A$32 -> -2472.736 | ... BG32: =+HLOOKUP(BG$2,'נתוני תאגידים'!$1:$719,241,0)*($B32-2013.5+25)/25*$A$32 -> -1718.528
A33: 0.8 | B33: 2014 | E33: =+HLOOKUP(E$2,'נתוני תאגידים'!$1:$719,242,0)*($B33-2014.5+25)/25*$A$33 -> -16552.592 | F33: =+HLOOKUP(F$2,'נתוני תאגידים'!$1:$719,242,0)*($B33-2014.5+25)/25*$A$33 -> -15441.664 | G33: =+HLOOKUP(G$2,'נתוני תאגידים'!$1:$719,242,0)*($B33-2014.5+25)/25*$A$33 -> -50466.864 | H33: =+HLOOKUP(H$2,'נתוני תאגידים'!$1:$719,242,0)*($B33-2014.5+25)/25*$A$33 -> -61787.824 | I33: =+HLOOKUP(I$2,'נתוני תאגידים'!$1:$719,242,0)*($B33-2014.5+25)/25*$A$33 -> 0 | J33: =+HLOOKUP(J$2,'נתוני תאגידים'!$1:$719,242,0)*($B33-2014.5+25)/25*$A$33 -> -5517.792 | K33: =+HLOOKUP(K$2,'נתוני תאגידים'!$1:$719,242,0)*($B33-2014.5+25)/25*$A$33 -> 0 | L33: =+HLOOKUP(L$2,'נתוני תאגידים'!$1:$719,242,0)*($B33-2014.5+25)/25*$A$33 -> -2638.944 | ... BG33: =+HLOOKUP(BG$2,'נתוני תאגידים'!$1:$719,242,0)*($B33-2014.5+25)/25*$A$33 -> -9404.864
B35: 2008-2014 | E35: =SUM(E27:E32) -> -29162.752 | F35: =SUM(F27:F32) -> -60079.376 | G35: =SUM(G27:G32) -> -154292.76 | H35: =SUM(H27:H32) -> -218267.58 | I35: =SUM(I27:I32) -> -4787.232 | J35: =SUM(J27:J32) -> -9125.84 | K35: =SUM(K27:K32) -> -3880.672 | L35: =SUM(L27:L32) -> -6699.744 | ... BG35: =SUM(BG27:BG32) -> -3305.172
B36: 2009-2011 | E36: =SUM(E28:E30) -> -16147.968 | F36: =SUM(F28:F30) -> -25770.928 | G36: =SUM(G28:G30) -> -69595.072 | H36: =SUM(H28:H30) -> -77420.448 | I36: =SUM(I28:I30) -> -2581.088 | J36: =SUM(J28:J30) -> -5136 | K36: =SUM(K28:K30) -> -2412.768 | L36: =SUM(L28:L30) -> -3968.32 | ... BG36: =SUM(BG28:BG30) -> -818.1
B38: ביוב
B39: 2008 | E39: =+HLOOKUP(E$2,'נתוני תאגידים'!$1:$719,525,0)*($B39-2013.5+25)/25 -> -2474.784 | F39: =+HLOOKUP(F$2,'נתוני תאגידים'!$1:$719,525,0)*($B39-2013.5+25)/25 -> -3046.992 | G39: =+HLOOKUP(G$2,'נתוני תאגידים'!$1:$719,525,0)*($B39-2013.5+25)/25 -> -233.97192 | H39: =+HLOOKUP(H$2,'נתוני תאגידים'!$1:$719,525,0)*($B39-2013.5+25)/25 -> 0 | I39: =+HLOOKUP(I$2,'נתוני תאגידים'!$1:$719,525,0)*($B39-2013.5+25)/25 -> 0 | J39: =+HLOOKUP(J$2,'נתוני תאגידים'!$1:$719,525,0)*($B39-2013.5+25)/25 -> 0 | K39: =+HLOOKUP(K$2,'נתוני תאגידים'!$1:$719,525,0)*($B39-2013.5+25)/25 -> 0 | L39: =+HLOOKUP(L$2,'נתוני תאגידים'!$1:$719,525,0)*($B39-2013.5+25)/25 -> 0 | ... BG39: =+HLOOKUP(BG$2,'נתוני תאגידים'!$1:$719,525,0)*($B39-2013.5+25)/25 -> 0
B40: 2009 | E40: =+HLOOKUP(E$2,'נתוני תאגידים'!$1:$719,270,0)*($B40-2013.5+25)/25 -> -1617.04 | F40: =+HLOOKUP(F$2,'נתוני תאגידים'!$1:$719,270,0)*($B40-2013.5+25)/25 -> -5272.928 | G40: =+HLOOKUP(G$2,'נתוני תאגידים'!$1:$719,270,0)*($B40-2013.5+25)/25 -> -8116.032 | H40: =+HLOOKUP(H$2,'נתוני תאגידים'!$1:$719,270,0)*($B40-2013.5+25)/25 -> 0 | I40: =+HLOOKUP(I$2,'נתוני תאגידים'!$1:$719,270,0)*($B40-2013.5+25)/25 -> 0 | J40: =+HLOOKUP(J$2,'נתוני תאגידים'!$1:$719,270,0)*($B40-2013.5+25)/25 -> -1789.568 | K40: =+HLOOKUP(K$2,'נתוני תאגידים'!$1:$719,270,0)*($B40-2013.5+25)/25 -> 0 | L40: =+HLOOKUP(L$2,'נתוני תאגידים'!$1:$719,270,0)*($B40-2013.5+25)/25 -> 0 | ... BG40: =+HLOOKUP(BG$2,'נתוני תאגידים'!$1:$719,270,0)*($B40-2013.5+25)/25 -> 0
B41: 2010 | E41: =+HLOOKUP(E$2,'נתוני תאגידים'!$1:$719,272,0)*($B41-2013.5+25)/25 -> -6549.072 | F41: =+HLOOKUP(F$2,'נתוני תאגידים'!$1:$719,272,0)*($B41-2013.5+25)/25 -> -5281.776 | G41: =+HLOOKUP(G$2,'נתוני תאגידים'!$1:$719,272,0)*($B41-2013.5+25)/25 -> -13639.6 | H41: =+HLOOKUP(H$2,'נתוני תאגידים'!$1:$719,272,0)*($B41-2013.5+25)/25 -> -19689.872 | I41: =+HLOOKUP(I$2,'נתוני תאגידים'!$1:$719,272,0)*($B41-2013.5+25)/25 -> -182.32 | J41: =+HLOOKUP(J$2,'נתוני תאגידים'!$1:$719,272,0)*($B41-2013.5+25)/25 -> -1565.2 | K41: =+HLOOKUP(K$2,'נתוני תאגידים'!$1:$719,272,0)*($B41-2013.5+25)/25 -> -1879.616 | L41: =+HLOOKUP(L$2,'נתוני תאגידים'!$1:$719,272,0)*($B41-2013.5+25)/25 -> -801.52 | ... BG41: =+HLOOKUP(BG$2,'נתוני תאגידים'!$1:$719,272,0)*($B41-2013.5+25)/25 -> 0
A42: =+A30 -> 0.8 | B42: 2011 | E42: =+HLOOKUP(E$2,'נתוני תאגידים'!$1:$719,274,0)*($B42-2013.5+25)/25*$A$42 -> -6724.8 | F42: =+HLOOKUP(F$2,'נתוני תאגידים'!$1:$719,274,0)*($B42-2013.5+25)/25*$A$42 -> -8172.72 | G42: =+HLOOKUP(G$2,'נתוני תאגידים'!$1:$719,274,0)*($B42-2013.5+25)/25*$A$42 -> -18792.72 | H42: =+HLOOKUP(H$2,'נתוני תאגידים'!$1:$719,274,0)*($B42-2013.5+25)/25*$A$42 -> -20846.16 | I42: =+HLOOKUP(I$2,'נתוני תאגידים'!$1:$719,274,0)*($B42-2013.5+25)/25*$A$42 -> -2062.08 | J42: =+HLOOKUP(J$2,'נתוני תאגידים'!$1:$719,274,0)*($B42-2013.5+25)/25*$A$42 -> -3486.24 | K42: =+HLOOKUP(K$2,'נתוני תאגידים'!$1:$719,274,0)*($B42-2013.5+25)/25*$A$42 -> -4109.76 | L42: =+HLOOKUP(L$2,'נתוני תאגידים'!$1:$719,274,0)*($B42-2013.5+25)/25*$A$42 -> -3978 | ... BG42: =+HLOOKUP(BG$2,'נתוני תאגידים'!$1:$719,274,0)*($B42-2013.5+25)/25*$A$42 -> -2089.44
A43: =+A31 -> 0.8 | B43: 2012 | E43: =+HLOOKUP(E$2,'נתוני תאגידים'!$1:$719,276,0)*($B43-2013.5+25)/25*$A$43 -> -4873.712 | F43: =+HLOOKUP(F$2,'נתוני תאגידים'!$1:$719,276,0)*($B43-2013.5+25)/25*$A$43 -> -13169.776 | G43: =+HLOOKUP(G$2,'נתוני תאגידים'!$1:$719,276,0)*($B43-2013.5+25)/25*$A$43 -> -22416.368 | H43: =+HLOOKUP(H$2,'נתוני תאגידים'!$1:$719,276,0)*($B43-2013.5+25)/25*$A$43 -> -41888.656 | I43: =+HLOOKUP(I$2,'נתוני תאגידים'!$1:$719,276,0)*($B43-2013.5+25)/25*$A$43 -> -5173.76 | J43: =+HLOOKUP(J$2,'נתוני תאגידים'!$1:$719,276,0)*($B43-2013.5+25)/25*$A$43 -> 0 | K43: =+HLOOKUP(K$2,'נתוני תאגידים'!$1:$719,276,0)*($B43-2013.5+25)/25*$A$43 -> -2931.296 | L43: =+HLOOKUP(L$2,'נתוני תאגידים'!$1:$719,276,0)*($B43-2013.5+25)/25*$A$43 -> -272.224 | ... BG43: =+HLOOKUP(BG$2,'נתוני תאגידים'!$1:$719,276,0)*($B43-2013.5+25)/25*$A$43 -> -1602.512
A44: =+A32 -> 0.8 | B44: 2013 | E44: =+HLOOKUP(E$2,'נתוני תאגידים'!$1:$719,278,0)*($B44-2013.5+25)/25*$A$44 -> -4201.456 | F44: =+HLOOKUP(F$2,'נתוני תאגידים'!$1:$719,278,0)*($B44-2013.5+25)/25*$A$44 -> -9025.408 | G44: =+HLOOKUP(G$2,'נתוני תאגידים'!$1:$719,278,0)*($B44-2013.5+25)/25*$A$44 -> -25641.504 | H44: =+HLOOKUP(H$2,'נתוני תאגידים'!$1:$719,278,0)*($B44-2013.5+25)/25*$A$44 -> -45265.808 | I44: =+HLOOKUP(I$2,'נתוני תאגידים'!$1:$719,278,0)*($B44-2013.5+25)/25*$A$44 -> -1926.288 | J44: =+HLOOKUP(J$2,'נתוני תאגידים'!$1:$719,278,0)*($B44-2013.5+25)/25*$A$44 -> 0 | K44: =+HLOOKUP(K$2,'נתוני תאגידים'!$1:$719,278,0)*($B44-2013.5+25)/25*$A$44 -> 0 | L44: =+HLOOKUP(L$2,'נתוני תאגידים'!$1:$719,278,0)*($B44-2013.5+25)/25*$A$44 -> -3495.072 | ... BG44: =+HLOOKUP(BG$2,'נתוני תאגידים'!$1:$719,278,0)*($B44-2013.5+25)/25*$A$44 -> -2669.52
A45: 0.8 | B45: 2014 | E45: =+HLOOKUP(E$2,'נתוני תאגידים'!$1:$719,279,0)*($B45-2014.5+25)/25*$A$45 -> -11363.296 | F45: =+HLOOKUP(F$2,'נתוני תאגידים'!$1:$719,279,0)*($B45-2014.5+25)/25*$A$45 -> -11870.544 | G45: =+HLOOKUP(G$2,'נתוני תאגידים'!$1:$719,279,0)*($B45-2014.5+25)/25*$A$45 -> -35069.888 | H45: =+HLOOKUP(H$2,'נתוני תאגידים'!$1:$719,279,0)*($B45-2014.5+25)/25*$A$45 -> -38258.416 | I45: =+HLOOKUP(I$2,'נתוני תאגידים'!$1:$719,279,0)*($B45-2014.5+25)/25*$A$45 -> 0 | J45: =+HLOOKUP(J$2,'נתוני תאגידים'!$1:$719,279,0)*($B45-2014.5+25)/25*$A$45 -> -14609.056 | K45: =+HLOOKUP(K$2,'נתוני תאגידים'!$1:$719,279,0)*($B45-2014.5+25)/25*$A$45 -> 0 | L45: =+HLOOKUP(L$2,'נתוני תאגידים'!$1:$719,279,0)*($B45-2014.5+25)/25*$A$45 -> -2638.944 | ... BG45: =+HLOOKUP(BG$2,'נתוני תאגידים'!$1:$719,279,0)*($B45-2014.5+25)/25*$A$45 -> 0
B46: 2008-2014 | E46: =SUM(E39:E44) -> -26440.864 | F46: =SUM(F39:F44) -> -43969.6 | G46: =SUM(G39:G44) -> -88840.196 | H46: =SUM(H39:H44) -> -127690.5 | I46: =SUM(I39:I44) -> -9344.448 | J46: =SUM(J39:J44) -> -6841.008 | K46: =SUM(K39:K44) -> -8920.672 | L46: =SUM(L39:L44) -> -8546.816 | ... BG46: =SUM(BG39:BG44) -> -6361.472
B47: 2009-2011 | E47: =SUM(E40:E42) -> -14890.912 | F47: =SUM(F40:F42) -> -18727.424 | G47: =SUM(G40:G42) -> -40548.352 | H47: =SUM(H40:H42) -> -40536.032 | I47: =SUM(I40:I42) -> -2244.4 | J47: =SUM(J40:J42) -> -6841.008 | K47: =SUM(K40:K42) -> -5989.376 | L47: =SUM(L40:L42) -> -4779.52 | ... BG47: =SUM(BG40:BG42) -> -2089.44

Sheet התפלגות מים 2011 מעודכן
A1: מספר | B1: שם התאגיד | D1: צריכה | F1: גינון ציבורי | H1: מוסדות | J1: בתי חולים | L1: בתי מרחץ | N1: מסחר | P1: בנייה | R1: צריכה | T1: צריכה
A2: סידורי | C2: שם הישוב | D2: מגורים | F2: רשות מקומית | H2: רשות מקומית | L2: ומקוואות | N2: ומלאכה | R2: אחרת | T2: עירונית
D3: מ"ק | E3: % | F3: מ"ק | G3: % | H3: מ"ק | I3: % | J3: מ"ק | K3: % | L3: מ"ק | M3: % | N3: מ"ק | O3: % | P3: מ"ק | Q3: % | R3: מ"ק | S3: % | T3: מ"ק | U3: %
C4: אבו סנאן | D4: 585730 | E4: 89.114228 | F4: 0 | G4: 0 | H4: 38288 | I4: 5.8252191 | J4: 0 | K4: 0 | L4: 0 | M4: 0 | N4: 9736 | O4: 1.4812561 | P4: 12880 | Q4: 1.959591 | R4: 10646 | S4: 1.6197055 | T4: 657280 | U4: 100
C5: ג'וליס | D5: 251438 | E5: 84.638741 | F5: 796 | G5: 0.26794851 | H5: 16164 | I5: 5.4411052 | J5: 225 | K5: 0.075739215 | L5: 0 | M5: 0 | N5: 16221 | O5: 5.4602925 | P5: 4933 | Q5: 1.6605402 | R5: 7295 | S5: 2.4556337 | T5: 297072 | U5: 100
C6: כפר יסיף | D6: 476860 | E6: 81.905858 | F6: 0 | G6: 0 | H6: 14881 | I6: 2.5559726 | J6: 55 | K6: 0.0094468443 | L6: 0 | M6: 0 | N6: 54240 | O6: 9.3163061 | P6: 8647 | Q6: 1.4852157 | R6: 27522 | S6: 4.7272009 | T6: 582205 | U6: 100
C7: ירכא | D7: 618591 | E7: 76.178625 | F7: 467 | G7: 0.057510403 | H7: 62719 | I7: 7.723758 | J7: 17958 | K7: 2.2115028 | L7: 0 | M7: 0 | N7: 58020 | O7: 7.1450826 | P7: 8592 | Q7: 1.0580929 | R7: 45680 | S7: 5.6254287 | T7: 812027 | U7: 100
C8: גדידה-אלמכר | D8: 935763 | E8: 89.012284 | F8: 245 | G8: 0.023305057 | H8: 75203 | I8: 7.723758 | J8: 494 | K8: 0.046990604 | L8: 0 | M8: 0 | N8: 22866 | O8: 2.1750752 | P8: 2988 | Q8: 0.28422657 | R8: 13715 | S8: 1.3046076 | T8: 1051274 | U8: 100
C9: מזרעה | D9: 164810 | E9: 91.649706 | F9: 0 | G9: 0 | H9: 2458 | I9: 1.3668769 | J9: 110 | K9: 0.061170242 | L9: 0 | M9: 0 | N9: 11433 | O9: 6.3578126 | P9: 129 | Q9: 0.071736011 | R9: 886 | S9: 0.4926985 | T9: 179826 | U9: 100
C10: יאנוח-ג'ת | D10: 235521 | E10: 92.134634 | F10: 0 | G10: 0 | H10: 11696 | I10: 4.5754165 | J10: 2604 | K10: 1.0186717 | L10: 0 | M10: 0 | N10: 5188 | O10: 2.0295196 | P10: 0 | Q10: 0 | R10: 618 | S10: 0.2417585 | T10: 255627 | U10: 100
A11: 1 | B11: אל עין | C11: סה"כ תאגיד | D11: 3268713 | E11: 85.226804 | F11: 1508 | G11: 0.039318845 | H11: 221409 | I11: 5.7729086 | J11: 21446 | K11: 0.55917239 | L11: 0 | M11: 0 | N11: 177704 | O11: 4.6333661 | P11: 38169 | Q11: 0.99519961 | R11: 106362 | S11: 2.7732301 | T11: 3835311 | U11: 100
C12: ירושלים | D12: 29584429 | E12: 63.718141 | F12: 1377896 | G12: 2.967675 | H12: 447514 | I12: 0.96384352 | J12: 604623 | K12: 1.3022206 | L12: 348372 | M12: 0.75031417 | N12: 2418483 | O12: 5.2088631 | P12: 312841 | Q12: 0.67378846 | R12: 11335993 | S12: 24.415154 | T12: 46430151 | U12: 100
C13: אבו גוש | D13: 229386 | E13: 89.727632 | F13: 882 | G13: 0.34500698 | H13: 2996 | I13: 1.1719285 | J13: 86 | K13: 0.033640137 | L13: 0 | M13: 0 | N13: 15941 | O13: 6.2355514 | P13: 256 | Q13: 0.10013808 | R13: 6100 | S13: 2.3861027 | T13: 255647 | U13: 100
C14: מבשרת ציון | D14: 1386218 | E14: 89.817549 | F14: 34228 | G14: 2.2177428 | H14: 31165 | I14: 2.0192812 | J14: 855 | K14: 0.055398216 | L14: 633 | M14: 0.041014118 | N14: 31986 | O14: 2.0724764 | P14: 1130 | Q14: 0.073216356 | R14: 57156 | S14: 3.7033221 | T14: 1543371 | U14: 100
A15: 2 | B15: חברת הגיחון בע"מ תאגיד המים והביוב של ירושלים | C15: סה"כ תאגיד | D15: 31200033 | E15: 64.69121 | F15: 1413006 | G15: 2.9297747 | H15: 481675 | I15: 0.99872133 | J15: 605564 | K15: 1.255597 | L15: 349005 | M15: 0.72363884 | N15: 2466410 | O15: 5.1139384 | P15: 314227 | Q15: 0.65152895 | R15: 11399249 | S15: 23.635591 | T15: 48229169 | U15: 100
C16: איכסאל | D16: 535862 | E16: 83.767442 | F16: 43605 | G16: 6.8164552 | H16: 9143 | I16: 1.4292592 | J16: 94 | K16: 0.014694342 | L16: 0 | M16: 0 | N16: 42137 | O16: 6.5869733 | P16: 8861 | Q16: 1.3851762 | R16: 0 | S16: 0 | T16: 639702 | U16: 100
C17: ריינה | D17: 736861 | E17: 74.362952 | F17: 100 | G17: 0.010091856 | H17: 28294 | I17: 2.8553898 | J17: 8305 | K17: 0.83812865 | L17: 0 | M17: 0 | N17: 58077 | O17: 5.8610473 | P17: 21370 | Q17: 2.1566296 | R17: 137891 | S17: 13.915761 | T17: 990898 | U17: 100
C18: עילוט | D18: 275412 | E18: 80.303238 | F18: 0 | G18: 0 | H18: 7760 | I18: 2.2626216 | J18: 0 | K18: 0 | L18: 0 | M18: 0 | N18: 23348 | O18: 6.8076917 | P18: 9751 | Q18: 2.8431473 | R18: 26694 | S18: 7.7833015 | T18: 342965 | U18: 100
C19: יפיע | D19: 732550 | E19: 94.927769 | F19: 1024 | G19: 0.13269543 | H19: 4766 | I19: 0.61760391 | J19: 123 | K19: 0.015939002 | L19: 0 | M19: 0 | N19: 26904 | O19: 3.486365 | P19: 6325 | Q19: 0.81962752 | R19: 0 | S19: 0 | T19: 771692 | U19: 100
C20: נצרת | D20: 3394665 | E20: 86.837533 | F20: 12126 | G20: 0.31019023 | H20: 159218 | I20: 4.0728904 | J20: 73312 | K20: 1.8753642 | L20: 0 | M20: 0 | N20: 243575 | O20: 6.2307922 | P20: 26318 | Q20: 0.67322996 | R20: 0 | S20: 0 | T20: 3909214 | U20: 100
A21: 3 | B21: הרי נצרת מפעלי מים וביוב בע"מ | C21: סה"כ תאגיד | D21: 5675350 | E21: 85.286268 | F21: 56855 | G21: 0.85438797 | H21: 209181 | I21: 3.1434655 | J21: 81834 | K21: 1.2297597 | L21: 0 | M21: 0 | N21: 394041 | O21: 5.9214474 | P21: 72625 | Q21: 1.0913715 | R21: 164585 | S21: 2.4732995 | T21: 6654471 | U21: 100
C22: מטולה | D22: 110781 | E22: 63.133149 | F22: 9144 | G22: 5.2110878 | H22: 50007 | I22: 28.498564 | J22: 0 | K22: 0 | L22: 29 | M22: 0.016526853 | N22: 3748 | O22: 2.1359533 | P22: 1200 | Q22: 0.68386979 | R22: 563 | S22: 0.32084891 | T22: 175472 | U22: 100
C23: קרית שמונה | D23: 1177364 | E23: 73.353316 | F23: 67311 | G23: 4.1936776 | H23: 134530 | I23: 8.3816234 | J23: 0 | K23: 0 | L23: 1433 | M23: 0.089280207 | N23: 210046 | O23: 13.086497 | P23: 3628 | Q23: 0.2260353 | R23: 10747 | S23: 0.6695704 | T23: 1605059 | U23: 100
C24: קצרין | D24: 347517 | E24: 64.807935 | F24: 92870 | G24: 17.31919 | H24: 51647 | I24: 9.6315733 | J24: 0 | K24: 0 | L24: 445 | M24: 0.082987397 | N24: 40441 | O24: 7.5417828 | P24: 3054 | Q24: 0.56953598 | R24: 252 | S24: 0.04699511 | T24: 536226 | U24: 100
C25: מגדל שמס | D25: 374292 | E25: 71.26263 | F25: 34715 | G25: 6.609498 | H25: 69184 | I25: 13.172159 | J25: 963 | K25: 0.1833486 | L25: 0 | M25: 0 | N25: 41479 | O25: 7.8973172 | P25: 0 | Q25: 0 | R25: 4596 | S25: 0.87504688 | T25: 525229 | U25: 100
C26: בוקעאתא | D26: 240937 | E26: 70.187955 | F26: 2642 | G26: 0.76964757 | H26: 82350 | I26: 23.989583 | J26: 0 | K26: 0 | L26: 0 | M26: 0 | N26: 9230 | O26: 2.6888142 | P26: 8115 | Q26: 2.3640008 | R26: 0 | S26: 0 | T26: 343274 | U26: 100
C27: מסעדה | D27: 132423 | E27: 67.770562 | F27: 20445 | G27: 10.463206 | H27: 32170 | I27: 16.463749 | J27: 225 | K27: 0.115149 | L27: 0 | M27: 0 | N27: 10136 | O27: 5.1873346 | P27: 0 | Q27: 0 | R27: 0 | S27: 0 | T27: 195399 | U27: 100
C28: עין קניה | D28: 100063 | E28: 98.538608 | F28: 456 | G28: 0.44905315 | H28: 152 | I28: 0.14968438 | J28: 133 | K28: 0.13097383 | L28: 0 | M28: 0 | N28: 0 | O28: 0 | P28: 0 | Q28: 0 | R28: 743 | S28: 0.7316809 | T28: 101547 | U28: 100
A29: 4 | B29: התנור מים וביוב בע"מ | C29: סה"כ תאגיד | D29: =SUM(D22:D28) -> 2483377 | E29: =AVERAGE(E22:E28) -> 72.722022 | F29: =SUM(F22:F28) -> 227583 | G29: =AVERAGE(G22:G28) -> 6.4307657 | H29: =SUM(H22:H28) -> 420040 | I29: =AVERAGE(I22:I28) -> 14.326705 | J29: =SUM(J22:J28) -> 1321 | K29: =AVERAGE(K22:K28) -> 0.061353062 | L29: =SUM(L22:L28) -> 1907 | M29: =AVERAGE(M22:M28) -> 0.026970637 | N29: =SUM(N22:N28) -> 315080 | O29: =AVERAGE(O22:O28) -> 5.5053856 | P29: =SUM(P22:P28) -> 15997 | Q29: =AVERAGE(Q22:Q28) -> 0.54906312 | R29: =SUM(R22:R28) -> 16901 | S29: =AVERAGE(S22:S28) -> 0.3777346 | T29: =SUM(T22:T28) -> 3482206 | U29: 100
C30: אשדוד | D30: 9872889 | E30: 73.565797 | F30: 1239639 | G30: 9.2369145 | H30: 643047 | I30: 4.7915322 | J30: 27640 | K30: 0.20595376 | L30: 80781 | M30: 0.60192297 | N30: 1182127 | O30: 8.8083757 | P30: 111589 | Q30: 0.83148243 | R30: 262776 | S30: 1.9580212 | T30: 13420488 | U30: 100
A31: 5 | B31: יובלים אשדוד בע"מ | C31: סה"כ תאגיד | D31: 9872889 | E31: 73.565797 | F31: 1239639 | G31: 9.2369145 | H31: 643047 | I31: 4.7915322 | J31: 27640 | K31: 0.20595376 | L31: 80781 | M31: 0.60192297 | N31: 1182127 | O31: 8.8083757 | P31: 111589 | Q31: 0.83148243 | R31: 262776 | S31: 1.9580212 | T31: 13420488 | U31: 100
C32: אריאל | D32: 751892 | E32: 66.583366 | F32: 161908 | G32: 14.33767 | H32: 124660 | I32: 11.039195 | J32: 0 | K32: 0 | L32: 699 | M32: 0.061899546 | N32: 49198 | O32: 4.3567008 | P32: 11828 | Q32: 1.0474218 | R32: 29064 | S32: 2.5737459 | T32: 1129249 | U32: 100
C33: קרני שומרון | D33: 285034 | E33: 66.713009 | F33: 46364 | G33: 10.851625 | H33: 28637 | I33: 6.7025704 | J33: 0 | K33: 0 | L33: 981 | M33: 0.22960581 | N33: 61732 | O33: 14.448548 | P33: 1324 | Q33: 0.30988592 | R33: 3182 | S33: 0.74475605 | T33: 427254 | U33: 100
A34: 6 | B34: יובלים בשומרון בע"מ | C34: סה"כ תאגיד | D34: 1036926 | E34: 66.618953 | F34: 208272 | G34: 13.380764 | H34: 153297 | I34: 9.8488085 | J34: 0 | K34: 0 | L34: 1680 | M34: 0.10793426 | N34: 110930 | O34: 7.1268735 | P34: 13152 | Q34: 0.84497107 | R34: 32246 | S34: 2.0716953 | T34: 1556503 | U34: 100
C35: קרית ים | D35: 1733935 | E35: 82.731275 | F35: 226193 | G35: 10.792351 | H35: 66976 | I35: 3.1956272 | J35: 9916 | K35: 0.4731223 | L35: 540 | M35: 0.025765031 | N35: 41468 | O35: 1.9785635 | P35: 10723 | Q35: 0.51162671 | R35: 6113 | S35: 0.29166969 | T35: 2095864 | U35: 100
A36: 7 | B36: ימים | C36: סה"כ תאגיד | D36: 1733935 | E36: 82.731275 | F36: 226193 | G36: 10.792351 | H36: 66976 | I36: 3.1956272 | J36: 9916 | K36: 0.4731223 | L36: 540 | M36: 0.025765031 | N36: 41468 | O36: 1.9785635 | P36: 10723 | Q36: 0.51162671 | R36: 6113 | S36: 0.29166969 | T36: 2095864 | U36: 100
C37: דבוריה | D37: 428649 | E37: 90.680598 | F37: 0 | G37: 0 | H37: 14657 | I37: 3.100685 | J37: 9870 | K37: 2.0879962 | L37: 0 | M37: 0 | N37: 2557 | O37: 0.54093277 | P37: 7155 | Q37: 1.5136386 | R37: 9814 | S37: 2.0761495 | T37: 472702 | U37: 100
C38: טורעאן | D38: 475550 | E38: 90.787776 | F38: 3818 | G38: 0.7288986 | H38: 22558 | I38: 4.3065727 | J38: 2080 | K38: 0.3970951 | L38: 0 | M38: 0 | N38: 3838 | O38: 0.73271682 | P38: 8619 | Q38: 1.6454628 | R38: 7341 | S38: 1.4014784 | T38: 523804 | U38: 100
C39: שבלי | D39: 207005 | E39: 90.40704 | F39: 2776 | G39: 1.2123859 | H39: 16869 | I39: 7.3673407 | J39: 608 | K39: 0.26553697 | L39: 0 | M39: 0 | N39: 0 | O39: 0 | P39: 156 | Q39: 0.068131196 | R39: 1556 | S39: 0.67956501 | T39: 228970 | U39: 100
C40: בועיינה-נוג'ידאת | D40: 218956 | E40: 87.203935 | F40: 3432 | G40: 1.3668678 | H40: 22994 | I40: 9.1578549 | J40: 42 | K40: 0.016727403 | L40: 0 | M40: 0 | N40: 888 | O40: 0.35366509 | P40: 1928 | Q40: 0.76786746 | R40: 2845 | S40: 1.1330824 | T40: 251085 | U40: 100
...

Sheet מטשים 2016
A1: ירוד | B1: =0.692*(1+'[7]סל מדדים'!F23) -> 0.6886092 | C1: 0.692
A2: בסיסי | B2: =1.679*(1+'[7]סל מדדים'!F23) -> 1.6707729
A3: ללא מגבלות | B3: =1.999*(1+'[7]סל מדדים'!F23) -> 1.9892049
A4: נחל | B4: =2.213*(1+'[7]סל מדדים'!F23) -> 2.2021563
A5: חיפה | B5: =1.661*(1+'[7]מדד מחירים'!$E$78) -> 1.6460982
A6: תעריף שפד"ן | B6: =+'[7]הנחות עבודה'!$D$30 -> 2.477571
A7: איילון | B7: =0.891*(1+'[7]מדד מחירים'!$E$78) -> 0.88300631
A8: איגוד ערים כרמיאל | B8: =1.79*(1+'מדד מחירים'!$E$78) -> 1.7739408
B10: התאגיד | C10: רשימת הישובים | D10: מס' תושבים | E10: מט"ש | F10: גודל (מק"י) | G10: סוג | H10: מחיר למט"ש (₪ למ"ק) | I10: חלק יחסי | J10: משוקלל לתאגיד (₪ למ"ק) | K10: לשנת 2016 | L10: גריעות ותוספות | M10: הערות | N10: מכירה | O10: כמות | P10: הכנסה שיש להפחית | Q10: כמות ביוב
A11: 1 | B11: מיתב מים תיעול וביוב בע"מ | C11: פתח תקוה, אלעד | D11: 225356 | E11: שפד"ן | F11: 35000 | G11: בסיסי | H11: =+B6/(1+T10)*(1-HLOOKUP(B11,'[7]תחשיב תעריף 2016'!$4:$26,17,0)) -> 2.2952978 | I11: =+D11/(D11+D12+D13) -> 0.82773262 | J11: =+I11*H11+I13*H13+I12*H12 -> 2.095698 | K11: =+J11-L11 -> 2.0707265 | L11: =0.03/1.05*0.92*0.95 -> 0.024971429 | M11: שירותי תשתית
C12: אלעד | D12: 43627 | E12: שפד"ן | F12: 35000 | G12: בסיסי | H12: =+J140 -> 1.1713078 | I12: =+D12/(D11+D12+D13) -> 0.16024198
C13: כפר ברא | D13: 3274 | E13: חורשים | F13: 2000 | G13: ירוד | H13: =$B$1-0.000007*F13 -> 0.6746092 | I13: =+D13/(D11+D12+D13) -> 0.012025402
B14: התנור מים וביוב בע"מ | C14: בוקעתה, מג'דל שמס, מסעדה | E14: חרמונית | F14: 2000 | G14: ללא | I14: 0.31 | J14: =+I14*H14+I15*H15+I16*H16+I17*H17 -> 1.1421924 | K14: =+J14 -> 1.1421924
C15: עין קיניה | E15: הגושרים | F15: 3000 | G15: בסיסי | H15: =$B$2-0.000007*F15 -> 1.6497729 | I15: 0.03
A16: 2 | C16: קצרין | D16: 6515 | E16: קצרין | F16: 3000 | G16: ללא מגבלות | H16: =$B$3-0.000007*F16 -> 1.9682049 | I16: 0.16
C17: קרית שמונה, מטולה | D17: =23120+1511 -> 24631 | E17: קרית שמונה | F17: 9600 | G17: בסיסי | H17: =$B$2-0.000012*F17 -> 1.5555729 | I17: 0.5
A18: 3 | B18: מי נתניה (2003) בע"מ | C18: נתניה | E18: נתניה | F18: 35000 | G18: ללא מגבלות | H18: =$B$3-0.000013*F18 -> 1.5342049 | I18: 1 | J18: =+I18*H18 -> 1.5342049 | K18: =+J18-L18 -> 1.3999163 | L18: =+P18/Q18/1000 -> 0.13428864 | M18: מכירת מים לחקלאות | N18: 0.15 | O18: 14000000 | P18: =+N18*O18 -> 2100000 | Q18: =+'[7]תחשיב תעריף 2016'!M16 -> 15637.957
A19: 4 | B19: יובלים בשומרון בע"מ | C19: קרני שומרון | D19: 6210 | E19: דרום שרון | F19: 14000 | G19: בסיסי | H19: =$B$2-0.000012*F19 -> 1.5027729 | I19: =550/(1280+550) -> 0.30054645 | J19: =+I19*H19+I21*H21+I20*H20 -> 1.6077614 | K19: =+J19 -> 1.6077614
C20: אריאל | E20: אריאל תעשייתי | F20: 200 | G20: בסיסי | H20: =$B$2-0.000007*F20 -> 1.6693729 | I20: 0.04
D21: 17559 | E21: אריאל סניטרי | F21: 2700 | G21: בסיסי | H21: =$B$2-0.000007*F21 -> 1.6518729 | I21: =1-I20-I19 -> 0.65945355
A22: 5 | B22: מי מודיעין | C22: מודיעין-מכבים-רעות | E22: איילון | F22: 35000 | G22: בסיסי | H22: =$B$2-0.000012*F22 -> 1.2507729 | I22: 1 | J22: =+I22*H22 -> 1.2507729 | K22: =+IF($B$7=0,J22,$B$7*(1-HLOOKUP(B22,'[7]תחשיב תעריף 2016'!$4:$26,17,0))) -> 0.82119587
A23: 6 | B23: חברת הגיחון בע"מ תאגיד המים והביוב של ירושלים | C23: ירושלים מבשרת ציון אבו גוש | E23: שורק | F23: 35000 | G23: בסיסי | H23: =$B$2-0.000012*F23 -> 1.2507729 | I23: 0.685 | J23: =+I23*H23+I24*H24+I26*H26+H25*I25 -> 1.1813299 | K23: =+J23 -> 1.1813299
E24: אוג | F24: 22000 | G24: בסיסי | H24: =$B$2-0.000007*F24 -> 1.5167729 | I24: 0.126
E25: הר חומה | F25: 3000 | G25: ללא מגבלות | H25: =$B$3-0.000007*F25 -> 1.9682049 | I25: 0.025
E26: קדרון | F26: 25000 | G26: ירוד | H26: =$B$1-0.000007*F26 -> 0.5136092 | I26: 0.164
A27: 7 | B27: מניב ראשון בע"מ | C27: ראשון לציון | E27: שפד"ן | F27: 35000 | G27: בסיסי | H27: =$B$2-0.000012*F27 -> 1.2507729 | I27: 1 | J27: =+I27*H27 -> 1.2507729 | K27: =+J134 -> 0.82239048 | M27: שדרוג חיצוני
A28: 8 | B28: עין נטפים מפעלי מים וביוב אילת בע"מ | C28: אילת | E28: אילת | F28: 10000 | G28: בסיסי | H28: =$B$2-0.000012*F28 -> 1.5507729 | I28: 1 | J28: =+I28*H28 -> 1.5507729 | K28: =+J28 -> 1.5507729
A29: 9 | B29: מי נע חברת המים והביוב של עיריית נצרת עילית בע"מ | C29: נצרת עילית | E29: תל עדשים | F29: 15000 | G29: בסיסי | H29: =$B$2-0.000012*F29 -> 1.4907729 | I29: 0.3 | J29: =+I29*H29+I30*H30+I32*H32+I31*H31 -> 0.96639141 | K29: =+J29 -> 0.96639141
E30: רנ"י | F30: 7000 | G30: בסיסי | H30: =$B$2-0.000012*F30 -> 1.5867729 | I30: 0.08
C31: עפולה | E31: עפולה | F31: 8000 | G31: ירוד | H31: =$B$1-0.000007*F31 -> 0.6326092 | I31: 0.34
C32: מגדל העמק | E32: מגדל העמק | F32: 8000 | G32: ירוד | H32: =$B$1-0.000007*F32 -> 0.6326092 | I32: 0.28
A33: 10 | B33: מי רקת בע"מ | C33: טבריה | D33: 33325 | E33: טבריה | F33: 10000 | G33: בסיסי | H33: =$B$2-0.000007*F33 -> 1.6007729 | I33: =D33/($D$33+$D$34+$D$35+$D$36+$D$37) -> 0.67964432 | J33: =+I33*H33+I34*H34+I37*H37+I35*H35+I36*H36 -> 1.5524276 | K33: =+J33 -> 1.5524276
D34: 8000 | E34: חיטין | F34: 2500 | G34: בסיסי | H34: =$B$2-0.000012*F34 -> 1.6407729 | I34: =D34/($D$33+$D$34+$D$35+$D$36+$D$37) -> 0.16315543
C35: יבנאל | D35: 3400 | E35: יבנאל | F35: 1000 | G35: ירוד | H35: =$B$1-0.000007*F35 -> 0.6816092 | I35: =D35/($D$33+$D$34+$D$35+$D$36+$D$37) -> 0.069341056
C36: כפר כמא | D36: 2916 | E36: שדה אילן | F36: 6000 | G36: בסיסי | H36: =$B$2-0.000012*F36 -> 1.5987729 | I36: =D36/($D$33+$D$34+$D$35+$D$36+$D$37) -> 0.059470153
C37: מגדל | D37: 1392 | E37: לבנים | F37: 6000 | G37: ללא מגבלות | H37: =$B$3-0.000012*F37 -> 1.9172049 | I37: =D37/($D$33+$D$34+$D$35+$D$36+$D$37) -> 0.028389044
A38: 11 | B38: יובלים אשדוד בע"מ | C38: אשדוד | E38: אשדוד | F38: 33000 | G38: בסיסי | H38: =$B$2-0.000012*F38 -> 1.2747729 | I38: 1 | J38: =+I38*H38 -> 1.2747729 | K38: =+J38 -> 1.2747729
A39: 12 | B39: מי שבע תאגיד המים והביוב לבאר שבע בע"מ | C39: באר שבע, אופקים | E39: באר שבע | F39: 35000 | G39: ללא מגבלות | H39: =$B$3-0.000012*F39 -> 1.5692049 | I39: 1 | J39: =+I39*H39 -> 1.5692049 | K39: =+J39-L39 -> 1.4766799 | L39: =+P39/Q39/1000 -> 0.092525026 | M39: מכירת מים לחקלאות | N39: 0.15 | O39: 12000000 | P39: =+N39*O39 -> 1800000 | Q39: =+'[7]תחשיב תעריף 2016'!Q16 -> 19454.196
B40: מי שקמה תאגיד המים והביוב בע"מ | C40: אור יהודה | D40: =+[7]גיליון1!D137 -> 35915 | E40: שפד"ן | F40: 35000 | G40: בסיסי | H40: =+J141 -> 1.6481798 | I40: =+D40/(D40+D41) -> 0.14824614 | J40: =+I41*H41+H40*I40 -> 2.2068973 | K40: =+J40-L41 -> 2.2068973
A41: 13 | C41: חולון, אזור, בית דגן | D41: =+[7]גיליון1!D135+[7]גיליון1!D136+[7]גיליון1!D134 -> 206351 | E41: שפד"ן | F41: 35000 | G41: בסיסי | H41: =+IF($B$6=0,J40,$B$6*(1-HLOOKUP(B40,'[7]תחשיב תעריף 2016'!$4:$26,17,0))) -> 2.304141 | I41: =+D41/(D41+D40) -> 0.85175386 | M41: שדרוג חיצוני
...

Sheet נתוני מים 2012
B3: נתוני צריכת המים בתאגידי מים וביוב לשנת 2012
C4: תאגידים
B6: מספר | D6: מספר | F6: אוכלוסיה | G6: תקבולים | H6: תקבולים | I6: סה"כ | J6: צריכה | K6: צריכה | L6: צריכה | M6: צריכה | N6: סה"כ | O6: סה"כ | P6: סה"כ | Q6: צר' סגולית | R6: צר' סגולית
B7: סידורי | C7: שם התאגיד | D7: צרכן | E7: שם הישוב | F7: 2011 | G7: הפקה | H7: קניה | I7: תקבולים | J7: במגורים | K7: עירונית | L7: תעשייתית | M7: חקלאית | N7: צריכה | O7: פחת | P7: פחת | Q7: מגורים | R7: עירונית
F8: נפש | G8: מ"ק | H8: מ"ק | I8: מ"ק | J8: מ"ק | K8: מ"ק | L8: מ"ק | M8: מ"ק | N8: מ"ק | O8: מ"ק | P8: % | Q8: מ"ק/נ/שנה | R8: מ"ק/נ/שנה
A9: 2012 | B9: 1 | D9: 639 | E9: אבו סנאן | F9: 12856 | G9: 0 | H9: 824598 | I9: =SUM(G9:H9) -> 824598 | J9: 616761 | K9: 667566 | L9: 0 | M9: 4422 | N9: =SUM(K9:M9) -> 671988 | O9: =I9-N9 -> 152610 | P9: =O9/I9*100 -> 18.5072 | Q9: =J9/F9 -> 47.974564 | R9: =K9/F9 -> 51.926416
E10: ג'וליס | F10: 5868 | G10: 0 | H10: 494605 | I10: =SUM(G10:H10) -> 494605 | J10: 313330 | K10: 364715 | L10: 0 | M10: 99 | N10: =SUM(K10:M10) -> 364814 | O10: =I10-N10 -> 129791 | P10: =O10/I10*100 -> 26.241344 | Q10: =J10/F10 -> 53.396387 | R10: =K10/F10 -> 62.153204
E11: כפר יאסיף | F11: 8947 | G11: 0 | H11: 716242 | I11: =SUM(G11:H11) -> 716242 | J11: 480811 | K11: 583121 | L11: 0 | M11: 5254 | N11: =SUM(K11:M11) -> 588375 | O11: =I11-N11 -> 127867 | P11: =O11/I11*100 -> 17.852486 | Q11: =J11/F11 -> 53.739913 | R11: =K11/F11 -> 65.175031
E12: ירכא | F12: 15343 | G12: 0 | H12: 1447897 | I12: =SUM(G12:H12) -> 1447897 | J12: 851729 | K12: 1061589 | L12: 64314 | M12: 71980 | N12: =SUM(K12:M12) -> 1197883 | O12: =I12-N12 -> 250014 | P12: =O12/I12*100 -> 17.267388 | Q12: =J12/F12 -> 55.512546 | R12: =K12/F12 -> 69.190445
