Workbook
Name בית_שאן: 'פחתי מים לרשויות מצטרפות'!#REF!
Name קלנסווה: 'פחתי מים לרשויות מצטרפות'!#REF!

Sheet אשכול חברתי מעודכן
A1: שם הרשות המקומית | B1: אשכול חברתי-כלכלי 2008 (1 נמוך, 10 גבוה) | C1: סוציו חדש | E1: מס' תושבים
A2: אבו גוש | B2: 3 | C2: =+VLOOKUP(A2,#REF!,3,0) -> #REF! | D2: =+C2-B2 -> #REF! | E2: 5279
A3: אבו סנאן | B3: 3 | C3: =+VLOOKUP(A3,#REF!,3,0) -> #REF! | D3: =+C3-B3 -> #REF! | E3: 10948
A4: אבן יהודה | B4: 8 | C4: =+VLOOKUP(A4,#REF!,3,0) -> #REF! | D4: =+C4-B4 -> #REF! | E4: 8675
A5: אום אל-פחם | B5: 2 | C5: =+VLOOKUP(A5,#REF!,3,0) -> #REF! | D5: =+C5-B5 -> #REF! | E5: 39046
A6: אופקים | B6: 3 | C6: =+VLOOKUP(A6,#REF!,3,0) -> #REF! | D6: =+C6-B6 -> #REF! | E6: 23694
A7: אור יהודה | B7: 5 | C7: =+VLOOKUP(A7,#REF!,3,0) -> #REF! | D7: =+C7-B7 -> #REF! | E7: 29421
A8: אור עקיבא | B8: 4 | C8: =+VLOOKUP(A8,#REF!,3,0) -> #REF! | D8: =+C8-B8 -> #REF! | E8: 15673
A9: אורנית | B9: 8 | C9: =+VLOOKUP(A9,#REF!,3,0) -> #REF! | D9: =+C9-B9 -> #REF! | E9: 5316
A10: אזור | B10: 6 | C10: =+VLOOKUP(A10,#REF!,3,0) -> #REF! | D10: =+C10-B10 -> #REF! | E10: 9895
A11: אילת | B11: 5 | C11: =+VLOOKUP(A11,#REF!,3,0) -> #REF! | D11: =+C11-B11 -> #REF! | E11: 43547
A12: אכסאל | B12: 2 | C12: =+VLOOKUP(A12,#REF!,3,0) -> #REF! | D12: =+C12-B12 -> #REF! | E12: 10623
A13: אליכין | B13: 5 | C13: =+VLOOKUP(A13,#REF!,3,0) -> #REF! | D13: =+C13-B13 -> #REF! | E13: 2499
... A140: סכנין | B140: 2 | C140: =+VLOOKUP(A140,#REF!,3,0) -> #REF! | D140: =+C140-B140 -> #REF! | E140: 23224
A141: ע'ג'ר | B141: .. | C141: =+VLOOKUP(A141,#REF!,3,0) -> #REF! | D141: =+C141-B141 -> #REF! | E141: 1905
A142: עומר | B142: 10 | C142: =+VLOOKUP(A142,#REF!,3,0) -> #REF! | D142: =+C142-B142 -> #REF! | E142: 5906
A143: עילבון | B143: 4 | C143: =+VLOOKUP(A143,#REF!,3,0) -> #REF! | D143: =+C143-B143 -> #REF! | E143: 4139
A144: עילוט | B144: 2 | C144: =+VLOOKUP(A144,#REF!,3,0) -> #REF! | D144: =+C144-B144 -> #REF! | E144: 6192
A145: עין מאהל | B145: 2 | C145: =+VLOOKUP(A145,#REF!,3,0) -> #REF! | D145: =+C145-B145 -> #REF! | E145: 10136
A146: עין קיניא | B146: 2 | C146: =+VLOOKUP(A146,#REF!,3,0) -> #REF! | D146: =+C146-B146 -> #REF! | E146: 1758
A147: עכו | B147: 4 | C147: =+VLOOKUP(A147,#REF!,3,0) -> #REF! | D147: =+C147-B147 -> #REF! | E147: 45639
A148: עמנואל | B148: 2 | C148: =+VLOOKUP(A148,#REF!,3,0) -> #REF! | D148: =+C148-B148 -> #REF! | E148: 2455
A149: עוספייה | B149: 4 | C149: =+VLOOKUP(A149,#REF!,3,0) -> #REF! | D149: =+C149-B149 -> #REF! | E149: 0
A150: עפולה | B150: 5 | C150: =+VLOOKUP(A150,#REF!,3,0) -> #REF! | D150: =+C150-B150 -> #REF! | E150: 38862
A151: עראבה | B151: 2 | C151: =+VLOOKUP(A151,#REF!,3,0) -> #REF! | D151: =+C151-B151 -> #REF! | E151: 18533
A152: ערד | B152: 5 | C152: =+VLOOKUP(A152,#REF!,3,0) -> #REF! | D152: =+C152-B152 -> #REF! | E152: 24140
A153: ערערה | B153: 2 | C153: =+VLOOKUP(A153,#REF!,3,0) -> #REF! | D153: =+C153-B153 -> #REF! | E153: 14866
... A202: תל שבע | B202: 1 | C202: =+VLOOKUP(A202,#REF!,3,0) -> #REF! | D202: =+C202-B202 -> #REF! | E202: 11916

Sheet הנחות עבודה
C3: הנחות עבודה כלליות לכלל התאגידים
C5: ערך מופחת של ציוד אחר ומונים ביחס לכינון מלא | D5: 0.5
C7: רכיב תשומת המים | D7: 2016
C8: עלות שולית ממקורות ₪ לק"ב | D8: =+'[1]תרחיש מפורט'!$AD$7 -> 4.9116749 | V8: =+ROUND('[2]תרחישים לפי סוג מחיר'!V146,2) -> #REF! | W8: =+ROUND('[2]תרחישים לפי סוג מחיר'!W146,2) -> #REF! | X8: =+ROUND('[2]תרחישים לפי סוג מחיר'!X146,2) -> #REF! | Y8: =+ROUND('[2]תרחישים לפי סוג מחיר'!Y146,2) -> #REF!
C9: תעריף מופחת ₪ לק"ב | D9: =+'[1]תרחיש מפורט'!$AD$17 -> 1.0006749 | V9: =+ROUND('[2]תרחישים לפי סוג מחיר'!V147,2) -> #REF! | W9: =+ROUND('[2]תרחישים לפי סוג מחיר'!W147,2) -> #REF! | X9: =+ROUND('[2]תרחישים לפי סוג מחיר'!X147,2) -> #REF! | Y9: =+ROUND('[2]תרחישים לפי סוג מחיר'!Y147,2) -> #REF!
C10: כמות הצריכה הבסיסית לנפש לחודש | D10: 3.5
C12: רכיב ההון
C13: שיעור תשואה על הון עצמי | D13: 0.07
C14: ריבית על הון זר | D14: 0.05
C15: אחוז הון עצמי | D15: =1-D16 -> 0.3
C16: אחוז הון זר | D16: 0.7
C17: מחיר הון משוקלל | D17: =D15*D13+D14*D16 -> 0.056 | E17: תשואה משוקללת | F17: זר | G17: זכויות מים
E18: 3 | F18: 0.05 | G18: =+F18*D16+D13*D15 -> 0.056
C19: פחת חשבונאי | E19: אחר | F19: 0.04 | G19: =+F19*D16+D13*D15 -> 0.049
C20: אורך חיים מוכר:
C22: צנרת (מים וביוב) | D22: 35
C23: החזר פחת לצרכנים ישנים על השקעות ישנות | D23: 0.6
C24: גריעה נורמטיבית | E24: 2009 | F24: 2010 | G24: 2011
C25: ניכוי היטלים סקר קודם | D25: 0.8 | E25: 0.1 | F25: =1/30*2 -> 0.066666667 | G25: =1/30*1 -> 0.033333333
C26: ניכוי היטלים סקר נוכחי | D26: 0.8
C27: הפחתת רכוש לא רלוונטי למי שלא הגיש נספח | D27: 0.1
C28: הפחתת החזר מקסימלית מהתשואה לצרכנים ישנים | D28: =+D17 -> 0.056
C29: תקופה מינימלית של ההפחתה | D29: 16.833333
C30: תעריף שפד"ן | D30: 2.43 | E30: 2.5 | F30: =+E30*(1-1%) -> 2.475
C31: תעריף לעירייה | D31: =+'[3]תרחיש מפורט'!$V$16 -> 3.8111734
C32: דירג תאגידים
C33: חזק מאוד
C34: חזק | D34: 5
C35: חלש | D35: 0.65
C36: בינוני | D36: 0.1
C37: חזק מאוד | D37: 6.5
C38: שנת תחולה (החל מ-) | D38: 2004
C39: ותיק חזק מאוד החל מ- | D39: 6
C41: הון חוזר מים | D41: =0.052*(1+'סל מדדים'!F25) -> 0.051312197
C42: הון חוזר ביוב | D42: =0.02*(1+'סל מדדים'!F25) -> 0.01973546
C44: ביוביות
C45: תאגיד | D45: תוספת לעלות תפעולית בש"ח למ"ק
C46: פלג הגליל החברה האזורית למים וביוב בע"מ | D46: =+VLOOKUP(C46,[4]ביוביות!$T$18:$U$27,2,0) -> 0.080701331
C47: מי עירון בע"מ | D47: =+VLOOKUP(C47,[4]ביוביות!$T$18:$U$27,2,0) -> 0.33036895
C48: מי גליל | D48: =+VLOOKUP(C48,[4]ביוביות!$T$18:$U$27,2,0) -> 0.035306288
C49: סובב שפרעם | D49: =+VLOOKUP(C49,[4]ביוביות!$T$18:$U$27,2,0) -> 0.045926
C50: נווה מדבר | D50: =+VLOOKUP(C50,[4]ביוביות!$T$18:$U$27,2,0) -> 0.26025758
C51: אל עין | D51: =+VLOOKUP(C51,[4]ביוביות!$T$18:$U$27,2,0) -> 0.020255602
C52: כפרי גליל תחתון בע"מ | D52: =+VLOOKUP(C52,[4]ביוביות!$T$18:$U$27,2,0) -> 0.17021661
C53: הרי נצרת מפעלי מים וביוב בע"מ | D53: =+VLOOKUP(C53,[4]ביוביות!$T$18:$U$27,2,0) -> 0.018607882
C54: מעיינות המשולש | D54: =+VLOOKUP(C54,[4]ביוביות!$T$18:$U$27,2,0) -> 0.11341506
C56: מקדם לגודל תאגיד
C57: תאגיד קטן | D57: =+-2%/-0.1 -> 0.2
C58: תאגיד גדול | D58: =35%/52.5% -> 0.66666667
C61: מצב סוציואקונומי | D61: פחת מים
D62: 2014 | E62: 2015 | F62: 2016 | H62: 2017
C63: חזק מאוד | D63: 0.07 | E63: =+D63 -> 0.07 | F63: 0.07 | H63: 0.07
C64: חזק | D64: 0.08 | E64: 0.07 | F64: =+E64 -> 0.07 | H64: =+F64 -> 0.07
C65: בינוני | D65: 0.0925 | E65: 0.0863 | F65: =+E65 -> 0.0863 | H65: 0.0925
C66: חלש | D66: 0.14 | E66: 0.1166 | F66: =+E66 -> 0.1166 | H66: =+F66 -> 0.1166
C67: חלש רב רשותי | D67: 0.14 | E67: =+E66+1% -> 0.1266 | F67: =+E67 -> 0.1266 | H67: =+F67 -> 0.1266
C69: חזק מאוד | D69: 0.015 | E69: =+D69 -> 0.015 | F69: 0.015 | H69: 0.03
C70: חזק | D70: 0.03 | E70: 0.015 | F70: 0.015 | H70: 0.05
C71: בינוני | D71: 0.03 | E71: 0.015 | F71: 0.015 | H71: 0.05
C72: חלש | D72: 0.09 | E72: 0.0667 | F72: =+E72 -> 0.0667 | H72: =+F72 -> 0.0667
C75: 2010
C76: תאגידים | D76: פחת מים | E76: כמות מוזרמת | F76: תעריף שפדן מוכר | G76: תעריף שפדן בפועל | H76: הפרש
C77: מי אביבים 2010 בע"מ | D77: 0.11 | E77: =+HLOOKUP(C77,'תחשיב תעריף 2016'!$4:$26,13,0) -> 42680.793 | F77: =1.08 -> 1.08 | G77: =1.6*(1-D77)*0.95 -> 1.3528 | H77: =+(G77-F77)*E77 -> 11643.32
C78: מי ברק בע"מ | D78: 0.15 | E78: =+HLOOKUP(C78,'תחשיב תעריף 2016'!$4:$26,13,0) -> 10687.855 | F78: =1.08 -> 1.08 | G78: =1.6*(1-D78)*0.95 -> 1.292 | H78: =+(G78-F78)*E78 -> 2265.8253
C79: מיתב מים תיעול וביוב בע"מ | D79: =+D77 -> 0.11 | E79: =+HLOOKUP(C79,'תחשיב תעריף 2016'!$4:$26,13,0) -> 18837.516 | F79: 1.08 | G79: =1.6*(1-D79)*0.95 -> 1.3528 | H79: =+(G79-F79)*E79 -> 5138.8744
C80: מי שקמה תאגיד המים והביוב בע"מ | D80: =+D79 -> 0.11 | E80: =+HLOOKUP(C80,'תחשיב תעריף 2016'!$4:$26,13,0) -> 17691.513 | F80: =1.08 -> 1.08 | G80: =1.6*(1-D80)*0.95 -> 1.3528 | H80: =+(G80-F80)*E80 -> 4826.2447
C81: מי גבעתיים | D81: =+D80 -> 0.11 | E81: =+HLOOKUP(C81,'תחשיב תעריף 2016'!$4:$26,13,0) -> 3602.181 | F81: =1.08 -> 1.08 | G81: =1.6*(1-D81)*0.95 -> 1.3528 | H81: =+(G81-F81)*E81 -> 982.67498
C82: מי בת ים | D82: =+D81 -> 0.11 | E82: =+HLOOKUP(C82,'תחשיב תעריף 2016'!$4:$26,13,0) -> 8567.827 | F82: =1.08 -> 1.08 | G82: =1.6*(1-D82)*0.95 -> 1.3528 | H82: =+(G82-F82)*E82 -> 2337.3032
C84: 2011
C85: תאגידים | D85: פחת מים | E85: כמות מוזרמת | F85: תעריף שפדן מוכר | G85: תעריף שפדן בפועל | H85: הפרש
C86: מי אביבים 2010 בע"מ | D86: 0.0875 | E86: =+E77 -> 42680.793 | F86: =1.03 -> 1.03 | G86: =1.771*(1-D86)*0.95 -> 1.5352356 | H86: =+(G86-F86)*E86 -> 21563.857
C87: מי ברק בע"מ | D87: 0.1325 | E87: =+E78 -> 10687.855 | F87: =1.03 -> 1.03 | G87: =1.771*(1-D87)*0.95 -> 1.4595254 | H87: =+(G87-F87)*E87 -> 4590.7049
C88: מיתב מים תיעול וביוב בע"מ | D88: =+D86 -> 0.0875 | E88: =+E79 -> 18837.516 | F88: =1.03 -> 1.03 | G88: =1.771*(1-D88)*0.95 -> 1.5352356 | H88: =+(G88-F88)*E88 -> 9517.3842
C89: מי שקמה תאגיד המים והביוב בע"מ | D89: =+D88 -> 0.0875 | E89: =+E80 -> 17691.513 | F89: =1.03 -> 1.03 | G89: =1.771*(1-D89)*0.95 -> 1.5352356 | H89: =+(G89-F89)*E89 -> 8938.3826
C90: מי גבעתיים | D90: =+D89 -> 0.0875 | E90: =+HLOOKUP(C90,'[5]תעריף מוצע'!$A$5:$IV$38,26,0) -> 3487.223 | F90: =1.03 -> 1.03 | G90: =1.771*(1-D90)*0.95 -> 1.5352356 | H90: =+(G90-F90)*E90 -> 1761.8693
C91: מי בת ים | D91: =+D90 -> 0.0875 | E91: =+HLOOKUP(C91,'[5]תעריף מוצע'!$A$5:$IV$38,26,0) -> 8405.811 | F91: =1.03 -> 1.03 | G91: =1.771*(1-D91)*0.95 -> 1.5352356 | H91: =+(G91-F91)*E91 -> 4246.9152
C94: הוצאות הנהלה | E94: באור
C95: משכורות ונלוות | D95: =+D139 -> 3256.736 | E95: באור שכר עבודה
C96: דמי שכירות | D96: =60*750/100 -> 450 | E96: מדובר על 750 מ"ר בעלות חודשית של 60 ₪
C97: ביטוח | D97: 80
C98: ארנונה | D98: 151.66667
C99: הוצאות אחרות | D99: =+D119 -> 542.24
C100: פחת | D100: 269
C101: יעוץ מקצועי | D101: =+D127 -> 916
C102: אחזקת כלי רכב | D102: 216 | E102: ארבעה רכבים צמודים בעלות של 4.5 אלפי ₪ בחודש
C103: פיצויים ותביעות | D103: 100
C104: שונות | D104: 300
C105: סה"כ הנהלה | D105: =SUM(D95:D104) -> 6281.6427
C106: תעריף למ"ק | D106: =D105/40000 -> 0.15704107
C110: הוצאות אחרות
C111: דמי ניהול למשרדים | D111: =12*750*12/1000 -> 108
C112: מיסים עירוניים | D112: 120
C113: ניקיון | D113: =6*12 -> 72
C114: מחשבים+תוכנה ניהולית | D114: =3*12+30 -> 66
C115: תקשורת | D115: =4*12 -> 48
C116: מדפסות | D116: =12*1.5 -> 18
C117: הדרכות שונות | D117: 30.24
C118: כיבודים ושונות | D118: 80
C119: סה"כ | D119: =SUM(D111:D118) -> 542.24
C121: יועץ משפטי | D121: 252
...

Sheet התפלגות מים 2012
B3: התפלגות צריכת המים העירונית לפי סוגי השימוש לשנת 2012
C4: תאגידים
B6: מספר | C6: שם התאגיד | E6: צריכה | G6: גינון ציבורי | I6: מוסדות | K6: בתי חולים | M6: בתי מרחץ | O6: מסחר | Q6: בנייה | S6: צריכה | U6: צריכה
B7: סידורי | D7: שם הישוב | E7: מגורים | G7: רשות מקומית | I7: רשות מקומית | M7: ומקוואות | O7: ומלאכה | S7: אחרת | U7: עירונית
E8: מ"ק | F8: % | G8: מ"ק | H8: % | I8: מ"ק | J8: % | K8: מ"ק | L8: % | M8: מ"ק | N8: % | O8: מ"ק | P8: % | Q8: מ"ק | R8: % | S8: מ"ק | T8: % | U8: מ"ק | V8: %
A9: 2012 | B9: 1 | D9: אבו סנאן | E9: 616761 | F9: 92.389517 | G9: 0 | H9: 0 | I9: 20806 | J9: 3.1166956 | K9: 0 | L9: 0 | M9: 0 | N9: 0 | O9: 12341 | P9: 1.8486562 | Q9: 11640 | R9: 1.7436478 | S9: 6018 | T9: 0.9014839 | U9: 667566 | V9: 100
D10: ג'וליס | E10: 313330 | F10: 85.910917 | G10: 0 | H10: 0 | I10: 11289 | J10: 3.0952936 | K10: 319 | L10: 0.087465555 | M10: 0 | N10: 0 | O10: 35043 | P10: 9.6083243 | Q10: 4640 | R10: 1.2722263 | S10: 94 | T10: 0.025773549 | U10: 364715 | V10: 100
D11: כפר יסיף | E11: 480811 | F11: 82.454756 | G11: 0 | H11: 0 | I11: 16996 | J11: 2.9146609 | K11: 89 | L11: 0.015262698 | M11: 0 | N11: 0 | O11: 69039 | P11: 11.839567 | Q11: 8502 | R11: 1.4580164 | S11: 7684 | T11: 1.3177368 | U11: 583121 | V11: 100
D12: ירכא | E12: 851729 | F12: 80.231521 | G12: 230 | H12: 0.021665635 | I12: 37308 | J12: 3.5143544 | K12: 31654 | L12: 2.9817566 | M12: 0 | N12: 0 | O12: 104777 | P12: 9.8698272 | Q12: 17173 | R12: 1.6176694 | S12: 18718 | T12: 1.7632059 | U12: 1061589 | V12: 100
D13: גדידה-אלמכר | E13: 1065763 | F13: 91.527134 | G13: 86 | H13: 0.0073856322 | I13: 65904 | J13: 3.5143544 | K13: 359 | L13: 0.03083072 | M13: 0 | N13: 0 | O13: 21843 | P13: 1.8758647 | Q13: 4780 | R13: 0.41050374 | S13: 5688 | T13: 0.48848228 | U13: 1164423 | V13: 100
D14: מזרעה | E14: 163711 | F14: 94.421598 | G14: 0 | H14: 0 | I14: 3048 | J14: 1.7579578 | K14: 106 | L14: 0.061136328 | M14: 0 | N14: 0 | O14: 4949 | P14: 2.8543744 | Q14: 1488 | R14: 0.85821563 | S14: 81 | T14: 0.046717383 | U14: 173383 | V14: 100
D15: יאנוח-ג'ת | E15: 363242 | F15: 91.964889 | G15: 2467 | H15: 0.62459017 | I15: 15935 | J15: 4.0343917 | K15: 0 | L15: 0 | M15: 0 | N15: 0 | O15: 6026 | P15: 1.5256507 | Q15: 523 | R15: 0.1324121 | S15: 6786 | T15: 1.718066 | U15: 394979 | V15: 100
C16: אל עין בע"מ | D16: סה"כ תאגיד | E16: 3855347 | F16: 87.427275 | G16: 2783 | H16: 0.063109782 | I16: 171286 | J16: 3.8842336 | K16: 32527 | L16: 0.73761116 | M16: 0 | N16: 0 | O16: 254018 | P16: 5.7603379 | Q16: 48746 | R16: 1.1054076 | S16: 45069 | T16: 1.0220247 | U16: 4409776 | V16: 100
A17: 2012 | B17: 2 | D17: ירושלים | E17: 30179993 | F17: 63.017481 | G17: 1459748 | H17: 3.0480339 | I17: 470728 | J17: 0.98290589 | K17: 631226 | L17: 1.3180345 | M17: 358499 | N17: 0.74856558 | O17: 2553875 | P17: 5.3326311 | Q17: 284160 | R17: 0.59334167 | S17: 11953233 | T17: 24.959006 | U17: 47891462 | V17: 100
D18: אבו גוש | E18: 251399 | F18: 88.057542 | G18: 1390 | H18: 0.48687538 | I18: 6075 | J18: 2.1278906 | K18: 2 | L18: 0.00070054012 | M18: 0 | N18: 0 | O18: 18346 | P18: 6.4260545 | Q18: 745 | R18: 0.26095119 | S18: 7537 | T18: 2.6399854 | U18: 285494 | V18: 100
D19: מבשרת ציון | E19: 1400194 | F19: 90.986088 | G19: 33346 | H19: 2.1668584 | I19: 27611 | J19: 1.794192 | K19: 715 | L19: 0.046461456 | M19: 430 | N19: 0.027941855 | O19: 26896 | P19: 1.7477305 | Q19: 155 | R19: 0.010072064 | S19: 49563 | T19: 3.2206562 | U19: 1538910 | V19: 100
C20: חברת הגיחון בע"מ תאגיד המים והביוב של ירושלים | D20: סה"כ תאגיד | E20: 31831586 | F20: 64.027017 | G20: 1494484 | H20: 3.0060504 | I20: 504414 | J20: 1.0145936 | K20: 631943 | L20: 1.2711093 | M20: 358929 | N20: 0.72196067 | O20: 2599117 | P20: 5.2279427 | Q20: 285060 | R20: 0.57337833 | S20: 12010333 | T20: 24.157948 | U20: 49715866 | V20: 100
A21: 2012 | B21: 3 | D21: איכסאל | E21: 658638 | F21: 81.765568 | G21: 65959 | H21: 8.1883752 | I21: 856 | J21: 0.10626676 | K21: 220 | L21: 0.02731155 | M21: 0 | N21: 0 | O21: 52417 | P21: 6.5072251 | Q21: 8444 | R21: 1.048267 | S21: 18986 | T21: 2.3569868 | U21: 805520 | V21: 100
D22: ריינה | E22: 885382 | F22: 86.553358 | G22: 100 | H22: 0.0097758209 | I22: 54527 | J22: 5.3304618 | K22: 3669 | L22: 0.35867487 | M22: 0 | N22: 0 | O22: 47932 | P22: 4.6857465 | Q22: 22311 | R22: 2.1810834 | S22: 9011 | T22: 0.88089922 | U22: 1022932 | V22: 100
D23: עילוט | E23: 356529 | F23: 82.245808 | G23: 0 | H23: 0 | I23: 14308 | J23: 3.3006376 | K23: 0 | L23: 0 | M23: 0 | N23: 0 | O23: 26291 | P23: 6.0649331 | Q23: 9670 | R23: 2.2307217 | S23: 26694 | T23: 6.1578991 | U23: 433492 | V23: 100
D24: יפיע | E24: 733369 | F24: 87.956819 | G24: 1024 | H24: 0.12281373 | I24: 59173 | J24: 7.0969305 | K24: 199 | L24: 0.023867121 | M24: 0 | N24: 0 | O24: 28923 | P24: 3.4688882 | Q24: 5879 | R24: 0.70509953 | S24: 5216 | T24: 0.62558244 | U24: 833783 | V24: 100
D25: נצרת | E25: 2851268 | F25: 78.372598 | G25: 6658 | H25: 0.18300797 | I25: 238371 | J25: 6.5520865 | K25: 71852 | L25: 1.9749907 | M25: 0 | N25: 0 | O25: 234079 | P25: 6.4341126 | Q25: 21846 | R25: 0.60047943 | S25: 214019 | T25: 5.8827248 | U25: 3638093 | V25: 100
C26: הרי נצרת מפעלי מים וביוב בע"מ | D26: סה"כ תאגיד | E26: 5485186 | F26: 81.457271 | G26: 73741 | H26: 1.0950842 | I26: 367235 | J26: 5.453591 | K26: 75940 | L26: 1.1277403 | M26: 0 | N26: 0 | O26: 389642 | P26: 5.7863442 | Q26: 68150 | R26: 1.0120556 | S26: 273926 | T26: 4.0679139 | U26: 6733820 | V26: 100
A27: 2012 | B27: 4 | D27: מטולה | E27: 119876 | F27: 63.136827 | G27: 13298 | H27: 7.0038501 | I27: 2873 | J27: 1.5131645 | K27: 137 | L27: 0.072155772 | M27: 26 | N27: 0.013693796 | O27: 3658 | P27: 1.9266118 | Q27: 842 | R27: 0.44346832 | S27: 49157 | T27: 25.890228 | U27: 189867 | V27: 100
D28: קרית שמונה | E28: 1189309 | F28: 71.331348 | G28: 90171 | H28: 5.4081984 | I28: 96106 | J28: 5.7641627 | K28: 3888 | L28: 0.23319111 | M28: 1623 | N28: 0.097342893 | O28: 203555 | P28: 12.208646 | Q28: 4986 | R28: 0.299046 | S28: 77664 | T28: 4.6580643 | U28: 1667302 | V28: 100
D29: קצרין | E29: 332975 | F29: 59.002133 | G29: 126259 | H29: 22.372702 | I29: 36121 | J29: 6.4005288 | K29: 1143 | L29: 0.20253604 | M29: 502 | N29: 0.088952837 | O29: 39321 | P29: 6.9675588 | Q29: 2018 | R29: 0.35758332 | S29: 26005 | T29: 4.608005 | U29: 564344 | V29: 100
C30: התנור מים וביוב בע"מ | D30: סה"כ תאגיד | E30: 1642160 | F30: 67.815453 | G30: 229728 | H30: 9.4869613 | I30: 135100 | J30: 5.5791565 | K30: 5168 | L30: 0.21342029 | M30: 2151 | N30: 0.088828761 | O30: 246534 | P30: 10.18099 | Q30: 7846 | R30: 0.3240123 | S30: 152826 | T30: 6.3111782 | U30: 2421513 | V30: 100
A31: 2012 | B31: 5 | D31: אשדוד | E31: 10043599 | F31: 70.634557 | G31: 1512131 | H31: 10.634505 | I31: 684414 | J31: 4.8133423 | K31: 24712 | L31: 0.17379439 | M31: 84043 | N31: 0.59105706 | O31: 1244223 | P31: 8.7503633 | Q31: 250402 | R31: 1.7610255 | S31: 375577 | T31: 2.6413555 | U31: 14219101 | V31: 100
C32: יובלים אשדוד בע"מ | D32: סה"כ תאגיד | E32: 10043599 | F32: 70.634557 | G32: 1512131 | H32: 10.634505 | I32: 684414 | J32: 4.8133423 | K32: 24712 | L32: 0.17379439 | M32: 84043 | N32: 0.59105706 | O32: 1244223 | P32: 8.7503633 | Q32: 250402 | R32: 1.7610255 | S32: 375577 | T32: 2.6413555 | U32: 14219101 | V32: 100
A33: 2012 | B33: 6 | D33: אריאל | E33: 773685 | F33: 66.078522 | G33: 157171 | H33: 13.423586 | I33: 137499 | J33: 11.743449 | K33: 0 | L33: 0 | M33: 412 | N33: 0.035187901 | O33: 79121 | P33: 6.7575289 | Q33: 9379 | R33: 0.80103719 | S33: 13590 | T33: 1.1606883 | U33: 1170857 | V33: 100
D34: קרני שומרון | E34: 305137 | F34: 63.460079 | G34: 59887 | H34: 12.454844 | I34: 34846 | J34: 7.2470068 | K34: 0 | L34: 0 | M34: 956 | N34: 0.19882163 | O34: 73237 | P34: 15.231276 | Q34: 1035 | R34: 0.21525145 | S34: 5735 | T34: 1.1927218 | U34: 480833 | V34: 100
C35: יובלים בשומרון בע"מ | D35: סה"כ תאגיד | E35: 1078822 | F35: 65.316252 | G35: 217058 | H35: 13.14157 | I35: 172345 | J35: 10.434464 | K35: 0 | L35: 0 | M35: 1368 | N35: 0.082824259 | O35: 152358 | P35: 9.2243702 | Q35: 10414 | R35: 0.63050572 | S35: 19325 | T35: 1.1700137 | U35: 1651690 | V35: 100
A36: 2012 | B36: 7 | D36: קרית ים | E36: 1905099 | F36: 79.614951 | G36: 296192 | H36: 12.377998 | I36: 89234 | J36: 3.7291293 | K36: 11557 | L36: 0.48297227 | M36: 490 | N36: 0.020477322 | O36: 47854 | P36: 1.9998404 | Q36: 9541 | R36: 0.39872272 | S36: 32924 | T36: 1.3759089 | U36: 2392891 | V36: 100
C37: ימים | D37: סה"כ תאגיד | E37: 1905099 | F37: 79.614951 | G37: 296192 | H37: 12.377998 | I37: 89234 | J37: 3.7291293 | K37: 11557 | L37: 0.48297227 | M37: 490 | N37: 0.020477322 | O37: 47854 | P37: 1.9998404 | Q37: 9541 | R37: 0.39872272 | S37: 32924 | T37: 1.3759089 | U37: 2392891 | V37: 100
A38: 2012 | B38: 8 | D38: דבוריה | E38: 463240 | F38: 89.424946 | G38: 0 | H38: 0 | I38: 14324 | J38: 2.7651389 | K38: 10749 | L38: 2.0750124 | M38: 0 | N38: 0 | O38: 3250 | P38: 0.62738769 | Q38: 9025 | R38: 1.7422074 | S38: 17433 | T38: 3.3653076 | U38: 518021 | V38: 100
D39: טורעאן | E39: 521505 | F39: 78.760772 | G39: 2661 | H39: 0.40187997 | I39: 64314 | J39: 9.713081 | K39: 0 | L39: 0 | M39: 0 | N39: 0 | O39: 4818 | P39: 0.72764288 | Q39: 11106 | R39: 1.6772939 | S39: 57734 | T39: 8.7193304 | U39: 662138 | V39: 100
D40: שבלי | E40: 230734 | F40: 90.046051 | G40: 5439 | H40: 2.1226194 | I40: 14879 | J40: 5.8066656 | K40: 0 | L40: 0 | M40: 0 | N40: 0 | O40: 362 | P40: 0.14127381 | Q40: 1171 | R40: 0.45699344 | S40: 3655 | T40: 1.4263971 | U40: 256240 | V40: 100
D41: בועיינה-נוג'ידאת | E41: 237211 | F41: 85.714337 | G41: 3936 | H41: 1.4222428 | I41: 26312 | J41: 9.5076352 | K41: 0 | L41: 0 | M41: 0 | N41: 0 | O41: 3031 | P41: 1.0952281 | Q41: 3840 | R41: 1.3875539 | S41: 2416 | T41: 0.87300268 | U41: 276746 | V41: 100
D42: כפר כנא | E42: 766866 | F42: 79.726491 | G42: 14095 | H42: 1.4653732 | I42: 63143 | J42: 6.5646017 | K42: 0 | L42: 0 | M42: 0 | N42: 0 | O42: 8408 | P42: 0.87412969 | Q42: 12539 | R42: 1.3036052 | S42: 96820 | T42: 10.065799 | U42: 961871 | V42: 100
D43: משהד | E43: 288455 | F43: 91.682161 | G43: 0 | H43: 0 | I43: 20190 | J43: 6.4171633 | K43: 0 | L43: 0 | M43: 0 | N43: 0 | O43: 226 | P43: 0.071831545 | Q43: 1710 | R43: 0.54350417 | S43: 4044 | T43: 1.2853397 | U43: 314625 | V43: 100
D44: עין מאהל | E44: 458395 | F44: 89.103897 | G44: 358 | H44: 2.0239578 | I44: 29834 | J44: 3.0797385 | K44: 0 | L44: 0.033929647 | M44: 0 | N44: 0.0069009452 | O44: 5240 | P44: 2.031945 | Q44: 16636 | R44: 0.89296953 | S44: 3987 | T44: 1.7130319 | U44: 514450 | V44: 100
C45: כפרי גליל תחתון בע"מ | D45: סה"כ תאגיד | E45: 2966406 | F45: 84.655507 | G45: 26489 | H45: 0.75594498 | I45: 232996 | J45: 6.6492565 | K45: 10749 | L45: 0.30675573 | M45: 0 | N45: 0 | O45: 25335 | P45: 0.72301205 | Q45: 56027 | R45: 1.5989025 | S45: 186089 | T45: 5.3106212 | U45: 3504091 | V45: 100
A46: 2012 | B46: 9 | D46: נצרת עלית | E46: 1833241 | F46: 75.051563 | G46: 169139 | H46: 6.9244285 | I46: 138551 | J46: 5.6721779 | K46: 17569 | L46: 0.71926218 | M46: 374 | N46: 0.01531129 | O46: 272262 | P46: 11.14621 | Q46: 5845 | R46: 0.23929008 | S46: 5661 | T46: 0.23175725 | U46: 2442642 | V46: 100
D47: מגדל העמק | E47: 1059794 | F47: 75.496109 | G47: 44566 | H47: 3.1747298 | I47: 70129 | J47: 4.9957507 | K47: 4926 | L47: 0.35091144 | M47: 4491 | N47: 0.31992352 | O47: 215094 | P47: 15.322563 | Q47: 4773 | R47: 0.34001224 | S47: 0 | T47: 0 | U47: 1403773 | V47: 100
C48: מי נע חברת המים והביוב של עיריית נצרת עילית בע"מ | D48: סה"כ | E48: 2893035 | F48: 75.213803 | G48: 213705 | H48: 5.5559528 | I48: 208680 | J48: 5.4253116 | K48: 22495 | L48: 0.58483029 | M48: 4865 | N48: 0.12648141 | O48: 487356 | P48: 12.670396 | Q48: 10618 | R48: 0.27604926 | S48: 5661 | T48: 0.14717601 | U48: 3846415 | V48: 100
A49: 2012 | B49: 10 | D49: תל אביב-יפו | E49: 26159823 | F49: 66.870523 | G49: 3039835 | H49: 7.7705173 | I49: 1639445 | J49: 4.1907984 | K49: 1084295 | L49: 2.7717074 | M49: 44626 | N49: 0.11407432 | O49: 6195648 | P49: 15.837501 | Q49: 214331 | R49: 0.54787932 | S49: 742108 | T49: 1.8969987 | U49: 39120111 | V49: 100
C50: מי אביבים 2010 בע"מ | D50: סה"כ תאגיד | E50: 26159823 | F50: 66.870523 | G50: 3039835 | H50: 7.7705173 | I50: 1639445 | J50: 4.1907984 | K50: 1084295 | L50: 2.7717074 | M50: 44626 | N50: 0.11407432 | O50: 6195648 | P50: 15.837501 | Q50: 214331 | R50: 0.54787932 | S50: 742108 | T50: 1.8969987 | U50: 39120111 | V50: 100 | W50: =+S50+Q50+O50+M50+K50+I50+G50 -> 12960288
A51: 2012 | B51: 11 | D51: קרית אונו | E51: 1985714 | F51: 84.142813 | G51: 156632 | H51: 6.6371376 | I51: 70730 | J51: 2.997119 | K51: 0 | L51: 0 | M51: 1191 | N51: 0.050467534 | O51: 117534 | P51: 4.9803956 | Q51: 27811 | R51: 1.1784657 | S51: 321 | T51: 0.013602081 | U51: 2359933 | V51: 100
C52: מי אונו בע"מ | D52: סה"כ תאגיד | E52: 1985714 | F52: 84.142813 | G52: 156632 | H52: 6.6371376 | I52: 70730 | J52: 2.997119 | K52: 0 | L52: 0 | M52: 1191 | N52: 0.050467534 | O52: 117534 | P52: 4.9803956 | Q52: 27811 | R52: 1.1784657 | S52: 321 | T52: 0.013602081 | U52: 2359933 | V52: 100
A53: 2012 | B53: 12 | D53: אשקלון | E53: 5850567 | F53: 73.712843 | G53: 652935 | H53: 8.226501 | I53: 197169 | J53: 2.4841845 | K53: 204691 | L53: 2.5789561 | M53: 9108 | N53: 0.1147541 | O53: 470724 | P53: 5.9307764 | Q53: 75053 | R53: 0.94561263 | S53: 476724 | T53: 6.006372 | U53: 7936971 | V53: 100
D54: נתיבות | E54: 1282344 | F54: 74.615487 | G54: 140174 | H54: 8.1562758 | I54: 73040 | J54: 4.2499635 | K54: 8268 | L54: 0.48108842 | M54: 44261 | N54: 2.5754057 | O54: 70692 | P54: 4.1133409 | Q54: 30517 | R54: 1.7756864 | S54: 69307 | T54: 4.0327522 | U54: 1718603 | V54: 100
C55: מי אשקלון בע"מ | D55: סה"כ תאגיד | E55: 7132911 | F55: 73.873506 | G55: 793109 | H55: 8.2140016 | I55: 270209 | J55: 2.7984768 | K55: 212959 | L55: 2.2055551 | M55: 53369 | N55: 0.55272737 | O55: 541416 | P55: 5.6072896 | Q55: 105570 | R55: 1.0933581 | S55: 546031 | T55: 5.6550859 | U55: 9655574 | V55: 100
A56: 2012 | B56: 13 | D56: בני ברק | E56: 6967448 | F56: 75.139698 | G56: 122014 | H56: 1.3158469 | I56: 170812 | J56: 1.8421038 | K56: 135879 | L56: 1.4653726 | M56: 361750 | N56: 3.9012542 | O56: 634575 | P56: 6.8435063 | Q56: 24970 | R56: 0.2692863 | S56: 855211 | T56: 9.2229316 | U56: 9272659 | V56: 100
C57: מי ברק בע"מ | D57: סה"כ תאגיד | E57: 6967448 | F57: 75.139698 | G57: 122014 | H57: 1.3158469 | I57: 170812 | J57: 1.8421038 | K57: 135879 | L57: 1.4653726 | M57: 361750 | N57: 3.9012542 | O57: 634575 | P57: 6.8435063 | Q57: 24970 | R57: 0.2692863 | S57: 855211 | T57: 9.2229316 | U57: 9272659 | V57: 100
A58: 2012 | B58: 14 | D58: בת ים | E58: 6382910 | F58: 81.0263 | G58: 496714 | H58: 6.3054152 | I58: 368597 | J58: 4.6790651 | K58: 85928 | L58: 1.0907921 | M58: 7909 | N58: 0.10039888 | O58: 335213 | P58: 4.25528 | Q58: 22523 | R58: 0.28591275 | S58: 177784 | T58: 2.2568358 | U58: 7877578 | V58: 100
C59: מי בת ים בע"מ | D59: סה"כ תאגיד | E59: 6382910 | F59: 81.0263 | G59: 496714 | H59: 6.3054152 | I59: 368597 | J59: 4.6790651 | K59: 85928 | L59: 1.0907921 | M59: 7909 | N59: 0.10039888 | O59: 335213 | P59: 4.25528 | Q59: 22523 | R59: 0.28591275 | S59: 177784 | T59: 2.2568358 | U59: 7877578 | V59: 100
A60: 2012 | B60: 15 | D60: גבעתיים | E60: 3005603 | F60: 84.493791 | G60: 148952 | H60: 4.1873525 | I60: 61573 | J60: 1.7309459 | K60: 40477 | L60: 1.1378932 | M60: 3029 | N60: 0.08515153 | O60: 220670 | P60: 6.2034956 | Q60: 39905 | R60: 1.1218131 | S60: 36979 | T60: 1.0395571 | U60: 3557188 | V60: 100
C61: מי גבעתיים בע"מ | D61: סה"כ תאגיד | E61: 3005603 | F61: 84.493791 | G61: 148952 | H61: 4.1873525 | I61: 61573 | J61: 1.7309459 | K61: 40477 | L61: 1.1378932 | M61: 3029 | N61: 0.08515153 | O61: 220670 | P61: 6.2034956 | Q61: 39905 | R61: 1.1218131 | S61: 36979 | T61: 1.0395571 | U61: 3557188 | V61: 100
A62: 2012 | B62: 16 | D62: סכנין | E62: 1116933 | F62: 82.175705 | G62: 30732 | H62: 2.2610342 | I62: 81054 | J62: 5.9633564 | K62: 0 | L62: 0 | M62: 9261 | N62: 0.68135618 | O62: 85168 | P62: 6.2660342 | Q62: 19355 | R62: 1.4239984 | S62: 16698 | T62: 1.2285159 | U62: 1359201 | V62: 100
D63: נחף | E63: 433540 | F63: 90.868124 | G63: 3197 | H63: 0.67007749 | I63: 20136 | J63: 4.2204192 | K63: 0 | L63: 0 | M63: 0 | N63: 0 | O63: 8039 | P63: 1.6849399 | Q63: 11387 | R63: 2.3866664 | S63: 810 | T63: 0.16977253 | U63: 477109 | V63: 100
D64: דיר חנא | E64: 403928 | F64: 87.181402 | G64: 10306 | H64: 2.2243854 | I64: 22286 | J64: 4.8100769 | K64: 0 | L64: 0 | M64: 0 | N64: 0 | O64: 10228 | P64: 2.2075503 | Q64: 11043 | R64: 2.383455 | S64: 5528 | T64: 1.1931304 | U64: 463319 | V64: 100
D65: בענה | E65: 353928 | F65: 85.97685 | G65: 16671 | H65: 4.0497504 | I65: 9456 | J65: 2.2970691 | K65: 0 | L65: 0 | M65: 0 | N65: 0 | O65: 29863 | P65: 7.2543756 | Q65: 979 | R65: 0.23782051 | S65: 758 | T65: 0.18413477 | U65: 411655 | V65: 100
D66: עראבה | E66: 1082921 | F66: 87.279549 | G66: 5675 | H66: 0.45738465 | I66: 69721 | J66: 5.6192625 | K66: 0 | L66: 0 | M66: 0 | N66: 0 | O66: 53437 | P66: 4.3068305 | Q66: 14926 | R66: 1.2029821 | S66: 14070 | T66: 1.1339915 | U66: 1240750 | V66: 100
D67: מגד' אל כרום | E67: 642637 | F67: 88.542373 | G67: 9626 | H67: 1.326268 | I67: 22968 | J67: 3.1645256 | K67: 0 | L67: 0 | M67: 1801 | N67: 0.24814135 | O67: 40767 | P67: 5.6168675 | Q67: 4192 | R67: 0.57757276 | S67: 3805 | T67: 0.52425199 | U67: 725796 | V67: 100
D68: דיר אל עסד | E68: 427678 | F68: 91.077483 | G68: 0 | H68: 0 | I68: 14229 | J68: 3.0301804 | K68: 0 | L68: 0 | M68: 1988 | N68: 0.42336065 | O68: 13666 | P68: 2.910285 | Q68: 6804 | R68: 1.4489667 | S68: 5211 | T68: 1.1097245 | U68: 469576 | V68: 100
C69: מי גליל בע"מ | D69: סה"כ תאגיד | E69: 4461565 | F69: 86.675988 | G69: 76207 | H69: 1.4804933 | I69: 239850 | J69: 4.6596286 | K69: 0 | L69: 0 | M69: 13050 | N69: 0.25352576 | O69: 241168 | P69: 4.6852337 | Q69: 68686 | R69: 1.3343809 | S69: 46880 | T69: 0.91075 | U69: 5147406 | V69: 100
A70: 2012 | B70: 17 | D70: הוד השרון | E70: 2991094 | F70: 77.171201 | G70: 307969 | H70: 7.9457006 | I70: 157110 | J70: 4.0534892 | K70: 53969 | L70: 1.3924178 | M70: 0 | N70: 0 | O70: 287064 | P70: 7.4063448 | Q70: 69762 | R70: 1.7998824 | S70: 8952 | T70: 0.23096452 | U70: 3875920 | V70: 100
C71: מי הוד השרון בע"מ | D71: סה"כ תאגיד | E71: 2991094 | F71: 77.171201 | G71: 307969 | H71: 7.9457006 | I71: 157110 | J71: 4.0534892 | K71: 53969 | L71: 1.3924178 | M71: 0 | N71: 0 | O71: 287064 | P71: 7.4063448 | Q71: 69762 | R71: 1.7998824 | S71: 8952 | T71: 0.23096452 | U71: 3875920 | V71: 100
A72: 2012 | B72: 18 | D72: הרצליה | E72: 6583597 | F72: 72.039374 | G72: 669785 | H72: 7.3289559 | I72: 495876 | J72: 5.4259999 | K72: 69814 | L72: 0.76392235 | M72: 5833 | N72: 0.063826153 | O72: 830647 | P72: 9.0891484 | Q72: 96909 | R72: 1.0604027 | S72: 386426 | T72: 4.2283705 | U72: 9138887 | V72: 100
C73: מי הרצליה בע"מ | D73: סה"כ תאגיד | E73: 6583597 | F73: 72.039374 | G73: 669785 | H73: 7.3289559 | I73: 495876 | J73: 5.4259999 | K73: 69814 | L73: 0.76392235 | M73: 5833 | N73: 0.063826153 | O73: 830647 | P73: 9.0891484 | Q73: 96909 | R73: 1.0604027 | S73: 386426 | T73: 4.2283705 | U73: 9138887 | V73: 100
A74: 2012 | B74: 19 | D74: חדרה | E74: 4223935 | F74: 72.133992 | G74: 282866 | H74: 4.8306268 | I74: 276378 | J74: 4.7198284 | K74: 180791 | L74: 3.0874472 | M74: 16907 | N74: 0.28872826 | O74: 349540 | P74: 5.969248 | Q74: 81458 | R74: 1.391094 | S74: 443804 | T74: 7.5790357 | U74: 5855679 | V74: 100
C75: מי חדרה בע"מ | D75: סה"כ | E75: 4223935 | F75: 72.133992 | G75: 282866 | H75: 4.8306268 | I75: 276378 | J75: 4.7198284 | K75: 180791 | L75: 3.0874472 | M75: 16907 | N75: 0.28872826 | O75: 349540 | P75: 5.969248 | Q75: 81458 | R75: 1.391094 | S75: 443804 | T75: 7.5790357 | U75: 5855679 | V75: 100
A76: 2012 | B76: 20 | D76: יבנה | E76: 1807662 | F76: 68.168181 | G76: 327579 | H76: 12.35323 | I76: 113513 | J76: 4.2806535 | K76: 0 | L76: 0 | M76: 8522 | N76: 0.3213705 | O76: 270705 | P76: 10.208472 | Q76: 100449 | R76: 3.7880011 | S76: 23338 | T76: 0.88009207 | U76: 2651768 | V76: 100
D77: גן יבנה | E77: 1134560 | F77: 84.790527 | G77: 95617 | H77: 7.1458679 | I77: 40966 | J77: 3.0615646 | K77: 0 | L77: 0 | M77: 636 | N77: 0.047531004 | O77: 27573 | P77: 2.0606484 | Q77: 13693 | R77: 1.0233365 | S77: 25029 | T77: 1.8705244 | U77: 1338074 | V77: 100
C78: מי יבנה בע"מ | D78: סה"כ תאגיד | E78: 2942222 | F78: 73.74282 | G78: 423196 | H78: 10.606836 | I78: 154479 | J78: 3.8718075 | K78: 0 | L78: 0 | M78: 9158 | N78: 0.2295329 | O78: 298278 | P78: 7.4759351 | Q78: 114142 | R78: 2.860815 | S78: 48367 | T78: 1.2122535 | U78: 3989842 | V78: 100
A79: חסר | B79: 21 | D79: חיפה | E79: 10871842 | F79: 57.818595 | G79: 647894 | H79: 3.4456278 | I79: 1916827 | J79: 10.194063 | K79: 72436 | L79: 0.3852289 | M79: 6155 | N79: 0.032733501 | O79: 1843679 | P79: 9.8050477 | Q79: 88164 | R79: 0.4688735 | S79: 3356369 | T79: 17.849831 | U79: 18803366 | V79: 100
C80: מי כרמל בע"מ | D80: סה"כ תאגיד | E80: 10871842 | F80: 57.818595 | G80: 647894 | H80: 3.4456278 | I80: 1916827 | J80: 10.194063 | K80: 72436 | L80: 0.3852289 | M80: 6155 | N80: 0.032733501 | O80: 1843679 | P80: 9.8050477 | Q80: 88164 | R80: 0.4688735 | S80: 3356369 | T80: 17.849831 | U80: 18803366 | V80: 100
A81: 2012 | B81: 22 | D81: לוד | E81: 3239003 | F81: 80.424808 | G81: 139852 | H81: 3.4725409 | I81: 154893 | J81: 3.8460106 | K81: 0 | L81: 0 | M81: 10187 | N81: 0.25294435 | O81: 336119 | P81: 8.3458725 | Q81: 56020 | R81: 1.3909829 | S81: 91294 | T81: 2.2668403 | U81: 4027368 | V81: 100
C82: מי לוד בע"מ | D82: סה"כ תאגיד | E82: 3239003 | F82: 80.424808 | G82: 139852 | H82: 3.4725409 | I82: 154893 | J82: 3.8460106 | K82: 0 | L82: 0 | M82: 10187 | N82: 0.25294435 | O82: 336119 | P82: 8.3458725 | Q82: 56020 | R82: 1.3909829 | S82: 91294 | T82: 2.2668403 | U82: 4027368 | V82: 100
A83: 2012 | B83: 23 | D83: מודיעין | E83: 4216555 | F83: 76.510586 | G83: 601897 | H83: 10.921592 | I83: 319323 | J83: 5.7942064 | K83: 0 | L83: 0 | M83: 0 | N83: 0 | O83: 218708 | P83: 3.9685187 | Q83: 136819 | R83: 2.4826195 | S83: 17772 | T83: 0.32247798 | U83: 5511074 | V83: 100
C84: מי מודיעין בע"מ | D84: סה"כ תאגיד | E84: 4216555 | F84: 76.510586 | G84: 601897 | H84: 10.921592 | I84: 319323 | J84: 5.7942064 | K84: 0 | L84: 0 | M84: 0 | N84: 0 | O84: 218708 | P84: 3.9685187 | Q84: 136819 | R84: 2.4826195 | S84: 17772 | T84: 0.32247798 | U84: 5511074 | V84: 100
A85: 2012 | B85: 24 | D85: נתניה | E85: 10050778 | F85: 74.789219 | G85: 855384 | H85: 6.3650298 | I85: 525248 | J85: 3.9084425 | K85: 198113 | L85: 1.474186 | M85: 40191 | N85: 0.29906675 | O85: 981810 | P85: 7.305783 | Q85: 329197 | R85: 2.4496001 | S85: 458085 | T85: 3.4086734 | U85: 13438806 | V85: 100
C86: מי נתניה (2003) בע"מ | D86: סה"כ תאגיד | E86: 10050778 | F86: 74.789219 | G86: 855384 | H86: 6.3650298 | I86: 525248 | J86: 3.9084425 | K86: 198113 | L86: 1.474186 | M86: 40191 | N86: 0.29906675 | O86: 981810 | P86: 7.305783 | Q86: 329197 | R86: 2.4496001 | S86: 458085 | T86: 3.4086734 | U86: 13438806 | V86: 100
A87: 2012 | B87: 25 | D87: אום אל פחם | E87: 2239224 | F87: 87.418534 | G87: 0 | H87: 0 | I87: 102000 | J87: 3.9820449 | K87: 2741 | L87: 0.1070077 | M87: 0 | N87: 0 | O87: 119289 | P87: 4.6570015 | Q87: 85996 | R87: 3.3572542 | S87: 12248 | T87: 0.4781577 | U87: 2561498 | V87: 100
D88: כפר קרע | E88: 848462 | F88: 79.50885 | G88: 7471 | H88: 0.7001028 | I88: 32257 | J88: 3.0227836 | K88: 10 | L88: 0.00093709383 | M88: 0 | N88: 0 | O88: 53786 | P88: 5.0402529 | Q88: 10313 | R88: 0.96642487 | S88: 114830 | T88: 10.760648 | U88: 1067129 | V88: 100
D89: ערערה | E89: 332280 | F89: 86.187398 | G89: 0 | H89: 0 | I89: 19122 | J89: 4.9598996 | K89: 164 | L89: 0.042538622 | M89: 0 | N89: 0 | O89: 1934 | P89: 0.50164448 | Q89: 20336 | R89: 5.2747891 | S89: 11696 | T89: 3.03373 | U89: 385532 | V89: 100
D90: בסמ"ה | E90: 78071 | F90: 71.710955 | G90: 1880 | H90: 1.726846 | I90: 3157 | J90: 2.8998154 | K90: 344 | L90: 0.31597608 | M90: 0 | N90: 0 | O90: 351 | P90: 0.32240583 | Q90: 2080 | R90: 1.910553 | S90: 22986 | T90: 21.113448 | U90: 108869 | V90: 100
D91: מעלה עירון | E91: 119429 | F91: 90.425822 | G91: 0 | H91: 0 | I91: 3738 | J91: 2.8302315 | K91: 0 | L91: 0 | M91: 0 | N91: 0 | O91: 0 | P91: 0 | Q91: 7830 | R91: 5.9284946 | S91: 1077 | T91: 0.81545194 | U91: 132074 | V91: 100
D92: באקה-ג'ת | E92: 1609160 | F92: 76.870272 | G92: 7300 | H92: 0.34872417 | I92: 70994 | J92: 3.3914142 | K92: 8333 | L92: 0.39807103 | M92: 0 | N92: 0 | O92: 63461 | P92: 3.0315595 | Q92: 62401 | R92: 2.9809229 | S92: 271696 | T92: 12.979036 | U92: 2093345 | V92: 100
C93: מי עירון בע"מ | D93: סה"כ תאגיד | E93: 5226626 | F93: 82.329206 | G93: 16651 | H93: 0.26228462 | I93: 231268 | J93: 3.6429067 | K93: 11592 | L93: 0.18259584 | M93: 0 | N93: 0 | O93: 238821 | P93: 3.7618807 | Q93: 188956 | R93: 2.976413 | S93: 434533 | T93: 6.8447134 | U93: 6348447 | V93: 100
A94: 2012 | B94: 26 | D94: עכו עיריה | E94: 2008315 | F94: 72.215596 | G94: 236666 | H94: 8.5101073 | I94: 147501 | J94: 5.3038854 | K94: 18984 | L94: 0.68263239 | M94: 7711 | N94: 0.27727446 | O94: 245568 | P94: 8.8302081 | Q94: 16618 | R94: 0.59755505 | S94: 99636 | T94: 3.5827413 | U94: 2780999 | V94: 100
C95: מי עכו בע"מ | D95: סה"כ תאגיד | E95: 2008315 | F95: 72.215596 | G95: 236666 | H95: 8.5101073 | I95: 147501 | J95: 5.3038854 | K95: 18984 | L95: 0.68263239 | M95: 7711 | N95: 0.27727446 | O95: 245568 | P95: 8.8302081 | Q95: 16618 | R95: 0.59755505 | S95: 99636 | T95: 3.5827413 | U95: 2780999 | V95: 100
A96: 2012 | B96: 27 | D96: נס ציונה | E96: 2247889 | F96: 72.061883 | G96: 280044 | H96: 8.9775331 | I96: 111553 | J96: 3.5761193 | K96: 70869 | L96: 2.2718887 | M96: 2019 | N96: 0.064724255 | O96: 206923 | P96: 6.6334507 | Q96: 57311 | R96: 1.837252 | S96: 142779 | T96: 4.5771493 | U96: 3119387 | V96: 100
C97: מי ציונה בע"מ | D97: סה"כ תאגיד | E97: 2247889 | F97: 72.061883 | G97: 280044 | H97: 8.9775331 | I97: 111553 | J97: 3.5761193 | K97: 70869 | L97: 2.2718887 | M97: 2019 | N97: 0.064724255 | O97: 206923 | P97: 6.6334507 | Q97: 57311 | R97: 1.837252 | S97: 142779 | T97: 4.5771493 | U97: 3119387 | V97: 100
A98: 2012 | B98: 28 | C98: מי קריית גת בע"מ | D98: קרית גת | E98: 2194782 | F98: 78.783434 | G98: 171758 | H98: 6.1653891 | I98: 121159 | J98: 4.349098 | K98: 12945 | L98: 0.464671 | M98: 18770 | N98: 0.67376398 | O98: 230088 | P98: 8.2591906 | Q98: 21661 | R98: 0.77753871 | S98: 14679 | T98: 0.5269143 | U98: 2785842 | V98: 100
D99: סה"כ תאגיד | E99: 2194782 | F99: 78.783434 | G99: 171758 | H99: 6.1653891 | I99: 121159 | J99: 4.349098 | K99: 12945 | L99: 0.464671 | M99: 18770 | N99: 0.67376398 | O99: 230088 | P99: 8.2591906 | Q99: 21661 | R99: 0.77753871 | S99: 14679 | T99: 0.5269143 | U99: 2785842 | V99: 100
A100: 2012 | B100: 29 | D100: רהט עיריה | E100: 2044508 | F100: 90.056117 | G100: 16292 | H100: 0.51193347 | I100: 84298 | J100: 0.9634265 | K100: 560 | L100: 0.39457243 | M100: 0 | N100: 0 | O100: 48427 | P100: 2.6495737 | Q100: 37700 | R100: 0.81423619 | S100: 38475 | T100: 8.8296329 | U100: 2270260 | V100: 100
C101: מי רהט בע"מ | D101: סה"כ תאגיד | E101: 2044508 | F101: 90.056117 | G101: 16292 | H101: 0.71762706 | I101: 84298 | J101: 3.713143 | K101: 560 | L101: 0.024666778 | M101: 0 | N101: 0 | O101: 48427 | P101: 2.1331037 | Q101: 37700 | R101: 1.6606028 | S101: 38475 | T101: 1.6947398 | U101: 2270260 | V101: 100
A102: 2012 | B102: 30 | D102: רעננה | E102: 4231711 | F102: 71.142967 | G102: 577800 | H102: 9.7138973 | I102: 109998 | J102: 1.8492719 | K102: 83226 | L102: 1.3991845 | M102: 9503 | N102: 0.15976318 | O102: 521358 | P102: 8.7650019 | Q102: 31423 | R102: 0.52827933 | S102: 383160 | T102: 6.4416353 | U102: 5948179 | V102: 100
C103: מי רעננה בע"מ | D103: סה"כ תאגיד | E103: 4231711 | F103: 71.142967 | G103: 577800 | H103: 9.7138973 | I103: 109998 | J103: 1.8492719 | K103: 83226 | L103: 1.3991845 | M103: 9503 | N103: 0.15976318 | O103: 521358 | P103: 8.7650019 | Q103: 31423 | R103: 0.52827933 | S103: 383160 | T103: 6.4416353 | U103: 5948179 | V103: 100
...

Sheet תחשיב להיטל מופחת
E1: =1+D1 -> 1 | F1: =1+E1 -> 2 | G1: =1+F1 -> 3 | H1: =1+G1 -> 4 | I1: =1+H1 -> 5 | J1: =1+I1 -> 6 | K1: =1+J1 -> 7 | L1: =1+K1 -> 8 | ... BG1: =1+BF1 -> 55
E2: מי שבע תאגיד המים והביוב לבאר שבע בע"מ | F2: מי שקמה תאגיד המים והביוב בע"מ | G2: חברת הגיחון בע"מ תאגיד המים והביוב של ירושלים | H2: מי אביבים 2010 בע"מ | I2: מי יבנה | J2: מי לוד בע"מ | K2: מי עירון בע"מ | L2: מי אונו | M2: מי גבעתיים | N2: מי הרצליה | O2: מי חדרה בע"מ | P2: מי כרמל | Q2: עין אפק | R2: עין נטפים מפעלי מים וביוב אילת בע"מ | S2: שרונים | T2: מי נתניה (2003) בע"מ | U2: מעיינות אתא | V2: יובלים בשומרון בע"מ | W2: מי בית שמש | X2: מעיינות הדרום | Y2: מעיינות העמקים | Z2: יובלים אשדוד בע"מ | AA2: מי בת ים | AB2: מי נע חברת המים והביוב של עיריית נצרת עילית בע"מ | AC2: מיתב מים תיעול וביוב בע"מ | AD2: מניב ראשון בע"מ | AE2: מי אשקלון | AF2: מי רעננה | AG2: תמ"ר תאגיד מים רמלה בע"מ | AH2: פלגי מוצקין | AI2: סובב שפרעם | AJ2: מי קריית גת | AK2: הרי נצרת מפעלי מים וביוב בע"מ | AL2: התנור מים וביוב בע"מ | AM2: מי ציונה בע"מ | AN2: מי רקת בע"מ | AO2: מי עכו | AP2: כפרי גליל תחתון בע"מ | AQ2: מי ברק בע"מ | AR2: מי גליל | AS2: מי הוד השרון | AT2: פלג הגליל החברה האזורית למים וביוב בע"מ | AU2: מעיינות השרון | AV2: פלגי השרון | AW2: מעיינות המשולש | AX2: ימים | AY2: מי תקווה | AZ2: נווה מדבר | BA2: מי רמת גן | BB2: מי רהט | BC2: מי קריית ביאליק | BD2: מי מודיעין | BE2: מעיינות זיו | BF2: עין כרמים | BG2: אל עין | BK2: מי אשקלון | BL2: הרי נצרת מפעלי מים וביוב בע"מ
E3: 2009-2010 | F3: 2009-2010 | G3: 2009-2011 | H3: 2010 בלבד | I3: 2010-2011 | J3: =+G3 -> 2009-2011 | K3: =+H3 -> 2010 בלבד | L3: 2010 | M3: 2010-2011 | N3: 2009-2010 | O3: 2009-2011 | P3: 2009-2010 | Q3: 2009-2011 | R3: 2009-2011 | S3: 2009-2010 | T3: 2009-2010 | U3: 2009-2010 | V3: 2009-2011 | W3: 2009-2011 | X3: 2010-2011 | Y3: 2009-2010 | Z3: 2009-2011 | AA3: 2009-2010 | AB3: 2009-2010 | AC3: 2009-2011 | AD3: 2009-2011 | AE3: 2009-2010 | AF3: 2009-2011 | AG3: 2009-2011 | AH3: 2009-2010 | AI3: 2009-2011 | AJ3: 2009-2011 | AK3: 2009-2011 | AL3: 2009-2011 | AM3: 2009-2011 | AN3: 2009-2011 | AO3: 2010-2011 | AP3: 2009-2011 | AQ3: 2010-2011 | AR3: 2010-2011 | AS3: 2010-2011 | AT3: 2010-2011 | AU3: 2010-2011 | AV3: 2011 | AW3: 1 | AX3: 1 | AY3: 1 | AZ3: 1 | BA3: 1 | BB3: 1 | BC3: 1 | BD3: 1 | BE3: 1 | BF3: 1 | BG3: 1 | BK3: =+HLOOKUP(BK2,$E$2:$AV$3,2,0) -> 2009-2010 | BL3: =+HLOOKUP(BL2,$E$2:$AV$3,2,0) -> 2009-2011
A6: =+'[6]גיליון סימולציה לתעריפי 2016'!$F$31 -> 0.8 | B6: היטלי פיתוח מים | E6: =-10643*$A$6-2849*$A$6-9662*$A$6 -> -18523.2 | F6: =-10565*$A$6-9343*$A$6-17185*$A$6 -> -29674.4 | G6: =-40115*$A$6-24472*$A$6-36031*$A$6 -> -80494.4 | H6: =-51696*$A$6-58130*$A$6 -> -87860.8 | I6: =-3356*$A$6-378*$A$6 -> -2987.2 | J6: =-2225*$A$6-1685*$A$6-3496*$A$6 -> -5924.8 | K6: =-1911*$A$6-1525*$A$6 -> -2748.8 | L6: =-1090*$A$6-4470*$A$6 -> -4448 | M6: =-2949*$A$6-1730*$A$6 -> -3743.2 | N6: =-37*$A$6-11407*$A$6-21881*$A$6 -> -26660 | O6: =-2561*$A$6-4924*$A$6-6828*$A$6 -> -11450.4 | P6: =-13428*$A$6-19066*$A$6 -> -25995.2 | Q6: =-183*$A$6-689*$A$6-586*$A$6 -> -1166.4 | R6: =-2718*$A$6-4016*$A$6-3098*$A$6 -> -7865.6 | S6: =-1715*$A$6-3423*$A$6-1359*$A$6 -> -5197.6 | T6: =-5354*$A$6-8126*$A$6-9224*$A$6 -> -18163.2 | U6: =-1721748/1000*$A$6-4441*$A$6-3885*$A$6 -> -8038.1984 | V6: =-367*$A$6-745*$A$6-571*$A$6 -> -1346.4 | W6: =-17*$A$6-2140*$A$6 -> -1725.6 | Y6: =-1208*$A$6-3134*$A$6 -> -3473.6 | Z6: =-6513*$A$6-8258*$A$6-19501*$A$6 -> -27417.6 | AA6: =(-1208696*$A$6-1222291*$A$6-13886*$A$6)/1000 -> -1955.8984 | AB6: =-492*$A$6-1742*$A$6-1799*$A$6 -> -3226.4 | AC6: =-27501*$A$6-42755*$A$6-27708*$A$6 -> -78371.2 | AD6: =-5419*$A$6-12288*$A$6-10001*$A$6 -> -22166.4 | AE6: =-9676*$A$6-18878*$A$6 -> -22843.2 | AF6: =-489*$A$6-1955*$A$6-3276*$A$6 -> -4576 | AG6: =-3198*$A$6-1947*$A$6-1345*$A$6 -> -5192 | AH6: =-1605*$A$6 -> -1284 | AI6: =-243*$A$6-2352*$A$6-4519*$A$6 -> -5691.2 | AJ6: =-297*$A$6-4122*$A$6-7043*$A$6 -> -9169.6 | AK6: =-5030*$A$6-8755*$A$6-11811*$A$6 -> -20476.8 | AL6: =-602*$A$6-444*$A$6-669*$A$6 -> -1372 | AM6: =-2576*$A$6-3712*$A$6 -> -5030.4 | AN6: =-1291*$A$6-1696*$A$6 -> -2389.6 | AO6: =-1081*$A$6 -> -864.8 | AP6: =-2044*$A$6-2550*$A$6 -> -3675.2 | AQ6: =-6510*$A$6 -> -5208 | AR6: =-667*$A$6-2755*$A$6 -> -2737.6 | AS6: =-10982*$A$6-24402*$A$6 -> -28307.2 | AT6: =-1375*$A$6-1755*$A$6 -> -2504 | AU6: =-1861*$A$6-3687*$A$6 -> -4438.4 | AV6: 0
E8: =SUM(E5:E7) -> -18523.2 | F8: =SUM(F5:F7) -> -29674.4 | G8: =SUM(G5:G7) -> -80494.4 | H8: =SUM(H5:H7) -> -87860.8 | I8: =SUM(I5:I7) -> -2987.2 | J8: =SUM(J5:J7) -> -5924.8 | K8: =SUM(K5:K7) -> -2748.8 | L8: =SUM(L5:L7) -> -4448 | ... X8: =SUM(X5:X7) -> 0 | Y8: =SUM(Y6:Y7) -> -3473.6 | Z8: =SUM(Z6:Z7) -> -27417.6 | AA8: =SUM(AA6:AA7) -> -1955.8984 | AB8: =SUM(AB6:AB7) -> -3226.4 | AC8: =SUM(AC6:AC7) -> -78371.2 | AD8: =SUM(AD6:AD7) -> -22166.4 | AE8: =SUM(AE6:AE7) -> -22843.2 | AF8: =SUM(AF6:AF7) -> -4576 | ... BG8: =SUM(BG6:BG7) -> 0
A11: =+'[6]גיליון סימולציה לתעריפי 2016'!$F$31 -> 0.8 | B11: היטלי פיתוח ביוב | E11: =-9519*$A$11-2465*$A$11-9340*$A$11 -> -17059.2 | F11: =-7677*$A$11-8038*$A$11-11351*$A$11 -> -21652.8 | G11: =-19825*$A$11-12372*$A$11-26101*$A$11 -> -46638.4 | H11: =-28619*$A$11-28953 -> -51848.2 | I11: =-265*$A$11-2864*$A$11 -> -2503.2 | J11: =-2728*$A$11-2275*$A$11-4842*$A$11 -> -7876 | K11: =-2732*$A$11-5708*$A$11 -> -6752 | L11: =-1165*$A$11-5525*$A$11 -> -5352 | M11: =-2366*$A$11-2175*$A$11 -> -3632.8 | N11: =-8311*$A$11-15913*$A$11 -> -19379.2 | O11: =-1757*$A$11-4748*$A$11-7227*$A$11 -> -10985.6 | P11: =-8210*$A$11-33135 -> -39703 | Q11: =-69*$A$11-262*$A$11-261*$A$11 -> -473.6 | R11: =-1282*$A$11-2027*$A$11-2763*$A$11 -> -4857.6 | S11: =-4740*$A$11-10576*$A$11-4923*$A$11 -> -16191.2 | T11: =-4984*$A$11-6243*$A$11-8285*$A$11 -> -15609.6 | U11: =-1898622/1000*$A$11-5858*$A$11-5017*$A$11 -> -10218.898 | W11: =-107*$A$11-12209*$A$11 -> -9852.8 | X11: =-1354*$A$11-1705*$A$11 -> -2447.2 | Y11: =-585*$A$11-3227*$A$11 -> -3049.6 | Z11: =-6790*$A$11-10963*$A$11-21017*$A$11 -> -31016 | AB11: =-2509*$A$11-3043*$A$11 -> -4441.6 | AC11: =-21276*$A$11-31204*$A$11-28955*$A$11 -> -65148 | AD11: =-10790*$A$11-10798*$A$11-15647 -> -32917.4 | AF11: =-976*$A$11-3133*$A$11-6080*$A$11 -> -8151.2 | AG11: =-2562*$A$11-2742*$A$11-3033*$A$11 -> -6669.6 | AH11: 0 | AI11: =-300*$A$11-3477*$A$11-4682 -> -7703.6 | AJ11: =-1082*$A$11-5686*$A$11 -> -5414.4 | AL11: =-307*$A$11-892*$A$11-367*$A$11 -> -1252.8 | AM11: =-2576*$A$11-3705*$A$11 -> -5024.8 | AN11: =-3470*$A$11-6344*$A$11 -> -7851.2 | AO11: =-636*$A$11 -> -508.8 | AP11: =-2590*$A$11-3223*$A$11 -> -4650.4 | AQ11: =-8853*$A$11 -> -7082.4 | AR11: =-507*$A$11-2486*$A$11 -> -2394.4 | AS11: 0 | AT11: =-2746*$A$11-2207*$A$11 -> -3962.4 | AU11: =-4643*$A$11-5548*$A$11 -> -8152.8 | AV11: =-18836*$A$11 -> -15068.8
E14: 2009-2010 | F14: 2009-2010 | G14: =+F14 -> 2009-2010 | H14: =+H3 -> 2010 בלבד | I14: =+I3 -> 2010-2011 | J14: =+J3 -> 2009-2011 | K14: =+K3 -> 2010 בלבד | L14: =+L3 -> 2010 | M14: =+M3 -> 2010-2011 | N14: =+N3 -> 2009-2010 | O14: =+O3 -> 2009-2011 | ... BG14: =+BG3 -> 1
B16: פחת נצבר היטלי פיתוח מים | E16: =10643*0.9/25*1.5+2849*0.9/25*2.5+9662*0.9/25*0.5 -> 1005.048 | F16: =10565*0.9/25*1.5+9343*0.9/25*2.5+17185*0.9/25*0.5 -> 1720.71 | G16: =40115*0.9/25*1.5+24472*0.9/25*2.5+36031*0.9/25*0.5 -> 5017.248 | H16: =51696*0.9/25*1.5+58130*0.9/25*0.5 -> 3837.924 | I16: =3356*0.9/25*1.5+378*0.9/25*0.5 -> 188.028 | J16: =1685*0.9/25*1.5+2225*0.9/25*2.5+3496*0.9/25*0.5 -> 354.168 | K16: =1911*0.9/25*1.5+1525*0.9/25*0.5 -> 130.644 | L16: =1090*0.9/25*1.5+4470*0.9/25*0.5 -> 139.32 | M16: =2949*0.9/25*1.5+1730*0.9/25*0.5 -> 190.386 | N16: =37*0.9/25*2.5+11407*0.9/25*1.5+21881*0.9/25*0.5 -> 1013.166 | O16: =2561*0.9/25*2.5+4924*0.9/25*1.5+6828*0.9/25*0.5 -> 619.29 | P16: =13428*0.9/25*1.5+19066*0.9/25*0.5 -> 1068.3 | Q16: =183*0.9/25*2.5+689*0.9/25*1.5+586*0.9/25*0.5 -> 64.224 | R16: =2718*0.9/25*2.5+4016*0.9/25*1.5+3098*0.9/25*0.5 -> 517.248 | S16: =1715*0.9/25*2.5+3423*0.9/25*1.5+1359*0.9/25*0.5 -> 363.654 | T16: =5354*0.9/25*2.5+8126*0.9/25*1.5+9224*0.9/25*0.5 -> 1086.696 | U16: =1721748/1000*0.9/25*2.5+4441*0.9/25*1.5+3885*0.9/25*0.5 -> 464.70132 | V16: =367*0.9/25*2.5+745*0.9/25*1.5+571*0.9/25*0.5 -> 83.538 | W16: =17*0.9/25*1.5+2140*0.9/25*0.5 -> 39.438 | Y16: =1208*0.9/25*1.5+3134*0.9/25*0.5 -> 121.644 | Z16: =6513*0.9/25*2.5+8258*0.9/25*1.5+19501*0.9/25*0.5 -> 1383.12 | AA16: =(1208696*0.9/25*2.5+1222291*0.9/25*1.5+13886*0.9/25*0.5)/1000 -> 175.0363 | AB16: =492*0.9/25*2.5+1742*0.9/25*1.5+1799*0.9/25*0.5 -> 170.73 | AC16: =27501*0.9/25*2.5+42755*0.9/25*1.5+27708*0.9/25*0.5 -> 5282.604 | AD16: =5419*0.9/25*2.5+12288*0.9/25*1.5+10001*0.9/25*0.5 -> 1331.28 | AE16: =9676*0.9/25*1.5+18878*0.9/25*0.5 -> 862.308 | AF16: =489*0.9/25*2.5+1955*0.9/25*1.5+3276*0.9/25*0.5 -> 208.548 | AG16: =3198*0.9/25*2.5+1947*0.9/25*1.5+1345*0.9/25*0.5 -> 417.168 | AH16: =1605*0.9/25*0.5 -> 28.89 | AI16: =243*0.9/25*2.5+2352*0.9/25*1.5+4519*0*25*0.5 -> 148.878 | AJ16: =297*0.9/25*2.5+4122*0.9/25*1.5+7043*0.9/25*0.5 -> 376.092 | AK16: =5030*0.9/25*2.5+8755*0.9/25*1.5-11811*0.5/25*0.9 -> 712.872 | AL16: =602*0.9/25*2.5+444*0.9/25*0.5+669*0.9/25*1.5 -> 98.298 | AM16: =2576*0.9/25*1.5+3712*0.9/25*0.5 -> 205.92 | AN16: =1291*0.9/25*1.5+1696*0.9/25*0.5 -> 100.242 | AO16: =1081*0.9/25*0.5 -> 19.458 | AP16: =2044*0.9/25*1.5+2550*0.9/25*0.5 -> 156.276 | AQ16: =6510*0.9/25*0.5 -> 117.18 | AR16: =667*0.9/25*1.5+2755*0.9/25*0.5 -> 85.608 | AS16: =10982*0.9/25*1.5+24402*0.9/25*0.5 -> 1032.264 | AT16: =1375*0.9/25*1.5+1755*0.9/25*0.5 -> 105.84 | AU16: =1861*0.9/25*1.5+3687*0.9/25*0.5 -> 166.86 | AV16: 0
B18: היטלי פיתוח נטו ( בניכוי פחת שנצבר) | E18: =+E35 -> -29162.752 | F18: =+F35 -> -60079.376 | G18: =+G35 -> -154292.76 | H18: =+H35 -> -218267.58 | I18: =+I35 -> -4787.232 | J18: =+J35 -> -9125.84 | K18: =+K35 -> -3880.672 | L18: =+L35 -> -6699.744 | ... BG18: =+BG35 -> -3305.172
B22: פחת נצבר היטלי פיתוח ביוב | E22: =9519*0.9/25*1.5+2465*0.9/25*2.5+9340*0.9/25*0.5 -> 903.996 | F22: =7677*0.9/25*1.5+8038*0.9/25*2.5+11351*0.9/25*0.5 -> 1342.296 | G22: =19825*0.9/25*1.5+12372*0.9/25*2.5+26101*0.9*0.5/25 -> 2653.848 | H22: =28619*0.9/25*1.5-28953*0.9/25*0.5 -> 1024.272 | I22: =265*0.9/25*1.5+2864*0.9/25*0.5 -> 65.862 | J22: =2275*0.9/25*1.5+2728*0.9/25*2.5+4842*0.9/25*0.5 -> 455.526 | K22: =2732*0.9/25*1.5+5708*0.9/25*0.5 -> 250.272 | L22: =1165*0.9/25*1.5+5525*0.9/25*0.5 -> 162.36 | M22: =2366*0.9/25*1.5+2175*0.9/25*0.5 -> 166.914 | N22: =8311*0.9/25*1.5+15913*0.9/25*0.5 -> 735.228 | O22: =1757*0.9*2.5+4748*0.9/25*1.5+7227*0.9/25*0.5 -> 4339.728 | P22: =8210*0.9/25*1.5+33135*0.9/25*0.5 -> 1039.77 | Q22: =69*0.9/25*2.5+262*0.9/25*1.5+261*0.9/25*0.5 -> 25.056 | R22: =1282*0.9/25*2.5+2027*0.9/25*1.5+2763*0.9/25*0.5 -> 274.572 | S22: =4740*0.9/25*2.5+10576*0.9/25*1.5+4923*0.9/25*0.5 -> 1086.318 | T22: =4984*0.9/25*2.5+6243*0.9/25*1.5+8285*0.9/25*0.5 -> 934.812 | U22: =1898622/1000*0.9/25*2.5+5858*0.9/25*1.5+5017*0.9/25*0.5 -> 577.51398 | W22: =107*0.9/25*1.5+12909/25*0.5 -> 263.958 | X22: =1354*0.9/25*1.5+1705*0.9/25*0.5 -> 103.806 | Y22: =585*0.9/25*1.5+3227*0.9/25*0.5 -> 89.676 | Z22: =6790*0.9/25*2.5+10963*0.9/25*1.5+21017*0.9/25*0.5 -> 1581.408 | AB22: =2509*0.9/25*1.5+3043*0.9/25*0.5 -> 190.26 | AC22: =21276*0.9/25*2.5+31204*0.9/25*1.5+28955*0.9/25*0.5 -> 4121.046 | AD22: =10790*0.9/25*2.5+10798*0.9/25*1.5+15647*0.9/25*0.5 -> 1835.838 | AF22: =976*0.9/25*2.5+3133*0.9/25*1.5+6080*0.9/25*0.5 -> 366.462 | AG22: =2562*0.9/25*2.5+2742*0.9/25*1.5+3033*0.9/25*0.5 -> 433.242 | AH22: 0 | AI22: =300*0.9/25*2.5+3477*0.9/25*1.5+4682*0.9/25*0.5 -> 299.034 | AJ22: =1082*0.9/25*1.5+5686*0.9/25*0.5 -> 160.776 | AL22: =-307*0.9/25*2.5+892*0.9/25*0.5*0.9+369*0.9/25*1.5 -> 6.7464 | AM22: =2576*0.9/25*1.5+3705*0.5*0.9 -> 1806.354 | AN22: =3470*0.9/25*1.5+6344*0.5*0.9 -> 3042.18 | AO22: =636*0.9/25*0.5 -> 11.448 | AP22: =2590*0.9/25*1.5+3223*0.9/25*0.5 -> 197.874 | AQ22: =8853*0.9/25*0.5 -> 159.354 | AR22: =504*0.9/25*1.5+2486*0.9/25*0.5 -> 71.964 | AT22: =2746*0.9/25*1.5+2207*0.9/25*0.5 -> 188.01 | AU22: =4643*0.9/25*1.5+5548*0.9/25*0.5 -> 350.586 | AV22: =18836*0.9/25*0.5 -> 339.048
B24: היטלי פיתוח נטו ( בניכוי פחת שנצבר) | E24: =+E46 -> -26440.864 | F24: =+F46 -> -43969.6 | G24: =+G46 -> -88840.196 | H24: =+H46 -> -127690.5 | I24: =+I46 -> -9344.448 | J24: =+J46 -> -6841.008 | K24: =+K46 -> -8920.672 | L24: =+L46 -> -8546.816 | ... BG24: =+BG46 -> -6361.472
B26: מים
B27: 2008 | E27: =+HLOOKUP(E$2,'נתוני תאגידים'!$1:$719,517,0)*($B27-2013.5+25)/25 -> -2496 | F27: =+HLOOKUP(F$2,'נתוני תאגידים'!$1:$719,517,0)*($B27-2013.5+25)/25 -> -5899.92 | G27: =+HLOOKUP(G$2,'נתוני תאגידים'!$1:$719,517,0)*($B27-2013.5+25)/25 -> -233.97192 | H27: =+HLOOKUP(H$2,'נתוני תאגידים'!$1:$719,517,0)*($B27-2013.5+25)/25 -> 0 | I27: =+HLOOKUP(I$2,'נתוני תאגידים'!$1:$719,517,0)*($B27-2013.5+25)/25 -> 0 | J27: =+HLOOKUP(J$2,'נתוני תאגידים'!$1:$719,517,0)*($B27-2013.5+25)/25 -> 0 | K27: =+HLOOKUP(K$2,'נתוני תאגידים'!$1:$719,517,0)*($B27-2013.5+25)/25 -> 0 | L27: =+HLOOKUP(L$2,'נתוני תאגידים'!$1:$719,517,0)*($B27-2013.5+25)/25 -> 0 | ... BG27: =+HLOOKUP(BG$2,'נתוני תאגידים'!$1:$719,517,0)*($B27-2013.5+25)/25 -> 0
B28: 2009 | E28: =+HLOOKUP(E$2,'נתוני תאגידים'!$1:$719,233,0)*($B28-2013.5+25)/25 -> -1868.944 | F28: =+HLOOKUP(F$2,'נתוני תאגידים'!$1:$719,233,0)*($B28-2013.5+25)/25 -> -6129.008 | G28: =+HLOOKUP(G$2,'נתוני תאגידים'!$1:$719,233,0)*($B28-2013.5+25)/25 -> -16053.632 | H28: =+HLOOKUP(H$2,'נתוני תאגידים'!$1:$719,233,0)*($B28-2013.5+25)/25 -> 0 | I28: =+HLOOKUP(I$2,'נתוני תאגידים'!$1:$719,233,0)*($B28-2013.5+25)/25 -> 0 | J28: =+HLOOKUP(J$2,'נתוני תאגידים'!$1:$719,233,0)*($B28-2013.5+25)/25 -> -1459.6 | K28: =+HLOOKUP(K$2,'נתוני תאגידים'!$1:$719,233,0)*($B28-2013.5+25)/25 -> 0 | L28: =+HLOOKUP(L$2,'נתוני תאגידים'!$1:$719,233,0)*($B28-2013.5+25)/25 -> 0 | ... BG28: =+HLOOKUP(BG$2,'נתוני תאגידים'!$1:$719,233,0)*($B28-2013.5+25)/25 -> 0
B29: 2010 | E29: =+HLOOKUP(E$2,'נתוני תאגידים'!$1:$719,235,0)*($B29-2013.5+25)/25 -> -7322.384 | F29: =+HLOOKUP(F$2,'נתוני תאגידים'!$1:$719,235,0)*($B29-2013.5+25)/25 -> -7268.72 | G29: =+HLOOKUP(G$2,'נתוני תאגידים'!$1:$719,235,0)*($B29-2013.5+25)/25 -> -27599.12 | H29: =+HLOOKUP(H$2,'נתוני תאגידים'!$1:$719,235,0)*($B29-2013.5+25)/25 -> -35566.848 | I29: =+HLOOKUP(I$2,'נתוני תאגידים'!$1:$719,235,0)*($B29-2013.5+25)/25 -> -2308.928 | J29: =+HLOOKUP(J$2,'נתוני תאגידים'!$1:$719,235,0)*($B29-2013.5+25)/25 -> -1159.28 | K29: =+HLOOKUP(K$2,'נתוני תאגידים'!$1:$719,235,0)*($B29-2013.5+25)/25 -> -1314.768 | L29: =+HLOOKUP(L$2,'נתוני תאגידים'!$1:$719,235,0)*($B29-2013.5+25)/25 -> -749.92 | ... BG29: =+HLOOKUP(BG$2,'נתוני תאגידים'!$1:$719,235,0)*($B29-2013.5+25)/25 -> 0
A30: =+'[6]גיליון סימולציה לתעריפי 2016'!$F$31 -> 0.8 | B30: 2011 | E30: =+HLOOKUP(E$2,'נתוני תאגידים'!$1:$719,237,0)*($B30-2013.5+25)/25 -> -6956.64 | F30: =+HLOOKUP(F$2,'נתוני תאגידים'!$1:$719,237,0)*($B30-2013.5+25)/25 -> -12373.2 | G30: =+HLOOKUP(G$2,'נתוני תאגידים'!$1:$719,237,0)*($B30-2013.5+25)/25 -> -25942.32 | H30: =+HLOOKUP(H$2,'נתוני תאגידים'!$1:$719,237,0)*($B30-2013.5+25)/25 -> -41853.6 | I30: =+HLOOKUP(I$2,'נתוני תאגידים'!$1:$719,237,0)*($B30-2013.5+25)/25 -> -272.16 | J30: =+HLOOKUP(J$2,'נתוני תאגידים'!$1:$719,237,0)*($B30-2013.5+25)/25 -> -2517.12 | K30: =+HLOOKUP(K$2,'נתוני תאגידים'!$1:$719,237,0)*($B30-2013.5+25)/25 -> -1098 | L30: =+HLOOKUP(L$2,'נתוני תאגידים'!$1:$719,237,0)*($B30-2013.5+25)/25 -> -3218.4 | ... BG30: =+HLOOKUP(BG$2,'נתוני תאגידים'!$1:$719,237,0)*($B30-2013.5+25)/25 -> -818.1
A31: =+'[6]גיליון סימולציה לתעריפי 2016'!$F$31 -> 0.8 | B31: 2012 | E31: =+HLOOKUP(E$2,'נתוני תאגידים'!$1:$719,239,0)*($B31-2013.5+25)/25*$A$31 -> -5585.856 | F31: =+HLOOKUP(F$2,'נתוני תאגידים'!$1:$719,239,0)*($B31-2013.5+25)/25*$A$31 -> -15985.264 | G31: =+HLOOKUP(G$2,'נתוני תאגידים'!$1:$719,239,0)*($B31-2013.5+25)/25*$A$31 -> -47564.752 | H31: =+HLOOKUP(H$2,'נתוני תאגידים'!$1:$719,239,0)*($B31-2013.5+25)/25*$A$31 -> -71817.504 | I31: =+HLOOKUP(I$2,'נתוני תאגידים'!$1:$719,239,0)*($B31-2013.5+25)/25*$A$31 -> -553.472 | J31: =+HLOOKUP(J$2,'נתוני תאגידים'!$1:$719,239,0)*($B31-2013.5+25)/25*$A$31 -> -2430.464 | K31: =+HLOOKUP(K$2,'נתוני תאגידים'!$1:$719,239,0)*($B31-2013.5+25)/25*$A$31 -> -1467.904 | L31: =+HLOOKUP(L$2,'נתוני תאגידים'!$1:$719,239,0)*($B31-2013.5+25)/25*$A$31 -> -258.688 | ... BG31: =+HLOOKUP(BG$2,'נתוני תאגידים'!$1:$719,239,0)*($B31-2013.5+25)/25*$A$31 -> -768.544
A32: =+'[6]גיליון סימולציה לתעריפי 2016'!$F$31 -> 0.8 | B32: 2013 | E32: =+HLOOKUP(E$2,'נתוני תאגידים'!$1:$719,241,0)*($B32-2013.5+25)/25*$A$32 -> -4932.928 | F32: =+HLOOKUP(F$2,'נתוני תאגידים'!$1:$719,241,0)*($B32-2013.5+25)/25*$A$32 -> -12423.264 | G32: =+HLOOKUP(G$2,'נתוני תאגידים'!$1:$719,241,0)*($B32-2013.5+25)/25*$A$32 -> -36898.96 | H32: =+HLOOKUP(H$2,'נתוני תאגידים'!$1:$719,241,0)*($B32-2013.5+25)/25*$A$32 -> -69029.632 | I32: =+HLOOKUP(I$2,'נתוני תאגידים'!$1:$719,241,0)*($B32-2013.5+25)/25*$A$32 -> -1652.672 | J32: =+HLOOKUP(J$2,'נתוני תאגידים'!$1:$719,241,0)*($B32-2013.5+25)/25*$A$32 -> -1559.376 | K32: =+HLOOKUP(K$2,'נתוני תאגידים'!$1:$719,241,0)*($B32-2013.5+25)/25*$A$32 -> 0 | L32: =+HLOOKUP(L$2,'נתוני תאגידים'!$1:$719,241,0)*($B32-2013.5+25)/25*$A$32 -> -2472.736 | ... BG32: =+HLOOKUP(BG$2,'נתוני תאגידים'!$1:$719,241,0)*($B32-2013.5+25)/25*$A$32 -> -1718.528
A33: 0.8 | B33: 2014 | E33: =+HLOOKUP(E$2,'נתוני תאגידים'!$1:$719,242,0)*($B33-2014.5+25)/25*$A$33 -> -16552.592 | F33: =+HLOOKUP(F$2,'נתוני תאגידים'!$1:$719,242,0)*($B33-2014.5+25)/25*$A$33 -> -15441.664 | G33: =+HLOOKUP(G$2,'נתוני תאגידים'!$1:$719,242,0)*($B33-2014.5+25)/25*$A$33 -> -50466.864 | H33: =+HLOOKUP(H$2,'נתוני תאגידים'!$1:$719,242,0)*($B33-2014.5+25)/25*$A$33 -> -61787.824 | I33: =+HLOOKUP(I$2,'נתוני תאגידים'!$1:$719,242,0)*($B33-2014.5+25)/25*$A$33 -> 0 | J33: =+HLOOKUP(J$2,'נתוני תאגידים'!$1:$719,242,0)*($B33-2014.5+25)/25*$A$33 -> -5517.792 | K33: =+HLOOKUP(K$2,'נתוני תאגידים'!$1:$719,242,0)*($B33-2014.5+25)/25*$A$33 -> 0 | L33: =+HLOOKUP(L$2,'נתוני תאגידים'!$1:$719,242,0)*($B33-2014.5+25)/25*$A$33 -> -2638.944 | ... BG33: =+HLOOKUP(BG$2,'נתוני תאגידים'!$1:$719,242,0)*($B33-2014.5+25)/25*$A$33 -> -9404.864
B35: 2008-2014 | E35: =SUM(E27:E32) -> -29162.752 | F35: =SUM(F27:F32) -> -60079.376 | G35: =SUM(G27:G32) -> -154292.76 | H35: =SUM(H27:H32) -> -218267.58 | I35: =SUM(I27:I32) -> -4787.232 | J35: =SUM(J27:J32) -> -9125.84 | K35: =SUM(K27:K32) -> -3880.672 | L35: =SUM(L27:L32) -> -6699.744 | ... BG35: =SUM(BG27:BG32) -> -3305.172
B36: 2009-2011 | E36: =SUM(E28:E30) -> -16147.968 | F36: =SUM(F28:F30) -> -25770.928 | G36: =SUM(G28:G30) -> -69595.072 | H36: =SUM(H28:H30) -> -77420.448 | I36: =SUM(I28:I30) -> -2581.088 | J36: =SUM(J28:J30) -> -5136 | K36: =SUM(K28:K30) -> -2412.768 | L36: =SUM(L28:L30) -> -3968.32 | ... BG36: =SUM(BG28:BG30) -> -818.1
B38: ביוב
B39: 2008 | E39: =+HLOOKUP(E$2,'נתוני תאגידים'!$1:$719,525,0)*($B39-2013.5+25)/25 -> -2474.784 | F39: =+HLOOKUP(F$2,'נתוני תאגידים'!$1:$719,525,0)*($B39-2013.5+25)/25 -> -3046.992 | G39: =+HLOOKUP(G$2,'נתוני תאגידים'!$1:$719,525,0)*($B39-2013.5+25)/25 -> -233.97192 | H39: =+HLOOKUP(H$2,'נתוני תאגידים'!$1:$719,525,0)*($B39-2013.5+25)/25 -> 0 | I39: =+HLOOKUP(I$2,'נתוני תאגידים'!$1:$719,525,0)*($B39-2013.5+25)/25 -> 0 | J39: =+HLOOKUP(J$2,'נתוני תאגידים'!$1:$719,525,0)*($B39-2013.5+25)/25 -> 0 | K39: =+HLOOKUP(K$2,'נתוני תאגידים'!$1:$719,525,0)*($B39-2013.5+25)/25 -> 0 | L39: =+HLOOKUP(L$2,'נתוני תאגידים'!$1:$719,525,0)*($B39-2013.5+25)/25 -> 0 | ... BG39: =+HLOOKUP(BG$2,'נתוני תאגידים'!$1:$719,525,0)*($B39-2013.5+25)/25 -> 0
B40: 2009 | E40: =+HLOOKUP(E$2,'נתוני תאגידים'!$1:$719,270,0)*($B40-2013.5+25)/25 -> -1617.04 | F40: =+HLOOKUP(F$2,'נתוני תאגידים'!$1:$719,270,0)*($B40-2013.5+25)/25 -> -5272.928 | G40: =+HLOOKUP(G$2,'נתוני תאגידים'!$1:$719,270,0)*($B40-2013.5+25)/25 -> -8116.032 | H40: =+HLOOKUP(H$2,'נתוני תאגידים'!$1:$719,270,0)*($B40-2013.5+25)/25 -> 0 | I40: =+HLOOKUP(I$2,'נתוני תאגידים'!$1:$719,270,0)*($B40-2013.5+25)/25 -> 0 | J40: =+HLOOKUP(J$2,'נתוני תאגידים'!$1:$719,270,0)*($B40-2013.5+25)/25 -> -1789.568 | K40: =+HLOOKUP(K$2,'נתוני תאגידים'!$1:$719,270,0)*($B40-2013.5+25)/25 -> 0 | L40: =+HLOOKUP(L$2,'נתוני תאגידים'!$1:$719,270,0)*($B40-2013.5+25)/25 -> 0 | ... BG40: =+HLOOKUP(BG$2,'נתוני תאגידים'!$1:$719,270,0)*($B40-2013.5+25)/25 -> 0
B41: 2010 | E41: =+HLOOKUP(E$2,'נתוני תאגידים'!$1:$719,272,0)*($B41-2013.5+25)/25 -> -6549.072 | F41: =+HLOOKUP(F$2,'נתוני תאגידים'!$1:$719,272,0)*($B41-2013.5+25)/25 -> -5281.776 | G41: =+HLOOKUP(G$2,'נתוני תאגידים'!$1:$719,272,0)*($B41-2013.5+25)/25 -> -13639.6 | H41: =+HLOOKUP(H$2,'נתוני תאגידים'!$1:$719,272,0)*($B41-2013.5+25)/25 -> -19689.872 | I41: =+HLOOKUP(I$2,'נתוני תאגידים'!$1:$719,272,0)*($B41-2013.5+25)/25 -> -182.32 | J41: =+HLOOKUP(J$2,'נתוני תאגידים'!$1:$719,272,0)*($B41-2013.5+25)/25 -> -1565.2 | K41: =+HLOOKUP(K$2,'נתוני תאגידים'!$1:$719,272,0)*($B41-2013.5+25)/25 -> -1879.616 | L41: =+HLOOKUP(L$2,'נתוני תאגידים'!$1:$719,272,0)*($B41-2013.5+25)/25 -> -801.52 | ... BG41: =+HLOOKUP(BG$2,'נתוני תאגידים'!$1:$719,272,0)*($B41-2013.5+25)/25 -> 0
A42: =+A30 -> 0.8 | B42: 2011 | E42: =+HLOOKUP(E$2,'נתוני תאגידים'!$1:$719,274,0)*($B42-2013.5+25)/25*$A$42 -> -6724.8 | F42: =+HLOOKUP(F$2,'נתוני תאגידים'!$1:$719,274,0)*($B42-2013.5+25)/25*$A$42 -> -8172.72 | G42: =+HLOOKUP(G$2,'נתוני תאגידים'!$1:$719,274,0)*($B42-2013.5+25)/25*$A$42 -> -18792.72 | H42: =+HLOOKUP(H$2,'נתוני תאגידים'!$1:$719,274,0)*($B42-2013.5+25)/25*$A$42 -> -20846.16 | I42: =+HLOOKUP(I$2,'נתוני תאגידים'!$1:$719,274,0)*($B42-2013.5+25)/25*$A$42 -> -2062.08 | J42: =+HLOOKUP(J$2,'נתוני תאגידים'!$1:$719,274,0)*($B42-2013.5+25)/25*$A$42 -> -3486.24 | K42: =+HLOOKUP(K$2,'נתוני תאגידים'!$1:$719,274,0)*($B42-2013.5+25)/25*$A$42 -> -4109.76 | L42: =+HLOOKUP(L$2,'נתוני תאגידים'!$1:$719,274,0)*($B42-2013.5+25)/25*$A$42 -> -3978 | ... BG42: =+HLOOKUP(BG$2,'נתוני תאגידים'!$1:$719,274,0)*($B42-2013.5+25)/25*$A$42 -> -2089.44
A43: =+A31 -> 0.8 | B43: 2012 | E43: =+HLOOKUP(E$2,'נתוני תאגידים'!$1:$719,276,0)*($B43-2013.5+25)/25*$A$43 -> -4873.712 | F43: =+HLOOKUP(F$2,'נתוני תאגידים'!$1:$719,276,0)*($B43-2013.5+25)/25*$A$43 -> -13169.776 | G43: =+HLOOKUP(G$2,'נתוני תאגידים'!$1:$719,276,0)*($B43-2013.5+25)/25*$A$43 -> -22416.368 | H43: =+HLOOKUP(H$2,'נתוני תאגידים'!$1:$719,276,0)*($B43-2013.5+25)/25*$A$43 -> -41888.656 | I43: =+HLOOKUP(I$2,'נתוני תאגידים'!$1:$719,276,0)*($B43-2013.5+25)/25*$A$43 -> -5173.76 | J43: =+HLOOKUP(J$2,'נתוני תאגידים'!$1:$719,276,0)*($B43-2013.5+25)/25*$A$43 -> 0 | K43: =+HLOOKUP(K$2,'נתוני תאגידים'!$1:$719,276,0)*($B43-2013.5+25)/25*$A$43 -> -2931.296 | L43: =+HLOOKUP(L$2,'נתוני תאגידים'!$1:$719,276,0)*($B43-2013.5+25)/25*$A$43 -> -272.224 | ... BG43: =+HLOOKUP(BG$2,'נתוני תאגידים'!$1:$719,276,0)*($B43-2013.5+25)/25*$A$43 -> -1602.512
A44: =+A32 -> 0.8 | B44: 2013 | E44: =+HLOOKUP(E$2,'נתוני תאגידים'!$1:$719,278,0)*($B44-2013.5+25)/25*$A$44 -> -4201.456 | F44: =+HLOOKUP(F$2,'נתוני תאגידים'!$1:$719,278,0)*($B44-2013.5+25)/25*$A$44 -> -9025.408 | G44: =+HLOOKUP(G$2,'נתוני תאגידים'!$1:$719,278,0)*($B44-2013.5+25)/25*$A$44 -> -25641.504 | H44: =+HLOOKUP(H$2,'נתוני תאגידים'!$1:$719,278,0)*($B44-2013.5+25)/25*$A$44 -> -45265.808 | I44: =+HLOOKUP(I$2,'נתוני תאגידים'!$1:$719,278,0)*($B44-2013.5+25)/25*$A$44 -> -1926.288 | J44: =+HLOOKUP(J$2,'נתוני תאגידים'!$1:$719,278,0)*($B44-2013.5+25)/25*$A$44 -> 0 | K44: =+HLOOKUP(K$2,'נתוני תאגידים'!$1:$719,278,0)*($B44-2013.5+25)/25*$A$44 -> 0 | L44: =+HLOOKUP(L$2,'נתוני תאגידים'!$1:$719,278,0)*($B44-2013.5+25)/25*$A$44 -> -3495.072 | ... BG44: =+HLOOKUP(BG$2,'נתוני תאגידים'!$1:$719,278,0)*($B44-2013.5+25)/25*$A$44 -> -2669.52
A45: 0.8 | B45: 2014 | E45: =+HLOOKUP(E$2,'נתוני תאגידים'!$1:$719,279,0)*($B45-2014.5+25)/25*$A$45 -> -11363.296 | F45: =+HLOOKUP(F$2,'נתוני תאגידים'!$1:$719,279,0)*($B45-2014.5+25)/25*$A$45 -> -11870.544 | G45: =+HLOOKUP(G$2,'נתוני תאגידים'!$1:$719,279,0)*($B45-2014.5+25)/25*$A$45 -> -35069.888 | H45: =+HLOOKUP(H$2,'נתוני תאגידים'!$1:$719,279,0)*($B45-2014.5+25)/25*$A$45 -> -38258.416 | I45: =+HLOOKUP(I$2,'נתוני תאגידים'!$1:$719,279,0)*($B45-2014.5+25)/25*$A$45 -> 0 | J45: =+HLOOKUP(J$2,'נתוני תאגידים'!$1:$719,279,0)*($B45-2014.5+25)/25*$A$45 -> -14609.056 | K45: =+HLOOKUP(K$2,'נתוני תאגידים'!$1:$719,279,0)*($B45-2014.5+25)/25*$A$45 -> 0 | L45: =+HLOOKUP(L$2,'נתוני תאגידים'!$1:$719,279,0)*($B45-2014.5+25)/25*$A$45 -> -2638.944 | ... BG45: =+HLOOKUP(BG$2,'נתוני תאגידים'!$1:$719,279,0)*($B45-2014.5+25)/25*$A$45 -> 0
B46: 2008-2014 | E46: =SUM(E39:E44) -> -26440.864 | F46: =SUM(F39:F44) -> -43969.6 | G46: =SUM(G39:G44) -> -88840.196 | H46: =SUM(H39:H44) -> -127690.5 | I46: =SUM(I39:I44) -> -9344.448 | J46: =SUM(J39:J44) -> -6841.008 | K46: =SUM(K39:K44) -> -8920.672 | L46: =SUM(L39:L44) -> -8546.816 | ... BG46: =SUM(BG39:BG44) -> -6361.472
B47: 2009-2011 | E47: =SUM(E40:E42) -> -14890.912 | F47: =SUM(F40:F42) -> -18727.424 | G47: =SUM(G40:G42) -> -40548.352 | H47: =SUM(H40:H42) -> -40536.032 | I47: =SUM(I40:I42) -> -2244.4 | J47: =SUM(J40:J42) -> -6841.008 | K47: =SUM(K40:K42) -> -5989.376 | L47: =SUM(L40:L42) -> -4779.52 | ... BG47: =SUM(BG40:BG42) -> -2089.44

Sheet התפלגות מים 2011 מעודכן
A1: מספר | B1: שם התאגיד | D1: צריכה | F1: גינון ציבורי | H1: מוסדות | J1: בתי חולים | L1: בתי מרחץ | N1: מסחר | P1: בנייה | R1: צריכה | T1: צריכה
A2: סידורי | C2: שם הישוב | D2: מגורים | F2: רשות מקומית | H2: רשות מקומית | L2: ומקוואות | N2: ומלאכה | R2: אחרת | T2: עירונית
D3: מ"ק | E3: % | F3: מ"ק | G3: % | H3: מ"ק | I3: % | J3: מ"ק | K3: % | L3: מ"ק | M3: % | N3: מ"ק | O3: % | P3: מ"ק | Q3: % | R3: מ"ק | S3: % | T3: מ"ק | U3: %
C4: אבו סנאן | D4: 585730 | E4: 89.114228 | F4: 0 | G4: 0 | H4: 38288 | I4: 5.8252191 | J4: 0 | K4: 0 | L4: 0 | M4: 0 | N4: 9736 | O4: 1.4812561 | P4: 12880 | Q4: 1.959591 | R4: 10646 | S4: 1.6197055 | T4: 657280 | U4: 100
C5: ג'וליס | D5: 251438 | E5: 84.638741 | F5: 796 | G5: 0.26794851 | H5: 16164 | I5: 5.4411052 | J5: 225 | K5: 0.075739215 | L5: 0 | M5: 0 | N5: 16221 | O5: 5.4602925 | P5: 4933 | Q5: 1.6605402 | R5: 7295 | S5: 2.4556337 | T5: 297072 | U5: 100
C6: כפר יסיף | D6: 476860 | E6: 81.905858 | F6: 0 | G6: 0 | H6: 14881 | I6: 2.5559726 | J6: 55 | K6: 0.0094468443 | L6: 0 | M6: 0 | N6: 54240 | O6: 9.3163061 | P6: 8647 | Q6: 1.4852157 | R6: 27522 | S6: 4.7272009 | T6: 582205 | U6: 100
C7: ירכא | D7: 618591 | E7: 76.178625 | F7: 467 | G7: 0.057510403 | H7: 62719 | I7: 7.723758 | J7: 17958 | K7: 2.2115028 | L7: 0 | M7: 0 | N7: 58020 | O7: 7.1450826 | P7: 8592 | Q7: 1.0580929 | R7: 45680 | S7: 5.6254287 | T7: 812027 | U7: 100
C8: גדידה-אלמכר | D8: 935763 | E8: 89.012284 | F8: 245 | G8: 0.023305057 | H8: 75203 | I8: 7.723758 | J8: 494 | K8: 0.046990604 | L8: 0 | M8: 0 | N8: 22866 | O8: 2.1750752 | P8: 2988 | Q8: 0.28422657 | R8: 13715 | S8: 1.3046076 | T8: 1051274 | U8: 100
C9: מזרעה | D9: 164810 | E9: 91.649706 | F9: 0 | G9: 0 | H9: 2458 | I9: 1.3668769 | J9: 110 | K9: 0.061170242 | L9: 0 | M9: 0 | N9: 11433 | O9: 6.3578126 | P9: 129 | Q9: 0.071736011 | R9: 886 | S9: 0.4926985 | T9: 179826 | U9: 100
C10: יאנוח-ג'ת | D10: 235521 | E10: 92.134634 | F10: 0 | G10: 0 | H10: 11696 | I10: 4.5754165 | J10: 2604 | K10: 1.0186717 | L10: 0 | M10: 0 | N10: 5188 | O10: 2.0295196 | P10: 0 | Q10: 0 | R10: 618 | S10: 0.2417585 | T10: 255627 | U10: 100
A11: 1 | B11: אל עין | C11: סה"כ תאגיד | D11: 3268713 | E11: 85.226804 | F11: 1508 | G11: 0.039318845 | H11: 221409 | I11: 5.7729086 | J11: 21446 | K11: 0.55917239 | L11: 0 | M11: 0 | N11: 177704 | O11: 4.6333661 | P11: 38169 | Q11: 0.99519961 | R11: 106362 | S11: 2.7732301 | T11: 3835311 | U11: 100
C12: ירושלים | D12: 29584429 | E12: 63.718141 | F12: 1377896 | G12: 2.967675 | H12: 447514 | I12: 0.96384352 | J12: 604623 | K12: 1.3022206 | L12: 348372 | M12: 0.75031417 | N12: 2418483 | O12: 5.2088631 | P12: 312841 | Q12: 0.67378846 | R12: 11335993 | S12: 24.415154 | T12: 46430151 | U12: 100
C13: אבו גוש | D13: 229386 | E13: 89.727632 | F13: 882 | G13: 0.34500698 | H13: 2996 | I13: 1.1719285 | J13: 86 | K13: 0.033640137 | L13: 0 | M13: 0 | N13: 15941 | O13: 6.2355514 | P13: 256 | Q13: 0.10013808 | R13: 6100 | S13: 2.3861027 | T13: 255647 | U13: 100
C14: מבשרת ציון | D14: 1386218 | E14: 89.817549 | F14: 34228 | G14: 2.2177428 | H14: 31165 | I14: 2.0192812 | J14: 855 | K14: 0.055398216 | L14: 633 | M14: 0.041014118 | N14: 31986 | O14: 2.0724764 | P14: 1130 | Q14: 0.073216356 | R14: 57156 | S14: 3.7033221 | T14: 1543371 | U14: 100
A15: 2 | B15: חברת הגיחון בע"מ תאגיד המים והביוב של ירושלים | C15: סה"כ תאגיד | D15: 31200033 | E15: 64.69121 | F15: 1413006 | G15: 2.9297747 | H15: 481675 | I15: 0.99872133 | J15: 605564 | K15: 1.255597 | L15: 349005 | M15: 0.72363884 | N15: 2466410 | O15: 5.1139384 | P15: 314227 | Q15: 0.65152895 | R15: 11399249 | S15: 23.635591 | T15: 48229169 | U15: 100
C16: איכסאל | D16: 535862 | E16: 83.767442 | F16: 43605 | G16: 6.8164552 | H16: 9143 | I16: 1.4292592 | J16: 94 | K16: 0.014694342 | L16: 0 | M16: 0 | N16: 42137 | O16: 6.5869733 | P16: 8861 | Q16: 1.3851762 | R16: 0 | S16: 0 | T16: 639702 | U16: 100
C17: ריינה | D17: 736861 | E17: 74.362952 | F17: 100 | G17: 0.010091856 | H17: 28294 | I17: 2.8553898 | J17: 8305 | K17: 0.83812865 | L17: 0 | M17: 0 | N17: 58077 | O17: 5.8610473 | P17: 21370 | Q17: 2.1566296 | R17: 137891 | S17: 13.915761 | T17: 990898 | U17: 100
C18: עילוט | D18: 275412 | E18: 80.303238 | F18: 0 | G18: 0 | H18: 7760 | I18: 2.2626216 | J18: 0 | K18: 0 | L18: 0 | M18: 0 | N18: 23348 | O18: 6.8076917 | P18: 9751 | Q18: 2.8431473 | R18: 26694 | S18: 7.7833015 | T18: 342965 | U18: 100
C19: יפיע | D19: 732550 | E19: 94.927769 | F19: 1024 | G19: 0.13269543 | H19: 4766 | I19: 0.61760391 | J19: 123 | K19: 0.015939002 | L19: 0 | M19: 0 | N19: 26904 | O19: 3.486365 | P19: 6325 | Q19: 0.81962752 | R19: 0 | S19: 0 | T19: 771692 | U19: 100
C20: נצרת | D20: 3394665 | E20: 86.837533 | F20: 12126 | G20: 0.31019023 | H20: 159218 | I20: 4.0728904 | J20: 73312 | K20: 1.8753642 | L20: 0 | M20: 0 | N20: 243575 | O20: 6.2307922 | P20: 26318 | Q20: 0.67322996 | R20: 0 | S20: 0 | T20: 3909214 | U20: 100
A21: 3 | B21: הרי נצרת מפעלי מים וביוב בע"מ | C21: סה"כ תאגיד | D21: 5675350 | E21: 85.286268 | F21: 56855 | G21: 0.85438797 | H21: 209181 | I21: 3.1434655 | J21: 81834 | K21: 1.2297597 | L21: 0 | M21: 0 | N21: 394041 | O21: 5.9214474 | P21: 72625 | Q21: 1.0913715 | R21: 164585 | S21: 2.4732995 | T21: 6654471 | U21: 100
C22: מטולה | D22: 110781 | E22: 63.133149 | F22: 9144 | G22: 5.2110878 | H22: 50007 | I22: 28.498564 | J22: 0 | K22: 0 | L22: 29 | M22: 0.016526853 | N22: 3748 | O22: 2.1359533 | P22: 1200 | Q22: 0.68386979 | R22: 563 | S22: 0.32084891 | T22: 175472 | U22: 100
C23: קרית שמונה | D23: 1177364 | E23: 73.353316 | F23: 67311 | G23: 4.1936776 | H23: 134530 | I23: 8.3816234 | J23: 0 | K23: 0 | L23: 1433 | M23: 0.089280207 | N23: 210046 | O23: 13.086497 | P23: 3628 | Q23: 0.2260353 | R23: 10747 | S23: 0.6695704 | T23: 1605059 | U23: 100
C24: קצרין | D24: 347517 | E24: 64.807935 | F24: 92870 | G24: 17.31919 | H24: 51647 | I24: 9.6315733 | J24: 0 | K24: 0 | L24: 445 | M24: 0.082987397 | N24: 40441 | O24: 7.5417828 | P24: 3054 | Q24: 0.56953598 | R24: 252 | S24: 0.04699511 | T24: 536226 | U24: 100
C25: מגדל שמס | D25: 374292 | E25: 71.26263 | F25: 34715 | G25: 6.609498 | H25: 69184 | I25: 13.172159 | J25: 963 | K25: 0.1833486 | L25: 0 | M25: 0 | N25: 41479 | O25: 7.8973172 | P25: 0 | Q25: 0 | R25: 4596 | S25: 0.87504688 | T25: 525229 | U25: 100
C26: בוקעאתא | D26: 240937 | E26: 70.187955 | F26: 2642 | G26: 0.76964757 | H26: 82350 | I26: 23.989583 | J26: 0 | K26: 0 | L26: 0 | M26: 0 | N26: 9230 | O26: 2.6888142 | P26: 8115 | Q26: 2.3640008 | R26: 0 | S26: 0 | T26: 343274 | U26: 100
C27: מסעדה | D27: 132423 | E27: 67.770562 | F27: 20445 | G27: 10.463206 | H27: 32170 | I27: 16.463749 | J27: 225 | K27: 0.115149 | L27: 0 | M27: 0 | N27: 10136 | O27: 5.1873346 | P27: 0 | Q27: 0 | R27: 0 | S27: 0 | T27: 195399 | U27: 100
C28: עין קניה | D28: 100063 | E28: 98.538608 | F28: 456 | G28: 0.44905315 | H28: 152 | I28: 0.14968438 | J28: 133 | K28: 0.13097383 | L28: 0 | M28: 0 | N28: 0 | O28: 0 | P28: 0 | Q28: 0 | R28: 743 | S28: 0.7316809 | T28: 101547 | U28: 100
A29: 4 | B29: התנור מים וביוב בע"מ | C29: סה"כ תאגיד | D29: =SUM(D22:D28) -> 2483377 | E29: =AVERAGE(E22:E28) -> 72.722022 | F29: =SUM(F22:F28) -> 227583 | G29: =AVERAGE(G22:G28) -> 6.4307657 | H29: =SUM(H22:H28) -> 420040 | I29: =AVERAGE(I22:I28) -> 14.326705 | J29: =SUM(J22:J28) -> 1321 | K29: =AVERAGE(K22:K28) -> 0.061353062 | L29: =SUM(L22:L28) -> 1907 | M29: =AVERAGE(M22:M28) -> 0.026970637 | N29: =SUM(N22:N28) -> 315080 | O29: =AVERAGE(O22:O28) -> 5.5053856 | P29: =SUM(P22:P28) -> 15997 | Q29: =AVERAGE(Q22:Q28) -> 0.54906312 | R29: =SUM(R22:R28) -> 16901 | S29: =AVERAGE(S22:S28) -> 0.3777346 | T29: =SUM(T22:T28) -> 3482206 | U29: 100
C30: אשדוד | D30: 9872889 | E30: 73.565797 | F30: 1239639 | G30: 9.2369145 | H30: 643047 | I30: 4.7915322 | J30: 27640 | K30: 0.20595376 | L30: 80781 | M30: 0.60192297 | N30: 1182127 | O30: 8.8083757 | P30: 111589 | Q30: 0.83148243 | R30: 262776 | S30: 1.9580212 | T30: 13420488 | U30: 100
A31: 5 | B31: יובלים אשדוד בע"מ | C31: סה"כ תאגיד | D31: 9872889 | E31: 73.565797 | F31: 1239639 | G31: 9.2369145 | H31: 643047 | I31: 4.7915322 | J31: 27640 | K31: 0.20595376 | L31: 80781 | M31: 0.60192297 | N31: 1182127 | O31: 8.8083757 | P31: 111589 | Q31: 0.83148243 | R31: 262776 | S31: 1.9580212 | T31: 13420488 | U31: 100
C32: אריאל | D32: 751892 | E32: 66.583366 | F32: 161908 | G32: 14.33767 | H32: 124660 | I32: 11.039195 | J32: 0 | K32: 0 | L32: 699 | M32: 0.061899546 | N32: 49198 | O32: 4.3567008 | P32: 11828 | Q32: 1.0474218 | R32: 29064 | S32: 2.5737459 | T32: 1129249 | U32: 100
C33: קרני שומרון | D33: 285034 | E33: 66.713009 | F33: 46364 | G33: 10.851625 | H33: 28637 | I33: 6.7025704 | J33: 0 | K33: 0 | L33: 981 | M33: 0.22960581 | N33: 61732 | O33: 14.448548 | P33: 1324 | Q33: 0.30988592 | R33: 3182 | S33: 0.74475605 | T33: 427254 | U33: 100
A34: 6 | B34: יובלים בשומרון בע"מ | C34: סה"כ תאגיד | D34: 1036926 | E34: 66.618953 | F34: 208272 | G34: 13.380764 | H34: 153297 | I34: 9.8488085 | J34: 0 | K34: 0 | L34: 1680 | M34: 0.10793426 | N34: 110930 | O34: 7.1268735 | P34: 13152 | Q34: 0.84497107 | R34: 32246 | S34: 2.0716953 | T34: 1556503 | U34: 100
C35: קרית ים | D35: 1733935 | E35: 82.731275 | F35: 226193 | G35: 10.792351 | H35: 66976 | I35: 3.1956272 | J35: 9916 | K35: 0.4731223 | L35: 540 | M35: 0.025765031 | N35: 41468 | O35: 1.9785635 | P35: 10723 | Q35: 0.51162671 | R35: 6113 | S35: 0.29166969 | T35: 2095864 | U35: 100
A36: 7 | B36: ימים | C36: סה"כ תאגיד | D36: 1733935 | E36: 82.731275 | F36: 226193 | G36: 10.792351 | H36: 66976 | I36: 3.1956272 | J36: 9916 | K36: 0.4731223 | L36: 540 | M36: 0.025765031 | N36: 41468 | O36: 1.9785635 | P36: 10723 | Q36: 0.51162671 | R36: 6113 | S36: 0.29166969 | T36: 2095864 | U36: 100
C37: דבוריה | D37: 428649 | E37: 90.680598 | F37: 0 | G37: 0 | H37: 14657 | I37: 3.100685 | J37: 9870 | K37: 2.0879962 | L37: 0 | M37: 0 | N37: 2557 | O37: 0.54093277 | P37: 7155 | Q37: 1.5136386 | R37: 9814 | S37: 2.0761495 | T37: 472702 | U37: 100
C38: טורעאן | D38: 475550 | E38: 90.787776 | F38: 3818 | G38: 0.7288986 | H38: 22558 | I38: 4.3065727 | J38: 2080 | K38: 0.3970951 | L38: 0 | M38: 0 | N38: 3838 | O38: 0.73271682 | P38: 8619 | Q38: 1.6454628 | R38: 7341 | S38: 1.4014784 | T38: 523804 | U38: 100
C39: שבלי | D39: 207005 | E39: 90.40704 | F39: 2776 | G39: 1.2123859 | H39: 16869 | I39: 7.3673407 | J39: 608 | K39: 0.26553697 | L39: 0 | M39: 0 | N39: 0 | O39: 0 | P39: 156 | Q39: 0.068131196 | R39: 1556 | S39: 0.67956501 | T39: 228970 | U39: 100
C40: בועיינה-נוג'ידאת | D40: 218956 | E40: 87.203935 | F40: 3432 | G40: 1.3668678 | H40: 22994 | I40: 9.1578549 | J40: 42 | K40: 0.016727403 | L40: 0 | M40: 0 | N40: 888 | O40: 0.35366509 | P40: 1928 | Q40: 0.76786746 | R40: 2845 | S40: 1.1330824 | T40: 251085 | U40: 100
C41: כפר כנא | D41: 717375 | E41: 81.839245 | F41: 21739 | G41: 2.4800186 | H41: 54221 | I41: 6.1856152 | J41: 1396 | K41: 0.15925783 | L41: 0 | M41: 0 | N41: 3625 | O41: 0.41354559 | P41: 4753 | Q41: 0.54222956 | R41: 73457 | S41: 8.3800878 | T41: 876566 | U41: 100
C42: משהד | D42: 276216 | E42: 94.016896 | F42: 0 | G42: 0 | H42: 14804 | I42: 5.0389048 | J42: 0 | K42: 0 | L42: 0 | M42: 0 | N42: 106 | O42: 0.036079702 | P42: 1168 | Q42: 0.39755747 | R42: 1500 | S42: 0.51056182 | T42: 293794 | U42: 100
C43: עין מאהל | D43: 426562 | E43: 89.812169 | F43: 517 | G43: 2.0239578 | H43: 27870 | I43: 3.0797385 | J43: 18 | K43: 0.033929647 | L43: 0 | M43: 0.0069009452 | N43: 4866 | O43: 2.031945 | P43: 8221 | Q43: 0.89296953 | R43: 6895 | S43: 1.7130319 | T43: 474949 | U43: 100
A44: 8 | B44: כפרי גליל תחתון בע"מ | C44: סה"כ תאגיד | D44: 2750313 | E44: 88.098255 | F44: 32282 | G44: 1.0340597 | H44: 173973 | I44: 5.5727176 | J44: 14014 | K44: 0.44889762 | L44: 0 | M44: 0 | N44: 15880 | O44: 0.50866948 | P44: 32000 | Q44: 1.0250267 | R44: 103408 | S44: 3.3123737 | T44: 3121870 | U44: 100
C45: נצרת עלית | D45: 1900514 | E45: 73.245719 | F45: 375777 | G45: 14.482428 | H45: 35108 | I45: 1.3530607 | J45: 16785 | K45: 0.6468931 | L45: 372 | M45: 0.014336862 | N45: 260344 | O45: 10.033645 | P45: 5623 | Q45: 0.21671015 | R45: 187 | S45: 0.0072069711 | T45: 2594710 | U45: 100
C46: מגדל העמק | D46: 1121094 | E46: 68.880276 | F46: 217008 | G46: 13.333022 | H46: 66298 | I46: 4.0733646 | J46: 10170 | K46: 0.62484717 | L46: 5650 | M46: 0.34713732 | N46: 199422 | O46: 12.252534 | P46: 6444 | Q46: 0.39592086 | R46: 1512 | S46: 0.092897632 | T46: 1627598 | U46: 100
C47: עפולה | D47: 2014326 | E47: 70.206515 | F47: 284870 | G47: 9.9287453 | H47: 189995 | I47: 6.6220099 | J47: 0 | K47: 0 | L47: 3597 | M47: 0.1253684 | N47: 355129 | O47: 12.377524 | P47: 12637 | Q47: 0.44044496 | R47: 8590 | S47: 0.29939243 | T47: 2869144 | U47: 100
A48: 9 | B48: מי נע חברת המים והביוב של עיריית נצרת עילית בע"מ | C48: סה"כ | D48: =SUM(D45:D47) -> 5035934 | E48: 71.562946 | F48: =SUM(F45:F47) -> 877655 | G48: 14.03936 | H48: =SUM(H45:H47) -> 291401 | I48: 2.4016723 | J48: =SUM(J45:J47) -> 26955 | K48: 0.63839493 | L48: =SUM(L45:L47) -> 9619 | M48: 0.14262342 | N48: =SUM(N45:N47) -> 814895 | O48: 10.888974 | P48: =SUM(P45:P47) -> 24704 | Q48: 0.28579156 | R48: =SUM(R45:R47) -> 10289 | S48: 0.040238656 | T48: =SUM(T45:T47) -> 7091452 | U48: 100
C49: תל אביב-יפו | D49: 24971737 | E49: 67.103775 | F49: 2646727 | G49: 7.1122554 | H49: 1386026 | I49: 3.7245137 | J49: 376285 | K49: 1.0111489 | L49: 43183 | M49: 0.11604088 | N49: 6744081 | O49: 18.12262 | P49: 229827 | Q49: 0.61758857 | R49: 815744 | S49: 2.1920582 | T49: 37213610 | U49: 100
A50: 10 | B50: מי אביבים 2010 בע"מ | C50: סה"כ תאגיד | D50: 24971737 | E50: 67.103775 | F50: 2646727 | G50: 7.1122554 | H50: 1386026 | I50: 3.7245137 | J50: 376285 | K50: 1.0111489 | L50: 43183 | M50: 0.11604088 | N50: 6744081 | O50: 18.12262 | P50: 229827 | Q50: 0.61758857 | R50: 815744 | S50: 2.1920582 | T50: 37213610 | U50: 100
C51: קרית אונו | D51: 1876803 | E51: 84.547379 | F51: 105011 | G51: 4.7306003 | H51: 59224 | I51: 2.6679593 | J51: 0 | K51: 0 | L51: 2063 | M51: 0.092935296 | N51: 163738 | O51: 7.3761704 | P51: 12985 | Q51: 0.58495628 | R51: 0 | S51: 0 | T51: 2219824 | U51: 100
C52: יהוד | D52: 1563555 | E52: 80.872126 | F52: 106997 | G52: 5.5342312 | H52: 62922 | I52: 3.2545295 | J52: 7257 | K52: 0.37535553 | L52: 657 | M52: 0.033982167 | N52: 148627 | O52: 7.6874696 | P52: 5539 | Q52: 0.28649501 | R52: 37813 | S52: 1.9558108 | T52: 1933367 | U52: 100
A53: 11 | B53: מי אונו | C53: סה"כ תאגיד | D53: =SUM(D51:D52) -> 3440358 | E53: 84.547379 | F53: =SUM(F51:F52) -> 212008 | G53: 4.7306003 | H53: =SUM(H51:H52) -> 122146 | I53: 2.6679593 | J53: =SUM(J51:J52) -> 7257 | K53: 0 | L53: =SUM(L51:L52) -> 2720 | M53: 0.092935296 | N53: =SUM(N51:N52) -> 312365 | O53: 7.3761704 | P53: =SUM(P51:P52) -> 18524 | Q53: 0.58495628 | R53: =SUM(R51:R52) -> 37813 | S53: 0 | T53: =SUM(T51:T52) -> 4153191 | U53: 100
C54: אשקלון | D54: 6280356 | E54: 75.29426 | F54: 571582 | G54: 6.8526122 | H54: 174524 | I54: 2.0923425 | J54: 207885 | K54: 2.4923026 | L54: 12969 | M54: 0.15548343 | N54: 468753 | O54: 5.6198105 | P54: 57182 | Q54: 0.68554655 | R54: 567831 | S54: 6.807642 | T54: 8341082 | U54: 100
C55: נתיבות | D55: 1228651 | E55: 75.193254 | F55: 97379 | G55: 5.9595799 | H55: 93186 | I55: 5.702969 | J55: 11742 | K55: 0.71860861 | L55: 34437 | M55: 2.1075391 | N55: 66593 | O55: 4.0754814 | P55: 49590 | Q55: 3.0349004 | R55: 52413 | S55: 3.2076676 | T55: 1633991 | U55: 100
A56: 12 | B56: מי אשקלון | C56: סה"כ תאגיד | D56: =SUM(D54:D55) -> 7509007 | E56: 75.277715 | F56: =SUM(F54:F55) -> 668961 | G56: 6.7063269 | H56: =SUM(H54:H55) -> 267710 | I56: 2.6837899 | J56: =SUM(J54:J55) -> 219627 | K56: 2.2017583 | L56: =SUM(L54:L55) -> 47406 | M56: 0.47524464 | N56: =SUM(N54:N55) -> 535346 | O56: 5.3668379 | P56: =SUM(P54:P55) -> 106772 | Q56: 1.0703882 | R56: =SUM(R54:R55) -> 620244 | S56: 6.2179395 | T56: =SUM(T54:T55) -> 9975073 | U56: 100
C57: בני ברק | D57: 6730145 | E57: 74.872614 | F57: 126043 | G57: 1.4022237 | H57: 222747 | I57: 2.4780521 | J57: 144064 | K57: 1.6027067 | L57: 203699 | M57: 2.2661438 | N57: 659175 | O57: 7.3332974 | P57: 24121 | Q57: 0.26834523 | R57: 878800 | S57: 9.7766174 | T57: 8988794 | U57: 100
A58: 13 | B58: מי ברק בע"מ | C58: סה"כ תאגיד | D58: 6730145 | E58: 74.872614 | F58: 126043 | G58: 1.4022237 | H58: 222747 | I58: 2.4780521 | J58: 144064 | K58: 1.6027067 | L58: 203699 | M58: 2.2661438 | N58: 659175 | O58: 7.3332974 | P58: 24121 | Q58: 0.26834523 | R58: 878800 | S58: 9.7766174 | T58: 8988794 | U58: 100
C59: בת ים | D59: 6194392 | E59: 81.239835 | F59: 476088 | G59: 6.2439236 | H59: 262235 | I59: 3.4392283 | J59: 87869 | K59: 1.1524074 | L59: 9438 | M59: 0.12377995 | N59: 312497 | O59: 4.0984175 | P59: 25722 | Q59: 0.33734562 | R59: 256580 | S59: 3.3650626 | T59: 7624821 | U59: 100
A60: 14 | B60: מי בת ים | C60: סה"כ תאגיד | D60: 6194392 | E60: 81.239835 | F60: 476088 | G60: 6.2439236 | H60: 262235 | I60: 3.4392283 | J60: 87869 | K60: 1.1524074 | L60: 9438 | M60: 0.12377995 | N60: 312497 | O60: 4.0984175 | P60: 25722 | Q60: 0.33734562 | R60: 256580 | S60: 3.3650626 | T60: 7624821 | U60: 100
C61: גבעתיים | D61: 2890474 | E61: 85.042355 | F61: 141349 | G61: 4.158713 | H61: 54527 | I61: 1.6042713 | J61: 25119 | K61: 0.73904104 | L61: 2602 | M61: 0.07655499 | N61: 198786 | O61: 5.8486012 | P61: 25549 | Q61: 0.75169233 | R61: 60458 | S61: 1.7787708 | T61: 3398864 | U61: 100
A62: 15 | B62: מי גבעתיים | C62: סה"כ תאגיד | D62: 2890474 | E62: 85.042355 | F62: 141349 | G62: 4.158713 | H62: 54527 | I62: 1.6042713 | J62: 25119 | K62: 0.73904104 | L62: 2602 | M62: 0.07655499 | N62: 198786 | O62: 5.8486012 | P62: 25549 | Q62: 0.75169233 | R62: 60458 | S62: 1.7787708 | T62: 3398864 | U62: 100
C63: סכנין | D63: 1096413 | E63: 80.489524 | F63: 6300 | G63: 0.4624936 | H63: 181620 | I63: 13.33303 | J63: 0 | K63: 0 | L63: 2874 | M63: 0.21098518 | N63: 65704 | O63: 4.8234412 | P63: 6483 | Q63: 0.47592794 | R63: 2787 | S63: 0.20459836 | T63: 1362181 | U63: 100
C64: נחף | D64: 398473 | E64: 89.909385 | F64: 1112 | G64: 0.25090592 | H64: 24846 | I64: 5.6061228 | J64: 0 | K64: 0 | L64: 0 | M64: 0 | N64: 6259 | O64: 1.4122484 | P64: 11582 | Q64: 2.6133025 | R64: 922 | S64: 0.20803531 | T64: 443194 | U64: 100
C65: דיר חנא | D65: 407256 | E65: 88.799346 | F65: 1885 | G65: 0.41101117 | H65: 29972 | I65: 6.5351867 | J65: 0 | K65: 0 | L65: 0 | M65: 0 | N65: 8007 | O65: 1.7458708 | P65: 10443 | Q65: 2.2770237 | R65: 1062 | S65: 0.23156173 | T65: 458625 | U65: 100
C66: בענה | D66: 379343 | E66: 90.134343 | F66: 0 | G66: 0 | H66: 10169 | I66: 2.41622 | J66: 0 | K66: 0 | L66: 0 | M66: 0 | N66: 29140 | O66: 6.9238519 | P66: 1329 | Q66: 0.31577897 | R66: 883 | S66: 0.20980649 | T66: 420864 | U66: 100
C67: עראבה | D67: 1055672 | E67: 85.687871 | F67: 10469 | G67: 0.84975856 | H67: 96935 | I67: 7.8681198 | J67: 0 | K67: 0 | L67: 0 | M67: 0 | N67: 51681 | O67: 4.1948966 | P67: 9987 | Q67: 0.81063509 | R67: 7253 | S67: 0.58871897 | T67: 1231997 | U67: 100
C68: מגד' אל כרום | D68: 592557 | E68: 88.442927 | F68: 260 | G68: 0.038806665 | H68: 32590 | I68: 4.8642662 | J68: 0 | K68: 0 | L68: 3117 | M68: 0.46523221 | N68: 33503 | O68: 5.0005373 | P68: 4800 | Q68: 0.71643074 | R68: 3161 | S68: 0.47179949 | T68: 669988 | U68: 100
C69: דיר אל עסד | D69: 464815 | E69: 91.344557 | F69: 0 | G69: 0 | H69: 15135 | I69: 2.9743013 | J69: 0 | K69: 0 | L69: 2060 | M69: 0.40482727 | N69: 14631 | O69: 2.8752562 | P69: 7262 | Q69: 1.4271144 | R69: 4956 | S69: 0.97394367 | T69: 508859 | U69: 100
A70: 16 | B70: מי גליל | C70: סה"כ תאגיד | D70: 4394529 | E70: 86.239812 | F70: 20026 | G70: 0.3929974 | H70: 391267 | I70: 7.6783638 | J70: 0 | K70: 0 | L70: 8051 | M70: 0.15799571 | N70: 208925 | O70: 4.1000191 | P70: 51886 | Q70: 1.0182295 | R70: 21024 | S70: 0.41258251 | T70: 5095708 | U70: 100
C71: הוד השרון | D71: 2877619 | E71: 78.132516 | F71: 332411 | G71: 9.0255547 | H71: 33160 | I71: 0.90035346 | J71: 33758 | K71: 0.91659023 | L71: 0 | M71: 0 | N71: 234254 | O71: 6.3604162 | P71: 69870 | Q71: 1.8970958 | R71: 101926 | S71: 2.7674737 | T71: 3682998 | U71: 100
A72: 17 | B72: מי הוד השרון | C72: סה"כ תאגיד | D72: 2877619 | E72: 78.132516 | F72: 332411 | G72: 9.0255547 | H72: 33160 | I72: 0.90035346 | J72: 33758 | K72: 0.91659023 | L72: 0 | M72: 0 | N72: 234254 | O72: 6.3604162 | P72: 69870 | Q72: 1.8970958 | R72: 101926 | S72: 2.7674737 | T72: 3682998 | U72: 100
C73: הרצליה | D73: 6557659 | E73: 73.176602 | F73: 631514 | G73: 7.0470344 | H73: 447721 | I73: 4.9960972 | J73: 73121 | K73: 0.81595373 | L73: 5456 | M73: 0.060883242 | N73: 841461 | O73: 9.3898229 | P73: 82737 | Q73: 0.92325821 | R73: 321746 | S73: 3.5903482 | T73: 8961415 | U73: 100
A74: 18 | B74: מי הרצליה | C74: סה"כ תאגיד | D74: 6557659 | E74: 73.176602 | F74: 631514 | G74: 7.0470344 | H74: 447721 | I74: 4.9960972 | J74: 73121 | K74: 0.81595373 | L74: 5456 | M74: 0.060883242 | N74: 841461 | O74: 9.3898229 | P74: 82737 | Q74: 0.92325821 | R74: 321746 | S74: 3.5903482 | T74: 8961415 | U74: 100
C75: חדרה | D75: 4101508 | E75: 69.503373 | F75: 220466 | G75: 3.7359748 | H75: 308498 | I75: 5.2277483 | J75: 164422 | K75: 2.7862639 | L75: 18014 | M75: 0.30526181 | N75: 323121 | O75: 5.4755469 | P75: 203549 | Q75: 3.4493025 | R75: 561586 | S75: 9.5165293 | T75: 5901164 | U75: 100
A76: 19 | B76: מי חדרה בע"מ | C76: סה"כ | D76: =SUM(D75:D75) -> 4101508 | E76: 69.503373 | F76: =SUM(F75:F75) -> 220466 | G76: 3.7359748 | H76: =SUM(H75:H75) -> 308498 | I76: 5.2277483 | J76: =SUM(J75:J75) -> 164422 | K76: 2.7862639 | L76: =SUM(L75:L75) -> 18014 | M76: 0.30526181 | N76: =SUM(N75:N75) -> 323121 | O76: 5.4755469 | P76: =SUM(P75:P75) -> 203549 | Q76: 3.4493025 | R76: =SUM(R75:R75) -> 561586 | S76: 9.5165293 | T76: =SUM(T75:T75) -> 5901164 | U76: 100
C77: יבנה | D77: 1778776 | E77: 69.446924 | F77: 240909 | G77: 9.4055625 | H77: 53286 | I77: 2.0803905 | J77: 2932 | K77: 0.11447106 | L77: 8987 | M77: 0.35087021 | N77: 349592 | O77: 13.648761 | P77: 100681 | Q77: 3.9307848 | R77: 26183 | S77: 1.022236 | T77: 2561346 | U77: 100
C78: גן יבנה | D78: 1165699 | E78: 82.598295 | F78: 114870 | G78: 8.1393792 | H78: 39782 | I78: 2.8188455 | J78: 1662 | K78: 0.11776485 | L78: 675 | M78: 0.047828684 | N78: 33248 | O78: 2.3558638 | P78: 24886 | Q78: 1.763355 | R78: 30465 | S78: 2.1586679 | T78: 1411287 | U78: 100
A79: 20 | B79: מי יבנה | C79: סה"כ תאגיד | D79: =SUM(D77:D78) -> 2944475 | E79: 74.118979 | F79: =SUM(F77:F78) -> 355779 | G79: 8.955748 | H79: =SUM(H77:H78) -> 93068 | I79: 2.3427284 | J79: =SUM(J77:J78) -> 4594 | K79: 0.11564119 | L79: =SUM(L77:L78) -> 9662 | M79: 0.24321401 | N79: =SUM(N77:N78) -> 382840 | O79: 9.6369335 | P79: =SUM(P77:P78) -> 125567 | Q79: 3.1608004 | R79: =SUM(R77:R78) -> 56648 | S79: 1.425956 | T79: =SUM(T77:T78) -> 3972633 | U79: 100
C80: חיפה | D80: 10871842 | E80: 57.818595 | F80: 647894 | G80: 3.4456278 | H80: 1916827 | I80: 10.194063 | J80: 72436 | K80: 0.3852289 | L80: 6155 | M80: 0.032733501 | N80: 1843679 | O80: 9.8050477 | P80: 88164 | Q80: 0.4688735 | R80: 3356369 | S80: 17.849831 | T80: 18803366 | U80: 100
A81: 21 | B81: מי כרמל | C81: סה"כ תאגיד | D81: 10871842 | E81: 57.818595 | F81: 647894 | G81: 3.4456278 | H81: 1916827 | I81: 10.194063 | J81: 72436 | K81: 0.3852289 | L81: 6155 | M81: 0.032733501 | N81: 1843679 | O81: 9.8050477 | P81: 88164 | Q81: 0.4688735 | R81: 3356369 | S81: 17.849831 | T81: 18803366 | U81: 100
C82: לוד | D82: 3111345 | E82: 81.733949 | F82: 137325 | G82: 3.6074799 | H82: 41928 | I82: 1.101434 | J82: 0 | K82: 0 | L82: 0 | M82: 0 | N82: 341028 | O82: 8.9586868 | P82: 13445 | Q82: 0.35319547 | R82: 161603 | S82: 4.2452545 | T82: 3806674 | U82: 100
A83: 22 | B83: מי לוד בע"מ | C83: סה"כ תאגיד | D83: 3111345 | E83: 81.733949 | F83: 137325 | G83: 3.6074799 | H83: 41928 | I83: 1.101434 | J83: 0 | K83: 0 | L83: 0 | M83: 0 | N83: 341028 | O83: 8.9586868 | P83: 13445 | Q83: 0.35319547 | R83: 161603 | S83: 4.2452545 | T83: 3806674 | U83: 100
C84: מודיעין | D84: 3913695 | E84: 77.186299 | F84: 502439 | G84: 9.9091541 | H84: 287069 | I84: 5.6616046 | J84: 0 | K84: 0 | L84: 5421 | M84: 0.10691352 | N84: 163577 | O84: 3.2260826 | P84: 175227 | Q84: 3.4558451 | R84: 23025 | S84: 0.45410144 | T84: 5070453 | U84: 100
A85: 23 | B85: מי מודיעין | C85: סה"כ תאגיד | D85: =SUM(D84:D84) -> 3913695 | E85: 77.186299 | F85: =SUM(F84:F84) -> 502439 | G85: 9.9091541 | H85: =SUM(H84:H84) -> 287069 | I85: 5.6616046 | J85: =SUM(J84:J84) -> 0 | K85: 0 | L85: =SUM(L84:L84) -> 5421 | M85: 0.10691352 | N85: =SUM(N84:N84) -> 163577 | O85: 3.2260826 | P85: =SUM(P84:P84) -> 175227 | Q85: 3.4558451 | R85: =SUM(R84:R84) -> 23025 | S85: 0.45410144 | T85: =SUM(T84:T84) -> 5070453 | U85: 100
C86: נתניה | D86: 9774438 | E86: 76.76806 | F86: 627433 | G86: 4.9278347 | H86: 519995 | I86: 4.0840207 | J86: 191774 | K86: 1.5061856 | L86: 38695 | M86: 0.30390904 | N86: 886899 | O86: 6.9656706 | P86: 282579 | Q86: 2.2193646 | R86: 410615 | S86: 3.2249544 | T86: 12732428 | U86: 100
A87: 24 | B87: מי נתניה (2003) בע"מ | C87: סה"כ תאגיד | D87: 9774438 | E87: 76.76806 | F87: 627433 | G87: 4.9278347 | H87: 519995 | I87: 4.0840207 | J87: 191774 | K87: 1.5061856 | L87: 38695 | M87: 0.30390904 | N87: 886899 | O87: 6.9656706 | P87: 282579 | Q87: 2.2193646 | R87: 410615 | S87: 3.2249544 | T87: 12732428 | U87: 100
C88: אום אל פחם | D88: 2108301 | E88: 82.678762 | F88: 6778 | G88: 0.26580486 | H88: 139446 | I88: 5.4684899 | J88: 4595 | K88: 0.18019671 | L88: 0 | M88: 0 | N88: 144228 | O88: 5.65602 | P88: 146643 | Q88: 5.7507262 | R88: 0 | S88: 0 | T88: 2549991 | U88: 100
C89: כפר קרע | D89: 904438 | E89: 90.129159 | F89: 4729 | G89: 0.47125485 | H89: 39970 | I89: 3.983095 | J89: 14 | K89: 0.0013951296 | L89: 0 | M89: 0 | N89: 47971 | O89: 4.7804116 | P89: 6369 | Q89: 0.63468432 | R89: 0 | S89: 0 | T89: 1003491 | U89: 100
C90: ערערה | D90: 335274 | E90: 82.553166 | F90: 0 | G90: 0 | H90: 39400 | I90: 9.7013033 | J90: 650 | K90: 0.16004688 | L90: 0 | M90: 0 | N90: 3016 | O90: 0.74261753 | P90: 27791 | Q90: 6.842866 | R90: 0 | S90: 0 | T90: 406131 | U90: 100
C91: בסמ"ה | D91: 18487 | E91: 100 | F91: 0 | G91: 0 | H91: 0 | I91: 0 | J91: 0 | K91: 0 | L91: 0 | M91: 0 | N91: 0 | O91: 0 | P91: 0 | Q91: 0 | R91: 0 | S91: 0 | T91: 18487 | U91: 100
C92: מעלה עירון | D92: 119896 | E92: 100 | F92: 0 | G92: 0 | H92: 0 | I92: 0 | J92: 0 | K92: 0 | L92: 0 | M92: 0 | N92: 0 | O92: 0 | P92: 0 | Q92: 0 | R92: 0 | S92: 0 | T92: 119896 | U92: 100
C93: באקה - ג'ת | D93: 1735756 | E93: 80.918159 | F93: 7836 | G93: 0.36530174 | H93: 104043 | I93: 4.8503177 | J93: 0 | K93: 0 | L93: 0 | M93: 0 | N93: 98419 | O93: 4.5881358 | P93: 183905 | Q93: 8.5733559 | R93: 15117 | S93: 0.70473028 | T93: 2145076 | U93: 100
A94: 26 | C94: זמר | D94: 203105 | E94: 79.922637 | F94: 41177 | G94: 16.203316 | H94: 8635 | I94: 3.3979073 | J94: 0 | K94: 0 | L94: 0 | M94: 0 | N94: 19 | O94: 0.0074765767 | P94: 0 | Q94: 0 | R94: 1191 | S94: 0.46866331 | T94: 254127 | U94: 100
A95: 25 | B95: מי עירון בע"מ | C95: סה"כ תאגיד | D95: =SUM(D88:D94) -> 5425257 | E95: 85.075632 | F95: =SUM(F88:F94) -> 60520 | G95: 0.28079578 | H95: =SUM(H88:H94) -> 331494 | I95: 5.3395855 | J95: =SUM(J88:J94) -> 5259 | K95: 0.12833102 | L95: =SUM(L88:L94) -> 0 | M95: 0 | N95: =SUM(N88:N94) -> 293653 | O95: 4.7636699 | P95: =SUM(P88:P94) -> 364708 | Q95: 4.4119858 | R95: =SUM(R88:R94) -> 16308 | S95: 0 | T95: =SUM(T88:T94) -> 6497199 | U95: 100
C96: עכו עיריה | D96: 2415960 | E96: 76.709319 | F96: 204342 | G96: 6.4880775 | H96: 226578 | I96: 7.1940943 | J96: 23675 | K96: 0.75170662 | L96: 12719 | M96: 0.40384188 | N96: 242252 | O96: 7.6917606 | P96: 23974 | Q96: 0.76120019 | R96: 0 | S96: 0 | T96: 3149500 | U96: 100
A97: 26 | B97: מי עכו | C97: סה"כ תאגיד | D97: 2415960 | E97: 76.709319 | F97: 204342 | G97: 6.4880775 | H97: 226578 | I97: 7.1940943 | J97: 23675 | K97: 0.75170662 | L97: 12719 | M97: 0.40384188 | N97: 242252 | O97: 7.6917606 | P97: 23974 | Q97: 0.76120019 | R97: 0 | S97: 0 | T97: 3149500 | U97: 100
C98: נס ציונה | D98: 2109939 | E98: 72.132028 | F98: 202950 | G98: 6.9382077 | H98: 97395 | I98: 3.3296218 | J98: 66202 | K98: 2.2632334 | L98: 2033 | M98: 0.069501731 | N98: 222885 | O98: 7.6197213 | P98: 56539 | Q98: 1.9328866 | R98: 167164 | S98: 5.7147995 | T98: 2925107 | U98: 100
C99: מזכרת בתיה | D99: 587233 | E99: 74.448073 | F99: 94440 | G99: 11.97289 | H99: 82300 | I99: 10.433808 | J99: 0 | K99: 0 | L99: 1163 | M99: 0.14744251 | N99: 12986 | O99: 1.6463357 | P99: 10660 | Q99: 1.3514507 | R99: 0 | S99: 0 | T99: 788782 | U99: 100
C100: קרית עקרון | D100: 553775 | E100: 75.484956 | F100: 56353 | G100: 7.6814658 | H100: 33367 | I100: 4.5482489 | J100: 556 | K100: 0.075788245 | L100: 1673 | M100: 0.22804629 | N100: 73266 | O100: 9.9868734 | P100: 2673 | Q100: 0.36435608 | R100: 11960 | S100: 1.6302651 | T100: 733623 | U100: 100
...

Sheet מטשים 2016
A1: ירוד | B1: =0.692*(1+'[7]סל מדדים'!F23) -> 0.6886092 | C1: 0.692
A2: בסיסי | B2: =1.679*(1+'[7]סל מדדים'!F23) -> 1.6707729
A3: ללא מגבלות | B3: =1.999*(1+'[7]סל מדדים'!F23) -> 1.9892049
A4: נחל | B4: =2.213*(1+'[7]סל מדדים'!F23) -> 2.2021563
A5: חיפה | B5: =1.661*(1+'[7]מדד מחירים'!$E$78) -> 1.6460982
A6: תעריף שפד"ן | B6: =+'[7]הנחות עבודה'!$D$30 -> 2.477571
A7: איילון | B7: =0.891*(1+'[7]מדד מחירים'!$E$78) -> 0.88300631
A8: איגוד ערים כרמיאל | B8: =1.79*(1+'מדד מחירים'!$E$78) -> 1.7739408
B10: התאגיד | C10: רשימת הישובים | D10: מס' תושבים | E10: מט"ש | F10: גודל (מק"י) | G10: סוג | H10: מחיר למט"ש (₪ למ"ק) | I10: חלק יחסי | J10: משוקלל לתאגיד (₪ למ"ק) | K10: לשנת 2016 | L10: גריעות ותוספות | M10: הערות | N10: מכירה | O10: כמות | P10: הכנסה שיש להפחית | Q10: כמות ביוב
A11: 1 | B11: מיתב מים תיעול וביוב בע"מ | C11: פתח תקוה, אלעד | D11: 225356 | E11: שפד"ן | F11: 35000 | G11: בסיסי | H11: =+B6/(1+T10)*(1-HLOOKUP(B11,'[7]תחשיב תעריף 2016'!$4:$26,17,0)) -> 2.2952978 | I11: =+D11/(D11+D12+D13) -> 0.82773262 | J11: =+I11*H11+I13*H13+I12*H12 -> 2.095698 | K11: =+J11-L11 -> 2.0707265 | L11: =0.03/1.05*0.92*0.95 -> 0.024971429 | M11: שירותי תשתית
C12: אלעד | D12: 43627 | E12: שפד"ן | F12: 35000 | G12: בסיסי | H12: =+J140 -> 1.1713078 | I12: =+D12/(D11+D12+D13) -> 0.16024198
C13: כפר ברא | D13: 3274 | E13: חורשים | F13: 2000 | G13: ירוד | H13: =$B$1-0.000007*F13 -> 0.6746092 | I13: =+D13/(D11+D12+D13) -> 0.012025402
B14: התנור מים וביוב בע"מ | C14: בוקעתה, מג'דל שמס, מסעדה | E14: חרמונית | F14: 2000 | G14: ללא | I14: 0.31 | J14: =+I14*H14+I15*H15+I16*H16+I17*H17 -> 1.1421924 | K14: =+J14 -> 1.1421924
C15: עין קיניה | E15: הגושרים | F15: 3000 | G15: בסיסי | H15: =$B$2-0.000007*F15 -> 1.6497729 | I15: 0.03
A16: 2 | C16: קצרין | D16: 6515 | E16: קצרין | F16: 3000 | G16: ללא מגבלות | H16: =$B$3-0.000007*F16 -> 1.9682049 | I16: 0.16
C17: קרית שמונה, מטולה | D17: =23120+1511 -> 24631 | E17: קרית שמונה | F17: 9600 | G17: בסיסי | H17: =$B$2-0.000012*F17 -> 1.5555729 | I17: 0.5
A18: 3 | B18: מי נתניה (2003) בע"מ | C18: נתניה | E18: נתניה | F18: 35000 | G18: ללא מגבלות | H18: =$B$3-0.000013*F18 -> 1.5342049 | I18: 1 | J18: =+I18*H18 -> 1.5342049 | K18: =+J18-L18 -> 1.3999163 | L18: =+P18/Q18/1000 -> 0.13428864 | M18: מכירת מים לחקלאות | N18: 0.15 | O18: 14000000 | P18: =+N18*O18 -> 2100000 | Q18: =+'[7]תחשיב תעריף 2016'!M16 -> 15637.957
A19: 4 | B19: יובלים בשומרון בע"מ | C19: קרני שומרון | D19: 6210 | E19: דרום שרון | F19: 14000 | G19: בסיסי | H19: =$B$2-0.000012*F19 -> 1.5027729 | I19: =550/(1280+550) -> 0.30054645 | J19: =+I19*H19+I21*H21+I20*H20 -> 1.6077614 | K19: =+J19 -> 1.6077614
C20: אריאל | E20: אריאל תעשייתי | F20: 200 | G20: בסיסי | H20: =$B$2-0.000007*F20 -> 1.6693729 | I20: 0.04
D21: 17559 | E21: אריאל סניטרי | F21: 2700 | G21: בסיסי | H21: =$B$2-0.000007*F21 -> 1.6518729 | I21: =1-I20-I19 -> 0.65945355
A22: 5 | B22: מי מודיעין | C22: מודיעין-מכבים-רעות | E22: איילון | F22: 35000 | G22: בסיסי | H22: =$B$2-0.000012*F22 -> 1.2507729 | I22: 1 | J22: =+I22*H22 -> 1.2507729 | K22: =+IF($B$7=0,J22,$B$7*(1-HLOOKUP(B22,'[7]תחשיב תעריף 2016'!$4:$26,17,0))) -> 0.82119587
A23: 6 | B23: חברת הגיחון בע"מ תאגיד המים והביוב של ירושלים | C23: ירושלים מבשרת ציון אבו גוש | E23: שורק | F23: 35000 | G23: בסיסי | H23: =$B$2-0.000012*F23 -> 1.2507729 | I23: 0.685 | J23: =+I23*H23+I24*H24+I26*H26+H25*I25 -> 1.1813299 | K23: =+J23 -> 1.1813299
E24: אוג | F24: 22000 | G24: בסיסי | H24: =$B$2-0.000007*F24 -> 1.5167729 | I24: 0.126
E25: הר חומה | F25: 3000 | G25: ללא מגבלות | H25: =$B$3-0.000007*F25 -> 1.9682049 | I25: 0.025
E26: קדרון | F26: 25000 | G26: ירוד | H26: =$B$1-0.000007*F26 -> 0.5136092 | I26: 0.164
A27: 7 | B27: מניב ראשון בע"מ | C27: ראשון לציון | E27: שפד"ן | F27: 35000 | G27: בסיסי | H27: =$B$2-0.000012*F27 -> 1.2507729 | I27: 1 | J27: =+I27*H27 -> 1.2507729 | K27: =+J134 -> 0.82239048 | M27: שדרוג חיצוני
A28: 8 | B28: עין נטפים מפעלי מים וביוב אילת בע"מ | C28: אילת | E28: אילת | F28: 10000 | G28: בסיסי | H28: =$B$2-0.000012*F28 -> 1.5507729 | I28: 1 | J28: =+I28*H28 -> 1.5507729 | K28: =+J28 -> 1.5507729
A29: 9 | B29: מי נע חברת המים והביוב של עיריית נצרת עילית בע"מ | C29: נצרת עילית | E29: תל עדשים | F29: 15000 | G29: בסיסי | H29: =$B$2-0.000012*F29 -> 1.4907729 | I29: 0.3 | J29: =+I29*H29+I30*H30+I32*H32+I31*H31 -> 0.96639141 | K29: =+J29 -> 0.96639141
E30: רנ"י | F30: 7000 | G30: בסיסי | H30: =$B$2-0.000012*F30 -> 1.5867729 | I30: 0.08
C31: עפולה | E31: עפולה | F31: 8000 | G31: ירוד | H31: =$B$1-0.000007*F31 -> 0.6326092 | I31: 0.34
C32: מגדל העמק | E32: מגדל העמק | F32: 8000 | G32: ירוד | H32: =$B$1-0.000007*F32 -> 0.6326092 | I32: 0.28
A33: 10 | B33: מי רקת בע"מ | C33: טבריה | D33: 33325 | E33: טבריה | F33: 10000 | G33: בסיסי | H33: =$B$2-0.000007*F33 -> 1.6007729 | I33: =D33/($D$33+$D$34+$D$35+$D$36+$D$37) -> 0.67964432 | J33: =+I33*H33+I34*H34+I37*H37+I35*H35+I36*H36 -> 1.5524276 | K33: =+J33 -> 1.5524276
D34: 8000 | E34: חיטין | F34: 2500 | G34: בסיסי | H34: =$B$2-0.000012*F34 -> 1.6407729 | I34: =D34/($D$33+$D$34+$D$35+$D$36+$D$37) -> 0.16315543
C35: יבנאל | D35: 3400 | E35: יבנאל | F35: 1000 | G35: ירוד | H35: =$B$1-0.000007*F35 -> 0.6816092 | I35: =D35/($D$33+$D$34+$D$35+$D$36+$D$37) -> 0.069341056
C36: כפר כמא | D36: 2916 | E36: שדה אילן | F36: 6000 | G36: בסיסי | H36: =$B$2-0.000012*F36 -> 1.5987729 | I36: =D36/($D$33+$D$34+$D$35+$D$36+$D$37) -> 0.059470153
C37: מגדל | D37: 1392 | E37: לבנים | F37: 6000 | G37: ללא מגבלות | H37: =$B$3-0.000012*F37 -> 1.9172049 | I37: =D37/($D$33+$D$34+$D$35+$D$36+$D$37) -> 0.028389044
A38: 11 | B38: יובלים אשדוד בע"מ | C38: אשדוד | E38: אשדוד | F38: 33000 | G38: בסיסי | H38: =$B$2-0.000012*F38 -> 1.2747729 | I38: 1 | J38: =+I38*H38 -> 1.2747729 | K38: =+J38 -> 1.2747729
A39: 12 | B39: מי שבע תאגיד המים והביוב לבאר שבע בע"מ | C39: באר שבע, אופקים | E39: באר שבע | F39: 35000 | G39: ללא מגבלות | H39: =$B$3-0.000012*F39 -> 1.5692049 | I39: 1 | J39: =+I39*H39 -> 1.5692049 | K39: =+J39-L39 -> 1.4766799 | L39: =+P39/Q39/1000 -> 0.092525026 | M39: מכירת מים לחקלאות | N39: 0.15 | O39: 12000000 | P39: =+N39*O39 -> 1800000 | Q39: =+'[7]תחשיב תעריף 2016'!Q16 -> 19454.196
B40: מי שקמה תאגיד המים והביוב בע"מ | C40: אור יהודה | D40: =+[7]גיליון1!D137 -> 35915 | E40: שפד"ן | F40: 35000 | G40: בסיסי | H40: =+J141 -> 1.6481798 | I40: =+D40/(D40+D41) -> 0.14824614 | J40: =+I41*H41+H40*I40 -> 2.2068973 | K40: =+J40-L41 -> 2.2068973
A41: 13 | C41: חולון, אזור, בית דגן | D41: =+[7]גיליון1!D135+[7]גיליון1!D136+[7]גיליון1!D134 -> 206351 | E41: שפד"ן | F41: 35000 | G41: בסיסי | H41: =+IF($B$6=0,J40,$B$6*(1-HLOOKUP(B40,'[7]תחשיב תעריף 2016'!$4:$26,17,0))) -> 2.304141 | I41: =+D41/(D41+D40) -> 0.85175386 | M41: שדרוג חיצוני
A42: 14 | B42: פלג הגליל החברה האזורית למים וביוב בע"מ | C42: צפת, חצור הגלילית, טובא זנגריה | D42: =4518+8532+5633 -> 18683 | E42: צח"ר | F42: 3500 | G42: בסיסי | H42: =$B$2-0.000012*F42 -> 1.6287729 | I42: =D42/($D$42+$D$43+$D$44+$D$45+$D$46+$D$47+$D$48+$D$49+$D$50) -> 0.19108547 | J42: =+I42*H42+I46*H46+I47*H47+I50*H50+I43*H43+I44*H44+I45*H45+I48*H48+I49*H49 -> 1.5898397 | K42: =+J42 -> 1.5898397
C43: מראר | D43: 19934 | E43: לבנים | F43: 6000 | G43: ללא מגבלות | H43: =$B$3-0.000012*F43 -> 1.9172049 | I43: =D43/($D$42+$D$43+$D$44+$D$45+$D$46+$D$47+$D$48+$D$49+$D$50) -> 0.20388042
C44: ראמה, סאג'ור | D44: =3711+7244 -> 10955 | E44: כרמיאל | F44: 20800 | G44: בסיסי | H44: =+IF($B$8=0,J54,$B$8*(1-HLOOKUP(B42,'[7]תחשיב תעריף 2016'!$4:$26,17,0))) -> 1.5741731 | I44: =D44/($D$42+$D$43+$D$44+$D$45+$D$46+$D$47+$D$48+$D$49+$D$50) -> 0.11204525 | M44: שדרוג חיצוני
C45: בית ג'אן | D45: 10491 | E45: פרוד | F45: 1000 | G45: בסיסי | H45: =$B$2-0.000007*F45 -> 1.6637729 | I45: =D45/($D$42+$D$43+$D$44+$D$45+$D$46+$D$47+$D$48+$D$49+$D$50) -> 0.10729956
C46: צפת | D46: 25000 | E46: צפת | F46: 5000 | G46: בסיסי | H46: =$B$2-0.000012*F46 -> 1.6107729 | I46: =D46/($D$42+$D$43+$D$44+$D$45+$D$46+$D$47+$D$48+$D$49+$D$50) -> 0.25569431
C47: גוש חלב | D47: 2899 | E47: דלתון | F47: 1000 | G47: ירוד | H47: =$B$1-0.000007*F47 -> 0.6816092 | I47: =D47/($D$42+$D$43+$D$44+$D$45+$D$46+$D$47+$D$48+$D$49+$D$50) -> 0.029650312
C48: פסוטה | D48: 2886 | E48: פסוטה | F48: 1500 | G48: ללא | H48: 0 | I48: =D48/($D$42+$D$43+$D$44+$D$45+$D$46+$D$47+$D$48+$D$49+$D$50) -> 0.029517351
C49: חורפיש | D49: 5486 | E49: געתון | F49: 4500 | G49: בסיסי | H49: =$B$2-0.000012*F49 -> 1.6167729 | I49: =D49/($D$42+$D$43+$D$44+$D$45+$D$46+$D$47+$D$48+$D$49+$D$50) -> 0.05610956
C50: יסוד המעלה | D50: 1439 | E50: יסוד המעלה | F50: 1000 | G50: ירוד | H50: =$B$1-0.000007*F50 -> 0.6816092 | I50: =D50/($D$42+$D$43+$D$44+$D$45+$D$46+$D$47+$D$48+$D$49+$D$50) -> 0.014717765
A51: 15 | B51: מי ברק בע"מ | C51: בני ברק | E51: שפד"ן | F51: 35000 | G51: בסיסי | H51: =$B$2-0.000012*F51 -> 1.2507729 | I51: 1 | J51: =+I51*H51 -> 1.2507729 | K51: =+IF($B$6=0,J51,$B$6*(1-HLOOKUP(B51,'[7]תחשיב תעריף 2016'!$4:$26,17,0))) -> 2.2372842 | M51: שדרוג חיצוני
B52: מי ציונה בע"מ | C52: מזכרת בתיה, קרית עקרון | E52: ברנר | F52: 6000 | G52: ללא מגבלות | H52: =$B$3-0.000012*F52 -> 1.9172049 | I52: =1746/(1746+2573) -> 0.40426025 | J52: =+I53*H53+I52*H52 -> 1.6693532 | K52: =+J52 -> 1.6693532
A53: 16 | C53: נס ציונה | E53: שפד"ן | F53: 35000 | G53: בסיסי | H53: =+J135 -> 1.5011647 | I53: =1-I52 -> 0.59573975 | M53: שדרוג חיצוני
A54: 17 | B54: מי לוד בע"מ | C54: לוד | E54: איילון | F54: 35000 | G54: בסיסי | H54: =$B$2-0.000012*F54 -> 1.2507729 | I54: 1 | J54: =+I54*H54 -> 1.2507729 | K54: =+IF($B$7=0,J54,$B$7*(1-HLOOKUP(B54,'[7]תחשיב תעריף 2016'!$4:$26,17,0)))+0.356 -> 1.1465454
A55: 18 | B55: תמ"ר תאגיד מים רמלה בע"מ | C55: קריית מלאכי | D55: 21336 | E55: תמורים | F55: 6000 | G55: בסיסי | H55: =$B$2-0.000012*F55 -> 1.5987729 | I55: =+D55/(D55+D56+D57) -> 0.17409468 | K55: =L55*I57+I55*H55+I56*H56 -> 1.4263232 | L55: =+IF($B$7=0,J57*I57,$B$7*(1-HLOOKUP(B55,'[7]תחשיב תעריף 2016'!$4:$26,17,0)))+0.374 -> 1.1553624
C56: גדרה, בני עייש | D56: =25225+6959 -> 32184 | E56: נשגב | F56: 8000 | G56: בסיסי | H56: =$B$3-0.000012*F56 -> 1.8932049 | I56: =+D56/(D55+D56+D57) -> 0.26261077
A57: 18 | C57: רמלה | D57: 69034 | E57: איילון | F57: 35000 | G57: בסיסי | H57: =$B$2-0.000012*F57 -> 1.2507729 | I57: =+D57/(D55+D56+D57) -> 0.56329455 | J57: =+I57*H57 -> 0.70455355
A58: 19 | B58: מי חדרה בע"מ | C58: חדרה | D58: 80163 | E58: חדרה | F58: 25000 | G58: בסיסי | H58: =$B$2-0.000012*F58 -> 1.3707729 | I58: 1 | J58: =+I58*H58 -> 1.3707729 | K58: =+J58+L58 -> 1.6337729 | L58: 0.263
C59: אליכין | D59: 2981 | E59: נתניה | F59: 35000
A60: 20 | B60: כפרי גליל תחתון בע"מ | C60: כפר כנא, טורעאן | D60: =18754+11924 -> 30678 | E60: שדה אילן | F60: 6000 | G60: בסיסי | H60: =$B$2-0.000012*F60 -> 1.5987729 | I60: =D60/($D$60+$D$61+$D$62+$D$63+$D$64) -> 0.43280381 | J60: =+I60*H60+I61*H61+I62*H62+I63*H63+I64*H64 -> 1.1398666 | K60: =+J60 -> 1.1398666
C61: בועיינה-ניגידאת | D61: 8000 | E61: בית נטופה | F61: 3000 | G61: בסיסי | H61: =$B$2-0.000012*F61 -> 1.6347729 | I61: =D61/($D$60+$D$61+$D$62+$D$63+$D$64) -> 0.11286363
C62: דבוריה , שיבלי | D62: =8999+4978 -> 13977 | E62: דברת בית קשת | F62: 0 | G62: ללא | H62: 0 | I62: =D62/($D$60+$D$61+$D$62+$D$63+$D$64) -> 0.19718687
C63: עין מאהל | D63: 11170 | E63: דברת | F63: 2800 | G63: ירוד | H63: =$B$1-0.000007*F63 -> 0.6690092 | I63: =D63/($D$60+$D$61+$D$62+$D$63+$D$64) -> 0.15758585
C64: משהד | D64: 7057 | E64: רנ"י | F64: 7000 | G64: בסיסי | H64: =$B$2-0.000012*F64 -> 1.5867729 | I64: =D64/($D$60+$D$61+$D$62+$D$63+$D$64) -> 0.099559832
A65: 21 | B65: מי עירון בע"מ | C65: א.א.פחם,ערערה,כפר קרע,בסמ"ה, באקה-ג'ת | E65: עין שמר | F65: 10000 | G65: בסיסי | H65: =$B$2-0.000012*F65 -> 1.5507729 | I65: 0.73 | J65: =+I65*H65+I66*H66+I67*H67 -> 1.5685178 | K65: =+J65+0.2827 -> 1.8512178
E66: בקה | F66: 3500 | G66: ללא מגבלות | H66: =$B$3-0.000013*F66 -> 1.9437049 | I66: 0.2
C67: מעלה עירון | E67: מעלה עירון | F67: 1000 | G67: ירוד | H67: =$B$1-0.000007*F67 -> 0.6816092 | I67: 0.07
A68: 22 | B68: הרי נצרת מפעלי מים וביוב בע"מ | C68: נצרת, יפיע | E68: תל עדשים | F68: 15000 | G68: בסיסי | H68: =$B$2-0.000012*F68 -> 1.4907729 | I68: 0.65 | J68: =+I68*H68+I69*H69+I70*H70 -> 1.4325965 | K68: =+J68 -> 1.4325965
C69: ריינה, עילוט | E69: רנ"י | F69: 7000 | G69: בסיסי | H69: =$B$2-0.000012*F69 -> 1.5867729 | I69: 0.25
C70: איכסאל | E70: דברת | F70: 2800 | G70: ירוד | H70: =$B$1-0.000007*F70 -> 0.6690092 | I70: 0.1
A71: 23 | B71: מעיינות זיו | C71: מעלות תרשיחא, כפר ורדים, כסרא-סמיע | D71: =20616+5500+7354 -> 33470 | E71: געתון | F71: 4500 | G71: בסיסי | H71: =$B$2-0.000012*F71 -> 1.6167729 | I71: =D71/($D$71+$D$72) -> 0.84899678 | J71: =+I71*H71+I72*H72 -> 1.619491 | K71: =+J71 -> 1.619491
C72: שלומי | D72: 5953 | E72: שלומי | F72: 3000 | G72: בסיסי | H72: =$B$2-0.000012*F72 -> 1.6347729 | I72: =D72/($D$71+$D$72) -> 0.15100322
A73: 24 | B73: מעיינות אתא | C73: קרית אתא | E73: חיפה | F73: 35000 | G73: בסיסי | H73: =IF(E73=A5,$B$5*(1-HLOOKUP(B73,'[7]תחשיב תעריף 2016'!$4:$26,17,0)),$B$2-0.000012*F73) -> 1.5308713 | I73: 1 | J73: =+I73*H73 -> 1.5308713 | K73: =+J73 -> 1.5308713
A74: 25 | B74: מי רעננה | C74: רעננה | E74: רעננה | F74: 14000 | G74: ללא מגבלות | H74: =$B$3-0.000013*F74 -> 1.8072049 | I74: 1 | J74: =+I74*H74 -> 1.8072049 | K74: =+J74-L74 -> 1.6822529 | L74: =+P74/Q74/1000 -> 0.12495198 | M74: מכירת מים לחקלאות | N74: 0.15 | O74: 5000000 | P74: =+O74*N74 -> 750000 | Q74: =+'[7]תחשיב תעריף 2016'!AA16 -> 6002.306
A75: 26 | B75: מי קריית גת | C75: קרית גת | E75: קרית גת | F75: 14000 | G75: בסיסי | H75: =$B$2-0.000012*F75 -> 1.5027729 | I75: 1 | J75: =+I75*H75 -> 1.5027729 | K75: =+J75 -> 1.5027729
A76: 27 | B76: מי הרצליה | C76: הרצליה | E76: הרצליה | F76: 18000 | G76: ללא מגבלות | H76: =$B$3-0.000013*F76 -> 1.7552049 | I76: 1 | J76: =+I76*H76 -> 1.7552049 | K76: =+J76-L76 -> 1.7264338 | L76: =+P76/Q76/1000 -> 0.028771065 | M76: מכירת מים לחקלאות | N76: 0.28 | O76: 1000000 | P76: =+O76*N76 -> 280000 | Q76: =+'[7]תחשיב תעריף 2016'!AC16 -> 9732
A77: 28 | B77: שרונים | C77: רמת השרון | E77: רמת השרון | F77: 8500 | G77: נחל | H77: =$B$4-0.000013*F77 -> 2.0916563 | I77: 1 | J77: =+I77*H77 -> 2.0916563 | K77: =+J77-L77+0.08 -> 2.1203167 | L77: =+P77/Q77/1000 -> 0.051339632 | M77: מכירת מים לחקלאות | N77: 0.28 | O77: 800000 | P77: =+O77*N77 -> 224000 | Q77: =+'[7]תחשיב תעריף 2016'!AD16 -> 4363.101
A78: 29 | B78: מי כרמל | C78: חיפה | E78: חיפה | F78: 35000 | G78: בסיסי | H78: =IF(E78=A5,$B$5*(1-HLOOKUP(B78,'[7]תחשיב תעריף 2016'!$4:$26,17,0)),$B$2-0.000012*F78) -> 1.5308713 | I78: 1 | J78: =+I78*H78 -> 1.5308713 | K78: =+J78 -> 1.5308713
A79: 30 | B79: מי יבנה | C79: גן יבנה | D79: 18399 | E79: באר טוביה | F79: 6000 | G79: ירוד | H79: =$B$1-0.000012*F79 -> 0.6166092 | I79: =D79/($D$79+$D$80) -> 0.35806169 | J79: =+I80*H80+I79*H79 -> 1.2470977 | K79: =+J79-R79 -> 1.2470977
C80: יבנה | D80: 32986 | E80: יבנה | F80: 6000 | G80: בסיסי | H80: =$B$2-0.000012*F80 -> 1.5987729 | I80: =D80/($D$79+$D$80) -> 0.64193831
A81: 31 | B81: עין כרמים | C81: כרמיאל | E81: כרמיאל | F81: 20800 | G81: בסיסי | H81: =$B$2-0.000012*F81 -> 1.4211729 | I81: 1 | J81: =+I81*H81 -> 1.4211729 | K81: =+IF($B$8=0,J54,$B$8*(1-HLOOKUP(B81,'[7]תחשיב תעריף 2016'!$4:$26,17,0)))+'[8]לפי תעריף נורמטיבי מעודכן'!$L$14-'[9]חישוב אגרת הולכה למט"ש'!$C$28 -> 1.8293886 | M81: שדרוג חיצוני
A82: 32 | B82: מי רהט | C82: רהט | E82: רהט | F82: 3800 | G82: בסיסי | H82: =$B$2-0.000012*F82 -> 1.6251729 | I82: 1 | J82: =+I82*H82 -> 1.6251729 | K82: =+J82 -> 1.6251729
A83: 34 | B83: עין אפק | C83: ראש העין | E83: שפד"ן | F83: 35000 | G83: בסיסי | H83: =$B$2-0.000012*F83 -> 1.2507729 | I83: 1 | J83: =+I83*H83 -> 1.2507729 | K83: =+J136 -> 1.5946828 | M83: שדרוג חיצוני
A84: 35 | B84: פלגי מוצקין | C84: דלית אל כרמל | D84: 12248 | E84: ניר עציון | F84: 6000 | G84: בסיסי | J84: =+I85*H85 -> 1.5098251 | K84: =+J84 -> 1.5098251
C85: קרית מוצקין | D85: 39228 | E85: חיפה | F85: 35000 | G85: בסיסי | H85: =IF(E85=A5,$B$5*(1-HLOOKUP(B84,'[7]תחשיב תעריף 2016'!$4:$26,17,0)),$B$2-0.000012*F85) -> 1.5098251 | I85: 1
A86: 36 | B86: מי קריית ביאליק | C86: קרית ביאליק | E86: חיפה | F86: 35000 | G86: בסיסי | H86: =IF(E86=A5,$B$5*(1-HLOOKUP(B86,'[7]תחשיב תעריף 2016'!$4:$26,17,0)),$B$2-0.000012*F86) -> 1.5308713 | I86: 1 | J86: =+I86*H86 -> 1.5308713 | K86: =+J86 -> 1.5308713
A87: 38 | B87: אל עין | C87: אבו סנאן, כפר יסיף, ג'וליס, ירכא, ג'דידה - מכר | D87: =+(13151+19736+6036+9371+16048) -> 64342 | E87: עכו | F87: 19200 | G87: ללא מגבלות | H87: =$B$3-0.000012*F87 -> 1.7588049 | I87: =+(13151+19736+6036+9371+16048)/74117 -> 0.86811393 | J87: =+I87*H87+I88*H88+I90*H90 -> 1.6565789 | K87: =+J87 -> 1.6565789
C88: ינוח-ג'ת | D88: =6179 -> 6179 | E88: ינוח-ג'ת | F88: 1000 | G88: ירוד | H88: =$B$1-0.000007*F88 -> 0.6816092 | I88: =6179/74117 -> 0.083368188
C90: מזרעה | D90: =3596 -> 3596 | E90: נהריה | F90: 14000 | G90: בסיסי | H90: =$B$2-0.000012*F90 -> 1.5027729 | I90: =3596/74117 -> 0.048517884
A91: 39 | B91: מי הוד השרון | C91: הוד השרון | E91: כפר סבא-הוד השרון | F91: 22000 | G91: נחל | H91: =$B$4-0.000013*F91 -> 1.9161563 | I91: 1 | J91: =+I91*H91 -> 1.9161563 | K91: =+J91 -> 1.9161563
A92: 41 | B92: מעיינות המשולש | C92: ג'לג'וליה | E92: חורשים | F92: 2000 | G92: ירוד | H92: =$B$1-0.000007*F92 -> 0.6746092 | I92: 0.25 | J92: =+I92*H92+I93*H93+I94*H94 -> 0.92188614 | K92: =+J92 -> 0.92188614
C93: טירה | E93: דרום שרון מזרחי | F93: 14000 | G93: ירוד | H93: =$B$1-0.000007*F93 -> 0.5906092 | I93: 0.28
C94: כפר קסם | E94: שפד"ן | F94: 35000 | G94: בסיסי | H94: =$B$2-0.000012*F94 -> 1.2507729 | I94: 0.47 | M94: שדרוג חיצוני
A95: 42 | B95: ימים | C95: קרית ים | E95: חיפה | F95: 35000 | G95: בסיסי | H95: =IF(E95=$A$5,$B$5*(1-HLOOKUP(B95,'[7]תחשיב תעריף 2016'!$4:$26,17,0)),$B$2-0.000012*F95) -> 1.4773731 | I95: 1 | J95: =+I95*H95 -> 1.4773731 | K95: =+J95 -> 1.4773731
B96: מי תקווה | C96: גני תקווה | E96: =+E97 -> שפד"ן | F96: =+F97 -> 35000 | G96: =+G97 -> בסיסי | H96: =$B$2-0.000012*F96 -> 1.2507729 | I96: 1 | J96: =+I96*H96 -> 1.2507729 | K96: =+J137 -> 2.1332934
A97: 43 | B97: מי אונו | C97: קרית אונו | E97: שפד"ן | F97: 35000 | G97: בסיסי | H97: =$B$2-0.000012*F97 -> 1.2507729 | I97: 1 | J97: =+I97*H97 -> 1.2507729 | K97: =+J143 -> 1.9979746 | M97: שדרוג חיצוני
A98: 44 | B98: מעיינות הדרום | C98: דימונה | D98: 32439 | E98: דימונה | F98: 8000 | G98: בסיסי | H98: =$B$2-0.000012*F98 -> 1.5747729 | I98: =D98/($D$98+$D$99+$D$100+$D$101) -> 0.47244473 | J98: =+I98*H98+I99*H99+I100*H100+I101*H101 -> 1.7654665 | K98: =+J98 -> 1.7654665
C99: ירוחם | D99: 8111 | E99: ירוחם | F99: 1600 | G99: ללא מגבלות | H99: =$B$3-0.000012*F99 -> 1.9700049 | I99: =D99/($D$98+$D$99+$D$100+$D$101) -> 0.11812939
C100: מצפה רמון | D100: 4741 | E100: מצפה רמון | F100: 1300 | G100: בסיסי | H100: =$B$3-0.000013*F100 -> 1.9723049 | I100: =D100/($D$98+$D$99+$D$100+$D$101) -> 0.069048382
C101: ערד | D101: 23371 | E101: ערד | F101: 6000 | G101: ללא מגבלות | H101: =$B$3-0.000012*F101 -> 1.9172049 | I101: =D101/($D$98+$D$99+$D$100+$D$101) -> 0.3403775
A102: 45 | B102: מי אביבים 2010 בע"מ | C102: תל אביב | E102: שפד"ן | F102: 35000 | G102: בסיסי | H102: =$B$2-0.000012*F102 -> 1.2507729 | I102: 1 | J102: =+I102*H102 -> 1.2507729 | K102: =+IF($B$6=0,J102,$B$6*(1-HLOOKUP(B102,'[7]תחשיב תעריף 2016'!$4:$26,17,0))) -> 2.3072336 | M102: שדרוג חיצוני
...

Sheet נתוני מים 2012
B3: נתוני צריכת המים בתאגידי מים וביוב לשנת 2012
C4: תאגידים
B6: מספר | D6: מספר | F6: אוכלוסיה | G6: תקבולים | H6: תקבולים | I6: סה"כ | J6: צריכה | K6: צריכה | L6: צריכה | M6: צריכה | N6: סה"כ | O6: סה"כ | P6: סה"כ | Q6: צר' סגולית | R6: צר' סגולית
B7: סידורי | C7: שם התאגיד | D7: צרכן | E7: שם הישוב | F7: 2011 | G7: הפקה | H7: קניה | I7: תקבולים | J7: במגורים | K7: עירונית | L7: תעשייתית | M7: חקלאית | N7: צריכה | O7: פחת | P7: פחת | Q7: מגורים | R7: עירונית
F8: נפש | G8: מ"ק | H8: מ"ק | I8: מ"ק | J8: מ"ק | K8: מ"ק | L8: מ"ק | M8: מ"ק | N8: מ"ק | O8: מ"ק | P8: % | Q8: מ"ק/נ/שנה | R8: מ"ק/נ/שנה
A9: 2012 | B9: 1 | D9: 639 | E9: אבו סנאן | F9: 12856 | G9: 0 | H9: 824598 | I9: =SUM(G9:H9) -> 824598 | J9: 616761 | K9: 667566 | L9: 0 | M9: 4422 | N9: =SUM(K9:M9) -> 671988 | O9: =I9-N9 -> 152610 | P9: =O9/I9*100 -> 18.5072 | Q9: =J9/F9 -> 47.974564 | R9: =K9/F9 -> 51.926416
E10: ג'וליס | F10: 5868 | G10: 0 | H10: 494605 | I10: =SUM(G10:H10) -> 494605 | J10: 313330 | K10: 364715 | L10: 0 | M10: 99 | N10: =SUM(K10:M10) -> 364814 | O10: =I10-N10 -> 129791 | P10: =O10/I10*100 -> 26.241344 | Q10: =J10/F10 -> 53.396387 | R10: =K10/F10 -> 62.153204
E11: כפר יאסיף | F11: 8947 | G11: 0 | H11: 716242 | I11: =SUM(G11:H11) -> 716242 | J11: 480811 | K11: 583121 | L11: 0 | M11: 5254 | N11: =SUM(K11:M11) -> 588375 | O11: =I11-N11 -> 127867 | P11: =O11/I11*100 -> 17.852486 | Q11: =J11/F11 -> 53.739913 | R11: =K11/F11 -> 65.175031
E12: ירכא | F12: 15343 | G12: 0 | H12: 1447897 | I12: =SUM(G12:H12) -> 1447897 | J12: 851729 | K12: 1061589 | L12: 64314 | M12: 71980 | N12: =SUM(K12:M12) -> 1197883 | O12: =I12-N12 -> 250014 | P12: =O12/I12*100 -> 17.267388 | Q12: =J12/F12 -> 55.512546 | R12: =K12/F12 -> 69.190445
E13: ג'דידה אלמכר | F13: 18988 | G13: 0 | H13: 1376606 | I13: =SUM(G13:H13) -> 1376606 | J13: 1065763 | K13: 1164423 | L13: 0 | M13: 2645 | N13: =SUM(K13:M13) -> 1167068 | O13: =I13-N13 -> 209538 | P13: =O13/I13*100 -> 15.221349 | Q13: =J13/F13 -> 56.128239 | R13: =K13/F13 -> 61.324152
E14: מזרעה | F14: 3484 | G14: 0 | H14: 256113 | I14: =SUM(G14:H14) -> 256113 | J14: 163711 | K14: 173383 | L14: 0 | M14: 19213 | N14: =SUM(K14:M14) -> 192596 | O14: =I14-N14 -> 63517 | P14: =O14/I14*100 -> 24.800381 | Q14: =J14/F14 -> 46.98938 | R14: =K14/F14 -> 49.765499
E15: יאנוח-ג'ת | F15: 5878 | G15: 0 | H15: 463258 | I15: =SUM(G15:H15) -> 463258 | J15: 363242 | K15: 394979 | L15: 0 | M15: 3800 | N15: =SUM(K15:M15) -> 398779 | O15: =I15-N15 -> 64479 | P15: =O15/I15*100 -> 13.918594 | Q15: =J15/F15 -> 61.79687 | R15: =K15/F15 -> 67.196155
C16: אל עין | E16: סה"כ תאגיד | F16: =SUM(F9:F15) -> 71364 | G16: =SUM(G9:G13) -> 0 | H16: =SUM(H9:H15) -> 5579319 | I16: =SUM(I9:I15) -> 5579319 | J16: =SUM(J9:J15) -> 3855347 | K16: =SUM(K9:K15) -> 4409776 | L16: =SUM(L9:L15) -> 64314 | M16: =SUM(M9:M15) -> 107413 | N16: =SUM(N9:N15) -> 4581503 | O16: =SUM(O9:O15) -> 997816 | P16: =O16/I16*100 -> 17.88419 | Q16: =J16/F16 -> 54.023695 | R16: =K16/F16 -> 61.792725
A17: 2012 | B17: 2 | D17: 8625 | E17: ירושלים | F17: 804355 | G17: 0 | H17: 58792586 | I17: =SUM(G17,H17) -> 58792586 | J17: 30179993 | K17: 47891462 | L17: 2874759 | M17: 381590 | N17: =SUM(K17:M17) -> 51147811 | O17: =I17-N17 -> 7644775 | P17: =O17/I17*100 -> 13.002958 | Q17: =J17/F17 -> 37.520738 | R17: =K17/F17 -> 59.540206
E18: אבו גוש | F18: 6270 | G18: 0 | H18: 413239 | I18: =SUM(G18:H18) -> 413239 | J18: 251399 | K18: 285494 | L18: 0 | M18: 660 | N18: =SUM(K18:M18) -> 286154 | O18: =I18-N18 -> 127085 | P18: =O18/I18*100 -> 30.75339 | Q18: =J18/F18 -> 40.095534 | R18: =K18/F18 -> 45.533333
E19: מבשרת ציון | F19: 25305 | G19: 0 | H19: 1778190 | I19: =SUM(G19:H19) -> 1778190 | J19: 1400194 | K19: 1538910 | L19: 1406 | M19: 0 | N19: =SUM(K19:M19) -> 1540316 | O19: =I19-N19 -> 237874 | P19: =O19/I19*100 -> 13.377311 | Q19: =J19/F19 -> 55.332701 | R19: =K19/F19 -> 60.814464
C20: חברת הגיחון בע"מ תאגיד המים והביוב של ירושלים | E20: סה"כ תאגיד | F20: =SUM(F17:F19) -> 835930 | G20: =SUM(G17:G19) -> 0 | H20: =SUM(H17:H19) -> 60984015 | I20: =SUM(I17:I19) -> 60984015 | J20: =SUM(J17:J19) -> 31831586 | K20: =SUM(K17:K19) -> 49715866 | L20: =SUM(L17:L19) -> 2876165 | M20: =SUM(M17:M19) -> 382250 | ... O20: =SUM(O17:O19) -> 8009734 | P20: =O20/I20*100 -> 13.134153 | Q20: =J20/F20 -> 38.079248 | R20: =K20/F20 -> 59.473719
A21: 2012 | B21: 3 | D21: 765 | E21: איכסאל | F21: 12709 | G21: 0 | H21: 853692 | I21: =SUM(G21:H21) -> 853692 | J21: 658638 | K21: 805520 | L21: 0 | M21: 10521 | N21: =SUM(K21:M21) -> 816041 | O21: =I21-N21 -> 37651 | P21: =O21/I21*100 -> 4.4103728 | Q21: =J21/F21 -> 51.824534 | R21: =K21/F21 -> 63.381855
E22: ריינה | F22: 17532 | G22: 0 | H22: 1372295 | I22: =SUM(G22:H22) -> 1372295 | J22: 885382 | K22: 1022932 | L22: 43467 | M22: 0 | N22: =SUM(K22:M22) -> 1066399 | O22: =I22-N22 -> 305896 | P22: =O22/I22*100 -> 22.290834 | Q22: =J22/F22 -> 50.500913 | R22: =K22/F22 -> 58.346566
E23: עילוט | F23: 7106 | G23: 0 | H23: 548340 | I23: =SUM(G23:H23) -> 548340 | J23: 356529 | K23: 433492 | L23: 0 | M23: 0 | N23: =SUM(K23:M23) -> 433492 | O23: =I23-N23 -> 114848 | P23: =O23/I23*100 -> 20.944669 | Q23: =J23/F23 -> 50.172952 | R23: =K23/F23 -> 61.003659
E24: יפיע | F24: 17206 | G24: 0 | H24: 943744 | I24: =SUM(G24:H24) -> 943744 | J24: 733369 | K24: 833783 | L24: 0 | M24: 0 | N24: =SUM(K24:M24) -> 833783 | O24: =I24-N24 -> 109961 | P24: =O24/I24*100 -> 11.651571 | Q24: =J24/F24 -> 42.622864 | R24: =K24/F24 -> 48.458852
E25: נצרת | F25: 73658 | G25: 0 | H25: 5297189 | I25: =SUM(G25,H25) -> 5297189 | J25: 2851268 | K25: 3638093 | L25: 133041 | M25: 14255 | N25: =SUM(K25:M25) -> 3785389 | O25: =I25-N25 -> 1511800 | P25: =O25/I25*100 -> 28.539665 | Q25: =J25/F25 -> 38.70955 | R25: =K25/F25 -> 49.391689
C26: הרי נצרת מפעלי מים וביוב בע"מ | E26: סה"כ תאגיד | F26: =SUM(F21:F25) -> 128211 | G26: =SUM(G21:G25) -> 0 | H26: =SUM(H21:H25) -> 9015260 | I26: =SUM(I21:I25) -> 9015260 | J26: =SUM(J21:J25) -> 5485186 | K26: =SUM(K21:K25) -> 6733820 | L26: =SUM(L21:L25) -> 176508 | M26: =SUM(M21:M25) -> 24776 | ... O26: =SUM(O21:O25) -> 2080156 | P26: =O26/I26*100 -> 23.073722 | Q26: =J26/F26 -> 42.782491 | R26: =K26/F26 -> 52.521391
A27: 2012 | B27: 4 | D27: 718 | E27: מטולה | F27: 1568 | G27: 0 | H27: 224311 | I27: =SUM(G27,H27) -> 224311 | J27: 119876 | K27: 189867 | L27: 16493 | M27: 0 | N27: =SUM(K27:M27) -> 206360 | O27: =I27-N27 -> 17951 | P27: =O27/I27*100 -> 8.0027284 | Q27: =J27/F27 -> 76.451531 | R27: =K27/F27 -> 121.08865
E28: קרית שמונה | F28: 22992 | G28: 0 | H28: 1927352 | I28: =SUM(G28,H28) -> 1927352 | J28: 1189309 | K28: 1667302 | L28: 17600 | M28: 6505 | N28: =SUM(K28:M28) -> 1691407 | O28: =I28-N28 -> 235945 | P28: =O28/I28*100 -> 12.241926 | Q28: =J28/F28 -> 51.727079 | R28: =K28/F28 -> 72.516614
E29: קצרין | F29: 6619 | G29: 0 | H29: 770532 | I29: =SUM(G29,H29) -> 770532 | J29: 332975 | K29: 564344 | L29: 106198 | M29: 535 | N29: =SUM(K29:M29) -> 671077 | O29: =I29-N29 -> 99455 | P29: =O29/I29*100 -> 12.907316 | Q29: =J29/F29 -> 50.305937 | R29: =K29/F29 -> 85.261218
C30: התנור מים וביוב בע"מ | E30: סה"כ תאגיד | F30: =SUM(F27:F29) -> 31179 | G30: =SUM(G27:G29) -> 0 | H30: =SUM(H27:H29) -> 2922195 | I30: =SUM(I27:I29) -> 2922195 | J30: =SUM(J27:J29) -> 1642160 | K30: =SUM(K27:K29) -> 2421513 | L30: =SUM(L27:L29) -> 140291 | M30: =SUM(M27:M29) -> 7040 | ... O30: =SUM(O27:O29) -> 353351 | P30: =O30/I30*100 -> 12.091972 | Q30: =J30/F30 -> 52.668783 | R30: =K30/F30 -> 77.664871
A31: 2012 | B31: 5 | D31: 6562 | E31: אשדוד | F31: 212278 | G31: 391670 | H31: 16311488 | I31: =SUM(G31,H31) -> 16703158 | J31: 10043599 | K31: 14219101 | L31: 1588087 | M31: 0 | N31: =SUM(K31:M31) -> 15807188 | O31: =I31-N31 -> 895970 | P31: =O31/I31*100 -> 5.3640755 | Q31: =J31/F31 -> 47.313424 | R31: =K31/F31 -> 66.983394
C32: יובלים אשדוד בע"מ | E32: סה"כ תאגיד | F32: =SUM(F31) -> 212278 | G32: =SUM(G31) -> 391670 | H32: =SUM(H31) -> 16311488 | I32: =SUM(I31) -> 16703158 | J32: =SUM(J31) -> 10043599 | K32: =SUM(K31) -> 14219101 | L32: =SUM(L31) -> 1588087 | M32: =SUM(M31) -> 0 | ... O32: =SUM(O31) -> 895970 | P32: =O32/I32*100 -> 5.3640755 | Q32: =J32/F32 -> 47.313424 | R32: =K32/F32 -> 66.983394 | S32: =+G32/I32 -> 0.023448859
A33: 2012 | B33: =1+B31 -> 6 | D33: 9503 | E33: אריאל | F33: 17849 | G33: 0 | H33: 1258332 | I33: =SUM(G33:H33) -> 1258332 | J33: 773685 | K33: 1170857 | L33: 29492 | M33: 0 | N33: =SUM(K33:M33) -> 1200349 | O33: =I33-N33 -> 57983 | P33: =O33/I33*100 -> 4.6079254 | Q33: =J33/F33 -> 43.346126 | R33: =K33/F33 -> 65.597905
E34: קרני שומרון | F34: 6449 | G34: 0 | H34: 520104 | I34: =SUM(G34:H34) -> 520104 | J34: 305137 | K34: 480833 | L34: 0 | M34: 0 | N34: =SUM(K34:M34) -> 480833 | O34: =I34-N34 -> 39271 | P34: =O34/I34*100 -> 7.5506053 | Q34: =J34/F34 -> 47.315398 | R34: =K34/F34 -> 74.559312
C35: יובלים בשומרון בע"מ | E35: סה"כ תאגיד | F35: =SUM(F33:F34) -> 24298 | G35: =SUM(G33:G34) -> 0 | H35: =SUM(H33:H34) -> 1778436 | I35: =SUM(I33:I34) -> 1778436 | J35: =SUM(J33:J34) -> 1078822 | K35: =SUM(K33:K34) -> 1651690 | L35: =SUM(L33:L34) -> 29492 | M35: =SUM(M33:M34) -> 0 | ... O35: =SUM(O33:O34) -> 97254 | P35: =O35/I35*100 -> 5.4685128 | Q35: =J35/F35 -> 44.399621 | R35: =K35/F35 -> 67.976377
A36: 2012 | B36: 7 | D36: 3143 | E36: קרית ים | F36: 38211 | G36: 0 | H36: 2739936 | I36: =SUM(G36,H36) -> 2739936 | J36: 1905099 | K36: 2392891 | L36: 8880 | M36: 0 | N36: =SUM(K36:M36) -> 2401771 | O36: =I36-N36 -> 338165 | P36: =O36/I36*100 -> 12.342077 | Q36: =J36/F36 -> 49.857345 | R36: =K36/F36 -> 62.623093
C37: ימים | E37: סה"כ תאגיד | F37: =SUM(F36) -> 38211 | G37: =SUM(G36) -> 0 | H37: =SUM(H36) -> 2739936 | I37: =SUM(I36) -> 2739936 | J37: =SUM(J36) -> 1905099 | K37: =SUM(K36) -> 2392891 | L37: =SUM(L36) -> 8880 | M37: =SUM(M36) -> 0 | ... O37: =SUM(O36) -> 338165 | P37: =O37/I37*100 -> 12.342077 | Q37: =J37/F37 -> 49.857345 | R37: =K37/F37 -> 62.623093
A38: 2012 | B38: 8 | D38: 504 | E38: דבוריה | F38: 9335 | G38: 0 | H38: 615736 | I38: =SUM(G38,H38) -> 615736 | J38: 463240 | K38: 518021 | L38: 0 | M38: 4106 | N38: =SUM(K38:M38) -> 522127 | O38: =I38-N38 -> 93609 | P38: =O38/I38*100 -> 15.202782 | Q38: =J38/F38 -> 49.623996 | R38: =K38/F38 -> 55.492341
E39: טורעאן | F39: 12406 | G39: 0 | H39: 849082 | I39: =SUM(G39,H39) -> 849082 | J39: 521505 | K39: 662138 | L39: 0 | M39: 30629 | N39: =SUM(K39:M39) -> 692767 | O39: =I39-N39 -> 156315 | P39: =O39/I39*100 -> 18.409883 | Q39: =J39/F39 -> 42.036515 | R39: =K39/F39 -> 53.3724
E40: שבלי | F40: 5255 | G40: 0 | H40: 378606 | I40: =SUM(G40,H40) -> 378606 | J40: 230734 | K40: 256240 | L40: 0 | M40: 8034 | N40: =SUM(K40:M40) -> 264274 | O40: =I40-N40 -> 114332 | P40: =O40/I40*100 -> 30.198148 | Q40: =J40/F40 -> 43.907517 | R40: =K40/F40 -> 48.76118
E41: בועיינה-נוג'ידאת | F41: 8338 | G41: =SUM(G38:G40) -> 0 | H41: 359533 | I41: =SUM(G41,H41) -> 359533 | J41: 237211 | K41: 276746 | L41: 28588 | M41: 1652 | N41: =SUM(K41:M41) -> 306986 | O41: =I41-N41 -> 52547 | P41: =O41/I41*100 -> 14.615348 | Q41: =J41/F41 -> 28.449388 | R41: =K41/F41 -> 33.190933
E42: כפר כנא | F42: 19703 | G42: 0 | H42: 1366202 | I42: =SUM(G42,H42) -> 1366202 | J42: 766866 | K42: 961871 | L42: 7158 | M42: 21678 | N42: =SUM(K42:M42) -> 990707 | O42: =I42-N42 -> 375495 | P42: =O42/I42*100 -> 27.484589 | Q42: =J42/F42 -> 38.921281 | R42: =K42/F42 -> 48.818505
E43: משהד | F43: 7276 | G43: 0 | H43: 401687 | I43: =SUM(G43,H43) -> 401687 | J43: 288455 | K43: 314625 | L43: 0 | M43: 11507 | N43: =SUM(K43:M43) -> 326132 | O43: =I43-N43 -> 75555 | P43: =O43/I43*100 -> 18.809421 | Q43: =J43/F43 -> 39.644722 | R43: =K43/F43 -> 43.241479
E44: עין מאהל | F44: 11673 | G44: 0 | H44: 684448 | I44: =SUM(G44,H44) -> 684448 | J44: 458395 | K44: 514450 | L44: 0 | M44: 190 | N44: =SUM(K44:M44) -> 514640 | O44: =I44-N44 -> 169808 | P44: =O44/I44*100 -> 24.809482 | Q44: =J44/F44 -> 39.269682 | R44: =K44/F44 -> 44.07179
C45: כפרי גליל תחתון בע"מ | E45: סה"כ תאגיד | F45: =SUM(F38:F44) -> 73986 | G45: =SUM(G38:G43) -> 0 | H45: =SUM(H38:H44) -> 4655294 | I45: =SUM(I38:I44) -> 4655294 | J45: =SUM(J38:J44) -> 2966406 | K45: =SUM(K38:K44) -> 3504091 | L45: =SUM(L38:L44) -> 35746 | M45: =SUM(M38:M44) -> 77796 | N45: =SUM(N38:N44) -> 3617633 | O45: =SUM(O38:O44) -> 1037661 | P45: =O45/I45*100 -> 22.289913 | Q45: =J45/F45 -> 40.094153 | R45: =K45/F45 -> 47.361541
A46: 2012 | B46: 9 | D46: 953 | E46: נצרת עלית | F46: 40582 | G46: 0 | H46: 3229898 | I46: =SUM(G46,H46) -> 3229898 | J46: 1833241 | K46: 2442642 | L46: 420092 | M46: 0 | N46: =SUM(K46:M46) -> 2862734 | O46: =I46-N46 -> 367164 | P46: =O46/I46*100 -> 11.367665 | Q46: =J46/F46 -> 45.173747 | R46: =K46/F46 -> 60.190281
E47: מגדל העמק | F47: 24115 | G47: 0 | H47: 2646692 | I47: =SUM(G47,H47) -> 2646692 | J47: 1059794 | K47: 1403773 | L47: 996386 | M47: 0 | N47: =SUM(K47:M47) -> 2400159 | O47: =I47-N47 -> 246533 | P47: =O47/I47*100 -> 9.3147597 | Q47: =J47/F47 -> 43.947502 | R47: =K47/F47 -> 58.211611
E48: עפולה | F48: 41721 | G48: 0 | H48: 3623473 | I48: 3623473 | J48: 1999303 | K48: 2881147 | L48: 180450 | M48: 17541 | N48: 3079138 | O48: 544335
C49: מי נע חברת המים והביוב של עיריית נצרת עילית בע"מ | E49: סה"כ תאגיד | F49: =SUM(F46:F48) -> 106418 | G49: =SUM(G46:G48) -> 0 | H49: =SUM(H46:H48) -> 9500063 | I49: =SUM(I46:I48) -> 9500063 | J49: =SUM(J46:J48) -> 4892338 | K49: =SUM(K46:K48) -> 6727562 | L49: =SUM(L46:L48) -> 1596928 | M49: =SUM(M46:M48) -> 17541 | ... O49: =SUM(O46:O48) -> 1158032 | P49: =O49/I49*100 -> 12.18973 | Q49: =J49/F49 -> 45.972843 | R49: =K49/F49 -> 63.218271
A50: 2012 | B50: 10 | D50: 8209 | E50: תל אביב-יפו | F50: 404750 | G50: 4508128 | H50: 41402749 | I50: =SUM(G50,H50) -> 45910877 | J50: 26159823 | K50: 39120111 | L50: 1649906 | M50: 22965 | N50: =SUM(K50:M50) -> 40792982 | O50: =I50-N50 -> 5117895 | P50: =O50/I50*100 -> 11.147456 | Q50: =J50/F50 -> 64.632052 | R50: =K50/F50 -> 96.652529
C51: מי אביבים 2010 בע"מ | E51: סה"כ תאגיד | F51: =SUM(F50) -> 404750 | G51: =SUM(G50) -> 4508128 | H51: =SUM(H50) -> 41402749 | I51: =SUM(I50) -> 45910877 | J51: =SUM(J50) -> 26159823 | K51: =SUM(K50) -> 39120111 | L51: =SUM(L50) -> 1649906 | M51: =SUM(M50) -> 22965 | ... O51: =SUM(O50) -> 5117895 | P51: =O51/I51*100 -> 11.147456 | Q51: =J51/F51 -> 64.632052 | R51: =K51/F51 -> 96.652529 | S51: =+G51/I51 -> 0.098193027
A52: 2012 | B52: 11 | D52: 7926 | E52: קרית אונו | F52: 33384 | G52: 2051236 | H52: 478351 | I52: =SUM(G52,H52) -> 2529587 | J52: 1985714 | K52: 2359933 | L52: 0 | M52: 0 | N52: =SUM(K52:M52) -> 2359933 | O52: =I52-N52 -> 169654 | P52: =O52/I52*100 -> 6.7067865 | Q52: =J52/F52 -> 59.481009 | R52: =K52/F52 -> 70.69054
D53: 4485 | E53: יהוד | F53: 27604 | G53: 0 | H53: 2457460 | I53: 2457460 | J53: 1610409 | K53: 2027651 | L53: 62826 | M53: 40255 | N53: 2130732 | O53: 326728 | P53: 13.295354 | Q53: 58.339697 | R53: 73.45497
C54: מי אונו | E54: סה"כ תאגיד | F54: =SUM(F52:F53) -> 60988 | G54: =SUM(G52:G53) -> 2051236 | H54: =SUM(H52:H53) -> 2935811 | I54: =SUM(I52:I53) -> 4987047 | J54: =SUM(J52:J53) -> 3596123 | K54: =SUM(K52:K53) -> 4387584 | L54: =SUM(L52:L53) -> 62826 | M54: =SUM(M52:M53) -> 40255 | ... O54: =SUM(O52:O53) -> 496382 | P54: =O54/I54*100 -> 9.9534253 | Q54: =J54/F54 -> 58.964436 | R54: =K54/F54 -> 71.941759 | S54: =+G54/I54 -> 0.41131275
A55: 2012 | B55: 12 | D55: 6590 | E55: אשקלון | F55: 117429 | G55: 0 | H55: 10517791 | I55: =SUM(G55,H55) -> 10517791 | J55: 5850567 | K55: 7936971 | L55: 933010 | M55: 81035 | N55: =SUM(K55:M55) -> 8951016 | O55: =I55-N55 -> 1566775 | P55: =O55/I55*100 -> 14.896426 | Q55: =J55/F55 -> 49.822165 | R55: =K55/F55 -> 67.589531
E56: נתיבות | F56: 27978 | G56: 0 | H56: 2221139 | I56: =SUM(G56,H56) -> 2221139 | J56: 1282344 | K56: 1718603 | L56: 42519 | M56: 0 | N56: =SUM(K56:M56) -> 1761122 | O56: =I56-N56 -> 460017 | P56: =O56/I56*100 -> 20.710861 | Q56: =J56/F56 -> 45.834012 | R56: =K56/F56 -> 61.426943
C57: מי אשקלון | E57: סה"כ תאגיד | F57: =SUM(F55:F56) -> 145407 | G57: =SUM(G55:G56) -> 0 | H57: =SUM(H55:H56) -> 12738930 | I57: =SUM(I55:I56) -> 12738930 | J57: =SUM(J55:J56) -> 7132911 | K57: =SUM(K55:K56) -> 9655574 | L57: =SUM(L55:L56) -> 975529 | M57: =SUM(M55:M56) -> 81035 | ... O57: =SUM(O55:O56) -> 2026792 | P57: =O57/I57*100 -> 15.910222 | Q57: =J57/F57 -> 49.054798 | R57: =K57/F57 -> 66.403777
A58: 2012 | B58: 13 | D58: 7695 | E58: בני ברק | F58: 163301 | G58: 3597943 | H58: 6805016 | I58: =SUM(G58,H58) -> 10402959 | J58: 6967448 | K58: 9272659 | L58: 759591 | M58: 0 | N58: =SUM(K58:M58) -> 10032250 | O58: =I58-N58 -> 370709 | P58: =O58/I58*100 -> 3.5634957 | Q58: =J58/F58 -> 42.666291 | R58: =K58/F58 -> 56.782622 | S58: =+G58/I58 -> 0.34585765
C59: מי ברק בע"מ | E59: סה"כ תאגיד | F59: =SUM(F58) -> 163301 | G59: =SUM(G58) -> 3597943 | H59: =SUM(H58) -> 6805016 | I59: =SUM(I58) -> 10402959 | J59: =SUM(J58) -> 6967448 | K59: =SUM(K58) -> 9272659 | L59: =SUM(L58) -> 759591 | M59: =SUM(M58) -> 0 | ... O59: =SUM(O58) -> 370709 | P59: =O59/I59*100 -> 3.5634957 | Q59: =J59/F59 -> 42.666291 | R59: =K59/F59 -> 56.782622 | S59: =+G59/I59 -> 0.34585765
A60: 2012 | B60: 14 | D60: 7739 | E60: בת ים | F60: 128157 | G60: 7351629 | H60: 1747549 | I60: =SUM(G60,H60) -> 9099178 | J60: 6382910 | K60: 7877578 | L60: 199694 | M60: 0 | N60: =SUM(K60:M60) -> 8077272 | O60: =I60-N60 -> 1021906 | P60: =O60/I60*100 -> 11.230751 | Q60: =J60/F60 -> 49.805395 | R60: =K60/F60 -> 61.468184 | S60: =+G60/I60 -> 0.8079443
C61: מי בת ים | E61: סה"כ תאגיד | F61: =SUM(F60) -> 128157 | G61: =SUM(G60) -> 7351629 | H61: =SUM(H60) -> 1747549 | I61: =SUM(I60) -> 9099178 | J61: =SUM(J60) -> 6382910 | K61: =SUM(K60) -> 7877578 | L61: =SUM(L60) -> 199694 | M61: =SUM(M60) -> 0 | ... O61: =SUM(O60) -> 1021906 | P61: =O61/I61*100 -> 11.230751 | Q61: =J61/F61 -> 49.805395 | R61: =K61/F61 -> 61.468184 | S61: =+G61/I61 -> 0.8079443
A62: 2012 | B62: 15 | D62: 7776 | E62: גבעתיים | F62: 54728 | G62: 1910830 | H62: 1777255 | I62: =SUM(G62,H62) -> 3688085 | J62: 3005603 | K62: 3557188 | L62: 0 | M62: 0 | N62: =SUM(K62:M62) -> 3557188 | O62: =I62-N62 -> 130897 | P62: =O62/I62*100 -> 3.5491861 | Q62: =J62/F62 -> 54.918926 | R62: =K62/F62 -> 64.997588 | S62: =+G62/I62 -> 0.51810899
C63: מי גבעתיים | E63: סה"כ תאגיד | F63: =SUM(F62) -> 54728 | G63: =SUM(G62) -> 1910830 | H63: =SUM(H62) -> 1777255 | I63: =SUM(I62) -> 3688085 | J63: =SUM(J62) -> 3005603 | K63: =SUM(K62) -> 3557188 | L63: =SUM(L62) -> 0 | M63: =SUM(M62) -> 0 | ... O63: =SUM(O62) -> 130897 | P63: =O63/I63*100 -> 3.5491861 | Q63: =J63/F63 -> 54.918926 | R63: =K63/F63 -> 64.997588 | S63: =+G63/I63 -> 0.51810899
A64: 2012 | B64: 16 | D64: 1245 | E64: סכנין | F64: 27087 | G64: 0 | H64: 2116821 | I64: =SUM(G64,H64) -> 2116821 | J64: 1116933 | K64: 1359201 | L64: 21075 | M64: 8503 | N64: =SUM(K64:M64) -> 1388779 | O64: =I64-N64 -> 728042 | P64: =O64/I64*100 -> 34.393177 | Q64: =J64/F64 -> 41.23502 | R64: =K64/F64 -> 50.17909
E65: נחף | F65: 11249 | G65: 0 | H65: 668201 | I65: =SUM(G65:H65) -> 668201 | J65: 433540 | K65: 477109 | L65: 0 | M65: 4741 | N65: =SUM(K65:M65) -> 481850 | O65: =I65-N65 -> 186351 | P65: =O65/I65*100 -> 27.888465 | Q65: =J65/F65 -> 38.540315 | R65: =K65/F65 -> 42.413459
E66: דיר חנא | F66: 9248 | G66: 0 | H66: 601569 | I66: =SUM(G66:H66) -> 601569 | J66: 403928 | K66: 463319 | L66: 0 | M66: 6219 | N66: =SUM(K66:M66) -> 469538 | O66: =I66-N66 -> 132031 | P66: =O66/I66*100 -> 21.947773 | Q66: =J66/F66 -> 43.677336 | R66: =K66/F66 -> 50.099373
E67: בענה | F67: 7510 | G67: 0 | H67: 598309 | I67: =SUM(G67:H67) -> 598309 | J67: 353928 | K67: 411655 | L67: 0 | M67: 23775 | N67: =SUM(K67:M67) -> 435430 | O67: =I67-N67 -> 162879 | P67: =O67/I67*100 -> 27.223224 | Q67: =J67/F67 -> 47.127563 | R67: =K67/F67 -> 54.814248
E68: עראבה | F68: 22229 | G68: 0 | H68: 1691215 | I68: =SUM(G68,H68) -> 1691215 | J68: 1082921 | K68: 1240750 | L68: 45468 | M68: 32014 | N68: =SUM(K68:M68) -> 1318232 | O68: =I68-N68 -> 372983 | P68: =O68/I68*100 -> 22.054145 | Q68: =J68/F68 -> 48.716586 | R68: =K68/F68 -> 55.816726
E69: מגד' אל כרום | F69: 13789 | G69: 0 | H69: 912164 | I69: =SUM(G69:H69) -> 912164 | J69: 642637 | K69: 725796 | L69: 0 | M69: 0 | N69: =SUM(K69:M69) -> 725796 | O69: =I69-N69 -> 186368 | P69: =O69/I69*100 -> 20.431414 | Q69: =J69/F69 -> 46.605048 | R69: =K69/F69 -> 52.635869
E70: דיר אל עסד | F70: 10942 | G70: 0 | H70: 862195 | I70: =SUM(G70:H70) -> 862195 | J70: 427678 | K70: 469576 | L70: 0 | M70: 55816 | N70: =SUM(K70:M70) -> 525392 | O70: =I70-N70 -> 336803 | P70: =O70/I70*100 -> 39.063437 | Q70: =J70/F70 -> 39.085908 | R70: =K70/F70 -> 42.915006
C71: מי גליל | E71: סה"כ תאגיד | F71: =SUM(F64:F70) -> 102054 | G71: =SUM(G64:G70) -> 0 | H71: =SUM(H64:H70) -> 7450474 | I71: =SUM(I64:I70) -> 7450474 | J71: =SUM(J64:J70) -> 4461565 | K71: =SUM(K64:K70) -> 5147406 | L71: =SUM(L64:L70) -> 66543 | M71: =SUM(M64:M70) -> 131068 | ... O71: =SUM(O64:O70) -> 2105457 | P71: =O71/I71*100 -> 28.25937 | Q71: =J71/F71 -> 43.717689 | R71: =K71/F71 -> 50.438062
A72: 2012 | B72: 17 | D72: 4014 | E72: הוד השרון | F72: 49943 | G72: 38930 | H72: 4593090 | I72: =SUM(G72,H72) -> 4632020 | J72: 2991094 | K72: 3875920 | L72: 119475 | M72: 304750 | N72: =SUM(K72:M72) -> 4300145 | O72: =I72-N72 -> 331875 | P72: =O72/I72*100 -> 7.1648007 | Q72: =J72/F72 -> 59.890155 | R72: =K72/F72 -> 77.606872 | S72: =+G72/I72 -> 0.0084045406
C73: מי הוד השרון | E73: סה"כ תאגיד | F73: =SUM(F72) -> 49943 | G73: =SUM(G72) -> 38930 | H73: =SUM(H72) -> 4593090 | I73: =SUM(I72) -> 4632020 | J73: =SUM(J72) -> 2991094 | K73: =SUM(K72) -> 3875920 | L73: =SUM(L72) -> 119475 | M73: =SUM(M72) -> 304750 | ... O73: =SUM(O72) -> 331875 | P73: =O73/I73*100 -> 7.1648007 | Q73: =J73/F73 -> 59.890155 | R73: =K73/F73 -> 77.606872 | S73: =+G73/I73 -> 0.0084045406
A74: 2012 | B74: =1+B72 -> 18 | D74: 7803 | E74: הרצליה | F74: 88734 | G74: 3114450 | H74: 6857306 | I74: =SUM(G74,H74) -> 9971756 | J74: 6583597 | K74: 9138887 | L74: 296089 | M74: 53234 | N74: =SUM(K74:M74) -> 9488210 | O74: =I74-N74 -> 483546 | P74: =O74/I74*100 -> 4.849156 | Q74: =J74/F74 -> 74.194751 | R74: =K74/F74 -> 102.99194 | S74: =+G74/I74 -> 0.31232714
C75: מי הרצליה | E75: סה"כ תאגיד | F75: =SUM(F74) -> 88734 | G75: =SUM(G74) -> 3114450 | H75: =SUM(H74) -> 6857306 | I75: =SUM(I74) -> 9971756 | J75: =SUM(J74) -> 6583597 | K75: =SUM(K74) -> 9138887 | L75: =SUM(L74) -> 296089 | M75: =SUM(M74) -> 53234 | ... O75: =SUM(O74) -> 483546 | P75: =O75/I75*100 -> 4.849156 | Q75: =J75/F75 -> 74.194751 | R75: =K75/F75 -> 102.99194 | S75: =+G75/I75 -> 0.31232714
A76: 2012 | B76: =1+B74 -> 19 | D76: 2177 | E76: חדרה | F76: 82489 | G76: 2199575 | H76: 4972919 | I76: =SUM(G76,H76) -> 7172494 | J76: 4223935 | K76: 5855679 | L76: 154433 | M76: 31156 | N76: =K76+L76+M76 -> 6041268 | O76: =I76-N76 -> 1131226 | P76: =O76/I76*100 -> 15.771725 | Q76: =J76/F76 -> 51.20604 | R76: =K76/F76 -> 70.987392 | S76: =+G76/I76 -> 0.30666809
C77: מי חדרה בע"מ | E77: סה"כ תאגיד | F77: =SUM(F76:F76) -> 82489 | G77: =SUM(G76:G76) -> 2199575 | H77: =SUM(H76:H76) -> 4972919 | I77: =SUM(I76:I76) -> 7172494 | J77: =SUM(J76:J76) -> 4223935 | K77: =SUM(K76:K76) -> 5855679 | L77: =SUM(L76:L76) -> 154433 | M77: =SUM(M76:M76) -> 31156 | ... O77: =SUM(O76:O76) -> 1131226 | P77: =O77/I77*100 -> 15.771725 | Q77: =J77/F77 -> 51.20604 | R77: =K77/F77 -> 70.987392 | S77: =+G77/I77 -> 0.30666809
A78: 2012 | B78: =1+B76 -> 20 | D78: 4567 | E78: יבנה | F78: 33333 | G78: 0 | H78: 3633772 | I78: =SUM(G78,H78) -> 3633772 | J78: 1807662 | K78: 2651768 | L78: 299969 | M78: 0 | N78: =SUM(K78:M78) -> 2951737 | O78: =I78-N78 -> 682035 | P78: =O78/I78*100 -> 18.769339 | Q78: =J78/F78 -> 54.230402 | R78: =K78/F78 -> 79.553836
E79: גן יבנה | F79: 20460 | G79: 507050 | H79: 1185828 | I79: =SUM(G79,H79) -> 1692878 | J79: 1134560 | K79: 1338074 | L79: 66976 | M79: 38909 | N79: =SUM(K79:M79) -> 1443959 | O79: =I79-N79 -> 248919 | P79: =O79/I79*100 -> 14.703895 | Q79: =J79/F79 -> 55.45259 | R79: =K79/F79 -> 65.399511 | S79: =+G79/I79 -> 0.29951952
C80: מי יבנה | E80: סה"כ תאגיד | F80: =SUM(F78:F79) -> 53793 | G80: =SUM(G78:G79) -> 507050 | H80: =SUM(H78:H79) -> 4819600 | I80: =SUM(I78:I79) -> 5326650 | J80: =SUM(J78:J79) -> 2942222 | K80: =SUM(K78:K79) -> 3989842 | L80: =SUM(L78:L79) -> 366945 | M80: =SUM(M78:M79) -> 38909 | ... O80: =SUM(O78:O79) -> 930954 | P80: =O80/I80*100 -> 17.477289 | Q80: =J80/F80 -> 54.695258 | R80: =K80/F80 -> 74.170282 | S80: =+G80/I80 -> 0.095191161
A81: חסר | B81: 21 | D81: 2473 | E81: חיפה | F81: 270348 | G81: 0 | H81: 23482100 | I81: =SUM(G81,H81) -> 23482100 | J81: 10871842 | K81: 18803366 | L81: 1624389 | M81: 0 | N81: =SUM(K81:M81) -> 20427755 | O81: =I81-N81 -> 3054345 | P81: =O81/I81*100 -> 13.00712 | Q81: =J81/F81 -> 40.21425 | R81: =K81/F81 -> 69.552451
C82: מי כרמל | E82: סה"כ תאגיד | F82: =SUM(F81) -> 270348 | G82: =SUM(G81) -> 0 | H82: =SUM(H81) -> 23482100 | I82: =SUM(I81) -> 23482100 | J82: =SUM(J81) -> 10871842 | K82: =SUM(K81) -> 18803366 | L82: =SUM(L81) -> 1624389 | M82: =SUM(M81) -> 0 | ... O82: =SUM(O81) -> 3054345 | P82: =O82/I82*100 -> 13.00712 | Q82: =J82/F82 -> 40.21425 | R82: =K82/F82 -> 69.552451
A83: 2012 | B83: 22 | D83: 4762 | E83: לוד | F83: 70270 | G83: 0 | H83: 5178021 | I83: =SUM(H83) -> 5178021 | J83: 3239003 | K83: 4027368 | L83: 211171 | M83: 0 | N83: =SUM(K83:M83) -> 4238539 | O83: =I83-N83 -> 939482 | P83: =O83/I83*100 -> 18.14365 | Q83: =J83/F83 -> 46.093682 | R83: =K83/F83 -> 57.312765
C84: מי לוד בע"מ | E84: סה"כ תאגיד | F84: =SUM(F83) -> 70270 | G84: =SUM(G83) -> 0 | H84: =SUM(H83) -> 5178021 | I84: =SUM(I83) -> 5178021 | J84: =SUM(J83) -> 3239003 | K84: =SUM(K83) -> 4027368 | L84: =SUM(L83) -> 211171 | M84: =SUM(M83) -> 0 | ... O84: =SUM(O83) -> 939482 | P84: =O84/I84*100 -> 18.14365 | Q84: =J84/F84 -> 46.093682 | R84: =K84/F84 -> 57.312765
A85: 2012 | B85: 23 | D85: 4919 | E85: מודיעין | F85: 80218 | G85: 0 | H85: 6020294 | I85: =SUM(G85,H85) -> 6020294 | J85: 4216555 | K85: 5511074 | L85: 0 | M85: 0 | N85: =SUM(K85:M85) -> 5511074 | O85: =I85-N85 -> 509220 | P85: =O85/I85*100 -> 8.4583909 | Q85: =J85/F85 -> 52.563701 | R85: =K85/F85 -> 68.701214
C86: מי מודיעין | E86: סה"כ תאגיד | F86: =SUM(F85) -> 80218 | G86: =SUM(G85) -> 0 | H86: =SUM(H85) -> 6020294 | I86: =SUM(I85) -> 6020294 | J86: =SUM(J85) -> 4216555 | K86: =SUM(K85) -> 5511074 | L86: =SUM(L85) -> 0 | M86: =SUM(M85) -> 0 | ... O86: =SUM(O85) -> 509220 | P86: =O86/I86*100 -> 8.4583909 | Q86: =J86/F86 -> 52.563701 | R86: =K86/F86 -> 68.701214
A87: 2012 | B87: 24 | D87: 5316 | E87: נתניה | F87: 189678 | G87: 6716540 | H87: 9334321 | I87: =SUM(G87,H87) -> 16050861 | J87: 10050778 | K87: 13438806 | L87: 1161019 | M87: 8521 | N87: =SUM(K87:M87) -> 14608346 | O87: =I87-N87 -> 1442515 | P87: =O87/I87*100 -> 8.9871503 | Q87: =J87/F87 -> 52.988633 | R87: =K87/F87 -> 70.850631 | S87: =+G87/I87 -> 0.41845356
C88: מי נתניה (2003) בע"מ | E88: סה"כ תאגיד | F88: =SUM(F87) -> 189678 | G88: =SUM(G87) -> 6716540 | H88: =SUM(H87) -> 9334321 | I88: =SUM(I87) -> 16050861 | J88: =SUM(J87) -> 10050778 | K88: =SUM(K87) -> 13438806 | L88: =SUM(L87) -> 1161019 | M88: =SUM(M87) -> 8521 | ... O88: =SUM(O87) -> 1442515 | P88: =O88/I88*100 -> 8.9871503 | Q88: =J88/F88 -> 52.988633 | R88: =K88/F88 -> 70.850631 | S88: =+G88/I88 -> 0.41845356
A89: 2012 | B89: =1+B87 -> 25 | D89: 2586 | E89: אום אל פחם | F89: 48455 | G89: 0 | H89: 3189002 | I89: =SUM(G89,H89) -> 3189002 | J89: 2239224 | K89: 2561498 | L89: 39947 | M89: 78181 | N89: =SUM(K89:M89) -> 2679626 | O89: =I89-N89 -> 509376 | P89: =O89/I89*100 -> 15.972897 | Q89: =J89/F89 -> 46.212445 | R89: =K89/F89 -> 52.86344
E90: כפר קרע | F90: 16342 | G90: 0 | H90: 1382949 | I90: =SUM(G90:H90) -> 1382949 | J90: 848462 | K90: 1067129 | L90: 57030 | M90: 32600 | N90: =SUM(K90:M90) -> 1156759 | O90: =I90-N90 -> 226190 | P90: =O90/I90*100 -> 16.355628 | Q90: =J90/F90 -> 51.919104 | R90: =K90/F90 -> 65.29978
E91: ערערה | F91: 8760 | G91: 0 | H91: 498631 | I91: =SUM(G91:H91) -> 498631 | J91: 332280 | K91: 385532 | L91: 0 | M91: 1607 | N91: =SUM(K91:M91) -> 387139 | O91: =I91-N91 -> 111492 | P91: =O91/I91*100 -> 22.359621 | Q91: =J91/F91 -> 37.931507 | R91: =K91/F91 -> 44.010502
E92: בסמ"ה | F92: 500 | G92: 0 | H92: 152845 | I92: =SUM(G92:H92) -> 152845 | J92: 78071 | K92: 108869 | L92: 0 | M92: 1671 | N92: =SUM(K92:M92) -> 110540 | O92: =I92-N92 -> 42305 | P92: =O92/I92*100 -> 27.678367 | Q92: =J92/F92 -> 156.142 | R92: =K92/F92 -> 217.738
E93: מעלה עירון | F93: 1900 | G93: 0 | H93: 177068 | I93: =SUM(G93,H93) -> 177068 | J93: 119429 | K93: 132074 | L93: 0 | M93: 2490 | N93: =SUM(K93:M93) -> 134564 | O93: =I93-N93 -> 42504 | P93: =O93/I93*100 -> 24.004337 | Q93: =J93/F93 -> 62.857368 | R93: =K93/F93 -> 69.512632
E94: באקה-ג'ת | F94: 36176 | H94: 2740185 | I94: =SUM(G94,H94) -> 2740185 | J94: 1609160 | K94: 2093345 | L94: 53000 | M94: 39841 | N94: =SUM(K94:M94) -> 2186186 | O94: =I94-N94 -> 553999 | P94: =O94/I94*100 -> 20.217577 | Q94: =J94/F94 -> 44.481424 | R94: =K94/F94 -> 57.865574 | S94: =+G94/I94 -> 0
D95: 5402 | E95: זמר | F95: 5883 | G95: 0 | H95: 260723 | I95: 260723 | J95: 202420 | K95: 247831 | L95: 0 | M95: 1013 | N95: 248844 | O95: 11879 | P95: 4.5561765 | Q95: 34.407615 | R95: 42.126636
C96: מי עירון בע"מ | E96: סה"כ תאגיד | F96: =SUM(F89:F95) -> 118016 | G96: =SUM(G89:G95) -> 0 | H96: =SUM(H89:H95) -> 8401403 | I96: =SUM(I89:I95) -> 8401403 | J96: =SUM(J89:J95) -> 5429046 | K96: =SUM(K89:K95) -> 6596278 | L96: =SUM(L89:L95) -> 149977 | M96: =SUM(M89:M95) -> 157403 | ... O96: =SUM(O89:O95) -> 1497745 | P96: =O96/I96*100 -> 17.82732 | Q96: =J96/F96 -> 46.002627 | R96: =K96/F96 -> 55.893082
A97: 2012 | B97: 26 | D97: 1224 | E97: עכו עיריה | F97: 46464 | G97: 0 | H97: 3561609 | I97: =SUM(G97,H97) -> 3561609 | J97: 2008315 | K97: 2780999 | L97: 303118 | M97: 94746 | N97: =SUM(K97:M97) -> 3178863 | O97: =I97-N97 -> 382746 | P97: =O97/I97*100 -> 10.746435 | Q97: =J97/F97 -> 43.223033 | R97: =K97/F97 -> 59.852768
C98: מי עכו | E98: סה"כ תאגיד | F98: =SUM(F97) -> 46464 | G98: =SUM(G97) -> 0 | H98: =SUM(H97) -> 3561609 | I98: =SUM(I97) -> 3561609 | J98: =SUM(J97) -> 2008315 | K98: =SUM(K97) -> 2780999 | L98: =SUM(L97) -> 303118 | M98: =SUM(M97) -> 94746 | ... O98: =SUM(O97) -> 382746 | P98: =O98/I98*100 -> 10.746435 | Q98: =J98/F98 -> 43.223033 | R98: =K98/F98 -> 59.852768
A99: 2012 | B99: 27 | D99: 5243 | E99: נס ציונה | F99: 41251 | G99: 2059084 | H99: 1399745 | I99: =SUM(G99,H99) -> 3458829 | J99: 2247889 | K99: 3119387 | L99: 76918 | M99: 5168 | N99: =SUM(K99:M99) -> 3201473 | O99: =I99-N99 -> 257356 | P99: =O99/I99*100 -> 7.4405529 | Q99: =J99/F99 -> 54.492958 | R99: =K99/F99 -> 75.61967 | S99: =+G99/I99 -> 0.59531246
E100: קריית עקרון | F100: 10506 | G100: 0 | H100: 871726 | I100: 871726 | J100: 626381 | K100: 826779 | L100: 11523 | M100: 0 | N100: 838302 | O100: 33424 | P100: 3.8342323 | Q100: 59.621264 | R100: 78.695888
E101: מזכרת בתיה | F101: 10679 | G101: 0 | H101: 899873 | I101: 899873 | J101: 638800 | K101: 819916 | L101: 0 | M101: 584 | N101: 820500 | O101: 79373 | P101: 8.8204669 | Q101: 59.818335 | R101: 76.77835
C102: מי ציונה בע"מ | E102: סה"כ תאגיד | F102: =SUM(F99) -> 41251 | G102: =SUM(G99) -> 2059084 | H102: =SUM(H99) -> 1399745 | I102: =SUM(I99:I101) -> 5230428 | J102: =SUM(J99:J101) -> 3513070 | K102: =SUM(K99:K101) -> 4766082 | L102: =SUM(L99:L101) -> 88441 | M102: =SUM(M99:M101) -> 5752 | N102: =SUM(N99:N101) -> 4860275 | O102: =SUM(O99:O101) -> 370153 | P102: =O102/I102*100 -> 7.0769161 | Q102: =J102/F102 -> 85.163269 | R102: =K102/F102 -> 115.53858 | S102: =+G102/I102 -> 0.39367409
A103: 2012 | B103: 28 | C103: מי קריית גת | D103: 7315 | E103: קרית גת | F103: 47750 | G103: 0 | H103: 7660522 | I103: =SUM(G103,H103) -> 7660522 | J103: 2194782 | K103: 2785842 | L103: 4253449 | M103: 0 | N103: =SUM(K103:M103) -> 7039291 | O103: =I103-N103 -> 621231 | P103: =O103/I103*100 -> 8.1095126 | Q103: =J103/F103 -> 45.964021 | R103: =K103/F103 -> 58.342241
...

Sheet סל מדדים
H10: 42370 | J10: 42186 | L10: 42005 | N10: 41821 | P10: 41640 | R10: 41456 | T10: 41275 | V10: 41091 | Y10: 40909 | AA10: 40725 | AC10: 40544
B11: מקדם קשר | C11: 1.223 | E11: מדד מחירים | F11: 0.5 | G11: 0.85 | H11: =+'מדד מחירים'!C72/'מדד מחירים'!I72-1 -> -0.0040160643 | I11: =+H11*G11 -> -0.0034136546 | J11: =+'מדד מחירים'!I72/'מדד מחירים'!C71-1 -> -0.0049755143 | K11: =+J11*G11 -> -0.0042291872 | L11: =+'מדד מחירים'!C71/'מדד מחירים'!I71-1 -> 0.00098039216 | M11: =+L11*G11 -> 0.00083333333 | N11: =+'מדד מחירים'!I71/'מדד מחירים'!C70-1 -> -0.0019569472 | O11: =+N11*G11 -> -0.0016634051 | P11: =+'מדד מחירים'!C70/'מדד מחירים'!I70-1 -> 0.011881188 | Q11: =+P11*G11 -> 0.01009901 | R11: =+'מדד מחירים'!I70/'מדד מחירים'!C69-1 -> 0.0071279621 | S11: =+R11*G11 -> 0.0060587678 | T11: =+'מדד מחירים'!C69/'מדד מחירים'!I69-1 -> 0.0018993352 | U11: =+T11*G11 -> 0.0016144349 | V11: =+'מדד מחירים'!I69/'מדד מחירים'!C68-1 -> 0.0125 | W11: =+V11*G11 -> 0.010625 | X11: =+'מדד מחירים'!C68/'מדד מחירים'!I68-1 -> 0.0038610039 | Y11: =+X11*G11 -> 0.0032818533 | Z11: =+'מדד מחירים'!I68/'מדד מחירים'!B67-1 -> 0.017774074 | AA11: =+Z11*F11 -> 0.008887037 | AB11: =+'מדד מחירים'!C67/'מדד מחירים'!I67-1 -> 0.018939394 | AC11: =+AB11*F11 -> 0.009469697
E13: מדד שכר ציבורי | F13: 0.15 | G13: 0.1 | H13: =+'מדד שכר ממוצע'!B8/'מדד שכר ממוצע'!C8-1 -> 0.014093137 | I13: =+H13*G13 -> 0.0014093137 | J13: =+'מדד שכר ממוצע'!C8/'מדד שכר ממוצע'!D8-1 -> 0.0014205199 | K13: =+J13*G13 -> 0.00014205199 | L13: =+'מדד שכר ממוצע'!D8/'מדד שכר ממוצע'!E8-1 -> 0.022271638 | M13: =+L13*G13 -> 0.0022271638 | N13: =+'מדד שכר ממוצע'!E8/'מדד שכר ממוצע'!F8-1 -> 0.0023641554 | O13: =+N13*G13 -> 0.00023641554 | P13: =+'מדד שכר ממוצע'!F8/'מדד שכר ממוצע'!G8-1 -> 0.017927433 | Q13: =+P13*G13 -> 0.0017927433 | R13: =+'מדד שכר ממוצע'!G8*C11/'מדד שכר ממוצע'!H8-1 -> 0.0051696107 | S13: =+R13*G13 -> 0.00051696107 | T13: =+'מדד שכר ממוצע'!H8/'מדד שכר ממוצע'!I8-1 -> 0.014137103 | U13: =+T13*G13 -> 0.0014137103 | V13: =+'מדד שכר ממוצע'!I8/'מדד שכר ממוצע'!J8-1 -> 0.014614344 | W13: =+V13*G13 -> 0.0014614344 | X13: =+'מדד שכר ממוצע'!J8/'מדד שכר ממוצע'!K8-1 -> 0.0073609597 | Y13: =+X13*G13 -> 0.00073609597 | Z13: =+'מדד שכר ממוצע'!K8/'מדד שכר ממוצע'!L8-1 -> 0.028315111 | AA13: =+Z13*F13 -> 0.0042472666 | AB13: =+'מדד שכר ממוצע'!L8/'מדד שכר ממוצע'!M8-1 -> 0.0087669683 | AC13: =+AB13*F13 -> 0.0013150452
E15: מדד חשמל | F15: 0.35 | G15: 0.05 | H15: =+'מדד חשמל'!C156/'מדד חשמל'!C150-1 -> -0.0589 | I15: =+H15*G15 -> -0.002945 | J15: =+'מדד חשמל'!B151/'מדד חשמל'!B143-1 -> -0.118 | K15: =+J15*G15 -> -0.0059 | L15: =+'מדד חשמל'!B144/'מדד חשמל'!B138-1 -> 0 | M15: =+L15*L15 -> 0 | N15: =+'מדד חשמל'!B138/'מדד חשמל'!B132-1 -> 0 | O15: =+N15*G15 -> 0 | P15: =+'מדד חשמל'!B132/'מדד חשמל'!B126-1 -> 0 | Q15: =+P15*G15 -> 0 | R15: =+'מדד חשמל'!B126/'מדד חשמל'!B120-1 -> 0.055 | S15: =+R15*G15 -> 0.00275 | T15: =+'מדד חשמל'!B120/'מדד חשמל'!B114-1 -> 0 | U15: =+T15*G15 -> 0 | V15: =+'מדד חשמל'!B114/'מדד חשמל'!B108-1 -> 0.089 | W15: =+V15*G15 -> 0.00445 | X15: =+'מדד חשמל'!B108/'מדד חשמל'!B102-1 -> 0.15119875 | Y15: =+X15*G15 -> 0.0075599376 | Z15: =+'מדד חשמל'!B102/'מדד חשמל'!B96-1 -> 0.0034 | AA15: =+Z15*F15 -> 0.00119 | AB15: =+'מדד חשמל'!B96/'מדד חשמל'!B90-1 -> 0 | AC15: =+AB15*F15 -> 0
H17: =ROUND(SUM(I11:I15),4) -> -0.0049 | J17: =ROUND(SUM(K11:K15),4) -> -0.01 | L17: =ROUND(SUM(M11:M15),4) -> 0.0031 | N17: =SUM(O11:O15) -> -0.0014269896 | P17: =SUM(Q11:Q15) -> 0.011891753 | R17: =ROUND(SUM(S11:S15),3) -> 0.009 | T17: =ROUND(SUM(U11:U15),3) -> 0.003 | V17: =ROUND(SUM(W11:W15),3) -> 0.017 | X17: =ROUND(SUM(Y11:Y15),3) -> 0.012 | Z17: 0.01417 | AC17: =ROUND(SUM(AC11:AC15),3) -> 0.011
E20: 41821 | F20: =+N17 -> -0.0014269896
E21: 42005 | F21: =+L17 -> 0.0031
E22: 42186 | F22: =+J17 -> -0.01
E23: 42370 | F23: =+H17 -> -0.0049 | Z23: =2.346-X17 -> 2.334
D25: סה"כ הצמדה | F25: =SUM(F20:F23) -> -0.01322699

Sheet מדד שכר ממוצע
B2: תחזית
B3: 42309 | C3: 42125 | D3: 41944 | E3: 41760 | F3: 41579 | G3: 41395 | H3: 41214 | I3: 41030 | J3: 40848 | K3: 40664 | L3: 40483 | M3: 40299 | N3: 40118 | O3: 39934 | P3: 39753 | Q3: 39569 | R3: 39387 | S3: 39203 | T3: 39022 | U3: 38838 | V3: 38657 | W3: 38473 | X3: 38292 | Y3: 38108 | Z3: 37926 | AA3: 37742 | AB3: 37561 | AC3: 37377
B4: 110.9 | C4: 107.6 | D4: 109.741 | E4: 106.096 | F4: 107.348 | G4: 103.835 | H4: 128.8 | I4: 124.3 | J4: 124.5 | K4: 122.1 | L4: 120.6 | M4: 117.5 | N4: 117.6 | O4: 114.8 | P4: 114.8 | Q4: 113.142 | R4: 110.763 | S4: 119.282 | T4: 119.708 | U4: 111.132 | V4: 110.674 | W4: 106.6
B5: 110.5 | C5: 106.3 | D5: 107.97 | E5: 104.347 | F5: 105.745 | G5: 102.553 | H5: 126.3 | I5: 122.9 | J5: 121.8 | K5: 118.8 | L5: 119.2 | M5: 115.6 | N5: 113.5 | O5: 111.3 | P5: 112.4 | Q5: 110.679 | R5: 109.153 | S5: 116.534 | T5: 114.911 | U5: 109.783 | V5: 105.591 | W5: 100.3
B6: 109.6 | C6: 112.5 | D6: 108.226 | E6: 108.393 | F6: 104.991 | G6: 106.094 | H6: 125.1 | I6: 127.7 | J6: 123.2 | K6: 125.9 | L6: 116.9 | M6: 120.5 | N6: 114.4 | O6: 116.5 | P6: 113.7 | Q6: 113.968 | R6: 109.013 | S6: 121.95 | T6: 115.006 | U6: 114.113 | V6: 108.309 | W6: 104.5
B8: =AVERAGE(B4:B6) -> 110.33333 | C8: =AVERAGE(C4:C6) -> 108.8 | D8: =AVERAGE(D4:D6) -> 108.64567 | E8: =AVERAGE(E4:E6) -> 106.27867 | F8: =AVERAGE(F4:F6) -> 106.028 | G8: =AVERAGE(G4:G6) -> 104.16067 | H8: =AVERAGE(H4:H6) -> 126.73333 | I8: =AVERAGE(I4:I6) -> 124.96667 | ... M8: =AVERAGE(M4:M6) -> 117.86667 | X8: 96.175459 | Y8: 96.221063 | Z8: 98.759677 | AA8: 96.315311 | AB8: 101.941 | AC8: 96.695343
D10: =+D8/E8-1 -> 0.022271638 | F10: =+F8/G8-1 -> 0.017927433 | H10: =+H8/I8-1 -> 0.014137103
F12: =AVERAGE(D10:H10) -> 0.018112058
S18: 0.015

Sheet מדד חשמל
A1: =+[10]חשמל!A3 -> 37637 | B1: =+[10]חשמל!C3 -> 100 | C1: =+B1/$E$1*100 -> 101.23843 | D1: ממוצע 2003 | E1: =AVERAGE(B1:B12) -> 98.776716
A2: =+[10]חשמל!A4 -> 37668 | B2: =+[10]חשמל!C4 -> 105.27 | C2: =+B2/$E$1*100 -> 106.5737
A3: =+[10]חשמל!A5 -> 37696 | B3: =+[10]חשמל!C5 -> 105.27 | C3: =+B3/$E$1*100 -> 106.5737
A4: =+[10]חשמל!A6 -> 37727 | B4: =+[10]חשמל!C6 -> 101.32237 | C4: =+B4/$E$1*100 -> 102.57718
A5: =+[10]חשמל!A7 -> 37757 | B5: =+[10]חשמל!C7 -> 101.32237 | C5: =+B5/$E$1*100 -> 102.57718
A6: =+[10]חשמל!A8 -> 37788 | B6: =+[10]חשמל!C8 -> 97.239083 | C6: =+B6/$E$1*100 -> 98.443324
A7: =+[10]חשמל!A9 -> 37818 | B7: =+[10]חשמל!C9 -> 97.239083 | C7: =+B7/$E$1*100 -> 98.443324
A8: =+[10]חשמל!A10 -> 37849 | B8: =+[10]חשמל!C10 -> 93.787096 | C8: =+B8/$E$1*100 -> 94.948586
A9: =+[10]חשמל!A11 -> 37880 | B9: =+[10]חשמל!C11 -> 93.787096 | C9: =+B9/$E$1*100 -> 94.948586
A10: =+[10]חשמל!A12 -> 37910 | B10: =+[10]חשמל!C12 -> 93.787096 | C10: =+B10/$E$1*100 -> 94.948586
A11: =+[10]חשמל!A13 -> 37941 | B11: =+[10]חשמל!C13 -> 98.148196 | C11: =+B11/$E$1*100 -> 99.363696
A12: =+[10]חשמל!A14 -> 37971 | B12: =+[10]חשמל!C14 -> 98.148196 | C12: =+B12/$E$1*100 -> 99.363696
A13: =+[10]חשמל!A15 -> 38002 | B13: =+[10]חשמל!C15 -> 98.148196 | C13: =+B13/$E$1*100 -> 99.363696
... A65: =+[10]חשמל!A67 -> 39584 | B65: =+[10]חשמל!C67 -> 125.00392 | C65: =+B65/$E$1*100 -> 126.55201
A66: =+[10]חשמל!A68 -> 39615 | B66: =+[10]חשמל!C68 -> 125.00392 | C66: =+B66/$E$1*100 -> 126.55201 | F66: הנתונים מהתוספת החמישית
A67: =+[10]חשמל!A69 -> 39645 | B67: =+[10]חשמל!C69 -> 131.61663 | C67: =+B67/$E$1*100 -> 133.24662
A68: =+[10]חשמל!A70 -> 39676 | B68: =+[10]חשמל!C70 -> 131.61663 | C68: =+B68/$E$1*100 -> 133.24662 | H68: ינואר | I68: פברואר | J68: מרץ | K68: אפריל | L68: מאי | M68: יוני | N68: יולי | O68: אוגוסט | P68: ספטמבר | Q68: אוקטובר | R68: נובמבר | S68: דצמבר
A69: =+[10]חשמל!A71 -> 39707 | B69: =+[10]חשמל!C71 -> 131.61663 | C69: =+B69/$E$1*100 -> 133.24662 | F69: פסגה | G69: מתח נמוך | H69: 0.0007 | I69: 0.00067 | J69: 0.00399 | K69: 0.00445 | L69: 0.00518 | M69: 0.00614 | N69: 0.00163 | O69: 0.00121 | P69: 0.00517 | Q69: 0.00401 | R69: 0.00398 | S69: 0.00098
A70: =+[10]חשמל!A72 -> 39737 | B70: =+[10]חשמל!C72 -> 131.61663 | C70: =+B70/$E$1*100 -> 133.24662 | F70: גבע | G70: מתח נמוך | H70: 0.00067 | I70: 0.00068 | J70: 0.00314 | K70: 0.00423 | L70: 0.00334 | M70: 0.00354 | N70: 0.00308 | O70: 0.00348 | P70: 0.00361 | Q70: 0.00479 | R70: 0.00239 | S70: 0.00037
A71: =+[10]חשמל!A73 -> 39768 | B71: =+[10]חשמל!C73 -> 125.35168 | C71: =+B71/$E$1*100 -> 126.90408 | F71: שפל | G71: מתח נמוך | H71: 0.01308 | I71: 0.0123 | J71: 0.00932 | K71: 0.01233 | L71: 0.01135 | M71: 0.01201 | N71: 0.01671 | O71: 0.01652 | P71: 0.01135 | Q71: 0.01495 | R71: 0.00941 | S71: 0.01314
A72: =+[10]חשמל!A74 -> 39798 | B72: =+[10]חשמל!C74 -> 125.35168 | C72: =+B72/$E$1*100 -> 126.90408 | F72: פסגה | G72: מתח גבוה | H72: 0.0021 | I72: 0.00188 | J72: 0.01319 | K72: 0.01536 | L72: 0.01959 | M72: 0.02335 | N72: 0.00532 | O72: 0.00346 | P72: 0.01633 | Q72: 0.01315 | R72: 0.01372 | S72: 0.00292
A73: =+[10]חשמל!A75 -> 39829 | B73: =+[10]חשמל!C75 -> 125.35168 | C73: =+B73/$E$1*100 -> 126.90408 | F73: גבע | G73: מתח גבוה | H73: 0.00159 | I73: 0.00161 | J73: 0.01306 | K73: 0.01566 | L73: 0.01443 | M73: 0.01528 | N73: 0.01337 | O73: 0.01429 | P73: 0.01727 | Q73: 0.01803 | R73: 0.00959 | S73: 0.00066
A74: =+[10]חשמל!A76 -> 39860 | B74: =+[10]חשמל!C76 -> 125.35168 | C74: =+B74/$E$1*100 -> 126.90408 | F74: שפל | G74: מתח גבוה | H74: 0.06209 | I74: 0.05774 | J74: 0.04651 | K74: 0.05702 | L74: 0.05844 | M74: 0.06234 | N74: 0.08337 | O74: 0.0798 | P74: 0.05455 | Q74: 0.06837 | R74: 0.04561 | S74: 0.06393
A75: =+[10]חשמל!A77 -> 39888 | B75: =+[10]חשמל!C77 -> 125.35168 | C75: =+B75/$E$1*100 -> 126.90408
A76: =+[10]חשמל!A78 -> 39919 | B76: =+[10]חשמל!C78 -> 125.35168 | C76: =+B76/$E$1*100 -> 126.90408 | F76: 15.2.2010
A77: =+[10]חשמל!A79 -> 39949 | B77: =+[10]חשמל!C79 -> 123.27084 | C77: =+B77/$E$1*100 -> 124.79747 | H77: תעריף אנרגיה מוכר | I77: =SUM(H89:S94) -> 33.257731 | J77: אג'/קווט"ש
A78: =+[10]חשמל!A80 -> 39980 | B78: =+[10]חשמל!C80 -> 116.35535 | C78: =+B78/$E$1*100 -> 117.79633
A79: =+[10]חשמל!A81 -> 40010 | B79: =+[10]חשמל!C81 -> 116.35535 | C79: =+B79/$E$1*100 -> 117.79633 | F79: תעריפי אנרגיה באגורות
A80: =+[10]חשמל!A82 -> 40041 | B80: =+[10]חשמל!C82 -> 116.35535 | C80: =+B80/$E$1*100 -> 117.79633
A81: =+[10]חשמל!A83 -> 40072 | B81: =+[10]חשמל!C83 -> 116.35535 | C81: =+B81/$E$1*100 -> 117.79633 | H81: חורף | I81: חורף | J81: מעבר | K81: מעבר | L81: מעבר | M81: מעבר | N81: קיץ | O81: קיץ | P81: מעבר | Q81: מעבר | R81: מעבר | S81: חורף
A82: =+[10]חשמל!A84 -> 40102 | B82: =+[10]חשמל!C84 -> 116.35535 | C82: =+B82/$E$1*100 -> 117.79633 | F82: פסגה | G82: מתח נמוך | H82: 91.25 | I82: 91.25 | J82: 41.94 | K82: 41.94 | L82: 41.94 | M82: 41.94 | N82: 100.89 | O82: 100.89 | P82: 41.94 | Q82: 41.94 | R82: 41.94 | S82: 91.25
A83: =+[10]חשמל!A85 -> 40133 | B83: =+[10]חשמל!C85 -> 116.35535 | C83: =+B83/$E$1*100 -> 117.79633 | F83: גבע | G83: מתח נמוך | H83: 53.47 | I83: 53.47 | J83: 34.07 | K83: 34.07 | L83: 34.07 | M83: 34.07 | N83: 43.16 | O83: 43.16 | P83: 34.07 | Q83: 34.07 | R83: 34.07 | S83: 53.47
A84: =+[10]חשמל!A86 -> 40163 | B84: =+[10]חשמל!C86 -> 121.00956 | C84: =+B84/$E$1*100 -> 122.50818 | F84: שפל | G84: מתח נמוך | H84: 30.51 | I84: 30.51 | J84: 26.98 | K84: 26.98 | L84: 26.98 | M84: 26.98 | N84: 27.89 | O84: 27.89 | P84: 26.98 | Q84: 26.98 | R84: 26.98 | S84: 30.51
A85: =+[10]חשמל!A87 -> 40194 | B85: =+[10]חשמל!C87 -> 121.00956 | C85: =+B85/$E$1*100 -> 122.50818 | F85: פסגה | G85: מתח גבוה | H85: 81.22 | I85: 81.22 | J85: 35.22 | K85: 35.22 | L85: 35.22 | M85: 35.22 | N85: 89.25 | O85: 89.25 | P85: 35.22 | Q85: 35.22 | R85: 35.22 | S85: 81.22
A86: =+[10]חשמל!A88 -> 40225 | B86: =+[10]חשמל!C88 -> 106.83934 | C86: =+B86/$E$1*100 -> 108.16248 | F86: גבע | G86: מתח גבוה | H86: 46.45 | I86: 46.45 | J86: 27.7 | K86: 27.7 | L86: 27.7 | M86: 27.7 | N86: 35.72 | O86: 35.72 | P86: 27.7 | Q86: 27.7 | R86: 27.7 | S86: 46.45
A87: 40253 | B87: =+B86 -> 106.83934 | C87: =+B87/$E$1*100 -> 108.16248 | F87: שפל | G87: מתח גבוה | H87: 24.59 | I87: 24.59 | J87: 21.31 | K87: 21.31 | L87: 21.31 | M87: 21.31 | N87: 21.85 | O87: 21.85 | P87: 21.31 | Q87: 21.31 | R87: 21.31 | S87: 24.59
A88: 40284 | B88: =+B87 -> 106.83934 | C88: =+B88/$E$1*100 -> 108.16248
A89: 40314 | B89: =+B88 -> 106.83934 | C89: =+B89/$E$1*100 -> 108.16248 | H89: =H82*H69 -> 0.063875 | I89: =I82*I69 -> 0.0611375 | J89: =J82*J69 -> 0.1673406 | K89: =K82*K69 -> 0.186633 | L89: =L82*L69 -> 0.2172492 | M89: =M82*M69 -> 0.2575116 | N89: =N82*N69 -> 0.1644507 | O89: =O82*O69 -> 0.1220769 | ... S89: =S82*S69 -> 0.089425
A90: 40345 | B90: =+B89 -> 106.83934 | C90: =+B90/$E$1*100 -> 108.16248 | H90: =H83*H70 -> 0.0358249 | I90: =I83*I70 -> 0.0363596 | J90: =J83*J70 -> 0.1069798 | K90: =K83*K70 -> 0.1441161 | L90: =L83*L70 -> 0.1137938 | M90: =M83*M70 -> 0.1206078 | N90: =N83*N70 -> 0.1329328 | O90: =O83*O70 -> 0.1501968 | ... S90: =S83*S70 -> 0.0197839
A91: 40375 | B91: =+B90 -> 106.83934 | C91: =+B91/$E$1*100 -> 108.16248 | H91: =H84*H71 -> 0.3990708 | I91: =I84*I71 -> 0.375273 | J91: =J84*J71 -> 0.2514536 | K91: =K84*K71 -> 0.3326634 | L91: =L84*L71 -> 0.306223 | M91: =M84*M71 -> 0.3240298 | N91: =N84*N71 -> 0.4660419 | O91: =O84*O71 -> 0.4607428 | ... S91: =S84*S71 -> 0.4009014
A92: 40406 | B92: =+B91 -> 106.83934 | C92: =+B92/$E$1*100 -> 108.16248 | H92: =H85*H72 -> 0.170562 | I92: =I85*I72 -> 0.1526936 | J92: =J85*J72 -> 0.4645518 | K92: =K85*K72 -> 0.5409792 | L92: =L85*L72 -> 0.6899598 | M92: =M85*M72 -> 0.822387 | N92: =N85*N72 -> 0.47481 | O92: =O85*O72 -> 0.308805 | ... S92: =S85*S72 -> 0.2371624
A93: 40437 | B93: =+B92 -> 106.83934 | C93: =+B93/$E$1*100 -> 108.16248 | H93: =H86*H73 -> 0.0738555 | I93: =I86*I73 -> 0.0747845 | J93: =J86*J73 -> 0.361762 | K93: =K86*K73 -> 0.433782 | L93: =L86*L73 -> 0.399711 | M93: =M86*M73 -> 0.423256 | N93: =N86*N73 -> 0.4775764 | O93: =O86*O73 -> 0.5104388 | ... S93: =S86*S73 -> 0.030657
A94: 40467 | B94: =+B93 -> 106.83934 | C94: =+B94/$E$1*100 -> 108.16248 | H94: =H87*H74 -> 1.5267931 | I94: =I87*I74 -> 1.4198266 | J94: =J87*J74 -> 0.9911281 | K94: =K87*K74 -> 1.2150962 | L94: =L87*L74 -> 1.2453564 | M94: =M87*M74 -> 1.3284654 | N94: =N87*N74 -> 1.8216345 | O94: =O87*O74 -> 1.74363 | ... S94: =S87*S74 -> 1.5720387
A95: 40498 | B95: =+B94 -> 106.83934 | C95: =+B95/$E$1*100 -> 108.16248
A96: 40528 | B96: =+B95 -> 106.83934 | C96: =+B96/$E$1*100 -> 108.16248 | H96: עלייה בין פברואר למרץ | I96: =+I98/I77 -> 1.0106855 | J96: 1.0034
A97: 40559 | B97: =+B96 -> 106.83934 | C97: =+B97/$E$1*100 -> 108.16248 | F97: 22.3.2011
A98: 40590 | B98: =+B97 -> 106.83934 | C98: =+B98/$E$1*100 -> 108.16248 | H98: תעריף אנרגיה מוכר | I98: =SUM(H110:S115) -> 33.613105 | J98: אג'/קווט"ש
A99: 40618 | B99: =+B98*J96 -> 107.2026 | C99: =+B99/$E$1*100 -> 108.53023
A100: 40649 | B100: =+B99 -> 107.2026 | C100: =+B100/$E$1*100 -> 108.53023 | F100: תעריפי אנרגיה באגורות
A101: 40679 | B101: =+B100 -> 107.2026 | C101: =+B101/$E$1*100 -> 108.53023
A102: 40710 | B102: =+B101 -> 107.2026 | C102: =+B102/$E$1*100 -> 108.53023 | H102: חורף | I102: חורף | J102: מעבר | K102: מעבר | L102: מעבר | M102: מעבר | N102: קיץ | O102: קיץ | P102: מעבר | Q102: מעבר | R102: מעבר | S102: חורף
A103: 40740 | B103: =+B102 -> 107.2026 | C103: =+B103/$E$1*100 -> 108.53023 | F103: פסגה | G103: מתח נמוך | H103: 91.66 | I103: =H103 -> 91.66 | J103: 41.5 | K103: =J103 -> 41.5 | L103: =K103 -> 41.5 | M103: =L103 -> 41.5 | N103: 100.97 | O103: =N103 -> 100.97 | P103: =J103 -> 41.5 | Q103: =K103 -> 41.5 | R103: =L103 -> 41.5 | S103: =H103 -> 91.66
A104: 40771 | B104: =+B103*$K$119 -> 117.71732 | C104: =+B104/$E$1*100 -> 119.17517 | F104: גבע | G104: מתח נמוך | H104: 54.08 | I104: =H104 -> 54.08 | J104: 33.78 | K104: =J104 -> 33.78 | L104: =K104 -> 33.78 | M104: =L104 -> 33.78 | N104: 43.32 | O104: =N104 -> 43.32 | P104: =J104 -> 33.78 | Q104: =K104 -> 33.78 | R104: =L104 -> 33.78 | S104: =H104 -> 54.08
A105: 40802 | B105: =+B104 -> 117.71732 | C105: =+B105/$E$1*100 -> 119.17517 | F105: שפל | G105: מתח נמוך | H105: 30.55 | I105: =H105 -> 30.55 | J105: 27.26 | K105: =J105 -> 27.26 | L105: =K105 -> 27.26 | M105: =L105 -> 27.26 | N105: 27.86 | O105: =N105 -> 27.86 | P105: =J105 -> 27.26 | Q105: =K105 -> 27.26 | R105: =L105 -> 27.26 | S105: =H105 -> 30.55
A106: 40832 | B106: =+B105 -> 117.71732 | C106: =+B106/$E$1*100 -> 119.17517 | F106: פסגה | G106: מתח גבוה | H106: 81.92 | I106: =H106 -> 81.92 | J106: 35.03 | K106: =J106 -> 35.03 | L106: =K106 -> 35.03 | M106: =L106 -> 35.03 | N106: 89.65 | O106: =N106 -> 89.65 | P106: =J106 -> 35.03 | Q106: =K106 -> 35.03 | R106: =L106 -> 35.03 | S106: =H106 -> 81.92
A107: 40863 | B107: =+B106*$K$140 -> 123.41149 | C107: =+B107/$E$1*100 -> 124.93986 | F107: גבע | G107: מתח גבוה | H107: 47.31 | I107: =H107 -> 47.31 | J107: 27.77 | K107: =J107 -> 27.77 | L107: =K107 -> 27.77 | M107: =L107 -> 27.77 | N107: 36.18 | O107: =N107 -> 36.18 | P107: =J107 -> 27.77 | Q107: =K107 -> 27.77 | R107: =L107 -> 27.77 | S107: =H107 -> 47.31
A108: 40893 | B108: =+B107 -> 123.41149 | C108: =+B108/$E$1*100 -> 124.93986 | F108: שפל | G108: מתח גבוה | H108: 24.91 | I108: =H108 -> 24.91 | J108: 21.92 | K108: =J108 -> 21.92 | L108: =K108 -> 21.92 | M108: =L108 -> 21.92 | N108: 22.11 | O108: =N108 -> 22.11 | P108: =J108 -> 21.92 | Q108: =K108 -> 21.92 | R108: =L108 -> 21.92 | S108: =H108 -> 24.91
A109: 40924 | B109: =+B108 -> 123.41149 | C109: =+B109/$E$1*100 -> 124.93986
A110: 40955 | B110: =+B109 -> 123.41149 | C110: =+B110/$E$1*100 -> 124.93986 | H110: =+H103*H69 -> 0.064162 | I110: =+I103*I69 -> 0.0614122 | J110: =+J103*J69 -> 0.165585 | K110: =+K103*K69 -> 0.184675 | L110: =+L103*L69 -> 0.21497 | M110: =+M103*M69 -> 0.25481 | N110: =+N103*N69 -> 0.1645811 | O110: =+O103*O69 -> 0.1221737 | ... S110: =+S103*S69 -> 0.0898268
A111: 40984 | B111: =+B110 -> 123.41149 | C111: =+B111/$E$1*100 -> 124.93986 | H111: =+H104*H70 -> 0.0362336 | I111: =+I104*I70 -> 0.0367744 | J111: =+J104*J70 -> 0.1060692 | K111: =+K104*K70 -> 0.1428894 | L111: =+L104*L70 -> 0.1128252 | M111: =+M104*M70 -> 0.1195812 | N111: =+N104*N70 -> 0.1334256 | O111: =+O104*O70 -> 0.1507536 | ... S111: =+S104*S70 -> 0.0200096
A112: 41015 | B112: =+B111*(1+8.9%) -> 134.39512 | C112: =+B112/$E$1*100 -> 136.05951 | H112: =+H105*H71 -> 0.399594 | I112: =+I105*I71 -> 0.375765 | J112: =+J105*J71 -> 0.2540632 | K112: =+K105*K71 -> 0.3361158 | L112: =+L105*L71 -> 0.309401 | M112: =+M105*M71 -> 0.3273926 | N112: =+N105*N71 -> 0.4655406 | O112: =+O105*O71 -> 0.4602472 | ... S112: =+S105*S71 -> 0.401427
A113: 41045 | B113: =+B112 -> 134.39512 | C113: =+B113/$E$1*100 -> 136.05951 | H113: =+H106*H72 -> 0.172032 | I113: =+I106*I72 -> 0.1540096 | J113: =+J106*J72 -> 0.4620457 | K113: =+K106*K72 -> 0.5380608 | L113: =+L106*L72 -> 0.6862377 | M113: =+M106*M72 -> 0.8179505 | N113: =+N106*N72 -> 0.476938 | O113: =+O106*O72 -> 0.310189 | ... S113: =+S106*S72 -> 0.2392064
A114: 41076 | B114: =+B113 -> 134.39512 | C114: =+B114/$E$1*100 -> 136.05951 | H114: =+H107*H73 -> 0.0752229 | I114: =+I107*I73 -> 0.0761691 | J114: =+J107*J73 -> 0.3626762 | K114: =+K107*K73 -> 0.4348782 | L114: =+L107*L73 -> 0.4007211 | M114: =+M107*M73 -> 0.4243256 | N114: =+N107*N73 -> 0.4837266 | O114: =+O107*O73 -> 0.5170122 | ... S114: =+S107*S73 -> 0.0312246
A115: 41106 | B115: =+B114 -> 134.39512 | C115: =+B115/$E$1*100 -> 136.05951 | H115: =+H108*H74 -> 1.5466619 | I115: =+I108*I74 -> 1.4383034 | J115: =+J108*J74 -> 1.0194992 | K115: =+K108*K74 -> 1.2498784 | L115: =+L108*L74 -> 1.2810048 | M115: =+M108*M74 -> 1.3664928 | N115: =+N108*N74 -> 1.8433107 | O115: =+O108*O74 -> 1.764378 | ... S115: =+S108*S74 -> 1.5924963
A116: 41137 | B116: =+B115 -> 134.39512 | C116: =+B116/$E$1*100 -> 136.05951
A117: 41168 | B117: =+B116 -> 134.39512 | C117: =+B117/$E$1*100 -> 136.05951
A118: 41198 | B118: =+B117 -> 134.39512 | C118: =+B118/$E$1*100 -> 136.05951 | F118: 15.08.2011
A119: 41229 | B119: =+B118 -> 134.39512 | C119: =+B119/$E$1*100 -> 136.05951 | H119: תעריף אנרגיה מוכר | I119: =SUM(H131:S136) -> 36.90997 | J119: אג'/קווט"ש | K119: =+I119/I98 -> 1.0980827 | L119: עלייה בין מרץ לאוגוסט | N119: =+I119/I98 -> 1.0980827
A120: 41259 | B120: =+B119 -> 134.39512 | C120: =+B120/$E$1*100 -> 136.05951
A121: 41290 | B121: =+B120 -> 134.39512 | C121: =+B121/$E$1*100 -> 136.05951 | F121: תעריפי אנרגיה באגורות
A122: 41321 | B122: =+B121 -> 134.39512 | C122: =+B122/$E$1*100 -> 136.05951
A123: 41349 | B123: =+B122 -> 134.39512 | C123: =+B123/$E$1*100 -> 136.05951 | H123: חורף | I123: חורף | J123: מעבר | K123: מעבר | L123: מעבר | M123: מעבר | N123: קיץ | O123: קיץ | P123: מעבר | Q123: מעבר | R123: מעבר | S123: חורף
A124: 41380 | B124: =+B123 -> 134.39512 | C124: =+B124/$E$1*100 -> 136.05951 | F124: פסגה | G124: מתח נמוך | H124: 101.23 | I124: =H124 -> 101.23 | J124: 45.83 | K124: =J124 -> 45.83 | L124: =K124 -> 45.83 | M124: =L124 -> 45.83 | N124: 111.69 | O124: =N124 -> 111.69 | P124: =J124 -> 45.83 | Q124: =K124 -> 45.83 | R124: =L124 -> 45.83 | S124: =H124 -> 101.23
A125: 41410 | B125: =+B124 -> 134.39512 | C125: =+B125/$E$1*100 -> 136.05951 | F125: גבע | G125: מתח נמוך | H125: 58.91 | I125: =H125 -> 58.91 | J125: 36.55 | K125: =J125 -> 36.55 | L125: =K125 -> 36.55 | M125: =L125 -> 36.55 | N125: 46.62 | O125: =N125 -> 46.62 | P125: =J125 -> 36.55 | Q125: =K125 -> 36.55 | R125: =L125 -> 36.55 | S125: =H125 -> 58.91
A126: 41441 | B126: =+B125*(1+5.5%) -> 141.78685 | C126: =+B126/$E$1*100 -> 143.54278 | F126: שפל | G126: מתח נמוך | H126: 33.25 | I126: =H126 -> 33.25 | J126: 28.85 | K126: =J126 -> 28.85 | L126: =K126 -> 28.85 | M126: =L126 -> 28.85 | N126: 29.87 | O126: =N126 -> 29.87 | P126: =J126 -> 28.85 | Q126: =K126 -> 28.85 | R126: =L126 -> 28.85 | S126: =H126 -> 33.25
A127: 41471 | B127: =+B126 -> 141.78685 | C127: =+B127/$E$1*100 -> 143.54278 | F127: פסגה | G127: מתח גבוה | H127: 91.42 | I127: =H127 -> 91.42 | J127: 39.49 | K127: =J127 -> 39.49 | L127: =K127 -> 39.49 | M127: =L127 -> 39.49 | N127: 100.27 | O127: =N127 -> 100.27 | P127: =J127 -> 39.49 | Q127: =K127 -> 39.49 | R127: =L127 -> 39.49 | S127: =H127 -> 91.42
A128: 41502 | B128: =+B127 -> 141.78685 | C128: =+B128/$E$1*100 -> 143.54278 | F128: גבע | G128: מתח גבוה | H128: 52.25 | I128: =H128 -> 52.25 | J128: 30.73 | K128: =J128 -> 30.73 | L128: =K128 -> 30.73 | M128: =L128 -> 30.73 | N128: 39.65 | O128: =N128 -> 39.65 | P128: =J128 -> 30.73 | Q128: =K128 -> 30.73 | R128: =L128 -> 30.73 | S128: =H128 -> 52.25
A129: 41533 | B129: =+B128 -> 141.78685 | C129: =+B129/$E$1*100 -> 143.54278 | F129: שפל | G129: מתח גבוה | H129: 27.81 | I129: =H129 -> 27.81 | J129: 23.74 | K129: =J129 -> 23.74 | L129: =K129 -> 23.74 | M129: =L129 -> 23.74 | N129: 24.34 | O129: =N129 -> 24.34 | P129: =J129 -> 23.74 | Q129: =K129 -> 23.74 | R129: =L129 -> 23.74 | S129: =H129 -> 27.81
A130: 41563 | B130: =+B129 -> 141.78685 | C130: =+B130/$E$1*100 -> 143.54278
A131: 41594 | B131: =+B130 -> 141.78685 | C131: =+B131/$E$1*100 -> 143.54278 | H131: =+H124*H69 -> 0.070861 | I131: =+I124*I69 -> 0.0678241 | J131: =+J124*J69 -> 0.1828617 | K131: =+K124*K69 -> 0.2039435 | L131: =+L124*L69 -> 0.2373994 | M131: =+M124*M69 -> 0.2813962 | N131: =+N124*N69 -> 0.1820547 | O131: =+O124*O69 -> 0.1351449 | ... S131: =+S124*S69 -> 0.0992054
A132: 41624 | B132: =+B131 -> 141.78685 | C132: =+B132/$E$1*100 -> 143.54278 | H132: =+H125*H70 -> 0.0394697 | I132: =+I125*I70 -> 0.0400588 | J132: =+J125*J70 -> 0.114767 | K132: =+K125*K70 -> 0.1546065 | L132: =+L125*L70 -> 0.122077 | M132: =+M125*M70 -> 0.129387 | N132: =+N125*N70 -> 0.1435896 | O132: =+O125*O70 -> 0.1622376 | ... S132: =+S125*S70 -> 0.0217967
A133: 41655 | B133: =+B132 -> 141.78685 | C133: =+B133/$E$1*100 -> 143.54278 | H133: =+H126*H71 -> 0.43491 | I133: =+I126*I71 -> 0.408975 | J133: =+J126*J71 -> 0.268882 | K133: =+K126*K71 -> 0.3557205 | L133: =+L126*L71 -> 0.3274475 | M133: =+M126*M71 -> 0.3464885 | N133: =+N126*N71 -> 0.4991277 | O133: =+O126*O71 -> 0.4934524 | ... S133: =+S126*S71 -> 0.436905
A134: 41686 | B134: =+B133 -> 141.78685 | C134: =+B134/$E$1*100 -> 143.54278 | H134: =+H127*H72 -> 0.191982 | I134: =+I127*I72 -> 0.1718696 | J134: =+J127*J72 -> 0.5208731 | K134: =+K127*K72 -> 0.6065664 | L134: =+L127*L72 -> 0.7736091 | M134: =+M127*M72 -> 0.9220915 | N134: =+N127*N72 -> 0.5334364 | O134: =+O127*O72 -> 0.3469342 | ... S134: =+S127*S72 -> 0.2669464
A135: 41714 | B135: =+B134 -> 141.78685 | C135: =+B135/$E$1*100 -> 143.54278 | H135: =+H128*H73 -> 0.0830775 | I135: =+I128*I73 -> 0.0841225 | J135: =+J128*J73 -> 0.4013338 | K135: =+K128*K73 -> 0.4812318 | L135: =+L128*L73 -> 0.4434339 | M135: =+M128*M73 -> 0.4695544 | N135: =+N128*N73 -> 0.5301205 | O135: =+O128*O73 -> 0.5665985 | ... S135: =+S128*S73 -> 0.034485
A136: 41745 | B136: =+B135 -> 141.78685 | C136: =+B136/$E$1*100 -> 143.54278 | H136: =+H129*H74 -> 1.7267229 | I136: =+I129*I74 -> 1.6057494 | J136: =+J129*J74 -> 1.1041474 | K136: =+K129*K74 -> 1.3536548 | L136: =+L129*L74 -> 1.3873656 | M136: =+M129*M74 -> 1.4799516 | N136: =+N129*N74 -> 2.0292258 | O136: =+O129*O74 -> 1.942332 | ... S136: =+S129*S74 -> 1.7778933
A137: 41775 | B137: =+B136 -> 141.78685 | C137: =+B137/$E$1*100 -> 143.54278
A138: 41806 | B138: =+B137 -> 141.78685 | C138: =+B138/$E$1*100 -> 143.54278
A139: 41836 | B139: =+B138 -> 141.78685 | C139: =+B139/$E$1*100 -> 143.54278 | F139: 01.11.2011
A140: 41867 | B140: =+B139 -> 141.78685 | C140: =+B140/$E$1*100 -> 143.54278 | H140: תעריף אנרגיה מוכר | I140: =SUM(H152:S158) -> 38.695365 | J140: אג'/קווט"ש | K140: =+I140/I119 -> 1.0483716
A141: 41898 | B141: =+B140 -> 141.78685 | C141: =+B141/$E$1*100 -> 143.54278
A142: 41928 | B142: =+B141 -> 141.78685 | C142: =+B142/$E$1*100 -> 143.54278 | F142: תעריפי אנרגיה באגורות
A143: 41959 | B143: =+B142 -> 141.78685 | C143: =+B143/$E$1*100 -> 143.54278
A144: 41989 | B144: =+B143 -> 141.78685 | C144: =+B144/$E$1*100 -> 143.54278 | H144: חורף | I144: חורף | J144: מעבר | K144: מעבר | L144: מעבר | M144: מעבר | N144: קיץ | O144: קיץ | P144: מעבר | Q144: מעבר
A145: 42020 | B145: =+B144 -> 141.78685 | C145: =+B145/$E$1*100 -> 143.54278 | H145: חורף | I145: חורף | J145: מעבר | K145: מעבר | L145: מעבר | M145: מעבר | N145: קיץ | O145: קיץ | P145: מעבר | Q145: מעבר | R145: מעבר | S145: חורף
A146: 42051 | B146: =+B145*(1-11.8%) -> 125.056 | C146: =+B146/$E$1*100 -> 126.60474 | F146: פסגה | G146: מתח נמוך | H146: 106.15 | I146: =H146 -> 106.15 | J146: 47.93 | K146: =J146 -> 47.93 | L146: =K146 -> 47.93 | M146: =L146 -> 47.93 | N146: 116.96 | O146: =N146 -> 116.96 | P146: =J146 -> 47.93 | Q146: =K146 -> 47.93 | R146: =L146 -> 47.93 | S146: =H146 -> 106.15
A147: 42079 | B147: =+B146 -> 125.056 | C147: =+B147/$E$1*100 -> 126.60474 | F147: גבע | G147: מתח נמוך | H147: 61.72 | I147: =H147 -> 61.72 | J147: 38.2 | K147: =J147 -> 38.2 | L147: =K147 -> 38.2 | M147: =L147 -> 38.2 | N147: 48.72 | O147: =N147 -> 48.72 | P147: =J147 -> 38.2 | Q147: =K147 -> 38.2 | R147: =L147 -> 38.2 | S147: =H147 -> 61.72
A148: 42110 | B148: =+B147 -> 125.056 | C148: =+B148/$E$1*100 -> 126.60474 | F148: שפל | G148: מתח נמוך | H148: 34.76 | I148: =H148 -> 34.76 | J148: 30.15 | K148: =J148 -> 30.15 | L148: =K148 -> 30.15 | M148: =L148 -> 30.15 | N148: 31.19 | O148: =N148 -> 31.19 | P148: =J148 -> 30.15 | Q148: =K148 -> 30.15 | R148: =L148 -> 30.15 | S148: =H148 -> 34.76
A149: 42140 | B149: =+B148 -> 125.056 | C149: =+B149/$E$1*100 -> 126.60474 | F149: פסגה | G149: מתח גבוה | H149: 96.01 | I149: =H149 -> 96.01 | J149: 41.42 | K149: =J149 -> 41.42 | L149: =K149 -> 41.42 | M149: =L149 -> 41.42 | N149: 105.17 | O149: =N149 -> 105.17 | P149: =J149 -> 41.42 | Q149: =K149 -> 41.42 | R149: =L149 -> 41.42 | S149: =H149 -> 96.01
A150: 42171 | B150: =+B149 -> 125.056 | C150: =+B150/$E$1*100 -> 126.60474 | F150: גבע | G150: מתח גבוה | H150: 54.87 | I150: =H150 -> 54.87 | J150: 32.24 | K150: =J150 -> 32.24 | L150: =K150 -> 32.24 | M150: =L150 -> 32.24 | N150: 41.56 | O150: =N150 -> 41.56 | P150: =J150 -> 32.24 | Q150: =K150 -> 32.24 | R150: =L150 -> 32.24 | S150: =H150 -> 54.87
A151: 42201 | B151: =+B150 -> 125.056 | C151: =+C150 -> 126.60474 | F151: שפל | G151: מתח גבוה | H151: 29.18 | I151: =H151 -> 29.18 | J151: 24.92 | K151: =J151 -> 24.92 | L151: =K151 -> 24.92 | M151: =L151 -> 24.92 | N151: 25.52 | O151: =N151 -> 25.52 | P151: =J151 -> 24.92 | Q151: =K151 -> 24.92 | R151: =L151 -> 24.92 | S151: =H151 -> 29.18
...

Sheet מדד מחירים
A1: השימוש בנתונים אלה הינו באחריות המשתמש.
A2: מתוך: מדד המחירים לצרכן, לפי קבוצות צריכה ראשיות ומשניות
A3: סדרה: 120010 - מדד המחירים לצרכן - כללי
A4: ספטמבר 1951 - דצמבר 2013
A5: הבסיס: ספטמבר 1951=100.0
A6: שנה | B6: חודש | N6: שנה
B7: דצמבר | C7: נובמבר | D7: אוקטובר | E7: ספטמבר | F7: אוגוסט | G7: יולי | H7: יוני | I7: מאי | J7: אפריל | K7: מרס | L7: פברואר | M7: ינואר
A8: 1951 | B8: 107 | C8: 105 | D8: 103 | E8: 100 | N8: 1951
A9: 1952 | B9: 178 | C9: 175 | D9: 173 | E9: 169 | F9: 165 | G9: 162 | H9: 157 | I9: 150 | J9: 144 | K9: 132 | L9: 120 | M9: 113 | N9: 1952
A10: 1953 | B10: 212 | C10: 208 | D10: 207 | E10: 205 | F10: 201 | G10: 200 | H10: 197 | I10: 191 | J10: 187 | K10: 184 | L10: 182 | M10: 181 | N10: 1953
A11: 1954 | B11: 228 | C11: 228 | D11: 227 | E11: 227 | F11: 222 | G11: 217 | H11: 214 | I11: 218 | J11: 217 | K11: 217 | L11: 216 | M11: 214 | N11: 1954
A12: 1955 | B12: 239 | C12: 236 | D12: 238 | E12: 239 | F12: 231 | G12: 233 | H12: 232 | I12: 230 | J12: 230 | K12: 229 | L12: 228 | M12: 228 | N12: 1955
A13: 1956 | B13: 250 | C13: 248 | D13: 259 | E13: 260 | F13: 247 | G13: 244 | H13: 249 | I13: 249 | J13: 246 | K13: 244 | L13: 239 | M13: 238 | N13: 1956
A14: 1957 | B14: 263 | C14: 267 | D14: 268 | E14: 268 | F14: 269 | G14: 264 | H14: 258 | I14: 270 | J14: 265 | K14: 261 | L14: 259 | M14: 254 | N14: 1957
A15: 1958 | B15: 274 | C15: 273 | D15: 280 | E15: 280 | F15: 274 | G15: 274 | H15: 267 | I15: 276 | J15: 272 | K15: 268 | L15: 269 | M15: 267 | N15: 1958
A16: 1959 | B16: 279.7048 | C16: 281.0813 | D16: 280.5307 | E16: 275.5753 | F16: 269.5187 | G16: 269.794 | H16: 273.3729 | I16: 287.1379 | J16: 276.4012 | K16: 277.7777 | L16: 277.5024 | M16: 275.3 | N16: 1959
A17: 1960 | B17: 289.3403 | C17: 291.2674 | D17: 292.3686 | E17: 286.5873 | F17: 279.4295 | G17: 278.8789 | H17: 277.5024 | I17: 284.1096 | J17: 278.6036 | K17: 281.9072 | L17: 279.1542 | M17: 278.6036 | N17: 1960
A18: 1961 | B18: 315.4938 | C18: 311.3643 | D18: 308.8866 | E18: 304.7571 | F18: 294.8463 | G18: 297.324 | H18: 303.9312 | I18: 314.6679 | J18: 293.7451 | K18: 294.0204 | L18: 293.4698 | M18: 295.9475 | N18: 1961
A19: 1962 | B19: 347.7039 | C19: 343.8497 | D19: 341.372 | E19: 337.7931 | F19: 330.0847 | G19: 326.2305 | H19: 323.4775 | I19: 327.8823 | J19: 331.1859 | K19: 325.4046 | L19: 318.2468 | M19: 316.595 | N19: 1962
A20: 1963 | B20: 365.0478 | C20: 363.1207 | D20: 356.2382 | E20: 353.4852 | F20: 346.6027 | G20: 352.384 | H20: 352.1087 | I20: 355.137 | J20: 343.8497 | K20: 347.7039 | L20: 347.7039 | M20: 347.7039 | N20: 1963
... A71: 2014 | B71: 34010140 | C71: 34010140 | D71: 34076762 | E71: 33976830 | F71: 34076762 | G71: 34110072 | H71: 34076762 | I71: 33976830 | J71: 33943519 | K71: 33910209 | L71: 33810277 | M71: 33876898 | N71: 2014
A72: 2015 | C72: 33705015 | D72: 33840922 | E72: 33806946 | F72: 33942853 | G72: 34010807 | H72: 33942853 | I72: 33840922 | J72: 33772969 | K72: 33569108 | L72: 33467177 | M72: 33705015 | N72: 2015
C73: =+C72/D72-1 -> -0.0040160643 | D73: =+D72/E72-1 -> 0.0010050251 | E73: =+E72/F72-1 -> -0.004004004
B75: =+C70/C67-1 -> 0.060155933
C76: מדד מחירים לצרכן 11/11-11-12 | E76: =3.442%+2% -> 0.05442
E78: =+C72/C71-1 -> -0.0089715966 | G78: =+E71/K71-1 -> 0.0019646365

Sheet תחשיב תעריף לתאגיד בודד
G3: 1 | H3: מי ברק בע"מ
A4: שם תאגיד | G4: 2 | H4: הרי נצרת מפעלי מים וביוב בע"מ
G5: 3 | H5: התנור מים וביוב בע"מ
G6: 4 | H6: חברת הגיחון בע"מ תאגיד המים והביוב של ירושלים
A7: נתוני תאגיד כלליים | G7: 5 | H7: יובלים אשדוד בע"מ
B8: סיווג תאגיד | C8: =+VLOOKUP(B8,'תחשיב תעריף 2016'!$B$5:$BE$82,$H$64+1,0) -> חלש | G8: 6 | H8: יובלים בשומרון בע"מ
B9: האשכול החברתי של הישובים (למ"ס): | C9: =+VLOOKUP(B9,'תחשיב תעריף 2016'!$B$5:$BE$82,$H$64+1,0) -> 3 | G9: 7 | H9: כפרי גליל תחתון בע"מ
B10: שנת תחילת פעילות התאגיד | C10: =+VLOOKUP(B10,'תחשיב תעריף 2016'!$B$5:$BE$82,$H$64+1,0) -> 2009 | G10: 8 | H10: מי חדרה בע"מ
B11: יתרת פתיחה- מפקד נכסי מים מופחת | C11: =+VLOOKUP(B11,'תחשיב תעריף 2016'!$B$5:$BE$82,$H$64+1,0) -> 42979.931 | G11: 9 | H11: מי לוד בע"מ
B12: יתרת פתיחה מפקד נכסי ביוב מופחת | C12: =+VLOOKUP(B12,'תחשיב תעריף 2016'!$B$5:$BE$82,$H$64+1,0) -> 6102.764 | G12: 10 | H12: מי נע חברת המים והביוב של עיריית נצרת עילית בע"מ
B13: עדכון מפקד נכסי מים | C13: =+VLOOKUP(B13,'תחשיב תעריף 2016'!$B$5:$BE$82,$H$64+1,0) -> 94051.764 | G13: 11 | H13: מי נתניה (2003) בע"מ
B14: עידכון מפקד נכסי ביוב | C14: =+VLOOKUP(B14,'תחשיב תעריף 2016'!$B$5:$BE$82,$H$64+1,0) -> 78671.975 | G14: 12 | H14: מי עירון בע"מ
B15: מפקד נכסים מופחת -מים | C15: =+VLOOKUP(B15,'תחשיב תעריף 2016'!$B$5:$BE$82,$H$64+1,0) -> 60377.363 | G15: 13 | H15: מי ציונה בע"מ
B16: מפקד נכסים מופחת ביוב | C16: =+VLOOKUP(B16,'תחשיב תעריף 2016'!$B$5:$BE$82,$H$64+1,0) -> 12560.46 | G16: 14 | H16: מי רקת בע"מ
B17: רכיב זכויות מים | C17: =+VLOOKUP(B17,'תחשיב תעריף 2016'!$B$5:$BE$82,$H$64+1,0) -> 14179.218 | G17: 15 | H17: מי שבע תאגיד המים והביוב לבאר שבע בע"מ
B18: כמויות מים | C18: =+VLOOKUP(B18,'תחשיב תעריף 2016'!$B$5:$BE$82,$H$64+1,0) -> 10780.42 | G18: 16 | H18: מי שקמה תאגיד המים והביוב בע"מ
B19: כמויות ביוב | C19: =+VLOOKUP(B19,'תחשיב תעריף 2016'!$B$5:$BE$82,$H$64+1,0) -> 10687.855 | G19: 17 | H19: מיתב מים תיעול וביוב בע"מ
... B29: שיעור תשואה | C29: =+VLOOKUP(B29,'תחשיב תעריף 2016'!$B$5:$BE$82,$H$64+1,0) -> 0.07 | G29: 27 | H29: מי הרצליה
G30: 28 | H30: שרונים
G31: 29 | H31: מי כרמל
G32: 30 | H32: מי יבנה
A33: עלויות תאגידים | B33: עלויות תפעול | G33: 31 | H33: עין כרמים
B34: תפעול מים | C34: =+VLOOKUP(B34,'תחשיב תעריף 2016'!$B$5:$BE$82,$H$64+1,0) -> 0.91869263 | G34: 32 | H34: מי רהט
B35: תפעול ביוב | C35: =+VLOOKUP(B35,'תחשיב תעריף 2016'!$B$5:$BE$82,$H$64+1,0) -> 0.55462267 | G35: 33 | H35: עין אפק
G36: 34 | H36: פלגי מוצקין
G37: 35 | H37: מי קריית ביאליק
A38: פחת ,תשואה וריבית-מים | B38: פחת חשבונאי מים | C38: =+C13/C18/C25/(1-C23)*(1+C26) -> 0.28409027 | G38: 36 | H38: מי אביבים 2010 בע"מ
B39: ריבית מים | C39: =+C15*C20*C27/C18/(1-C23)*(1+C26) -> 0.22340847 | G39: 37 | H39: מעיינות השרון
B40: תשואה על מים | C40: =+C15*C29*(1-C20)/C18/(1-C23)*(1+C26) -> 0.13404508 | G40: 38 | H40: מי רמת גן
B41: החזר צרכנים מים | C41: =-((C11+C17/2)*C21/C18/(1-C23)*(1+C26)/C22) -> -0.22011973 | G41: 39 | H41: מי גבעתיים
B42: תשואה מוכרת -זכויות מים | C42: =+C17*C28/C18/(1-C23)*(1+C26) -> 0.083945565 | G42: 40 | H42: מי בת ים
B43: תעריף ממוצע רכישת מים-ממקורות גבוה | C43: =+'הנחות עבודה'!D8/(1-C23) -> 5.4391942 | G43: 41 | H43: מי אונו
B44: תעריף ממוצע רכישת מים-ממקורות נמוך | C44: =+'הנחות עבודה'!D9/(1-C23) -> 1.1081485 | G44: 42 | H44: סובב שפרעם
G45: 43 | H45: מי עכו
A46: פחת,תשואה וריבית-ביוב | B46: פחת חשבונאי ביוב | C46: =+C14/C19/C25/(1-C23)*(1+C26) -> 0.23969258 | G46: 44 | H46: ימים
B47: ריבית ביוב | C47: =+C16*C20*C27/C19/(1-C23)*(1+C26) -> 0.046878766 | G47: 45 | H47: מי הוד השרון
B48: תשואה על ביוב | C48: =+C16*C29*(1-C20)/C19/(1-C23)*(1+C26) -> 0.028127259 | G48: 46 | H48: אל עין
B49: החזר צרכנים ביוב | C49: =-(C12*C21/C19/(1-C23)*(1+C26))/C22 -> -0.027061824 | G49: 47 | H49: מי גליל
B50: תעריף מט"ש-כולל פחת מים | C50: =+VLOOKUP(B50,'תחשיב תעריף 2016'!$B$5:$BE$82,$H$64+1,0) -> 2.477571 | G50: 48 | H50: מי אשקלון
G51: 49 | H51: מעיינות הדרום
A52: סיכום עלויות תאגידים | B52: עלות לתעריף גבוה-מים | C52: =+C34+C38+C39+C40+C41+C42+C43 -> 6.8632565 | G52: 50 | H52: מעיינות העמקים
B53: עלות לתעריף נמוך-מים | C53: =+C52+(-C43*(1-C23)+C44*(1-C23)) -> 2.9522565 | G53: 51 | H53: מי בית שמש
B54: עלות ביוב | C54: =+C35+C46+C47+C48+C49+C50 -> 3.3198305 | G54: 52 | H54: מעיינות המשולש
G55: 53 | H55: נווה מדבר
G56: 54 | H56: פלגי השרון
A57: חישוב תעריף מקורות לתאגיד | B57: תעריף אחיד גבוה לצרכן ביתי | C57: =+VLOOKUP(B57,'תחשיב תעריף 2016'!$B$5:$BE$82,$H$64+1,0) -> 10.559746 | G57: 55 | H57: מי תקווה
B58: עלות ביוב בתוספת פחת גביה | C58: =+C54/(1-C24) -> 3.5002819 | G58: 56 | H58: מי שהם
B59: עלות לתאגיד ללא תעריף מקורות ובתוספת פחת גביה | C59: =+(C52-C43)/(1-C24) -> 1.5014681 | G59: 57 | H59: מי ציונה מורחב
B60: תעריף רכישת מים ממקורות ללא פחתי מים וגביה | C60: =+C57-C58-C59 -> 5.5579963 | G60: 58 | H60: מעיינות העמקים מורחב
B61: תעריף רכישה גבוה ממקורות בתוספת פחתי מים וגביה | C61: =+C60*(1-C24)*(1-C23) -> 4.7602107 | G61: 59 | H61: מי מודיעין מורחב
G62: 60 | H62: מי לוד מורחב
B64: תעריף אחיד נמוך לצרכן ביתי | C64: =+VLOOKUP(B64,'תחשיב תעריף 2016'!$B$5:$BE$82,$H$64+1,0) -> 6.5610803 | H64: 1
B65: עלות ביוב בתוספת פחת גביה | C65: =+C58 -> 3.5002819
B66: עלות לתאגיד ללא תעריף מקורות ובתוספת פחת גביה | C66: =+C59 -> 1.5014681
B67: תעריף רכישת מים ממקורות ללא פחתי מים וגביה | C67: =+(C64-C65-C66)-(C61/(1-C23)-C61)/(1-C24) -> 1.020289
B68: תעריף רכישה נמוך ממקורות בתוספת פחתי מים וגביה | C68: =+C67*(1-C24) -> 0.96768963
A73: חישוב תעריף מקורות עירייה | B73: עלות לתעריף גבוה-מים | C73: =+C52 -> 6.8632565
B74: תעריף ממוצע רכישת מים-ממקורות גבוה | C74: =+'הנחות עבודה'!D8 -> 4.9116749
B75: תעריף עירייה | C75: =+'הנחות עבודה'!D31 -> 3.8111734
B76: סה"כ תעריף | C76: =+C73-C74+C75 -> 5.7627549
B77: פחת גביה | C77: =+C24 -> 0.051553418
B78: סה"כ תעריף גינון עירייה | C78: =+C76/(1-C77) -> 6.0759931
B81: תעריף גינון ציבורי אחיד לרשויות | C81: =+'ריכוז עלויות'!$B$68 -> 5.8829401
B82: תעריף מקורות לגינון ציבורי | C82: =+C81-C59-(C61/(1-C23)-C61)/(1-C24) -> 3.8424308
B83: תעריף מקורות בניכוי פחת גביה לגינון ציבורי | C83: =+C82*(1-C24) -> 3.6443403

Sheet נתוני מים 2011 מעודכן
A1: מספר | E1: אוכלוסיה | F1: תקבולים | G1: תקבולים | H1: סה"כ | I1: צריכה | J1: צריכה | K1: צריכה | L1: צריכה | M1: סה"כ | N1: סה"כ | O1: סה"כ | P1: צר' סגולית | Q1: צר' סגולית | R1: מוסדות-נתוני 2010
A2: סידורי | B2: שם התאגיד | D2: שם הישוב | E2: 2011 | F2: הפקה | G2: קניה | H2: תקבולים | I2: במגורים | J2: עירונית | K2: תעשייתית | L2: חקלאית | M2: צריכה | N2: פחת | O2: פחת | P2: מגורים | Q2: עירונית | R2: רשות מקומית | S2: סקר 2009
E3: נפש | F3: מ"ק | G3: מ"ק | H3: מ"ק | I3: מ"ק | J3: מ"ק | K3: מ"ק | L3: מ"ק | M3: מ"ק | N3: מ"ק | O3: % | P3: מ"ק/נ/שנה | Q3: מ"ק/נ/שנה | R3: מ"ק
C4: 1 | D4: אבו סנאן | E4: 12856 | F4: 0 | G4: 844413 | H4: 844413 | I4: 585730 | J4: 657280 | K4: 6685 | L4: 707 | M4: 664672 | N4: 179741 | O4: 21.285911 | P4: 45.560828 | Q4: 51.126322 | R4: 0
C5: 2 | D5: ג'וליס | E5: 5868 | F5: 0 | G5: 456900 | H5: 456900 | I5: 251438 | J5: 297072 | K5: 1327 | L5: 678 | M5: 299077 | N5: 157823 | O5: 34.542132 | P5: 42.849012 | Q5: 50.625767 | R5: 0
C6: 3 | D6: כפר יאסיף | E6: 8947 | F6: 0 | G6: 679942 | H6: 679942 | I6: 476860 | J6: 582205 | K6: 0 | L6: 28416 | M6: 610621 | N6: 69321 | O6: 10.195134 | P6: 53.298312 | Q6: 65.07265 | R6: 0
C7: 4 | D7: ירכא | E7: 15343 | F7: 0 | G7: 1352569 | H7: 1352569 | I7: 618591 | J7: 812027 | K7: 22266 | L7: 17242 | M7: 851535 | N7: 501034 | O7: 37.043138 | P7: 40.317474 | Q7: 52.924917 | R7: 0
C8: 5 | D8: ג'דידה אלמכר | E8: 18988 | F8: 0 | G8: 1436138 | H8: 1436138 | I8: 935763 | J8: 1051274 | K8: 0 | L8: 7949 | M8: 1059223 | N8: 376915 | O8: 26.245041 | P8: 49.28181 | Q8: 55.365178 | R8: 0
C9: 6 | D9: מזרעה | E9: 3484 | F9: 0 | G9: 250660 | H9: 250660 | I9: 164810 | J9: 179826 | K9: 0 | L9: 23457 | M9: 203283 | N9: 47377 | O9: 18.900902 | P9: 47.304822 | Q9: 51.614811 | R9: 0
C10: 7 | D10: יאנוח ג'ת | E10: 5878 | F10: 0 | G10: 472478 | H10: 472478 | I10: 235521 | J10: 255627 | K10: 0 | L10: 3531 | M10: 259158 | N10: 213320 | O10: 45.149192 | P10: 40.06822 | Q10: 43.488772 | R10: 0
A11: 1 | B11: אל עין | C11: 8 | D11: סה"כ תאגיד | E11: =SUM(E4:E10) -> 71364 | F11: =SUM(F4:F10) -> 0 | G11: =SUM(G4:G10) -> 5493100 | H11: =SUM(H4:H10) -> 5493100 | I11: =SUM(I4:I10) -> 3268713 | J11: =SUM(J4:J10) -> 3835311 | K11: =SUM(K4:K10) -> 30278 | L11: =SUM(L4:L10) -> 81980 | ... N11: =SUM(N4:N10) -> 1545531 | O11: 28.135861 | P11: 45.803388 | Q11: 53.742938 | R11: =SUM(R4:R10) -> 0
C12: 9 | D12: ירושלים | E12: 804355 | F12: 0 | G12: 57465303 | H12: 57465303 | I12: 29584429 | J12: 46430151 | K12: 2729779 | L12: 342936 | M12: 49502866 | N12: 7962437 | O12: 13.856078 | P12: 36.780313 | Q12: 57.723457 | R12: 0
C13: 10 | D13: אבו גוש | E13: 6270 | F13: 0 | G13: 379883 | H13: 379883 | I13: 229386 | J13: 255647 | K13: 0 | L13: 800 | M13: 256447 | N13: 123436 | O13: 32.493162 | P13: 36.584689 | Q13: 40.773046 | R13: 0
C14: 11 | D14: מבשרת ציון | E14: 25305 | F14: 0 | G14: 1861170 | H14: 1861170 | I14: 1386218 | J14: 1543371 | K14: 0 | L14: 0 | M14: 1543371 | N14: 317799 | O14: 17.075227 | P14: 54.780399 | Q14: 60.990753 | R14: 0
A15: 2 | B15: חברת הגיחון בע"מ תאגיד המים והביוב של ירושלים | C15: 12 | D15: סה"כ תאגיד | E15: 835930 | F15: 0 | G15: =59706356-4800000 -> 54906356 | H15: =59706356-4800000 -> 54906356 | I15: 31200033 | J15: =48229169-4800000 -> 43429169 | K15: 2729779 | L15: 343736 | M15: 51302684 | N15: 8403672 | O15: 14.075004 | P15: 37.323739 | Q15: 57.695224 | R15: 0
C16: 13 | D16: אכסאל | E16: 12709 | F16: 0 | G16: 847034 | H16: 847034 | I16: 535862 | J16: 639702 | K16: 0 | L16: 12210 | M16: 651912 | N16: 195122 | O16: 23.035911 | P16: 42.163978 | Q16: 50.334566 | R16: 0
C17: 14 | D17: ריינה | E17: 17532 | F17: 0 | G17: 1332252 | H17: 1332252 | I17: 736861 | J17: 990898 | K17: 0 | L17: 0 | M17: 990898 | N17: 341354 | O17: 25.62233 | P17: 42.029489 | Q17: 56.519393 | R17: 0
C18: 15 | D18: עילוט | E18: 7106 | F18: 0 | G18: 465452 | H18: 465452 | I18: 275412 | J18: 342965 | K18: 0 | L18: 0 | M18: 342965 | N18: 122487 | O18: 26.31571 | P18: 38.75767 | Q18: 48.264143 | R18: 0
C19: 16 | D19: יפיע | E19: 17206 | F19: 0 | G19: 1037518 | H19: 1037518 | I19: 732550 | J19: 771692 | K19: 0 | L19: 0 | M19: 771692 | N19: 265826 | O19: 25.621339 | P19: 42.575264 | Q19: 44.850169 | R19: 0
C20: 17 | D20: נצרת | E20: 73658 | F20: 0 | G20: 5264644 | H20: 5264644 | I20: 3394665 | J20: 3909214 | K20: 206700 | L20: 0 | M20: 4115914 | N20: 1148730 | O20: 21.819709 | P20: 46.086847 | Q20: 53.072497 | R20: 0
A21: 3 | B21: הרי נצרת מפעלי מים וביוב בע"מ | C21: 18 | D21: סה"כ תאגיד | E21: 128211 | F21: 0 | G21: 8946900 | H21: 8946900 | I21: 5675350 | J21: 6654471 | K21: 206700 | L21: 12210 | M21: 6873381 | N21: 2073519 | O21: 23.175837 | P21: 44.265703 | Q21: 51.902497 | R21: 0
C22: 19 | D22: מטולה | E22: 1568 | F22: 0 | G22: 197889 | H22: 197889 | I22: 110781 | J22: 175472 | K22: 11822 | L22: 0 | M22: 187294 | N22: 10595 | O22: 5.3540116 | P22: 70.651148 | Q22: 111.90816 | R22: 58532
C23: 20 | D23: קרית שמונה | E23: 22992 | F23: 0 | G23: 1798367 | H23: 1798367 | I23: 1177364 | J23: 1605059 | K23: 12024 | L23: 8888 | M23: 1625971 | N23: 172396 | O23: 9.5862524 | P23: 51.20755 | Q23: 69.809455 | R23: 143431
C24: 21 | D24: קצרין | E24: 6619 | F24: 0 | G24: 753970 | H24: 753970 | I24: 347517 | J24: 536226 | K24: 98323 | L24: 494 | M24: 635043 | N24: 118927 | O24: 15.773439 | P24: 52.502946 | Q24: 81.013144 | R24: 56971
C25: 22 | D25: מסעדה | E25: 3253 | F25: 0 | G25: 218837 | H25: 218837 | I25: 132423 | J25: 195399 | K25: 0 | L25: 0 | M25: 195399 | N25: 23438 | O25: 10.710255 | P25: 40.707962 | Q25: 60.067322
C26: 23 | D26: מג'דל שמס | E26: 9927 | F26: 0 | G26: 766775 | H26: 766775 | I26: 374292 | J26: 525229 | K26: 0 | L26: 0 | M26: 525229 | N26: 241546 | O26: 31.501549 | P26: 37.704442 | Q26: 52.909137
A27: 9 | C27: 24 | D27: בוקעאתא | E27: 5989 | F27: 0 | G27: 421635 | H27: 421635 | I27: 240937 | J27: 343274 | K27: 0 | L27: 8320 | M27: 351594 | N27: 70041 | O27: 16.611761 | P27: 40.229922 | Q27: 57.317415
A28: 50 | C28: 25 | D28: עין קיניא | E28: 1806 | F28: 0 | G28: 120705 | H28: 120705 | I28: 100063 | J28: 101547 | K28: 0 | L28: 0 | M28: 101547 | N28: 19158 | O28: 15.871753 | P28: 55.405869 | Q28: 56.227575
A29: 4 | B29: התנור מים וביוב בע"מ | C29: 26 | D29: סה"כ תאגיד | E29: =SUM(E22:E28) -> 52154 | F29: =SUM(F22:F28) -> 0 | G29: =SUM(G22:G28) -> 4278178 | H29: =SUM(H22:H28) -> 4278178 | I29: =SUM(I22:I28) -> 2483377 | J29: =SUM(J22:J28) -> 3482206 | K29: =SUM(K22:K28) -> 122169 | L29: =SUM(L22:L28) -> 17702 | ... N29: =SUM(N22:N28) -> 656101 | O29: =AVERAGE(P22:P28) -> 49.772834 | P29: 52.460374 | Q29: 74.305045 | R29: =SUM(R22:R26) -> 258934
C30: 27 | D30: אשדוד | E30: 212278 | F30: 827090 | G30: 16004100 | H30: 16831190 | I30: 9872889 | J30: 13420488 | K30: 2040300 | L30: 0 | M30: 15460788 | N30: 1370402 | O30: 8.1420387 | P30: 46.509243 | Q30: 63.221285 | R30: 1034558 | S30: 182088
A31: 5 | B31: יובלים אשדוד בע"מ | C31: 28 | D31: סה"כ תאגיד | E31: 212278 | F31: 827090 | G31: 16004100 | H31: 16831190 | I31: 9872889 | J31: 13420488 | K31: 2040300 | L31: 0 | M31: 15460788 | N31: 1370402 | O31: 8.1420387 | P31: 46.509243 | Q31: 63.221285 | R31: =SUM(R30) -> 1034558 | S31: 905575
C32: 29 | D32: אריאל | E32: 17849 | F32: 0 | G32: 1228303 | H32: 1228303 | I32: 751892 | J32: 1129249 | K32: 20312 | L32: 0 | M32: 1149561 | N32: 78742 | O32: 6.4106332 | P32: 42.125161 | Q32: 63.266794
C33: 30 | D33: קרני שומרון | E33: 6449 | F33: 0 | G33: 520809 | H33: 520809 | I33: 285034 | J33: 427254 | K33: 38390 | L33: 0 | M33: 465644 | N33: 55165 | O33: 10.592175 | P33: 44.19817 | Q33: 66.251202
A34: 6 | B34: יובלים בשומרון בע"מ | C34: 31 | D34: סה"כ תאגיד | E34: 24298 | F34: 0 | G34: 1749112 | H34: 1749112 | I34: 1036926 | J34: 1556503 | K34: 58702 | L34: 0 | M34: 1615205 | N34: 133907 | O34: 7.6557133 | P34: 42.675364 | Q34: 64.058894 | R34: =SUM(R32:R33) -> 0
C35: 32 | D35: קריית ים | E35: 38211 | F35: 0 | G35: 2561785 | H35: 2561785 | I35: 1733935 | J35: 2095864 | K35: 12583 | L35: 0 | M35: 2108447 | N35: 453338 | O35: 17.696177 | P35: 45.377902 | Q35: 54.849755 | R35: 54322
A36: 7 | B36: ימים | C36: 33 | D36: סה"כ תאגיד | E36: 38211 | F36: 0 | G36: 2561785 | H36: 2561785 | I36: 1733935 | J36: 2095864 | K36: 12583 | L36: 0 | M36: 2108447 | N36: 453338 | O36: 17.696177 | P36: 45.377902 | Q36: 54.849755 | R36: =SUM(R35) -> 54322 | S36: 36948
C37: 34 | D37: דבורייה | E37: 9335 | F37: 0 | G37: 608966 | H37: 608966 | I37: 428649 | J37: 472702 | K37: 0 | L37: 4249 | M37: 476951 | N37: 132015 | O37: 21.67855 | P37: 45.918479 | Q37: 50.6376 | R37: 34347
C38: 35 | D38: טורעאן | E38: 12406 | F38: 0 | G38: 861043 | H38: 861043 | I38: 475550 | J38: 523804 | K38: 0 | L38: 24956 | M38: 548760 | N38: 312283 | O38: 36.267991 | P38: 38.332259 | Q38: 42.221828 | R38: 50447
C39: 36 | D39: שיבלי | E39: 5255 | F39: 0 | G39: 360310 | H39: 360310 | I39: 207005 | J39: 228970 | K39: 0 | L39: 6880 | M39: 235850 | N39: 124460 | O39: 34.542477 | P39: 39.392008 | Q39: 43.571836 | R39: 34981
C40: 37 | D40: בועיינה-נוג'ידאת | E40: 8338 | F40: 0 | G40: 331580 | H40: 331580 | I40: 218956 | J40: 251085 | K40: 24926 | L40: 2784 | M40: 278795 | N40: 52785 | O40: 15.919235 | P40: 26.260014 | Q40: 30.113337 | R40: 28833
C41: 38 | D41: כפר כנא | E41: 19703 | F41: 0 | G41: 1230454 | H41: 1230454 | I41: 717375 | J41: 876566 | K41: 7281 | L41: 17883 | M41: 901730 | N41: 328724 | O41: 26.715668 | P41: 36.40943 | Q41: 44.488961 | R41: 77367
C42: 39 | D42: משהד | E42: 7276 | F42: 0 | G42: 398918 | H42: 398918 | I42: 276216 | J42: 293794 | K42: 0 | L42: 8056 | M42: 301850 | N42: 97068 | O42: 24.33282 | P42: 37.962617 | Q42: 40.378505 | R42: 7604
C43: 40 | D43: עין מאהל | E43: 11673 | F43: 0 | G43: 747337 | H43: 747337 | I43: 426562 | J43: 474949 | K43: 0 | L43: 9597 | M43: 484546 | N43: 262791 | O43: 35.163654 | P43: 36.54262 | Q43: 40.687827 | R43: 0
A44: 8 | B44: כפרי גליל תחתון בע"מ | C44: 41 | D44: סה"כ תאגיד | E44: 73986 | F44: 0 | G44: 4538608 | H44: 4538608 | I44: 2750313 | J44: 3121870 | K44: 32207 | L44: 74405 | M44: 3228482 | N44: 1310126 | O44: 28.866252 | P44: 37.173425 | Q44: 42.195415 | R44: =SUM(R37:R43) -> 233579 | S44: 224541
C45: 42 | D45: נצרת עילית | E45: 40582 | F45: 0 | G45: 3422613 | H45: 3422613 | I45: 1900514 | J45: 2594710 | K45: 597023 | L45: 0 | M45: 3191733 | N45: 230880 | O45: 6.7457232 | P45: 46.831452 | Q45: 63.93746 | R45: 49105
C46: 43 | D46: מגדל העמק | E46: 24115 | F46: 0 | G46: 2748574 | H46: 2748574 | I46: 1121094 | J46: 1627598 | K46: 1008229 | L46: 0 | M46: 2635827 | N46: 112747 | O46: 4.102018 | P46: 46.489488 | Q46: 67.493179 | R46: 87108
C47: 44 | D47: עפולה | E47: 41293 | F47: 0 | G47: 3347614 | H47: 3347614 | I47: 2014326 | J47: 2869144 | K47: 185474 | L47: 15349 | M47: 3069967 | N47: 277647 | O47: 8.2938774 | P47: 48.781295 | Q47: 69.482576 | R47: 0
A48: 9 | B48: מי נע חברת המים והביוב של עיריית נצרת עילית בע"מ | C48: 46 | D48: סה"כ תאגיד | E48: =SUM(E45:E47) -> 105990 | F48: =SUM(F45:F47) -> 0 | G48: =SUM(G45:G47) -> 9518801 | H48: =SUM(H45:H47) -> 9518801 | I48: =SUM(I45:I47) -> 5035934 | J48: =SUM(J45:J47) -> 7091452 | K48: =SUM(K45:K47) -> 1790726 | L48: =SUM(L45:L47) -> 15349 | ... N48: =SUM(N45:N47) -> 621274 | O48: 5.5682481 | P48: 46.703989 | Q48: 65.26281 | R48: =SUM(R45:R47) -> 136213 | S48: 329665
C49: 47 | D49: תל אביב-יפו | E49: 404750 | F49: 4468449 | G49: 39839900 | H49: 44308349 | I49: 24971737 | J49: 37213610 | K49: 1639622 | L49: 17079 | M49: 38870311 | N49: 5438038 | O49: 12.273168 | P49: 61.696694 | Q49: 91.942211
A50: 10 | B50: מי אביבים 2010 בע"מ | C50: 48 | D50: סה"כ תאגיד | E50: 404750 | F50: 4468449 | G50: 39839900 | H50: 44308349 | I50: 24971737 | J50: 37213610 | K50: 1639622 | L50: 17079 | M50: 38870311 | N50: 5438038 | O50: 12.273168 | P50: 61.696694 | Q50: 91.942211
C51: 49 | D51: קרית אונו | E51: 33384 | F51: 1385331 | G51: 992789 | H51: 2378120 | I51: 1876803 | J51: 2219824 | K51: 0 | L51: 0 | M51: 2219824 | N51: 158296 | O51: 6.6563504 | P51: 56.218638 | Q51: 66.49365 | R51: 15766
C52: 50 | D52: יהוד מונוסון | E52: 27604 | F52: 0 | G52: 2384380 | H52: 2384380 | I52: 1563555 | J52: 1933367 | K52: 45830 | L52: 43195 | M52: 2022392 | N52: 361988 | O52: 15.181641 | P52: 56.642334 | Q52: 70.039378
A53: 11 | B53: מי אונו | C53: 51 | D53: סה"כ תאגיד | E53: =SUM(E51:E52) -> 60988 | F53: =SUM(F51:F52) -> 1385331 | G53: =SUM(G51:G52) -> 3377169 | H53: =SUM(H51:H52) -> 4762500 | I53: =SUM(I51:I52) -> 3440358 | J53: =SUM(J51:J52) -> 4153191 | K53: =SUM(K51:K52) -> 45830 | L53: =SUM(L51:L52) -> 43195 | ... N53: =SUM(N51:N52) -> 520284 | O53: 6.6563504 | P53: 56.218638 | Q53: 66.49365 | R53: =SUM(R51) -> 15766 | S53: 46798
C54: 52 | D54: אשקלון | E54: 117429 | F54: 0 | G54: 10198160 | H54: 10198160 | I54: 6280356 | J54: 8341082 | K54: 1047814 | L54: 79321 | M54: 9468217 | N54: 729943 | O54: 7.1575951 | P54: 53.482155 | Q54: 71.030853
C55: 53 | D55: נתיבות | E55: 27978 | F55: 0 | G55: 2121400 | H55: 2121400 | I55: 1228651 | J55: 1633991 | K55: 51994 | L55: 0 | M55: 1685985 | N55: 435415 | O55: 20.524889 | P55: 43.914897 | Q55: 58.402709
A56: 12 | B56: מי אשקלון | C56: 55 | D56: סה"כ תאגיד | E56: =SUM(E54:E55) -> 145407 | F56: =SUM(F54:F55) -> 0 | G56: =SUM(G54:G55) -> 12319560 | H56: =SUM(H54:H55) -> 12319560 | I56: =SUM(I54:I55) -> 7509007 | J56: =SUM(J54:J55) -> 9975073 | K56: =SUM(K54:K55) -> 1099808 | L56: =SUM(L54:L55) -> 79321 | ... N56: =SUM(N54:N55) -> 1165358 | O56: 9.4594125 | P56: 51.641303 | Q56: 68.601051
C57: 56 | D57: בני ברק | E57: 163301 | F57: 3054211 | G57: 7147497 | H57: 10201708 | I57: 6730145 | J57: 8988794 | K57: 747169 | L57: 0 | M57: 9735963 | N57: 465745 | O57: 4.565363 | P57: 41.213128 | Q57: 55.044329 | R57: 544668
A58: 13 | B58: מי ברק בע"מ | C58: 57 | D58: סה"כ תאגיד | E58: 163301 | F58: 3054211 | G58: 7147497 | H58: 10201708 | I58: 6730145 | J58: 8988794 | K58: 747169 | L58: 0 | M58: 9735963 | N58: 465745 | O58: 4.565363 | P58: 41.213128 | Q58: 55.044329 | R58: =SUM(R57) -> 544668 | S58: 1296911
C59: 58 | D59: בת ים | E59: 128157 | F59: 7199999 | G59: 1681900 | H59: 8881899 | I59: 6194392 | J59: 7624821 | K59: 240986 | L59: 0 | M59: 7865807 | N59: 1016092 | O59: 11.440031 | P59: 48.334402 | Q59: 59.495939 | R59: 32163
A60: 14 | B60: מי בת ים | C60: 59 | D60: סה"כ תאגיד | E60: 128157 | F60: 7199999 | G60: 1681900 | H60: 8881899 | I60: 6194392 | J60: 7624821 | K60: 240986 | L60: 0 | M60: 7865807 | N60: 1016092 | O60: 11.440031 | P60: 48.334402 | Q60: 59.495939 | R60: =SUM(R59) -> 32163 | S60: 442203
C61: 60 | D61: גבעתיים | E61: 54728 | F61: 1955300 | G61: 1673272 | H61: 3628572 | I61: 2890474 | J61: 3398864 | K61: 0 | L61: 0 | M61: 3398864 | N61: 229708 | O61: 6.3305344 | P61: 52.815268 | Q61: 62.104663 | R61: 110094
A62: 15 | B62: מי גבעתיים | C62: 61 | D62: סה"כ תאגיד | E62: 54728 | F62: 1955300 | G62: 1673272 | H62: 3628572 | I62: 2890474 | J62: 3398864 | K62: 0 | L62: 0 | M62: 3398864 | N62: 229708 | O62: 6.3305344 | P62: 52.815268 | Q62: 62.104663 | R62: =SUM(R61) -> 110094 | S62: 223597
C63: 62 | D63: סכנין | E63: 27087 | F63: 0 | G63: 2094569 | H63: 2094569 | I63: 1096413 | J63: 1362181 | K63: 9230 | L63: 13167 | M63: 1384578 | N63: 709991 | O63: 33.896759 | P63: 40.477462 | Q63: 50.289105
C64: 63 | D64: נחף | E64: 11249 | F64: 0 | G64: 609166 | H64: 609166 | I64: 398473 | J64: 443194 | K64: 0 | L64: 3775 | M64: 446969 | N64: 162197 | O64: 26.626076 | P64: 35.422971 | Q64: 39.398524
C65: 64 | D65: דיר חנא | E65: 9248 | F65: 0 | G65: 650565 | H65: 650565 | I65: 407256 | J65: 458625 | K65: 0 | L65: 8082 | M65: 466707 | N65: 183858 | O65: 28.261281 | P65: 44.037197 | Q65: 49.591804
C66: 65 | D66: בענה | E66: 7510 | F66: 0 | G66: 717984 | H66: 717984 | I66: 379343 | J66: 420864 | K66: 0 | L66: 52396 | M66: 473260 | N66: 244724 | O66: 34.084882 | P66: 50.511718 | Q66: 56.040479
C67: 66 | D67: עראבה | E67: 22229 | F67: 0 | G67: 1809982 | H67: 1809982 | I67: 1055672 | J67: 1231997 | K67: 30027 | L67: 15820 | M67: 1277844 | N67: 532138 | O67: 29.400182 | P67: 47.490755 | Q67: 55.422961
C68: 67 | D68: מג'דל כרום | E68: 13789 | F68: 0 | G68: 906528 | H68: 906528 | I68: 592557 | J68: 669988 | K68: 0 | L68: 0 | M68: 669988 | N68: 236540 | O68: 26.092961 | P68: 42.973167 | Q68: 48.588585
C69: 68 | D69: דיר אלאסד | E69: 10942 | F69: 0 | G69: 749984 | H69: 749984 | I69: 464815 | J69: 508859 | K69: 0 | L69: 706 | M69: 509565 | N69: 240419 | O69: 32.056551 | P69: 42.479894 | Q69: 46.505118
A70: 16 | B70: מי גליל | C70: 69 | D70: סה"כ תאגיד | E70: 102054 | F70: 0 | G70: 7538778 | H70: 7538778 | I70: 4394529 | J70: 5095708 | K70: 39257 | L70: 93946 | M70: 5228911 | N70: 2309867 | O70: 30.639807 | P70: 43.060821 | Q70: 49.931487
C71: 70 | D71: הוד השרון | E71: 49943 | F71: 30040 | G71: 4232809 | H71: 4262849 | I71: 2877619 | J71: 3682998 | K71: 90376 | L71: 261490 | M71: 4034864 | N71: 227985 | O71: 5.3481838 | P71: 57.618065 | Q71: 73.744028 | R71: 47009
A72: 17 | B72: מי הוד השרון | C72: 71 | D72: סה"כ תאגיד | E72: 49943 | F72: 30040 | G72: 4232809 | H72: 4262849 | I72: 2877619 | J72: 3682998 | K72: 90376 | L72: 261490 | M72: 4034864 | N72: 227985 | O72: 5.3481838 | P72: 57.618065 | Q72: 73.744028 | R72: =SUM(R71) -> 47009 | S72: 280848
C73: 72 | D73: הרצליה | E73: 88734 | F73: 3105510 | G73: 6964400 | H73: 10069910 | I73: 6557659 | J73: 8961415 | K73: 252349 | L73: 54918 | M73: 9268682 | N73: 801228 | O73: 7.956655 | P73: 73.902439 | Q73: 100.9919 | R73: 196899
A74: 18 | B74: מי הרצליה | C74: 73 | D74: סה"כ תאגיד | E74: 88734 | F74: 3105510 | G74: 6964400 | H74: 10069910 | I74: 6557659 | J74: 8961415 | K74: 252349 | L74: 54918 | M74: 9268682 | N74: 801228 | O74: 7.956655 | P74: 73.902439 | Q74: 100.9919 | R74: =SUM(R73) -> 196899 | S74: 555888
C75: 74 | D75: חדרה | E75: 82489 | F75: 2157072 | G75: 4874141 | H75: 7031213 | I75: 4101508 | J75: 5901164 | K75: 247010 | L75: 20346 | M75: 6168520 | N75: 862693 | O75: 12.269476 | P75: 49.721878 | Q75: 71.538799 | R75: 353114
A76: 19 | B76: מי חדרה בע"מ | C76: 78 | D76: סה"כ תאגיד | E76: =SUM(E75:E75) -> 82489 | F76: =SUM(F75:F75) -> 2157072 | G76: =SUM(G75:G75) -> 4874141 | H76: =SUM(H75:H75) -> 7031213 | I76: =SUM(I75:I75) -> 4101508 | J76: =SUM(J75:J75) -> 5901164 | K76: =SUM(K75:K75) -> 247010 | L76: =SUM(L75:L75) -> 20346 | ... N76: =SUM(N75:N75) -> 862693 | O76: 12.269476 | P76: 49.721878 | Q76: 71.538799 | R76: =SUM(R75) -> 353114 | S76: 1016303
C77: 79 | D77: יבנה | E77: 33333 | F77: 0 | G77: 3951302 | H77: 3951302 | I77: 1778776 | J77: 2561346 | K77: 257420 | L77: 0 | M77: 2818766 | N77: 1132536 | O77: 28.66235 | P77: 53.363814 | Q77: 76.841148 | R77: 385300
C78: 80 | D78: גן יבנה | E78: 20460 | F78: 668140 | G78: 983990 | H78: 1652130 | I78: 1165699 | J78: 1411287 | K78: 74034 | L78: 62633 | M78: 1547954 | N78: 104176 | O78: 6.3055571 | P78: 56.974536 | Q78: 68.977859 | R78: 0
A79: 20 | B79: מי יבנה | C79: 82 | D79: סה"כ תאגיד | E79: =SUM(E77:E78) -> 53793 | F79: =SUM(F77:F78) -> 668140 | G79: =SUM(G77:G78) -> 4935292 | H79: =SUM(H77:H78) -> 5603432 | I79: =SUM(I77:I78) -> 2944475 | J79: =SUM(J77:J78) -> 3972633 | K79: =SUM(K77:K78) -> 331454 | L79: =SUM(L77:L78) -> 62633 | ... N79: =SUM(N77:N78) -> 1236712 | O79: 22.070617 | P79: 54.737141 | Q79: 73.850371 | R79: =SUM(R77:R78) -> 385300 | S79: 403028
C80: 83 | D80: חיפה | E80: 270348 | F80: 0 | G80: 23482100 | H80: 23482100 | I80: 10871842 | J80: 18803366 | K80: 1624389 | L80: 0 | M80: 20427755 | N80: 3054345 | O80: 13.00712 | P80: 40.21425 | Q80: 69.552451
A81: 21 | B81: מי כרמל | C81: 84 | D81: סה"כ תאגיד | E81: 270348 | F81: 0 | G81: 23482100 | H81: 23482100 | I81: 10871842 | J81: 18803366 | K81: 1624389 | L81: 0 | M81: 20427755 | N81: 3054345 | O81: 13.00712 | P81: 40.21425 | Q81: 69.552451
