Workbook

Sheet שנת 2010
X1: ***לא מבוקר
C2: שם תאגיד | G2: מי אריאל (אריאל) | H2: מי עירון | I2: פלג הגליל | J2: הוד השרון | K2: מי מודיעין (מודיעין) | L2: מי ציונה | M2: קריית אונו | N2: מי חדרה | O2: מי שבע | P2: קריית אתא | Q2: מניב ראשון (ראשון) | R2: מי לוד | S2: מי שקמה | T2: עין נטפים (אילת) | U2: רמת השרון | V2: הרצליה | W2: מי השרון | X2: מי רקת | Y2: רהט | Z2: הגיחון (ירושלים) | AA2: חיפה | AB2: ימים | AC2: באר מים חיים | AD2: עין אפק | AE2: סובב שפרעם | AF2: גבעתיים | AG2: תל אביב ב | AH2: מי גליל | AI2: מי יבנה | AJ2: אל עין | AK2: כפרי הגליל התחתון | AL2: בית שמש | AM2: מי דרום | AN2: עין אפק | AO2: התנור | AP2: בת ים | AQ2: מי נע (נצרת) | AR2: מיתב (פתח תקווה) | AS2: באר מים חיים | AT2: עכו | AU2: רעננה | AV2: קריית גת
C3: 21.1.1 | G3: 2010 | H3: 2010 | I3: 2010 | J3: 2010 | K3: 2010 | L3: 2010 | M3: 2010 | N3: 2010 | O3: 2010 | P3: 2010 | Q3: 2010 | R3: 2010 | S3: 2010 | T3: 2010 | U3: 2010 | V3: 2010 | W3: 2010 | X3: 2010 | Y3: 2010 | Z3: 2010 | AA3: 2010 | AB3: 2010 | AC3: 2010 | AD3: 2010 | AE3: 2010 | AF3: 2010 | AG3: 2010 | AH3: 2010 | AI3: 2010 | AJ3: 2010 | AK3: 2010 | AL3: 2010 | AM3: 2010 | AN3: 2010 | AO3: 2010 | AP3: 2010 | AQ3: 2010 | AR3: 2010 | AS3: 2010 | AT3: 2010 | AU3: 2010 | AV3: 2010
A4: .21.1 | C4: רווח (הפסד) גולמי מאספקת מים
C5: 21.1.1 | D5: הכנסות - | G5: 2010 | H5: 2010 | I5: 2010 | J5: 2010 | K5: 2010 | L5: 2010 | M5: 2010 | N5: 2010 | O5: 2010 | P5: 2010 | Q5: 2010 | R5: 2010 | S5: 2010 | T5: 2010 | U5: 2010
D6: מאגרות מים
D7: מהיטלי מים
D8: ***
G9: =SUM(G6:G8) -> 0 | H9: =SUM(H6:H8) -> 0 | I9: =SUM(I6:I8) -> 0 | J9: =SUM(J6:J8) -> 0 | K9: =SUM(K6:K8) -> 0 | L9: =SUM(L6:L8) -> 0 | M9: =SUM(M6:M8) -> 0 | N9: =SUM(N6:N8) -> 0 | ... U9: =SUM(U6:U8) -> 0
C10: 21.1.2 | D10: עלויות אספקת מים -
D11: משכורות ונלוות | G11: 322 | H11: 846 | I11: 3293 | J11: 930 | K11: 733 | M11: 232 | N11: 1130 | O11: 1235 | P11: 903 | Q11: 2982 | R11: 244 | S11: 1015 | T11: 576 | U11: 1947 | V11: 1733 | W11: 116 | X11: 1694 | Z11: 23354 | AA11: 10828 | AB11: 430 | AE11: 376 | AF11: 977 | AG11: 14402 | AH11: 927 | AJ11: 108 | AK11: 914 | AL11: 208 | AM11: 1184 | AN11: 501 | AO11: 565 | AP11: 1957 | AQ11: 851 | AR11: 2197 | AS11: 2838 | AT11: 467 | AU11: 1375
D12: רכישת המים ממקורות | G12: 4895 | H12: 16546 | I12: 16482 | J12: 11874 | K12: 15417 | O12: 72104 | P12: 11687 | R12: 19467 | S12: 55610 | U12: 18976 | V12: 28915 | W12: 18604 | Y12: 6856 | AA12: 72580 | AB12: 6131 | AE12: 25322 | AJ12: 9807 | AK12: 13100 | AN12: 12176 | AO12: 7783 | AQ12: 10207 | AV12: 20099
D13: אחזקת רשת המים | I13: 2317 | J13: 1792 | K13: 2525 | M13: 166 | N13: 84 | Q13: 679 | S13: 2581 | V13: 1804 | W13: 1943 | Y13: 808 | AA13: 7049 | AB13: 78 | AF13: 333 | AI13: 1976 | AQ13: 232 | AR13: 3799 | AT13: 180
D14: היטלי הפקה | V14: 486 | W14: 2967
D15: אנרגיה | G15: 62 | H15: 278 | J15: 259 | K15: 258 | N15: 188 | O15: 853 | P15: 98 | Q15: 1093 | S15: 224 | U15: 469 | X15: 1007 | Y15: 136 | Z15: 1366 | AA15: 3221 | AB15: 15 | AE15: 793 | AG15: 673 | AI15: 71 | AJ15: 267 | AK15: 224 | AL15: 31 | AN15: 274 | AO15: 8 | AQ15: 289 | AR15: 1056 | AT15: 78
D16: קבלני משנה | G16: 874 | H16: 1620 | I16: 7484 | K16: 57 | N16: 1471 | O16: 4326 | P16: 329 | Q16: 1122 | R16: 1441 | S16: 3771 | T16: 4142 | U16: 1105 | X16: 4279 | Z16: 14634 | AE16: 6790 | AG16: 13843 | AH16: 1126 | AJ16: 1612 | AK16: 2232 | AL16: 525 | AM16: 355 | AN16: 1459 | AP16: 1932 | AQ16: 2093 | AS16: 1454 | AU16: 1020
D17: חומרים | H17: 352 | P17: 189 | Q17: 314 | X17: 321 | Y17: 31 | Z17: 4774 | AB17: 112 | AG17: 344 | AJ17: -11 | AK17: 150 | AM17: 440 | AO17: 71 | AP17: 101 | AQ17: 569 | AS17: 398
D18: ארנונה | G18: 75 | J18: 121 | K18: 160 | N18: 333 | O18: 1606 | P18: 93 | Q18: 1820 | R18: 157 | T18: 84 | U18: 456 | W18: 483 | X18: 670 | Y18: 110 | Z18: 3163 | AA18: 1754 | AG18: 1292 | AK18: 111 | AL18: 113 | AM18: 1075 | AO18: 105 | AP18: 358 | AQ18: 96 | AR18: 1191 | AS18: 2800 | AT18: 39
D19: ביטוח | J19: 129 | K19: 182 | O19: 220 | P19: 118 | R19: 63 | T19: 198 | V19: 136 | W19: 132 | X19: 151 | Z19: 22 | AB19: 25 | AK19: 54 | AQ19: 133 | AR19: 116 | AS19: 70 | AT19: 30
D20: הוצאות אחרות (לפרט) | I20: 2944 | K20: 159 | N20: 136 | O20: 350 | P20: 15 | Q20: -222 | R20: 109 | S20: 219 | U20: 124 | X20: 400 | Z20: 657 | AA20: 394 | AF20: 33 | AG20: 2555 | AH20: 2 | AM20: 526 | AN20: 12 | AO20: 489 | AP20: 20 | AQ20: 9 | AR20: 22 | AS20: 221 | AU20: 76 | AV20: 2
D21: פחת | G21: 1145 | H21: 1551 | I21: 6042 | J21: 2595 | K21: 1915 | M21: 602 | N21: 3663 | O21: 7438 | P21: 3465 | Q21: 9003 | R21: 1613 | S21: 6637 | T21: 2783 | U21: 2110 | V21: 5219 | W21: 3140 | X21: 3359 | Y21: 1351 | Z21: 33085 | AA21: 18325 | AB21: 534 | AE21: 2774 | AF21: 2595 | AG21: 14072 | AH21: 5546 | AI21: 1578 | AJ21: 3255 | AK21: 2194 | AL21: 1373 | AM21: 1977 | AN21: 2351 | AO21: 1969 | AP21: 2425 | AQ21: 4222 | AR21: 10459 | AS21: 4046 | AT21: 2392 | AU21: 6858 | AV21: 1497
D22: אחזקת רכב | G22: 7 | H22: 57 | J22: 239 | K22: 251 | N22: 163 | O22: 375 | P22: 138 | Q22: 688 | T22: 181 | U22: 203 | V22: 313 | X22: 91 | Y22: 20 | AA22: 767 | AB22: 20 | AG22: 606 | AK22: 87 | AL22: 47 | AM22: 140 | AN22: 74 | AO22: 201 | AP22: 112 | AQ22: 225 | AR22: 279 | AS22: 467 | AT22: 195 | AU22: 309
D23: נציבות מים בגין הקצבות לחקלאות ותעשייה | Z23: 4
D24: הוצאות מוני מים-אילן | K24: 920 | M24: 134 | W24: 104 | AH24: 56 | AI24: 246 | AQ24: 152 | AV24: 33
G25: =SUM(G11:G24) -> 7380 | H25: =SUM(H11:H24) -> 21250 | I25: =SUM(I11:I24) -> 38562 | J25: =SUM(J11:J24) -> 17939 | K25: =SUM(K11:K24) -> 22577 | L25: =SUM(L11:L24) -> 0 | M25: =SUM(M11:M24) -> 1134 | N25: =SUM(N11:N24) -> 7168 | ... AV25: =SUM(AV11:AV24) -> 21631
C27: 21.1.3 | D27: עלויות הפקה -
D28: רכישת מים ממקורות | M28: 2291 | N28: 14299 | Q28: 32096 | T28: 37313 | Z28: 176996 | AF28: 4086 | AG28: 168653 | AH28: 23795 | AI28: 18571 | AL28: 11544 | AM28: 17514 | AP28: 17386 | AR28: 33681 | AT28: 7203 | AU28: 8190
D29: משכורות ונלוות | M29: 232 | N29: 44 | Q29: 152 | V29: 664 | AP29: 1205 | AS29: 507 | AU29: 571 | AV29: 588
D30: אנרגיה | M30: 362 | N30: 663 | Q30: 2293 | V30: 1218 | X30: 1300 | AF30: 408 | AO30: 461 | AP30: 1395 | AR30: 1055 | AS30: 416 | AU30: 1513
D31: קבלני משנה | N31: 25 | Q31: 115 | T31: 4776 | X31: 3262 | AO31: 180 | AP31: 1511 | AS31: 208 | AU31: 113 | AV31: 1360
D32: חומרים | Q32: 497 | AP32: 98
D33: ארנונה | M33: 138 | N33: 101 | Q33: 296 | T33: 2350 | V33: 182 | X33: 426 | AF33: 154 | AO33: 161 | AP33: 171 | AR33: 75 | AS33: 293 | AU33: 837
D34: ביטוח | M34: 75 | AF34: 165 | AO34: 43 | AP34: 645 | AR34: 174 | AS34: 62 | AV34: 33
D35: טיהור בארות | N35: 2214 | Q35: 1571 | AF35: 305 | AO35: 150 | AU35: 755
D36: היטל הפקה | M36: 2940 | N36: 4581 | Q36: 14683 | V36: 3795 | X36: 3420 | AF36: 51 | AG36: 7310 | AI36: 150 | AP36: 10556 | AR36: 15088 | AS36: 6902 | AU36: 2000
D37: הוצאות אחרות (לפרט) | M37: 32 | Q37: 414 | V37: 462 | AF37: 132 | AO37: 123 | AP37: 98 | AS37: 834 | AU37: 42 | AV37: 268
D38: אחזקת רכב | N38: 10 | Q38: 37 | V38: 77 | AS38: 62 | AV38: 76
D39: פחת | M39: 457 | N39: 175 | Q39: 610 | T39: 3142 | V39: 398 | X39: 2091 | AF39: 136 | AH39: 1 | AI39: 17 | AO39: 572 | AP39: 782 | AR39: 1102 | AS39: 328 | AU39: 718 | AV39: 1497
G40: =SUM(G28:G39) -> 0 | H40: =SUM(H28:H39) -> 0 | I40: =SUM(I28:I39) -> 0 | J40: =SUM(J28:J39) -> 0 | K40: =SUM(K28:K39) -> 0 | L40: =SUM(L28:L39) -> 0 | M40: =SUM(M28:M39) -> 6527 | N40: =SUM(N28:N39) -> 22112 | ... AV40: =SUM(AV28:AV39) -> 3822
D43: רווח (הפסד) גולמי מאספקת מים | G43: =G9-G25-G40 -> -7380 | H43: =H9-H25-H40 -> -21250 | I43: =I9-I25-I40 -> -38562 | J43: =J9-J25-J40 -> -17939 | K43: =K9-K25-K40 -> -22577 | L43: =L9-L25-L40 -> 0 | M43: =M9-M25-M40 -> -7661 | N43: =N9-N25-N40 -> -29280 | ... V43: =V9-V25-V40 -> -45402
...

Sheet עלות תפעול מים
A1: רשימת תאגידים | D1: עלויות תפעול בתאגידים בפועל בשנת 2011
D3: עלות תפעול מים | E3: כמות מים (מלמ"ק) | G3: ממוצע משוקלל | H3: עלות מוכרת בתעריף
A4: נווה מדבר | B4: =+A4 -> נווה מדבר | D4: =+HLOOKUP(B4,'שנת 2011'!$2:$213,205,0) -> 0.70856086 | E4: =+HLOOKUP(B4,'שנת 2011'!$2:$213,209,0) -> 5075.097
A5: מי גליל | B5: =A5 -> מי גליל | C5: =B5 -> מי גליל | D5: =+HLOOKUP(B5,'שנת 2011'!$2:$213,205,0) -> 0.7831477 | E5: =+HLOOKUP(B5,'שנת 2011'!$2:$213,209,0) -> 7538.778 | F5: =+D5*E5 -> 5903.9766 | G5: =+F55/E55 -> 1.303218 | H5: =+VLOOKUP(C5,'[2]ריכוז נתוני תאגידים'!$B$1:$AZ$65536,34,0) -> 0.95621911
A6: יובלים אשדוד בע"מ | B6: יובלים אשדוד | C6: יובלים אשדוד | D6: =+HLOOKUP(B6,'שנת 2011'!$2:$213,205,0) -> 0.82790803 | E6: =+HLOOKUP(B6,'שנת 2011'!$2:$213,209,0) -> 16721.765 | F6: =+D6*E6 -> 13844.084 | H6: =+VLOOKUP(C6,'[2]ריכוז נתוני תאגידים'!$B$1:$AZ$65536,34,0) -> 0.72985265
A7: עין נטפים מפעלי מים וביוב אילת בע"מ | B7: עין נטפים (אילת) | C7: עין נטפים (אילת) | D7: =+HLOOKUP(B7,'שנת 2011'!$2:$213,205,0) -> 0.81960413 | E7: =+HLOOKUP(B7,'שנת 2011'!$2:$213,209,0) -> 11303.554 | F7: =+D7*E7 -> 9264.4395 | H7: =+VLOOKUP(C7,'[2]ריכוז נתוני תאגידים'!$B$1:$AZ$65536,34,0) -> 0.69658088
A8: מי אשקלון | B8: =A8 -> מי אשקלון | C8: =B8 -> מי אשקלון | D8: =+HLOOKUP(B8,'שנת 2011'!$2:$213,205,0) -> 0.83199078 | E8: =+HLOOKUP(B8,'שנת 2011'!$2:$213,209,0) -> 12319.56 | F8: =+D8*E8 -> 10249.76 | H8: =+VLOOKUP(C8,'[2]ריכוז נתוני תאגידים'!$B$1:$AZ$65536,34,0) -> 0.76670308
A9: ימים | B9: =A9 -> ימים | C9: =B9 -> ימים | D9: =+HLOOKUP(B9,'שנת 2011'!$2:$213,205,0) -> 0.92969454 | E9: =+HLOOKUP(B9,'שנת 2011'!$2:$213,209,0) -> 2561.785 | F9: =+D9*E9 -> 2381.6775 | H9: =+VLOOKUP(C9,'[2]ריכוז נתוני תאגידים'!$B$1:$AZ$65536,34,0) -> 0.75947556
A10: מי נתניה (2003) בע"מ | B10: מי נתניה | C10: מי נתניה (נתניה) | D10: =+HLOOKUP(B10,'שנת 2011'!$2:$213,205,0) -> 0.89912948 | E10: =+HLOOKUP(B10,'שנת 2011'!$2:$213,209,0) -> 15098.456 | F10: =+D10*E10 -> 13575.467 | H10: =+VLOOKUP(C10,'[2]ריכוז נתוני תאגידים'!$B$1:$AZ$65536,34,0) -> 0.73999713
A11: מעיינות הדרום | B11: מי דרום | C11: מי דרום | D11: =+HLOOKUP(B11,'שנת 2011'!$2:$213,205,0) -> 0.9414248 | E11: =+HLOOKUP(B11,'שנת 2011'!$2:$213,209,0) -> 7260.686 | F11: =+D11*E11 -> 6835.3899 | H11: =+VLOOKUP(C11,'[2]ריכוז נתוני תאגידים'!$B$1:$AZ$65536,34,0) -> 0.86498164
A12: מעיינות השרון | B12: מי השרון | C12: מי השרון | D12: =+HLOOKUP(B12,'שנת 2011'!$2:$213,205,0) -> 0.91563894 | E12: =+HLOOKUP(B12,'שנת 2011'!$2:$213,209,0) -> 6138.14 | F12: =+D12*E12 -> 5620.32 | H12: =+VLOOKUP(C12,'[2]ריכוז נתוני תאגידים'!$B$1:$AZ$65536,34,0) -> 0.83929667
A13: מי ציונה בע"מ | B13: מי ציונה | C13: מי ציונה | D13: =+HLOOKUP(B13,'שנת 2011'!$2:$213,205,0) -> 0.99091136 | E13: =+HLOOKUP(B13,'שנת 2011'!$2:$213,209,0) -> 3136.252 | F13: =+D13*E13 -> 3107.7477 | H13: =+VLOOKUP(C13,'[2]ריכוז נתוני תאגידים'!$B$1:$AZ$65536,34,0) -> 0.75983087
A14: מי הרצליה | B14: הרצליה | C14: הרצליה | D14: =+HLOOKUP(B14,'שנת 2011'!$2:$213,205,0) -> 1.0692213 | E14: =+HLOOKUP(B14,'שנת 2011'!$2:$213,209,0) -> 10059.385 | F14: =+D14*E14 -> 10755.709 | H14: =+VLOOKUP(C14,'[2]ריכוז נתוני תאגידים'!$B$1:$AZ$65536,34,0) -> 0.69700672
A15: אל עין | B15: =A15 -> אל עין | C15: =B15 -> אל עין | D15: =+HLOOKUP(B15,'שנת 2011'!$2:$213,205,0) -> 1.0613207 | E15: =+HLOOKUP(B15,'שנת 2011'!$2:$213,209,0) -> 5306.074 | F15: =+D15*E15 -> 5631.4462 | H15: =+VLOOKUP(C15,'[2]ריכוז נתוני תאגידים'!$B$1:$AZ$65536,34,0) -> 0.9816956
A16: מי עירון בע"מ | B16: מי עירון | C16: מי עירון | D16: =+HLOOKUP(B16,'שנת 2011'!$2:$213,205,0) -> 1.070277 | E16: =+HLOOKUP(B16,'שנת 2011'!$2:$213,209,0) -> 5090.475 | F16: =+D16*E16 -> 5448.2181 | H16: =+VLOOKUP(C16,'[2]ריכוז נתוני תאגידים'!$B$1:$AZ$65536,34,0) -> 0.98874099
A17: מי עכו | B17: עכו | C17: עכו | D17: =+HLOOKUP(B17,'שנת 2011'!$2:$213,205,0) -> 1.1041011 | E17: =+HLOOKUP(B17,'שנת 2011'!$2:$213,209,0) -> 3606.145 | F17: =+D17*E17 -> 3981.5487 | H17: =+VLOOKUP(C17,'[2]ריכוז נתוני תאגידים'!$B$1:$AZ$65536,34,0) -> 0.77329193
A18: מניב ראשון בע"מ | B18: מניב ראשון (ראשון) | C18: מניב ראשון (ראשון) | D18: =+HLOOKUP(B18,'שנת 2011'!$2:$213,205,0) -> 1.0884222 | E18: =+HLOOKUP(B18,'שנת 2011'!$2:$213,209,0) -> 18558.187 | F18: =+D18*E18 -> 20199.143 | H18: =+VLOOKUP(C18,'[2]ריכוז נתוני תאגידים'!$B$1:$AZ$65536,34,0) -> 0.70564361
A19: מי שבע תאגיד המים והביוב לבאר שבע בע"מ | B19: מי שבע | C19: מי שבע | D19: =+HLOOKUP(B19,'שנת 2011'!$2:$213,205,0) -> 1.097046 | E19: =+HLOOKUP(B19,'שנת 2011'!$2:$213,209,0) -> 20210.371 | F19: =+D19*E19 -> 22171.707 | H19: =+VLOOKUP(C19,'[2]ריכוז נתוני תאגידים'!$B$1:$AZ$65536,34,0) -> 0.7638942
A20: עין אפק | B20: עין אפק | C20: עין אפק | D20: =+HLOOKUP(B20,'שנת 2011'!$2:$213,205,0) -> 1.0761856 | E20: =+HLOOKUP(B20,'שנת 2011'!$2:$213,209,0) -> 3795.682 | F20: =+D20*E20 -> 4084.8582 | H20: =+VLOOKUP(C20,'[2]ריכוז נתוני תאגידים'!$B$1:$AZ$65536,34,0) -> 0.6927017
A21: מי שקמה תאגיד המים והביוב בע"מ | B21: מי שקמה | C21: מי שקמה | D21: =+HLOOKUP(B21,'שנת 2011'!$2:$213,205,0) -> 1.15194 | E21: =+HLOOKUP(B21,'שנת 2011'!$2:$213,209,0) -> 14529.245 | F21: =+D21*E21 -> 16736.819 | H21: =+VLOOKUP(C21,'[2]ריכוז נתוני תאגידים'!$B$1:$AZ$65536,34,0) -> 0.78708143
A22: מי בת ים | B22: בת ים | C22: בת ים | D22: =+HLOOKUP(B22,'שנת 2011'!$2:$213,205,0) -> 1.1968911 | E22: =+HLOOKUP(B22,'שנת 2011'!$2:$213,209,0) -> 8841.208 | F22: =+D22*E22 -> 10581.963 | H22: =+VLOOKUP(C22,'[2]ריכוז נתוני תאגידים'!$B$1:$AZ$65536,34,0) -> 0.71807139
A23: עין כרמים | B23: =+A23 -> עין כרמים | C23: מי כרמיאל | D23: =+HLOOKUP(B23,'שנת 2011'!$2:$213,205,0) -> 1.0513738 | E23: =+HLOOKUP(B23,'שנת 2011'!$2:$213,209,0) -> 4066.3 | F23: =+D23*E23 -> 4275.2014 | H23: =+VLOOKUP(C23,'[2]ריכוז נתוני תאגידים'!$B$1:$AZ$65536,34,0) -> 0.73071198
A24: מי לוד בע"מ | B24: מי לוד | C24: מי לוד | D24: =+HLOOKUP(B24,'שנת 2011'!$2:$213,205,0) -> 1.1996951 | E24: =+HLOOKUP(B24,'שנת 2011'!$2:$213,209,0) -> 5367.855 | F24: =+D24*E24 -> 6439.7895 | H24: =+VLOOKUP(C24,'[2]ריכוז נתוני תאגידים'!$B$1:$AZ$65536,34,0) -> 0.75996428
A25: מעיינות המשולש | B25: =A25 -> מעיינות המשולש | C25: מעיינות העמקים | D25: =+HLOOKUP(B25,'שנת 2011'!$2:$213,205,0) -> 1.0992462 | E25: =+HLOOKUP(B25,'שנת 2011'!$2:$213,209,0) -> 4360.445 | F25: =+D25*E25 -> 4793.2024 | H25: =+VLOOKUP(C25,'[2]ריכוז נתוני תאגידים'!$B$1:$AZ$65536,34,0) -> 0.80036575
A26: הרי נצרת מפעלי מים וביוב בע"מ | B26: הרי נצרת | C26: הרי נצרת | D26: =+HLOOKUP(B26,'שנת 2011'!$2:$213,205,0) -> 1.1464783 | E26: =+HLOOKUP(B26,'שנת 2011'!$2:$213,209,0) -> 8923.832 | F26: =+D26*E26 -> 10230.98 | H26: =+VLOOKUP(C26,'[2]ריכוז נתוני תאגידים'!$B$1:$AZ$65536,34,0) -> 0.884453
A27: מעיינות זיו | B27: מעיינות זיו | C27: מעלות | D27: =+HLOOKUP(B27,'שנת 2011'!$2:$213,205,0) -> 1.2090392 | E27: =+HLOOKUP(B27,'שנת 2011'!$2:$213,209,0) -> 3411.58 | F27: =+D27*E27 -> 4124.734 | H27: =+VLOOKUP(C27,'[2]ריכוז נתוני תאגידים'!$B$1:$AZ$65536,34,0) -> 0.88118575
A28: פלגי השרון | B28: פלגי השרון | C28: פלגי השרון | D28: =+HLOOKUP(B28,'שנת 2011'!$2:$213,205,0) -> 1.3378818 | E28: =+HLOOKUP(B28,'שנת 2011'!$2:$213,209,0) -> 1017.579 | F28: =+D28*E28 -> 1361.4004 | H28: =+VLOOKUP(C28,'[2]ריכוז נתוני תאגידים'!$B$1:$AZ$65536,34,0) -> 1.229824
A29: סובב שפרעם | B29: סובב שפרעם | C29: סובב שפרעם | D29: =+HLOOKUP(B29,'שנת 2011'!$2:$213,205,0) -> 1.2436827 | E29: =+HLOOKUP(B29,'שנת 2011'!$2:$213,209,0) -> 9584.3 | F29: =+D29*E29 -> 11919.828 | H29: =+VLOOKUP(C29,'[2]ריכוז נתוני תאגידים'!$B$1:$AZ$65536,34,0) -> 1.0602555
A30: מי קריית גת | B30: קריית גת | C30: קריית גת | D30: =+HLOOKUP(B30,'שנת 2011'!$2:$213,205,0) -> 1.2682699 | E30: =+HLOOKUP(B30,'שנת 2011'!$2:$213,209,0) -> 7483.785 | F30: =+D30*E30 -> 9491.4594 | H30: =+VLOOKUP(C30,'[2]ריכוז נתוני תאגידים'!$B$1:$AZ$65536,34,0) -> 0.73002447
A31: מי יבנה | B31: מי יבנה | C31: מי יבנה | D31: =+HLOOKUP(B31,'שנת 2011'!$2:$213,205,0) -> 1.2285972 | E31: =+HLOOKUP(B31,'שנת 2011'!$2:$213,209,0) -> 4201.308 | F31: =+D31*E31 -> 5161.7151 | H31: =+VLOOKUP(C31,'[2]ריכוז נתוני תאגידים'!$B$1:$AZ$65536,34,0) -> 0.76524866
A32: התנור מים וביוב בע"מ | B32: התנור | C32: התנור | D32: =+HLOOKUP(B32,'שנת 2011'!$2:$213,205,0) -> 1.2733555 | E32: =+HLOOKUP(B32,'שנת 2011'!$2:$213,209,0) -> 2750.226 | F32: =+D32*E32 -> 3502.0155 | H32: =+VLOOKUP(C32,'[2]ריכוז נתוני תאגידים'!$B$1:$AZ$65536,34,0) -> 0.96247737
A33: מעיינות העמקים | B33: =A33 -> מעיינות העמקים | C33: =B33 -> מעיינות העמקים | D33: =+HLOOKUP(B33,'שנת 2011'!$2:$213,205,0) -> 1.3380326 | E33: =+HLOOKUP(B33,'שנת 2011'!$2:$213,209,0) -> 3209.491 | F33: =+D33*E33 -> 4294.4035 | H33: =+VLOOKUP(C33,'[2]ריכוז נתוני תאגידים'!$B$1:$AZ$65536,34,0) -> 0.80036575
A34: מי רקת טבריה בע"מ | B34: מי רקת | C34: מי רקת | D34: =+HLOOKUP(B34,'שנת 2011'!$2:$213,205,0) -> 1.2963113 | E34: =+HLOOKUP(B34,'שנת 2011'!$2:$213,209,0) -> 4828.364 | F34: =+D34*E34 -> 6259.0627 | H34: =+VLOOKUP(C34,'[2]ריכוז נתוני תאגידים'!$B$1:$AZ$65536,34,0) -> 0.8730642
A35: מי ברק בע"מ | B35: באר מים חיים | C35: באר מים חיים | D35: =+HLOOKUP(B35,'שנת 2011'!$2:$213,205,0) -> 1.333297 | E35: =+HLOOKUP(B35,'שנת 2011'!$2:$213,209,0) -> 10198.278 | F35: =+D35*E35 -> 13597.333 | H35: =+VLOOKUP(C35,'[2]ריכוז נתוני תאגידים'!$B$1:$AZ$65536,34,0) -> 0.72416924
A36: מי רהט | B36: רהט | C36: רהט | D36: =+HLOOKUP(B36,'שנת 2011'!$2:$213,205,0) -> 1.2930427 | E36: =+HLOOKUP(B36,'שנת 2011'!$2:$213,209,0) -> 3190.82 | F36: =+D36*E36 -> 4125.8665 | H36: =+VLOOKUP(C36,'[2]ריכוז נתוני תאגידים'!$B$1:$AZ$65536,34,0) -> 0.72290911
A37: מי חדרה בע"מ | B37: מי חדרה | C37: מי חדרה | D37: =+HLOOKUP(B37,'שנת 2011'!$2:$213,205,0) -> 1.3599913 | E37: =+HLOOKUP(B37,'שנת 2011'!$2:$213,209,0) -> 7000.549 | F37: =+D37*E37 -> 9520.686 | H37: =+VLOOKUP(C37,'[2]ריכוז נתוני תאגידים'!$B$1:$AZ$65536,34,0) -> 0.73178643
A38: מי נע חברת המים והביוב של עיריית נצרת עילית בע"מ | B38: מי נע (נצרת) | C38: מי נע (נצרת) | D38: =+HLOOKUP(B38,'שנת 2011'!$2:$213,205,0) -> 1.4215357 | E38: =+HLOOKUP(B38,'שנת 2011'!$2:$213,209,0) -> 6171.187 | F38: =+D38*E38 -> 8772.5628 | H38: =+VLOOKUP(C38,'[2]ריכוז נתוני תאגידים'!$B$1:$AZ$65536,34,0) -> 0.78205159
A39: מעיינות אתא | B39: קריית אתא | C39: קריית אתא | D39: =+HLOOKUP(B39,'שנת 2011'!$2:$213,205,0) -> 1.4288194 | E39: =+HLOOKUP(B39,'שנת 2011'!$2:$213,209,0) -> 3431.626 | F39: =+D39*E39 -> 4903.1738 | H39: =+VLOOKUP(C39,'[2]ריכוז נתוני תאגידים'!$B$1:$AZ$65536,34,0) -> 0.75451741
A40: מי שמש | B40: בית שמש | C40: בית שמש | D40: =+HLOOKUP(B40,'שנת 2011'!$2:$213,205,0) -> 1.4965421 | E40: =+HLOOKUP(B40,'שנת 2011'!$2:$213,209,0) -> 5224.579 | F40: =+D40*E40 -> 7818.8022 | H40: =+VLOOKUP(C40,'[2]ריכוז נתוני תאגידים'!$B$1:$AZ$65536,34,0) -> 0.75553279
A41: מי רעננה | B41: רעננה | C41: רעננה | D41: =+HLOOKUP(B41,'שנת 2011'!$2:$213,205,0) -> 1.5540302 | E41: =+HLOOKUP(B41,'שנת 2011'!$2:$213,209,0) -> 6467.639 | F41: =+D41*E41 -> 10050.907 | H41: =+VLOOKUP(C41,'[2]ריכוז נתוני תאגידים'!$B$1:$AZ$65536,34,0) -> 0.6999983
...

Sheet עלות תפעול ביוב
A1: רשימת תאגידים | D1: עלויות תפעול בתאגידים בפועל בשנת 2011
D3: עלות תפעול ביוב | E3: כמות ביוב (מלמ"ק) | G3: ממוצע משוקלל | H3: עלות מוכרת בתעריף
A4: נווה מדבר | B4: =+A4 -> נווה מדבר | D4: =+HLOOKUP(B4,'שנת 2011'!$2:$213,207,0) -> 0.32437213 | E4: =+HLOOKUP(B4,'שנת 2011'!$2:$213,211,0) -> 5049.709
A5: עין כרמים | B5: =+A5 -> עין כרמים | C5: מי כרמיאל | D5: =+HLOOKUP(B5,'שנת 2011'!$2:$213,207,0) -> 0.89104182 | E5: =+HLOOKUP(B5,'שנת 2011'!$2:$213,211,0) -> 3727.994 | F5: =+D5*E5 -> 3321.7986 | G5: =+F55/E55 -> 1.0157503 | H5: =+VLOOKUP(C5,'[2]ריכוז נתוני תאגידים'!$B$1:$AZ$65536,33,0) -> 1.0288432
A6: מי גליל | B6: =A6 -> מי גליל | C6: =+B6 -> מי גליל | D6: =+HLOOKUP(B6,'שנת 2011'!$2:$213,207,0) -> 0.62156821 | E6: =+HLOOKUP(B6,'שנת 2011'!$2:$213,211,0) -> 7424.806 | F6: =+D6*E6 -> 4615.0234 | H6: =+VLOOKUP(C6,'[2]ריכוז נתוני תאגידים'!$B$1:$AZ$65536,33,0) -> 1.2330064
A7: מי חדרה בע"מ | B7: מי חדרה | C7: מי חדרה | D7: =+HLOOKUP(B7,'שנת 2011'!$2:$213,207,0) -> 0.55406209 | E7: =+HLOOKUP(B7,'שנת 2011'!$2:$213,211,0) -> 6759.737 | F7: =+D7*E7 -> 3745.314 | H7: =+VLOOKUP(C7,'[2]ריכוז נתוני תאגידים'!$B$1:$AZ$65536,33,0) -> 1.0309921
A8: מי גבעתיים | B8: גבעתיים | C8: גבעתיים | D8: =+HLOOKUP(B8,'שנת 2011'!$2:$213,207,0) -> 0.64110291 | E8: =+HLOOKUP(B8,'שנת 2011'!$2:$213,211,0) -> 3487.223 | F8: =+D8*E8 -> 2235.6688 | H8: =+VLOOKUP(C8,'[2]ריכוז נתוני תאגידים'!$B$1:$AZ$65536,33,0) -> 1.0776943
A9: מי שבע תאגיד המים והביוב לבאר שבע בע"מ | B9: מי שבע | C9: מי שבע | D9: =+HLOOKUP(B9,'שנת 2011'!$2:$213,207,0) -> 0.71239012 | E9: =+HLOOKUP(B9,'שנת 2011'!$2:$213,211,0) -> 18929.647 | F9: =+D9*E9 -> 13485.293 | H9: =+VLOOKUP(C9,'[2]ריכוז נתוני תאגידים'!$B$1:$AZ$65536,33,0) -> 1.0629232
A10: מי נתניה (2003) בע"מ | B10: מי נתניה | C10: מי נתניה (נתניה) | D10: =+HLOOKUP(B10,'שנת 2011'!$2:$213,207,0) -> 0.76099527 | E10: =+HLOOKUP(B10,'שנת 2011'!$2:$213,211,0) -> 14452.827 | F10: =+D10*E10 -> 10998.533 | H10: =+VLOOKUP(C10,'[2]ריכוז נתוני תאגידים'!$B$1:$AZ$65536,33,0) -> 1.0474135
A11: מי רהט | B11: רהט | C11: רהט | D11: =+HLOOKUP(B11,'שנת 2011'!$2:$213,207,0) -> 0.76327883 | E11: =+HLOOKUP(B11,'שנת 2011'!$2:$213,211,0) -> 3037.073 | F11: =+D11*E11 -> 2318.1335 | H11: =+VLOOKUP(C11,'[2]ריכוז נתוני תאגידים'!$B$1:$AZ$65536,33,0) -> 0.98349128
A12: מעיינות השרון | B12: מי השרון | C12: מי השרון | D12: =+HLOOKUP(B12,'שנת 2011'!$2:$213,207,0) -> 0.80172441 | E12: =+HLOOKUP(B12,'שנת 2011'!$2:$213,211,0) -> 5812.072 | F12: =+D12*E12 -> 4659.68 | H12: =+VLOOKUP(C12,'[2]ריכוז נתוני תאגידים'!$B$1:$AZ$65536,33,0) -> 1.1221031
A13: מי מודיעין | B13: מי מודיעין (מודיעין) | C13: מי מודיעין (מודיעין) | D13: =+HLOOKUP(B13,'שנת 2011'!$2:$213,207,0) -> 0.75136911 | E13: =+HLOOKUP(B13,'שנת 2011'!$2:$213,211,0) -> 5126.537 | F13: =+D13*E13 -> 3851.9216 | H13: =+VLOOKUP(C13,'[2]ריכוז נתוני תאגידים'!$B$1:$AZ$65536,33,0) -> 0.99787637
A14: פלגי השרון | B14: פלגי השרון | C14: פלגי השרון | D14: =+HLOOKUP(B14,'שנת 2011'!$2:$213,207,0) -> 0.81174383 | E14: =+HLOOKUP(B14,'שנת 2011'!$2:$213,211,0) -> 7480.931 | F14: =+D14*E14 -> 6072.5996 | H14: =+VLOOKUP(C14,'[2]ריכוז נתוני תאגידים'!$B$1:$AZ$65536,33,0) -> 1.6
A15: מי ציונה בע"מ | B15: מי ציונה | C15: מי ציונה | D15: =+HLOOKUP(B15,'שנת 2011'!$2:$213,207,0) -> 0.7954349 | E15: =+HLOOKUP(B15,'שנת 2011'!$2:$213,211,0) -> 2927.018 | F15: =+D15*E15 -> 2328.2523 | H15: =+VLOOKUP(C15,'[2]ריכוז נתוני תאגידים'!$B$1:$AZ$65536,33,0) -> 1.0351093
A16: מי ברק בע"מ | B16: באר מים חיים | C16: באר מים חיים | D16: =+HLOOKUP(B16,'שנת 2011'!$2:$213,207,0) -> 0.75491354 | E16: =+HLOOKUP(B16,'שנת 2011'!$2:$213,211,0) -> 10072.235 | F16: =+D16*E16 -> 7603.6666 | H16: =+VLOOKUP(C16,'[2]ריכוז נתוני תאגידים'!$B$1:$AZ$65536,33,0) -> 1.0660116
A17: מי אשקלון | B17: =A17 -> מי אשקלון | C17: =B17 -> מי אשקלון | D17: =+HLOOKUP(B17,'שנת 2011'!$2:$213,207,0) -> 0.81203127 | E17: =+HLOOKUP(B17,'שנת 2011'!$2:$213,211,0) -> 11571.278 | F17: =+D17*E17 -> 9396.2396 | H17: =+VLOOKUP(C17,'[2]ריכוז נתוני תאגידים'!$B$1:$AZ$65536,33,0) -> 1.067064
A18: מי כרמל | B18: חיפה | C18: חיפה | D18: =+HLOOKUP(B18,'שנת 2011'!$2:$213,207,0) -> 0.77583342 | E18: =+HLOOKUP(B18,'שנת 2011'!$2:$213,211,0) -> 22830.183 | F18: =+D18*E18 -> 17712.419 | H18: =+VLOOKUP(C18,'[2]ריכוז נתוני תאגידים'!$B$1:$AZ$65536,33,0) -> 1.1842349
A19: הרי נצרת מפעלי מים וביוב בע"מ | B19: הרי נצרת | C19: הרי נצרת | D19: =+HLOOKUP(B19,'שנת 2011'!$2:$213,207,0) -> 0.82791794 | E19: =+HLOOKUP(B19,'שנת 2011'!$2:$213,211,0) -> 8854.767 | F19: =+D19*E19 -> 7331.0204 | H19: =+VLOOKUP(C19,'[2]ריכוז נתוני תאגידים'!$B$1:$AZ$65536,33,0) -> 1.1659139
A20: התנור מים וביוב בע"מ | B20: התנור | C20: התנור | D20: =+HLOOKUP(B20,'שנת 2011'!$2:$213,207,0) -> 0.58097232 | E20: =+HLOOKUP(B20,'שנת 2011'!$2:$213,211,0) -> 2571.519 | F20: =+D20*E20 -> 1493.9813 | H20: =+VLOOKUP(C20,'[2]ריכוז נתוני תאגידים'!$B$1:$AZ$65536,33,0) -> 1.2475361
A21: מי רקת טבריה בע"מ | B21: מי רקת | C21: מי רקת | D21: =+HLOOKUP(B21,'שנת 2011'!$2:$213,207,0) -> 0.84156814 | E21: =+HLOOKUP(B21,'שנת 2011'!$2:$213,211,0) -> 4618.684 | F21: =+D21*E21 -> 3886.9373 | H21: =+VLOOKUP(C21,'[2]ריכוז נתוני תאגידים'!$B$1:$AZ$65536,33,0) -> 1.1651833
A22: עין נטפים מפעלי מים וביוב אילת בע"מ | B22: עין נטפים (אילת) | C22: עין נטפים (אילת) | D22: =+HLOOKUP(B22,'שנת 2011'!$2:$213,207,0) -> 0.88679712 | E22: =+HLOOKUP(B22,'שנת 2011'!$2:$213,211,0) -> 10165.302 | F22: =+D22*E22 -> 9014.5605 | H22: =+VLOOKUP(C22,'[2]ריכוז נתוני תאגידים'!$B$1:$AZ$65536,33,0) -> 0.96058097
A23: אל עין | B23: =A23 -> אל עין | C23: =B23 -> אל עין | D23: =+HLOOKUP(B23,'שנת 2011'!$2:$213,207,0) -> 0.86308849 | E23: =+HLOOKUP(B23,'שנת 2011'!$2:$213,211,0) -> 5222.586 | F23: =+D23*E23 -> 4507.5538 | H23: =+VLOOKUP(C23,'[2]ריכוז נתוני תאגידים'!$B$1:$AZ$65536,33,0) -> 1.2681862
A24: מי נע חברת המים והביוב של עיריית נצרת עילית בע"מ | B24: מי נע (נצרת) | C24: מי נע (נצרת) | D24: =+HLOOKUP(B24,'שנת 2011'!$2:$213,207,0) -> 0.82755548 | E24: =+HLOOKUP(B24,'שנת 2011'!$2:$213,211,0) -> 5578.402 | F24: =+D24*E24 -> 4616.4372 | H24: =+VLOOKUP(C24,'[2]ריכוז נתוני תאגידים'!$B$1:$AZ$65536,33,0) -> 1.0618333
A25: מעיינות המשולש | B25: =A25 -> מעיינות המשולש | C25: מעיינות העמקים | D25: =+HLOOKUP(B25,'שנת 2011'!$2:$213,207,0) -> 0.93716819 | E25: =+HLOOKUP(B25,'שנת 2011'!$2:$213,211,0) -> 4159.445 | F25: =+D25*E25 -> 3898.0996 | H25: =+VLOOKUP(C25,'[2]ריכוז נתוני תאגידים'!$B$1:$AZ$65536,33,0) -> 1.1064915
A26: ימים | B26: =A26 -> ימים | C26: =B26 -> ימים | D26: =+HLOOKUP(B26,'שנת 2011'!$2:$213,207,0) -> 0.86972488 | E26: =+HLOOKUP(B26,'שנת 2011'!$2:$213,211,0) -> 2335.592 | F26: =+D26*E26 -> 2031.3225 | H26: =+VLOOKUP(C26,'[2]ריכוז נתוני תאגידים'!$B$1:$AZ$65536,33,0) -> 1.0863703
A27: מי קריית גת | B27: קריית גת | C27: קריית גת | D27: =+HLOOKUP(B27,'שנת 2011'!$2:$213,207,0) -> 0.92321335 | E27: =+HLOOKUP(B27,'שנת 2011'!$2:$213,211,0) -> 7268.678 | F27: =+D27*E27 -> 6710.5406 | H27: =+VLOOKUP(C27,'[2]ריכוז נתוני תאגידים'!$B$1:$AZ$65536,33,0) -> 0.99772201
A28: מעיינות אתא | B28: קריית אתא | C28: קריית אתא | D28: =+HLOOKUP(B28,'שנת 2011'!$2:$213,207,0) -> 0.91113868 | E28: =+HLOOKUP(B28,'שנת 2011'!$2:$213,211,0) -> 3191.42 | F28: =+D28*E28 -> 2907.8262 | H28: =+VLOOKUP(C28,'[2]ריכוז נתוני תאגידים'!$B$1:$AZ$65536,33,0) -> 1.076454
A29: פלג הגליל החברה האזורית למים וביוב בע"מ | B29: פלג הגליל | C29: פלג הגליל | D29: =+HLOOKUP(B29,'שנת 2011'!$2:$213,207,0) -> 0.86675449 | E29: =+HLOOKUP(B29,'שנת 2011'!$2:$213,211,0) -> 8488.621 | F29: =+D29*E29 -> 7357.5504 | H29: =+VLOOKUP(C29,'[2]ריכוז נתוני תאגידים'!$B$1:$AZ$65536,33,0) -> 1.4946645
A30: סובב שפרעם | B30: סובב שפרעם | C30: סובב שפרעם | D30: =+HLOOKUP(B30,'שנת 2011'!$2:$213,207,0) -> 0.98758889 | E30: =+HLOOKUP(B30,'שנת 2011'!$2:$213,211,0) -> 9403.885 | F30: =+D30*E30 -> 9287.1723 | H30: =+VLOOKUP(C30,'[2]ריכוז נתוני תאגידים'!$B$1:$AZ$65536,33,0) -> 1.3444023
A31: מניב ראשון בע"מ | B31: מניב ראשון (ראשון) | C31: מניב ראשון (ראשון) | D31: =+HLOOKUP(B31,'שנת 2011'!$2:$213,207,0) -> 0.99772379 | E31: =+HLOOKUP(B31,'שנת 2011'!$2:$213,211,0) -> 17513.722 | F31: =+D31*E31 -> 17473.857 | H31: =+VLOOKUP(C31,'[2]ריכוז נתוני תאגידים'!$B$1:$AZ$65536,33,0) -> 1.0057484
A32: כפרי גליל תחתון בע"מ | B32: כפרי הגליל התחתון | C32: כפרי הגליל התחתון | D32: =+HLOOKUP(B32,'שנת 2011'!$2:$213,207,0) -> 0.96890967 | E32: =+HLOOKUP(B32,'שנת 2011'!$2:$213,211,0) -> 4185.522 | F32: =+D32*E32 -> 4055.3927 | H32: =+VLOOKUP(C32,'[2]ריכוז נתוני תאגידים'!$B$1:$AZ$65536,33,0) -> 1.2903945
A33: מעיינות העמקים | B33: =A33 -> מעיינות העמקים | C33: =B33 -> מעיינות העמקים | D33: =+HLOOKUP(B33,'שנת 2011'!$2:$213,207,0) -> 0.95269047 | E33: =+HLOOKUP(B33,'שנת 2011'!$2:$213,211,0) -> 3019.445 | F33: =+D33*E33 -> 2876.5965 | H33: =+VLOOKUP(C33,'[2]ריכוז נתוני תאגידים'!$B$1:$AZ$65536,33,0) -> 1.1064915
A34: מי עכו | B34: עכו | C34: עכו | D34: =+HLOOKUP(B34,'שנת 2011'!$2:$213,207,0) -> 1.016315 | E34: =+HLOOKUP(B34,'שנת 2011'!$2:$213,211,0) -> 3374.398 | F34: =+D34*E34 -> 3429.4513 | H34: =+VLOOKUP(C34,'[2]ריכוז נתוני תאגידים'!$B$1:$AZ$65536,33,0) -> 1.0842569
A35: מי הרצליה | B35: הרצליה | C35: הרצליה | D35: =+HLOOKUP(B35,'שנת 2011'!$2:$213,207,0) -> 1.0081445 | E35: =+HLOOKUP(B35,'שנת 2011'!$2:$213,211,0) -> 9372.953 | F35: =+D35*E35 -> 9449.2914 | H35: =+VLOOKUP(C35,'[2]ריכוז נתוני תאגידים'!$B$1:$AZ$65536,33,0) -> 0.98847459
A36: מי יבנה | B36: מי יבנה | C36: מי יבנה | D36: =+HLOOKUP(B36,'שנת 2011'!$2:$213,207,0) -> 1.106043 | E36: =+HLOOKUP(B36,'שנת 2011'!$2:$213,211,0) -> 4188.16 | F36: =+D36*E36 -> 4632.2849 | H36: =+VLOOKUP(C36,'[2]ריכוז נתוני תאגידים'!$B$1:$AZ$65536,33,0) -> 1.056958
A37: מי רעננה | B37: רעננה | C37: רעננה | D37: =+HLOOKUP(B37,'שנת 2011'!$2:$213,207,0) -> 0.97732619 | E37: =+HLOOKUP(B37,'שנת 2011'!$2:$213,211,0) -> 5839.497 | F37: =+D37*E37 -> 5707.0934 | H37: =+VLOOKUP(C37,'[2]ריכוז נתוני תאגידים'!$B$1:$AZ$65536,33,0) -> 0.99445775
A38: מי שקמה תאגיד המים והביוב בע"מ | B38: מי שקמה | C38: מי שקמה | D38: =+HLOOKUP(B38,'שנת 2011'!$2:$213,207,0) -> 1.0538876 | E38: =+HLOOKUP(B38,'שנת 2011'!$2:$213,211,0) -> 13087.905 | F38: =+D38*E38 -> 13793.181 | H38: =+VLOOKUP(C38,'[2]ריכוז נתוני תאגידים'!$B$1:$AZ$65536,33,0) -> 1.1238924
A39: מי לוד בע"מ | B39: מי לוד | C39: מי לוד | D39: =+HLOOKUP(B39,'שנת 2011'!$2:$213,207,0) -> 1.035117 | E39: =+HLOOKUP(B39,'שנת 2011'!$2:$213,211,0) -> 5230.53 | F39: =+D39*E39 -> 5414.2105 | H39: =+VLOOKUP(C39,'[2]ריכוז נתוני תאגידים'!$B$1:$AZ$65536,33,0) -> 1.0576016
A40: מי עירון בע"מ | B40: מי עירון | C40: מי עירון | D40: =+HLOOKUP(B40,'שנת 2011'!$2:$213,207,0) -> 1.1333805 | E40: =+HLOOKUP(B40,'שנת 2011'!$2:$213,211,0) -> 4998.129 | F40: =+D40*E40 -> 5664.7819 | H40: =+VLOOKUP(C40,'[2]ריכוז נתוני תאגידים'!$B$1:$AZ$65536,33,0) -> 1.2827907
A41: מעיינות זיו | B41: מעיינות זיו | C41: מעלות | D41: =+HLOOKUP(B41,'שנת 2011'!$2:$213,207,0) -> 1.1386962 | E41: =+HLOOKUP(B41,'שנת 2011'!$2:$213,211,0) -> 3223.218 | F41: =+D41*E41 -> 3670.266 | H41: =+VLOOKUP(C41,'[2]ריכוז נתוני תאגידים'!$B$1:$AZ$65536,33,0) -> 1.1694333
...

Sheet סהכ עלויות תפעול
A1: רשימת תאגידים | C1: עלויות תפעול בתאגידים בפועל בשנת 2011
C3: עלות תפעול מים | D3: ממוצע משוקלל | E3: עלות מוכרת בתעריף | F3: עלות תפעול בשנת 2012 | G3: הפרש | H3: הפרש באחוזים
A4: מי גליל | B4: =A4 -> מי גליל | C4: =+HLOOKUP(B4,'שנת 2011'!$2:$213,205,0)+HLOOKUP(B4,'שנת 2011'!$2:$213,207,0) -> 1.4047159 | D4: =+'עלות תפעול ביוב'!G5+'עלות תפעול מים'!G5 -> 2.3189683 | E4: =+VLOOKUP(A4,'עלות תפעול מים'!$A:$H,8,0)+VLOOKUP(A4,'עלות תפעול ביוב'!$A:$H,8,0) -> 2.1892255 | F4: 1.582 | G4: =+E4-F4 -> 0.60722548 | H4: =+E4/F4-1 -> 0.38383406
A5: עין כרמים | B5: =+A5 -> עין כרמים | C5: =+HLOOKUP(B5,'שנת 2011'!$2:$213,205,0)+HLOOKUP(B5,'שנת 2011'!$2:$213,207,0) -> 1.9424157 | E5: =+VLOOKUP(A5,'עלות תפעול מים'!$A:$H,8,0)+VLOOKUP(A5,'עלות תפעול ביוב'!$A:$H,8,0) -> 1.7595551 | F5: 1.582 | G5: =+E5-F5 -> 0.17755514 | H5: =+E5/F5-1 -> 0.1122346
A6: מי אשקלון | B6: =A6 -> מי אשקלון | C6: =+HLOOKUP(B6,'שנת 2011'!$2:$213,205,0)+HLOOKUP(B6,'שנת 2011'!$2:$213,207,0) -> 1.6440221 | E6: =+VLOOKUP(A6,'עלות תפעול מים'!$A:$H,8,0)+VLOOKUP(A6,'עלות תפעול ביוב'!$A:$H,8,0) -> 1.8337671 | F6: 1.582 | G6: =+E6-F6 -> 0.25176708 | H6: =+E6/F6-1 -> 0.1591448
A7: מי נתניה (2003) בע"מ | B7: מי נתניה | C7: =+HLOOKUP(B7,'שנת 2011'!$2:$213,205,0)+HLOOKUP(B7,'שנת 2011'!$2:$213,207,0) -> 1.6601248 | E7: =+VLOOKUP(A7,'עלות תפעול מים'!$A:$H,8,0)+VLOOKUP(A7,'עלות תפעול ביוב'!$A:$H,8,0) -> 1.7874106 | F7: 1.582 | G7: =+E7-F7 -> 0.2054106 | H7: =+E7/F7-1 -> 0.12984235
A8: עין נטפים מפעלי מים וביוב אילת בע"מ | B8: עין נטפים (אילת) | C8: =+HLOOKUP(B8,'שנת 2011'!$2:$213,205,0)+HLOOKUP(B8,'שנת 2011'!$2:$213,207,0) -> 1.7064012 | E8: =+VLOOKUP(A8,'עלות תפעול מים'!$A:$H,8,0)+VLOOKUP(A8,'עלות תפעול ביוב'!$A:$H,8,0) -> 1.6571619 | F8: 1.582 | G8: =+E8-F8 -> 0.075161855 | H8: =+E8/F8-1 -> 0.047510654
A9: מעיינות השרון | B9: מי השרון | C9: =+HLOOKUP(B9,'שנת 2011'!$2:$213,205,0)+HLOOKUP(B9,'שנת 2011'!$2:$213,207,0) -> 1.7173634 | E9: =+VLOOKUP(A9,'עלות תפעול מים'!$A:$H,8,0)+VLOOKUP(A9,'עלות תפעול ביוב'!$A:$H,8,0) -> 1.9613997 | F9: 1.582 | G9: =+E9-F9 -> 0.37939972 | H9: =+E9/F9-1 -> 0.23982283
A10: מי ציונה בע"מ | B10: מי ציונה | C10: =+HLOOKUP(B10,'שנת 2011'!$2:$213,205,0)+HLOOKUP(B10,'שנת 2011'!$2:$213,207,0) -> 1.7863463 | E10: =+VLOOKUP(A10,'עלות תפעול מים'!$A:$H,8,0)+VLOOKUP(A10,'עלות תפעול ביוב'!$A:$H,8,0) -> 1.7949402 | F10: 1.582 | G10: =+E10-F10 -> 0.21294021 | H10: =+E10/F10-1 -> 0.1346019
A11: ימים | B11: =A11 -> ימים | C11: =+HLOOKUP(B11,'שנת 2011'!$2:$213,205,0)+HLOOKUP(B11,'שנת 2011'!$2:$213,207,0) -> 1.7994194 | E11: =+VLOOKUP(A11,'עלות תפעול מים'!$A:$H,8,0)+VLOOKUP(A11,'עלות תפעול ביוב'!$A:$H,8,0) -> 1.8458459 | F11: 1.582 | G11: =+E11-F11 -> 0.26384588 | H11: =+E11/F11-1 -> 0.16677995
A12: מי שבע תאגיד המים והביוב לבאר שבע בע"מ | B12: מי שבע | C12: =+HLOOKUP(B12,'שנת 2011'!$2:$213,205,0)+HLOOKUP(B12,'שנת 2011'!$2:$213,207,0) -> 1.8094361 | E12: =+VLOOKUP(A12,'עלות תפעול מים'!$A:$H,8,0)+VLOOKUP(A12,'עלות תפעול ביוב'!$A:$H,8,0) -> 1.8268174 | F12: 1.582 | G12: =+E12-F12 -> 0.2448174 | H12: =+E12/F12-1 -> 0.15475183
A13: מי חדרה בע"מ | B13: מי חדרה | C13: =+HLOOKUP(B13,'שנת 2011'!$2:$213,205,0)+HLOOKUP(B13,'שנת 2011'!$2:$213,207,0) -> 1.9140534 | E13: =+VLOOKUP(A13,'עלות תפעול מים'!$A:$H,8,0)+VLOOKUP(A13,'עלות תפעול ביוב'!$A:$H,8,0) -> 1.7627785 | F13: 1.582 | G13: =+E13-F13 -> 0.18077851 | H13: =+E13/F13-1 -> 0.11427213
A14: אל עין | B14: =A14 -> אל עין | C14: =+HLOOKUP(B14,'שנת 2011'!$2:$213,205,0)+HLOOKUP(B14,'שנת 2011'!$2:$213,207,0) -> 1.9244092 | E14: =+VLOOKUP(A14,'עלות תפעול מים'!$A:$H,8,0)+VLOOKUP(A14,'עלות תפעול ביוב'!$A:$H,8,0) -> 2.2498818 | F14: 1.582 | G14: =+E14-F14 -> 0.66788182 | H14: =+E14/F14-1 -> 0.42217561
A15: הרי נצרת מפעלי מים וביוב בע"מ | B15: הרי נצרת | C15: =+HLOOKUP(B15,'שנת 2011'!$2:$213,205,0)+HLOOKUP(B15,'שנת 2011'!$2:$213,207,0) -> 1.9743962 | E15: =+VLOOKUP(A15,'עלות תפעול מים'!$A:$H,8,0)+VLOOKUP(A15,'עלות תפעול ביוב'!$A:$H,8,0) -> 2.0503669 | F15: 1.582 | G15: =+E15-F15 -> 0.46836691 | H15: =+E15/F15-1 -> 0.29606
A16: פלגי השרון | B16: פלגי השרון | C16: =+HLOOKUP(B16,'שנת 2011'!$2:$213,205,0)+HLOOKUP(B16,'שנת 2011'!$2:$213,207,0) -> 2.1496256 | E16: =+VLOOKUP(A16,'עלות תפעול מים'!$A:$H,8,0)+VLOOKUP(A16,'עלות תפעול ביוב'!$A:$H,8,0) -> 2.829824 | F16: 1.582 | G16: =+E16-F16 -> 1.247824 | H16: =+E16/F16-1 -> 0.7887636
A17: יובלים אשדוד בע"מ | B17: יובלים אשדוד | C17: =+HLOOKUP(B17,'שנת 2011'!$2:$213,205,0)+HLOOKUP(B17,'שנת 2011'!$2:$213,207,0) -> 2.0305798 | E17: =+VLOOKUP(A17,'עלות תפעול מים'!$A:$H,8,0)+VLOOKUP(A17,'עלות תפעול ביוב'!$A:$H,8,0) -> 1.7569772 | F17: 1.582 | G17: =+E17-F17 -> 0.17497715 | H17: =+E17/F17-1 -> 0.11060503
A18: מעיינות המשולש | B18: =A18 -> מעיינות המשולש | C18: =+HLOOKUP(B18,'שנת 2011'!$2:$213,205,0)+HLOOKUP(B18,'שנת 2011'!$2:$213,207,0) -> 2.0364144 | E18: =+VLOOKUP(A18,'עלות תפעול מים'!$A:$H,8,0)+VLOOKUP(A18,'עלות תפעול ביוב'!$A:$H,8,0) -> 1.9068573 | F18: 1.582 | G18: =+E18-F18 -> 0.32485726 | H18: =+E18/F18-1 -> 0.20534593
A19: מי רהט | B19: רהט | C19: =+HLOOKUP(B19,'שנת 2011'!$2:$213,205,0)+HLOOKUP(B19,'שנת 2011'!$2:$213,207,0) -> 2.0563215 | E19: =+VLOOKUP(A19,'עלות תפעול מים'!$A:$H,8,0)+VLOOKUP(A19,'עלות תפעול ביוב'!$A:$H,8,0) -> 1.7064004 | F19: 1.582 | G19: =+E19-F19 -> 0.12440039 | H19: =+E19/F19-1 -> 0.078634886
A20: מי הרצליה | B20: הרצליה | C20: =+HLOOKUP(B20,'שנת 2011'!$2:$213,205,0)+HLOOKUP(B20,'שנת 2011'!$2:$213,207,0) -> 2.0773658 | E20: =+VLOOKUP(A20,'עלות תפעול מים'!$A:$H,8,0)+VLOOKUP(A20,'עלות תפעול ביוב'!$A:$H,8,0) -> 1.6854813 | F20: 1.582 | G20: =+E20-F20 -> 0.10348132 | H20: =+E20/F20-1 -> 0.065411704
A21: מי ברק בע"מ | B21: באר מים חיים | C21: =+HLOOKUP(B21,'שנת 2011'!$2:$213,205,0)+HLOOKUP(B21,'שנת 2011'!$2:$213,207,0) -> 2.0882105 | E21: =+VLOOKUP(A21,'עלות תפעול מים'!$A:$H,8,0)+VLOOKUP(A21,'עלות תפעול ביוב'!$A:$H,8,0) -> 1.7901808 | F21: 1.582 | G21: =+E21-F21 -> 0.2081808 | H21: =+E21/F21-1 -> 0.13159343
A22: מניב ראשון בע"מ | B22: מניב ראשון (ראשון) | C22: =+HLOOKUP(B22,'שנת 2011'!$2:$213,205,0)+HLOOKUP(B22,'שנת 2011'!$2:$213,207,0) -> 2.086146 | E22: =+VLOOKUP(A22,'עלות תפעול מים'!$A:$H,8,0)+VLOOKUP(A22,'עלות תפעול ביוב'!$A:$H,8,0) -> 1.711392 | F22: 1.582 | G22: =+E22-F22 -> 0.12939198 | H22: =+E22/F22-1 -> 0.081790126
A23: התנור מים וביוב בע"מ | B23: התנור | C23: =+HLOOKUP(B23,'שנת 2011'!$2:$213,205,0)+HLOOKUP(B23,'שנת 2011'!$2:$213,207,0) -> 1.8543278 | E23: =+VLOOKUP(A23,'עלות תפעול מים'!$A:$H,8,0)+VLOOKUP(A23,'עלות תפעול ביוב'!$A:$H,8,0) -> 2.2100135 | F23: 1.582 | G23: =+E23-F23 -> 0.6280135 | H23: =+E23/F23-1 -> 0.3969744
A24: מי עכו | B24: עכו | C24: =+HLOOKUP(B24,'שנת 2011'!$2:$213,205,0)+HLOOKUP(B24,'שנת 2011'!$2:$213,207,0) -> 2.1204161 | E24: =+VLOOKUP(A24,'עלות תפעול מים'!$A:$H,8,0)+VLOOKUP(A24,'עלות תפעול ביוב'!$A:$H,8,0) -> 1.8575489 | F24: 1.582 | G24: =+E24-F24 -> 0.27554887 | H24: =+E24/F24-1 -> 0.17417754
A25: מי רקת טבריה בע"מ | B25: מי רקת | C25: =+HLOOKUP(B25,'שנת 2011'!$2:$213,205,0)+HLOOKUP(B25,'שנת 2011'!$2:$213,207,0) -> 2.1378794 | E25: =+VLOOKUP(A25,'עלות תפעול מים'!$A:$H,8,0)+VLOOKUP(A25,'עלות תפעול ביוב'!$A:$H,8,0) -> 2.0382475 | F25: 1.582 | G25: =+E25-F25 -> 0.45624746 | H25: =+E25/F25-1 -> 0.28839915
A26: מי קריית גת | B26: קריית גת | C26: =+HLOOKUP(B26,'שנת 2011'!$2:$213,205,0)+HLOOKUP(B26,'שנת 2011'!$2:$213,207,0) -> 2.1914833 | E26: =+VLOOKUP(A26,'עלות תפעול מים'!$A:$H,8,0)+VLOOKUP(A26,'עלות תפעול ביוב'!$A:$H,8,0) -> 1.7277465 | F26: 1.582 | G26: =+E26-F26 -> 0.14574648 | H26: =+E26/F26-1 -> 0.092127988
A27: מי עירון בע"מ | B27: מי עירון | C27: =+HLOOKUP(B27,'שנת 2011'!$2:$213,205,0)+HLOOKUP(B27,'שנת 2011'!$2:$213,207,0) -> 2.2036574 | E27: =+VLOOKUP(A27,'עלות תפעול מים'!$A:$H,8,0)+VLOOKUP(A27,'עלות תפעול ביוב'!$A:$H,8,0) -> 2.2715317 | F27: 1.582 | G27: =+E27-F27 -> 0.68953165 | H27: =+E27/F27-1 -> 0.43586072
A28: מי שקמה תאגיד המים והביוב בע"מ | B28: מי שקמה | C28: =+HLOOKUP(B28,'שנת 2011'!$2:$213,205,0)+HLOOKUP(B28,'שנת 2011'!$2:$213,207,0) -> 2.2058277 | E28: =+VLOOKUP(A28,'עלות תפעול מים'!$A:$H,8,0)+VLOOKUP(A28,'עלות תפעול ביוב'!$A:$H,8,0) -> 1.9109738 | F28: 1.582 | G28: =+E28-F28 -> 0.32897382 | H28: =+E28/F28-1 -> 0.20794805
A29: סובב שפרעם | B29: סובב שפרעם | C29: =+HLOOKUP(B29,'שנת 2011'!$2:$213,205,0)+HLOOKUP(B29,'שנת 2011'!$2:$213,207,0) -> 2.2312715 | E29: =+VLOOKUP(A29,'עלות תפעול מים'!$A:$H,8,0)+VLOOKUP(A29,'עלות תפעול ביוב'!$A:$H,8,0) -> 2.4046578 | F29: 1.582 | G29: =+E29-F29 -> 0.82265779 | H29: =+E29/F29-1 -> 0.52001125
A30: מי לוד בע"מ | B30: מי לוד | C30: =+HLOOKUP(B30,'שנת 2011'!$2:$213,205,0)+HLOOKUP(B30,'שנת 2011'!$2:$213,207,0) -> 2.2348121 | E30: =+VLOOKUP(A30,'עלות תפעול מים'!$A:$H,8,0)+VLOOKUP(A30,'עלות תפעול ביוב'!$A:$H,8,0) -> 1.8175659 | F30: 1.582 | G30: =+E30-F30 -> 0.23556593 | H30: =+E30/F30-1 -> 0.14890387
... A32: מעיינות הדרום | B32: מי דרום | C32: =+HLOOKUP(B32,'שנת 2011'!$2:$213,205,0)+HLOOKUP(B32,'שנת 2011'!$2:$213,207,0) -> 2.25563 | E32: =+VLOOKUP(A32,'עלות תפעול מים'!$A:$H,8,0)+VLOOKUP(A32,'עלות תפעול ביוב'!$A:$H,8,0) -> 2.0235642 | F32: 1.582 | G32: =+E32-F32 -> 0.44156423 | H32: =+E32/F32-1 -> 0.27911772
A33: מעיינות העמקים | B33: =A33 -> מעיינות העמקים | C33: =+HLOOKUP(B33,'שנת 2011'!$2:$213,205,0)+HLOOKUP(B33,'שנת 2011'!$2:$213,207,0) -> 2.2907231 | E33: =+VLOOKUP(A33,'עלות תפעול מים'!$A:$H,8,0)+VLOOKUP(A33,'עלות תפעול ביוב'!$A:$H,8,0) -> 1.9068573 | F33: 1.582 | G33: =+E33-F33 -> 0.32485726 | H33: =+E33/F33-1 -> 0.20534593
A34: עין אפק | B34: עין אפק | C34: =+HLOOKUP(B34,'שנת 2011'!$2:$213,205,0)+HLOOKUP(B34,'שנת 2011'!$2:$213,207,0) -> 2.3182145 | E34: =+VLOOKUP(A34,'עלות תפעול מים'!$A:$H,8,0)+VLOOKUP(A34,'עלות תפעול ביוב'!$A:$H,8,0) -> 1.7255243 | F34: 1.582 | G34: =+E34-F34 -> 0.14352429 | H34: =+E34/F34-1 -> 0.090723321
A35: מי יבנה | B35: מי יבנה | C35: =+HLOOKUP(B35,'שנת 2011'!$2:$213,205,0)+HLOOKUP(B35,'שנת 2011'!$2:$213,207,0) -> 2.3346401 | E35: =+VLOOKUP(A35,'עלות תפעול מים'!$A:$H,8,0)+VLOOKUP(A35,'עלות תפעול ביוב'!$A:$H,8,0) -> 1.8222067 | F35: 1.582 | G35: =+E35-F35 -> 0.2402067 | H35: =+E35/F35-1 -> 0.15183736
A36: מעיינות אתא | B36: קריית אתא | C36: =+HLOOKUP(B36,'שנת 2011'!$2:$213,205,0)+HLOOKUP(B36,'שנת 2011'!$2:$213,207,0) -> 2.3399581 | E36: =+VLOOKUP(A36,'עלות תפעול מים'!$A:$H,8,0)+VLOOKUP(A36,'עלות תפעול ביוב'!$A:$H,8,0) -> 1.8309714 | F36: 1.582 | G36: =+E36-F36 -> 0.24897144 | H36: =+E36/F36-1 -> 0.15737765
A37: מעיינות זיו | B37: מעיינות זיו | C37: =+HLOOKUP(B37,'שנת 2011'!$2:$213,205,0)+HLOOKUP(B37,'שנת 2011'!$2:$213,207,0) -> 2.3477354 | E37: =+VLOOKUP(A37,'עלות תפעול מים'!$A:$H,8,0)+VLOOKUP(A37,'עלות תפעול ביוב'!$A:$H,8,0) -> 2.0506191 | F37: 1.582 | G37: =+E37-F37 -> 0.46861909 | H37: =+E37/F37-1 -> 0.2962194
A38: מי מודיעין | B38: מי מודיעין (מודיעין) | C38: =+HLOOKUP(B38,'שנת 2011'!$2:$213,205,0)+HLOOKUP(B38,'שנת 2011'!$2:$213,207,0) -> 2.3998179 | E38: =+VLOOKUP(A38,'עלות תפעול מים'!$A:$H,8,0)+VLOOKUP(A38,'עלות תפעול ביוב'!$A:$H,8,0) -> 1.699584 | F38: 1.582 | G38: =+E38-F38 -> 0.11758399 | H38: =+E38/F38-1 -> 0.074326162
A39: מי גבעתיים | B39: גבעתיים | C39: =+HLOOKUP(B39,'שנת 2011'!$2:$213,205,0)+HLOOKUP(B39,'שנת 2011'!$2:$213,207,0) -> 2.4267451 | E39: =+VLOOKUP(A39,'עלות תפעול מים'!$A:$H,8,0)+VLOOKUP(A39,'עלות תפעול ביוב'!$A:$H,8,0) -> 1.7793109 | F39: 1.582 | G39: =+E39-F39 -> 0.19731089 | H39: =+E39/F39-1 -> 0.12472244
A40: מי רעננה | B40: רעננה | C40: =+HLOOKUP(B40,'שנת 2011'!$2:$213,205,0)+HLOOKUP(B40,'שנת 2011'!$2:$213,207,0) -> 2.5313564 | E40: =+VLOOKUP(A40,'עלות תפעול מים'!$A:$H,8,0)+VLOOKUP(A40,'עלות תפעול ביוב'!$A:$H,8,0) -> 1.6944561 | F40: 1.582 | G40: =+E40-F40 -> 0.11245605 | H40: =+E40/F40-1 -> 0.071084735
A41: כפרי גליל תחתון בע"מ | B41: כפרי הגליל התחתון | C41: =+HLOOKUP(B41,'שנת 2011'!$2:$213,205,0)+HLOOKUP(B41,'שנת 2011'!$2:$213,207,0) -> 2.6594895 | E41: =+VLOOKUP(A41,'עלות תפעול מים'!$A:$H,8,0)+VLOOKUP(A41,'עלות תפעול ביוב'!$A:$H,8,0) -> 2.2894458 | F41: 1.582 | G41: =+E41-F41 -> 0.70744579 | H41: =+E41/F41-1 -> 0.44718445
A42: מיתב מים תיעול וביוב בע"מ | B42: מיתב פ"ת | C42: =+HLOOKUP(B42,'שנת 2011'!$2:$213,205,0)+HLOOKUP(B42,'שנת 2011'!$2:$213,207,0) -> 2.6655068 | E42: =+VLOOKUP(A42,'עלות תפעול מים'!$A:$H,8,0)+VLOOKUP(A42,'עלות תפעול ביוב'!$A:$H,8,0) -> 1.9015234 | F42: 1.582 | G42: =+E42-F42 -> 0.31952338 | H42: =+E42/F42-1 -> 0.20197433
...

Sheet שנת 2011
C2: שם תאגיד | G2: מי אריאל (אריאל) | H2: מי עירון | I2: פלג הגליל | J2: מי מודיעין (מודיעין) | K2: מי ציונה | L2: קריית אונו | M2: מי חדרה | N2: מי שבע | O2: קריית אתא | P2: מניב ראשון (ראשון) | Q2: מי לוד | R2: מי שקמה | S2: עין נטפים (אילת) | T2: רמת השרון | U2: הרצליה | V2: מי השרון | W2: מי רקת | X2: רהט | Y2: הגיחון (ירושלים) | Z2: חיפה | AA2: ימים | AB2: עין אפק | AC2: סובב שפרעם | AD2: גבעתיים | AE2: מי אביבים | AF2: מי גליל | AG2: מי יבנה | AH2: אל עין | AI2: כפרי הגליל התחתון | AJ2: בית שמש | AK2: מי דרום | AL2: עין אפק | AM2: התנור | AN2: בת ים | AO2: מי נע (נצרת) | AP2: מיתב פ"ת | AQ2: עכו | AR2: באר מים חיים | AS2: רעננה | AT2: קריית גת | AU2: עין כרמים | AV2: מעיינות זיו | AW2: מי נתניה | AX2: יובלים אשדוד | AY2: הרי נצרת | AZ2: נווה מדבר | BA2: מי הוד השרון | BB2: מעיינות העמקים | BC2: מי אשקלון | BD2: מעיינות המשולש | BE2: פלגי השרון
C3: 21.1.1 | G3: 2011 | H3: 2011 | I3: 2011 | J3: 2011 | K3: 2011 | L3: 2011 | M3: 2011 | N3: 2011 | O3: 2011 | P3: 2011 | Q3: 2011 | R3: 2011 | S3: 2011 | T3: 2011 | U3: 2011 | V3: 2011 | W3: 2011 | X3: 2011 | Y3: 2011 | Z3: 2011 | AA3: 2011 | AB3: 2011 | AC3: 2011 | AD3: 2011 | AE3: 2011 | AF3: 2011 | AG3: 2011 | AH3: 2011 | AI3: 2011 | AJ3: 2011 | AK3: 2011 | AL3: 2011 | AM3: 2011 | AN3: 2011 | AO3: 2011 | AP3: 2011 | AQ3: 2011 | AR3: 2011 | AS3: 2011 | AT3: 2011 | AU3: 2011 | AV3: 2011 | AW3: 2011 | AX3: 2011 | AY3: 2011 | AZ3: 2011 | BA3: 2011 | BB3: 2011 | BC3: 2011 | BD3: 2011 | BE3: 2011
A4: .21.1 | C4: רווח (הפסד) גולמי מאספקת מים
C5: 21.1.1 | D5: הכנסות - | G5: 2010 | H5: 2010 | I5: 2010 | J5: 2010 | K5: 2010 | L5: 2010 | M5: 2010 | N5: 2010 | O5: 2010 | P5: 2010 | Q5: 2010 | R5: 2010 | S5: 2010 | T5: 2010
D6: מאגרות מים
D7: מהיטלי מים
D8: ***
G9: =SUM(G6:G8) -> 0 | H9: =SUM(H6:H8) -> 0 | I9: =SUM(I6:I8) -> 0 | J9: =SUM(J6:J8) -> 0 | K9: =SUM(K6:K8) -> 0 | L9: =SUM(L6:L8) -> 0 | M9: =SUM(M6:M8) -> 0 | N9: =SUM(N6:N8) -> 0 | ... T9: =SUM(T6:T8) -> 0
C10: 21.1.2 | D10: עלויות אספקת מים -
D11: משכורות ונלוות | G11: 447 | H11: 942 | I11: 4434 | J11: 715 | K11: 603 | L11: 488 | M11: 1455 | N11: 1748 | O11: 875 | P11: 2403 | Q11: 299 | R11: 1018 | S11: 596 | T11: 1793 | U11: 1674 | V11: 117 | W11: 303 | X11: 367 | Y11: 26088 | Z11: 11122 | AA11: 768 | AB11: 616 | AC11: 545 | AD11: 1374 | AE11: 15277 | AF11: 1031 | AH11: 568 | AI11: 1098 | AJ11: 371 | AK11: 1530 | AL11: 616 | AM11: 630 | AN11: 1929 | AO11: 726 | AP11: 2123 | AQ11: 626 | AR11: 2597 | AS11: 1419 | AT11: 487 | AU11: 880 | AV11: 1547 | AW11: 931 | AX11: 1297 | AY11: 1498 | AZ11: 1188 | BA11: 1434 | BB11: 432 | BC11: 4323 | BD11: =744226/1000 -> 744.226 | BE11: 155
D12: רכישת המים ממקורות | H12: 17188 | Q12: 20439 | R12: 56938 | AO12: 16272 | BA12: 12854
D13: אחזקת רשת המים | I13: 4682 | J13: 2946 | L13: 569 | P13: 819 | R13: 2580 | U13: 2185 | V13: 2780 | X13: 1342 | Z13: 2178 | AA13: 137 | AD13: 1645 | AO13: 109 | AU13: 352 | AW13: 3557 | AY13: 2814 | BA13: 1945 | BD13: =1793261/1000 -> 1793.261
D14: היטלי הפקה | AW14: 15680
D15: אנרגיה | G15: 61 | H15: 469 | J15: 238 | K15: 144 | M15: 156 | N15: 991 | O15: 91 | P15: 1141 | R15: 264 | T15: 418 | W15: 94 | X15: 175 | Y15: 1578 | Z15: 4906 | AA15: 9 | AB15: 216 | AC15: 1110 | AE15: 1026 | AG15: 273 | AH15: 146 | AI15: 192 | AJ15: 59 | AK15: 203 | AL15: 216 | AM15: 61 | AO15: 440 | AP15: 690 | AQ15: 174 | AU15: 73 | AW15: 1508 | AX15: 875 | BA15: 229 | BB15: 210 | BC15: 68 | BD15: =929329/1000 -> 929.329
D16: קבלני משנה | G16: 1470 | H16: 901 | J16: 57 | M16: 2228 | N16: 6494 | O16: 512 | P16: 939 | Q16: 1729 | R16: 4056 | S16: 4278 | T16: 1757 | W16: 2664 | Y16: 17444 | Z16: 10128 | AB16: 1169 | AC16: 4885 | AE16: 19703 | AF16: 1949 | AG16: 2770 | AH16: 1421 | AI16: 1344 | AJ16: 1730 | AK16: 1679 | AL16: 1169 | AN16: 1685 | AO16: 1770 | AP16: 2602 | AR16: 2364 | AS16: 1204 | AT16: 2783 | AW16: 1163 | AX16: 1078 | AZ16: 281 | BA16: 69
D17: חומרים | H17: 476 | K17: 86 | L17: 117 | O17: 172 | P17: 270 | X17: 6 | Y17: 4629 | Z17: 306 | AA17: 81 | AE17: 879 | AH17: 76 | AI17: 81 | AK17: 438 | AM17: 81 | AN17: 25 | AO17: 533 | AP17: 777 | AR17: 311 | AS17: 412 | AU17: 53 | AX17: 1211 | AY17: 275 | BD17: =240465/1000 -> 240.465
D18: ארנונה | G18: 74 | J18: 73 | L18: 52 | M18: 341 | N18: 1811 | O18: 120 | P18: 1884 | Q18: 127 | S18: 81 | T18: 480 | W18: 284 | X18: 146 | Y18: 3312 | Z18: 1826 | AC18: 219 | AE18: 1452 | AI18: 75 | AJ18: 206 | AK18: 210 | AM18: 112 | AN18: 222 | AO18: 61 | AP18: 1091 | AQ18: 56 | AR18: 711 | AT18: 85 | AU18: 326 | AW18: 309 | AX18: 690 | BA18: 61 | BB18: 196 | BC18: 520
D19: ביטוח | J19: 184 | N19: 227 | O19: 62 | Q19: 65 | S19: 201 | U19: 133 | V19: 182 | W19: 28 | X19: 105 | Y19: 89 | AA19: 25 | AI19: 71 | AK19: 40 | AO19: 112 | AP19: 104 | AQ19: 47 | AR19: 43 | AS19: 49 | AT19: 65 | AU19: 85 | AW19: 197 | AX19: 168 | BA19: 63 | BB19: 67 | BC19: 85
D20: הוצאות אחרות (לפרט) | H20: 108 | J20: =40+118 -> 158 | K20: 509 | L20: 100 | M20: 116 | N20: 428 | O20: 23 | Q20: 110 | R20: 280 | T20: 166 | W20: 51 | Y20: 912 | Z20: 316 | AB20: 20 | AE20: 3257 | AF20: 15 | AH20: 461 | AJ20: 212 | AL20: 20 | AM20: 506 | AN20: 295 | AO20: 107 | AP20: 100 | AQ20: 658 | AR20: =500+311 -> 811 | AS20: 35 | AT20: 1478 | AW20: 999 | AX20: 205 | AY20: 510 | BB20: 628 | BC20: 1242 | BD20: =104444/1000 -> 104.444 | BE20: 276
D21: פחת | G21: 1157 | H21: 1614 | J21: 1629 | K21: 1091 | L21: 302 | M21: 3775 | N21: 8589 | O21: 3121 | P21: 8233 | Q21: 1501 | R21: 8126 | S21: 2688 | T21: 1905 | U21: 5284 | V21: 3966 | W21: 2728 | X21: 1573 | Y21: 34042 | Z21: 17482 | AA21: 739 | AB21: 2274 | AC21: 7353 | AD21: 1692 | AE21: 11817 | AF21: 5778 | AG21: 2225 | AH21: 3118 | AI21: 2469 | AJ21: 2408 | AK21: 2636 | AL21: 2274 | AM21: 1862 | AN21: 2575 | AO21: 3303 | AP21: 11314 | AQ21: 2911 | AR21: 3739 | AS21: 6026 | AT21: 2094 | AU21: 1934 | AW21: 5496 | AX21: 5897 | AY21: 3260 | AZ21: 2232 | BA21: 2546 | BB21: 2752 | BC21: 5476 | BD21: =1082510/1000 -> 1082.51 | BE21: 679
D22: אחזקת רכב | G22: 1 | H22: 113 | J22: 274 | K22: 50 | L22: 83 | M22: 184 | N22: 505 | O22: 137 | P22: 693 | S22: 229 | T22: 286 | U22: 375 | V22: 65 | W22: 60 | X22: 40 | Z22: 952 | AA22: 43 | AB22: 151 | AE22: 793 | AH22: 69 | AI22: 179 | AJ22: 71 | AK22: 173 | AL22: 151 | AM22: 215 | AN22: 157 | AO22: 206 | AP22: 347 | AQ22: 269 | AR22: 528 | AS22: 399 | AT22: 198 | AV22: 344 | AX22: 488 | AY22: 160 | AZ22: 61 | BA22: 234 | BB22: 37 | BC22: 189 | BD22: =73938/1000 -> 73.938 | BE22: 14
D23: נציבות מים בגין הקצבות לחקלאות ותעשייה
D24: הוצאות מוני מים | J24: 913 | L24: 115 | V24: 8 | AK24: 147 | AU24: 125 | AY24: 443
G25: =SUM(G11:G24) -> 3210 | H25: =SUM(H11:H24) -> 21811 | I25: =SUM(I11:I24) -> 9116 | J25: =SUM(J11:J24) -> 7187 | K25: =SUM(K11:K24) -> 2483 | L25: =SUM(L11:L24) -> 1826 | M25: =SUM(M11:M24) -> 8255 | N25: =SUM(N11:N24) -> 20793 | ... BE25: =SUM(BE11:BE24) -> 1124
AZ26: =+AZ25-AZ21 -> 1530
C27: 21.1.3 | D27: עלויות הפקה -
D28: רכישת מים ממקורות | G28: 4818 | I28: 22297 | J28: 17595 | K28: 2258 | L28: 5628 | M28: 15648 | N28: 78350 | O28: 11910 | P28: 31981 | S28: 42955 | T28: 19698 | U28: 23765 | V28: 15971 | X28: 6166 | Y28: 246728 | Z28: 75003 | AA28: 11102 | AB28: 13106 | AC28: 21214 | AD28: 4015 | AE28: 161654 | AF28: 25012 | AG28: 18098 | AH28: 16002 | AI28: 10723 | AJ28: 14180 | AK28: 17010 | AL28: 13106 | AM28: 9332 | AN28: 9563 | AP28: 42111 | AQ28: 6126 | AR28: 16299 | AS28: 5199 | AT28: 11137 | AU28: 15463 | AV28: 5407 | AW28: 32234 | AX28: 41987 | AY28: 26538 | AZ28: 14587 | BB28: 9604 | BC28: 37197 | BD28: =(11316784+29840-150000)/1000 -> 11196.624 | BE28: 4834
D29: משכורות ונלוות | L29: 488 | M29: 50 | P29: 187 | U29: 770 | W29: 897 | AN29: 1177 | AR29: 717 | AS29: 1419
D30: אנרגיה | K30: 452 | L30: 484 | M30: 552 | P30: 2161 | U30: 842 | V30: 579 | W30: 2137 | AD30: 440 | AN30: 1352 | AP30: 1287 | AR30: 850
D31: קבלני משנה | K31: 2337 | P31: 909 | U31: 437 | W31: 4234 | AN31: 1526 | AR31: 394 | AS31: 1204
D32: חומרים | P32: 407 | W32: 310 | AN32: 97 | AR32: 832 | AS32: 412
D33: ארנונה | K33: 80 | L33: 185 | M33: 103 | P33: 487 | U33: 288 | V33: 817 | W33: 851 | AD33: 208 | AN33: 228 | AP33: 124 | AR33: 482
D34: ביטוח | K34: 44 | L34: -75 | W34: 87 | AD34: 128 | AP34: 170 | AS34: 49
D35: טיהור בארות | M35: 1995 | P35: 702 | AD35: 655 | AR35: 102
D36: היטל הפקה | K36: 639 | L36: 2533 | M36: 4522 | P36: 15889 | U36: 5112 | V36: 220 | W36: 2050 | AE36: 9076 | AG36: 927 | AN36: 12086 | AP36: 17877 | AR36: 11471 | AX36: 1883 | BD36: =7228691/1000 -> 7228.691
D37: הוצאות אחרות (לפרט) | P37: 586 | W37: 92 | AI37: 4 | AN37: 53 | AR37: 51 | AS37: 35
D38: אחזקת רכב | M38: 12 | P38: 35 | U38: 132 | W38: 88 | AR38: 65 | AS38: 399
D39: פחת | K39: 1091 | L39: 1398 | M39: 175 | P39: 616 | U39: 397 | V39: 96 | W39: 2723 | AD39: 273 | AF39: 1 | AG39: 248 | AN39: 446 | AP39: 1087 | AR39: 328 | AS39: 6026
G40: =SUM(G28:G39) -> 4818 | H40: =SUM(H28:H39) -> 0 | I40: =SUM(I28:I39) -> 22297 | J40: =SUM(J28:J39) -> 17595 | K40: =SUM(K28:K39) -> 6901 | L40: =SUM(L28:L39) -> 10641 | M40: =SUM(M28:M39) -> 23057 | N40: =SUM(N28:N39) -> 78350 | ... BE40: =SUM(BE28:BE39) -> 4834
D43: רווח (הפסד) גולמי מאספקת מים | G43: =G9-G25-G40 -> -8028 | H43: =H9-H25-H40 -> -21811 | I43: =I9-I25-I40 -> -31413 | J43: =J9-J25-J40 -> -24782 | K43: =K9-K25-K40 -> -9384 | L43: =L9-L25-L40 -> -12467 | M43: =M9-M25-M40 -> -31312 | N43: =N9-N25-N40 -> -99143 | ... U43: =U9-U25-U40 -> -41394
...

Sheet נתוני מים 2011
B1: מספר | D1: מספר | E1: אוכלוסיה | F1: תקבולים | G1: תקבולים | H1: סה"כ | I1: צריכה | J1: צריכה | K1: צריכה | L1: צריכה | M1: סה"כ | N1: סה"כ | O1: סה"כ | P1: צר' סגולית | Q1: צר' סגולית
B2: סידורי | C2: שם התאגיד | D2: צרכן | E2: 2010 | F2: הפקה | G2: קניה | H2: תקבולים | I2: במגורים | J2: עירונית | K2: תעשייתית | L2: חקלאית | M2: צריכה | N2: פחת | O2: פחת | P2: מגורים | Q2: עירונית
E3: נפש | F3: מ"ק | G3: מ"ק | H3: מ"ק | I3: מ"ק | J3: מ"ק | K3: מ"ק | L3: מ"ק | M3: מ"ק | N3: מ"ק | O3: % | P3: מ"ק/נ/שנה | Q3: מ"ק/נ/שנה
B4: 1 | E4: 12619 | F4: 0 | G4: 844413 | H4: 844413 | I4: 585730 | J4: 657280 | K4: 6685 | L4: 707 | M4: 664672 | N4: 179741 | O4: 21.285911 | P4: 46.416515 | Q4: 52.086536
E5: 5761 | F5: 0 | G5: 456900 | H5: 456900 | I5: 251438 | J5: 297072 | K5: 1327 | L5: 678 | M5: 299077 | N5: 157823 | O5: 34.542132 | P5: 43.644853 | Q5: 51.566048
E6: 8795 | F6: 0 | G6: 679942 | H6: 679942 | I6: 476860 | J6: 582205 | K6: 0 | L6: 28416 | M6: 610621 | N6: 69321 | O6: 10.195134 | P6: 54.219443 | Q6: 66.197271
E7: 15032 | F7: 0 | G7: 1352569 | H7: 1352569 | I7: 618591 | J7: 812027 | K7: 22266 | L7: 17242 | M7: 851535 | N7: 501034 | O7: 37.043138 | P7: 41.15161 | Q7: 54.019891
E8: 18574 | F8: 0 | G8: 1436138 | H8: 1436138 | I8: 935763 | J8: 1051274 | K8: 0 | L8: 7949 | M8: 1059223 | N8: 376915 | O8: 26.245041 | P8: 50.380263 | Q8: 56.599225
E9: 3448 | F9: 0 | G9: 250660 | H9: 250660 | I9: 164810 | J9: 179826 | K9: 0 | L9: 23457 | M9: 203283 | N9: 47377 | O9: 479.06474 | P9: 47.798724 | Q9: 52.153712
E10: 5754 | F10: 0 | G10: 285452 | H10: 285452 | I10: 235521 | J10: 255627 | K10: 0 | L10: 3531 | M10: 259158 | N10: 26294 | O10: 9.211356 | P10: 40.9317 | Q10: 44.425965
A11: 2011 | C11: אל עין | D11: 639 | E11: 69983 | F11: 0 | G11: 5306074 | H11: 5306074 | I11: 3268713 | J11: 3835311 | K11: 30278 | L11: 81980 | M11: 3947569 | N11: 1358505 | O11: 25.602828 | P11: 46.707243 | Q11: 54.803467
E12: 788052 | F12: 0 | G12: 57465303 | H12: 57465303 | I12: 29584429 | J12: 46430151 | K12: 2729779 | L12: 342936 | M12: 49502866 | N12: 7962437 | O12: 13.856078 | P12: 37.541214 | Q12: 58.917623
E13: 6094 | F13: 0 | G13: 379883 | H13: 379883 | I13: 229386 | J13: 255647 | K13: 0 | L13: 800 | M13: 256447 | N13: 123436 | O13: 32.493162 | P13: 37.641287 | Q13: 41.950607
E14: 24014 | F14: 0 | G14: 1861170 | H14: 1861170 | I14: 1386218 | J14: 1543371 | K14: 0 | L14: 0 | M14: 1543371 | N14: 317799 | O14: 17.075227 | P14: 57.72541 | Q14: 64.269634
A15: 2011 | B15: 2 | C15: הגיחון (ירושלים) | D15: 8625 | E15: 818160 | F15: 0 | G15: 59706356 | H15: 59706356 | I15: 31200033 | J15: 48229169 | K15: 2729779 | L15: 343736 | M15: 51302684 | N15: 8403672 | O15: 14.075004 | P15: 38.134391 | Q15: 58.948334
E16: 12429 | F16: 0 | G16: 847034 | H16: 847034 | I16: 535862 | J16: 639702 | K16: 0 | L16: 12210 | M16: 651912 | N16: 195122 | O16: 23.035911 | P16: 43.113847 | Q16: 51.468501
E17: 17452 | F17: 0 | G17: 1332252 | H17: 1332252 | I17: 736861 | J17: 990898 | K17: 0 | L17: 0 | M17: 990898 | N17: 341354 | O17: 25.62233 | P17: 42.222152 | Q17: 56.778478
E18: 7039 | F18: 0 | G18: 465452 | H18: 465452 | I18: 275412 | J18: 342965 | K18: 0 | L18: 0 | M18: 342965 | N18: 122487 | O18: 26.31571 | P18: 39.12658 | Q18: 48.72354
E19: 16776 | F19: 0 | G19: 1037518 | H19: 1037518 | I19: 732550 | J19: 771692 | K19: 0 | L19: 0 | M19: 771692 | N19: 265826 | O19: 25.621339 | P19: 43.666547 | Q19: 45.999762
E20: 72997 | F20: 0 | G20: 5241576 | H20: 5241576 | I20: 3394665 | J20: 3909214 | K20: 206700 | L20: 0 | M20: 4115914 | N20: 1125662 | O20: 21.47564 | P20: 46.504171 | Q20: 53.553078
A21: 2011 | B21: 3 | C21: הרי נצרת | D21: 765 | E21: 126693 | F21: 0 | G21: 8923832 | H21: 8923832 | I21: 5675350 | J21: 6654471 | K21: 206700 | L21: 12210 | M21: 6873381 | N21: 2050451 | O21: 22.977248 | P21: 44.796082 | Q21: 52.524378
E22: 1590 | F22: 0 | G22: 197889 | H22: 197889 | I22: 110781 | J22: 175472 | K22: 11822 | L22: 0 | M22: 187294 | N22: 10595 | O22: 5.3540116 | P22: 69.673585 | Q22: 110.35975
E23: 23326 | F23: 0 | G23: 1798367 | H23: 1798367 | I23: 1177364 | J23: 1605059 | K23: 12024 | L23: 8888 | M23: 1625971 | N23: 172396 | O23: 9.5862524 | P23: 50.474321 | Q23: 68.809869
E24: 6712 | F24: 0 | G24: 753970 | H24: 753970 | I24: 347517 | J24: 536226 | K24: 98323 | L24: 494 | M24: 635043 | N24: 118927 | O24: 15.773439 | P24: 51.775477 | Q24: 79.890644
A25: 2011 | B25: 4 | C25: התנור | D25: 718 | E25: 31628 | F25: 0 | G25: 2750226 | H25: 2750226 | I25: 1635662 | J25: 2316757 | K25: 122169 | L25: 9382 | M25: 2448308 | N25: 301918 | O25: 10.977934 | P25: 51.715632 | Q25: 73.25019
E26: 210558 | F26: 826960 | G26: 15894805 | H26: 16721765 | I26: 9872889 | J26: 13420488 | K26: 2040300 | L26: 0 | M26: 15460788 | N26: 1260977 | O26: 7.5409324 | P26: 46.889166 | Q26: 63.737725
A27: 2011 | B27: 5 | C27: יובלים אשדוד | D27: 6562 | E27: 210558 | F27: 826960 | G27: 15894805 | H27: 16721765 | I27: 9872889 | J27: 13420488 | K27: 2040300 | L27: 0 | M27: 15460788 | N27: 1260977 | O27: 7.5409324 | P27: 46.889166 | Q27: 63.737725
E28: 17668 | F28: 0 | G28: 1228303 | H28: 1228303 | I28: 751892 | J28: 1129249 | K28: 20312 | L28: 0 | M28: 1149561 | N28: 78742 | O28: 6.4106332 | P28: 42.556713 | Q28: 63.914931
E29: 6284 | F29: 0 | G29: 520809 | H29: 520809 | I29: 285034 | J29: 427254 | K29: 38390 | L29: 0 | M29: 465644 | N29: 55165 | O29: 10.592175 | P29: 45.358689 | Q29: 67.99077
A30: 2001 | B30: 6 | C30: מי אריאל (אריאל) | D30: 9503 | E30: 23952 | F30: 0 | G30: 1749112 | H30: 1749112 | I30: 1036926 | J30: 1556503 | K30: 58702 | L30: 0 | M30: 1615205 | N30: 133907 | O30: 7.6557133 | P30: 43.291834 | Q30: 64.98426
E31: 37835 | F31: 0 | G31: 2561785 | H31: 2561785 | I31: 1733935 | J31: 2095864 | K31: 12583 | L31: 0 | M31: 2108447 | N31: 453338 | O31: 17.696177 | P31: 45.828862 | Q31: 55.394846
A32: 2011 | B32: 7 | C32: ימים | D32: 3143 | E32: 37835 | F32: 0 | G32: 2561785 | H32: 2561785 | I32: 1733935 | J32: 2095864 | K32: 12583 | L32: 0 | M32: 2108447 | N32: 453338 | O32: 17.696177 | P32: 45.828862 | Q32: 55.394846
E33: 9133 | F33: 0 | G33: 673628 | H33: 673628 | I33: 443162 | J33: 525805 | K33: 0 | L33: 4310 | M33: 530115 | N33: 143513 | O33: 21.304489 | P33: 48.523158 | Q33: 57.571992
E34: 12149 | F34: 0 | G34: 962460 | H34: 962460 | I34: 506164 | J34: 638891 | K34: 0 | L34: 20042 | M34: 658933 | N34: 303527 | O34: 31.536583 | P34: 41.663018 | Q34: 52.58795
E35: 5105 | F35: 0 | G35: 352850 | H35: 352850 | I35: 214461 | J35: 272283 | K35: 0 | L35: 5394 | M35: 277677 | N35: 75173 | O35: 21.30452 | P35: 42.00999 | Q35: 53.336533
E36: 8163 | F36: 0 | G36: 366110 | H36: 366110 | I36: 212768 | J36: 281143 | K36: 25960 | L36: 1400 | M36: 308503 | N36: 57607 | O36: 15.734888 | P36: 26.064927 | Q36: 34.441137
E37: 19179 | F37: 0 | G37: 1473080 | H37: 1473080 | I37: 712880 | J37: 968946 | K37: 10781 | L37: 21631 | M37: 1001358 | N37: 471722 | O37: 32.022837 | P37: 37.169821 | Q37: 50.521195
E38: 7196 | F38: 0 | G38: 456560 | H38: 456560 | I38: 271983 | J38: 301939 | K38: 0 | L38: 6833 | M38: 308772 | N38: 147788 | O38: 32.369897 | P38: 37.796415 | Q38: 41.959283
A39: חסר | B39: 8 | C39: כפרי הגליל התחתון | D39: 504 | E39: 60925 | F39: 0 | G39: 4284688 | H39: 4284688 | I39: 2361418 | J39: 2989007 | K39: 36741 | L39: 59610 | M39: 3085358 | N39: 1199330 | O39: 27.99107 | P39: 38.759426 | Q39: 49.060435
E40: 40858 | F40: 0 | G40: 3422613 | H40: 3422613 | I40: 1900514 | J40: 2594710 | K40: 597023 | L40: 0 | M40: 3191733 | N40: 230880 | O40: 6.7457232 | P40: 46.515101 | Q40: 63.505556
...

Sheet התפלגות מים 2011
B1: מספר | D1: צריכה | F1: גינון ציבורי | H1: מוסדות | J1: בתי חולים | L1: בתי מרחץ | N1: מסחר | P1: בנייה | R1: צריכה | T1: צריכה
B2: סידורי | C2: שם התאגיד | D2: מגורים | F2: רשות מקומית | H2: רשות מקומית | L2: ומקוואות | N2: ומלאכה | R2: אחרת | T2: עירונית
D3: מ"ק | E3: % | F3: מ"ק | G3: % | H3: מ"ק | I3: % | J3: מ"ק | K3: % | L3: מ"ק | M3: % | N3: מ"ק | O3: % | P3: מ"ק | Q3: % | R3: מ"ק | S3: % | T3: מ"ק | U3: %
D4: 585730 | E4: 89.114228 | F4: 0 | G4: 0 | H4: 38288 | I4: 5.8252191 | J4: 0 | K4: 0 | L4: 0 | M4: 0 | N4: 9736 | O4: 1.4812561 | P4: 12880 | Q4: 1.959591 | R4: 10646 | S4: 1.6197055 | T4: 657280 | U4: 100
D5: 251438 | E5: 84.638741 | F5: 796 | G5: 0.26794851 | H5: 16164 | I5: 5.4411052 | J5: 225 | K5: 0.075739215 | L5: 0 | M5: 0 | N5: 16221 | O5: 5.4602925 | P5: 4933 | Q5: 1.6605402 | R5: 7295 | S5: 2.4556337 | T5: 297072 | U5: 100
D6: 476860 | E6: 81.905858 | F6: 0 | G6: 0 | H6: 14881 | I6: 2.5559726 | J6: 55 | K6: 0.0094468443 | L6: 0 | M6: 0 | N6: 54240 | O6: 9.3163061 | P6: 8647 | Q6: 1.4852157 | R6: 27522 | S6: 4.7272009 | T6: 582205 | U6: 100
D7: 618591 | E7: 76.178625 | F7: 467 | G7: 0.057510403 | H7: 62719 | I7: 7.723758 | J7: 17958 | K7: 2.2115028 | L7: 0 | M7: 0 | N7: 58020 | O7: 7.1450826 | P7: 8592 | Q7: 1.0580929 | R7: 45680 | S7: 5.6254287 | T7: 812027 | U7: 100
