Workbook

Sheet שנת 2010
X1: ***לא מבוקר
C2: שם תאגיד | G2: מי אריאל (אריאל) | H2: מי עירון | I2: פלג הגליל | J2: הוד השרון | K2: מי מודיעין (מודיעין) | L2: מי ציונה | M2: קריית אונו | N2: מי חדרה | O2: מי שבע | P2: קריית אתא | Q2: מניב ראשון (ראשון) | R2: מי לוד | S2: מי שקמה | T2: עין נטפים (אילת) | U2: רמת השרון | V2: הרצליה | W2: מי השרון | X2: מי רקת | Y2: רהט | Z2: הגיחון (ירושלים) | AA2: חיפה | AB2: ימים | AC2: באר מים חיים | AD2: עין אפק | AE2: סובב שפרעם | AF2: גבעתיים | AG2: תל אביב ב | AH2: מי גליל | AI2: מי יבנה | AJ2: אל עין | AK2: כפרי הגליל התחתון | AL2: בית שמש | AM2: מי דרום | AN2: עין אפק | AO2: התנור | AP2: בת ים | AQ2: מי נע (נצרת) | AR2: מיתב (פתח תקווה) | AS2: באר מים חיים | AT2: עכו | AU2: רעננה | AV2: קריית גת
C3: 21.1.1 | G3: 2010 | H3: 2010 | I3: 2010 | J3: 2010 | K3: 2010 | L3: 2010 | M3: 2010 | N3: 2010 | O3: 2010 | P3: 2010 | Q3: 2010 | R3: 2010 | S3: 2010 | T3: 2010 | U3: 2010 | V3: 2010 | W3: 2010 | X3: 2010 | Y3: 2010 | Z3: 2010 | AA3: 2010 | AB3: 2010 | AC3: 2010 | AD3: 2010 | AE3: 2010 | AF3: 2010 | AG3: 2010 | AH3: 2010 | AI3: 2010 | AJ3: 2010 | AK3: 2010 | AL3: 2010 | AM3: 2010 | AN3: 2010 | AO3: 2010 | AP3: 2010 | AQ3: 2010 | AR3: 2010 | AS3: 2010 | AT3: 2010 | AU3: 2010 | AV3: 2010
A4: .21.1 | C4: רווח (הפסד) גולמי מאספקת מים
C5: 21.1.1 | D5: הכנסות - | G5: 2010 | H5: 2010 | I5: 2010 | J5: 2010 | K5: 2010 | L5: 2010 | M5: 2010 | N5: 2010 | O5: 2010 | P5: 2010 | Q5: 2010 | R5: 2010 | S5: 2010 | T5: 2010 | U5: 2010
D6: מאגרות מים
D7: מהיטלי מים
D8: ***
G9: =SUM(G6:G8) -> 0 | H9: =SUM(H6:H8) -> 0 | I9: =SUM(I6:I8) -> 0 | J9: =SUM(J6:J8) -> 0 | K9: =SUM(K6:K8) -> 0 | L9: =SUM(L6:L8) -> 0 | M9: =SUM(M6:M8) -> 0 | N9: =SUM(N6:N8) -> 0 | ... U9: =SUM(U6:U8) -> 0
C10: 21.1.2 | D10: עלויות אספקת מים -
D11: משכורות ונלוות | G11: 322 | H11: 846 | I11: 3293 | J11: 930 | K11: 733 | M11: 232 | N11: 1130 | O11: 1235 | P11: 903 | Q11: 2982 | R11: 244 | S11: 1015 | T11: 576 | U11: 1947 | V11: 1733 | W11: 116 | X11: 1694 | Z11: 23354 | AA11: 10828 | AB11: 430 | AE11: 376 | AF11: 977 | AG11: 14402 | AH11: 927 | AJ11: 108 | AK11: 914 | AL11: 208 | AM11: 1184 | AN11: 501 | AO11: 565 | AP11: 1957 | AQ11: 851 | AR11: 2197 | AS11: 2838 | AT11: 467 | AU11: 1375
D12: רכישת המים ממקורות | G12: 4895 | H12: 16546 | I12: 16482 | J12: 11874 | K12: 15417 | O12: 72104 | P12: 11687 | R12: 19467 | S12: 55610 | U12: 18976 | V12: 28915 | W12: 18604 | Y12: 6856 | AA12: 72580 | AB12: 6131 | AE12: 25322 | AJ12: 9807 | AK12: 13100 | AN12: 12176 | AO12: 7783 | AQ12: 10207 | AV12: 20099
D13: אחזקת רשת המים | I13: 2317 | J13: 1792 | K13: 2525 | M13: 166 | N13: 84 | Q13: 679 | S13: 2581 | V13: 1804 | W13: 1943 | Y13: 808 | AA13: 7049 | AB13: 78 | AF13: 333 | AI13: 1976 | AQ13: 232 | AR13: 3799 | AT13: 180
D14: היטלי הפקה | V14: 486 | W14: 2967
D15: אנרגיה | G15: 62 | H15: 278 | J15: 259 | K15: 258 | N15: 188 | O15: 853 | P15: 98 | Q15: 1093 | S15: 224 | U15: 469 | X15: 1007 | Y15: 136 | Z15: 1366 | AA15: 3221 | AB15: 15 | AE15: 793 | AG15: 673 | AI15: 71 | AJ15: 267 | AK15: 224 | AL15: 31 | AN15: 274 | AO15: 8 | AQ15: 289 | AR15: 1056 | AT15: 78
D16: קבלני משנה | G16: 874 | H16: 1620 | I16: 7484 | K16: 57 | N16: 1471 | O16: 4326 | P16: 329 | Q16: 1122 | R16: 1441 | S16: 3771 | T16: 4142 | U16: 1105 | X16: 4279 | Z16: 14634 | AE16: 6790 | AG16: 13843 | AH16: 1126 | AJ16: 1612 | AK16: 2232 | AL16: 525 | AM16: 355 | AN16: 1459 | AP16: 1932 | AQ16: 2093 | AS16: 1454 | AU16: 1020
D17: חומרים | H17: 352 | P17: 189 | Q17: 314 | X17: 321 | Y17: 31 | Z17: 4774 | AB17: 112 | AG17: 344 | AJ17: -11 | AK17: 150 | AM17: 440 | AO17: 71 | AP17: 101 | AQ17: 569 | AS17: 398
D18: ארנונה | G18: 75 | J18: 121 | K18: 160 | N18: 333 | O18: 1606 | P18: 93 | Q18: 1820 | R18: 157 | T18: 84 | U18: 456 | W18: 483 | X18: 670 | Y18: 110 | Z18: 3163 | AA18: 1754 | AG18: 1292 | AK18: 111 | AL18: 113 | AM18: 1075 | AO18: 105 | AP18: 358 | AQ18: 96 | AR18: 1191 | AS18: 2800 | AT18: 39
D19: ביטוח | J19: 129 | K19: 182 | O19: 220 | P19: 118 | R19: 63 | T19: 198 | V19: 136 | W19: 132 | X19: 151 | Z19: 22 | AB19: 25 | AK19: 54 | AQ19: 133 | AR19: 116 | AS19: 70 | AT19: 30
D20: הוצאות אחרות (לפרט) | I20: 2944 | K20: 159 | N20: 136 | O20: 350 | P20: 15 | Q20: -222 | R20: 109 | S20: 219 | U20: 124 | X20: 400 | Z20: 657 | AA20: 394 | AF20: 33 | AG20: 2555 | AH20: 2 | AM20: 526 | AN20: 12 | AO20: 489 | AP20: 20 | AQ20: 9 | AR20: 22 | AS20: 221 | AU20: 76 | AV20: 2
D21: פחת | G21: 1145 | H21: 1551 | I21: 6042 | J21: 2595 | K21: 1915 | M21: 602 | N21: 3663 | O21: 7438 | P21: 3465 | Q21: 9003 | R21: 1613 | S21: 6637 | T21: 2783 | U21: 2110 | V21: 5219 | W21: 3140 | X21: 3359 | Y21: 1351 | Z21: 33085 | AA21: 18325 | AB21: 534 | AE21: 2774 | AF21: 2595 | AG21: 14072 | AH21: 5546 | AI21: 1578 | AJ21: 3255 | AK21: 2194 | AL21: 1373 | AM21: 1977 | AN21: 2351 | AO21: 1969 | AP21: 2425 | AQ21: 4222 | AR21: 10459 | AS21: 4046 | AT21: 2392 | AU21: 6858 | AV21: 1497
D22: אחזקת רכב | G22: 7 | H22: 57 | J22: 239 | K22: 251 | N22: 163 | O22: 375 | P22: 138 | Q22: 688 | T22: 181 | U22: 203 | V22: 313 | X22: 91 | Y22: 20 | AA22: 767 | AB22: 20 | AG22: 606 | AK22: 87 | AL22: 47 | AM22: 140 | AN22: 74 | AO22: 201 | AP22: 112 | AQ22: 225 | AR22: 279 | AS22: 467 | AT22: 195 | AU22: 309
D23: נציבות מים בגין הקצבות לחקלאות ותעשייה | Z23: 4
D24: הוצאות מוני מים-אילן | K24: 920 | M24: 134 | W24: 104 | AH24: 56 | AI24: 246 | AQ24: 152 | AV24: 33
G25: =SUM(G11:G24) -> 7380 | H25: =SUM(H11:H24) -> 21250 | I25: =SUM(I11:I24) -> 38562 | J25: =SUM(J11:J24) -> 17939 | K25: =SUM(K11:K24) -> 22577 | L25: =SUM(L11:L24) -> 0 | M25: =SUM(M11:M24) -> 1134 | N25: =SUM(N11:N24) -> 7168 | ... AV25: =SUM(AV11:AV24) -> 21631
C27: 21.1.3 | D27: עלויות הפקה -
D28: רכישת מים ממקורות | M28: 2291 | N28: 14299 | Q28: 32096 | T28: 37313 | Z28: 176996 | AF28: 4086 | AG28: 168653 | AH28: 23795 | AI28: 18571 | AL28: 11544 | AM28: 17514 | AP28: 17386 | AR28: 33681 | AT28: 7203 | AU28: 8190
D29: משכורות ונלוות | M29: 232 | N29: 44 | Q29: 152 | V29: 664 | AP29: 1205 | AS29: 507 | AU29: 571 | AV29: 588
D30: אנרגיה | M30: 362 | N30: 663 | Q30: 2293 | V30: 1218 | X30: 1300 | AF30: 408 | AO30: 461 | AP30: 1395 | AR30: 1055 | AS30: 416 | AU30: 1513
D31: קבלני משנה | N31: 25 | Q31: 115 | T31: 4776 | X31: 3262 | AO31: 180 | AP31: 1511 | AS31: 208 | AU31: 113 | AV31: 1360
D32: חומרים | Q32: 497 | AP32: 98
D33: ארנונה | M33: 138 | N33: 101 | Q33: 296 | T33: 2350 | V33: 182 | X33: 426 | AF33: 154 | AO33: 161 | AP33: 171 | AR33: 75 | AS33: 293 | AU33: 837
D34: ביטוח | M34: 75 | AF34: 165 | AO34: 43 | AP34: 645 | AR34: 174 | AS34: 62 | AV34: 33
D35: טיהור בארות | N35: 2214 | Q35: 1571 | AF35: 305 | AO35: 150 | AU35: 755
D36: היטל הפקה | M36: 2940 | N36: 4581 | Q36: 14683 | V36: 3795 | X36: 3420 | AF36: 51 | AG36: 7310 | AI36: 150 | AP36: 10556 | AR36: 15088 | AS36: 6902 | AU36: 2000
D37: הוצאות אחרות (לפרט) | M37: 32 | Q37: 414 | V37: 462 | AF37: 132 | AO37: 123 | AP37: 98 | AS37: 834 | AU37: 42 | AV37: 268
D38: אחזקת רכב | N38: 10 | Q38: 37 | V38: 77 | AS38: 62 | AV38: 76
D39: פחת | M39: 457 | N39: 175 | Q39: 610 | T39: 3142 | V39: 398 | X39: 2091 | AF39: 136 | AH39: 1 | AI39: 17 | AO39: 572 | AP39: 782 | AR39: 1102 | AS39: 328 | AU39: 718 | AV39: 1497
G40: =SUM(G28:G39) -> 0 | H40: =SUM(H28:H39) -> 0 | I40: =SUM(I28:I39) -> 0 | J40: =SUM(J28:J39) -> 0 | K40: =SUM(K28:K39) -> 0 | L40: =SUM(L28:L39) -> 0 | M40: =SUM(M28:M39) -> 6527 | N40: =SUM(N28:N39) -> 22112 | ... AV40: =SUM(AV28:AV39) -> 3822
D43: רווח (הפסד) גולמי מאספקת מים | G43: =G9-G25-G40 -> -7380 | H43: =H9-H25-H40 -> -21250 | I43: =I9-I25-I40 -> -38562 | J43: =J9-J25-J40 -> -17939 | K43: =K9-K25-K40 -> -22577 | L43: =L9-L25-L40 -> 0 | M43: =M9-M25-M40 -> -7661 | N43: =N9-N25-N40 -> -29280 | ... V43: =V9-V25-V40 -> -45402
A46: .21.2 | C46: רווח (הפסד) גולמי משירותי ביוב
C48: הרכב: | G48: לשנה שנסתיימה ביום 31 בדצמבר
C49: 21.2.1 | D49: הכנסות - | G49: 2010 | H49: 0 | I49: 0 | J49: 0 | K49: 0 | L49: 0 | M49: 0 | N49: 0 | O49: 0 | P49: 0 | Q49: 0 | R49: 0 | S49: 0 | T49: 0 | U49: 0
D50: מאגרות ביוב
D51: מהיטלי ביוב
D52: מט"ש
G53: =SUM(G50:G52) -> 0 | H53: =SUM(H50:H52) -> 0 | I53: =SUM(I50:I52) -> 0 | J53: =SUM(J50:J52) -> 0 | K53: =SUM(K50:K52) -> 0 | L53: =SUM(L50:L52) -> 0 | M53: =SUM(M50:M52) -> 0 | N53: =SUM(N50:N52) -> 0 | ... U53: =SUM(U50:U52) -> 0
C54: 21.2.2 | D54: עלויות איסוף והולכת שפכים -
D55: איגוד ערים
D56: משכורות ונלוות | G56: 554 | J56: 422 | K56: 246 | M56: 27 | O56: 1114 | P56: 354 | Q56: 2540 | R56: 282 | S56: 386 | T56: 576 | U56: 280 | V56: 3907 | W56: 3893 | X56: 162 | Z56: 16471 | AA56: 4358 | AB56: 72 | AE56: 376 | AF56: 66 | AG56: 8557 | AI56: 611 | AL56: 142 | AM56: 1184 | AN56: 302 | AO56: 243 | AP56: 1340 | AQ56: 126 | AR56: 2268 | AS56: 1021 | AT56: 817 | AU56: 1748 | AV56: 620
D57: אנרגיה | G57: 153 | J57: 170 | K57: 213 | O57: 860 | P57: 131 | Q57: 739 | R57: 511 | S57: 85 | T57: 868 | U57: 143 | V57: 1799 | W57: 324 | X57: 286 | Y57: 169 | Z57: 137 | AA57: 855 | AB57: 59 | AE57: 793 | AG57: 551 | AI57: 228 | AK57: 286 | AL57: 384 | AN57: 220 | AO57: 4 | AP57: 505 | AT57: 84 | AU57: 1836
D58: קבלני משנה | G58: 60 | H58: 1482 | K58: 63 | M58: 1339 | O58: 3247 | P58: 516 | Q58: 2307 | R58: 2234 | S58: 7489 | T58: 3863 | U58: 777 | X58: 473 | Z58: 18890 | AE58: 4244 | AG58: 65497 | AH58: 1424 | AI58: 3960 | AJ58: 1473 | AK58: 1402 | AL58: 1497 | AM58: 878 | AN58: 1487 | AO58: 62 | AP58: 2191 | AQ58: 107 | AS58: 992 | AT58: 37 | AU58: 494 | AV58: 2234
D59: חומרים | P59: 75 | Q59: 688 | V59: 539 | X59: 7 | Z59: 981 | AG59: 386 | AM59: 138 | AP59: 8 | AU59: 874
D60: ארנונה | G60: 99 | J60: 97 | K60: 160 | O60: 136 | P60: 90 | Q60: 463 | R60: 124 | T60: 240 | U60: 2475 | V60: 2469 | W60: 477 | X60: 744 | Y60: 180 | Z60: 336 | AA60: 187 | AB60: 50 | AG60: 864 | AK60: 99 | AL60: 1052 | AN60: 82 | AO60: 3 | AP60: 436 | AQ60: 118 | AT60: 90 | AU60: 441
D61: ביטוח | J61: 104 | O61: 75 | P61: 80 | R61: 63 | T61: 198 | V61: 234 | W61: 101 | X61: 144 | Z61: 413 | AB61: 25 | AK61: 51 | AQ61: 162 | AR61: 137 | AS61: 60 | AT61: 70
D62: אחזקת רכב | G62: 168 | J62: 191 | K62: 89 | M62: 13 | O62: 176 | P62: 91 | Q62: 628 | T62: 159 | V62: 292 | X62: 39 | AA62: 548 | AB62: 20 | AG62: 394 | AM62: 140 | AN62: 51 | AO62: 135 | AP62: 33 | AQ62: 93 | AR62: 249 | AS62: 161 | AU62: 293
D63: פחת | G63: 836 | J63: 5128 | K63: 2773 | M63: 310 | O63: 7531 | P63: 997 | Q63: 7266 | R63: 1334 | S63: 1825 | T63: 4363 | U63: 6408 | V63: 10773 | W63: 5255 | X63: 2821 | Y63: 2123 | Z63: 34757 | AA63: 10317 | AB63: 218 | AE63: 5509 | AF63: 60 | AG63: 7542 | AH63: 4149 | AI63: 1815 | AJ63: 3883 | AK63: 3857 | AL63: 2453 | AM63: 4059 | AN63: 1656 | AO63: 1145 | AP63: 1364 | AQ63: 5714 | AR63: 5077 | AS63: 378 | AT63: 2742 | AU63: 8679 | AV63: 1172
D64: אחזקת רשת ביוב | G64: 1608 | J64: 1269 | K64: 1216 | M64: 116 | S64: 973 | V64: 4051 | W64: 2282 | Y64: 399 | AA64: 3889 | AB64: 89 | AE64: 8223 | AF64: 351 | AG64: 5083 | AI64: 2363 | AJ64: 1979 | AL64: 144 | AP64: 8993 | AQ64: 1726 | AR64: 4510 | AS64: 3925 | AT64: 3763 | AU64: 547
D65: עלות טיהור שפכים | G65: 12 | H65: 3217 | J65: 677 | K65: 3860 | M65: 535 | O65: 19281 | P65: 3693 | Q65: 14923 | R65: 5736 | S65: 18574 | U65: 3523 | V65: 453 | W65: 2005 | X65: 3965 | Y65: 1437 | Z65: 31071 | AA65: 27568 | AB65: 1545 | AF65: 4589 | AG65: 10593 | AH65: 5546 | AM65: 2741 | AN65: 3457 | AP65: 3339 | AR65: 23106 | AS65: 10346 | AT65: 1458 | AU65: 3714 | AV65: 4906
D66: אחזקת מט"ש | G66: 131 | J66: 2336 | K66: 62 | O66: 272 | R66: 634 | S66: 132 | AA66: 1002 | AI66: 400 | AK66: 2747 | AL66: 397 | AO66: 788 | AP66: 296
D67: שונות | G67: 35 | O67: 229 | P67: 28 | R67: 91 | S67: 144 | T67: 55 | U67: 75 | W67: 97 | X67: 153 | AA67: 62 | AG67: 1460 | AL67: 73 | AM67: 226 | AN67: 12 | AP67: 38 | AQ67: 3332 | AR67: 239 | AS67: 57 | AU67: 231 | AV67: 228
G68: =SUM(G56:G67) -> 3656 | H68: =SUM(H56:H67) -> 4699 | I68: =SUM(I56:I67) -> 0 | J68: =SUM(J56:J67) -> 10394 | K68: =SUM(K56:K67) -> 8682 | L68: =SUM(L56:L67) -> 0 | M68: =SUM(M56:M67) -> 2340 | N68: =SUM(N56:N67) -> 0 | ... AV68: =SUM(AV56:AV67) -> 9160
A69: * | C69: 21.2.3 | D69: עלויות טיהור שפכים
D70: משכורות ונלוות
D71: קבלני משנה
D72: אנרגיה
D73: חומרים
D74: פינוי ביצה
D75: ביטוח
D76: הוצאות אחרות (אחזקה)
D77: אחזקת רכב
D78: פחת
D79: ******
D80: ******
G81: =SUM(G70:G80) -> 0 | H81: =SUM(H70:H80) -> 0 | I81: =SUM(I70:I80) -> 0 | J81: =SUM(J70:J80) -> 0 | K81: =SUM(K70:K80) -> 0 | L81: =SUM(L70:L80) -> 0 | M81: =SUM(M70:M80) -> 0 | N81: =SUM(N70:N80) -> 0 | ... U81: =SUM(U70:U80) -> 0
D83: בניכוי:
D84: הכנסות ממכירת שפכים מטוהרים
D86: רווח (הפסד) גולמי משירותי ביוב | G86: =G53-G68-G81+G84 -> -3656 | H86: =H53-H68-H81+H84 -> -4699 | I86: =I53-I68-I81+I84 -> 0 | J86: =J53-J68-J81+J84 -> -10394 | K86: =K53-K68-K81+K84 -> -8682 | L86: =L53-L68-L81+L84 -> 0 | M86: =M53-M68-M81+M84 -> -2340 | N86: =N53-N68-N81+N84 -> 0 | ... U86: =U53-U68-U81+U84 -> -13681
C88: * | D88: הוספת מלל לתיאור ההתחשבנות בנוגע לטיהור שפכים
A92: .21.3 | C92: רווח (הפסד) גולמי מתחזוקה שוטפת של מערכות תיעול וניקוז עירוניות
G94: לשנה שנסתיימה ביום 31 בדצמבר
G95: 2010 | H95: 2010 | I95: 2010 | J95: 2010 | K95: 2010 | L95: 2010 | M95: 2010 | N95: 2010 | O95: 2010 | P95: 2010 | Q95: 2010 | R95: 2010 | S95: 2010 | T95: 2010 | U95: 2010
E96: הכנסות
E97: הוצאות
E98: סה"כ | G98: =G96-G97 -> 0 | H98: =H96-H97 -> 0 | I98: =I96-I97 -> 0 | J98: =J96-J97 -> 0 | K98: =K96-K97 -> 0 | L98: =L96-L97 -> 0 | M98: =M96-M97 -> 0 | N98: =N96-N97 -> 0 | ... U98: =U96-U97 -> 0
A101: .21.4 | C101: רווח (הפסד) גולמי אחרות | G101: לשנה שנסתיימה ביום 31 בדצמבר
D102: 21.4.1 | E102: הכנסות- | G102: 2010 | H102: 2010 | I102: 2010 | J102: 2010 | K102: 2010 | L102: 2010 | M102: 2010 | N102: 2010 | O102: 2010 | P102: 2010 | Q102: 2010 | R102: 2010 | S102: 2010 | T102: 2010 | U102: 2010
E103: ממזמיני עבודה
E104: מעמלות מגביית היטל בצורת
E105: אחרות
E106: ******
E107: סה"כ | G107: =SUM(G103:G106) -> 0 | H107: =SUM(H103:H106) -> 0 | I107: =SUM(I103:I106) -> 0 | J107: =SUM(J103:J106) -> 0 | K107: =SUM(K103:K106) -> 0 | L107: =SUM(L103:L106) -> 0 | M107: =SUM(M103:M106) -> 0 | N107: =SUM(N103:N106) -> 0 | ... U107: =SUM(U103:U106) -> 0
A110: ביאור 22 - עלויות גבייה וחובות מסופקים
D111: הוצאות גבייה
D112: הפרשה לחובות מסופקים ואבודים | H112: 5760 | I112: 783 | J112: 1837 | M112: 645 | N112: 2162 | O112: 9722 | P112: 893 | Q112: 640 | R112: 3568 | T112: 2110 | U112: 803 | V112: 2606 | W112: 1842 | X112: 3316 | Y112: 4533 | Z112: 10398 | AA112: 8964 | AB112: 976 | AF112: 835 | AG112: 37591 | AH112: 5394 | AI112: 1128 | AJ112: 1236 | AK112: -74 | AL112: 2122 | AM112: 3263 | AN112: 559 | AO112: 87 | AP112: 2329 | AQ112: 678 | AR112: 5450 | AS112: 5464 | AT112: 2455 | AU112: 2324 | AV112: -202
D113: הוצ' שכר | G113: 162 | K113: 1043 | M113: 154 | O113: 3410 | P113: 9 | Q113: 1817 | R113: 172 | U113: 538 | W113: 122 | Z113: 6945 | AG113: 337 | AH113: 53 | AK113: 612 | AP113: 114 | AR113: 1627 | AU113: 1105
D114: הוצאות גבייה | G114: 354 | H114: 1307 | I114: 2551 | J114: 993 | M114: 401 | N114: 1602 | P114: 1499 | Q114: 631 | R114: 2279 | S114: 5905 | T114: 4002 | U114: 394 | V114: 3906 | W114: 1542 | X114: 1087 | Y114: 291 | Z114: 13279 | AA114: 5515 | AB114: 250 | AE114: 3036 | AF114: 536 | AG114: 26913 | AH114: 286 | AI114: 1288 | AJ114: 174 | AK114: 1112 | AL114: 925 | AM114: 989 | AN114: 1140 | AO114: 765 | AP114: 6193 | AQ114: 1292 | AR114: 5234 | AS114: 4401 | AT114: 617 | AU114: 2285 | AV114: 2448
D115: עמלות כרטיסי אשראי | G115: 45 | J115: 143 | K115: 248 | N115: 171 | O115: 590 | Q115: 587 | R115: 93 | S115: 355 | U115: 157 | V115: 208 | Y115: 1 | Z115: 1400 | AB115: 6 | AE115: 63 | AF115: 73 | AG115: 611 | AJ115: 139 | AK115: 16 | AN115: 93 | AO115: 60 | AP115: 152 | AQ115: 60 | AR115: 489 | AS115: 292 | AT115: 20 | AU115: 171 | AV115: 54
D116: עמלות בנק הדואר | G116: 34 | J116: 62 | K116: 60 | N116: 224 | O116: 689 | P116: 186 | Q116: 497 | R116: 282 | S116: 644 | U116: 54 | V116: 290 | Y116: 55 | AB116: 30 | AF116: 74 | AH116: 168 | AN116: 80 | AP116: 501 | AR116: 582 | AS116: 285 | AT116: 124 | AU116: 101 | AV116: 208
D117: הפקת חשבונות | G117: 46 | J117: 45 | K117: 263 | M117: 112 | P117: 6 | Q117: 637 | S117: 261 | U117: 51 | V117: 135 | Y117: 18 | Z117: 891 | AB117: 12 | AF117: 43 | AG117: 259 | AH117: 79 | AK117: 253 | AL117: 3 | AM117: 149 | AO117: 34 | AR117: 420 | AS117: 44 | AT117: 29 | AU117: 66
...

Sheet עלות תפעול מים
A1: רשימת תאגידים | D1: עלויות תפעול בתאגידים בפועל בשנת 2011
D3: עלות תפעול מים | E3: כמות מים (מלמ"ק) | G3: ממוצע משוקלל | H3: עלות מוכרת בתעריף
A4: נווה מדבר | B4: =+A4 -> נווה מדבר | D4: =+HLOOKUP(B4,'שנת 2011'!$2:$213,205,0) -> 0.70856086 | E4: =+HLOOKUP(B4,'שנת 2011'!$2:$213,209,0) -> 5075.097
A5: מי גליל | B5: =A5 -> מי גליל | C5: =B5 -> מי גליל | D5: =+HLOOKUP(B5,'שנת 2011'!$2:$213,205,0) -> 0.7831477 | E5: =+HLOOKUP(B5,'שנת 2011'!$2:$213,209,0) -> 7538.778 | F5: =+D5*E5 -> 5903.9766 | G5: =+F55/E55 -> 1.303218 | H5: =+VLOOKUP(C5,'[2]ריכוז נתוני תאגידים'!$B$1:$AZ$65536,34,0) -> 0.95621911
A6: יובלים אשדוד בע"מ | B6: יובלים אשדוד | C6: יובלים אשדוד | D6: =+HLOOKUP(B6,'שנת 2011'!$2:$213,205,0) -> 0.82790803 | E6: =+HLOOKUP(B6,'שנת 2011'!$2:$213,209,0) -> 16721.765 | F6: =+D6*E6 -> 13844.084 | H6: =+VLOOKUP(C6,'[2]ריכוז נתוני תאגידים'!$B$1:$AZ$65536,34,0) -> 0.72985265
A7: עין נטפים מפעלי מים וביוב אילת בע"מ | B7: עין נטפים (אילת) | C7: עין נטפים (אילת) | D7: =+HLOOKUP(B7,'שנת 2011'!$2:$213,205,0) -> 0.81960413 | E7: =+HLOOKUP(B7,'שנת 2011'!$2:$213,209,0) -> 11303.554 | F7: =+D7*E7 -> 9264.4395 | H7: =+VLOOKUP(C7,'[2]ריכוז נתוני תאגידים'!$B$1:$AZ$65536,34,0) -> 0.69658088
A8: מי אשקלון | B8: =A8 -> מי אשקלון | C8: =B8 -> מי אשקלון | D8: =+HLOOKUP(B8,'שנת 2011'!$2:$213,205,0) -> 0.83199078 | E8: =+HLOOKUP(B8,'שנת 2011'!$2:$213,209,0) -> 12319.56 | F8: =+D8*E8 -> 10249.76 | H8: =+VLOOKUP(C8,'[2]ריכוז נתוני תאגידים'!$B$1:$AZ$65536,34,0) -> 0.76670308
A9: ימים | B9: =A9 -> ימים | C9: =B9 -> ימים | D9: =+HLOOKUP(B9,'שנת 2011'!$2:$213,205,0) -> 0.92969454 | E9: =+HLOOKUP(B9,'שנת 2011'!$2:$213,209,0) -> 2561.785 | F9: =+D9*E9 -> 2381.6775 | H9: =+VLOOKUP(C9,'[2]ריכוז נתוני תאגידים'!$B$1:$AZ$65536,34,0) -> 0.75947556
A10: מי נתניה (2003) בע"מ | B10: מי נתניה | C10: מי נתניה (נתניה) | D10: =+HLOOKUP(B10,'שנת 2011'!$2:$213,205,0) -> 0.89912948 | E10: =+HLOOKUP(B10,'שנת 2011'!$2:$213,209,0) -> 15098.456 | F10: =+D10*E10 -> 13575.467 | H10: =+VLOOKUP(C10,'[2]ריכוז נתוני תאגידים'!$B$1:$AZ$65536,34,0) -> 0.73999713
A11: מעיינות הדרום | B11: מי דרום | C11: מי דרום | D11: =+HLOOKUP(B11,'שנת 2011'!$2:$213,205,0) -> 0.9414248 | E11: =+HLOOKUP(B11,'שנת 2011'!$2:$213,209,0) -> 7260.686 | F11: =+D11*E11 -> 6835.3899 | H11: =+VLOOKUP(C11,'[2]ריכוז נתוני תאגידים'!$B$1:$AZ$65536,34,0) -> 0.86498164
A12: מעיינות השרון | B12: מי השרון | C12: מי השרון | D12: =+HLOOKUP(B12,'שנת 2011'!$2:$213,205,0) -> 0.91563894 | E12: =+HLOOKUP(B12,'שנת 2011'!$2:$213,209,0) -> 6138.14 | F12: =+D12*E12 -> 5620.32 | H12: =+VLOOKUP(C12,'[2]ריכוז נתוני תאגידים'!$B$1:$AZ$65536,34,0) -> 0.83929667
A13: מי ציונה בע"מ | B13: מי ציונה | C13: מי ציונה | D13: =+HLOOKUP(B13,'שנת 2011'!$2:$213,205,0) -> 0.99091136 | E13: =+HLOOKUP(B13,'שנת 2011'!$2:$213,209,0) -> 3136.252 | F13: =+D13*E13 -> 3107.7477 | H13: =+VLOOKUP(C13,'[2]ריכוז נתוני תאגידים'!$B$1:$AZ$65536,34,0) -> 0.75983087
A14: מי הרצליה | B14: הרצליה | C14: הרצליה | D14: =+HLOOKUP(B14,'שנת 2011'!$2:$213,205,0) -> 1.0692213 | E14: =+HLOOKUP(B14,'שנת 2011'!$2:$213,209,0) -> 10059.385 | F14: =+D14*E14 -> 10755.709 | H14: =+VLOOKUP(C14,'[2]ריכוז נתוני תאגידים'!$B$1:$AZ$65536,34,0) -> 0.69700672
A15: אל עין | B15: =A15 -> אל עין | C15: =B15 -> אל עין | D15: =+HLOOKUP(B15,'שנת 2011'!$2:$213,205,0) -> 1.0613207 | E15: =+HLOOKUP(B15,'שנת 2011'!$2:$213,209,0) -> 5306.074 | F15: =+D15*E15 -> 5631.4462 | H15: =+VLOOKUP(C15,'[2]ריכוז נתוני תאגידים'!$B$1:$AZ$65536,34,0) -> 0.9816956
A16: מי עירון בע"מ | B16: מי עירון | C16: מי עירון | D16: =+HLOOKUP(B16,'שנת 2011'!$2:$213,205,0) -> 1.070277 | E16: =+HLOOKUP(B16,'שנת 2011'!$2:$213,209,0) -> 5090.475 | F16: =+D16*E16 -> 5448.2181 | H16: =+VLOOKUP(C16,'[2]ריכוז נתוני תאגידים'!$B$1:$AZ$65536,34,0) -> 0.98874099
A17: מי עכו | B17: עכו | C17: עכו | D17: =+HLOOKUP(B17,'שנת 2011'!$2:$213,205,0) -> 1.1041011 | E17: =+HLOOKUP(B17,'שנת 2011'!$2:$213,209,0) -> 3606.145 | F17: =+D17*E17 -> 3981.5487 | H17: =+VLOOKUP(C17,'[2]ריכוז נתוני תאגידים'!$B$1:$AZ$65536,34,0) -> 0.77329193
A18: מניב ראשון בע"מ | B18: מניב ראשון (ראשון) | C18: מניב ראשון (ראשון) | D18: =+HLOOKUP(B18,'שנת 2011'!$2:$213,205,0) -> 1.0884222 | E18: =+HLOOKUP(B18,'שנת 2011'!$2:$213,209,0) -> 18558.187 | F18: =+D18*E18 -> 20199.143 | H18: =+VLOOKUP(C18,'[2]ריכוז נתוני תאגידים'!$B$1:$AZ$65536,34,0) -> 0.70564361
A19: מי שבע תאגיד המים והביוב לבאר שבע בע"מ | B19: מי שבע | C19: מי שבע | D19: =+HLOOKUP(B19,'שנת 2011'!$2:$213,205,0) -> 1.097046 | E19: =+HLOOKUP(B19,'שנת 2011'!$2:$213,209,0) -> 20210.371 | F19: =+D19*E19 -> 22171.707 | H19: =+VLOOKUP(C19,'[2]ריכוז נתוני תאגידים'!$B$1:$AZ$65536,34,0) -> 0.7638942
A20: עין אפק | B20: עין אפק | C20: עין אפק | D20: =+HLOOKUP(B20,'שנת 2011'!$2:$213,205,0) -> 1.0761856 | E20: =+HLOOKUP(B20,'שנת 2011'!$2:$213,209,0) -> 3795.682 | F20: =+D20*E20 -> 4084.8582 | H20: =+VLOOKUP(C20,'[2]ריכוז נתוני תאגידים'!$B$1:$AZ$65536,34,0) -> 0.6927017
A21: מי שקמה תאגיד המים והביוב בע"מ | B21: מי שקמה | C21: מי שקמה | D21: =+HLOOKUP(B21,'שנת 2011'!$2:$213,205,0) -> 1.15194 | E21: =+HLOOKUP(B21,'שנת 2011'!$2:$213,209,0) -> 14529.245 | F21: =+D21*E21 -> 16736.819 | H21: =+VLOOKUP(C21,'[2]ריכוז נתוני תאגידים'!$B$1:$AZ$65536,34,0) -> 0.78708143
A22: מי בת ים | B22: בת ים | C22: בת ים | D22: =+HLOOKUP(B22,'שנת 2011'!$2:$213,205,0) -> 1.1968911 | E22: =+HLOOKUP(B22,'שנת 2011'!$2:$213,209,0) -> 8841.208 | F22: =+D22*E22 -> 10581.963 | H22: =+VLOOKUP(C22,'[2]ריכוז נתוני תאגידים'!$B$1:$AZ$65536,34,0) -> 0.71807139
A23: עין כרמים | B23: =+A23 -> עין כרמים | C23: מי כרמיאל | D23: =+HLOOKUP(B23,'שנת 2011'!$2:$213,205,0) -> 1.0513738 | E23: =+HLOOKUP(B23,'שנת 2011'!$2:$213,209,0) -> 4066.3 | F23: =+D23*E23 -> 4275.2014 | H23: =+VLOOKUP(C23,'[2]ריכוז נתוני תאגידים'!$B$1:$AZ$65536,34,0) -> 0.73071198
A24: מי לוד בע"מ | B24: מי לוד | C24: מי לוד | D24: =+HLOOKUP(B24,'שנת 2011'!$2:$213,205,0) -> 1.1996951 | E24: =+HLOOKUP(B24,'שנת 2011'!$2:$213,209,0) -> 5367.855 | F24: =+D24*E24 -> 6439.7895 | H24: =+VLOOKUP(C24,'[2]ריכוז נתוני תאגידים'!$B$1:$AZ$65536,34,0) -> 0.75996428
A25: מעיינות המשולש | B25: =A25 -> מעיינות המשולש | C25: מעיינות העמקים | D25: =+HLOOKUP(B25,'שנת 2011'!$2:$213,205,0) -> 1.0992462 | E25: =+HLOOKUP(B25,'שנת 2011'!$2:$213,209,0) -> 4360.445 | F25: =+D25*E25 -> 4793.2024 | H25: =+VLOOKUP(C25,'[2]ריכוז נתוני תאגידים'!$B$1:$AZ$65536,34,0) -> 0.80036575
A26: הרי נצרת מפעלי מים וביוב בע"מ | B26: הרי נצרת | C26: הרי נצרת | D26: =+HLOOKUP(B26,'שנת 2011'!$2:$213,205,0) -> 1.1464783 | E26: =+HLOOKUP(B26,'שנת 2011'!$2:$213,209,0) -> 8923.832 | F26: =+D26*E26 -> 10230.98 | H26: =+VLOOKUP(C26,'[2]ריכוז נתוני תאגידים'!$B$1:$AZ$65536,34,0) -> 0.884453
A27: מעיינות זיו | B27: מעיינות זיו | C27: מעלות | D27: =+HLOOKUP(B27,'שנת 2011'!$2:$213,205,0) -> 1.2090392 | E27: =+HLOOKUP(B27,'שנת 2011'!$2:$213,209,0) -> 3411.58 | F27: =+D27*E27 -> 4124.734 | H27: =+VLOOKUP(C27,'[2]ריכוז נתוני תאגידים'!$B$1:$AZ$65536,34,0) -> 0.88118575
A28: פלגי השרון | B28: פלגי השרון | C28: פלגי השרון | D28: =+HLOOKUP(B28,'שנת 2011'!$2:$213,205,0) -> 1.3378818 | E28: =+HLOOKUP(B28,'שנת 2011'!$2:$213,209,0) -> 1017.579 | F28: =+D28*E28 -> 1361.4004 | H28: =+VLOOKUP(C28,'[2]ריכוז נתוני תאגידים'!$B$1:$AZ$65536,34,0) -> 1.229824
A29: סובב שפרעם | B29: סובב שפרעם | C29: סובב שפרעם | D29: =+HLOOKUP(B29,'שנת 2011'!$2:$213,205,0) -> 1.2436827 | E29: =+HLOOKUP(B29,'שנת 2011'!$2:$213,209,0) -> 9584.3 | F29: =+D29*E29 -> 11919.828 | H29: =+VLOOKUP(C29,'[2]ריכוז נתוני תאגידים'!$B$1:$AZ$65536,34,0) -> 1.0602555
A30: מי קריית גת | B30: קריית גת | C30: קריית גת | D30: =+HLOOKUP(B30,'שנת 2011'!$2:$213,205,0) -> 1.2682699 | E30: =+HLOOKUP(B30,'שנת 2011'!$2:$213,209,0) -> 7483.785 | F30: =+D30*E30 -> 9491.4594 | H30: =+VLOOKUP(C30,'[2]ריכוז נתוני תאגידים'!$B$1:$AZ$65536,34,0) -> 0.73002447
A31: מי יבנה | B31: מי יבנה | C31: מי יבנה | D31: =+HLOOKUP(B31,'שנת 2011'!$2:$213,205,0) -> 1.2285972 | E31: =+HLOOKUP(B31,'שנת 2011'!$2:$213,209,0) -> 4201.308 | F31: =+D31*E31 -> 5161.7151 | H31: =+VLOOKUP(C31,'[2]ריכוז נתוני תאגידים'!$B$1:$AZ$65536,34,0) -> 0.76524866
A32: התנור מים וביוב בע"מ | B32: התנור | C32: התנור | D32: =+HLOOKUP(B32,'שנת 2011'!$2:$213,205,0) -> 1.2733555 | E32: =+HLOOKUP(B32,'שנת 2011'!$2:$213,209,0) -> 2750.226 | F32: =+D32*E32 -> 3502.0155 | H32: =+VLOOKUP(C32,'[2]ריכוז נתוני תאגידים'!$B$1:$AZ$65536,34,0) -> 0.96247737
A33: מעיינות העמקים | B33: =A33 -> מעיינות העמקים | C33: =B33 -> מעיינות העמקים | D33: =+HLOOKUP(B33,'שנת 2011'!$2:$213,205,0) -> 1.3380326 | E33: =+HLOOKUP(B33,'שנת 2011'!$2:$213,209,0) -> 3209.491 | F33: =+D33*E33 -> 4294.4035 | H33: =+VLOOKUP(C33,'[2]ריכוז נתוני תאגידים'!$B$1:$AZ$65536,34,0) -> 0.80036575
A34: מי רקת טבריה בע"מ | B34: מי רקת | C34: מי רקת | D34: =+HLOOKUP(B34,'שנת 2011'!$2:$213,205,0) -> 1.2963113 | E34: =+HLOOKUP(B34,'שנת 2011'!$2:$213,209,0) -> 4828.364 | F34: =+D34*E34 -> 6259.0627 | H34: =+VLOOKUP(C34,'[2]ריכוז נתוני תאגידים'!$B$1:$AZ$65536,34,0) -> 0.8730642
A35: מי ברק בע"מ | B35: באר מים חיים | C35: באר מים חיים | D35: =+HLOOKUP(B35,'שנת 2011'!$2:$213,205,0) -> 1.333297 | E35: =+HLOOKUP(B35,'שנת 2011'!$2:$213,209,0) -> 10198.278 | F35: =+D35*E35 -> 13597.333 | H35: =+VLOOKUP(C35,'[2]ריכוז נתוני תאגידים'!$B$1:$AZ$65536,34,0) -> 0.72416924
A36: מי רהט | B36: רהט | C36: רהט | D36: =+HLOOKUP(B36,'שנת 2011'!$2:$213,205,0) -> 1.2930427 | E36: =+HLOOKUP(B36,'שנת 2011'!$2:$213,209,0) -> 3190.82 | F36: =+D36*E36 -> 4125.8665 | H36: =+VLOOKUP(C36,'[2]ריכוז נתוני תאגידים'!$B$1:$AZ$65536,34,0) -> 0.72290911
A37: מי חדרה בע"מ | B37: מי חדרה | C37: מי חדרה | D37: =+HLOOKUP(B37,'שנת 2011'!$2:$213,205,0) -> 1.3599913 | E37: =+HLOOKUP(B37,'שנת 2011'!$2:$213,209,0) -> 7000.549 | F37: =+D37*E37 -> 9520.686 | H37: =+VLOOKUP(C37,'[2]ריכוז נתוני תאגידים'!$B$1:$AZ$65536,34,0) -> 0.73178643
A38: מי נע חברת המים והביוב של עיריית נצרת עילית בע"מ | B38: מי נע (נצרת) | C38: מי נע (נצרת) | D38: =+HLOOKUP(B38,'שנת 2011'!$2:$213,205,0) -> 1.4215357 | E38: =+HLOOKUP(B38,'שנת 2011'!$2:$213,209,0) -> 6171.187 | F38: =+D38*E38 -> 8772.5628 | H38: =+VLOOKUP(C38,'[2]ריכוז נתוני תאגידים'!$B$1:$AZ$65536,34,0) -> 0.78205159
A39: מעיינות אתא | B39: קריית אתא | C39: קריית אתא | D39: =+HLOOKUP(B39,'שנת 2011'!$2:$213,205,0) -> 1.4288194 | E39: =+HLOOKUP(B39,'שנת 2011'!$2:$213,209,0) -> 3431.626 | F39: =+D39*E39 -> 4903.1738 | H39: =+VLOOKUP(C39,'[2]ריכוז נתוני תאגידים'!$B$1:$AZ$65536,34,0) -> 0.75451741
A40: מי שמש | B40: בית שמש | C40: בית שמש | D40: =+HLOOKUP(B40,'שנת 2011'!$2:$213,205,0) -> 1.4965421 | E40: =+HLOOKUP(B40,'שנת 2011'!$2:$213,209,0) -> 5224.579 | F40: =+D40*E40 -> 7818.8022 | H40: =+VLOOKUP(C40,'[2]ריכוז נתוני תאגידים'!$B$1:$AZ$65536,34,0) -> 0.75553279
A41: מי רעננה | B41: רעננה | C41: רעננה | D41: =+HLOOKUP(B41,'שנת 2011'!$2:$213,205,0) -> 1.5540302 | E41: =+HLOOKUP(B41,'שנת 2011'!$2:$213,209,0) -> 6467.639 | F41: =+D41*E41 -> 10050.907 | H41: =+VLOOKUP(C41,'[2]ריכוז נתוני תאגידים'!$B$1:$AZ$65536,34,0) -> 0.6999983
A42: מיתב מים תיעול וביוב בע"מ | B42: מיתב פ"ת | C42: מיתב (פתח תקווה) | D42: =+HLOOKUP(B42,'שנת 2011'!$2:$213,205,0) -> 1.5389494 | E42: =+HLOOKUP(B42,'שנת 2011'!$2:$213,209,0) -> 17973.063 | F42: =+D42*E42 -> 27659.634 | H42: =+VLOOKUP(C42,'[2]ריכוז נתוני תאגידים'!$B$1:$AZ$65536,34,0) -> 0.77307953
A43: מי אביבים | B43: =+A43 -> מי אביבים | C43: תל אביב ב | D43: =+HLOOKUP(B43,'שנת 2011'!$2:$213,205,0) -> 1.5272116 | E43: =+HLOOKUP(B43,'שנת 2011'!$2:$213,209,0) -> 44363.176 | F43: =+D43*E43 -> 67751.955 | H43: =+VLOOKUP(C43,'[2]ריכוז נתוני תאגידים'!$B$1:$AZ$65536,34,0) -> 0.69764728
A44: חברת הגיחון בע"מ תאגיד המים והביוב של ירושלים | B44: הגיחון (ירושלים) | C44: הגיחון (ירושלים) | D44: =+HLOOKUP(B44,'שנת 2011'!$2:$213,205,0) -> 1.5235705 | E44: =+HLOOKUP(B44,'שנת 2011'!$2:$213,209,0) -> 59706.356 | F44: =+D44*E44 -> 90966.841 | H44: =+VLOOKUP(C44,'[2]ריכוז נתוני תאגידים'!$B$1:$AZ$65536,34,0) -> 0.78032767
A45: שרונים | B45: רמת השרון | C45: רמת השרון | D45: =+HLOOKUP(B45,'שנת 2011'!$2:$213,205,0) -> 1.5271002 | E45: =+HLOOKUP(B45,'שנת 2011'!$2:$213,209,0) -> 5431.744 | F45: =+D45*E45 -> 8294.8172 | H45: =+VLOOKUP(C45,'[2]ריכוז נתוני תאגידים'!$B$1:$AZ$65536,34,0) -> 0.69433289
A46: מי קריית אונו | B46: קריית אונו | C46: קריית אונו | D46: =+HLOOKUP(B46,'שנת 2011'!$2:$213,205,0) -> 1.6289649 | E46: =+HLOOKUP(B46,'שנת 2011'!$2:$213,209,0) -> 2378.12 | F46: =+D46*E46 -> 3873.874 | H46: =+VLOOKUP(C46,'[2]ריכוז נתוני תאגידים'!$B$1:$AZ$65536,34,0) -> 0.67780654
A47: כפרי גליל תחתון בע"מ | B47: כפרי הגליל התחתון | C47: כפרי הגליל התחתון | D47: =+HLOOKUP(B47,'שנת 2011'!$2:$213,205,0) -> 1.6905799 | E47: =+HLOOKUP(B47,'שנת 2011'!$2:$213,209,0) -> 4284.688 | F47: =+D47*E47 -> 7243.6073 | H47: =+VLOOKUP(C47,'[2]ריכוז נתוני תאגידים'!$B$1:$AZ$65536,34,0) -> 0.99905125
A48: מי מודיעין | B48: מי מודיעין (מודיעין) | C48: מי מודיעין (מודיעין) | D48: =+HLOOKUP(B48,'שנת 2011'!$2:$213,205,0) -> 1.6484487 | E48: =+HLOOKUP(B48,'שנת 2011'!$2:$213,209,0) -> 5628.976 | F48: =+D48*E48 -> 9279.0784 | H48: =+VLOOKUP(C48,'[2]ריכוז נתוני תאגידים'!$B$1:$AZ$65536,34,0) -> 0.70170762
A49: מי הוד השרון | B49: =A49 -> מי הוד השרון | C49: הוד השרון | D49: =+HLOOKUP(B49,'שנת 2011'!$2:$213,205,0) -> 1.7120687 | E49: =+HLOOKUP(B49,'שנת 2011'!$2:$213,209,0) -> 4262.849 | F49: =+D49*E49 -> 7298.2902 | H49: =+VLOOKUP(C49,'[2]ריכוז נתוני תאגידים'!$B$1:$AZ$65536,34,0) -> 0.70557964
A50: מי גבעתיים | B50: גבעתיים | C50: גבעתיים | D50: =+HLOOKUP(B50,'שנת 2011'!$2:$213,205,0) -> 1.7856422 | E50: =+HLOOKUP(B50,'שנת 2011'!$2:$213,209,0) -> 3628.572 | F50: =+D50*E50 -> 6479.3312 | H50: =+VLOOKUP(C50,'[2]ריכוז נתוני תאגידים'!$B$1:$AZ$65536,34,0) -> 0.70161658
A51: מי כרמל | B51: חיפה | C51: חיפה | D51: =+HLOOKUP(B51,'שנת 2011'!$2:$213,205,0) -> 1.9671365 | E51: =+HLOOKUP(B51,'שנת 2011'!$2:$213,209,0) -> 23478.077 | F51: =+D51*E51 -> 46184.581 | H51: =+VLOOKUP(C51,'[2]ריכוז נתוני תאגידים'!$B$1:$AZ$65536,34,0) -> 0.70988686
A52: פלג הגליל החברה האזורית למים וביוב בע"מ | B52: פלג הגליל | C52: פלג הגליל | D52: =+HLOOKUP(B52,'שנת 2011'!$2:$213,205,0) -> 2.2104356 | E52: =+HLOOKUP(B52,'שנת 2011'!$2:$213,209,0) -> 8678.131 | F52: =+D52*E52 -> 19182.45 | H52: =+VLOOKUP(C52,'[2]ריכוז נתוני תאגידים'!$B$1:$AZ$65536,34,0) -> 1.1905252
A53: יובלים בשומרון בע"מ | B53: מי אריאל (אריאל) | C53: מי אריאל (אריאל) | D53: =+HLOOKUP(B53,'שנת 2011'!$2:$213,205,0) -> 2.1334511 | E53: =+HLOOKUP(B53,'שנת 2011'!$2:$213,209,0) -> 1749.112 | F53: =+D53*E53 -> 3731.6449 | H53: =+VLOOKUP(C53,'[2]ריכוז נתוני תאגידים'!$B$1:$AZ$65536,34,0) -> 0.787497
E55: =SUM(E4:E54) -> 459603.45 | F55: =SUM(F5:F54) -> 598963.5
F57: *** כמויות הביוב- הינן כמויות המים בניכוי חקלאות וגינון

Sheet עלות תפעול ביוב
A1: רשימת תאגידים | D1: עלויות תפעול בתאגידים בפועל בשנת 2011
D3: עלות תפעול ביוב | E3: כמות ביוב (מלמ"ק) | G3: ממוצע משוקלל | H3: עלות מוכרת בתעריף
A4: נווה מדבר | B4: =+A4 -> נווה מדבר | D4: =+HLOOKUP(B4,'שנת 2011'!$2:$213,207,0) -> 0.32437213 | E4: =+HLOOKUP(B4,'שנת 2011'!$2:$213,211,0) -> 5049.709
A5: עין כרמים | B5: =+A5 -> עין כרמים | C5: מי כרמיאל | D5: =+HLOOKUP(B5,'שנת 2011'!$2:$213,207,0) -> 0.89104182 | E5: =+HLOOKUP(B5,'שנת 2011'!$2:$213,211,0) -> 3727.994 | F5: =+D5*E5 -> 3321.7986 | G5: =+F55/E55 -> 1.0157503 | H5: =+VLOOKUP(C5,'[2]ריכוז נתוני תאגידים'!$B$1:$AZ$65536,33,0) -> 1.0288432
A6: מי גליל | B6: =A6 -> מי גליל | C6: =+B6 -> מי גליל | D6: =+HLOOKUP(B6,'שנת 2011'!$2:$213,207,0) -> 0.62156821 | E6: =+HLOOKUP(B6,'שנת 2011'!$2:$213,211,0) -> 7424.806 | F6: =+D6*E6 -> 4615.0234 | H6: =+VLOOKUP(C6,'[2]ריכוז נתוני תאגידים'!$B$1:$AZ$65536,33,0) -> 1.2330064
A7: מי חדרה בע"מ | B7: מי חדרה | C7: מי חדרה | D7: =+HLOOKUP(B7,'שנת 2011'!$2:$213,207,0) -> 0.55406209 | E7: =+HLOOKUP(B7,'שנת 2011'!$2:$213,211,0) -> 6759.737 | F7: =+D7*E7 -> 3745.314 | H7: =+VLOOKUP(C7,'[2]ריכוז נתוני תאגידים'!$B$1:$AZ$65536,33,0) -> 1.0309921
A8: מי גבעתיים | B8: גבעתיים | C8: גבעתיים | D8: =+HLOOKUP(B8,'שנת 2011'!$2:$213,207,0) -> 0.64110291 | E8: =+HLOOKUP(B8,'שנת 2011'!$2:$213,211,0) -> 3487.223 | F8: =+D8*E8 -> 2235.6688 | H8: =+VLOOKUP(C8,'[2]ריכוז נתוני תאגידים'!$B$1:$AZ$65536,33,0) -> 1.0776943
A9: מי שבע תאגיד המים והביוב לבאר שבע בע"מ | B9: מי שבע | C9: מי שבע | D9: =+HLOOKUP(B9,'שנת 2011'!$2:$213,207,0) -> 0.71239012 | E9: =+HLOOKUP(B9,'שנת 2011'!$2:$213,211,0) -> 18929.647 | F9: =+D9*E9 -> 13485.293 | H9: =+VLOOKUP(C9,'[2]ריכוז נתוני תאגידים'!$B$1:$AZ$65536,33,0) -> 1.0629232
A10: מי נתניה (2003) בע"מ | B10: מי נתניה | C10: מי נתניה (נתניה) | D10: =+HLOOKUP(B10,'שנת 2011'!$2:$213,207,0) -> 0.76099527 | E10: =+HLOOKUP(B10,'שנת 2011'!$2:$213,211,0) -> 14452.827 | F10: =+D10*E10 -> 10998.533 | H10: =+VLOOKUP(C10,'[2]ריכוז נתוני תאגידים'!$B$1:$AZ$65536,33,0) -> 1.0474135
A11: מי רהט | B11: רהט | C11: רהט | D11: =+HLOOKUP(B11,'שנת 2011'!$2:$213,207,0) -> 0.76327883 | E11: =+HLOOKUP(B11,'שנת 2011'!$2:$213,211,0) -> 3037.073 | F11: =+D11*E11 -> 2318.1335 | H11: =+VLOOKUP(C11,'[2]ריכוז נתוני תאגידים'!$B$1:$AZ$65536,33,0) -> 0.98349128
A12: מעיינות השרון | B12: מי השרון | C12: מי השרון | D12: =+HLOOKUP(B12,'שנת 2011'!$2:$213,207,0) -> 0.80172441 | E12: =+HLOOKUP(B12,'שנת 2011'!$2:$213,211,0) -> 5812.072 | F12: =+D12*E12 -> 4659.68 | H12: =+VLOOKUP(C12,'[2]ריכוז נתוני תאגידים'!$B$1:$AZ$65536,33,0) -> 1.1221031
A13: מי מודיעין | B13: מי מודיעין (מודיעין) | C13: מי מודיעין (מודיעין) | D13: =+HLOOKUP(B13,'שנת 2011'!$2:$213,207,0) -> 0.75136911 | E13: =+HLOOKUP(B13,'שנת 2011'!$2:$213,211,0) -> 5126.537 | F13: =+D13*E13 -> 3851.9216 | H13: =+VLOOKUP(C13,'[2]ריכוז נתוני תאגידים'!$B$1:$AZ$65536,33,0) -> 0.99787637
A14: פלגי השרון | B14: פלגי השרון | C14: פלגי השרון | D14: =+HLOOKUP(B14,'שנת 2011'!$2:$213,207,0) -> 0.81174383 | E14: =+HLOOKUP(B14,'שנת 2011'!$2:$213,211,0) -> 7480.931 | F14: =+D14*E14 -> 6072.5996 | H14: =+VLOOKUP(C14,'[2]ריכוז נתוני תאגידים'!$B$1:$AZ$65536,33,0) -> 1.6
A15: מי ציונה בע"מ | B15: מי ציונה | C15: מי ציונה | D15: =+HLOOKUP(B15,'שנת 2011'!$2:$213,207,0) -> 0.7954349 | E15: =+HLOOKUP(B15,'שנת 2011'!$2:$213,211,0) -> 2927.018 | F15: =+D15*E15 -> 2328.2523 | H15: =+VLOOKUP(C15,'[2]ריכוז נתוני תאגידים'!$B$1:$AZ$65536,33,0) -> 1.0351093
A16: מי ברק בע"מ | B16: באר מים חיים | C16: באר מים חיים | D16: =+HLOOKUP(B16,'שנת 2011'!$2:$213,207,0) -> 0.75491354 | E16: =+HLOOKUP(B16,'שנת 2011'!$2:$213,211,0) -> 10072.235 | F16: =+D16*E16 -> 7603.6666 | H16: =+VLOOKUP(C16,'[2]ריכוז נתוני תאגידים'!$B$1:$AZ$65536,33,0) -> 1.0660116
A17: מי אשקלון | B17: =A17 -> מי אשקלון | C17: =B17 -> מי אשקלון | D17: =+HLOOKUP(B17,'שנת 2011'!$2:$213,207,0) -> 0.81203127 | E17: =+HLOOKUP(B17,'שנת 2011'!$2:$213,211,0) -> 11571.278 | F17: =+D17*E17 -> 9396.2396 | H17: =+VLOOKUP(C17,'[2]ריכוז נתוני תאגידים'!$B$1:$AZ$65536,33,0) -> 1.067064
A18: מי כרמל | B18: חיפה | C18: חיפה | D18: =+HLOOKUP(B18,'שנת 2011'!$2:$213,207,0) -> 0.77583342 | E18: =+HLOOKUP(B18,'שנת 2011'!$2:$213,211,0) -> 22830.183 | F18: =+D18*E18 -> 17712.419 | H18: =+VLOOKUP(C18,'[2]ריכוז נתוני תאגידים'!$B$1:$AZ$65536,33,0) -> 1.1842349
A19: הרי נצרת מפעלי מים וביוב בע"מ | B19: הרי נצרת | C19: הרי נצרת | D19: =+HLOOKUP(B19,'שנת 2011'!$2:$213,207,0) -> 0.82791794 | E19: =+HLOOKUP(B19,'שנת 2011'!$2:$213,211,0) -> 8854.767 | F19: =+D19*E19 -> 7331.0204 | H19: =+VLOOKUP(C19,'[2]ריכוז נתוני תאגידים'!$B$1:$AZ$65536,33,0) -> 1.1659139
A20: התנור מים וביוב בע"מ | B20: התנור | C20: התנור | D20: =+HLOOKUP(B20,'שנת 2011'!$2:$213,207,0) -> 0.58097232 | E20: =+HLOOKUP(B20,'שנת 2011'!$2:$213,211,0) -> 2571.519 | F20: =+D20*E20 -> 1493.9813 | H20: =+VLOOKUP(C20,'[2]ריכוז נתוני תאגידים'!$B$1:$AZ$65536,33,0) -> 1.2475361
A21: מי רקת טבריה בע"מ | B21: מי רקת | C21: מי רקת | D21: =+HLOOKUP(B21,'שנת 2011'!$2:$213,207,0) -> 0.84156814 | E21: =+HLOOKUP(B21,'שנת 2011'!$2:$213,211,0) -> 4618.684 | F21: =+D21*E21 -> 3886.9373 | H21: =+VLOOKUP(C21,'[2]ריכוז נתוני תאגידים'!$B$1:$AZ$65536,33,0) -> 1.1651833
A22: עין נטפים מפעלי מים וביוב אילת בע"מ | B22: עין נטפים (אילת) | C22: עין נטפים (אילת) | D22: =+HLOOKUP(B22,'שנת 2011'!$2:$213,207,0) -> 0.88679712 | E22: =+HLOOKUP(B22,'שנת 2011'!$2:$213,211,0) -> 10165.302 | F22: =+D22*E22 -> 9014.5605 | H22: =+VLOOKUP(C22,'[2]ריכוז נתוני תאגידים'!$B$1:$AZ$65536,33,0) -> 0.96058097
A23: אל עין | B23: =A23 -> אל עין | C23: =B23 -> אל עין | D23: =+HLOOKUP(B23,'שנת 2011'!$2:$213,207,0) -> 0.86308849 | E23: =+HLOOKUP(B23,'שנת 2011'!$2:$213,211,0) -> 5222.586 | F23: =+D23*E23 -> 4507.5538 | H23: =+VLOOKUP(C23,'[2]ריכוז נתוני תאגידים'!$B$1:$AZ$65536,33,0) -> 1.2681862
A24: מי נע חברת המים והביוב של עיריית נצרת עילית בע"מ | B24: מי נע (נצרת) | C24: מי נע (נצרת) | D24: =+HLOOKUP(B24,'שנת 2011'!$2:$213,207,0) -> 0.82755548 | E24: =+HLOOKUP(B24,'שנת 2011'!$2:$213,211,0) -> 5578.402 | F24: =+D24*E24 -> 4616.4372 | H24: =+VLOOKUP(C24,'[2]ריכוז נתוני תאגידים'!$B$1:$AZ$65536,33,0) -> 1.0618333
A25: מעיינות המשולש | B25: =A25 -> מעיינות המשולש | C25: מעיינות העמקים | D25: =+HLOOKUP(B25,'שנת 2011'!$2:$213,207,0) -> 0.93716819 | E25: =+HLOOKUP(B25,'שנת 2011'!$2:$213,211,0) -> 4159.445 | F25: =+D25*E25 -> 3898.0996 | H25: =+VLOOKUP(C25,'[2]ריכוז נתוני תאגידים'!$B$1:$AZ$65536,33,0) -> 1.1064915
A26: ימים | B26: =A26 -> ימים | C26: =B26 -> ימים | D26: =+HLOOKUP(B26,'שנת 2011'!$2:$213,207,0) -> 0.86972488 | E26: =+HLOOKUP(B26,'שנת 2011'!$2:$213,211,0) -> 2335.592 | F26: =+D26*E26 -> 2031.3225 | H26: =+VLOOKUP(C26,'[2]ריכוז נתוני תאגידים'!$B$1:$AZ$65536,33,0) -> 1.0863703
A27: מי קריית גת | B27: קריית גת | C27: קריית גת | D27: =+HLOOKUP(B27,'שנת 2011'!$2:$213,207,0) -> 0.92321335 | E27: =+HLOOKUP(B27,'שנת 2011'!$2:$213,211,0) -> 7268.678 | F27: =+D27*E27 -> 6710.5406 | H27: =+VLOOKUP(C27,'[2]ריכוז נתוני תאגידים'!$B$1:$AZ$65536,33,0) -> 0.99772201
A28: מעיינות אתא | B28: קריית אתא | C28: קריית אתא | D28: =+HLOOKUP(B28,'שנת 2011'!$2:$213,207,0) -> 0.91113868 | E28: =+HLOOKUP(B28,'שנת 2011'!$2:$213,211,0) -> 3191.42 | F28: =+D28*E28 -> 2907.8262 | H28: =+VLOOKUP(C28,'[2]ריכוז נתוני תאגידים'!$B$1:$AZ$65536,33,0) -> 1.076454
A29: פלג הגליל החברה האזורית למים וביוב בע"מ | B29: פלג הגליל | C29: פלג הגליל | D29: =+HLOOKUP(B29,'שנת 2011'!$2:$213,207,0) -> 0.86675449 | E29: =+HLOOKUP(B29,'שנת 2011'!$2:$213,211,0) -> 8488.621 | F29: =+D29*E29 -> 7357.5504 | H29: =+VLOOKUP(C29,'[2]ריכוז נתוני תאגידים'!$B$1:$AZ$65536,33,0) -> 1.4946645
A30: סובב שפרעם | B30: סובב שפרעם | C30: סובב שפרעם | D30: =+HLOOKUP(B30,'שנת 2011'!$2:$213,207,0) -> 0.98758889 | E30: =+HLOOKUP(B30,'שנת 2011'!$2:$213,211,0) -> 9403.885 | F30: =+D30*E30 -> 9287.1723 | H30: =+VLOOKUP(C30,'[2]ריכוז נתוני תאגידים'!$B$1:$AZ$65536,33,0) -> 1.3444023
A31: מניב ראשון בע"מ | B31: מניב ראשון (ראשון) | C31: מניב ראשון (ראשון) | D31: =+HLOOKUP(B31,'שנת 2011'!$2:$213,207,0) -> 0.99772379 | E31: =+HLOOKUP(B31,'שנת 2011'!$2:$213,211,0) -> 17513.722 | F31: =+D31*E31 -> 17473.857 | H31: =+VLOOKUP(C31,'[2]ריכוז נתוני תאגידים'!$B$1:$AZ$65536,33,0) -> 1.0057484
A32: כפרי גליל תחתון בע"מ | B32: כפרי הגליל התחתון | C32: כפרי הגליל התחתון | D32: =+HLOOKUP(B32,'שנת 2011'!$2:$213,207,0) -> 0.96890967 | E32: =+HLOOKUP(B32,'שנת 2011'!$2:$213,211,0) -> 4185.522 | F32: =+D32*E32 -> 4055.3927 | H32: =+VLOOKUP(C32,'[2]ריכוז נתוני תאגידים'!$B$1:$AZ$65536,33,0) -> 1.2903945
A33: מעיינות העמקים | B33: =A33 -> מעיינות העמקים | C33: =B33 -> מעיינות העמקים | D33: =+HLOOKUP(B33,'שנת 2011'!$2:$213,207,0) -> 0.95269047 | E33: =+HLOOKUP(B33,'שנת 2011'!$2:$213,211,0) -> 3019.445 | F33: =+D33*E33 -> 2876.5965 | H33: =+VLOOKUP(C33,'[2]ריכוז נתוני תאגידים'!$B$1:$AZ$65536,33,0) -> 1.1064915
A34: מי עכו | B34: עכו | C34: עכו | D34: =+HLOOKUP(B34,'שנת 2011'!$2:$213,207,0) -> 1.016315 | E34: =+HLOOKUP(B34,'שנת 2011'!$2:$213,211,0) -> 3374.398 | F34: =+D34*E34 -> 3429.4513 | H34: =+VLOOKUP(C34,'[2]ריכוז נתוני תאגידים'!$B$1:$AZ$65536,33,0) -> 1.0842569
A35: מי הרצליה | B35: הרצליה | C35: הרצליה | D35: =+HLOOKUP(B35,'שנת 2011'!$2:$213,207,0) -> 1.0081445 | E35: =+HLOOKUP(B35,'שנת 2011'!$2:$213,211,0) -> 9372.953 | F35: =+D35*E35 -> 9449.2914 | H35: =+VLOOKUP(C35,'[2]ריכוז נתוני תאגידים'!$B$1:$AZ$65536,33,0) -> 0.98847459
A36: מי יבנה | B36: מי יבנה | C36: מי יבנה | D36: =+HLOOKUP(B36,'שנת 2011'!$2:$213,207,0) -> 1.106043 | E36: =+HLOOKUP(B36,'שנת 2011'!$2:$213,211,0) -> 4188.16 | F36: =+D36*E36 -> 4632.2849 | H36: =+VLOOKUP(C36,'[2]ריכוז נתוני תאגידים'!$B$1:$AZ$65536,33,0) -> 1.056958
A37: מי רעננה | B37: רעננה | C37: רעננה | D37: =+HLOOKUP(B37,'שנת 2011'!$2:$213,207,0) -> 0.97732619 | E37: =+HLOOKUP(B37,'שנת 2011'!$2:$213,211,0) -> 5839.497 | F37: =+D37*E37 -> 5707.0934 | H37: =+VLOOKUP(C37,'[2]ריכוז נתוני תאגידים'!$B$1:$AZ$65536,33,0) -> 0.99445775
A38: מי שקמה תאגיד המים והביוב בע"מ | B38: מי שקמה | C38: מי שקמה | D38: =+HLOOKUP(B38,'שנת 2011'!$2:$213,207,0) -> 1.0538876 | E38: =+HLOOKUP(B38,'שנת 2011'!$2:$213,211,0) -> 13087.905 | F38: =+D38*E38 -> 13793.181 | H38: =+VLOOKUP(C38,'[2]ריכוז נתוני תאגידים'!$B$1:$AZ$65536,33,0) -> 1.1238924
A39: מי לוד בע"מ | B39: מי לוד | C39: מי לוד | D39: =+HLOOKUP(B39,'שנת 2011'!$2:$213,207,0) -> 1.035117 | E39: =+HLOOKUP(B39,'שנת 2011'!$2:$213,211,0) -> 5230.53 | F39: =+D39*E39 -> 5414.2105 | H39: =+VLOOKUP(C39,'[2]ריכוז נתוני תאגידים'!$B$1:$AZ$65536,33,0) -> 1.0576016
A40: מי עירון בע"מ | B40: מי עירון | C40: מי עירון | D40: =+HLOOKUP(B40,'שנת 2011'!$2:$213,207,0) -> 1.1333805 | E40: =+HLOOKUP(B40,'שנת 2011'!$2:$213,211,0) -> 4998.129 | F40: =+D40*E40 -> 5664.7819 | H40: =+VLOOKUP(C40,'[2]ריכוז נתוני תאגידים'!$B$1:$AZ$65536,33,0) -> 1.2827907
A41: מעיינות זיו | B41: מעיינות זיו | C41: מעלות | D41: =+HLOOKUP(B41,'שנת 2011'!$2:$213,207,0) -> 1.1386962 | E41: =+HLOOKUP(B41,'שנת 2011'!$2:$213,211,0) -> 3223.218 | F41: =+D41*E41 -> 3670.266 | H41: =+VLOOKUP(C41,'[2]ריכוז נתוני תאגידים'!$B$1:$AZ$65536,33,0) -> 1.1694333
A42: חברת הגיחון בע"מ תאגיד המים והביוב של ירושלים | B42: הגיחון (ירושלים) | C42: הגיחון (ירושלים) | D42: =+HLOOKUP(B42,'שנת 2011'!$2:$213,207,0) -> 1.1889321 | E42: =+HLOOKUP(B42,'שנת 2011'!$2:$213,211,0) -> 57949.614 | F42: =+D42*E42 -> 68898.159 | H42: =+VLOOKUP(C42,'[2]ריכוז נתוני תאגידים'!$B$1:$AZ$65536,33,0) -> 1.0665234
A43: מי אביבים | B43: =+A43 -> מי אביבים | C43: תל אביב ב | D43: =+HLOOKUP(B43,'שנת 2011'!$2:$213,207,0) -> 1.1675746 | E43: =+HLOOKUP(B43,'שנת 2011'!$2:$213,211,0) -> 41699.37 | F43: =+D43*E43 -> 48687.125 | H43: =+VLOOKUP(C43,'[2]ריכוז נתוני תאגידים'!$B$1:$AZ$65536,33,0) -> 1.0697557
A44: מי הוד השרון | B44: =A44 -> מי הוד השרון | C44: הוד השרון | D44: =+HLOOKUP(B44,'שנת 2011'!$2:$213,207,0) -> 1.1664678 | E44: =+HLOOKUP(B44,'שנת 2011'!$2:$213,211,0) -> 3668.948 | F44: =+D44*E44 -> 4279.7098 | H44: =+VLOOKUP(C44,'[2]ריכוז נתוני תאגידים'!$B$1:$AZ$65536,33,0) -> 1.0126225
A45: שרונים | B45: רמת השרון | C45: רמת השרון | D45: =+HLOOKUP(B45,'שנת 2011'!$2:$213,207,0) -> 1.1973761 | E45: =+HLOOKUP(B45,'שנת 2011'!$2:$213,211,0) -> 4302.059 | F45: =+D45*E45 -> 5151.1828 | H45: =+VLOOKUP(C45,'[2]ריכוז נתוני תאגידים'!$B$1:$AZ$65536,33,0) -> 1.0545319
A46: יובלים אשדוד בע"מ | B46: יובלים אשדוד | C46: יובלים אשדוד | D46: =+HLOOKUP(B46,'שנת 2011'!$2:$213,207,0) -> 1.2026718 | E46: =+HLOOKUP(B46,'שנת 2011'!$2:$213,211,0) -> 15482.126 | F46: =+D46*E46 -> 18619.916 | H46: =+VLOOKUP(C46,'[2]ריכוז נתוני תאגידים'!$B$1:$AZ$65536,33,0) -> 1.0271245
A47: מיתב מים תיעול וביוב בע"מ | B47: מיתב פ"ת | C47: מיתב (פתח תקווה) | D47: =+HLOOKUP(B47,'שנת 2011'!$2:$213,207,0) -> 1.1265574 | E47: =+HLOOKUP(B47,'שנת 2011'!$2:$213,211,0) -> 17356.742 | F47: =+D47*E47 -> 19553.366 | H47: =+VLOOKUP(C47,'[2]ריכוז נתוני תאגידים'!$B$1:$AZ$65536,33,0) -> 1.1284439
A48: עין אפק | B48: עין אפק | C48: עין אפק | D48: =+HLOOKUP(B48,'שנת 2011'!$2:$213,207,0) -> 1.2420289 | E48: =+HLOOKUP(B48,'שנת 2011'!$2:$213,211,0) -> 3520.161 | F48: =+D48*E48 -> 4372.1418 | H48: =+VLOOKUP(C48,'[2]ריכוז נתוני תאגידים'!$B$1:$AZ$65536,33,0) -> 1.0328226
A49: מעיינות הדרום | B49: מי דרום | C49: מי דרום | D49: =+HLOOKUP(B49,'שנת 2011'!$2:$213,207,0) -> 1.3142052 | E49: =+HLOOKUP(B49,'שנת 2011'!$2:$213,211,0) -> 6403.574 | F49: =+D49*E49 -> 8415.6101 | H49: =+VLOOKUP(C49,'[2]ריכוז נתוני תאגידים'!$B$1:$AZ$65536,33,0) -> 1.1585826
A50: מי שמש | B50: בית שמש | C50: בית שמש | D50: =+HLOOKUP(B50,'שנת 2011'!$2:$213,207,0) -> 1.2843467 | E50: =+HLOOKUP(B50,'שנת 2011'!$2:$213,211,0) -> 5039.292 | F50: =+D50*E50 -> 6472.1978 | H50: =+VLOOKUP(C50,'[2]ריכוז נתוני תאגידים'!$B$1:$AZ$65536,33,0) -> 1.0487387
A51: מי קריית אונו | B51: קריית אונו | C51: קריית אונו | D51: =+HLOOKUP(B51,'שנת 2011'!$2:$213,207,0) -> 1.8477451 | E51: =+HLOOKUP(B51,'שנת 2011'!$2:$213,211,0) -> 2273.109 | F51: =+D51*E51 -> 4200.126 | H51: =+VLOOKUP(C51,'[2]ריכוז נתוני תאגידים'!$B$1:$AZ$65536,33,0) -> 1.0300742
A52: יובלים בשומרון בע"מ | B52: מי אריאל (אריאל) | C52: מי אריאל (אריאל) | D52: =+HLOOKUP(B52,'שנת 2011'!$2:$213,207,0) -> 2.4346169 | E52: =+HLOOKUP(B52,'שנת 2011'!$2:$213,211,0) -> 1540.84 | F52: =+D52*E52 -> 3751.3551 | H52: =+VLOOKUP(C52,'[2]ריכוז נתוני תאגידים'!$B$1:$AZ$65536,33,0) -> 1.0860913
A53: מי בת ים | B53: בת ים | C53: בת ים | D53: =+HLOOKUP(B53,'שנת 2011'!$2:$213,207,0) -> 2.3984159 | E53: =+HLOOKUP(B53,'שנת 2011'!$2:$213,211,0) -> 8365.12 | F53: =+D53*E53 -> 20063.037 | H53: =+VLOOKUP(C53,'[2]ריכוז נתוני תאגידים'!$B$1:$AZ$65536,33,0) -> 1.083562
E55: =SUM(E5:E54) -> 437132.9 | F55: =SUM(F5:F54) -> 444017.88
F57: *** כמויות הביוב- הינן כמויות המים בניכוי חקלאות וגינון

Sheet סהכ עלויות תפעול
A1: רשימת תאגידים | C1: עלויות תפעול בתאגידים בפועל בשנת 2011
C3: עלות תפעול מים | D3: ממוצע משוקלל | E3: עלות מוכרת בתעריף | F3: עלות תפעול בשנת 2012 | G3: הפרש | H3: הפרש באחוזים
A4: מי גליל | B4: =A4 -> מי גליל | C4: =+HLOOKUP(B4,'שנת 2011'!$2:$213,205,0)+HLOOKUP(B4,'שנת 2011'!$2:$213,207,0) -> 1.4047159 | D4: =+'עלות תפעול ביוב'!G5+'עלות תפעול מים'!G5 -> 2.3189683 | E4: =+VLOOKUP(A4,'עלות תפעול מים'!$A:$H,8,0)+VLOOKUP(A4,'עלות תפעול ביוב'!$A:$H,8,0) -> 2.1892255 | F4: 1.582 | G4: =+E4-F4 -> 0.60722548 | H4: =+E4/F4-1 -> 0.38383406
A5: עין כרמים | B5: =+A5 -> עין כרמים | C5: =+HLOOKUP(B5,'שנת 2011'!$2:$213,205,0)+HLOOKUP(B5,'שנת 2011'!$2:$213,207,0) -> 1.9424157 | E5: =+VLOOKUP(A5,'עלות תפעול מים'!$A:$H,8,0)+VLOOKUP(A5,'עלות תפעול ביוב'!$A:$H,8,0) -> 1.7595551 | F5: 1.582 | G5: =+E5-F5 -> 0.17755514 | H5: =+E5/F5-1 -> 0.1122346
A6: מי אשקלון | B6: =A6 -> מי אשקלון | C6: =+HLOOKUP(B6,'שנת 2011'!$2:$213,205,0)+HLOOKUP(B6,'שנת 2011'!$2:$213,207,0) -> 1.6440221 | E6: =+VLOOKUP(A6,'עלות תפעול מים'!$A:$H,8,0)+VLOOKUP(A6,'עלות תפעול ביוב'!$A:$H,8,0) -> 1.8337671 | F6: 1.582 | G6: =+E6-F6 -> 0.25176708 | H6: =+E6/F6-1 -> 0.1591448
A7: מי נתניה (2003) בע"מ | B7: מי נתניה | C7: =+HLOOKUP(B7,'שנת 2011'!$2:$213,205,0)+HLOOKUP(B7,'שנת 2011'!$2:$213,207,0) -> 1.6601248 | E7: =+VLOOKUP(A7,'עלות תפעול מים'!$A:$H,8,0)+VLOOKUP(A7,'עלות תפעול ביוב'!$A:$H,8,0) -> 1.7874106 | F7: 1.582 | G7: =+E7-F7 -> 0.2054106 | H7: =+E7/F7-1 -> 0.12984235
A8: עין נטפים מפעלי מים וביוב אילת בע"מ | B8: עין נטפים (אילת) | C8: =+HLOOKUP(B8,'שנת 2011'!$2:$213,205,0)+HLOOKUP(B8,'שנת 2011'!$2:$213,207,0) -> 1.7064012 | E8: =+VLOOKUP(A8,'עלות תפעול מים'!$A:$H,8,0)+VLOOKUP(A8,'עלות תפעול ביוב'!$A:$H,8,0) -> 1.6571619 | F8: 1.582 | G8: =+E8-F8 -> 0.075161855 | H8: =+E8/F8-1 -> 0.047510654
A9: מעיינות השרון | B9: מי השרון | C9: =+HLOOKUP(B9,'שנת 2011'!$2:$213,205,0)+HLOOKUP(B9,'שנת 2011'!$2:$213,207,0) -> 1.7173634 | E9: =+VLOOKUP(A9,'עלות תפעול מים'!$A:$H,8,0)+VLOOKUP(A9,'עלות תפעול ביוב'!$A:$H,8,0) -> 1.9613997 | F9: 1.582 | G9: =+E9-F9 -> 0.37939972 | H9: =+E9/F9-1 -> 0.23982283
A10: מי ציונה בע"מ | B10: מי ציונה | C10: =+HLOOKUP(B10,'שנת 2011'!$2:$213,205,0)+HLOOKUP(B10,'שנת 2011'!$2:$213,207,0) -> 1.7863463 | E10: =+VLOOKUP(A10,'עלות תפעול מים'!$A:$H,8,0)+VLOOKUP(A10,'עלות תפעול ביוב'!$A:$H,8,0) -> 1.7949402 | F10: 1.582 | G10: =+E10-F10 -> 0.21294021 | H10: =+E10/F10-1 -> 0.1346019
A11: ימים | B11: =A11 -> ימים | C11: =+HLOOKUP(B11,'שנת 2011'!$2:$213,205,0)+HLOOKUP(B11,'שנת 2011'!$2:$213,207,0) -> 1.7994194 | E11: =+VLOOKUP(A11,'עלות תפעול מים'!$A:$H,8,0)+VLOOKUP(A11,'עלות תפעול ביוב'!$A:$H,8,0) -> 1.8458459 | F11: 1.582 | G11: =+E11-F11 -> 0.26384588 | H11: =+E11/F11-1 -> 0.16677995
A12: מי שבע תאגיד המים והביוב לבאר שבע בע"מ | B12: מי שבע | C12: =+HLOOKUP(B12,'שנת 2011'!$2:$213,205,0)+HLOOKUP(B12,'שנת 2011'!$2:$213,207,0) -> 1.8094361 | E12: =+VLOOKUP(A12,'עלות תפעול מים'!$A:$H,8,0)+VLOOKUP(A12,'עלות תפעול ביוב'!$A:$H,8,0) -> 1.8268174 | F12: 1.582 | G12: =+E12-F12 -> 0.2448174 | H12: =+E12/F12-1 -> 0.15475183
A13: מי חדרה בע"מ | B13: מי חדרה | C13: =+HLOOKUP(B13,'שנת 2011'!$2:$213,205,0)+HLOOKUP(B13,'שנת 2011'!$2:$213,207,0) -> 1.9140534 | E13: =+VLOOKUP(A13,'עלות תפעול מים'!$A:$H,8,0)+VLOOKUP(A13,'עלות תפעול ביוב'!$A:$H,8,0) -> 1.7627785 | F13: 1.582 | G13: =+E13-F13 -> 0.18077851 | H13: =+E13/F13-1 -> 0.11427213
A14: אל עין | B14: =A14 -> אל עין | C14: =+HLOOKUP(B14,'שנת 2011'!$2:$213,205,0)+HLOOKUP(B14,'שנת 2011'!$2:$213,207,0) -> 1.9244092 | E14: =+VLOOKUP(A14,'עלות תפעול מים'!$A:$H,8,0)+VLOOKUP(A14,'עלות תפעול ביוב'!$A:$H,8,0) -> 2.2498818 | F14: 1.582 | G14: =+E14-F14 -> 0.66788182 | H14: =+E14/F14-1 -> 0.42217561
A15: הרי נצרת מפעלי מים וביוב בע"מ | B15: הרי נצרת | C15: =+HLOOKUP(B15,'שנת 2011'!$2:$213,205,0)+HLOOKUP(B15,'שנת 2011'!$2:$213,207,0) -> 1.9743962 | E15: =+VLOOKUP(A15,'עלות תפעול מים'!$A:$H,8,0)+VLOOKUP(A15,'עלות תפעול ביוב'!$A:$H,8,0) -> 2.0503669 | F15: 1.582 | G15: =+E15-F15 -> 0.46836691 | H15: =+E15/F15-1 -> 0.29606
A16: פלגי השרון | B16: פלגי השרון | C16: =+HLOOKUP(B16,'שנת 2011'!$2:$213,205,0)+HLOOKUP(B16,'שנת 2011'!$2:$213,207,0) -> 2.1496256 | E16: =+VLOOKUP(A16,'עלות תפעול מים'!$A:$H,8,0)+VLOOKUP(A16,'עלות תפעול ביוב'!$A:$H,8,0) -> 2.829824 | F16: 1.582 | G16: =+E16-F16 -> 1.247824 | H16: =+E16/F16-1 -> 0.7887636
A17: יובלים אשדוד בע"מ | B17: יובלים אשדוד | C17: =+HLOOKUP(B17,'שנת 2011'!$2:$213,205,0)+HLOOKUP(B17,'שנת 2011'!$2:$213,207,0) -> 2.0305798 | E17: =+VLOOKUP(A17,'עלות תפעול מים'!$A:$H,8,0)+VLOOKUP(A17,'עלות תפעול ביוב'!$A:$H,8,0) -> 1.7569772 | F17: 1.582 | G17: =+E17-F17 -> 0.17497715 | H17: =+E17/F17-1 -> 0.11060503
A18: מעיינות המשולש | B18: =A18 -> מעיינות המשולש | C18: =+HLOOKUP(B18,'שנת 2011'!$2:$213,205,0)+HLOOKUP(B18,'שנת 2011'!$2:$213,207,0) -> 2.0364144 | E18: =+VLOOKUP(A18,'עלות תפעול מים'!$A:$H,8,0)+VLOOKUP(A18,'עלות תפעול ביוב'!$A:$H,8,0) -> 1.9068573 | F18: 1.582 | G18: =+E18-F18 -> 0.32485726 | H18: =+E18/F18-1 -> 0.20534593
A19: מי רהט | B19: רהט | C19: =+HLOOKUP(B19,'שנת 2011'!$2:$213,205,0)+HLOOKUP(B19,'שנת 2011'!$2:$213,207,0) -> 2.0563215 | E19: =+VLOOKUP(A19,'עלות תפעול מים'!$A:$H,8,0)+VLOOKUP(A19,'עלות תפעול ביוב'!$A:$H,8,0) -> 1.7064004 | F19: 1.582 | G19: =+E19-F19 -> 0.12440039 | H19: =+E19/F19-1 -> 0.078634886
A20: מי הרצליה | B20: הרצליה | C20: =+HLOOKUP(B20,'שנת 2011'!$2:$213,205,0)+HLOOKUP(B20,'שנת 2011'!$2:$213,207,0) -> 2.0773658 | E20: =+VLOOKUP(A20,'עלות תפעול מים'!$A:$H,8,0)+VLOOKUP(A20,'עלות תפעול ביוב'!$A:$H,8,0) -> 1.6854813 | F20: 1.582 | G20: =+E20-F20 -> 0.10348132 | H20: =+E20/F20-1 -> 0.065411704
A21: מי ברק בע"מ | B21: באר מים חיים | C21: =+HLOOKUP(B21,'שנת 2011'!$2:$213,205,0)+HLOOKUP(B21,'שנת 2011'!$2:$213,207,0) -> 2.0882105 | E21: =+VLOOKUP(A21,'עלות תפעול מים'!$A:$H,8,0)+VLOOKUP(A21,'עלות תפעול ביוב'!$A:$H,8,0) -> 1.7901808 | F21: 1.582 | G21: =+E21-F21 -> 0.2081808 | H21: =+E21/F21-1 -> 0.13159343
A22: מניב ראשון בע"מ | B22: מניב ראשון (ראשון) | C22: =+HLOOKUP(B22,'שנת 2011'!$2:$213,205,0)+HLOOKUP(B22,'שנת 2011'!$2:$213,207,0) -> 2.086146 | E22: =+VLOOKUP(A22,'עלות תפעול מים'!$A:$H,8,0)+VLOOKUP(A22,'עלות תפעול ביוב'!$A:$H,8,0) -> 1.711392 | F22: 1.582 | G22: =+E22-F22 -> 0.12939198 | H22: =+E22/F22-1 -> 0.081790126
A23: התנור מים וביוב בע"מ | B23: התנור | C23: =+HLOOKUP(B23,'שנת 2011'!$2:$213,205,0)+HLOOKUP(B23,'שנת 2011'!$2:$213,207,0) -> 1.8543278 | E23: =+VLOOKUP(A23,'עלות תפעול מים'!$A:$H,8,0)+VLOOKUP(A23,'עלות תפעול ביוב'!$A:$H,8,0) -> 2.2100135 | F23: 1.582 | G23: =+E23-F23 -> 0.6280135 | H23: =+E23/F23-1 -> 0.3969744
A24: מי עכו | B24: עכו | C24: =+HLOOKUP(B24,'שנת 2011'!$2:$213,205,0)+HLOOKUP(B24,'שנת 2011'!$2:$213,207,0) -> 2.1204161 | E24: =+VLOOKUP(A24,'עלות תפעול מים'!$A:$H,8,0)+VLOOKUP(A24,'עלות תפעול ביוב'!$A:$H,8,0) -> 1.8575489 | F24: 1.582 | G24: =+E24-F24 -> 0.27554887 | H24: =+E24/F24-1 -> 0.17417754
A25: מי רקת טבריה בע"מ | B25: מי רקת | C25: =+HLOOKUP(B25,'שנת 2011'!$2:$213,205,0)+HLOOKUP(B25,'שנת 2011'!$2:$213,207,0) -> 2.1378794 | E25: =+VLOOKUP(A25,'עלות תפעול מים'!$A:$H,8,0)+VLOOKUP(A25,'עלות תפעול ביוב'!$A:$H,8,0) -> 2.0382475 | F25: 1.582 | G25: =+E25-F25 -> 0.45624746 | H25: =+E25/F25-1 -> 0.28839915
A26: מי קריית גת | B26: קריית גת | C26: =+HLOOKUP(B26,'שנת 2011'!$2:$213,205,0)+HLOOKUP(B26,'שנת 2011'!$2:$213,207,0) -> 2.1914833 | E26: =+VLOOKUP(A26,'עלות תפעול מים'!$A:$H,8,0)+VLOOKUP(A26,'עלות תפעול ביוב'!$A:$H,8,0) -> 1.7277465 | F26: 1.582 | G26: =+E26-F26 -> 0.14574648 | H26: =+E26/F26-1 -> 0.092127988
A27: מי עירון בע"מ | B27: מי עירון | C27: =+HLOOKUP(B27,'שנת 2011'!$2:$213,205,0)+HLOOKUP(B27,'שנת 2011'!$2:$213,207,0) -> 2.2036574 | E27: =+VLOOKUP(A27,'עלות תפעול מים'!$A:$H,8,0)+VLOOKUP(A27,'עלות תפעול ביוב'!$A:$H,8,0) -> 2.2715317 | F27: 1.582 | G27: =+E27-F27 -> 0.68953165 | H27: =+E27/F27-1 -> 0.43586072
A28: מי שקמה תאגיד המים והביוב בע"מ | B28: מי שקמה | C28: =+HLOOKUP(B28,'שנת 2011'!$2:$213,205,0)+HLOOKUP(B28,'שנת 2011'!$2:$213,207,0) -> 2.2058277 | E28: =+VLOOKUP(A28,'עלות תפעול מים'!$A:$H,8,0)+VLOOKUP(A28,'עלות תפעול ביוב'!$A:$H,8,0) -> 1.9109738 | F28: 1.582 | G28: =+E28-F28 -> 0.32897382 | H28: =+E28/F28-1 -> 0.20794805
A29: סובב שפרעם | B29: סובב שפרעם | C29: =+HLOOKUP(B29,'שנת 2011'!$2:$213,205,0)+HLOOKUP(B29,'שנת 2011'!$2:$213,207,0) -> 2.2312715 | E29: =+VLOOKUP(A29,'עלות תפעול מים'!$A:$H,8,0)+VLOOKUP(A29,'עלות תפעול ביוב'!$A:$H,8,0) -> 2.4046578 | F29: 1.582 | G29: =+E29-F29 -> 0.82265779 | H29: =+E29/F29-1 -> 0.52001125
A30: מי לוד בע"מ | B30: מי לוד | C30: =+HLOOKUP(B30,'שנת 2011'!$2:$213,205,0)+HLOOKUP(B30,'שנת 2011'!$2:$213,207,0) -> 2.2348121 | E30: =+VLOOKUP(A30,'עלות תפעול מים'!$A:$H,8,0)+VLOOKUP(A30,'עלות תפעול ביוב'!$A:$H,8,0) -> 1.8175659 | F30: 1.582 | G30: =+E30-F30 -> 0.23556593 | H30: =+E30/F30-1 -> 0.14890387
... A32: מעיינות הדרום | B32: מי דרום | C32: =+HLOOKUP(B32,'שנת 2011'!$2:$213,205,0)+HLOOKUP(B32,'שנת 2011'!$2:$213,207,0) -> 2.25563 | E32: =+VLOOKUP(A32,'עלות תפעול מים'!$A:$H,8,0)+VLOOKUP(A32,'עלות תפעול ביוב'!$A:$H,8,0) -> 2.0235642 | F32: 1.582 | G32: =+E32-F32 -> 0.44156423 | H32: =+E32/F32-1 -> 0.27911772
A33: מעיינות העמקים | B33: =A33 -> מעיינות העמקים | C33: =+HLOOKUP(B33,'שנת 2011'!$2:$213,205,0)+HLOOKUP(B33,'שנת 2011'!$2:$213,207,0) -> 2.2907231 | E33: =+VLOOKUP(A33,'עלות תפעול מים'!$A:$H,8,0)+VLOOKUP(A33,'עלות תפעול ביוב'!$A:$H,8,0) -> 1.9068573 | F33: 1.582 | G33: =+E33-F33 -> 0.32485726 | H33: =+E33/F33-1 -> 0.20534593
A34: עין אפק | B34: עין אפק | C34: =+HLOOKUP(B34,'שנת 2011'!$2:$213,205,0)+HLOOKUP(B34,'שנת 2011'!$2:$213,207,0) -> 2.3182145 | E34: =+VLOOKUP(A34,'עלות תפעול מים'!$A:$H,8,0)+VLOOKUP(A34,'עלות תפעול ביוב'!$A:$H,8,0) -> 1.7255243 | F34: 1.582 | G34: =+E34-F34 -> 0.14352429 | H34: =+E34/F34-1 -> 0.090723321
A35: מי יבנה | B35: מי יבנה | C35: =+HLOOKUP(B35,'שנת 2011'!$2:$213,205,0)+HLOOKUP(B35,'שנת 2011'!$2:$213,207,0) -> 2.3346401 | E35: =+VLOOKUP(A35,'עלות תפעול מים'!$A:$H,8,0)+VLOOKUP(A35,'עלות תפעול ביוב'!$A:$H,8,0) -> 1.8222067 | F35: 1.582 | G35: =+E35-F35 -> 0.2402067 | H35: =+E35/F35-1 -> 0.15183736
A36: מעיינות אתא | B36: קריית אתא | C36: =+HLOOKUP(B36,'שנת 2011'!$2:$213,205,0)+HLOOKUP(B36,'שנת 2011'!$2:$213,207,0) -> 2.3399581 | E36: =+VLOOKUP(A36,'עלות תפעול מים'!$A:$H,8,0)+VLOOKUP(A36,'עלות תפעול ביוב'!$A:$H,8,0) -> 1.8309714 | F36: 1.582 | G36: =+E36-F36 -> 0.24897144 | H36: =+E36/F36-1 -> 0.15737765
A37: מעיינות זיו | B37: מעיינות זיו | C37: =+HLOOKUP(B37,'שנת 2011'!$2:$213,205,0)+HLOOKUP(B37,'שנת 2011'!$2:$213,207,0) -> 2.3477354 | E37: =+VLOOKUP(A37,'עלות תפעול מים'!$A:$H,8,0)+VLOOKUP(A37,'עלות תפעול ביוב'!$A:$H,8,0) -> 2.0506191 | F37: 1.582 | G37: =+E37-F37 -> 0.46861909 | H37: =+E37/F37-1 -> 0.2962194
A38: מי מודיעין | B38: מי מודיעין (מודיעין) | C38: =+HLOOKUP(B38,'שנת 2011'!$2:$213,205,0)+HLOOKUP(B38,'שנת 2011'!$2:$213,207,0) -> 2.3998179 | E38: =+VLOOKUP(A38,'עלות תפעול מים'!$A:$H,8,0)+VLOOKUP(A38,'עלות תפעול ביוב'!$A:$H,8,0) -> 1.699584 | F38: 1.582 | G38: =+E38-F38 -> 0.11758399 | H38: =+E38/F38-1 -> 0.074326162
A39: מי גבעתיים | B39: גבעתיים | C39: =+HLOOKUP(B39,'שנת 2011'!$2:$213,205,0)+HLOOKUP(B39,'שנת 2011'!$2:$213,207,0) -> 2.4267451 | E39: =+VLOOKUP(A39,'עלות תפעול מים'!$A:$H,8,0)+VLOOKUP(A39,'עלות תפעול ביוב'!$A:$H,8,0) -> 1.7793109 | F39: 1.582 | G39: =+E39-F39 -> 0.19731089 | H39: =+E39/F39-1 -> 0.12472244
A40: מי רעננה | B40: רעננה | C40: =+HLOOKUP(B40,'שנת 2011'!$2:$213,205,0)+HLOOKUP(B40,'שנת 2011'!$2:$213,207,0) -> 2.5313564 | E40: =+VLOOKUP(A40,'עלות תפעול מים'!$A:$H,8,0)+VLOOKUP(A40,'עלות תפעול ביוב'!$A:$H,8,0) -> 1.6944561 | F40: 1.582 | G40: =+E40-F40 -> 0.11245605 | H40: =+E40/F40-1 -> 0.071084735
A41: כפרי גליל תחתון בע"מ | B41: כפרי הגליל התחתון | C41: =+HLOOKUP(B41,'שנת 2011'!$2:$213,205,0)+HLOOKUP(B41,'שנת 2011'!$2:$213,207,0) -> 2.6594895 | E41: =+VLOOKUP(A41,'עלות תפעול מים'!$A:$H,8,0)+VLOOKUP(A41,'עלות תפעול ביוב'!$A:$H,8,0) -> 2.2894458 | F41: 1.582 | G41: =+E41-F41 -> 0.70744579 | H41: =+E41/F41-1 -> 0.44718445
A42: מיתב מים תיעול וביוב בע"מ | B42: מיתב פ"ת | C42: =+HLOOKUP(B42,'שנת 2011'!$2:$213,205,0)+HLOOKUP(B42,'שנת 2011'!$2:$213,207,0) -> 2.6655068 | E42: =+VLOOKUP(A42,'עלות תפעול מים'!$A:$H,8,0)+VLOOKUP(A42,'עלות תפעול ביוב'!$A:$H,8,0) -> 1.9015234 | F42: 1.582 | G42: =+E42-F42 -> 0.31952338 | H42: =+E42/F42-1 -> 0.20197433
A43: מי אביבים | B43: =+A43 -> מי אביבים | C43: =+HLOOKUP(B43,'שנת 2011'!$2:$213,205,0)+HLOOKUP(B43,'שנת 2011'!$2:$213,207,0) -> 2.6947861 | E43: =+VLOOKUP(A43,'עלות תפעול מים'!$A:$H,8,0)+VLOOKUP(A43,'עלות תפעול ביוב'!$A:$H,8,0) -> 1.767403 | F43: 1.582 | G43: =+E43-F43 -> 0.18540299 | H43: =+E43/F43-1 -> 0.11719532
A44: חברת הגיחון בע"מ תאגיד המים והביוב של ירושלים | B44: הגיחון (ירושלים) | C44: =+HLOOKUP(B44,'שנת 2011'!$2:$213,205,0)+HLOOKUP(B44,'שנת 2011'!$2:$213,207,0) -> 2.7125026 | E44: =+VLOOKUP(A44,'עלות תפעול מים'!$A:$H,8,0)+VLOOKUP(A44,'עלות תפעול ביוב'!$A:$H,8,0) -> 1.8468511 | F44: 1.582 | G44: =+E44-F44 -> 0.26485107 | H44: =+E44/F44-1 -> 0.16741534
A45: שרונים | B45: רמת השרון | C45: =+HLOOKUP(B45,'שנת 2011'!$2:$213,205,0)+HLOOKUP(B45,'שנת 2011'!$2:$213,207,0) -> 2.7244763 | E45: =+VLOOKUP(A45,'עלות תפעול מים'!$A:$H,8,0)+VLOOKUP(A45,'עלות תפעול ביוב'!$A:$H,8,0) -> 1.7488648 | F45: 1.582 | G45: =+E45-F45 -> 0.16686483 | H45: =+E45/F45-1 -> 0.10547713
A46: מי כרמל | B46: חיפה | C46: =+HLOOKUP(B46,'שנת 2011'!$2:$213,205,0)+HLOOKUP(B46,'שנת 2011'!$2:$213,207,0) -> 2.7429699 | E46: =+VLOOKUP(A46,'עלות תפעול מים'!$A:$H,8,0)+VLOOKUP(A46,'עלות תפעול ביוב'!$A:$H,8,0) -> 1.8941217 | F46: 1.735 | G46: =+E46-F46 -> 0.15912173 | H46: =+E46/F46-1 -> 0.091712811
A47: מי שמש | B47: בית שמש | C47: =+HLOOKUP(B47,'שנת 2011'!$2:$213,205,0)+HLOOKUP(B47,'שנת 2011'!$2:$213,207,0) -> 2.7808887 | E47: =+VLOOKUP(A47,'עלות תפעול מים'!$A:$H,8,0)+VLOOKUP(A47,'עלות תפעול ביוב'!$A:$H,8,0) -> 1.8042714 | F47: 1.582 | G47: =+E47-F47 -> 0.22227144 | H47: =+E47/F47-1 -> 0.14050028
A48: מי הוד השרון | B48: =A48 -> מי הוד השרון | C48: =+HLOOKUP(B48,'שנת 2011'!$2:$213,205,0)+HLOOKUP(B48,'שנת 2011'!$2:$213,207,0) -> 2.8785365 | E48: =+VLOOKUP(A48,'עלות תפעול מים'!$A:$H,8,0)+VLOOKUP(A48,'עלות תפעול ביוב'!$A:$H,8,0) -> 1.7182021 | F48: 1.582 | G48: =+E48-F48 -> 0.1362021 | H48: =+E48/F48-1 -> 0.086094883
A49: פלג הגליל החברה האזורית למים וביוב בע"מ | B49: פלג הגליל | C49: =+HLOOKUP(B49,'שנת 2011'!$2:$213,205,0)+HLOOKUP(B49,'שנת 2011'!$2:$213,207,0) -> 3.0771901 | E49: =+VLOOKUP(A49,'עלות תפעול מים'!$A:$H,8,0)+VLOOKUP(A49,'עלות תפעול ביוב'!$A:$H,8,0) -> 2.6851897 | F49: 1.582 | G49: =+E49-F49 -> 1.1031897 | H49: =+E49/F49-1 -> 0.69733861
A50: מי קריית אונו | B50: קריית אונו | C50: =+HLOOKUP(B50,'שנת 2011'!$2:$213,205,0)+HLOOKUP(B50,'שנת 2011'!$2:$213,207,0) -> 3.47671 | E50: =+VLOOKUP(A50,'עלות תפעול מים'!$A:$H,8,0)+VLOOKUP(A50,'עלות תפעול ביוב'!$A:$H,8,0) -> 1.7078807 | F50: 1.582 | G50: =+E50-F50 -> 0.12588075 | H50: =+E50/F50-1 -> 0.079570638
A51: מי בת ים | B51: בת ים | C51: =+HLOOKUP(B51,'שנת 2011'!$2:$213,205,0)+HLOOKUP(B51,'שנת 2011'!$2:$213,207,0) -> 3.595307 | E51: =+VLOOKUP(A51,'עלות תפעול מים'!$A:$H,8,0)+VLOOKUP(A51,'עלות תפעול ביוב'!$A:$H,8,0) -> 1.8016334 | F51: 1.582 | G51: =+E51-F51 -> 0.21963338 | H51: =+E51/F51-1 -> 0.13883273
A52: יובלים בשומרון בע"מ | B52: מי אריאל (אריאל) | C52: =+HLOOKUP(B52,'שנת 2011'!$2:$213,205,0)+HLOOKUP(B52,'שנת 2011'!$2:$213,207,0) -> 4.568068 | E52: =+VLOOKUP(A52,'עלות תפעול מים'!$A:$H,8,0)+VLOOKUP(A52,'עלות תפעול ביוב'!$A:$H,8,0) -> 1.8735883 | F52: 1.582 | G52: =+E52-F52 -> 0.29158829 | H52: =+E52/F52-1 -> 0.18431624

Sheet שנת 2011
C2: שם תאגיד | G2: מי אריאל (אריאל) | H2: מי עירון | I2: פלג הגליל | J2: מי מודיעין (מודיעין) | K2: מי ציונה | L2: קריית אונו | M2: מי חדרה | N2: מי שבע | O2: קריית אתא | P2: מניב ראשון (ראשון) | Q2: מי לוד | R2: מי שקמה | S2: עין נטפים (אילת) | T2: רמת השרון | U2: הרצליה | V2: מי השרון | W2: מי רקת | X2: רהט | Y2: הגיחון (ירושלים) | Z2: חיפה | AA2: ימים | AB2: עין אפק | AC2: סובב שפרעם | AD2: גבעתיים | AE2: מי אביבים | AF2: מי גליל | AG2: מי יבנה | AH2: אל עין | AI2: כפרי הגליל התחתון | AJ2: בית שמש | AK2: מי דרום | AL2: עין אפק | AM2: התנור | AN2: בת ים | AO2: מי נע (נצרת) | AP2: מיתב פ"ת | AQ2: עכו | AR2: באר מים חיים | AS2: רעננה | AT2: קריית גת | AU2: עין כרמים | AV2: מעיינות זיו | AW2: מי נתניה | AX2: יובלים אשדוד | AY2: הרי נצרת | AZ2: נווה מדבר | BA2: מי הוד השרון | BB2: מעיינות העמקים | BC2: מי אשקלון | BD2: מעיינות המשולש | BE2: פלגי השרון
C3: 21.1.1 | G3: 2011 | H3: 2011 | I3: 2011 | J3: 2011 | K3: 2011 | L3: 2011 | M3: 2011 | N3: 2011 | O3: 2011 | P3: 2011 | Q3: 2011 | R3: 2011 | S3: 2011 | T3: 2011 | U3: 2011 | V3: 2011 | W3: 2011 | X3: 2011 | Y3: 2011 | Z3: 2011 | AA3: 2011 | AB3: 2011 | AC3: 2011 | AD3: 2011 | AE3: 2011 | AF3: 2011 | AG3: 2011 | AH3: 2011 | AI3: 2011 | AJ3: 2011 | AK3: 2011 | AL3: 2011 | AM3: 2011 | AN3: 2011 | AO3: 2011 | AP3: 2011 | AQ3: 2011 | AR3: 2011 | AS3: 2011 | AT3: 2011 | AU3: 2011 | AV3: 2011 | AW3: 2011 | AX3: 2011 | AY3: 2011 | AZ3: 2011 | BA3: 2011 | BB3: 2011 | BC3: 2011 | BD3: 2011 | BE3: 2011
A4: .21.1 | C4: רווח (הפסד) גולמי מאספקת מים
C5: 21.1.1 | D5: הכנסות - | G5: 2010 | H5: 2010 | I5: 2010 | J5: 2010 | K5: 2010 | L5: 2010 | M5: 2010 | N5: 2010 | O5: 2010 | P5: 2010 | Q5: 2010 | R5: 2010 | S5: 2010 | T5: 2010
D6: מאגרות מים
D7: מהיטלי מים
D8: ***
G9: =SUM(G6:G8) -> 0 | H9: =SUM(H6:H8) -> 0 | I9: =SUM(I6:I8) -> 0 | J9: =SUM(J6:J8) -> 0 | K9: =SUM(K6:K8) -> 0 | L9: =SUM(L6:L8) -> 0 | M9: =SUM(M6:M8) -> 0 | N9: =SUM(N6:N8) -> 0 | ... T9: =SUM(T6:T8) -> 0
C10: 21.1.2 | D10: עלויות אספקת מים -
D11: משכורות ונלוות | G11: 447 | H11: 942 | I11: 4434 | J11: 715 | K11: 603 | L11: 488 | M11: 1455 | N11: 1748 | O11: 875 | P11: 2403 | Q11: 299 | R11: 1018 | S11: 596 | T11: 1793 | U11: 1674 | V11: 117 | W11: 303 | X11: 367 | Y11: 26088 | Z11: 11122 | AA11: 768 | AB11: 616 | AC11: 545 | AD11: 1374 | AE11: 15277 | AF11: 1031 | AH11: 568 | AI11: 1098 | AJ11: 371 | AK11: 1530 | AL11: 616 | AM11: 630 | AN11: 1929 | AO11: 726 | AP11: 2123 | AQ11: 626 | AR11: 2597 | AS11: 1419 | AT11: 487 | AU11: 880 | AV11: 1547 | AW11: 931 | AX11: 1297 | AY11: 1498 | AZ11: 1188 | BA11: 1434 | BB11: 432 | BC11: 4323 | BD11: =744226/1000 -> 744.226 | BE11: 155
D12: רכישת המים ממקורות | H12: 17188 | Q12: 20439 | R12: 56938 | AO12: 16272 | BA12: 12854
D13: אחזקת רשת המים | I13: 4682 | J13: 2946 | L13: 569 | P13: 819 | R13: 2580 | U13: 2185 | V13: 2780 | X13: 1342 | Z13: 2178 | AA13: 137 | AD13: 1645 | AO13: 109 | AU13: 352 | AW13: 3557 | AY13: 2814 | BA13: 1945 | BD13: =1793261/1000 -> 1793.261
D14: היטלי הפקה | AW14: 15680
D15: אנרגיה | G15: 61 | H15: 469 | J15: 238 | K15: 144 | M15: 156 | N15: 991 | O15: 91 | P15: 1141 | R15: 264 | T15: 418 | W15: 94 | X15: 175 | Y15: 1578 | Z15: 4906 | AA15: 9 | AB15: 216 | AC15: 1110 | AE15: 1026 | AG15: 273 | AH15: 146 | AI15: 192 | AJ15: 59 | AK15: 203 | AL15: 216 | AM15: 61 | AO15: 440 | AP15: 690 | AQ15: 174 | AU15: 73 | AW15: 1508 | AX15: 875 | BA15: 229 | BB15: 210 | BC15: 68 | BD15: =929329/1000 -> 929.329
D16: קבלני משנה | G16: 1470 | H16: 901 | J16: 57 | M16: 2228 | N16: 6494 | O16: 512 | P16: 939 | Q16: 1729 | R16: 4056 | S16: 4278 | T16: 1757 | W16: 2664 | Y16: 17444 | Z16: 10128 | AB16: 1169 | AC16: 4885 | AE16: 19703 | AF16: 1949 | AG16: 2770 | AH16: 1421 | AI16: 1344 | AJ16: 1730 | AK16: 1679 | AL16: 1169 | AN16: 1685 | AO16: 1770 | AP16: 2602 | AR16: 2364 | AS16: 1204 | AT16: 2783 | AW16: 1163 | AX16: 1078 | AZ16: 281 | BA16: 69
D17: חומרים | H17: 476 | K17: 86 | L17: 117 | O17: 172 | P17: 270 | X17: 6 | Y17: 4629 | Z17: 306 | AA17: 81 | AE17: 879 | AH17: 76 | AI17: 81 | AK17: 438 | AM17: 81 | AN17: 25 | AO17: 533 | AP17: 777 | AR17: 311 | AS17: 412 | AU17: 53 | AX17: 1211 | AY17: 275 | BD17: =240465/1000 -> 240.465
D18: ארנונה | G18: 74 | J18: 73 | L18: 52 | M18: 341 | N18: 1811 | O18: 120 | P18: 1884 | Q18: 127 | S18: 81 | T18: 480 | W18: 284 | X18: 146 | Y18: 3312 | Z18: 1826 | AC18: 219 | AE18: 1452 | AI18: 75 | AJ18: 206 | AK18: 210 | AM18: 112 | AN18: 222 | AO18: 61 | AP18: 1091 | AQ18: 56 | AR18: 711 | AT18: 85 | AU18: 326 | AW18: 309 | AX18: 690 | BA18: 61 | BB18: 196 | BC18: 520
D19: ביטוח | J19: 184 | N19: 227 | O19: 62 | Q19: 65 | S19: 201 | U19: 133 | V19: 182 | W19: 28 | X19: 105 | Y19: 89 | AA19: 25 | AI19: 71 | AK19: 40 | AO19: 112 | AP19: 104 | AQ19: 47 | AR19: 43 | AS19: 49 | AT19: 65 | AU19: 85 | AW19: 197 | AX19: 168 | BA19: 63 | BB19: 67 | BC19: 85
D20: הוצאות אחרות (לפרט) | H20: 108 | J20: =40+118 -> 158 | K20: 509 | L20: 100 | M20: 116 | N20: 428 | O20: 23 | Q20: 110 | R20: 280 | T20: 166 | W20: 51 | Y20: 912 | Z20: 316 | AB20: 20 | AE20: 3257 | AF20: 15 | AH20: 461 | AJ20: 212 | AL20: 20 | AM20: 506 | AN20: 295 | AO20: 107 | AP20: 100 | AQ20: 658 | AR20: =500+311 -> 811 | AS20: 35 | AT20: 1478 | AW20: 999 | AX20: 205 | AY20: 510 | BB20: 628 | BC20: 1242 | BD20: =104444/1000 -> 104.444 | BE20: 276
D21: פחת | G21: 1157 | H21: 1614 | J21: 1629 | K21: 1091 | L21: 302 | M21: 3775 | N21: 8589 | O21: 3121 | P21: 8233 | Q21: 1501 | R21: 8126 | S21: 2688 | T21: 1905 | U21: 5284 | V21: 3966 | W21: 2728 | X21: 1573 | Y21: 34042 | Z21: 17482 | AA21: 739 | AB21: 2274 | AC21: 7353 | AD21: 1692 | AE21: 11817 | AF21: 5778 | AG21: 2225 | AH21: 3118 | AI21: 2469 | AJ21: 2408 | AK21: 2636 | AL21: 2274 | AM21: 1862 | AN21: 2575 | AO21: 3303 | AP21: 11314 | AQ21: 2911 | AR21: 3739 | AS21: 6026 | AT21: 2094 | AU21: 1934 | AW21: 5496 | AX21: 5897 | AY21: 3260 | AZ21: 2232 | BA21: 2546 | BB21: 2752 | BC21: 5476 | BD21: =1082510/1000 -> 1082.51 | BE21: 679
D22: אחזקת רכב | G22: 1 | H22: 113 | J22: 274 | K22: 50 | L22: 83 | M22: 184 | N22: 505 | O22: 137 | P22: 693 | S22: 229 | T22: 286 | U22: 375 | V22: 65 | W22: 60 | X22: 40 | Z22: 952 | AA22: 43 | AB22: 151 | AE22: 793 | AH22: 69 | AI22: 179 | AJ22: 71 | AK22: 173 | AL22: 151 | AM22: 215 | AN22: 157 | AO22: 206 | AP22: 347 | AQ22: 269 | AR22: 528 | AS22: 399 | AT22: 198 | AV22: 344 | AX22: 488 | AY22: 160 | AZ22: 61 | BA22: 234 | BB22: 37 | BC22: 189 | BD22: =73938/1000 -> 73.938 | BE22: 14
D23: נציבות מים בגין הקצבות לחקלאות ותעשייה
D24: הוצאות מוני מים | J24: 913 | L24: 115 | V24: 8 | AK24: 147 | AU24: 125 | AY24: 443
G25: =SUM(G11:G24) -> 3210 | H25: =SUM(H11:H24) -> 21811 | I25: =SUM(I11:I24) -> 9116 | J25: =SUM(J11:J24) -> 7187 | K25: =SUM(K11:K24) -> 2483 | L25: =SUM(L11:L24) -> 1826 | M25: =SUM(M11:M24) -> 8255 | N25: =SUM(N11:N24) -> 20793 | ... BE25: =SUM(BE11:BE24) -> 1124
AZ26: =+AZ25-AZ21 -> 1530
C27: 21.1.3 | D27: עלויות הפקה -
D28: רכישת מים ממקורות | G28: 4818 | I28: 22297 | J28: 17595 | K28: 2258 | L28: 5628 | M28: 15648 | N28: 78350 | O28: 11910 | P28: 31981 | S28: 42955 | T28: 19698 | U28: 23765 | V28: 15971 | X28: 6166 | Y28: 246728 | Z28: 75003 | AA28: 11102 | AB28: 13106 | AC28: 21214 | AD28: 4015 | AE28: 161654 | AF28: 25012 | AG28: 18098 | AH28: 16002 | AI28: 10723 | AJ28: 14180 | AK28: 17010 | AL28: 13106 | AM28: 9332 | AN28: 9563 | AP28: 42111 | AQ28: 6126 | AR28: 16299 | AS28: 5199 | AT28: 11137 | AU28: 15463 | AV28: 5407 | AW28: 32234 | AX28: 41987 | AY28: 26538 | AZ28: 14587 | BB28: 9604 | BC28: 37197 | BD28: =(11316784+29840-150000)/1000 -> 11196.624 | BE28: 4834
D29: משכורות ונלוות | L29: 488 | M29: 50 | P29: 187 | U29: 770 | W29: 897 | AN29: 1177 | AR29: 717 | AS29: 1419
D30: אנרגיה | K30: 452 | L30: 484 | M30: 552 | P30: 2161 | U30: 842 | V30: 579 | W30: 2137 | AD30: 440 | AN30: 1352 | AP30: 1287 | AR30: 850
D31: קבלני משנה | K31: 2337 | P31: 909 | U31: 437 | W31: 4234 | AN31: 1526 | AR31: 394 | AS31: 1204
D32: חומרים | P32: 407 | W32: 310 | AN32: 97 | AR32: 832 | AS32: 412
D33: ארנונה | K33: 80 | L33: 185 | M33: 103 | P33: 487 | U33: 288 | V33: 817 | W33: 851 | AD33: 208 | AN33: 228 | AP33: 124 | AR33: 482
D34: ביטוח | K34: 44 | L34: -75 | W34: 87 | AD34: 128 | AP34: 170 | AS34: 49
D35: טיהור בארות | M35: 1995 | P35: 702 | AD35: 655 | AR35: 102
D36: היטל הפקה | K36: 639 | L36: 2533 | M36: 4522 | P36: 15889 | U36: 5112 | V36: 220 | W36: 2050 | AE36: 9076 | AG36: 927 | AN36: 12086 | AP36: 17877 | AR36: 11471 | AX36: 1883 | BD36: =7228691/1000 -> 7228.691
D37: הוצאות אחרות (לפרט) | P37: 586 | W37: 92 | AI37: 4 | AN37: 53 | AR37: 51 | AS37: 35
D38: אחזקת רכב | M38: 12 | P38: 35 | U38: 132 | W38: 88 | AR38: 65 | AS38: 399
D39: פחת | K39: 1091 | L39: 1398 | M39: 175 | P39: 616 | U39: 397 | V39: 96 | W39: 2723 | AD39: 273 | AF39: 1 | AG39: 248 | AN39: 446 | AP39: 1087 | AR39: 328 | AS39: 6026
G40: =SUM(G28:G39) -> 4818 | H40: =SUM(H28:H39) -> 0 | I40: =SUM(I28:I39) -> 22297 | J40: =SUM(J28:J39) -> 17595 | K40: =SUM(K28:K39) -> 6901 | L40: =SUM(L28:L39) -> 10641 | M40: =SUM(M28:M39) -> 23057 | N40: =SUM(N28:N39) -> 78350 | ... BE40: =SUM(BE28:BE39) -> 4834
D43: רווח (הפסד) גולמי מאספקת מים | G43: =G9-G25-G40 -> -8028 | H43: =H9-H25-H40 -> -21811 | I43: =I9-I25-I40 -> -31413 | J43: =J9-J25-J40 -> -24782 | K43: =K9-K25-K40 -> -9384 | L43: =L9-L25-L40 -> -12467 | M43: =M9-M25-M40 -> -31312 | N43: =N9-N25-N40 -> -99143 | ... U43: =U9-U25-U40 -> -41394
A46: .21.2 | C46: רווח (הפסד) גולמי משירותי ביוב
C48: הרכב: | G48: לשנה שנסתיימה ביום 31 בדצמבר
C49: 21.2.1 | D49: הכנסות - | G49: 2010 | H49: 0 | I49: 0 | J49: 0 | K49: 0 | L49: 0 | M49: 0 | N49: 0 | O49: 0 | P49: 0 | Q49: 0 | R49: 0 | S49: 0 | T49: 0
D50: מאגרות ביוב
D51: מהיטלי ביוב
D52: מט"ש
G53: =SUM(G50:G52) -> 0 | H53: =SUM(H50:H52) -> 0 | I53: =SUM(I50:I52) -> 0 | J53: =SUM(J50:J52) -> 0 | K53: =SUM(K50:K52) -> 0 | L53: =SUM(L50:L52) -> 0 | M53: =SUM(M50:M52) -> 0 | N53: =SUM(N50:N52) -> 0 | ... T53: =SUM(T50:T52) -> 0
C54: 21.2.2 | D54: עלויות איסוף והולכת שפכים -
D55: איגוד ערים
D56: משכורות ונלוות | G56: 656 | J56: 226 | K56: 603 | L56: 49 | M56: 1115 | N56: 1162 | O56: 354 | P56: 3111 | Q56: 321 | R56: 540 | S56: 596 | T56: 566 | U56: 1137 | V56: 266 | W56: 285 | X56: 26 | Y56: 19174 | Z56: 3863 | AA56: 445 | AB56: 439 | AC56: 570 | AD56: 132 | AE56: 8523 | AG56: 189 | AH56: 568 | AJ56: 244 | AK56: 1075 | AL56: 439 | AM56: 297 | AN56: 1208 | AO56: 140 | AP56: 2325 | AQ56: 1224 | AR56: 1022 | AS56: 787 | AT56: 999 | AW56: 502 | AX56: 1227 | AY56: 575 | BA56: 659 | BB56: 432 | BC56: 2639 | BD56: =186057/1000 -> 186.057 | BE56: 1010
D57: אנרגיה | G57: 58 | J57: 256 | M57: 79 | N57: 1169 | O57: 96 | P57: 777 | Q57: 497 | R57: 104 | S57: 844 | T57: 142 | U57: 339 | V57: 194 | W57: 313 | X57: 204 | Y57: 219 | Z57: 486 | AA57: 164 | AB57: 253 | AC57: 1137 | AE57: 819 | AF57: 148 | AG57: 316 | AH57: 146 | AI57: 241 | AJ57: 3 | AK57: 228 | AL57: 253 | AN57: 560 | AQ57: 70 | AS57: 302 | AW57: 897 | AX57: 1007 | AZ57: 200 | BA57: 184 | BB57: 653 | BC57: 625 | BD57: =414068/1000 -> 414.068 | BE57: 235
D58: קבלני משנה | H58: 3625 | J58: 52 | K58: 337 | O58: 550 | P58: 2531 | Q58: 74 | R58: 6255 | S58: 3920 | T58: 1199 | U58: 107 | W58: 790 | Y58: 20931 | Z58: 6096 | AB58: 1835 | AC58: 4252 | AE58: =65780-+(41699*1.08) -> 20745.08 | AF58: 2515 | AH58: 1786 | AI58: 1464 | AJ58: =2342+237 -> 2579 | AK58: 3327 | AL58: 1835 | AM58: 70 | AN58: 2917 | AO58: 408 | AP58: 4224 | AR58: 3153 | AS58: 661 | AT58: 27 | AW58: 2457 | AX58: =13741-5000 -> 8741 | AZ58: 476 | BA58: 166 | BD58: =168000/1000 -> 168
D59: חומרים | O59: 30 | P59: 832 | Y59: 1787 | AE59: 887 | AH59: 2 | AK59: 43 | AN59: 1 | AS59: 64 | BD59: =163704/1000 -> 163.704 | BE59: 1
D60: ארנונה | G60: 104 | J60: 64 | K60: 20 | M60: 81 | N60: 154 | O60: 91 | P60: 476 | Q60: 134 | S60: 241 | T60: 1208 | U60: 303 | V60: 391 | W60: 785 | X60: 240 | Y60: 339 | Z60: 195 | AA60: 25 | AB60: 57 | AE60: 1019 | AI60: 34 | AJ60: 4 | AK60: 1306 | AL60: 57 | AM60: 3 | AN60: 295 | AO60: 74 | AQ60: 106 | AS60: 93 | AW60: 790 | AX60: 381 | BA60: 63 | BB60: 121 | BC60: 404 | BE60: 3225
D61: ביטוח | K61: 140 | N61: 98 | O61: 42 | Q61: 65 | S61: 201 | U61: 229 | V61: 121 | W61: 58 | X61: 106 | Y61: 995 | AA61: 50 | AI61: 68 | AK61: 100 | AO61: 136 | AP61: 140 | AQ61: 109 | AR61: 37 | AS61: 79 | AW61: 196 | AX61: 361 | BA61: 49 | BB61: 67 | BC61: 85 | BE61: 18
D62: אחזקת רכב | G62: 93 | J62: 90 | K62: 50 | L62: 57 | M62: 212 | N62: 214 | O62: 107 | P62: 538 | R62: 152 | S62: 164 | T62: 69 | U62: 158 | V62: 64 | X62: 38 | Z62: 460 | AA62: 44 | AB62: 102 | AE62: 510 | AH62: 69 | AJ62: 62 | AK62: 172 | AL62: 102 | AM62: 108 | AN62: 86 | AO62: 96 | AP62: 193 | AR62: 122 | AS62: 240 | AT62: 256 | AX62: 288 | AY62: 159 | BA62: 85 | BB62: 40 | BC62: 330 | BD62: 18.485 | BE62: 168
D63: פחת | G63: 757 | I63: 10881 | J63: 2421 | K63: 1324 | L63: 415 | M63: 1946 | N63: 8408 | O63: 1184 | P63: 7211 | Q63: 1223 | R63: 1946 | S63: 4418 | T63: 1286 | U63: 3479 | V63: 3329 | W63: 3035 | X63: 2553 | Y63: 34979 | Z63: 10938 | AA63: 436 | AB63: 1892 | AC63: 9662 | AD63: 71 | AE63: 7748 | AF63: 3257 | AG63: 1856 | AH63: 2972 | AI63: 3325 | AJ63: 1429 | AK63: 2751 | AL63: 1892 | AM63: 1164 | AN63: 920 | AO63: 2281 | AP63: 4758 | AQ63: 2696 | AR63: 455 | AS63: 3445 | AT63: 2256 | AU63: 1068 | AV63: 6891 | AW63: 10714 | AX63: 5062 | AY63: 3136 | AZ63: 3322 | BA63: 3525 | BB63: 3595 | BC63: 5249 | BD63: =1370212/1000 -> 1370.212 | BE63: 2923
D64: אחזקת רשת ביוב | G64: 1373 | J64: 1479 | L64: 2196 | N64: 4952 | Q64: 1558 | R64: 1478 | U64: 3161 | V64: 1717 | X64: 642 | AA64: 488 | AD64: 791 | AG64: 2507 | AH64: 70 | AN64: 9938 | AO64: 1345 | AQ64: 477 | AT64: 2863 | AU64: 1809 | AV64: =1725+447 -> 2172 | AW64: 2690 | AY64: 3541 | BA64: 1252 | BD64: =2336564/1000 -> 2336.564
D65: עלות טיהור שפכים | G65: 331 | H65: 4380 | I65: 14334 | J65: 3464 | K65: 3340 | L65: 1134 | M65: 13591 | N65: 22222 | O65: 3940 | P65: 15873 | Q65: 5732 | R65: =167+20374 -> 20541 | S65: 11006 | T65: 5370 | U65: 14148 | V65: =9020-500 -> 8520 | W65: 4567 | X65: 2220 | Y65: 42094 | Z65: 27366 | AA65: 2890 | AB65: 3742 | AC65: 6058 | AD65: 5455 | AE65: =17053+(41699*1.08) -> 62087.92 | AF65: 5940 | AG65: 5626 | AH65: 2017 | AI65: 4426 | AJ65: 7188 | AK65: 6966 | AL65: 3742 | AM65: 1510 | AN65: 3611 | AO65: 4061 | AP65: 25135 | AQ65: 3125 | AR65: =11158 -> 11158 | AS65: =8436+3868 -> 12304 | AT65: 7265 | AU65: =156+5268-1809+320 -> 3935 | AW65: 19243 | AX65: =18080+5000 -> 23080 | AY65: 4024 | AZ65: 2399 | BA65: 3156 | BB65: 570 | BC65: 13180 | BD65: =410777/1000 -> 410.777 | BE65: 8621
D66: אחזקת מט"ש | J66: 155 | L66: 544 | M66: 5926 | N66: 251 | Q66: 1087 | R66: 137 | Z66: 1259 | AM66: 552 | AP66: 191 | AR66: 4326 | AS66: 15 | AV66: 996 | AX66: 596 | BB66: 1526 | BE66: 661
D67: שונות | G67: 18 | H67: 120 | I67: 2951 | J67: 27 | M67: 20 | N67: 282 | O67: 25 | Q67: 105 | R67: 160 | S67: 47 | T67: 12 | W67: 72 | Y67: 1179 | Z67: 131 | AB67: 30 | AE67: 1706 | AJ67: 21 | AK67: 136 | AL67: 30 | AM67: 152 | AN67: 127 | AR67: 2 | AW67: 372 | AX67: 27 | AY67: 200 | BA67: 30 | BC67: 2732 | BD67: =74651/1000 -> 74.651
G110: =SUM(G56:G67) -> 3390 | H110: =SUM(H56:H67) -> 8125 | I110: =SUM(I56:I67) -> 28166 | J110: =SUM(J56:J67) -> 8234 | K110: =SUM(K56:K67) -> 5814 | L110: =SUM(L56:L67) -> 4395 | M110: =SUM(M56:M67) -> 22970 | N110: =SUM(N56:N67) -> 38912 | ... Q110: =SUM(Q56:Q67) -> 10796 | R110: =SUM(R55:R67) -> 31313 | S110: =SUM(S56:S67) -> 21437 | T110: =SUM(T56:T67) -> 9852 | U110: =SUM(U56:U67) -> 23061 | V110: =SUM(V56:V67) -> 14602 | W110: =SUM(W56:W67) -> 9905 | X110: =SUM(X56:X67) -> 6029 | Y110: =SUM(Y56:Y67) -> 121697 | Z110: =SUM(Z56:Z67) -> 50794 | ... BE110: =SUM(BE56:BE67) -> 16862
A111: * | C111: 21.2.3 | D111: עלויות טיהור שפכים
D112: משכורות ונלוות
D113: קבלני משנה
D114: אנרגיה
D115: חומרים
D116: פינוי ביצה
D117: ביטוח
D118: הוצאות אחרות (אחזקה)
D119: אחזקת רכב
D120: פחת
D121: ******
D122: ******
G123: =SUM(G112:G122) -> 0 | H123: =SUM(H112:H122) -> 0 | I123: =SUM(I112:I122) -> 0 | J123: =SUM(J112:J122) -> 0 | K123: =SUM(K112:K122) -> 0 | L123: =SUM(L112:L122) -> 0 | M123: =SUM(M112:M122) -> 0 | N123: =SUM(N112:N122) -> 0 | ... T123: =SUM(T112:T122) -> 0
D125: בניכוי:
D126: הכנסות ממכירת שפכים מטוהרים
D128: רווח (הפסד) גולמי משירותי ביוב | G128: =G53-G110-G123+G126 -> -3390 | H128: =H53-H110-H123+H126 -> -8125 | I128: =I53-I110-I123+I126 -> -28166 | J128: =J53-J110-J123+J126 -> -8234 | K128: =K53-K110-K123+K126 -> -5814 | L128: =L53-L110-L123+L126 -> -4395 | M128: =M53-M110-M123+M126 -> -22970 | N128: =N53-N110-N123+N126 -> -38912 | ... T128: =T53-T110-T123+T126 -> -9852
C130: * | D130: הוספת מלל לתיאור ההתחשבנות בנוגע לטיהור שפכים
A134: .21.3 | C134: רווח (הפסד) גולמי מתחזוקה שוטפת של מערכות תיעול וניקוז עירוניות
G136: לשנה שנסתיימה ביום 31 בדצמבר
G137: 2010 | H137: 2010 | I137: 2010 | J137: 2010 | K137: 2010 | L137: 2010 | M137: 2010 | N137: 2010 | O137: 2010 | P137: 2010 | Q137: 2010 | R137: 2010 | S137: 2010 | T137: 2010
E138: הכנסות
E139: הוצאות
E140: סה"כ | G140: =G138-G139 -> 0 | H140: =H138-H139 -> 0 | I140: =I138-I139 -> 0 | J140: =J138-J139 -> 0 | K140: =K138-K139 -> 0 | L140: =L138-L139 -> 0 | M140: =M138-M139 -> 0 | N140: =N138-N139 -> 0 | ... T140: =T138-T139 -> 0
A143: .21.4 | C143: רווח (הפסד) גולמי אחרות | G143: לשנה שנסתיימה ביום 31 בדצמבר
D144: 21.4.1 | E144: הכנסות- | G144: 2010 | H144: 2010 | I144: 2010 | J144: 2010 | K144: 2010 | L144: 2010 | M144: 2010 | N144: 2010 | O144: 2010 | P144: 2010 | Q144: 2010 | R144: 2010 | S144: 2010 | T144: 2010
E145: ממזמיני עבודה
E146: מעמלות מגביית היטל בצורת
E147: אחרות
E148: ******
E149: סה"כ | G149: =SUM(G145:G148) -> 0 | H149: =SUM(H145:H148) -> 0 | I149: =SUM(I145:I148) -> 0 | J149: =SUM(J145:J148) -> 0 | K149: =SUM(K145:K148) -> 0 | L149: =SUM(L145:L148) -> 0 | M149: =SUM(M145:M148) -> 0 | N149: =SUM(N145:N148) -> 0 | ... T149: =SUM(T145:T148) -> 0
A152: ביאור 22 - עלויות גבייה וחובות מסופקים | AZ152: =+AZ110-AZ65-AZ63 -> 676
D153: הוצאות גבייה | P153: 1955 | AP153: 5448 | AR153: 3412 | AS153: 2498 | BB153: 1248 | BC153: 3323 | BD153: =964824/1000 -> 964.824 | BE153: 922
D154: הפרשה לחובות מסופקים ואבודים | G154: 412 | H154: 6168 | I154: 2316 | J154: 315 | L154: 614 | N154: 10617 | O154: 840 | P154: 1195 | Q154: 3558 | R154: 146 | S154: 1042 | T154: 1439 | U154: 2520 | V154: 1839 | W154: 3350 | X154: 3990 | Y154: 12760 | Z154: 5631 | AA154: 1680 | AB154: 592 | AC154: 3181 | AD154: 210 | AE154: 13760 | AF154: 1848 | AG154: 3610 | AH154: 3312 | AI154: 3103 | AJ154: 2039 | AK154: 2761 | AL154: 592 | AM154: 9 | AN154: 1972 | AO154: -142 | AP154: 3733 | AR154: 8749 | AS154: -500 | AT154: 300 | AU154: -336 | AV154: 7 | AW154: 2362 | AX154: 5507 | AY154: 5451 | AZ154: 7133 | BA154: 1067 | BB154: 250 | BC154: 4623 | BD154: =3608907/1000 -> 3608.907 | BE154: 589
D155: הוצ' שכר | G155: 55 | H155: 80 | J155: 841 | K155: 273 | L155: 352 | N155: 3395 | Q155: 380 | T155: 899 | Y155: 6851 | Z155: 219 | AE155: 412 | AF155: 198 | AH155: 449 | AI155: 592 | AK155: 191 | AN155: 165 | AP155: 1596 | AS155: 705 | AT155: 748 | AV155: 316 | AX155: 585 | AY155: 751 | BB155: 122
D156: הוצאות גבייה | G156: 334 | H156: 1633 | I156: 7027 | K156: 93 | L156: 498 | M156: 2759 | O156: 1486 | P156: 381 | Q156: 2125 | R156: 5347 | S156: 2452 | U156: 4923 | V156: 198 | W156: 1576 | X156: 460 | Y156: 7013 | Z156: 6950 | AA156: 696 | AB156: 637 | AC156: 3597 | AD156: 605 | AE156: 23493 | AF156: 668 | AG156: 1061 | AH156: 894 | AI156: 1628 | AJ156: 2726 | AK156: 1550 | AL156: 637 | AM156: 781 | AN156: 6346 | AO156: 3356 | AQ156: 940 | AT156: 2402 | AU156: 1355 | AV156: 1493 | AW156: 4278 | AX156: 4745 | AY156: 1407 | AZ156: 685 | BA156: 1176
D157: עמלות כרטיסי אשראי | G157: 56 | J157: 246 | K157: 104 | M157: 212 | N157: 634 | O157: 156 | P157: 675 | Q157: 140 | R157: 369 | T157: 231 | U157: 264 | V157: 223 | W157: 75 | X157: 19 | Y157: 1732 | Z157: 259 | AA157: 39 | AB157: 107 | AC157: 126 | AD157: 196 | AE157: 1409 | AF157: 223 | AH157: 168 | AI157: 26 | AJ157: 198 | AL157: 107 | AM157: 66 | AN157: 201 | AO157: 91 | AP157: 587 | AQ157: 46 | AR157: 364 | AS157: 175 | AT157: 124 | AU157: 87 | AX157: 382 | AY157: 100 | BA157: 248 | BB157: 137
D158: עמלות בנק הדואר | G158: 28 | J158: 55 | K158: 55 | M158: 225 | N158: 844 | O158: 168 | P158: 610 | Q158: 337 | R158: 599 | T158: 75 | U158: 84 | V158: 138 | W158: 77 | X158: 109 | Y158: 1960 | Z158: 915 | AA158: 126 | AB158: 54 | AD158: 98 | AH158: 198 | AI158: 165 | AJ158: 142 | AL158: 54 | AN158: 702 | AP158: 516 | AQ158: 203 | AR158: 295 | AS158: 90 | AT158: 171 | AU158: 153 | AX158: 783 | AY158: 251 | BA158: 85 | BB158: 61
D159: הפקת חשבונות | G159: 15 | J159: 204 | K159: 114 | L159: 425 | N159: 184 | P159: 393 | R159: 249 | T159: 78 | U159: 137 | V159: 78 | X159: 20 | Y159: 997 | AA159: 61 | AE159: 413 | AF159: 401 | AH159: 394 | AI159: 221 | AJ159: 49 | AK159: 75 | AM159: 21 | AP159: 314 | AQ159: 12 | AR159: 41 | AS159: =74+434 -> 508 | AU159: 232 | AX159: 401 | AZ159: 20 | BA159: 51 | BB159: 122
...

Sheet נתוני מים 2011
B1: מספר | D1: מספר | E1: אוכלוסיה | F1: תקבולים | G1: תקבולים | H1: סה"כ | I1: צריכה | J1: צריכה | K1: צריכה | L1: צריכה | M1: סה"כ | N1: סה"כ | O1: סה"כ | P1: צר' סגולית | Q1: צר' סגולית
B2: סידורי | C2: שם התאגיד | D2: צרכן | E2: 2010 | F2: הפקה | G2: קניה | H2: תקבולים | I2: במגורים | J2: עירונית | K2: תעשייתית | L2: חקלאית | M2: צריכה | N2: פחת | O2: פחת | P2: מגורים | Q2: עירונית
E3: נפש | F3: מ"ק | G3: מ"ק | H3: מ"ק | I3: מ"ק | J3: מ"ק | K3: מ"ק | L3: מ"ק | M3: מ"ק | N3: מ"ק | O3: % | P3: מ"ק/נ/שנה | Q3: מ"ק/נ/שנה
B4: 1 | E4: 12619 | F4: 0 | G4: 844413 | H4: 844413 | I4: 585730 | J4: 657280 | K4: 6685 | L4: 707 | M4: 664672 | N4: 179741 | O4: 21.285911 | P4: 46.416515 | Q4: 52.086536
E5: 5761 | F5: 0 | G5: 456900 | H5: 456900 | I5: 251438 | J5: 297072 | K5: 1327 | L5: 678 | M5: 299077 | N5: 157823 | O5: 34.542132 | P5: 43.644853 | Q5: 51.566048
E6: 8795 | F6: 0 | G6: 679942 | H6: 679942 | I6: 476860 | J6: 582205 | K6: 0 | L6: 28416 | M6: 610621 | N6: 69321 | O6: 10.195134 | P6: 54.219443 | Q6: 66.197271
E7: 15032 | F7: 0 | G7: 1352569 | H7: 1352569 | I7: 618591 | J7: 812027 | K7: 22266 | L7: 17242 | M7: 851535 | N7: 501034 | O7: 37.043138 | P7: 41.15161 | Q7: 54.019891
E8: 18574 | F8: 0 | G8: 1436138 | H8: 1436138 | I8: 935763 | J8: 1051274 | K8: 0 | L8: 7949 | M8: 1059223 | N8: 376915 | O8: 26.245041 | P8: 50.380263 | Q8: 56.599225
E9: 3448 | F9: 0 | G9: 250660 | H9: 250660 | I9: 164810 | J9: 179826 | K9: 0 | L9: 23457 | M9: 203283 | N9: 47377 | O9: 479.06474 | P9: 47.798724 | Q9: 52.153712
E10: 5754 | F10: 0 | G10: 285452 | H10: 285452 | I10: 235521 | J10: 255627 | K10: 0 | L10: 3531 | M10: 259158 | N10: 26294 | O10: 9.211356 | P10: 40.9317 | Q10: 44.425965
A11: 2011 | C11: אל עין | D11: 639 | E11: 69983 | F11: 0 | G11: 5306074 | H11: 5306074 | I11: 3268713 | J11: 3835311 | K11: 30278 | L11: 81980 | M11: 3947569 | N11: 1358505 | O11: 25.602828 | P11: 46.707243 | Q11: 54.803467
E12: 788052 | F12: 0 | G12: 57465303 | H12: 57465303 | I12: 29584429 | J12: 46430151 | K12: 2729779 | L12: 342936 | M12: 49502866 | N12: 7962437 | O12: 13.856078 | P12: 37.541214 | Q12: 58.917623
E13: 6094 | F13: 0 | G13: 379883 | H13: 379883 | I13: 229386 | J13: 255647 | K13: 0 | L13: 800 | M13: 256447 | N13: 123436 | O13: 32.493162 | P13: 37.641287 | Q13: 41.950607
E14: 24014 | F14: 0 | G14: 1861170 | H14: 1861170 | I14: 1386218 | J14: 1543371 | K14: 0 | L14: 0 | M14: 1543371 | N14: 317799 | O14: 17.075227 | P14: 57.72541 | Q14: 64.269634
A15: 2011 | B15: 2 | C15: הגיחון (ירושלים) | D15: 8625 | E15: 818160 | F15: 0 | G15: 59706356 | H15: 59706356 | I15: 31200033 | J15: 48229169 | K15: 2729779 | L15: 343736 | M15: 51302684 | N15: 8403672 | O15: 14.075004 | P15: 38.134391 | Q15: 58.948334
E16: 12429 | F16: 0 | G16: 847034 | H16: 847034 | I16: 535862 | J16: 639702 | K16: 0 | L16: 12210 | M16: 651912 | N16: 195122 | O16: 23.035911 | P16: 43.113847 | Q16: 51.468501
E17: 17452 | F17: 0 | G17: 1332252 | H17: 1332252 | I17: 736861 | J17: 990898 | K17: 0 | L17: 0 | M17: 990898 | N17: 341354 | O17: 25.62233 | P17: 42.222152 | Q17: 56.778478
E18: 7039 | F18: 0 | G18: 465452 | H18: 465452 | I18: 275412 | J18: 342965 | K18: 0 | L18: 0 | M18: 342965 | N18: 122487 | O18: 26.31571 | P18: 39.12658 | Q18: 48.72354
E19: 16776 | F19: 0 | G19: 1037518 | H19: 1037518 | I19: 732550 | J19: 771692 | K19: 0 | L19: 0 | M19: 771692 | N19: 265826 | O19: 25.621339 | P19: 43.666547 | Q19: 45.999762
E20: 72997 | F20: 0 | G20: 5241576 | H20: 5241576 | I20: 3394665 | J20: 3909214 | K20: 206700 | L20: 0 | M20: 4115914 | N20: 1125662 | O20: 21.47564 | P20: 46.504171 | Q20: 53.553078
A21: 2011 | B21: 3 | C21: הרי נצרת | D21: 765 | E21: 126693 | F21: 0 | G21: 8923832 | H21: 8923832 | I21: 5675350 | J21: 6654471 | K21: 206700 | L21: 12210 | M21: 6873381 | N21: 2050451 | O21: 22.977248 | P21: 44.796082 | Q21: 52.524378
E22: 1590 | F22: 0 | G22: 197889 | H22: 197889 | I22: 110781 | J22: 175472 | K22: 11822 | L22: 0 | M22: 187294 | N22: 10595 | O22: 5.3540116 | P22: 69.673585 | Q22: 110.35975
E23: 23326 | F23: 0 | G23: 1798367 | H23: 1798367 | I23: 1177364 | J23: 1605059 | K23: 12024 | L23: 8888 | M23: 1625971 | N23: 172396 | O23: 9.5862524 | P23: 50.474321 | Q23: 68.809869
E24: 6712 | F24: 0 | G24: 753970 | H24: 753970 | I24: 347517 | J24: 536226 | K24: 98323 | L24: 494 | M24: 635043 | N24: 118927 | O24: 15.773439 | P24: 51.775477 | Q24: 79.890644
A25: 2011 | B25: 4 | C25: התנור | D25: 718 | E25: 31628 | F25: 0 | G25: 2750226 | H25: 2750226 | I25: 1635662 | J25: 2316757 | K25: 122169 | L25: 9382 | M25: 2448308 | N25: 301918 | O25: 10.977934 | P25: 51.715632 | Q25: 73.25019
E26: 210558 | F26: 826960 | G26: 15894805 | H26: 16721765 | I26: 9872889 | J26: 13420488 | K26: 2040300 | L26: 0 | M26: 15460788 | N26: 1260977 | O26: 7.5409324 | P26: 46.889166 | Q26: 63.737725
A27: 2011 | B27: 5 | C27: יובלים אשדוד | D27: 6562 | E27: 210558 | F27: 826960 | G27: 15894805 | H27: 16721765 | I27: 9872889 | J27: 13420488 | K27: 2040300 | L27: 0 | M27: 15460788 | N27: 1260977 | O27: 7.5409324 | P27: 46.889166 | Q27: 63.737725
E28: 17668 | F28: 0 | G28: 1228303 | H28: 1228303 | I28: 751892 | J28: 1129249 | K28: 20312 | L28: 0 | M28: 1149561 | N28: 78742 | O28: 6.4106332 | P28: 42.556713 | Q28: 63.914931
E29: 6284 | F29: 0 | G29: 520809 | H29: 520809 | I29: 285034 | J29: 427254 | K29: 38390 | L29: 0 | M29: 465644 | N29: 55165 | O29: 10.592175 | P29: 45.358689 | Q29: 67.99077
A30: 2001 | B30: 6 | C30: מי אריאל (אריאל) | D30: 9503 | E30: 23952 | F30: 0 | G30: 1749112 | H30: 1749112 | I30: 1036926 | J30: 1556503 | K30: 58702 | L30: 0 | M30: 1615205 | N30: 133907 | O30: 7.6557133 | P30: 43.291834 | Q30: 64.98426
E31: 37835 | F31: 0 | G31: 2561785 | H31: 2561785 | I31: 1733935 | J31: 2095864 | K31: 12583 | L31: 0 | M31: 2108447 | N31: 453338 | O31: 17.696177 | P31: 45.828862 | Q31: 55.394846
A32: 2011 | B32: 7 | C32: ימים | D32: 3143 | E32: 37835 | F32: 0 | G32: 2561785 | H32: 2561785 | I32: 1733935 | J32: 2095864 | K32: 12583 | L32: 0 | M32: 2108447 | N32: 453338 | O32: 17.696177 | P32: 45.828862 | Q32: 55.394846
E33: 9133 | F33: 0 | G33: 673628 | H33: 673628 | I33: 443162 | J33: 525805 | K33: 0 | L33: 4310 | M33: 530115 | N33: 143513 | O33: 21.304489 | P33: 48.523158 | Q33: 57.571992
E34: 12149 | F34: 0 | G34: 962460 | H34: 962460 | I34: 506164 | J34: 638891 | K34: 0 | L34: 20042 | M34: 658933 | N34: 303527 | O34: 31.536583 | P34: 41.663018 | Q34: 52.58795
E35: 5105 | F35: 0 | G35: 352850 | H35: 352850 | I35: 214461 | J35: 272283 | K35: 0 | L35: 5394 | M35: 277677 | N35: 75173 | O35: 21.30452 | P35: 42.00999 | Q35: 53.336533
E36: 8163 | F36: 0 | G36: 366110 | H36: 366110 | I36: 212768 | J36: 281143 | K36: 25960 | L36: 1400 | M36: 308503 | N36: 57607 | O36: 15.734888 | P36: 26.064927 | Q36: 34.441137
E37: 19179 | F37: 0 | G37: 1473080 | H37: 1473080 | I37: 712880 | J37: 968946 | K37: 10781 | L37: 21631 | M37: 1001358 | N37: 471722 | O37: 32.022837 | P37: 37.169821 | Q37: 50.521195
E38: 7196 | F38: 0 | G38: 456560 | H38: 456560 | I38: 271983 | J38: 301939 | K38: 0 | L38: 6833 | M38: 308772 | N38: 147788 | O38: 32.369897 | P38: 37.796415 | Q38: 41.959283
A39: חסר | B39: 8 | C39: כפרי הגליל התחתון | D39: 504 | E39: 60925 | F39: 0 | G39: 4284688 | H39: 4284688 | I39: 2361418 | J39: 2989007 | K39: 36741 | L39: 59610 | M39: 3085358 | N39: 1199330 | O39: 27.99107 | P39: 38.759426 | Q39: 49.060435
E40: 40858 | F40: 0 | G40: 3422613 | H40: 3422613 | I40: 1900514 | J40: 2594710 | K40: 597023 | L40: 0 | M40: 3191733 | N40: 230880 | O40: 6.7457232 | P40: 46.515101 | Q40: 63.505556
E41: 24051 | F41: 0 | G41: 2748574 | H41: 2748574 | I41: 1121094 | J41: 1627598 | K41: 1008229 | L41: 0 | M41: 2635827 | N41: 112747 | O41: 4.102018 | P41: 46.613197 | Q41: 67.672779
A42: 2011 | B42: 9 | C42: מי נע (נצרת) | D42: 953 | E42: 64909 | F42: 0 | G42: 6171187 | H42: 6171187 | I42: 3021608 | J42: 4222308 | K42: 1605252 | L42: 0 | M42: 5827560 | N42: 343627 | O42: 5.5682481 | P42: 46.551449 | Q42: 65.049654
E43: 404336 | F43: 4468439 | G43: 39894737 | H43: 44363176 | I43: 24971737 | J43: 37213610 | K43: 1639622 | L43: 17079 | M43: 38870311 | N43: 5492865 | O43: 12.381586 | P43: 61.759866 | Q43: 92.036351
A44: 2011 | B44: 10 | C44: מי אביבים | D44: 8209 | E44: 404336 | F44: 4468439 | G44: 39894737 | H44: 44363176 | I44: 24971737 | J44: 37213610 | K44: 1639622 | L44: 17079 | M44: 38870311 | N44: 5492865 | O44: 12.381586 | P44: 61.759866 | Q44: 92.036351
E45: 32183 | F45: 1385331 | G45: 992789 | H45: 2378120 | I45: 1876803 | J45: 2219824 | K45: 0 | L45: 0 | M45: 2219824 | N45: 158296 | O45: 6.6563504 | P45: 58.316596 | Q45: 68.975049
A46: 2011 | B46: 11 | C46: קריית אונו | D46: 7926 | E46: 32183 | F46: 1385331 | G46: 992789 | H46: 2378120 | I46: 1876803 | J46: 2219824 | K46: 0 | L46: 0 | M46: 2219824 | N46: 158296 | O46: 6.6563504 | P46: 58.316596 | Q46: 68.975049
E47: 40858 | F47: 0 | G47: 10198160 | H47: 10198160 | I47: 6280356 | J47: 8341082 | K47: 1047814 | L47: 79321 | M47: 9468217 | N47: 729943 | O47: 7.1575951 | P47: 153.71178 | Q47: 204.14807
E48: 24051 | F48: 0 | G48: 2121400 | H48: 2121400 | I48: 1228651 | J48: 1633991 | K48: 51994 | L48: 0 | M48: 1685985 | N48: 435415 | O48: 20.524889 | P48: 51.085236 | Q48: 67.938589
A49: 2011 | B49: 12 | C49: מי אשקלון | D49: 6590 | E49: 64909 | F49: 0 | G49: 12319560 | H49: 12319560 | I49: 7509007 | J49: 9975073 | K49: 1099808 | L49: 79321 | M49: 11154202 | N49: 1165358 | O49: 9.4594125 | P49: 115.68514 | Q49: 153.67781
E50: 158888 | F50: 3050781 | G50: 7147497 | H50: 10198278 | I50: 6730145 | J50: 8988794 | K50: 747169 | L50: 0 | M50: 9735963 | N50: 462315 | O50: 4.5332653 | P50: 42.357793 | Q50: 56.573146
A51: 2011 | B51: 13 | C51: באר מים חיים | D51: 7695 | E51: 158888 | F51: 3050781 | G51: 7147497 | H51: 10198278 | I51: 6730145 | J51: 8988794 | K51: 747169 | L51: 0 | M51: 9735963 | N51: 462315 | O51: 4.5332653 | P51: 42.357793 | Q51: 56.573146
E52: 130377 | F52: 7199299 | G52: 1641909 | H52: 8841208 | I52: 6194392 | J52: 7624821 | K52: 240986 | L52: 0 | M52: 7865807 | N52: 975401 | O52: 11.03244 | P52: 47.511386 | Q52: 58.482869
A53: 2011 | B53: 14 | C53: בת ים | D53: 7739 | E53: 130377 | F53: 7199299 | G53: 1641909 | H53: 8841208 | I53: 6194392 | J53: 7624821 | K53: 240986 | L53: 0 | M53: 7865807 | N53: 975401 | O53: 11.03244 | P53: 47.511386 | Q53: 58.482869
E54: 54035 | F54: 1955300 | G54: 1673272 | H54: 3628572 | I54: 2890474 | J54: 3398864 | K54: 0 | L54: 0 | M54: 3398864 | N54: 229708 | O54: 6.3305344 | P54: 53.492625 | Q54: 62.901157
A55: 2011 | B55: 15 | C55: גבעתיים | D55: 7776 | E55: 54035 | F55: 1955300 | G55: 1673272 | H55: 3628572 | I55: 2890474 | J55: 3398864 | K55: 0 | L55: 0 | M55: 3398864 | N55: 229708 | O55: 6.3305344 | P55: 53.492625 | Q55: 62.901157
E56: 26289 | F56: 0 | G56: 2094569 | H56: 2094569 | I56: 1096413 | J56: 1362181 | K56: 9230 | L56: 13167 | M56: 1384578 | N56: 709991 | O56: 33.896759 | P56: 41.706151 | Q56: 51.815626
E57: 10943 | F57: 0 | G57: 609166 | H57: 609166 | I57: 398473 | J57: 443194 | K57: 0 | L57: 3775 | M57: 446969 | N57: 162197 | O57: 26.626076 | P57: 36.413506 | Q57: 40.500228
E58: 9048 | F58: 0 | G58: 650565 | H58: 650565 | I58: 407256 | J58: 458625 | K58: 0 | L58: 8082 | M58: 466707 | N58: 183858 | O58: 28.261281 | P58: 45.01061 | Q58: 50.687997
E59: 7063 | F59: 0 | G59: 717984 | H59: 717984 | I59: 379343 | J59: 420864 | K59: 0 | L59: 52396 | M59: 473260 | N59: 244724 | O59: 34.084882 | P59: 53.708481 | Q59: 59.587144
E60: 21660 | F60: 0 | G60: 1809982 | H60: 1809982 | I60: 1055672 | J60: 1231997 | K60: 30027 | L60: 15820 | M60: 1277844 | N60: 532138 | O60: 29.400182 | P60: 48.738319 | Q60: 56.878901
E61: 13776 | F61: 0 | G61: 906528 | H61: 906528 | I61: 592557 | J61: 669988 | K61: 0 | L61: 0 | M61: 669988 | N61: 236540 | O61: 26.092961 | P61: 43.01372 | Q61: 48.634437
E62: 10610 | F62: 0 | G62: 749984 | H62: 749984 | I62: 464815 | J62: 508859 | K62: 0 | L62: 706 | M62: 509565 | N62: 240419 | O62: 32.056551 | P62: 43.809142 | Q62: 47.96032
A63: 2011 | B63: 16 | C63: מי גליל | D63: 1245 | E63: 99389 | F63: 0 | G63: 7538778 | H63: 7538778 | I63: 4394529 | J63: 5095708 | K63: 39257 | L63: 93946 | M63: 5228911 | N63: 2309867 | O63: 30.639807 | P63: 44.215446 | Q63: 51.270342
E64: 48488 | F64: 30040 | G64: 4232809 | H64: 4262849 | I64: 2877619 | J64: 3682998 | K64: 90376 | L64: 261490 | M64: 4034864 | N64: 227985 | O64: 5.3481838 | P64: 59.347034 | Q64: 75.956897
A65: 2011 | B65: 17 | C65: מי הוד השרון | D65: 4014 | E65: 48488 | F65: 30040 | G65: 4232809 | H65: 4262849 | I65: 2877619 | J65: 3682998 | K65: 90376 | L65: 261490 | M65: 4034864 | N65: 227985 | O65: 5.3481838 | P65: 59.347034 | Q65: 75.956897
E66: 88100 | F66: 3104810 | G66: 6954575 | H66: 10059385 | I66: 6557659 | J66: 8961415 | K66: 252349 | L66: 54918 | M66: 9268682 | N66: 790703 | O66: 7.8603513 | P66: 74.434268 | Q66: 101.71867
A67: 2011 | B67: 18 | C67: הרצליה | D67: 7803 | E67: 88100 | F67: 3104810 | G67: 6954575 | H67: 10059385 | I67: 6557659 | J67: 8961415 | K67: 252349 | L67: 54918 | M67: 9268682 | N67: 790703 | O67: 7.8603513 | P67: 74.434268 | Q67: 101.71867
E68: 81491 | F68: 2126408 | G68: 4874141 | H68: 7000549 | I68: 4101508 | J68: 5901164 | K68: 247010 | L68: 20346 | M68: 6168520 | N68: 832029 | O68: 11.885196 | P68: 50.33081 | Q68: 72.414917
A69: 2011 | B69: 19 | C69: מי חדרה | D69: 2177 | E69: 81491 | F69: 2126408 | G69: 4874141 | H69: 7000549 | I69: 4101508 | J69: 5901164 | K69: 247010 | L69: 20346 | M69: 6168520 | N69: 832029 | O69: 11.885196 | P69: 50.33081 | Q69: 72.414917
E70: 33212 | F70: 0 | G70: 4201308 | H70: 4201308 | I70: 1841354 | J70: 2886403 | K70: 220949 | L70: 0 | M70: 3107352 | N70: 1093956 | O70: 26.038462 | P70: 55.44243 | Q70: 86.908437
A72: חסר | B72: 20 | C72: מי יבנה | D72: 4567 | E72: 33212 | F72: 0 | G72: 4201308 | H72: 4201308 | I72: 1841354 | J72: 2886403 | K72: 220949 | L72: 0 | M72: 3107352 | N72: 1093956 | O72: 26.038462 | P72: 55.44243 | Q72: 86.908437
E73: 268215 | F73: 0 | G73: 23478077 | H73: 23478077 | I73: 10871842 | J73: 18803366 | K73: 1624389 | L73: 0 | M73: 20427755 | N73: 3050322 | O73: 12.992214 | P73: 40.534057 | Q73: 70.105572
A74: 2011 | B74: 21 | C74: חיפה | D74: 2473 | E74: 268215 | F74: 0 | G74: 23478077 | H74: 23478077 | I74: 10871842 | J74: 18803366 | K74: 1624389 | L74: 0 | M74: 20427755 | N74: 3050322 | O74: 12.992214 | P74: 40.534057 | Q74: 70.105572
E75: 70418 | F75: 0 | G75: 5367855 | H75: 5367855 | I75: 3111345 | J75: 3806674 | K75: 244953 | L75: 0 | M75: 4051627 | N75: 1316228 | O75: 24.520558 | P75: 44.183944 | Q75: 54.058252
A76: 2011 | B76: 22 | C76: מי לוד | D76: 4762 | E76: 70418 | F76: 0 | G76: 5367855 | H76: 5367855 | I76: 3111345 | J76: 3806674 | K76: 244953 | L76: 0 | M76: 4051627 | N76: 1316228 | O76: 24.520558 | P76: 44.183944 | Q76: 54.058252
E77: 76466 | F77: 0 | G77: 5628976 | H77: 5628976 | I77: 3913695 | J77: 5070453 | K77: 0 | L77: 0 | M77: 5070453 | N77: 558523 | O77: 9.9222843 | P77: 51.182159 | Q77: 66.309902
A78: 2011 | B78: 23 | C78: מי מודיעין (מודיעין) | D78: 4919 | E78: 76466 | F78: 0 | G78: 5628976 | H78: 5628976 | I78: 3913695 | J78: 5070453 | K78: 0 | L78: 0 | M78: 5070453 | N78: 558523 | O78: 9.9222843 | P78: 51.182159 | Q78: 66.309902
E79: 186782 | F79: 7291940 | G79: 7806516 | H79: 15098456 | I79: 9774438 | J79: 12732428 | K79: 1045758 | L79: 18196 | M79: 13796382 | N79: 1302074 | O79: 8.6238884 | P79: 52.330728 | Q79: 68.167318
A80: 2011 | B80: 24 | C80: מי נתניה | D80: 5316 | E80: 186782 | F80: 7291940 | G80: 7806516 | H80: 15098456 | I80: 9774438 | J80: 12732428 | K80: 1045758 | L80: 18196 | M80: 13796382 | N80: 1302074 | O80: 8.6238884 | P80: 52.330728 | Q80: 68.167318
E81: 47351 | F81: 0 | G81: 3123870 | H81: 3123870 | I81: 2108301 | J81: 2549991 | K81: 38329 | L81: 12659 | M81: 2600979 | N81: 522891 | O81: 16.738565 | P81: 44.524952 | Q81: 53.852949
E82: 15721 | F82: 0 | G82: 1293914 | H82: 1293914 | I82: 904438 | J82: 1003491 | K82: 23329 | L82: 64204 | M82: 1091024 | N82: 202890 | O82: 15.680331 | P82: 57.530564 | Q82: 63.831245
E83: 22552 | F83: 0 | G83: 492869 | H83: 492869 | I83: 335274 | J83: 406131 | K83: 0 | L83: 3976 | M83: 410107 | N83: 82762 | O83: 16.791886 | P83: 14.866708 | Q83: 18.008647
E84: 1000 | F84: 0 | G84: 22009 | H84: 22009 | I84: 18487 | J84: 18487 | K84: 0 | L84: 0 | M84: 18487 | N84: 3522 | O84: 16.002544 | P84: 18.487 | Q84: 18.487
E85: 1800 | F85: 0 | G85: 157813 | H85: 157813 | I85: 119896 | J85: 119896 | K85: 0 | L85: 0 | M85: 119896 | N85: 37917 | O85: 24.026538 | P85: 66.608889 | Q85: 66.608889
A86: 2011 | B86: 25 | C86: מי עירון | D86: 2586 | E86: 88424 | F86: 0 | G86: 5090475 | H86: 5090475 | I86: 3486396 | J86: 4097996 | K86: 61658 | L86: 80839 | M86: 4240493 | N86: 849982 | O86: 16.697499 | P86: 39.428164 | Q86: 46.344839
E87: 46617 | F87: 0 | G87: 3606145 | H87: 3606145 | I87: 2415960 | J87: 3149500 | K87: 180635 | L87: 27405 | M87: 3357540 | N87: 248605 | O87: 6.8939269 | P87: 51.825729 | Q87: 67.56119
A88: 2011 | B88: 26 | C88: עכו | D88: 1224 | E88: 46617 | F88: 0 | G88: 3606145 | H88: 3606145 | I88: 2415960 | J88: 3149500 | K88: 180635 | L88: 27405 | M88: 3357540 | N88: 248605 | O88: 6.8939269 | P88: 51.825729 | Q88: 67.56119
E89: 39144 | F89: 2053781 | G89: 1082471 | H89: 3136252 | I89: 2109939 | J89: 2925107 | K89: 68286 | L89: 6284 | M89: 2999677 | N89: 136575 | O89: 4.3547202 | P89: 53.901977 | Q89: 74.726829
A90: 2011 | B90: 27 | C90: מי ציונה | D90: 5243 | E90: 39144 | F90: 2053781 | G90: 1082471 | H90: 3136252 | I90: 2109939 | J90: 2925107 | K90: 68286 | L90: 6284 | M90: 2999677 | N90: 136575 | O90: 4.3547202 | P90: 53.901977 | Q90: 74.726829
E91: 47621 | F91: 0 | G91: 7483785 | H91: 7483785 | I91: 2177090 | J91: 2899163 | K91: 4087021 | L91: 652 | M91: 6986836 | N91: 496949 | O91: 6.6403431 | P91: 45.717016 | Q91: 60.879927
A92: 2011 | B92: 28 | C92: קריית גת | D92: 7315 | E92: 47621 | F92: 0 | G92: 7483785 | H92: 7483785 | I92: 2177090 | J92: 2899163 | K92: 4087021 | L92: 652 | M92: 6986836 | N92: 496949 | O92: 6.6403431 | P92: 45.717016 | Q92: 60.879927
E93: 53095 | F93: 0 | G93: 3190820 | H93: 3190820 | I93: 1707063 | J93: 1988735 | K93: 25575 | L93: 75123 | M93: 2089433 | N93: 1101387 | O93: 34.517365 | P93: 32.151107 | Q93: 37.456163
A94: חסר | B94: 29 | C94: רהט | D94: 6647 | E94: 53095 | F94: 0 | G94: 3190820 | H94: 3190820 | I94: 1707063 | J94: 1988735 | K94: 25575 | L94: 75123 | M94: 2089433 | N94: 1101387 | O94: 34.517365 | P94: 32.151107 | Q94: 37.456163
E95: 68878 | F95: 4507414 | G95: 1960225 | H95: 6467639 | I95: 4262676 | J95: 5820585 | K95: 2041 | L95: 198746 | M95: 6021372 | N95: 446267 | O95: 6.8999986 | P95: 61.887337 | Q95: 84.50572
A96: 2011 | B96: 30 | C96: רעננה | D96: 6463 | E96: 68878 | F96: 4507414 | G96: 1960225 | H96: 6467639 | I96: 4262676 | J96: 5820585 | K96: 2041 | L96: 198746 | M96: 6021372 | N96: 446267 | O96: 6.8999986 | P96: 61.887337 | Q96: 84.50572
E97: 41734 | F97: 4370400 | G97: 0 | H97: 4370400 | I97: 2067894 | J97: 3005690 | K97: 790655 | L97: 0 | M97: 3796345 | N97: 574055 | O97: 13.135068 | P97: 49.549384 | Q97: 72.020175
E98: 1458 | F98: 207050 | G98: 53628 | H98: 260678 | I98: 116103 | J98: 215859 | K98: 0 | L98: 1336 | M98: 217195 | N98: 43483 | O98: 16.680733 | P98: 79.631687 | Q98: 148.05144
E99: 2944 | F99: 0 | G99: 197286 | H99: 197286 | I99: 144035 | J99: 160476 | K99: 0 | L99: 729 | M99: 161205 | N99: 36081 | O99: 18.288677 | P99: 48.924932 | Q99: 54.509511
A100: 2011 | B100: 31 | C100: מי רקת | D100: 371 | E100: 43192 | F100: 4577450 | G100: 250914 | H100: 4828364 | I100: 2328032 | J100: 3382025 | K100: 790655 | L100: 2065 | M100: 4174745 | N100: 653619 | O100: 13.53707 | P100: 53.899611 | Q100: 78.302116
E101: 195362 | F101: 0 | G101: 17707425 | H101: 17707425 | I101: 9997422 | J101: 14221483 | K101: 431726 | L101: 56456 | M101: 14709665 | N101: 2997760 | O101: 16.929395 | P101: 51.173831 | Q101: 72.795544
...

Sheet התפלגות מים 2011
B1: מספר | D1: צריכה | F1: גינון ציבורי | H1: מוסדות | J1: בתי חולים | L1: בתי מרחץ | N1: מסחר | P1: בנייה | R1: צריכה | T1: צריכה
B2: סידורי | C2: שם התאגיד | D2: מגורים | F2: רשות מקומית | H2: רשות מקומית | L2: ומקוואות | N2: ומלאכה | R2: אחרת | T2: עירונית
D3: מ"ק | E3: % | F3: מ"ק | G3: % | H3: מ"ק | I3: % | J3: מ"ק | K3: % | L3: מ"ק | M3: % | N3: מ"ק | O3: % | P3: מ"ק | Q3: % | R3: מ"ק | S3: % | T3: מ"ק | U3: %
D4: 585730 | E4: 89.114228 | F4: 0 | G4: 0 | H4: 38288 | I4: 5.8252191 | J4: 0 | K4: 0 | L4: 0 | M4: 0 | N4: 9736 | O4: 1.4812561 | P4: 12880 | Q4: 1.959591 | R4: 10646 | S4: 1.6197055 | T4: 657280 | U4: 100
D5: 251438 | E5: 84.638741 | F5: 796 | G5: 0.26794851 | H5: 16164 | I5: 5.4411052 | J5: 225 | K5: 0.075739215 | L5: 0 | M5: 0 | N5: 16221 | O5: 5.4602925 | P5: 4933 | Q5: 1.6605402 | R5: 7295 | S5: 2.4556337 | T5: 297072 | U5: 100
D6: 476860 | E6: 81.905858 | F6: 0 | G6: 0 | H6: 14881 | I6: 2.5559726 | J6: 55 | K6: 0.0094468443 | L6: 0 | M6: 0 | N6: 54240 | O6: 9.3163061 | P6: 8647 | Q6: 1.4852157 | R6: 27522 | S6: 4.7272009 | T6: 582205 | U6: 100
D7: 618591 | E7: 76.178625 | F7: 467 | G7: 0.057510403 | H7: 62719 | I7: 7.723758 | J7: 17958 | K7: 2.2115028 | L7: 0 | M7: 0 | N7: 58020 | O7: 7.1450826 | P7: 8592 | Q7: 1.0580929 | R7: 45680 | S7: 5.6254287 | T7: 812027 | U7: 100
D8: 935763 | E8: 89.012284 | F8: 245 | G8: 0.023305057 | H8: 75203 | I8: 7.723758 | J8: 494 | K8: 0.046990604 | L8: 0 | M8: 0 | N8: 22866 | O8: 2.1750752 | P8: 2988 | Q8: 0.28422657 | R8: 13715 | S8: 1.3046076 | T8: 1051274 | U8: 100
D9: 164810 | E9: 91.649706 | F9: 0 | G9: 0 | H9: 2458 | I9: 1.3668769 | J9: 110 | K9: 0.061170242 | L9: 0 | M9: 0 | N9: 11433 | O9: 6.3578126 | P9: 129 | Q9: 0.071736011 | R9: 886 | S9: 0.4926985 | T9: 179826 | U9: 100
D10: 235521 | E10: 92.134634 | F10: 0 | G10: 0 | H10: 11696 | I10: 4.5754165 | J10: 2604 | K10: 1.0186717 | L10: 0 | M10: 0 | N10: 5188 | O10: 2.0295196 | P10: 0 | Q10: 0 | R10: 618 | S10: 0.2417585 | T10: 255627 | U10: 100
A11: 2011 | B11: 1 | C11: אל עין | D11: 3268713 | E11: 85.226804 | F11: 1508 | G11: 0.039318845 | H11: 221409 | I11: 5.7729086 | J11: 21446 | K11: 0.55917239 | L11: 0 | M11: 0 | N11: 177704 | O11: 4.6333661 | P11: 38169 | Q11: 0.99519961 | R11: 106362 | S11: 2.7732301 | T11: 3835311 | U11: 100
D12: 29584429 | E12: 57.573932 | F12: 1377896 | G12: 2.6815083 | H12: 447514 | I12: 0.87090208 | J12: 604623 | K12: 1.1766502 | L12: 348372 | M12: 0.67796292 | N12: 2418483 | O12: 4.7065832 | P12: 312841 | Q12: 0.60881643 | R12: 16290953 | S12: 31.703645 | T12: 51385111 | U12: 100
D13: 229386 | E13: 89.727632 | F13: 882 | G13: 0.34500698 | H13: 2996 | I13: 1.1719285 | J13: 86 | K13: 0.033640137 | L13: 0 | M13: 0 | N13: 15941 | O13: 6.2355514 | P13: 256 | Q13: 0.10013808 | R13: 6100 | S13: 2.3861027 | T13: 255647 | U13: 100
D14: 1386218 | E14: 89.817549 | F14: 34228 | G14: 2.2177428 | H14: 31165 | I14: 2.0192812 | J14: 855 | K14: 0.055398216 | L14: 633 | M14: 0.041014118 | N14: 31986 | O14: 2.0724764 | P14: 1130 | Q14: 0.073216356 | R14: 57156 | S14: 3.7033221 | T14: 1543371 | U14: 100
A15: 2011 | B15: 2 | C15: הגיחון (ירושלים) | D15: 31200033 | E15: 58.66418 | F15: 1413006 | G15: 2.6568189 | H15: 481675 | I15: 0.90567432 | J15: 605564 | K15: 1.1386179 | L15: 349005 | M15: 0.6562202 | N15: 2466410 | O15: 4.6374925 | P15: 314227 | Q15: 0.59082852 | R15: 16354209 | S15: 30.750168 | T15: 53184129 | U15: 100
D16: 535862 | E16: 54.198261 | F16: 43605 | G16: 4.4103056 | H16: 9143 | I16: 0.92474312 | J16: 94 | K16: 0.0095073667 | L16: 349005 | M16: 35.299133 | N16: 42137 | O16: 4.2618288 | P16: 8861 | Q16: 0.89622102 | R16: 0 | S16: 0 | T16: 988707 | U16: 100
D17: 736861 | E17: 74.362952 | F17: 100 | G17: 0.010091856 | H17: 28294 | I17: 2.8553898 | J17: 8305 | K17: 0.83812865 | L17: 0 | M17: 0 | N17: 58077 | O17: 5.8610473 | P17: 21370 | Q17: 2.1566296 | R17: 137891 | S17: 13.915761 | T17: 990898 | U17: 100
D18: 275412 | E18: 80.303238 | F18: 0 | G18: 0 | H18: 7760 | I18: 2.2626216 | J18: 0 | K18: 0 | L18: 0 | M18: 0 | N18: 23348 | O18: 6.8076917 | P18: 9751 | Q18: 2.8431473 | R18: 26694 | S18: 7.7833015 | T18: 342965 | U18: 100
D19: 732550 | E19: 94.927769 | F19: 1024 | G19: 0.13269543 | H19: 4766 | I19: 0.61760391 | J19: 123 | K19: 0.015939002 | L19: 0 | M19: 0 | N19: 26904 | O19: 3.486365 | P19: 6325 | Q19: 0.81962752 | R19: 0 | S19: 0 | T19: 771692 | U19: 100
D20: 3394665 | E20: 86.837533 | F20: 12126 | G20: 0.31019023 | H20: 159218 | I20: 4.0728904 | J20: 73312 | K20: 1.8753642 | L20: 0 | M20: 0 | N20: 243575 | O20: 6.2307922 | P20: 26318 | Q20: 0.67322996 | R20: 0 | S20: 0 | T20: 3909214 | U20: 100
A21: 2011 | B21: 3 | C21: הרי נצרת | D21: 5675350 | E21: 81.036188 | F21: 56855 | G21: 0.81181116 | H21: 209181 | I21: 2.9868168 | J21: 81834 | K21: 1.1684769 | L21: 349005 | M21: 4.9833111 | N21: 394041 | O21: 5.6263633 | P21: 72625 | Q21: 1.0369851 | R21: 164585 | S21: 2.3500473 | T21: 7003476 | U21: 100
D22: 110781 | E22: 63.133149 | F22: 9144 | G22: 5.2110878 | H22: 50007 | I22: 28.498564 | J22: 0 | K22: 0 | L22: 29 | M22: 0.016526853 | N22: 3748 | O22: 2.1359533 | P22: 1200 | Q22: 0.68386979 | R22: 563 | S22: 0.32084891 | T22: 175472 | U22: 100
D23: 1177364 | E23: 73.353316 | F23: 67311 | G23: 4.1936776 | H23: 134530 | I23: 8.3816234 | J23: 0 | K23: 0 | L23: 1433 | M23: 0.089280207 | N23: 210046 | O23: 13.086497 | P23: 3628 | Q23: 0.2260353 | R23: 10747 | S23: 0.6695704 | T23: 1605059 | U23: 100
D24: 347517 | E24: 64.807935 | F24: 92870 | G24: 17.31919 | H24: 51647 | I24: 9.6315733 | J24: 0 | K24: 0 | L24: 445 | M24: 0.082987397 | N24: 40441 | O24: 7.5417828 | P24: 3054 | Q24: 0.56953598 | R24: 252 | S24: 0.04699511 | T24: 536226 | U24: 100
A25: 2011 | B25: 4 | C25: התנור | D25: 1635662 | E25: 70.601362 | F25: 169325 | G25: 7.3087078 | H25: 236184 | I25: 10.194595 | J25: 0 | K25: 0 | L25: 1907 | M25: 0.082313337 | N25: 254235 | O25: 10.973745 | P25: 7882 | Q25: 0.34021695 | R25: 11562 | S25: 0.49905968 | T25: 2316757 | U25: 100
D26: 9872889 | E26: 73.565797 | F26: 1239639 | G26: 9.2369145 | H26: 643047 | I26: 4.7915322 | J26: 27640 | K26: 0.20595376 | L26: 80781 | M26: 0.60192297 | N26: 1182127 | O26: 8.8083757 | P26: 111589 | Q26: 0.83148243 | R26: 262776 | S26: 1.9580212 | T26: 13420488 | U26: 100
A27: 2011 | B27: 5 | C27: יובלים אשדוד | D27: 9872889 | E27: 73.565797 | F27: 1239639 | G27: 9.2369145 | H27: 643047 | I27: 4.7915322 | J27: 27640 | K27: 0.20595376 | L27: 80781 | M27: 0.60192297 | N27: 1182127 | O27: 8.8083757 | P27: 111589 | Q27: 0.83148243 | R27: 262776 | S27: 1.9580212 | T27: 13420488 | U27: 100
D28: 751892 | E28: 66.583366 | F28: 161908 | G28: 14.33767 | H28: 124660 | I28: 11.039195 | J28: 0 | K28: 0 | L28: 699 | M28: 0.061899546 | N28: 49198 | O28: 4.3567008 | P28: 11828 | Q28: 1.0474218 | R28: 29064 | S28: 2.5737459 | T28: 1129249 | U28: 100
D29: 285034 | E29: 66.713009 | F29: 46364 | G29: 10.851625 | H29: 28637 | I29: 6.7025704 | J29: 0 | K29: 0 | L29: 981 | M29: 0.22960581 | N29: 61732 | O29: 14.448548 | P29: 1324 | Q29: 0.30988592 | R29: 3182 | S29: 0.74475605 | T29: 427254 | U29: 100
A30: 2001 | B30: 6 | C30: מי אריאל (אריאל) | D30: 1036926 | E30: 66.618953 | F30: 208272 | G30: 13.380764 | H30: 153297 | I30: 9.8488085 | J30: 0 | K30: 0 | L30: 1680 | M30: 0.10793426 | N30: 110930 | O30: 7.1268735 | P30: 13152 | Q30: 0.84497107 | R30: 32246 | S30: 2.0716953 | T30: 1556503 | U30: 100
D31: 1733935 | E31: 82.731275 | F31: 226193 | G31: 10.792351 | H31: 66976 | I31: 3.1956272 | J31: 9916 | K31: 0.4731223 | L31: 540 | M31: 0.025765031 | N31: 41468 | O31: 1.9785635 | P31: 10723 | Q31: 0.51162671 | R31: 6113 | S31: 0.29166969 | T31: 2095864 | U31: 100
A32: 2011 | B32: 7 | C32: ימים | D32: 1733935 | E32: 82.731275 | F32: 226193 | G32: 10.792351 | H32: 66976 | I32: 3.1956272 | J32: 9916 | K32: 0.4731223 | L32: 540 | M32: 0.025765031 | N32: 41468 | O32: 1.9785635 | P32: 10723 | Q32: 0.51162671 | R32: 6113 | S32: 0.29166969 | T32: 2095864 | U32: 100
D33: 2257529 | E33: 80.501488 | F33: 160496 | G33: 5.7231455 | H33: 49105 | I33: 1.7510409 | J33: 4920 | K33: 0.17544285 | L33: 0 | M33: 0 | N33: 323694 | O33: 11.542642 | P33: 8588 | Q33: 0.30624049 | R33: 0 | S33: 0 | T33: 2804332 | U33: 100
D34: 1367357 | E34: 79.550966 | F34: 55614 | G34: 3.2355467 | H34: 87108 | I34: 5.0678247 | J34: 15586 | K34: 0.90677223 | L34: 0 | M34: 0 | N34: 186660 | O34: 10.859624 | P34: 6519 | Q34: 0.37926653 | R34: 0 | S34: 0 | T34: 1718844 | U34: 100
D35: 1367357 | E35: 79.550966 | F35: 55614 | G35: 3.2355467 | H35: 87108 | I35: 5.0678247 | J35: 15586 | K35: 0.90677223 | L35: 0 | M35: 0 | N35: 186660 | O35: 10.859624 | P35: 6519 | Q35: 0.37926653 | R35: 0 | S35: 0 | T35: 1718844 | U35: 100
D36: 25969488 | E36: 65.442608 | F36: 3014275 | G36: 7.5959147 | H36: 1393712 | I36: 3.5121273 | J36: 392630 | K36: 0.98942001 | L36: 44773 | M36: 0.11282709 | N36: 7746363 | O36: 19.520685 | P36: 221311 | Q36: 0.55769944 | R36: 900292 | S36: 2.2687184 | T36: 39682844 | U36: 100
D37: 1367357 | E37: 79.550966 | F37: 55614 | G37: 3.2355467 | H37: 87108 | I37: 5.0678247 | J37: 15586 | K37: 0.90677223 | L37: 0 | M37: 0 | N37: 186660 | O37: 10.859624 | P37: 6519 | Q37: 0.37926653 | R37: 0 | S37: 0 | T37: 1718844 | U37: 100
D38: 1938424 | E38: 84.119295 | F38: 161513 | G38: 7.0089721 | H38: 15766 | I38: 0.68417684 | J38: 0 | K38: 0 | L38: 2669 | M38: 0.11582316 | N38: 70366 | O38: 3.0535829 | P38: 16079 | Q38: 0.6977597 | R38: 99558 | S38: 4.3203906 | T38: 2304375 | U38: 100
A39: חסר | B39: 8 | C39: כפרי הגליל התחתון | D39: 34267512 | E39: 68.606261 | F39: 39556 | G39: 7.0135344 | H39: 233579 | I39: 3.4433894 | J39: 12093 | K39: 0.88953964 | L39: 0 | M39: 0.094982624 | N39: 205668 | O39: 17.418893 | P39: 34964 | Q39: 0.531622 | R39: 101729 | S39: 2.0017785 | T39: 2989007 | U39: 100
D40: 1900514 | E40: 73.245719 | F40: 375777 | G40: 14.482428 | H40: 35108 | I40: 1.3530607 | J40: 16785 | K40: 0.6468931 | L40: 372 | M40: 0.014336862 | N40: 260344 | O40: 10.033645 | P40: 5623 | Q40: 0.21671015 | R40: 187 | S40: 0.0072069711 | T40: 2594710 | U40: 100
D41: 1121094 | E41: 68.880276 | F41: 217008 | G41: 13.333022 | H41: 66298 | I41: 4.0733646 | J41: 10170 | K41: 0.62484717 | L41: 5650 | M41: 0.34713732 | N41: 199422 | O41: 12.252534 | P41: 6444 | Q41: 0.39592086 | R41: 1512 | S41: 0.092897632 | T41: 1627598 | U41: 100
A42: 2011 | B42: 9 | C42: מי נע (נצרת) | D42: 3021608 | E42: 71.562946 | F42: 592785 | G42: 14.03936 | H42: 101406 | I42: 2.4016723 | J42: 26955 | K42: 0.63839493 | L42: 6022 | M42: 0.14262342 | N42: 459766 | O42: 10.888974 | P42: 12067 | Q42: 0.28579156 | R42: 1699 | S42: 0.040238656 | T42: 4222308 | U42: 100
D43: 24971737 | E43: 67.103775 | F43: 2646727 | G43: 7.1122554 | H43: 1386026 | I43: 3.7245137 | J43: 376285 | K43: 1.0111489 | L43: 43183 | M43: 0.11604088 | N43: 6744081 | O43: 18.12262 | P43: 229827 | Q43: 0.61758857 | R43: 815744 | S43: 2.1920582 | T43: 37213610 | U43: 100
A44: 2011 | B44: 10 | C44: מי אביבים | D44: 24971737 | E44: 67.103775 | F44: 2646727 | G44: 7.1122554 | H44: 1386026 | I44: 3.7245137 | J44: 376285 | K44: 1.0111489 | L44: 43183 | M44: 0.11604088 | N44: 6744081 | O44: 18.12262 | P44: 229827 | Q44: 0.61758857 | R44: 815744 | S44: 2.1920582 | T44: 37213610 | U44: 100
D45: 1876803 | E45: 84.547379 | F45: 105011 | G45: 4.7306003 | H45: 59224 | I45: 2.6679593 | J45: 0 | K45: 0 | L45: 2063 | M45: 0.092935296 | N45: 163738 | O45: 7.3761704 | P45: 12985 | Q45: 0.58495628 | R45: 0 | S45: 0 | T45: 2219824 | U45: 100
A46: 2011 | B46: 11 | C46: קריית אונו | D46: 1876803 | E46: 84.547379 | F46: 105011 | G46: 4.7306003 | H46: 59224 | I46: 2.6679593 | J46: 0 | K46: 0 | L46: 2063 | M46: 0.092935296 | N46: 163738 | O46: 7.3761704 | P46: 12985 | Q46: 0.58495628 | R46: 0 | S46: 0 | T46: 2219824 | U46: 100
D47: 6280356 | E47: 75.29426 | F47: 571582 | G47: 6.8526122 | H47: 174524 | I47: 2.0923425 | J47: 207885 | K47: 2.4923026 | L47: 12969 | M47: 0.15548343 | N47: 468753 | O47: 5.6198105 | P47: 57182 | Q47: 0.68554655 | R47: 567831 | S47: 6.807642 | T47: 8341082 | U47: 100
D48: 1228651 | E48: 75.193254 | F48: 97379 | G48: 5.9595799 | H48: 93186 | I48: 5.702969 | J48: 11742 | K48: 0.71860861 | L48: 34437 | M48: 2.1075391 | N48: 66593 | O48: 4.0754814 | P48: 49590 | Q48: 3.0349004 | R48: 52413 | S48: 3.2076676 | T48: 1633991 | U48: 100
A49: 2011 | B49: 12 | C49: מי אשקלון | D49: 7509007 | E49: 75.277715 | F49: 668961 | G49: 6.7063269 | H49: 267710 | I49: 2.6837899 | J49: 219627 | K49: 2.2017583 | L49: 47406 | M49: 0.47524464 | N49: 535346 | O49: 5.3668379 | P49: 106772 | Q49: 1.0703882 | R49: 620244 | S49: 6.2179395 | T49: 9975073 | U49: 100
D50: 6730145 | E50: 74.872614 | F50: 126043 | G50: 1.4022237 | H50: 222747 | I50: 2.4780521 | J50: 144064 | K50: 1.6027067 | L50: 203699 | M50: 2.2661438 | N50: 659175 | O50: 7.3332974 | P50: 24121 | Q50: 0.26834523 | R50: 878800 | S50: 9.7766174 | T50: 8988794 | U50: 100
A51: 2011 | B51: 13 | C51: באר מים חיים | D51: 6730145 | E51: 74.872614 | F51: 126043 | G51: 1.4022237 | H51: 222747 | I51: 2.4780521 | J51: 144064 | K51: 1.6027067 | L51: 203699 | M51: 2.2661438 | N51: 659175 | O51: 7.3332974 | P51: 24121 | Q51: 0.26834523 | R51: 878800 | S51: 9.7766174 | T51: 8988794 | U51: 100
D52: 6194392 | E52: 81.239835 | F52: 476088 | G52: 6.2439236 | H52: 262235 | I52: 3.4392283 | J52: 87869 | K52: 1.1524074 | L52: 9438 | M52: 0.12377995 | N52: 312497 | O52: 4.0984175 | P52: 25722 | Q52: 0.33734562 | R52: 256580 | S52: 3.3650626 | T52: 7624821 | U52: 100
A53: 2011 | B53: 14 | C53: בת ים | D53: 6194392 | E53: 81.239835 | F53: 476088 | G53: 6.2439236 | H53: 262235 | I53: 3.4392283 | J53: 87869 | K53: 1.1524074 | L53: 9438 | M53: 0.12377995 | N53: 312497 | O53: 4.0984175 | P53: 25722 | Q53: 0.33734562 | R53: 256580 | S53: 3.3650626 | T53: 7624821 | U53: 100
D54: 2890474 | E54: 85.042355 | F54: 141349 | G54: 4.158713 | H54: 54527 | I54: 1.6042713 | J54: 25119 | K54: 0.73904104 | L54: 2602 | M54: 0.07655499 | N54: 198786 | O54: 5.8486012 | P54: 25549 | Q54: 0.75169233 | R54: 60458 | S54: 1.7787708 | T54: 3398864 | U54: 100
A55: 2011 | B55: 15 | C55: גבעתיים | D55: 2890474 | E55: 85.042355 | F55: 141349 | G55: 4.158713 | H55: 54527 | I55: 1.6042713 | J55: 25119 | K55: 0.73904104 | L55: 2602 | M55: 0.07655499 | N55: 198786 | O55: 5.8486012 | P55: 25549 | Q55: 0.75169233 | R55: 60458 | S55: 1.7787708 | T55: 3398864 | U55: 100
D56: 1096413 | E56: 80.489524 | F56: 6300 | G56: 0.4624936 | H56: 181620 | I56: 13.33303 | J56: 0 | K56: 0 | L56: 2874 | M56: 0.21098518 | N56: 65704 | O56: 4.8234412 | P56: 6483 | Q56: 0.47592794 | R56: 2787 | S56: 0.20459836 | T56: 1362181 | U56: 100
D57: 398473 | E57: 89.909385 | F57: 1112 | G57: 0.25090592 | H57: 24846 | I57: 5.6061228 | J57: 0 | K57: 0 | L57: 0 | M57: 0 | N57: 6259 | O57: 1.4122484 | P57: 11582 | Q57: 2.6133025 | R57: 922 | S57: 0.20803531 | T57: 443194 | U57: 100
D58: 407256 | E58: 88.799346 | F58: 1885 | G58: 0.41101117 | H58: 29972 | I58: 6.5351867 | J58: 0 | K58: 0 | L58: 0 | M58: 0 | N58: 8007 | O58: 1.7458708 | P58: 10443 | Q58: 2.2770237 | R58: 1062 | S58: 0.23156173 | T58: 458625 | U58: 100
D59: 379343 | E59: 90.134343 | F59: 0 | G59: 0 | H59: 10169 | I59: 2.41622 | J59: 0 | K59: 0 | L59: 0 | M59: 0 | N59: 29140 | O59: 6.9238519 | P59: 1329 | Q59: 0.31577897 | R59: 883 | S59: 0.20980649 | T59: 420864 | U59: 100
D60: 1055672 | E60: 85.687871 | F60: 10469 | G60: 0.84975856 | H60: 96935 | I60: 7.8681198 | J60: 0 | K60: 0 | L60: 0 | M60: 0 | N60: 51681 | O60: 4.1948966 | P60: 9987 | Q60: 0.81063509 | R60: 7253 | S60: 0.58871897 | T60: 1231997 | U60: 100
D61: 592557 | E61: 88.442927 | F61: 260 | G61: 0.038806665 | H61: 32590 | I61: 4.8642662 | J61: 0 | K61: 0 | L61: 3117 | M61: 0.46523221 | N61: 33503 | O61: 5.0005373 | P61: 4800 | Q61: 0.71643074 | R61: 3161 | S61: 0.47179949 | T61: 669988 | U61: 100
D62: 464815 | E62: 91.344557 | F62: 0 | G62: 0 | H62: 15135 | I62: 2.9743013 | J62: 0 | K62: 0 | L62: 2060 | M62: 0.40482727 | N62: 14631 | O62: 2.8752562 | P62: 7262 | Q62: 1.4271144 | R62: 4956 | S62: 0.97394367 | T62: 508859 | U62: 100
A63: 2011 | B63: 16 | C63: מי גליל | D63: 4394529 | E63: 86.239812 | F63: 20026 | G63: 0.3929974 | H63: 391267 | I63: 7.6783638 | J63: 0 | K63: 0 | L63: 8051 | M63: 0.15799571 | N63: 208925 | O63: 4.1000191 | P63: 51886 | Q63: 1.0182295 | R63: 21024 | S63: 0.41258251 | T63: 5095708 | U63: 100
D64: 2877619 | E64: 78.132516 | F64: 332411 | G64: 9.0255547 | H64: 33160 | I64: 0.90035346 | J64: 33758 | K64: 0.91659023 | L64: 0 | M64: 0 | N64: 234254 | O64: 6.3604162 | P64: 69870 | Q64: 1.8970958 | R64: 101926 | S64: 2.7674737 | T64: 3682998 | U64: 100
A65: 2011 | B65: 17 | C65: מי הוד השרון | D65: 2877619 | E65: 78.132516 | F65: 332411 | G65: 9.0255547 | H65: 33160 | I65: 0.90035346 | J65: 33758 | K65: 0.91659023 | L65: 0 | M65: 0 | N65: 234254 | O65: 6.3604162 | P65: 69870 | Q65: 1.8970958 | R65: 101926 | S65: 2.7674737 | T65: 3682998 | U65: 100
D66: 6557659 | E66: 73.176602 | F66: 631514 | G66: 7.0470344 | H66: 447721 | I66: 4.9960972 | J66: 73121 | K66: 0.81595373 | L66: 5456 | M66: 0.060883242 | N66: 841461 | O66: 9.3898229 | P66: 82737 | Q66: 0.92325821 | R66: 321746 | S66: 3.5903482 | T66: 8961415 | U66: 100
A67: 2011 | B67: 18 | C67: הרצליה | D67: 6557659 | E67: 73.176602 | F67: 631514 | G67: 7.0470344 | H67: 447721 | I67: 4.9960972 | J67: 73121 | K67: 0.81595373 | L67: 5456 | M67: 0.060883242 | N67: 841461 | O67: 9.3898229 | P67: 82737 | Q67: 0.92325821 | R67: 321746 | S67: 3.5903482 | T67: 8961415 | U67: 100
D68: 4101508 | E68: 69.503373 | F68: 220466 | G68: 3.7359748 | H68: 308498 | I68: 5.2277483 | J68: 164422 | K68: 2.7862639 | L68: 18014 | M68: 0.30526181 | N68: 323121 | O68: 5.4755469 | P68: 203549 | Q68: 3.4493025 | R68: 561586 | S68: 9.5165293 | T68: 5901164 | U68: 100
A69: 2011 | B69: 19 | C69: מי חדרה | D69: 4101508 | E69: 69.503373 | F69: 220466 | G69: 3.7359748 | H69: 308498 | I69: 5.2277483 | J69: 164422 | K69: 2.7862639 | L69: 18014 | M69: 0.30526181 | N69: 323121 | O69: 5.4755469 | P69: 203549 | Q69: 3.4493025 | R69: 561586 | S69: 9.5165293 | T69: 5901164 | U69: 100
D70: 2011565 | E70: 80.410237 | F70: 7164 | G70: 0.28637351 | H70: 136285 | I70: 5.4478524 | J70: 2396 | K70: 0.09577763 | L70: 0 | M70: 0 | N70: 139448 | O70: 5.57429 | P70: 160911 | Q70: 6.4322513 | R70: 43859 | S70: 1.7532183 | T70: 2501628 | U70: 100
D71: 941832 | E71: 88.399985 | F71: 5984 | G71: 0.56165591 | H71: 57647 | I71: 5.410725 | J71: 0 | K71: 0 | L71: 0 | M71: 0 | N71: 54862 | O71: 5.1493259 | P71: 5096 | Q71: 0.47830857 | R71: 0 | S71: 0 | T71: 1065421 | U71: 100
A72: חסר | B72: 20 | C72: מי יבנה | D72: 2953397 | E72: 82.796648 | F72: 13148 | G72: 0.368596 | H72: 193932 | I72: 5.436763 | J72: 2396 | K72: 0.06717037 | L72: 0 | M72: 0 | N72: 194310 | O72: 5.44736 | P72: 166007 | Q72: 4.653903 | R72: 43859 | S72: 1.2295598 | T72: 3567049 | U72: 100
D73: 10871842 | E73: 57.818595 | F73: 647894 | G73: 3.4456278 | H73: 1916827 | I73: 10.194063 | J73: 72436 | K73: 0.3852289 | L73: 6155 | M73: 0.032733501 | N73: 1843679 | O73: 9.8050477 | P73: 88164 | Q73: 0.4688735 | R73: 3356369 | S73: 17.849831 | T73: 18803366 | U73: 100
A74: 2011 | B74: 21 | C74: חיפה | D74: 10871842 | E74: 57.818595 | F74: 647894 | G74: 3.4456278 | H74: 1916827 | I74: 10.194063 | J74: 72436 | K74: 0.3852289 | L74: 6155 | M74: 0.032733501 | N74: 1843679 | O74: 9.8050477 | P74: 88164 | Q74: 0.4688735 | R74: 3356369 | S74: 17.849831 | T74: 18803366 | U74: 100
D75: 3111345 | E75: 81.733949 | F75: 137325 | G75: 3.6074799 | H75: 41928 | I75: 1.101434 | J75: 0 | K75: 0 | L75: 0 | M75: 0 | N75: 341028 | O75: 8.9586868 | P75: 13445 | Q75: 0.35319547 | R75: 161603 | S75: 4.2452545 | T75: 3806674 | U75: 100
A76: 2011 | B76: 22 | C76: מי לוד | D76: 3111345 | E76: 81.733949 | F76: 137325 | G76: 3.6074799 | H76: 41928 | I76: 1.101434 | J76: 0 | K76: 0 | L76: 0 | M76: 0 | N76: 341028 | O76: 8.9586868 | P76: 13445 | Q76: 0.35319547 | R76: 161603 | S76: 4.2452545 | T76: 3806674 | U76: 100
D77: 3913695 | E77: 77.186299 | F77: 502439 | G77: 9.9091541 | H77: 287069 | I77: 5.6616046 | J77: 0 | K77: 0 | L77: 5421 | M77: 0.10691352 | N77: 163577 | O77: 3.2260826 | P77: 175227 | Q77: 3.4558451 | R77: 23025 | S77: 0.45410144 | T77: 5070453 | U77: 100
A78: 2011 | B78: 23 | C78: מי מודיעין (מודיעין) | D78: 3913695 | E78: 77.186299 | F78: 502439 | G78: 9.9091541 | H78: 287069 | I78: 5.6616046 | J78: 0 | K78: 0 | L78: 5421 | M78: 0.10691352 | N78: 163577 | O78: 3.2260826 | P78: 175227 | Q78: 3.4558451 | R78: 23025 | S78: 0.45410144 | T78: 5070453 | U78: 100
D79: 9774438 | E79: 76.76806 | F79: 627433 | G79: 4.9278347 | H79: 519995 | I79: 4.0840207 | J79: 191774 | K79: 1.5061856 | L79: 38695 | M79: 0.30390904 | N79: 886899 | O79: 6.9656706 | P79: 282579 | Q79: 2.2193646 | R79: 410615 | S79: 3.2249544 | T79: 12732428 | U79: 100
A80: 2011 | B80: 24 | C80: מי נתניה | D80: 9774438 | E80: 76.76806 | F80: 627433 | G80: 4.9278347 | H80: 519995 | I80: 4.0840207 | J80: 191774 | K80: 1.5061856 | L80: 38695 | M80: 0.30390904 | N80: 886899 | O80: 6.9656706 | P80: 282579 | Q80: 2.2193646 | R80: 410615 | S80: 3.2249544 | T80: 12732428 | U80: 100
D81: 2108301 | E81: 82.678762 | F81: 6778 | G81: 0.26580486 | H81: 139446 | I81: 5.4684899 | J81: 4595 | K81: 0.18019671 | L81: 0 | M81: 0 | N81: 144228 | O81: 5.65602 | P81: 146643 | Q81: 5.7507262 | R81: 0 | S81: 0 | T81: 2549991 | U81: 100
D82: 904438 | E82: 90.129159 | F82: 4729 | G82: 0.47125485 | H82: 39970 | I82: 3.983095 | J82: 14 | K82: 0.0013951296 | L82: 0 | M82: 0 | N82: 47971 | O82: 4.7804116 | P82: 6369 | Q82: 0.63468432 | R82: 0 | S82: 0 | T82: 1003491 | U82: 100
D83: 335274 | E83: 82.553166 | F83: 0 | G83: 0 | H83: 39400 | I83: 9.7013033 | J83: 650 | K83: 0.16004688 | L83: 0 | M83: 0 | N83: 3016 | O83: 0.74261753 | P83: 27791 | Q83: 6.842866 | R83: 0 | S83: 0 | T83: 406131 | U83: 100
D84: 18487 | E84: 100 | F84: 0 | G84: 0 | H84: 0 | I84: 0 | J84: 0 | K84: 0 | L84: 0 | M84: 0 | N84: 0 | O84: 0 | P84: 0 | Q84: 0 | R84: 0 | S84: 0 | T84: 18487 | U84: 100
D85: 119896 | E85: 100 | F85: 0 | G85: 0 | H85: 0 | I85: 0 | J85: 0 | K85: 0 | L85: 0 | M85: 0 | N85: 0 | O85: 0 | P85: 0 | Q85: 0 | R85: 0 | S85: 0 | T85: 119896 | U85: 100
A86: 2011 | B86: 25 | C86: מי עירון | D86: 3486396 | E86: 85.075632 | F86: 11507 | G86: 0.28079578 | H86: 218816 | I86: 5.3395855 | J86: 5259 | K86: 0.12833102 | L86: 0 | M86: 0 | N86: 195215 | O86: 4.7636699 | P86: 180803 | Q86: 4.4119858 | R86: 0 | S86: 0 | T86: 4097996 | U86: 100
D87: 2415960 | E87: 76.709319 | F87: 204342 | G87: 6.4880775 | H87: 226578 | I87: 7.1940943 | J87: 23675 | K87: 0.75170662 | L87: 12719 | M87: 0.40384188 | N87: 242252 | O87: 7.6917606 | P87: 23974 | Q87: 0.76120019 | R87: 0 | S87: 0 | T87: 3149500 | U87: 100
A88: 2011 | B88: 26 | C88: עכו | D88: 2415960 | E88: 76.709319 | F88: 204342 | G88: 6.4880775 | H88: 226578 | I88: 7.1940943 | J88: 23675 | K88: 0.75170662 | L88: 12719 | M88: 0.40384188 | N88: 242252 | O88: 7.6917606 | P88: 23974 | Q88: 0.76120019 | R88: 0 | S88: 0 | T88: 3149500 | U88: 100
D89: 2109939 | E89: 72.132028 | F89: 202950 | G89: 6.9382077 | H89: 97395 | I89: 3.3296218 | J89: 66202 | K89: 2.2632334 | L89: 2033 | M89: 0.069501731 | N89: 222885 | O89: 7.6197213 | P89: 56539 | Q89: 1.9328866 | R89: 167164 | S89: 5.7147995 | T89: 2925107 | U89: 100
A90: 2011 | B90: 27 | C90: מי ציונה | D90: 2109939 | E90: 72.132028 | F90: 202950 | G90: 6.9382077 | H90: 97395 | I90: 3.3296218 | J90: 66202 | K90: 2.2632334 | L90: 2033 | M90: 0.069501731 | N90: 222885 | O90: 7.6197213 | P90: 56539 | Q90: 1.9328866 | R90: 167164 | S90: 5.7147995 | T90: 2925107 | U90: 100
D91: 2177090 | E91: 75.093743 | F91: 214455 | G91: 7.397135 | H91: 156773 | I91: 5.4075262 | J91: 4588 | K91: 0.15825257 | L91: 17376 | M91: 0.5993454 | N91: 214012 | O91: 7.3818547 | P91: 14482 | Q91: 0.49952348 | R91: 100387 | S91: 3.4626201 | T91: 2899163 | U91: 100
A92: 2011 | B92: 28 | C92: קריית גת | D92: 2177090 | E92: 75.093743 | F92: 214455 | G92: 7.397135 | H92: 156773 | I92: 5.4075262 | J92: 4588 | K92: 0.15825257 | L92: 17376 | M92: 0.5993454 | N92: 214012 | O92: 7.3818547 | P92: 14482 | Q92: 0.49952348 | R92: 100387 | S92: 3.4626201 | T92: 2899163 | U92: 100
D93: 654198 | E93: 71.966602 | F93: 78624 | G93: 8.6492195 | H93: 20006 | I93: 2.2008075 | J93: 0 | K93: 0 | L93: 0 | M93: 0 | N93: 112478 | O93: 12.373409 | P93: 3243 | Q93: 0.3567539 | R93: 40481 | S93: 4.4532084 | T93: 909030 | U93: 100
A94: חסר | B94: 29 | C94: רהט | D94: 654198 | E94: 71.966602 | F94: 78624 | G94: 8.6492195 | H94: 20006 | I94: 2.2008075 | J94: 0 | K94: 0 | L94: 0 | M94: 0 | N94: 112478 | O94: 12.373409 | P94: 3243 | Q94: 0.3567539 | R94: 40481 | S94: 4.4532084 | T94: 909030 | U94: 100
D95: 4262676 | E95: 73.234494 | F95: 429396 | G95: 7.3771966 | H95: 102472 | I95: 1.7605103 | J95: 41264 | K95: 0.70893218 | L95: 8907 | M95: 0.15302586 | N95: 539737 | O95: 9.2728995 | P95: 23545 | Q95: 0.4045126 | R95: 412588 | S95: 7.0884284 | T95: 5820585 | U95: 100
A96: 2011 | B96: 30 | C96: רעננה | D96: 4262676 | E96: 73.234494 | F96: 429396 | G96: 7.3771966 | H96: 102472 | I96: 1.7605103 | J96: 41264 | K96: 0.70893218 | L96: 8907 | M96: 0.15302586 | N96: 539737 | O96: 9.2728995 | P96: 23545 | Q96: 0.4045126 | R96: 412588 | S96: 7.0884284 | T96: 5820585 | U96: 100
D97: 2067894 | E97: 68.799311 | F97: 191183 | G97: 6.3607025 | H97: 212393 | I97: 7.0663641 | J97: 0 | K97: 0 | L97: 28835 | M97: 0.9593471 | N97: 245397 | O97: 8.1644148 | P97: 10361 | Q97: 0.34471286 | R97: 249627 | S97: 8.3051479 | T97: 3005690 | U97: 100
D98: 116103 | E98: 53.7865 | F98: 10591 | G98: 4.9064436 | H98: 1827 | I98: 0.84638584 | J98: 0 | K98: 0 | L98: 91 | M98: 0.042157149 | N98: 28861 | O98: 13.370302 | P98: 5135 | Q98: 2.3788677 | R98: 53251 | S98: 24.669344 | T98: 215859 | U98: 100
D99: 144035 | E99: 89.754854 | F99: 5841 | G99: 3.6397966 | H99: 5491 | I99: 3.4216955 | J99: 0 | K99: 0 | L99: 0 | M99: 0 | N99: 1551 | O99: 0.96649966 | P99: 0 | Q99: 0 | R99: 3558 | S99: 2.217154 | T99: 160476 | U99: 100
A100: 2011 | B100: 31 | C100: מי רקת | D100: 2328032 | E100: 68.835446 | F100: 207615 | G100: 6.1387778 | H100: 219711 | I100: 6.4964333 | J100: 0 | K100: 0 | L100: 28926 | M100: 0.8552864 | N100: 275809 | O100: 8.1551437 | P100: 15496 | Q100: 0.45818703 | R100: 306436 | S100: 9.0607255 | T100: 3382025 | U100: 100
...
