Workbook

Sheet תוכן עניינים
A2: תקציב מעודכן 2022 והצעת תקציב 2023
A5: מס' | B5: פירוט - לשונית | C5: מס' עמוד
A6: 1 | B6: הכנסות - | C6: 1
A7: 2 | B7: הוצאות - | C7: 2
A8: 3 | B8: הכנסות חינוך - | C8: 3
A9: 4 | B9: הכנסות תרבות - | C9: 4
A10: 5 | B10: הכנסות רווחה - | C10: 5
A11: 6 | B11: הוצאות שכר - | C11: 6
A12: 7 | B12: הוצאות: | C12: 7
B13: שכ"ד
B14: ביטוחים
B15: אירוח משלחות
B16: הוצאות ספרים עירוניים
A17: 8 | B17: הוצאות רווחה - | C17: 8
A18: 9 | B18: קליקה - | C18: 9
A19: 10 | B19: קורונה - | C19: 10
A20: 11 | B20: ציוד משרדי | C20: 11
A21: 12 | B21: הוצאות כיבוד | C21: 11
A22: 13 | B22: חשמל ומים - | C22: 12
A23: 14 | B23: דלקים ושמנים - | C23: 13
A24: 15 | B24: הוצאות תיקוני רכב | C24: 14
A25: 16 | B25: הוצאות רישוי ובטוח לרכבים | C25: 14
A26: 17 | B26: ליסינג - | C26: 15
A27: 18 | B27: הוצאות תקשורת, פרסום, מיחשוב ומערכות ליבה, מים וגינון | C27: 16
A28: 19 | B28: הוצאות ריבית ועמלות, מלוות | C28: 17
... A33: 24 | B33: תמיכות - | C33: 22

Sheet ביטול תקציב
A1: מס' | B1: מס. חשבון | C1: שם חשבון | D1: ביצוע 2020 (דוחות) | E1: ביצוע 2021 (דוחות) | F1: תקציב 2022 מעודכן (מס 1) | G1: ביצוע 1-6/2022 | H1: תקציב 2022 מעודכן (מס 2) | I1: הצעה 2023 | J1: הערות
A2: 7 | B2: 1312500990 | C2: גני מועדון וצהרונים (משרד הכלכלה) | D2: 126 | E2: 541 | F2: 300 | G2: 0 | H2: 0 | I2: 0 | J2: הועבר לסעיף 1312500920, לבטל סעיף
A3: 20 | B3: 1313212920 | C3: פעילות קיץ לנוער | D3: 0 | E3: 0 | F3: 100 | G3: 0 | H3: 0 | I3: 0 | J3: עבר לסעיף
A4: 18 | B4: 1313201921 | C4: הכנסות הזנה מוסדות חינוך גנ"י | D4: 80 | E4: 0 | F4: -200 | G4: 0 | H4: 0 | I4: 0 | J4: מבוטל, מועבר לסעיף 1313200924
A5: 33 | B5: 1313290920 | C5: ת. תקשוב - קיזוז רשויות | D5: 0 | E5: -31 | F5: -40 | G5: 4 | H5: 0 | I5: 0 | J5: לבטל סעיף הוצאות (קיזוז)
A6: 42 | B6: 1313330920 | C6: העשרה ח.מיוחד - מוסד | D6: 0 | E6: 21 | F6: =E6*1.02 -> 21.42 | G6: 0 | H6: 0 | I6: 0 | J6: מבוטל
A7: 49 | B7: 1313700990 | C7: הכנסות חווה חקלאית | D7: 0 | E7: 0 | F7: 50 | G7: 0 | H7: 0 | I7: 0 | J7: לבטל, הועבר לסעיף 1313700420
A8: 52 | B8: 1317199921 | C8: רכזת גנים חופש גדול | D8: 0 | E8: 0 | F8: 90 | G8: 25 | H8: 0 | I8: 0 | J8: לבטל, הועבר לסעיף 1312211920
A9: 15 | B9: 1342230930 | C9: סיוע למשפחות עם ילדי | D9: 50 | E9: 2 | F9: 2.04 | G9: 0 | H9: 0 | I9: 0 | J9: לבטל סעיף
A10: 40 | B10: 1343520930 | C10: יצירת קשר הורים-ילדי | D10: 60 | E10: 59 | F10: 123 | G10: 0 | H10: 0 | I10: 0 | J10: לבטל סעיף
A11: 54 | B11: 1844450840 | C11: שכונה תומכת | D11: 82 | E11: 76 | F11: 80.24 | G11: 0 | H11: 0 | I11: 0 | J11: לסגור לפי דוח הקצבה
A12: 58 | B12: 1844480840 | C12: נופשון לזקן | D12: 19 | E12: 5 | F12: 13.6 | G12: 0 | H12: 0 | I12: 0 | J12: לסגור לפי דוח הקצבה
A13: 63 | B13: 1844494840 | C13: מגן זהב הפגת בדידות | D13: 0 | E13: 42 | F13: 70.72 | G13: 0 | H13: 0 | I13: 0 | J13: לסגור לפי דוח הקצבה
A14: 65 | B14: 1844498840 | C14: בני משפחה מטפלים | D14: 0 | E14: 0 | F14: 61.2 | G14: 0 | H14: 0 | I14: 0 | J14: לסגור לפי דוח הקצבה
A15: 66 | B15: 1844510840 | C15: מסגרות יומיות אזרח ותיק | D15: 643 | E15: 327 | F15: 442 | G15: 0 | H15: 0 | I15: 0 | J15: לסגור לפי דוח הקצבה
A16: 82 | B16: 1845192840 | C16: ליווי הסעות רווחה | D16: 0 | E16: 0 | F16: 45 | G16: 0 | H16: 0 | I16: 0 | J16: =J15 -> לסגור לפי דוח הקצבה
A17: 6 | B17: 1712200780 | C17: הוצאות אחזקה מח' נקיון | D17: 0 | E17: =D17/2 -> 0 | F17: 0 | G17: 0 | H17: 0 | I17: 0 | J17: לבטל
A18: 7 | B18: 1712310780 | C18: פינוי אשפה ביתית | D18: 17 | E18: =D18/2 -> 8.5 | F18: 10 | G18: 0 | H18: 0 | I18: 0 | J18: תקציב כפול- לבטל 23
A19: 11 | B19: 1721300780 | C19: קופה קטנה בטחון | D19: 0 | E19: =D19/2 -> 0 | F19: 0 | G19: 0 | H19: 0 | I19: 0 | J19: לבטל
A20: 13 | B20: 1722100780 | C20: הוצאות משא"ז | D20: 0 | E20: =D20/2 -> 0 | F20: 0 | G20: 0 | H20: 0 | I20: 0 | J20: לבטל
A21: 24 | B21: 1761000780 | C21: מוקד עירוני | D21: 0 | E21: =D21/2 -> 0 | F21: 0 | G21: 0 | H21: 0 | I21: 0 | J21: לבטל
A22: 25 | B22: 1761100780 | C22: שרות לתושב | D22: 0 | E22: =D22/2 -> 0 | F22: 0 | G22: 0 | H22: 0 | I22: 0 | J22: לבטל
A23: 30 | B23: 1772000780 | C23: רישוי עסקים | D23: 0 | E23: =D23/2 -> 0 | F23: 0 | G23: 0 | H23: 0 | I23: 0 | J23: לבטל
A24: 41 | B24: 1813216780 | C24: ביה"ס כלנית קו"ק חומרי חיטוי | D24: 17 | E24: =D24/2 -> 8.5 | F24: 0 | G24: 0 | H24: 0 | I24: 0 | J24: מבוטל
A25: 42 | B25: 1813217780 | C25: ביה"ס עמיחי קו"ק חומרי חיטוי | D25: 15 | E25: =D25/2 -> 7.5 | F25: 0 | G25: 0 | H25: 0 | I25: 0 | J25: מבוטל
A26: 43 | B26: 1813218780 | C26: ביה"ס רקפת קו"ק חומרי חיטוי | D26: =(227*6.16*6)/1000 -> 8.38992 | E26: =D26/2 -> 4.19496 | F26: 0 | G26: 0 | H26: 0 | I26: 0 | J26: מבוטל
A27: 44 | B27: 1813219780 | C27: ביה"ס הרעות קו"ק חומרי חיטוי | D27: =(498*6.16*6)/1000 -> 18.40608 | E27: =D27/2 -> 9.20304 | F27: 0 | G27: 0 | H27: 0 | I27: 0 | J27: מבוטל
A28: 46 | B28: 1813221780 | C28: ביה"ס הדקל קו"ק חומרי חיטוי | D28: =(346*6.16*6)/1000 -> 12.78816 | E28: =D28/2 -> 6.39408 | F28: 0 | G28: 0 | H28: 0 | I28: 0 | J28: מבוטל
A29: 47 | B29: 1813222780 | C29: ביה"ס מוריה קו"ק חומרי חיטוי | D29: =(300*6.16*6)/1000 -> 11.088 | E29: =D29/2 -> 5.544 | F29: 0 | G29: 0 | H29: 0 | I29: 0 | J29: מבוטל
A30: 48 | B30: 1813223780 | C30: ביה"ס ניצנים קו"ק חומרי חיטוי | D30: =(171*6.16*6)/1000 -> 6.32016 | E30: =D30/2 -> 3.16008 | F30: 0 | G30: 0 | H30: 0 | I30: 0 | J30: מבוטל
A31: 49 | B31: 1813224780 | C31: ביה"ס אופק קו"ק חומרי חיטוי | D31: =(601*6.16*6)/1000 -> 22.21296 | E31: =D31/2 -> 11.10648 | F31: 0 | G31: 0 | H31: 0 | I31: 0 | J31: מבוטל
A32: 50 | B32: 1813225780 | C32: ביה"ס איריסים קו"ק חומרי חיטוי | D32: =(528*6.16*6)/1000 -> 19.51488 | E32: =D32/2 -> 9.75744 | F32: 0 | G32: 0 | H32: 0 | I32: 0 | J32: מבוטל
A33: 68 | B33: 1822200780 | C33: הוצאות תרבות | D33: 0 | E33: =D33/2 -> 0 | F33: 0 | G33: 0 | J33: לבטל
A34: 73 | B34: 1822400780 | C34: הוצאות דיינר כנגד הפקדות | D34: 0 | E34: =D34/2 -> 0 | F34: 0 | G34: 0 | H34: 0 | I34: 0 | J34: לבטל
A35: 74 | B35: 1824110780 | C35: החזר הלוואה מתנס הנגשת בריכה | D35: 0 | E35: =D35/2 -> 0 | F35: 0 | G35: 0 | I35: 0 | J35: לבטל
A36: 83 | B36: 1826400780 | C36: פסטיבל תמיכה שנתית | D36: 0 | E36: =D36/2 -> 0 | F36: 0 | G36: 0 | H36: 0 | I36: 0 | J36: לבטל
A37: 84 | B37: 1826410780 | C37: החזר מלווה עמ' הפסטיבל (1 מליון ₪) | D37: 0 | E37: =D37/2 -> 0 | F37: 0 | G37: 0 | J37: לבטל
A38: 90 | B38: 1827300780 | C38: תרבות יהודית הכנ' ממשלה ועצמיות | D38: 10 | E38: =D38/2 -> 5 | F38: 10 | G38: 0 | H38: 0 | I38: 0 | J38: לבטל
A39: 105 | B39: 1939000780 | C39: הוצאות אחרות מח' נכסים | D39: 0 | E39: =D39/2 -> 0 | F39: 1 | G39: 0 | H39: 0 | I39: 0 | J39: לבטל
A40: 8 | B40: 1611600782 | C40: שוטף יחידה אסטרטגית -רכש | D40: 0 | E40: 0 | F40: 0 | G40: 0 | H40: 0 | I40: 0 | J40: לבטל
...

Sheet הכנסות 1
A2: עדכון תקציב 2022 והצעת תקציב 2023- הכנסות
A4: מס' | B4: מס חשבון | C4: שם חשבון | D4: ביצוע 2021 | E4: תקציב 2022 מעודכן (מס 1) | F4: ביצוע 1-6/2022 | G4: תקציב 2022 מעודכן (מס 2) | H4: הצעה 2023 | I4: הערות/ קישורים
A5: 1 | B5: 1111000100 | C5: ארנונה כללית | D5: =171051+956 -> 172007 | E5: 180888 | F5: 99403 | G5: =179919+1800+600 -> 182319 | H5: =G5*1.0192+2000+2000 -> 189819.52 | I5: עדכון אוטומטי 1.92%+ סקר מדידות
A6: 2 | B6: 1111000910 | C6: שיפוי ארנונה משרדי ממשלה סבב א' | D6: 0 | E6: 0 | F6: 0 | G6: 0 | H6: 0
C7: שיפוי ארנונה רשות המיסים סבב ב' | D7: 1573 | E7: 1500 | F7: 0 | G7: 100 | H7: 40
A8: 3 | B8: 1111200100 | C8: אכיפה מלגם | D8: 3 | E8: 100 | F8: 2 | G8: 2 | H8: 0
A9: 4 | B9: 1113000100 | C9: הנחות ארנונה רישום מקביל | D9: 33076 | E9: 27000 | F9: 20123 | G9: =(20123/23285)*39425-2000 -> 32071.259 | H9: 32000
A10: 5 | B10: 1121000220 | C10: תעודות ואישורים | D10: 67 | E10: 60.3 | F10: 32 | G10: 60 | H10: 60
A11: 6 | B11: 1121100220 | C11: אישור תושב | D11: 297 | E11: 350 | F11: 261 | G11: 300 | H11: 300
A12: 7 | B12: 1122000210 | C12: אגרת שלטים | D12: 1195 | E12: 1440 | F12: 797 | G12: 1131 | H12: 1300
A13: 8 | B13: 1122000211 | C13: הכנסות משלטי חוצות | D13: 95 | E13: 85 | F13: 117 | G13: 117 | H13: =85*1.17 -> 99.45
A14: 9 | B14: 1129000290 | C14: רשוי עסקים | D14: 34 | E14: 130 | F14: 29 | G14: 40 | H14: 40
A15: 10 | B15: 1129000291 | C15: רישיון עסק בנק הדואר | D15: 18 | E15: 40 | F15: 6 | G15: 20 | H15: 20
A16: 11 | B16: 1191000910 | C16: מענק כללי | D16: 7319 | E16: 7319 | F16: 3194 | G16: 6400 | H16: 7300
A17: 12 | B17: 1192000910 | C17: מענק משרד הפנים-חד פעמיים | D17: 5988 | E17: 4454.0688 | F17: 10 | G17: 4307 | H17: 4307
A18: 13 | B18: 1196000910 | C18: החזר מזכירים קלפיות | H18: 200
A19: 14 | B19: 1212300650 | C19: שימוש במזבלה עירונית | D19: 148 | E19: 480 | F19: 278 | G19: 480 | H19: 500
A20: 15 | B20: 1212300690 | C20: פנוי פסולת מגורים | D20: 12 | E20: 18 | F20: 6 | G20: 15 | H20: 15
A21: 16 | B21: 1214200220 | C21: אגרת רשיונות לכלבים | D21: 12 | E21: 350 | F21: 316 | G21: 350 | H21: 350
A22: 17 | B22: 1214210220 | C22: הכנסות מפיקוח וטרינרי בשווקים | D22: 505 | E22: 250 | F22: 67 | G22: 67 | H22: 150
A23: 18 | B23: 1222100910 | C23: השתתפות ממשלה במשא"ז | D23: 0 | E23: 12 | F23: 0 | G23: 12 | H23: 12
A24: 19 | B24: 1229000440 | C24: השת' רשויות בהפעלת פיקוד העורף | D24: 0 | E24: 0 | F24: 0 | G24: 50 | H24: 50
A25: 20 | B25: 1229999910 | C25: הכנסות משרדי ממשלה קורונה | D25: 1282 | E25: 926 | F25: 0 | G25: 481 | H25: 0
A26: 21 | B26: 1230000690 | C26: כיסוי הוצ' מח' הנדסה | D26: 9725 | E26: 8091 | F26: 900 | G26: =5422*1.15+12878-1800-3500-1775+3 -> 12041.3 | H26: =5500*1.15+14732-2000-4000-436+3 -> 14624
A27: 17 | B27: 1232000690 | C27: מידע תכנוני מח' הנדסה | D27: לבטל שורה | E27: 0
A28: 22 | B28: 1233100290 | C28: אגרת רשיונות בניה | D28: 2959 | E28: 4000 | F28: 1572 | G28: =2200+600+793 -> 3593 | H28: 4000
A29: 23 | B29: 1269000540 | C29: החזר מחברות ביטוח | D29: 101 | E29: 200 | F29: 60 | G29: 250 | H29: 300
A30: 24 | B30: 1269000620 | C30: הכנסות ממכירת ציוד | D30: 10 | E30: 110 | F30: 42 | G30: 42 | H30: =70+20 -> 90
A31: 25 | B31: 1269000690 | C31: הכנסות שונות | D31: =3782+12 -> 3794 | E31: 1000 | F31: 141 | G31: =1000+3049 -> 4049 | H31: 1000
A32: 22 | B32: 1269000696 | C32: הכנסות | D32: לבטל שורה | E32: 0
A33: 26 | B33: 1269011690 | C33: הכנסות בעד שרותים הנדסיים | D33: 97 | E33: 120 | F33: 9 | G33: 20 | H33: 20
A34: 27 | B34: 1269012690 | C34: אגרת מידע | D34: 29 | E34: 40 | F34: 13 | G34: 40 | H34: 40
A35: 25 | B35: 1269022690 | C35: חוק חופש המידע | D35: לבטל שורה | E35: 0
A36: 26 | B36: 1269023690 | C36: הכנסות מדמי שרות במטווח | D36: לבטל שורה | E36: 0
A37: 27 | B37: 1269034690 | C37: פרוייקט מחשב לכל ילד | D37: לבטל שורה | E37: 0
A38: 28 | B38: 1269042690 | C38: הכנסות מדוכנים-עצמאות קלי | D38: לבטל שורה | E38: 0
A39: 28 | B39: 1269050690 | C39: אולם ארועים ברחוב צהל | D39: 4 | E39: 10 | F39: 6 | G39: 12 | H39: 12
A40: 29 | B40: 1269053690 | C40: הכנסות מפינוי אשפה באזור התעשיה | D40: 359 | E40: 400 | F40: 7 | G40: =(500+330+20*4)*350*1.17/1000 -> 372.645 | H40: =580*350*1.17/1000 -> 237.51
A41: 30 | B41: 1269056690 | C41: הכנסות מעמלת עו"ד | D41: 223 | E41: 200 | F41: 148 | G41: 300 | H41: 300
A42: 31 | B42: 1269063690 | C42: הכנסות תרבות ערכי | D42: 9 | E42: 30 | F42: 48 | G42: =95+72 -> 167 | H42: 30
...

Sheet גיליון1

Sheet הוצאות 2
A2: עדכון תקציב 2022 הצעת תקציב 2023 - הוצאות
A4: מס | B4: סעיף | C4: שם החשבון | D4: ביצוע 2021 | E4: תקציב 2022 מעודכן (מס 1) | F4: ביצוע 1-6/2022 | G4: תקציב 2022 מעודכן (מס 2) | H4: הצעה 2023 | I4: קישורים
A5: 1 | B5: 110 | C5: משכורות שוטף | D5: 133818 | E5: 138248 | F5: ='הוצאות שכר 6'!E123-'הוצאות שכר 6'!E113-'הוצאות שכר 6'!E31-'הוצאות שכר 6'!E32 -> 71032 | G5: ='הוצאות שכר 6'!D140-'הוצאות שכר 6'!F129 -> 139402.41 | H5: ='הוצאות שכר 6'!E140-'הוצאות שכר 6'!G129 -> 141839.06 | I5: ראה עמוד 8
A6: 2 | B6: 300-320 | C6: פנסיונרים ופיצויים | D6: 27674 | E6: 28500 | F6: ='הוצאות שכר 6'!E129 -> 15432 | G6: ='הוצאות שכר 6'!F129 -> 30290 | H6: ='הוצאות שכר 6'!G129 -> 30290 | I6: ראה עמוד-8
A7: 3 | B7: 410 | C7: שכר דירה | D7: ='שכד ביטוחים עיתונים ומשלחות 7 '!D5 -> 42 | E7: 75.2 | F7: ='שכד ביטוחים עיתונים ומשלחות 7 '!F6 -> 76 | G7: ='שכד ביטוחים עיתונים ומשלחות 7 '!G6 -> 84 | H7: ='שכד ביטוחים עיתונים ומשלחות 7 '!H6 -> 84 | I7: ראה עמוד-12
A8: 4 | B8: 420 | C8: הג"א מקומי | D8: 480 | E8: 480 | F8: =' 19 הג"א'!F27 -> 256 | G8: =' 19 הג"א'!G27 -> 480 | H8: =' 19 הג"א'!H27 -> 480
A9: 5 | B9: 422 | C9: אחזקת נגררים | D9: ='תיקונים ורישוי 14'!F50 -> 40 | E9: ='תיקונים ורישוי 14'!G50 -> 0 | F9: ='תיקונים ורישוי 14'!H50 -> 55 | G9: ='תיקונים ורישוי 14'!I51 -> 85 | H9: ='תיקונים ורישוי 14'!J51 -> 85
A10: 6 | B10: 430-771 | C10: חשמל,מים מוסדות עירייה ותאורת רחובות | D10: ='חשמל ומים 12'!D22+'חשמל ומים 12'!D26 -> 6695 | E10: ='חשמל ומים 12'!E22+'חשמל ומים 12'!E26 -> 3916 | F10: ='חשמל ומים 12'!F22+'חשמל ומים 12'!F26 -> 2831 | G10: ='חשמל ומים 12'!G28 -> 5368 | H10: ='חשמל ומים 12'!H28 -> 5276 | I10: ראה עמוד-20
A11: 7 | B11: 440 | C11: ביטוחים כלליים | D11: ='שכד ביטוחים עיתונים ומשלחות 7 '!D16 -> 3096 | E11: 3143 | F11: ='שכד ביטוחים עיתונים ומשלחות 7 '!F16 -> 2872 | G11: ='שכד ביטוחים עיתונים ומשלחות 7 '!G16 -> 3410 | H11: ='שכד ביטוחים עיתונים ומשלחות 7 '!H16 -> 3410 | I11: ראה עמוד-12
A12: 8 | B12: 470 | C12: אחזקת מכונות - מדפסות וציוד משרדי | D12: ='ציוד משרדי וכיבוד 11'!D42 -> 754 | E12: 753.04 | F12: ='ציוד משרדי וכיבוד 11'!F42 -> 393 | G12: ='ציוד משרדי וכיבוד 11'!G42 -> 763 | H12: ='ציוד משרדי וכיבוד 11'!H42 -> 753 | I12: ראה עמוד-18
A13: 9 | B13: 511 | C13: הוצאות כיבוד | D13: ='ציוד משרדי וכיבוד 11'!D57 -> 123 | E13: 124 | F13: ='ציוד משרדי וכיבוד 11'!F57 -> 112 | G13: ='ציוד משרדי וכיבוד 11'!G57 -> 160 | H13: ='ציוד משרדי וכיבוד 11'!H57 -> 140 | I13: ראה עמוד-19
A14: 10 | B14: 513 | C14: ארוח משלחות | D14: ='שכד ביטוחים עיתונים ומשלחות 7 '!D23 -> 0 | E14: 20 | F14: ='שכד ביטוחים עיתונים ומשלחות 7 '!F23 -> 13 | G14: ='שכד ביטוחים עיתונים ומשלחות 7 '!G23 -> 17 | H14: ='שכד ביטוחים עיתונים ומשלחות 7 '!H23 -> 17 | I14: ראה עמוד-12
A15: 11 | B15: 522 | C15: ספרים ועיתונים | D15: ='שכד ביטוחים עיתונים ומשלחות 7 '!D31 -> 0 | E15: 0.4 | F15: ='שכד ביטוחים עיתונים ומשלחות 7 '!F31 -> 0 | G15: ='שכד ביטוחים עיתונים ומשלחות 7 '!G31 -> 2 | H15: ='שכד ביטוחים עיתונים ומשלחות 7 '!H31 -> 2 | I15: ראה עמוד-12
A16: 12 | B16: 530 | C16: דמי שימוש לאשכול, רכישות רכבים | D16: ='דלק ורכבים 13'!E34 -> 298 | E16: 584 | F16: ='דלק ורכבים 13'!G34 -> 343 | G16: ='דלק ורכבים 13'!H34 -> 384 | H16: ='דלק ורכבים 13'!I34 -> 384 | I16: ראה עמוד-21
A17: 13 | B17: 531 | C17: דלק ושמנים | D17: 1067 | E17: 1199.52 | F17: ='דלק ורכבים 13'!G24 -> 694 | G17: ='דלק ורכבים 13'!H24 -> 1335 | H17: ='דלק ורכבים 13'!I24 -> 1342 | I17: ראה עמוד-21
A18: 14 | B18: 532 | C18: תיקונים | D18: ='תיקונים ורישוי 14'!F28 -> 902 | E18: 959.328 | F18: ='תיקונים ורישוי 14'!H28 -> 695 | G18: ='תיקונים ורישוי 14'!I28 -> 942 | H18: ='תיקונים ורישוי 14'!J28 -> 1360 | I18: ראה עמוד-22
A19: 15 | B19: 533 | C19: רשוי וביטוח | D19: ='תיקונים ורישוי 14'!F46 -> 416 | E19: 428 | F19: ='תיקונים ורישוי 14'!H46 -> 390 | G19: ='תיקונים ורישוי 14'!I46 -> 415 | H19: ='תיקונים ורישוי 14'!J46 -> 415 | I19: ראה עמוד-23
A20: 16 | B20: 534 | C20: ליסינג רכבי עירייה | D20: ='ליסינג 15'!E21 -> 1605 | E20: 1704.896 | F20: ='ליסינג 15'!G21 -> 769 | G20: ='ליסינג 15'!H21 -> 1669 | H20: ='ליסינג 15'!I21 -> 1804 | I20: ראה עמוד-24
A21: 17 | B21: 540 | C21: הוצאות תקשורת וניידים, נייחים ודואר | D21: ='תקשורת פרסום ומחשוב 16'!F6 -> 1585.7143 | E21: 1585.7143 | F21: ='תקשורת פרסום ומחשוב 16'!H6 -> 796 | G21: ='תקשורת פרסום ומחשוב 16'!I6 -> 1586 | H21: ='תקשורת פרסום ומחשוב 16'!J6 -> 1586 | I21: ראה עמוד-25
A22: 18 | B22: 550 | C22: פרסומים | D22: ='תקשורת פרסום ומחשוב 16'!F15 -> 241 | E22: 302 | F22: ='תקשורת פרסום ומחשוב 16'!H15 -> 223 | G22: ='תקשורת פרסום ומחשוב 16'!I15 -> 301 | H22: ='תקשורת פרסום ומחשוב 16'!J15 -> 301 | I22: ראה עמוד-25
A23: 19 | B23: 570 | C23: הוצאות מחשוב,מערכות ליבה: הנה"ח,גביה ושכר | D23: ='תקשורת פרסום ומחשוב 16'!F24 -> 946 | E23: 1458 | F23: ='תקשורת פרסום ומחשוב 16'!H24 -> 506 | G23: ='תקשורת פרסום ומחשוב 16'!I24 -> 1368 | H23: ='תקשורת פרסום ומחשוב 16'!J24 -> 1368 | I23: ראה עמוד-25
A24: 20 | B24: 610 | C24: ריבית ועמלות | D24: ='ריבית ועמלות ופרעון 17'!F8 -> 1882 | E24: 850 | F24: ='ריבית ועמלות ופרעון 17'!H8 -> 3242 | G24: ='ריבית ועמלות ופרעון 17'!I8 -> 1201 | H24: ='ריבית ועמלות ופרעון 17'!J8 -> 1200 | I24: ראה עמוד-26
A25: 21 | B25: 691-693 | C25: פרעון מלוות | D25: ='ריבית ועמלות ופרעון 17'!F21 -> 10383 | E25: 11324.04 | F25: ='ריבית ועמלות ופרעון 17'!H21 -> 8359 | G25: ='ריבית ועמלות ופרעון 17'!I21 -> 12878 | H25: ='ריבית ועמלות ופרעון 17'!J21 -> 14732 | I25: ראה עמוד-26
A26: 22 | B26: 710 | C26: הסעות תלמידים | D26: ='עבודות קבלניות 18'!D56 -> 6616 | E26: 6500 | F26: ='עבודות קבלניות 18'!F56 -> 3476 | G26: ='עבודות קבלניות 18'!G56 -> 7020 | H26: ='עבודות קבלניות 18'!H56 -> 7300 | I26: ראה עמוד-28
A27: 23 | B27: 720 | C27: הוצאות מים וגינון | D27: ='חשמל ומים 12'!D35 -> 2697 | E27: 3980 | F27: ='חשמל ומים 12'!F35 -> 781 | G27: ='חשמל ומים 12'!G35 -> 2296 | H27: ='חשמל ומים 12'!H35 -> 2296 | I27: ראה עמוד-20
A28: 24 | B28: 750 | C28: עבודות קבלניות | D28: ='עבודות קבלניות 18'!D25 -> 28089 | E28: 28066 | F28: ='עבודות קבלניות 18'!F25 -> 15881 | G28: ='עבודות קבלניות 18'!G25 -> 28156 | H28: ='עבודות קבלניות 18'!H25 -> 27731 | I28: ראה עמוד-27
A29: 25 | B29: 760 | C29: תלמידי חוץ ח"מ | D29: ='עבודות קבלניות 18'!D31 -> 1084 | E29: 500 | F29: 750 | G29: 850 | H29: 600 | I29: =I28 -> ראה עמוד-27
A30: 26 | B30: 780 | C30: הוצאות פעילות שוטפת לפי פרוט מחלקות | D30: ='20-780'!D93 -> 10810 | E30: 12494.6 | F30: ='20-780'!F93 -> 8459 | G30: ='20-780'!G93 -> 14292.5 | H30: ='20-780'!H93 -> 13773 | I30: ראה עמוד- 29
A31: 27 | B31: 781 | C31: פיתוח כלכלי | D31: ='עבודות קבלניות 18'!D43 -> 221 | E31: 590 | F31: ='עבודות קבלניות 18'!F43 -> 95 | G31: ='עבודות קבלניות 18'!G43 -> 232.5 | H31: ='עבודות קבלניות 18'!H43 -> 651 | I31: ראה עמוד -28
A32: 28 | B32: 782 | C32: הוצאות פעילות שוטפת לפי פרוט מחלקות | D32: ='21-782'!F97 -> 14484 | E32: 13947.5 | F32: ='21-782'!H97 -> 6298 | G32: ='21-782'!I97 -> 13607.14 | H32: ='21-782'!J97 -> 14634 | I32: ראה עמוד-31
A33: 29 | B33: 800 | C33: החזר השתתפות משלחות פולין וייצוג העירייה והחזר מתנות לנבחרים | D33: ='עבודות קבלניות 18'!D49 -> 14 | E33: 45 | F33: ='עבודות קבלניות 18'!F49 -> 10 | G33: ='עבודות קבלניות 18'!G49 -> 35 | H33: ='עבודות קבלניות 18'!H49 -> 35 | I33: ראה עמוד -28
A34: 30 | B34: 810 | C34: השתתפויות ותמיכות בפעילויות | D34: ='תמיכות 22'!D51 -> 21041.836 | E34: 19306 | F34: ='תמיכות 22'!F51 -> 10362 | G34: ='תמיכות 22'!G51 -> 17584 | H34: ='תמיכות 22'!H51 -> 20116 | I34: ראה עמוד-33
A35: 31 | B35: 811 | C35: הג"א ארצי | D35: 317 | E35: 317 | F35: 0 | G35: =' 19 הג"א'!G16 -> 318 | H35: =' 19 הג"א'!H16 -> 318 | I35: ראה עמוד-28
A36: 32 | B36: 830 | C36: ת.תקשוב - קיזוז רשויות | D36: ='עבודות קבלניות 18'!D62 -> 0 | E36: ='עבודות קבלניות 18'!E62 -> 0 | F36: ='עבודות קבלניות 18'!F62 -> 68 | G36: ='עבודות קבלניות 18'!G62 -> 308 | H36: ='עבודות קבלניות 18'!H62 -> 310 | I36: ראה עמוד 27
A37: 33 | B37: 840 | C37: רווחה | D37: =' הוצאות רווחה 8'!D110 -> 44678 | E37: 46193 | F37: =' הוצאות רווחה 8'!F110 -> 23132 | G37: =' הוצאות רווחה 8'!G110 -> 51058 | H37: =' הוצאות רווחה 8'!H110 -> 50588 | I37: ראה עמוד-13
A38: 34 | B38: 860 | C38: הנחות ארנונה רישום מקביל | D38: 33076 | E38: 27000 | F38: 20123 | G38: =(20123/23285)*39425-2000 -> 32071.259 | H38: 32000 | I38: ראה עמוד-1
A39: 35 | B39: 550-993 | C39: הוצאות חירום קורונה | D39: ='סעיפי קורונה 10'!E22 -> 489.95 | E39: 956 | F39: ='סעיפי קורונה 10'!G22 -> 814 | G39: ='סעיפי קורונה 10'!H24 -> 841 | H39: ='סעיפי קורונה 10'!I24 -> 0 | I39: ראה עמוד -17
A40: 36 | B40: 930 | C40: הג"א חירום | D40: 60 | E40: 60 | F40: =' 19 הג"א'!F34 -> 20 | G40: =' 19 הג"א'!G34 -> 60 | H40: =' 19 הג"א'!H34 -> 60
A41: 37 | B41: 960 | C41: רזרבה לפעולות | D41: 0 | E41: 100 | F41: 0 | G41: 100 | H41: 100
A42: 38 | B42: 960 | C42: הוצאות לשעת חירום מותנות | D42: 0 | E42: 100 | F42: 0 | G42: 0 | H42: 100
...

Sheet הכנסות חינוך 3
A1: הכנסות בנושא חינוך - השתתפות ממשלה
A3: מס' | B3: מס. חשבון | C3: שם חשבון | D3: ביצוע 2021 | E3: תקציב 2022 מעודכן (מס 1) | F3: ביצוע 1-6/2022 | G3: תקציב 2022 מעודכן (מס 2) | H3: הצעה 2023
A4: 1 | B4: 1312200920 | C4: השתת' הממשלה לג.ילדים חובה | D4: 4069 | E4: =D4*1.02 -> 4150.38 | F4: 2005 | G4: 4000 | H4: 4000
A5: 2 | B5: 1312200923 | C5: עוזרות יוח"א ומיל"ת | D5: 434 | E5: =D5*1.02 -> 442.68 | F5: 179 | G5: 360 | H5: 360
A6: 3 | B6: 1312210920 | C6: סייעת שניה והעשרה | D6: 1627 | E6: =D6*1.02 -> 1659.54 | F6: 636 | G6: 1400 | H6: 1400
A7: 4 | B7: 1312211920 | C7: קיטנות השתתפות מ.חינוך | D7: 759 | E7: 0 | F7: =2396+25 -> 2421 | G7: 1200 | H7: 1200
A8: 5 | B8: 1312300920 | C8: השת' הממשלה לג.ילדים ט.חובה | D8: 10211 | E8: =D8*1.02 -> 10415.22 | F8: 5307 | G8: 10100 | H8: 10100
A9: 6 | B9: 1312500920 | C9: החזרי צהרונים מ.תמ"ת | D9: 541 | E9: 0 | F9: 99 | G9: 150 | H9: 150
A10: 7 | B10: 1312600921 | C10: העשרה ח. מיוחד - גני ילדים | D10: =37-31 -> 6 | E10: 40 | F10: =65+4 -> 69 | G10: 110 | H10: 110
A11: 8 | B11: 1313200920 | C11: השתת' הממשלה לבת"ס יסודיים כולל ביה"ס וגנ"י לחופש גדול | D11: 1531 | E11: 2000 | F11: 1536 | G11: 2800 | H11: 2800
A12: 9 | B12: 1313200921 | C12: הכנסות כלליות | D12: 4692 | E12: 1916 | F12: 893 | G12: 2700 | H12: 430
A13: 10 | B13: 1313200922 | C13: ציוד ראשוני - יוח"א | D13: -12 | E13: 50 | F13: 0 | G13: 0 | H13: 50
A14: 11 | B14: 1313200924 | C14: הזנה יוח"א בבתי ספר | D14: =614-95 -> 519 | E14: 550 | F14: 407 | G14: 650 | H14: 650
A15: 12 | B15: 1313200925 | C15: סיעות כית.בי"ס חריגות | D15: 834 | E15: 0 | F15: 301 | G15: 550 | H15: 550
A16: 13 | B16: 1313200926 | C16: סייעות כיתתיות | D16: 3023 | E16: 0 | F16: 1914 | G16: 3400 | H16: 3400
A17: 14 | B17: 1313200927 | C17: סייעות רפואיות | D17: 2000 | E17: 0 | F17: 1207 | G17: 2100 | H17: 2100
A18: 15 | B18: 1313210920 | C18: חינוך תעבורתי | D18: 6 | E18: 5 | F18: 8 | G18: 12 | H18: 12
A19: 16 | B19: 1313214920 | C19: תכנית ניצנים | D19: 405 | E19: 400 | F19: 250 | G19: 400 | H19: 400
A20: 17 | B20: 1313215920 | C20: אגרות תלמידי חוץ | D20: 73 | E20: 300 | F20: 0 | G20: 100 | H20: 150
A21: 18 | B21: 1313220920 | C21: חוק שילוב - סייעות | D21: 2021 | E21: 2127 | F21: 1144 | G21: 2127 | H21: 2130
A22: 19 | B22: 1313220922 | C22: סייעת לילד חולה בבית | D22: 0 | E22: 0 | F22: 115 | G22: 120 | H22: 120
A23: 20 | B23: 1313230920 | C23: סל תלמיד עולה יסודי | D23: -16 | E23: 80 | F23: 43 | G23: 60 | H23: 60
A24: 21 | B24: 1313230922 | C24: צמצום פערים | D24: 188 | E24: 0 | F24: 315 | G24: 460 | H24: 0
A25: 22 | B25: 1313240920 | C25: תוספת סייעת יוח"א גנים | D25: 489 | E25: =D25*1.02 -> 498.78 | F25: 174 | G25: 290 | H25: 290
A26: 23 | B26: 1313250920 | C26: ביה"ס ניהול עצמי | D26: =3301+46+64+289 -> 3700 | E26: 3500 | F26: 1578 | G26: 580 | H26: 0
A27: 24 | B27: 1313260920 | C27: אגרת שיכפול | D27: 160 | E27: 100 | F27: 111 | G27: 140 | H27: 40
A28: 25 | B28: 1313270920 | C28: מועדוניות ברשות | D28: 278 | E28: 300 | F28: 136 | G28: 280 | H28: 280
A29: 26 | B29: 1313291920 | C29: שרתים ומזכירים | D29: 0 | E29: 0 | F29: 833 | G29: 1620 | H29: 1620
A30: 27 | B30: 1313300920 | C30: מתי"א - שרתים | D30: 60 | E30: =D30*1.02 -> 61.2 | F30: 31 | G30: 61 | H30: 61
A31: 28 | B31: 1313300921 | C31: מתי"א - מזכירים | D31: 121 | E31: =D31*1.02 -> 123.42 | F31: 62 | G31: 123 | H31: 123
A32: 29 | B32: 1313310920 | C32: שירותי היקף - ח. מיוחד | D32: 190 | E32: =D32*1.02 -> 193.8 | F32: 64 | G32: 109 | H32: 110
A33: 30 | B33: 1313320920 | C33: ה. נלוות ח. מיוחד - מוסד | D33: 132 | E33: =D33*1.02 -> 134.64 | F33: 129 | G33: 185 | H33: 185
A34: 31 | B34: 1313340920 | C34: חופשות לאוטיסטים | D34: 131 | E34: =D34*1.02 -> 133.62 | F34: 21 | G34: 150 | H34: 150
A35: 32 | B35: 1313350920 | C35: שרתים ומזכירים חפץ חיים | D35: 173 | E35: =D35*1.02 -> 176.46 | F35: 0 | G35: 200 | H35: 200
A36: 33 | B36: 1313600920 | C36: שרתים יום חינוך ארוך | D36: 332 | E36: =D36*1.02 -> 338.64 | F36: 172 | G36: 330 | H36: 330
A37: 34 | B37: 1313600921 | C37: מזכירים יום חינוך ארוך | D37: 116 | E37: =D37*1.02 -> 118.32 | F37: 60 | G37: 118 | H37: 118
A38: 35 | B38: 1313700920 | C38: שרתים חוות ומרכזים | D38: 270 | E38: =D38*1.02 -> 275.4 | F38: 147 | G38: 280 | H38: 280
A39: 36 | B39: 1313700921 | C39: מזכירים - חוות ומרכזים | D39: 86 | E39: =D39*1.02 -> 87.72 | F39: 47 | G39: 90 | H39: 90
A40: 37 | B40: 1317100920 | C40: השתת' הממשלה לקב"טים | D40: 145 | E40: =D40*1.02 -> 147.9 | F40: 74 | G40: 148 | H40: 148
A41: 38 | B41: 1317100990 | C41: אבטחת מוס' חינוך משטרת ישראל | D41: 1900 | E41: 2100 | F41: 696 | G41: 2000 | H41: 2100
...

Sheet הכנסות תרבות 4
A2: הכנסות בנושא תרבות - השתתפות ממשלה
A4: מס' | B4: מס. חשבון | C4: שם חשבון | D4: ביצוע 2021 | E4: תקציב 2022 מעודכן (מס 1) | F4: ביצוע 1-6/2022 | G4: תקציב 2022 מעודכן (מס 2) | H4: הצעה 2023
A5: 1 | B5: 1322000920 | C5: השתתפות ממשלה בסל ספורט | D5: 488 | E5: 300 | F5: 189 | G5: 340 | H5: 350
A6: 2 | B6: 1322000990 | C6: הכנסות שרות התעסוקה+נגב גליל למרכז צעירים | D6: 243 | E6: 590 | F6: 23 | G6: =225+90+150+130+75 -> 670 | H6: 700
A7: 3 | B7: 1322100920 | C7: הכנסות ממשלה תרבות (כללית) | D7: 0 | E7: 400 | F7: 0 | G7: 100 | H7: 200
A8: 4 | B8: 1325100920 | C8: השת.הממשלה בחינוך מוזיקלי | D8: 358 | E8: 400 | F8: 0 | G8: 400 | H8: 400
B9: סה"כ | D9: =SUM(D5:D8) -> 1089 | E9: =SUM(E5:E8) -> 1690 | F9: =SUM(F5:F8) -> 212 | G9: =SUM(G5:G8) -> 1510 | H9: =SUM(H5:H8) -> 1650
A11: הכנסות בנושא תרבות - הכנסות עצמיות
A13: מס' | B13: מס. חשבון | C13: שם חשבון | D13: ביצוע 2021 | E13: תקציב 2022 מעודכן (מס 1) | F13: ביצוע 1-6/2022 | G13: תקציב 2022 מעודכן (מס 2) | H13: הצעה 2023
A14: 1 | B14: 1322000420 | C14: הכנסות מרכז ברוך | D14: 0 | E14: 50 | F14: 0 | G14: 20 | H14: 50
A15: 2 | B15: 1322100420 | C15: הכנסות אגף ספורט עירוני | D15: 271 | E15: 300 | F15: 91 | G15: 200 | H15: 200
A16: 3 | B16: 1322300420 | C16: סל תרבות | D16: 582 | E16: 500 | F16: 196 | G16: 750 | H16: 100
A17: 5 | B17: 1323000420 | C17: הכנסות מספריות | D17: 5 | E17: 30 | F17: 1 | G17: 10 | H17: 30
A18: 6 | B18: 1324000420 | C18: הכנסות מזאפה | D18: 0 | E18: 200 | F18: 0 | G18: 200 | H18: 200
A19: 7 | B19: 1325100220 | C19: שכ"ל בקונסרבטוריון | D19: 1658 | E19: 1900 | F19: 1120 | G19: 1700 | H19: 1800
A20: 8 | B20: 1325110220 | C20: הכנסות מהופעות קונסרבטוריון | D20: =42+2 -> 44 | E20: 288 | F20: 0 | G20: 50 | H20: 50
B21: סה"כ | D21: =SUM(D14:D20) -> 2560 | E21: =SUM(E14:E20) -> 3268 | F21: =SUM(F14:F20) -> 1408 | G21: =SUM(G14:G20) -> 2930 | H21: =SUM(H14:H20) -> 2430
A23: הכנסות פסטיבל - עצמיות, תרומות, פרסום וייעודיות
A25: מס' | B25: מס. חשבון | C25: שם חשבון | D25: ביצוע 2021 | E25: תקציב 2022 מעודכן (מס 1) | F25: ביצוע 1-6/2022 | G25: תקציב 2022 מעודכן (מס 2) | H25: הצעה 2023
A26: 1 | B26: 1322500420 | C26: מכירת כרטיסים פסטיבל | D26: 518 | E26: 0 | F26: 0 | G26: 0 | H26: 0
A27: 2 | B27: 1322600420 | C27: תרומות וחסויות פסטיבל | D27: 0 | E27: 50 | F27: 0 | G27: 0 | H27: 0
A28: 3 | B28: 1322800990 | C28: הכנסות ממשרדי ממשלה פסטיבל | D28: 0 | E28: 1700 | F28: 0 | G28: 220 | H28: 220
B29: סה"כ | D29: =SUM(D26:D28) -> 518 | E29: =SUM(E26:E28) -> 1750 | F29: 0 | G29: =SUM(G26:G28) -> 220 | H29: =SUM(H26:H28) -> 220
E52: עמוד -4
C76: הכנסות בנושא תרבות - הכנסות עצמיות
B78: מס. חשבון | C78: שם חשבון | D78: ביצוע 2019 עפ"י דוחות משרד הפנים

Sheet הכנסות רווחה 5
A1: הכנסות בנושא רווחה - השתתפות ממשלה
A3: מס' | B3: מס. חשבון | C3: שם חשבון | D3: ביצוע 2021 | E3: תקציב 2022 מעודכן (מס 1) | F3: ביצוע 1-6/2022 | G3: תקציב 2022 מעודכן (מס 2) | H3: הצעה 2023
A4: 1 | B4: 1341000930 | C4: חליפת מיגון | D4: 45 | E4: 0 | F4: 20 | G4: 20 | H4: 20
A5: 2 | B5: 1341010930 | C5: שכר עובדי מחלקה | D5: 5015 | E5: =D5*1.12 -> 5616.8 | F5: 3283 | G5: 11245 | H5: 11245
A6: 3 | B6: 1341020930 | C6: כ"א לחינוך המיוחד | D6: 121 | E6: =D6*1.02 -> 123.42 | F6: 67 | G6: 123 | H6: 123
A7: 4 | B7: 1341200930 | C7: נושמים לרווחה-כ"א | D7: 358 | E7: =D7*1.02 -> 365.16 | F7: 191 | G7: 365 | H7: 365
A8: 5 | B8: 1341300930 | C8: חליפות מיגון | D8: 1 | E8: =D8*1.02 -> 1.02 | F8: 0 | G8: 31 | H8: 31
A9: 6 | B9: 1341030930 | C9: בטחון עובדים - מאבטחים | D9: 64 | E9: =D9*1.02 -> 65.28 | F9: 71 | G9: 164 | H9: 164
A10: 7 | B10: 1342210930 | C10: מקלטים לנשים מוכות | D10: 425 | E10: =D10*1.02 -> 433.5 | F10: 7 | G10: 350 | H10: 350
A11: 8 | B11: 1342221930 | C11: משפחות במצוקה בקהילה | D11: 446 | E11: =D11*1.02 -> 454.92 | F11: 33 | G11: 67 | H11: 67
A12: 9 | B12: 1342222930 | C12: רכזי מענים מגן זהב | D12: 189 | E12: =D12*1.02 -> 192.78 | F12: 43 | G12: 86 | H12: 86
A13: 10 | B13: 1342240930 | C13: מסגרת ארציות לדרי רחוב | D13: =172+2 -> 174 | E13: =177+2 -> 179 | F13: 72 | G13: 153 | H13: 153
A14: 11 | B14: 1342290930 | C14: שיחות רווחה | D14: 51 | E14: =D14*1.02 -> 52.02 | F14: 29 | G14: 52 | H14: 52
A15: 12 | B15: 1342410930 | C15: תחנות לטפול במשפחה | D15: 89 | E15: =D15*1.02 -> 90.78 | F15: 0 | G15: 91 | H15: 91
A16: 13 | B16: 1342411930 | C16: מ.טיפול באלימות ילדי חוץ | D16: 87 | E16: =D16*1.02 -> 88.74 | F16: 0 | G16: 89 | H16: 89
A17: 14 | B17: 1342420930 | C17: תכנית למניעת אלימת | D17: 60 | E17: =D17*1.02 -> 61.2 | F17: 26 | G17: 107 | H17: 107
A18: 15 | B18: 1342430930 | C18: מרכזי טיפול באלימות | D18: 352 | E18: =D18*1.02 -> 359.04 | F18: 213 | G18: 359 | H18: 359
A19: 16 | B19: 1342431930 | C19: ת.לאומית נוער וצעירים | D19: 46 | E19: =D19*1.02 -> 46.92 | F19: 1 | G19: 47 | H19: 47
A20: 17 | B20: 1342432930 | C20: יתד תכניות צעירים | D20: 0 | E20: 0 | F20: 0 | G20: 114 | H20: 114
A21: 18 | B21: 1342433930 | C21: יתד- סל גמיש | D21: 252 | E21: =D21*1.02 -> 257.04 | F21: 55 | G21: 13 | H21: 13
A22: 19 | B22: 1342436930 | C22: תכנית לאומית תכנית ייחודי | D22: 0 | E22: =D22*1.02 -> 0 | F22: 0 | G22: 162 | H22: 162
A23: 20 | B23: 1342437930 | C23: מיתר | D23: 25 | E23: =D23*1.02 -> 25.5 | F23: 0 | G23: 26 | H23: 0
A24: 21 | B24: 1342440930 | C24: טיפול בפרט ובמשפחה | D24: 8 | E24: =D24*1.02 -> 8.16 | F24: 0 | G24: 8 | H24: 8
A25: 22 | B25: 1342441930 | C25: מרכז עוצמה | D25: 204 | E25: =D25*1.02 -> 208.08 | F25: 0 | G25: 192 | H25: 192
A26: 23 | B26: 1342450930 | C26: סדנאות למשפחה | D26: 60 | E26: =D26*1.02 -> 61.2 | F26: 0 | G26: 61 | H26: 61
A27: 24 | B27: 1342451930 | C27: תוכניות קהילה למשפחות | D27: 0 | E27: 0 | F27: -4 | G27: 279 | H27: 279
A28: 25 | B28: 1342453930 | C28: טיפול במשפחות חירום-אוקרינה | D28: 0 | E28: 0 | F28: 0 | G28: 72 | H28: 20
A29: 26 | B29: 1343501930 | C29: עבודה קהילתית | D29: 9 | E29: 7 | F29: 3 | G29: 18 | H29: 18
A30: 27 | B30: 1343510930 | C30: טיפול במשפחות אומנה | D30: 247 | E30: =D30*1.02 -> 251.94 | F30: 146 | G30: 290 | H30: 290
A31: 28 | B31: 1343530930 | C31: טיפול בילד בקהילה | D31: =560+59+91 -> 710 | E31: =D31*1.02 -> 724.2 | F31: 234 | G31: 467 | H31: 467
A32: 29 | B32: 1343540930 | C32: מועדוניות משותפות | D32: 374 | E32: =D32*1.02 -> 381.48 | F32: 185 | G32: 173 | H32: 173
A33: 30 | B33: 1343550930 | C33: טיפול בפגיעות מיניות | D33: 184 | E33: =D33*1.02 -> 187.68 | F33: 111 | G33: 453 | H33: 453
A34: 31 | B34: 1343551930 | C34: פגיעות מניות בגירים | D34: 265 | E34: =D34*1.02 -> 270.3 | F34: 190 | G34: 328 | H34: 328
A35: 32 | B35: 1343552930 | C35: ת. לאומית ילד ונוער | D35: 0 | E35: =D35*1.02 -> 0 | F35: 2 | G35: 130 | H35: 130
A36: 33 | B36: 1343581930 | C36: ועדת תסקירים | D36: 0 | E36: =D36*1.02 -> 0 | F36: 0 | G36: 1 | H36: 1
A37: 34 | B37: 1343810930 | C37: אחזקת ילדים בפנימיות | D37: 2957 | E37: =D37*1.02 -> 3016.14 | F37: 1645 | G37: 3244 | H37: 3244
A38: 35 | B38: 1343820930 | C38: תכנית עם הפנים לקהילה | D38: 86 | E38: =D38*1.02 -> 87.72 | F38: 22 | G38: 88 | H38: 88
A39: 36 | B39: 1343910930 | C39: ילדים במעונות יום | D39: 782 | E39: =D39*1.02 -> 797.64 | F39: 365 | G39: 798 | H39: 798
A40: 37 | B40: 1344310930 | C40: אחזקה במעונות- א.ותיק | D40: 2812 | E40: =D40*1.02 -> 2868.24 | F40: 1237 | G40: 2868 | H40: 2868
A41: 38 | B41: 1344414930 | C41: סיוע לניצולי שואה | D41: 0 | E41: =D41*1.02 -> 0 | F41: 25 | G41: 49 | H41: 49
...

Sheet הוצאות שכר 6
A2: הוצאות שכר
A4: פרק | B4: שם חשבון | C4: ביצוע 2021 | D4: תקציב 2022 מעודכן (מס 1) | E4: ביצוע 1-6/2022 | F4: תקציב 2022 מעודכן (מס 2) | G4: הצעה 2023 | H4: הערות
A5: 1611000110 | B5: נבחרים | C5: ='[1]שכר 2021'!C14/1000 -> 1899.309 | D5: 2255 | E5: 1092 | F5: 2026.4056 | G5: =F5*1.015 -> 2056.8017
A6: סה"כ פרק 61 נבחרים | C6: =SUM(C5) -> 1899.309 | D6: =SUM(D5) -> 2255 | E6: =SUM(E5) -> 1092 | F6: =SUM(F5) -> 2026.4056 | G6: =SUM(G5) -> 2056.8017
A7: 1611200110 | B7: לשכת ראש העיר | C7: 1671 | D7: 1897 | E7: 1077 | F7: 2235 | G7: =F7*1.015 -> 2268.525
A8: 1612000110 | B8: מבקר העירייה | C8: 610 | D8: 683 | E8: 334 | F8: 660 | G8: =F8*1.015 -> 669.9
A9: 1613000110 | B9: מינהל כללי | C9: 2845 | D9: 3316 | E9: 1540 | F9: 3254 | G9: =F9*1.015 -> 3302.81
A10: 1613300110 | B10: שכר אישורי תושב | C10: 488 | D10: 531 | E10: 284 | F10: 557 | G10: =F10*1.015 -> 565.355
A11: 1614000110 | B11: הסברה ויחסי ציבור | C11: 676 | D11: 655 | E11: 357 | F11: 715 | G11: =F11*1.015 -> 725.725
A12: 1615000110 | B12: משאבי אנוש | C12: 1037 | D12: 1072 | E12: 542 | F12: 1048 | G12: =F12*1.015 -> 1063.72
A13: 1617000110 | B13: יעוץ משפטי | C13: 1154 | D13: 642 | E13: 385 | F13: 941 | G13: 1330
A14: סה"כ פרק 61 | C14: =SUM(C7:C13) -> 8481 | D14: =SUM(D7:D13) -> 8796 | E14: =SUM(E7:E13) -> 4519 | F14: =SUM(F7:F13) -> 9410 | G14: =SUM(G7:G13) -> 9926.035
A15: 1621100110 | B15: גזברות | C15: 2043 | D15: 2165 | E15: 1157 | F15: 2315 | G15: =F15*1.015 -> 2349.725
A16: 1621300110 | B16: הנהלת חשבונות | C16: 996 | D16: 1200 | E16: 538 | F16: 1067 | G16: =F16*1.015 -> 1083.005
A17: 1621500110 | B17: יחידת שכר | C17: 692 | D17: 728 | E17: 401 | F17: 779 | G17: =F17*1.015 -> 790.685
A18: 1623100110 | B18: גביה | C18: 1854 | D18: 1899 | E18: 847 | F18: 1653 | G18: =F18*1.015 -> 1677.795
A19: 1623200110 | B19: אכיפה ועסקים | C19: 1258 | D19: 1236 | E19: 715 | F19: 1414 | G19: =F19*1.015 -> 1435.21
A20: סה"כ פרק 62 | C20: =SUM(C15:C19) -> 6843 | D20: =SUM(D15:D19) -> 7228 | E20: =SUM(E15:E19) -> 3658 | F20: =SUM(F15:F19) -> 7228 | G20: =SUM(G15:G19) -> 7336.42
A21: 1711000110 | B21: מינהל איכות הסביבה | C21: 1677 | D21: 1840 | E21: 1037 | F21: 2102 | G21: =F21*1.015 -> 2133.53
A22: 1712100110 | B22: מינהל שרותי ניקיון | C22: 495 | D22: 495 | E22: 244 | F22: 483 | G22: =F22*1.015 -> 490.245
A23: 1712200110 | B23: טיאוט וניקוי | C23: 5389 | D23: 5768 | E23: 2850 | F23: 5094 | G23: =F23*1.015 -> 5170.41
A24: 1712300110 | B24: איסוף וביעור אשפה | C24: 2585 | D24: 2638 | E24: 1127 | F24: 2214 | G24: =F24*1.015 -> 2247.21
A25: 1712320110 | B25: מנהלי רובע | C25: 0 | D25: 0 | E25: 455 | F25: 1120 | G25: =F25*1.015 -> 1136.8 | H25: נפתח סעיף חדש של מנהלי רובע
A26: 1712400110 | B26: תחנת מעבר | C26: 1612 | D26: 1779 | E26: 622 | F26: 1237 | G26: =F26*1.015 -> 1255.555
A27: 1714000110 | B27: שרות וטרינרי | C27: 919 | D27: 650 | E27: 348 | F27: 674 | G27: =F27*1.015 -> 684.11
A28: 1715000110 | B28: תברואה מונעת ריסוס | C28: 1330 | D28: 1486 | E28: 766 | F28: 1461 | G28: =F28*1.015 -> 1482.915
A29: סה"כ פרק 71 | C29: =SUM(C21:C28) -> 14007 | D29: =SUM(D21:D28) -> 14656 | E29: =SUM(E21:E28) -> 7449 | F29: =SUM(F21:F28) -> 14385 | G29: =SUM(G21:G28) -> 14600.775
A30: 1721000110 | B30: בטחון | C30: 1247 | D30: 1460 | E30: 842 | F30: 1659 | G30: =F30*1.015 -> 1683.885
A31: 1721100110 | B31: שיטור העירוני | C31: 3594 | D31: 3726 | E31: 1774 | F31: 3653 | G31: =F31*1.015 -> 3707.795 | H31: סעיף הועבר להיטל שמירה
A32: 1721200110 | B32: מוקד אזורי | C32: 912 | D32: 1000 | E32: 2092 | F32: 668 | G32: =F32*1.015 -> 678.02 | H32: סעיף הועבר להיטל שמירה
A33: 1723000110 | B33: הג"א מקומי | C33: 368 | D33: 166 | E33: 157 | F33: 290 | G33: =F33*1.015 -> 294.35
A34: סה"כ פרק 72 | C34: =SUM(C30:C33) -> 6121 | D34: =SUM(D30:D33) -> 6352 | E34: =SUM(E30:E33) -> 4865 | F34: =SUM(F30:F33) -> 6270 | G34: =SUM(G30:G33) -> 6364.05
A35: 1731000110 | B35: מינהל הנדסה | C35: 2506 | D35: 2550 | E35: 1464 | F35: 2825 | G35: =F35*1.015 -> 2867.375
A36: 1733000110 | B36: רישוי פיקוח ובניה | C36: 2507 | D36: 2614 | E36: 1287 | F36: 2597 | G36: =F36*1.015 -> 2635.955
A37: סה"כ פרק 73 | C37: =SUM(C35:C36) -> 5013 | D37: =SUM(D35:D36) -> 5164 | E37: =SUM(E35:E36) -> 2751 | F37: =SUM(F35:F36) -> 5422 | G37: =SUM(G35:G36) -> 5503.33
A38: 1741000110 | B38: תשתיות ותחבורה | C38: 1024 | D38: 1000 | E38: 527 | F38: 1034 | G38: =F38*1.015 -> 1049.51
A39: 1743000110 | B39: תאורת רחובות | C39: 683 | D39: 696 | E39: 345 | F39: 718 | G39: =F39*1.015 -> 728.77
A40: 1746000110 | B40: גנים ונטיעות | C40: 3392 | D40: 3500 | E40: 1418 | F40: 2799 | G40: =F40*1.015 -> 2840.985
A41: 1746100110 | B41: פארק הגליל | C41: 209 | D41: 213 | E41: 249 | F41: 517 | G41: 540
A42: 1746200110 | B42: פארק המשפחה | C42: 707 | D42: 738 | E42: 377 | F42: 764 | G42: =F42*1.015 -> 775.46
...

Sheet שכד ביטוחים עיתונים ומשלחות 7  
B2: 410 | C2: תשלומי שכר דירה
A4: מס' | B4: מס' חשבון | C4: שם חשבון | D4: ביצוע 2021 | E4: תקציב 2022 מעודכן (מס 1) | F4: ביצוע 1-6/2022 | G4: תקציב 2022 מעודכן (מס 2) | H4: הצעה 2023
A5: 1 | B5: 1939000410 | C5: שכר דירה | D5: 42 | E5: =14*4+4.8*4 -> 75.2 | F5: 76 | G5: 84 | H5: 84
B6: סה"כ | D6: =SUM(D5) -> 42 | E6: =SUM(E5) -> 75.2 | F6: =SUM(F5) -> 76 | G6: =SUM(G5) -> 84 | H6: =H5 -> 84
B9: 440 | C9: הוצאות ביטוחים צד ג' וחבויות עפ"י התפלגות פרמיה והשתתפות עצמית
A12: מס' | B12: מס' חשבון | C12: שם חשבון | D12: ביצוע 2021 | E12: תקציב 2022 מעודכן (מס 1) | F12: ביצוע 1-6/2022 | G12: תקציב 2022 מעודכן (מס 2) | H12: הצעה 2023
A13: 1 | B13: 1767000440 | C13: ביטוח- השתתפות עצמית | D13: 1337 | E13: 900 | F13: 1037 | G13: 1200 | H13: 1200
A14: 2 | B14: 1767100440 | C14: ביטוח-פרמיה | D14: 1749 | E14: =1370+294+114+321+84+50 -> 2233 | F14: 1835 | G14: 2200 | H14: 2200
A15: 3 | B15: 1723200440 | C15: ביטוח מרכיבי התגוננות | D15: 10 | E15: 10 | F15: 0 | G15: 10 | H15: 10
B16: סה"כ | D16: =SUM(D13:D15) -> 3096 | E16: =SUM(E13:E15) -> 3143 | F16: =SUM(F13:F15) -> 2872 | G16: =SUM(G13:G15) -> 3410 | H16: =SUM(H13:H15) -> 3410
B19: 513 | C19: ארוח משלחות
A21: מס' | B21: מס' חשבון | C21: שם חשבון | D21: ביצוע 2021 | E21: תקציב 2022 מעודכן (מס 1) | F21: ביצוע 1-6/2022 | G21: תקציב 2022 מעודכן (מס 2) | H21: הצעה 2023
A22: 1 | B22: 1754000513 | C22: ארוח משלחות | D22: 0 | E22: 20 | F22: 13 | G22: =19-3+1 -> 17 | H22: 17
B23: סה"כ | D23: =SUM(D21:D22) -> 0 | E23: =SUM(E21:E22) -> 20 | F23: =SUM(F22) -> 13 | G23: =SUM(G22) -> 17 | H23: =H22 -> 17
B25: 522 | C25: הוצאות ספרים ועיתונים
A27: מס' | B27: מס' חשבון | C27: שם חשבון | D27: ביצוע 2021 | E27: תקציב 2022 מעודכן (מס 1) | F27: ביצוע 1-6/2022 | G27: תקציב 2022 מעודכן (מס 2) | H27: הצעה 2023
A28: 1 | B28: 1613000522 | C28: ספרים ועיתונים | D28: 0 | E28: 2 | F28: 0 | G28: 2 | H28: 2
A29: 2 | B29: 1617000522 | C29: ספרים ועתונים | D29: 0 | E29: 0 | F29: 0 | G29: 0 | H29: 0
A30: 3 | B30: 1621000522 | C30: ספרים ועתונים | D30: 0 | E30: 0 | F30: 0 | G30: 0 | H30: 0
B31: סה"כ | D31: =SUM(D28:D30) -> 0 | E31: =SUM(E28:E30) -> 2 | F31: =SUM(F28:F30) -> 0 | G31: =SUM(G28:G30) -> 2 | H31: =SUM(H28:H30) -> 2

Sheet  הוצאות רווחה  8
B2: 840 | C2: הוצאות רווחה
A4: מס' | B4: מס' חשבון | C4: שם חשבון | D4: ביצוע 2021 | E4: תקציב 2022 מעודכן (מס 1) | F4: ביצוע 1-6/2022 | G4: תקציב 2022 מעודכן (מס 2) | H4: הצעה 2023
A5: 1 | B5: 1841020840 | C5: כ"א לחינוך המיוחד | D5: 0 | E5: 136 | F5: 0 | G5: 136 | H5: 136
A6: 2 | B6: 1841050840 | C6: בטחון עובדים מאבטחים | D6: 0 | E6: 121.04 | F6: 0 | G6: 219 | H6: 219
A7: 3 | B7: 1841200840 | C7: נושמים לרווחה-כ"א | D7: =2+13+8 -> 23 | E7: 454.24 | F7: 0 | G7: 454 | H7: 454
A8: 4 | B8: 1841300840 | C8: חליפות מיגון | D8: 60 | E8: 40.8 | F8: 40 | G8: 73 | H8: 73
A9: 5 | B9: 1842210840 | C9: מקלטים לנשים מוכות | D9: 712 | E9: 504.56 | F9: 9 | G9: 467 | H9: 467
A10: 6 | B10: 1842220840 | C10: משפחות במצוקה קהילה | D10: 170 | E10: 176.8 | F10: 97 | G10: 89 | H10: 89
A11: 7 | B11: 1842240840 | C11: מסגרות ארציות לדרי רחוב | D11: 223 | E11: 122.4 | F11: 98 | G11: 204 | H11: 204
A12: 8 | B12: 1842290840 | C12: שיחות רווחה | D12: =13+12 -> 25 | E12: 54.4 | F12: 29 | G12: =51.3-0.3 -> 51 | H12: 51
A13: 9 | B13: 1842292840 | C13: רכזי מענים מגן זהב | D13: 21 | E13: 130.56 | F13: 38 | G13: 114 | H13: 114
A14: 10 | B14: 1842293840 | C14: טיפול אובדן שכול | D14: 0 | E14: 40.8 | F14: 0 | G14: 41 | H14: 41
A15: 11 | B15: 1842410840 | C15: תחנות לטיפול במשפחה | D15: 50 | E15: 178.16 | F15: 0 | G15: 178 | H15: 178
A16: 12 | B16: 1842420840 | C16: תכנית למניעת אלימות | D16: 38 | E16: 88 | F16: 6 | G16: 143 | H16: 143
A17: 13 | B17: 1842430840 | C17: מרכזי טיפול באלימות | D17: 11 | E17: 363.12 | F17: 0 | G17: 363 | H17: 363
A18: 14 | B18: 1842431840 | C18: תכנית לאומית נוער וצעירים | D18: 17 | E18: 32.64 | F18: 0 | G18: 33 | H18: 33
A19: 15 | B19: 1842432840 | C19: יתד תכנית צעירים | D19: 52 | E19: 346.8 | F19: 29 | G19: 151 | H19: 151
A20: 16 | B20: 1842433840 | C20: יתד- סל גמיש | D20: 134 | E20: 16.32 | F20: 15 | G20: 17 | H20: 17
A21: 17 | B21: 1842441840 | C21: מרכז עוצמה | D21: 175 | E21: 261.12 | F21: 41 | G21: 261 | H21: 261
A22: 18 | B22: 1842451840 | C22: טיפול בפרט ובמשפחה | D22: 11 | E22: 34 | F22: 0 | G22: 34 | H22: 34
A23: 19 | B23: 1842452840 | C23: תוכניות קהילה למשפחות | D23: 0 | E23: 372 | F23: -55 | G23: 372 | H23: 372
A24: 20 | B24: 1842453840 | C24: טיפול במשפחות חירום אוקרינה | D24: 0 | E24: 72 | F24: 2 | G24: 72 | H24: 72
... A31: 27 | B31: 1843540840 | C31: מועדוניות משותפות | D31: 10 | E31: 239.36 | F31: 0 | G31: 230 | H31: 230
A32: 28 | B32: 1843550840 | C32: טיפול בפגיעות מיניות | D32: =309-13 -> 296 | E32: 492.32 | F32: 17 | G32: 604 | H32: 604
A33: 29 | B33: 1843551840 | C33: פגיעות מניות בגירים | D33: 43 | E33: 136 | F33: 166 | G33: 437 | H33: 437
A34: 30 | B34: 1843552840 | C34: ת. לאומית ילד ונוער | D34: 1 | E34: 48.96 | F34: 3 | G34: 130 | H34: 130
A35: 31 | B35: 1843553840 | C35: ת. לאומית תוכניות | D35: 0 | E35: 216.24 | F35: 0 | G35: 216 | H35: 216
A36: 32 | B36: 1843581840 | C36: וועדת תסקירים | D36: 0 | E36: 1 | F36: 1 | G36: 1 | H36: 1
A37: 33 | B37: 1843810840 | C37: אחזקת ילדים בפנימיות | D37: 4449 | E37: 4108.56 | F37: 2339 | G37: 4325 | H37: 4325
A38: 34 | B38: 1843820840 | C38: תכנית עם הפנים לקהילה | D38: 130 | E38: 127.84 | F38: 35 | G38: 128 | H38: 128
A39: 35 | B39: 1843910840 | C39: ילדים במעונות יום | D39: 1047 | E39: 977.84 | F39: 546 | G39: 978 | H39: 978
A40: 36 | B40: 1844310840 | C40: אחזקה במעונות- אזרח ותיק | D40: 4242 | E40: 2774.4 | F40: 2041 | G40: 2774 | H40: 2774
A41: 37 | B41: 1844413840 | C41: העשרה מועדונית ורד | D41: 5 | E41: 5 | F41: 5 | G41: 5 | H41: 5
A42: 38 | B42: 1844414840 | C42: סיוע לניצולי שואה | D42: 0 | E42: 288.32 | F42: 82 | G42: 49 | H42: 49
A43: 39 | B43: 1844418840 | C43: הזדקנות מיטבית קהילה | D43: 108 | E43: =1510+61 -> 1571 | F43: =445+2 -> 447 | G43: 1510 | H43: 1510
A44: 40 | B44: 1844420840 | C44: מועדונים לאזרחים ותיקים | D44: =27+327 -> 354 | E44: =39+442 -> 481 | F44: 27 | G44: 39 | H44: 39
A45: 41 | B45: 1844425840 | C45: טיפול באזרח ותיק בסיכון | D45: 21 | E45: 21.76 | F45: 0 | G45: 22 | H45: 22
A46: 42 | B46: 1844440840 | C46: טיפול בקהילה- אזרח ותיק | D46: 130 | E46: 112.88 | F46: 50 | G46: 48 | H46: 48
A47: 43 | B47: 1844470840 | C47: שרותים לניצולי שואה | D47: =836+42 -> 878 | E47: =661+71 -> 732 | F47: 412 | G47: 656 | H47: 656
A48: 44 | B48: 1844491840 | C48: העשרה מועדונית ניצנים | D48: 5 | E48: 5 | F48: 5 | G48: 5 | H48: 5
...

Sheet קליקה 9
A2: קליקה - ריכוז הוצאות והכנסות
A4: מס' | B4: מס. חשבון | C4: שם חשבון | D4: ביצוע 2021 | E4: תקציב 2022 מעודכן (מס 1) | F4: ביצוע 1-6/2022 | G4: תקציב 2022 מעודכן (מס 2) | H4: הצעה 2023
A5: 1 | B5: 1772000782 | C5: קליקה שוטף | D5: 20 | E5: 55 | F5: 30 | G5: 59 | H5: 59
A6: 2 | B6: 1772000470 | C6: ציוד משרדי קליקה | D6: 9 | E6: 10 | F6: 2 | G6: 6 | H6: 6
A7: 3 | B7: 1772000511 | C7: כיבוד | D7: 13 | E7: 20 | F7: 14 | G7: 26 | H7: 23
A8: 4 | B8: 1772000810 | C8: תשלום למתנס השתתפות עירייה | D8: 42 | E8: 170 | F8: 87 | G8: 170 | H8: 170
A9: 5 | B9: 1772110781 | C9: חומרי ניקוי האב | D9: 6 | E9: 13.5 | F9: 11 | G9: 15 | H9: 15
A10: 6 | B10: 1772300781 | C10: ק.ק האב | D10: 5 | E10: 6.5 | F10: 1 | G10: 7 | H10: 7
A11: 7 | B11: 1772500781 | C11: הרצאות האב | D11: 2 | E11: 0 | F11: 0 | G11: 0 | H11: 0
A12: 8 | B12: 1772600781 | C12: פיתוח כלכלי האב | D12: 4 | E12: 0 | F12: 5 | G12: 0 | H12: 0
B13: סה"כ | D13: =SUM(D5:D12) -> 101 | E13: =SUM(E5:E12) -> 275 | F13: =SUM(F5:F12) -> 150 | G13: =SUM(G5:G12) -> 283 | H13: =SUM(H5:H12) -> 280

Sheet סעיפי קורונה 10
A2: הוצאות קורונה
B3: הכנסות
A4: מס' | B4: מס. חשבון | C4: שם חשבון | D4: ביצוע 2020 (דוחות) | E4: ביצוע 2021 | F4: תקציב 2022 מעודכן (מס 1) | G4: ביצוע 1-6/2022 | H4: תקציב 2022 מעודכן (מס 2) | I4: הצעה 2023
A5: 1 | B5: 1229999910 | C5: הכנסות קורונה משרדי ממשלה | D5: 0 | E5: 1282 | F5: 926 | G5: 150 | H5: 481 | I5: 0
A6: 2 | B6: 1229999911 | C6: הכנ' משרד הפנים סיוע חגי תשרי | D6: 93 | E6: 0 | F6: 0 | G6: 0 | H6: 0 | I6: 0
A7: 3 | B7: 1229999990 | C7: מענקי קורונה משרדי ממשלה | D7: 0 | E7: 33 | F7: 0 | G7: 0 | H7: 0 | I7: 0
B8: סה"כ הכנסות כללי | D8: =SUM(D5:D7) -> 93 | E8: =SUM(E5:E7) -> 1315 | F8: =SUM(F5:F7) -> 926 | G8: =SUM(G5:G7) -> 150 | H8: =SUM(H5:H7) -> 481 | I8: =SUM(I5:I7) -> 0
B10: הוצאות
A11: מס' | B11: מס. חשבון | C11: שם חשבון | D11: ביצוע 2020 (דוחות) | E11: ביצוע 2021 | F11: תקציב 2022 מעודכן (מס 1) | G11: ביצוע 1-6/2022 | H11: תקציב 2022 מעודכן (מס 2) | I11: הצעה 2023
A12: 1 | B12: 1729998110 | C12: שכר תגבור פיקוח ומוקד | E12: =39.5+39.5+38+79+270 -> 466 | F12: 0 | G12: 0 | H12: 0 | I12: 0
A13: 2 | B13: 1729999110 | C13: שכר נאמני קורונה ומתשאלים | E13: 0 | F13: 0 | G13: 0 | H13: 0 | I13: 0
B14: סה"כ | D14: =SUM(D12:D13) -> 0 | E14: =SUM(E12:E13) -> 466 | F14: =SUM(F12:F13) -> 0 | G14: =SUM(G12:G13) -> 0 | H14: =SUM(H12:H13) -> 0 | I14: =SUM(I12:I13) -> 0
A16: מס' | B16: מס. חשבון | C16: שם חשבון | D16: ביצוע 2020 (דוחות) | E16: ביצוע 2021 | F16: תקציב 2022 מעודכן (מס 1) | G16: ביצוע 1-6/2022 | H16: תקציב 2022 מעודכן (מס 2) | I16: הצעה 2023
A17: 1 | B17: 1729999550 | C17: קשר עם התושב | D17: 87 | E17: 100 | F17: 0 | G17: 0 | H17: 0 | I17: 0
A18: 2 | B18: 1729999930 | C18: הצטיידות קורונה | D18: 305 | E18: =107+39+19.2+79+38.5+39-E17-4.75 -> 216.95 | F18: 130 | G18: 103 | H18: 130 | I18: 0
A19: 3 | B19: 1729999931 | C19: תשלום למתנס נאמני קורונה | D19: 0 | E19: 0 | F19: 726 | G19: 651 | H19: 651 | I19: 0
A20: 4 | B20: 1729999933 | C20: הצטיידות חגי תשרי | D20: 94 | E20: 77 | F20: 0 | G20: 0 | H20: 0 | I20: 0
A21: 5 | B21: 1729999932 | C21: ציוד ומיגון לשעת חרום קורונה | D21: 558 | E21: 96 | F21: 100 | G21: 60 | H21: 60 | I21: 0
B22: סה"כ | D22: =SUM(D17:D21) -> 1044 | E22: =SUM(E17:E21) -> 489.95 | F22: =SUM(F17:F21) -> 956 | G22: =SUM(G17:G21) -> 814 | H22: =SUM(H17:H21) -> 841 | I22: =SUM(I17:I21) -> 0
B24: סה"כ הוצאות כללי | D24: =D22+D14+D8 -> 1137 | E24: =E22+E14+E8 -> 2270.95 | F24: =F22+F14+F8 -> 1882 | G24: =G22+G14+G8 -> 964 | H24: =H22+H14 -> 841 | I24: =I8+I14+I22 -> 0

Sheet ציוד משרדי וכיבוד 11
B2: 470 | C2: ציוד משרד ושכירות מדפסות
A4: מס'י | B4: מס' חשבון | C4: שם חשבון | D4: ביצוע 2021 | E4: תקציב 2022 מעודכן (מס 1) | F4: ביצוע 1-6/2022 | G4: תקציב 2022 מעודכן (מס 2) | H4: הצעה 2023
A5: 1 | B5: 1611000470 | C5: ציוד משרדי לשכת ראש העיר | D5: =29+1 -> 30 | E5: =2.5*12+10 -> 40 | F5: 10 | G5: 40 | H5: 40
A6: 3 | B6: 1612000470 | C6: ציוד משרדי מבקר העיריה | D6: 2 | E6: 40 | F6: 5 | G6: 40 | H6: 40
A7: 4 | B7: 1613000470 | C7: ציוד משרדי מינהל כללי | D7: 351 | E7: =27.5*12 -> 330 | F7: 197 | G7: 330 | H7: 330
A8: 5 | B8: 1613100470 | C8: נייר צילום | D8: 92 | E8: 70 | F8: 43 | G8: =66+14 -> 80 | H8: 70
A9: 6 | B9: 1617000470 | C9: ציוד משרדי יועץ משפטי | D9: 7 | E9: 7 | F9: 3 | G9: 7 | H9: 7
A10: 7 | B10: 1617100470 | C10: ציוד משרדי יועץ משפטי | D10: 2 | E10: 3 | F10: 2 | G10: 3 | H10: 3
A11: 8 | B11: 1621000470 | C11: ציוד משרדי גזברות | D11: 25 | E11: =1.67*12 -> 20.04 | F11: 12 | G11: 20 | H11: 20
A12: 9 | B12: 1621300470 | C12: ציוד משרדי הנהלת חשבונות | D12: 10 | E12: 12 | F12: 7 | G12: 12 | H12: 12
A13: 10 | B13: 1621310470 | C13: ציוד משרדי הנהלת חשבונות | D13: 5 | E13: 6 | F13: 1 | G13: 6 | H13: 6
A14: 11 | B14: 1623000470 | C14: ציוד משרדי גביה | D14: 37 | E14: 24 | F14: 15 | G14: 24 | H14: 24
A15: 12 | B15: 1711000470 | C15: ציוד משרדי תברואה | D15: 19 | E15: =12*1.5 -> 18 | F15: 11 | G15: 18 | H15: 18
A16: 13 | B16: 1721000470 | C16: ציוד משרדי בטחון | D16: 11 | E16: =0.75*12 -> 9 | F16: 3 | G16: 9 | H16: 9
A17: 14 | B17: 1722100470 | C17: ציוד משרדי משא"ז | D17: 1 | E17: 2 | F17: 2 | G17: 2 | H17: 2
A18: 15 | B18: 1731000470 | C18: ציוד משרדי הנדסה | D18: 37 | E18: 42 | F18: 17 | G18: 42 | H18: 42
A19: 16 | B19: 1731100470 | C19: ציוד משרדי הנדסה | D19: 2 | E19: 4 | F19: 4 | G19: 4 | H19: 4
A20: 17 | B20: 1732000470 | C20: ציוד משרדי ועדת בנין עיר | D20: 0 | E20: 1 | F20: 0 | G20: 1 | H20: 1
A21: 18 | B21: 1746000470 | C21: ציוד משרדי גינון | D21: 3 | E21: 0 | F21: 2 | G21: 2 | H21: 2
A22: 19 | B22: 1770000470 | C22: ציוד משרדי גישור | D22: 0 | E22: 1 | F22: 0 | G22: 1 | H22: 1
A23: 20 | B23: 1772000470 | C23: ציוד משרדי קליקה | D23: 9 | E23: 10 | F23: 2 | G23: 10 | H23: 10
A24: 21 | B24: 1782000470 | C24: ציוד משרדי בית משפט | D24: 0 | E24: 1 | F24: 0 | G24: 0 | H24: 0
A25: 22 | B25: 1811000470 | C25: ציוד משרדי חינוך | D25: 28 | E25: 24 | F25: 13 | G25: 24 | H25: 24
A26: 23 | B26: 1813210470 | C26: ציוד משרדי ביה"ס השחר | D26: 6 | E26: 4 | F26: 0 | G26: 4 | H26: 4
A27: 24 | B27: 1813700470 | C27: ציוד משרדי חווה חקלאית | D27: 2 | E27: 0 | F27: 1 | G27: 1 | H27: 1
A28: 25 | B28: 1815500470 | C28: ציוד משרדי כרם גפנים | D28: 0 | E28: 1 | F28: 0 | G28: 1 | H28: 1
A29: 26 | B29: 1815510470 | C29: ציוד משרדי כרם גפנים | D29: 10 | E29: 14 | F29: 4 | G29: =13-7 -> 6 | H29: 6
A30: 27 | B30: 1817300470 | C30: ציוד משרדי שרות פסיכולוגי | D30: 7 | E30: 4 | F30: 2 | G30: 4 | H30: 4
A31: 28 | B31: 1822110470 | C31: ציוד משרדי מח' הספורט | D31: 2 | E31: 1 | F31: 1 | G31: 1 | H31: 1
A32: 29 | B32: 1822200470 | C32: ציוד משרדי תרבות | D32: 6 | E32: 3 | F32: 3 | G32: 3 | H32: 3
A33: 30 | B33: 1823000470 | C33: ציוד משרדי ספריה | D33: 4 | E33: 3 | F33: 3 | G33: 3 | H33: 3
A34: 31 | B34: 1826100470 | C34: ציוד משרדי היכל התרבות | D34: 6 | E34: 6 | F34: 12 | G34: 12 | H34: 12
A35: 32 | B35: 1828200470 | C35: ציוד משרדי קידום נוער | D35: 7 | E35: 10 | F35: 2 | G35: 10 | H35: 10
A36: 33 | B36: 1841000470 | C36: ציוד משרדי רווחה | D36: 18 | E36: 20 | F36: 8 | G36: 20 | H36: 20
A37: 34 | B37: 1844400470 | C37: ציוד משרדי רווחה | D37: 0 | E37: 0
A38: 35 | B38: 1860000470 | C38: ציוד משרדי קליטה | D38: 3 | E38: 4 | F38: 3 | G38: 4 | H38: 4
A39: 36 | B39: 1913000470 | C39: ציוד משרדי תשתיות | D39: 2 | E39: 3 | F39: 1 | G39: 3 | H39: 3
A40: 37 | B40: 1933000470 | C40: ציוד משרדי הון אנושי | D40: 9 | E40: 13 | F40: 2 | G40: 13 | H40: 13
A41: 38 | B41: 1943000470 | C41: ציוד משרדי רשות החניה | D41: 1 | E41: 3 | F41: 2 | G41: 3 | H41: 3
B42: סה"כ | D42: =SUM(D5:D41) -> 754 | E42: =SUM(E5:E41) -> 753.04 | F42: =SUM(F5:F41) -> 393 | G42: =SUM(G5:G41) -> 763 | H42: =SUM(H5:H41) -> 753
...

Sheet חשמל ומים 12
B2: 430+771 | C2: הוצאות חשמל ומים עפ"י פירוט מחלקתי
A4: מס' | B4: מס' חשבון | C4: שם חשבון | D4: ביצוע 2021 | E4: תקציב 2022 מעודכן (מס 1) | F4: ביצוע 1-6/2022 | G4: תקציב 2022 מעודכן (מס 2) | H4: הצעה 2023
A5: 1 | B5: 1613000430 | C5: חשמל ומים מוסדות | D5: =2734+2 -> 2736 | E5: 610 | F5: =1097+1 -> 1098 | G5: 2100 | H5: 2100
A6: 2 | B6: 1617000430 | C6: חשמל ומים בית משפט | D6: 1 | E6: 1 | F6: 1 | G6: 1 | H6: 0
A7: 3 | B7: 1715000430 | C7: חשמל ומים מחסן רעלים | D7: 1 | E7: 1 | F7: 0 | G7: 0 | H7: 0
A8: 4 | B8: 1723000430 | C8: מים הג"א | D8: 53 | E8: 24 | F8: 30 | G8: 24 | H8: 14
A9: 5 | B9: 1723100430 | C9: חשמל הג"א מקומי | D9: 63 | E9: 54 | F9: 54 | G9: 110 | H9: 110
A10: 6 | B10: 1812300430 | C10: חשמל ומים גני ילדים | D10: 561 | E10: 170 | F10: 289 | G10: 500 | H10: 500
A11: 7 | B11: 1813210430 | C11: חשמל ומים בתי ספר | D11: 78 | E11: 0 | F11: 80 | G11: 80 | H11: 0
A12: 8 | B12: 1813213430 | C12: חשמל ומים ביה"ס עמיחי | D12: 27 | E12: 4 | F12: 15 | G12: 27 | H12: 27
A13: 9 | B13: 1813214430 | C13: חשמל ומים ביה"ס רקפת | D13: 13 | E13: 8 | F13: 13 | G13: 13 | H13: 13
A14: 10 | B14: 1813220430 | C14: חשמל ומים ביה"ס הדקל | D14: 2 | E14: 0 | F14: 1 | G14: 1 | H14: 0
A15: 11 | B15: 1813240430 | C15: חשמל ומים ניצנים | D15: 32 | E15: 10 | F15: 12 | G15: 20 | H15: 20
A16: 12 | B16: 1813280430 | C16: חשמל ומים איריסים | D16: 22 | E16: 14 | F16: 14 | G16: 22 | H16: 22
A17: 13 | B17: 1815500430 | C17: חשמל ומים על יסודי | D17: 53 | E17: 38 | F17: 10 | G17: 38 | H17: 38
... A20: 16 | B20: 1841000430 | C20: חשמל ומים | D20: 39 | E20: 14 | F20: 10 | G20: 14 | H20: 14
A21: 17 | B21: 1939000430 | C21: חשמל ומים דירת מגורים | D21: 3 | E21: 2 | F21: =2-1 -> 1 | G21: 4 | H21: 4
B22: סה"כ | D22: =SUM(D5:D21) -> 3694 | E22: =SUM(E5:E21) -> 950 | F22: =SUM(F5:F21) -> 1636 | G22: =SUM(G5:G21) -> 2968 | H22: =SUM(H5:H21) -> 2876
A24: מס' | B24: מס' חשבון | C24: שם חשבון | D24: ביצוע 2021 | E24: תקציב 2022 מעודכן (מס 1) | F24: ביצוע 1-6/2022 | G24: תקציב 2022 מעודכן (מס 2) | H24: הצעה 2023
A25: 1 | B25: 1743000771 | C25: תאורת רחובות | D25: 3001 | E25: =3500*0.88+170-324+40 -> 2966 | F25: 1195 | G25: 2400 | H25: 2400
B26: סה"כ | D26: =D25 -> 3001 | E26: =E25 -> 2966 | F26: =SUM(F25) -> 1195 | G26: =SUM(G25) -> 2400 | H26: =SUM(H25) -> 2400
B28: סה"כ כולל | D28: =D22+D26 -> 6695 | E28: =E22+E26 -> 3916 | F28: =F22+F26 -> 2831 | G28: =G22+G26 -> 5368 | H28: =H22+H26 -> 5276
B31: 720 | C31: הוצאות מים גינון
A33: מס'י | B33: מס. חשבון | C33: שם חשבון | D33: ביצוע 2021 | E33: תקציב 2022 מעודכן (מס 1) | F33: ביצוע 1-6/2022 | G33: תקציב 2022 מעודכן (מס 2) | H33: הצעה 2023
A34: 1 | B34: 1746000720 | C34: הוצאות מים גינון | D34: 2697 | E34: 3980 | F34: 781 | G34: =781+709+610+196 -> 2296 | H34: =G34 -> 2296
B35: סה"כ | D35: =SUM(D34) -> 2697 | E35: =SUM(E34) -> 3980 | F35: =SUM(F34) -> 781 | G35: =SUM(G34) -> 2296 | H35: =SUM(H34) -> 2296

Sheet דלק ורכבים 13
C2: 531 | D2: הוצאות דלק: כרטיסי תדלוק ודלקנים עבור רכבי העירייה
B4: מס' | C4: מס. חשבון | D4: שם חשבון | E4: ביצוע 2021 | F4: תקציב 2022 מעודכן (מס 1) | G4: ביצוע 1-6/2022 | H4: תקציב 2022 מעודכן (מס 2) | I4: הצעה 2023
B5: 1 | C5: 1611000531 | D5: דלק ושמנים לשכת ראש העיר | E5: 66 | F5: 49 | G5: 34 | H5: 49 | I5: 49
B6: 2 | C6: 1612000531 | D6: דלק ושמנים מבקר העיריה | E6: 11 | F6: 15 | G6: 5 | H6: 15 | I6: 15
B7: 3 | C7: 1613000531 | D7: דלק ושמנים מינהל כללי | E7: 20 | F7: 24 | G7: 9 | H7: 18 | I7: 18
B8: 4 | C8: 1617000531 | D8: דלק ושמנים יועץ משפטי | E8: 6 | F8: 6 | G8: 0 | H8: 15 | I8: 15
B9: 5 | C9: 1621000531 | D9: דלק ושמנים גזברות | E9: 14 | F9: 15 | G9: 10 | H9: 15 | I9: 15
B10: 6 | C10: 1711000531 | D10: דלק ושמנים תברואה | E10: 192 | F10: 122 | G10: 125 | H10: 195 | I10: 195
B11: 7 | C11: 1712200531 | D11: דלק ושמנים נקיון | E11: 163 | F11: 285 | G11: 76 | H11: 225 | I11: 225
B12: 8 | C12: 1712300531 | D12: דלק ושמנים אשפה | E12: 499 | F12: 480 | G12: =337+15 -> 352 | H12: 620 | I12: 620
B13: 9 | C13: 1721000531 | D13: דלק ושמנים בטחון | E13: 26 | F13: 43 | G13: 6 | H13: 15 | I13: 15
B14: 10 | C14: 1733000531 | D14: דלק ושמנים הנדסה | E14: 5 | F14: 9 | G14: 7 | H14: 16 | I14: 23
B15: 11 | C15: 1746000531 | D15: דלק ושמנים גינון | E15: 71 | F15: 62 | G15: 33 | H15: 62 | I15: 62
B16: 12 | C16: 1811000531 | D16: דלק ושמנים חינוך | E16: 25 | F16: 35 | G16: 13 | H16: 35 | I16: 35
B17: 13 | C17: 1817910531 | D17: דלק ושמנים חינוך | E17: 19 | F17: 15 | G17: 6 | H17: 15 | I17: 15
B18: 14 | C18: 1821000531 | D18: דלק ושמנים תרבות | E18: 0 | F18: 0 | G18: 0 | H18: 0 | I18: 0
B19: 15 | C19: 1822200531 | D19: דלק ושמנים מרכז ברוך | E19: 5 | F19: 15 | G19: 0 | H19: 0 | I19: 0
B20: 16 | C20: 1841000531 | D20: דלק ושמנים רווחה | E20: 0 | F20: 0 | G20: 0 | H20: 0 | I20: 0
B21: 17 | C21: 1913000531 | D21: דלק ושמנים תשתיות | E21: 27 | F21: 22 | G21: 14 | H21: 22 | I21: 22
B22: 18 | C22: 1943000531 | D22: דלק ושמנים רשות החניה | E22: 3 | F22: 3 | G22: 1 | H22: 3 | I22: 3
B23: 19 | C23: 1860000531 | D23: דלק ושמנים קליטה | E23: 0 | F23: 0 | G23: 3 | H23: 15 | I23: 15
C24: סה"כ | E24: =SUM(E5:E23) -> 1152 | F24: =SUM(F5:F23) -> 1200 | G24: =SUM(G5:G23) -> 694 | H24: =SUM(H5:H23) -> 1335 | I24: =SUM(I5:I23) -> 1342
C26: 530 | D26: דמי שימוש שנתיים לאשכול בית הכרם ורכישת רכבים
B28: מס' | C28: מס. חשבון | D28: שם חשבון | E28: ביצוע 2021 | F28: תקציב 2022 מעודכן (מס 1) | G28: ביצוע 1-6/2022 | H28: תקציב 2022 מעודכן (מס 2) | I28: הצעה 2023
B29: 1 | C29: 1611000530 | D29: רכישת רכב ראש העיר | E29: 0 | F29: 205 | G29: 0 | H29: 0 | I29: 0
B30: 2 | C30: 1712210530 | D30: דמי שימוש מכונת טיאוט בינונית+טיאוט גדולה + משאית טמוני קרקע | E30: 247 | F30: 304 | G30: 292 | H30: 304 | I30: 304
B31: 3 | C31: 1712211530 | D31: משאית חשמלית זעירה | E31: 0 | F31: 0 | G31: 0 | H31: 5 | I31: 5
B32: 4 | C32: 1712220530 | D32: דמי שימוש מכונת טיאוט קטנה | E32: 51 | F32: 52 | G32: 51 | H32: 52 | I32: 52
B33: 5 | C33: 1712230530 | D33: דמי שימוש משאית רמסע | E33: 0 | F33: 23 | G33: 0 | H33: 23 | I33: 23
C34: סה"כ | E34: =SUM(E29:E33) -> 298 | F34: =SUM(F29:F33) -> 584 | G34: =SUM(G29:G33) -> 343 | H34: =SUM(H29:H33) -> 384 | I34: =SUM(I29:I33) -> 384

Sheet תיקונים ורישוי 14
D2: 532 | E2: הוצאות תיקוני רכבי עירייה שאינם בליסינג עפ"י חלוקה
C4: מס' | D4: מס. חשבון | E4: שם חשבון | F4: ביצוע 2021 | G4: תקציב 2022 מעודכן (מס 1) | H4: ביצוע 1-6/2022 | I4: תקציב 2022 מעודכן (מס 2) | J4: הצעה 2023
C5: 1 | D5: 1611000532 | E5: תיקוני רכב לשכת ראש העיר | F5: 23 | G5: 20 | H5: 50 | I5: 55 | J5: 20
C6: 2 | D6: 1612000532 | E6: תיקוני רכב מבקר העיריה | F6: 1 | G6: 5 | H6: -1 | I6: 2 | J6: 2
C7: 3 | D7: 1613000532 | E7: תיקוני רכב מינהל כללי | F7: 2 | G7: 5 | H7: 3 | I7: 5 | J7: 2
C8: 4 | D8: 1617000532 | E8: תיקוני רכב יועץ משפטי | F8: 1 | G8: 1 | H8: 2 | I8: 1 | J8: 1
C9: 5 | D9: 1621000532 | E9: תיקוני רכב גזברות | F9: 3 | G9: 3 | H9: 6 | I9: 6 | J9: 3
C10: 6 | D10: 1711000532 | E10: תיקוני רכב תברואה | F10: 110 | G10: 70 | H10: 67 | I10: 70 | J10: 115
C11: 7 | D11: 1711200532 | E11: תיקונים מח' רכב | F11: 0 | G11: 1 | H11: 0 | I11: 0 | J11: 0
C12: 8 | D12: 1712200532 | E12: תיקוני רכב מח' נקיון | F12: 255 | G12: 271 | H12: 168 | I12: 271 | J12: 300
C13: 9 | D13: 1712300532 | E13: תיקונים טרקטורים | F13: 445 | G13: 461 | H13: 375 | I13: 461 | J13: 850
C14: 10 | D14: 1712400532 | E14: תיקוני רכב תחנת מעבר | F14: 0 | G14: 0 | H14: 0 | I14: 0 | J14: 0
C15: 11 | D15: 1715300532 | E15: תיקונים הדברה | F15: 0 | G15: 0 | H15: 0 | I15: 0 | J15: 0
C16: 12 | D16: 1721000532 | E16: תיקוני רכב בטחון | F16: 8 | G16: 15 | H16: -1 | I16: 5 | J16: 1
... C20: 16 | D20: 1746000532 | E20: תיקוני רכב גינון | F20: 29 | G20: 29 | H20: 12 | I20: 29 | J20: 29
C21: 17 | D21: 1811000532 | E21: תיקוני רכב חינוך | F21: 5 | G21: =F21 -> 5 | H21: 2 | I21: 3 | J21: 3
C22: 18 | D22: 1817910532 | E22: תיקוני רכב חינוך | F22: 2 | G22: 4 | H22: 0 | I22: 4 | J22: 4
C23: 19 | D23: 1821000532 | E23: תיקוני רכב תרבות | F23: 1 | G23: =F23 -> 1 | H23: 0 | I23: 0 | J23: 0
C24: 20 | D24: 1822200532 | E24: תיקוני רכב תרבות | F24: 1 | G24: 2 | H24: 1 | I24: 2 | J24: 2
C25: 21 | D25: 1841000532 | E25: תיקוני רכב רווחה | F25: 0 | G25: =F25 -> 0 | H25: 0 | I25: 0 | J25: 0
C26: 22 | D26: 1913000532 | E26: תיקוני רכב תשתיות | F26: 12 | G26: 60 | H26: 10 | I26: 20 | J26: 20
C27: 23 | D27: 1943000532 | E27: תיקוני רכב רשות החניה | F27: 3 | G27: 6 | H27: 1 | I27: 6 | J27: 6
D28: סה"כ | F28: =SUM(F5:F27) -> 902 | G28: =SUM(G5:G27) -> 961 | H28: =SUM(H5:H27) -> 695 | I28: =SUM(I5:I27) -> 942 | J28: =SUM(J5:J27) -> 1360
D30: 533 | E30: הוצאות רישוי ובטוח לרכבי עירייה שאינם בליסינג
C32: מס' | D32: מס. חשבון | E32: שם חשבון | F32: ביצוע 2021 | G32: תקציב 2022 מעודכן (מס 1) | H32: ביצוע 1-6/2022 | I32: תקציב 2022 מעודכן (מס 2) | J32: הצעה 2023
C33: 1 | D33: 1611000533 | E33: רישוי וביטוח לשכת ראש העיר | F33: 9 | G33: 8 | H33: 8 | I33: 8 | J33: 8
C34: 2 | D34: 1613000533 | E34: רישוי ובטוח מינהל כללי | F34: 0 | G34: 0 | H34: 0 | I34: 0 | J34: 0
C35: 3 | D35: 1711000533 | E35: רשוי וביטוח תברואה | F35: 65 | G35: 63 | H35: 90 | I35: 100 | J35: 100
C36: 4 | D36: 1712200533 | E36: רשוי וביטוח נקיון | F36: 49 | G36: 50 | H36: 44 | I36: 50 | J36: 50
C37: 5 | D37: 1712300533 | E37: רישוי וביטוח אשפה | F37: 229 | G37: 233 | H37: 197 | I37: 200 | J37: 200
C38: 6 | D38: 1721000533 | E38: רישוי ובטוח בטחון | F38: 1 | G38: 10 | H38: 2 | I38: 2 | J38: 2
C39: 7 | D39: 1746000533 | E39: רישוי ובטוח גינון | F39: 25 | G39: 24 | H39: 13 | I39: 15 | J39: 15
C40: 8 | D40: 1817910533 | E40: רשוי וביטוח חינוך | F40: 7 | G40: 7 | H40: -1 | I40: 0 | J40: 0
