Workbook

Sheet תוכן עניינים
A2: תקציב מעודכן 2022 והצעת תקציב 2023
A5: מס' | B5: פירוט - לשונית | C5: מס' עמוד
A6: 1 | B6: הכנסות - | C6: 1
A7: 2 | B7: הוצאות - | C7: 2
A8: 3 | B8: הכנסות חינוך - | C8: 3
A9: 4 | B9: הכנסות תרבות - | C9: 4
A10: 5 | B10: הכנסות רווחה - | C10: 5
A11: 6 | B11: הוצאות שכר - | C11: 6
A12: 7 | B12: הוצאות: | C12: 7
B13: שכ"ד
B14: ביטוחים
B15: אירוח משלחות
B16: הוצאות ספרים עירוניים
A17: 8 | B17: הוצאות רווחה - | C17: 8
A18: 9 | B18: קליקה - | C18: 9
A19: 10 | B19: קורונה - | C19: 10
A20: 11 | B20: ציוד משרדי | C20: 11
A21: 12 | B21: הוצאות כיבוד | C21: 11
A22: 13 | B22: חשמל ומים - | C22: 12
A23: 14 | B23: דלקים ושמנים - | C23: 13
A24: 15 | B24: הוצאות תיקוני רכב | C24: 14
A25: 16 | B25: הוצאות רישוי ובטוח לרכבים | C25: 14
A26: 17 | B26: ליסינג - | C26: 15
A27: 18 | B27: הוצאות תקשורת, פרסום, מיחשוב ומערכות ליבה, מים וגינון | C27: 16
A28: 19 | B28: הוצאות ריבית ועמלות, מלוות | C28: 17
... A33: 24 | B33: תמיכות - | C33: 22

Sheet ביטול תקציב
A1: מס' | B1: מס. חשבון | C1: שם חשבון | D1: ביצוע 2020 (דוחות) | E1: ביצוע 2021 (דוחות) | F1: תקציב 2022 מעודכן (מס 1) | G1: ביצוע 1-6/2022 | H1: תקציב 2022 מעודכן (מס 2) | I1: הצעה 2023 | J1: הערות
A2: 7 | B2: 1312500990 | C2: גני מועדון וצהרונים (משרד הכלכלה) | D2: 126 | E2: 541 | F2: 300 | G2: 0 | H2: 0 | I2: 0 | J2: הועבר לסעיף 1312500920, לבטל סעיף
A3: 20 | B3: 1313212920 | C3: פעילות קיץ לנוער | D3: 0 | E3: 0 | F3: 100 | G3: 0 | H3: 0 | I3: 0 | J3: עבר לסעיף
A4: 18 | B4: 1313201921 | C4: הכנסות הזנה מוסדות חינוך גנ"י | D4: 80 | E4: 0 | F4: -200 | G4: 0 | H4: 0 | I4: 0 | J4: מבוטל, מועבר לסעיף 1313200924
A5: 33 | B5: 1313290920 | C5: ת. תקשוב - קיזוז רשויות | D5: 0 | E5: -31 | F5: -40 | G5: 4 | H5: 0 | I5: 0 | J5: לבטל סעיף הוצאות (קיזוז)
A6: 42 | B6: 1313330920 | C6: העשרה ח.מיוחד - מוסד | D6: 0 | E6: 21 | F6: =E6*1.02 -> 21.42 | G6: 0 | H6: 0 | I6: 0 | J6: מבוטל
A7: 49 | B7: 1313700990 | C7: הכנסות חווה חקלאית | D7: 0 | E7: 0 | F7: 50 | G7: 0 | H7: 0 | I7: 0 | J7: לבטל, הועבר לסעיף 1313700420
A8: 52 | B8: 1317199921 | C8: רכזת גנים חופש גדול | D8: 0 | E8: 0 | F8: 90 | G8: 25 | H8: 0 | I8: 0 | J8: לבטל, הועבר לסעיף 1312211920
A9: 15 | B9: 1342230930 | C9: סיוע למשפחות עם ילדי | D9: 50 | E9: 2 | F9: 2.04 | G9: 0 | H9: 0 | I9: 0 | J9: לבטל סעיף
A10: 40 | B10: 1343520930 | C10: יצירת קשר הורים-ילדי | D10: 60 | E10: 59 | F10: 123 | G10: 0 | H10: 0 | I10: 0 | J10: לבטל סעיף
A11: 54 | B11: 1844450840 | C11: שכונה תומכת | D11: 82 | E11: 76 | F11: 80.24 | G11: 0 | H11: 0 | I11: 0 | J11: לסגור לפי דוח הקצבה
A12: 58 | B12: 1844480840 | C12: נופשון לזקן | D12: 19 | E12: 5 | F12: 13.6 | G12: 0 | H12: 0 | I12: 0 | J12: לסגור לפי דוח הקצבה
A13: 63 | B13: 1844494840 | C13: מגן זהב הפגת בדידות | D13: 0 | E13: 42 | F13: 70.72 | G13: 0 | H13: 0 | I13: 0 | J13: לסגור לפי דוח הקצבה
A14: 65 | B14: 1844498840 | C14: בני משפחה מטפלים | D14: 0 | E14: 0 | F14: 61.2 | G14: 0 | H14: 0 | I14: 0 | J14: לסגור לפי דוח הקצבה
A15: 66 | B15: 1844510840 | C15: מסגרות יומיות אזרח ותיק | D15: 643 | E15: 327 | F15: 442 | G15: 0 | H15: 0 | I15: 0 | J15: לסגור לפי דוח הקצבה
A16: 82 | B16: 1845192840 | C16: ליווי הסעות רווחה | D16: 0 | E16: 0 | F16: 45 | G16: 0 | H16: 0 | I16: 0 | J16: =J15 -> לסגור לפי דוח הקצבה
A17: 6 | B17: 1712200780 | C17: הוצאות אחזקה מח' נקיון | D17: 0 | E17: =D17/2 -> 0 | F17: 0 | G17: 0 | H17: 0 | I17: 0 | J17: לבטל
A18: 7 | B18: 1712310780 | C18: פינוי אשפה ביתית | D18: 17 | E18: =D18/2 -> 8.5 | F18: 10 | G18: 0 | H18: 0 | I18: 0 | J18: תקציב כפול- לבטל 23
A19: 11 | B19: 1721300780 | C19: קופה קטנה בטחון | D19: 0 | E19: =D19/2 -> 0 | F19: 0 | G19: 0 | H19: 0 | I19: 0 | J19: לבטל
A20: 13 | B20: 1722100780 | C20: הוצאות משא"ז | D20: 0 | E20: =D20/2 -> 0 | F20: 0 | G20: 0 | H20: 0 | I20: 0 | J20: לבטל
A21: 24 | B21: 1761000780 | C21: מוקד עירוני | D21: 0 | E21: =D21/2 -> 0 | F21: 0 | G21: 0 | H21: 0 | I21: 0 | J21: לבטל
A22: 25 | B22: 1761100780 | C22: שרות לתושב | D22: 0 | E22: =D22/2 -> 0 | F22: 0 | G22: 0 | H22: 0 | I22: 0 | J22: לבטל
A23: 30 | B23: 1772000780 | C23: רישוי עסקים | D23: 0 | E23: =D23/2 -> 0 | F23: 0 | G23: 0 | H23: 0 | I23: 0 | J23: לבטל
A24: 41 | B24: 1813216780 | C24: ביה"ס כלנית קו"ק חומרי חיטוי | D24: 17 | E24: =D24/2 -> 8.5 | F24: 0 | G24: 0 | H24: 0 | I24: 0 | J24: מבוטל
A25: 42 | B25: 1813217780 | C25: ביה"ס עמיחי קו"ק חומרי חיטוי | D25: 15 | E25: =D25/2 -> 7.5 | F25: 0 | G25: 0 | H25: 0 | I25: 0 | J25: מבוטל
A26: 43 | B26: 1813218780 | C26: ביה"ס רקפת קו"ק חומרי חיטוי | D26: =(227*6.16*6)/1000 -> 8.38992 | E26: =D26/2 -> 4.19496 | F26: 0 | G26: 0 | H26: 0 | I26: 0 | J26: מבוטל
A27: 44 | B27: 1813219780 | C27: ביה"ס הרעות קו"ק חומרי חיטוי | D27: =(498*6.16*6)/1000 -> 18.40608 | E27: =D27/2 -> 9.20304 | F27: 0 | G27: 0 | H27: 0 | I27: 0 | J27: מבוטל
A28: 46 | B28: 1813221780 | C28: ביה"ס הדקל קו"ק חומרי חיטוי | D28: =(346*6.16*6)/1000 -> 12.78816 | E28: =D28/2 -> 6.39408 | F28: 0 | G28: 0 | H28: 0 | I28: 0 | J28: מבוטל
A29: 47 | B29: 1813222780 | C29: ביה"ס מוריה קו"ק חומרי חיטוי | D29: =(300*6.16*6)/1000 -> 11.088 | E29: =D29/2 -> 5.544 | F29: 0 | G29: 0 | H29: 0 | I29: 0 | J29: מבוטל
A30: 48 | B30: 1813223780 | C30: ביה"ס ניצנים קו"ק חומרי חיטוי | D30: =(171*6.16*6)/1000 -> 6.32016 | E30: =D30/2 -> 3.16008 | F30: 0 | G30: 0 | H30: 0 | I30: 0 | J30: מבוטל
A31: 49 | B31: 1813224780 | C31: ביה"ס אופק קו"ק חומרי חיטוי | D31: =(601*6.16*6)/1000 -> 22.21296 | E31: =D31/2 -> 11.10648 | F31: 0 | G31: 0 | H31: 0 | I31: 0 | J31: מבוטל
A32: 50 | B32: 1813225780 | C32: ביה"ס איריסים קו"ק חומרי חיטוי | D32: =(528*6.16*6)/1000 -> 19.51488 | E32: =D32/2 -> 9.75744 | F32: 0 | G32: 0 | H32: 0 | I32: 0 | J32: מבוטל
A33: 68 | B33: 1822200780 | C33: הוצאות תרבות | D33: 0 | E33: =D33/2 -> 0 | F33: 0 | G33: 0 | J33: לבטל
A34: 73 | B34: 1822400780 | C34: הוצאות דיינר כנגד הפקדות | D34: 0 | E34: =D34/2 -> 0 | F34: 0 | G34: 0 | H34: 0 | I34: 0 | J34: לבטל
A35: 74 | B35: 1824110780 | C35: החזר הלוואה מתנס הנגשת בריכה | D35: 0 | E35: =D35/2 -> 0 | F35: 0 | G35: 0 | I35: 0 | J35: לבטל
A36: 83 | B36: 1826400780 | C36: פסטיבל תמיכה שנתית | D36: 0 | E36: =D36/2 -> 0 | F36: 0 | G36: 0 | H36: 0 | I36: 0 | J36: לבטל
A37: 84 | B37: 1826410780 | C37: החזר מלווה עמ' הפסטיבל (1 מליון ₪) | D37: 0 | E37: =D37/2 -> 0 | F37: 0 | G37: 0 | J37: לבטל
A38: 90 | B38: 1827300780 | C38: תרבות יהודית הכנ' ממשלה ועצמיות | D38: 10 | E38: =D38/2 -> 5 | F38: 10 | G38: 0 | H38: 0 | I38: 0 | J38: לבטל
A39: 105 | B39: 1939000780 | C39: הוצאות אחרות מח' נכסים | D39: 0 | E39: =D39/2 -> 0 | F39: 1 | G39: 0 | H39: 0 | I39: 0 | J39: לבטל
A40: 8 | B40: 1611600782 | C40: שוטף יחידה אסטרטגית -רכש | D40: 0 | E40: 0 | F40: 0 | G40: 0 | H40: 0 | I40: 0 | J40: לבטל
A41: 12 | B41: 1613100782 | C41: מינהל פרויקטים -רכש | D41: 2 | E41: 0 | F41: 1 | G41: 0 | H41: 0 | I41: 0 | J41: לבטל
A42: 18 | B42: 1613700782 | C42: קופה קטנה פרויקטים | D42: 0 | E42: 1 | F42: 2 | G42: 0 | H42: 0 | I42: 0 | J42: לבטל
A43: 25 | B43: 1621200782 | C43: הוצאות שוטפות גזברות | D43: 1 | E43: 0 | F43: 0 | G43: 0 | J43: לבטל
A44: 26 | B44: 1621210782 | C44: הוצאות שוטפות גזברות | D44: 3 | E44: 0 | F44: 0 | G44: 0 | J44: לבטל
A45: 57 | B45: 1812240782 | C45: גנ"י חובה חנ"מ חומרי נקיון-רכש | D45: 9 | E45: 1 | F45: 0 | G45: 0 | H45: 0 | I45: 0 | J45: להעביר להוצאות גנ"י ולבטל
A46: 58 | B46: 1812250782 | C46: גני מועדון חומרי נקיון -רכש | D46: 19 | E46: 0 | F46: 0 | G46: 0 | H46: 0 | I46: 0 | J46: להעביר להוצאות גנ"י ולבטל
A47: 59 | B47: 1812260782 | C47: גני מועדון חומרי מלאכה -רכש | D47: 39 | E47: 1 | F47: 0 | G47: 0 | H47: 0 | I47: 0 | J47: להעביר להוצאות גנ"י ולבטל
A48: 61 | B48: 1812280782 | C48: גנ"י ט.חובה חנ"מ חומרי מלאכה-רכש | D48: 14 | E48: 0 | F48: 0 | G48: 0 | H48: 0 | I48: 0 | J48: להעביר להוצאות גנ"י ולבטל
A49: 62 | B49: 1812290782 | C49: גנים עצמאיים נקיון -רכש | D49: 13 | E49: 1 | F49: 0 | G49: 0 | H49: 0 | I49: 0 | J49: להעביר להוצאות גנ"י ולבטל
A50: 66 | B50: 1812294782 | C50: חומרי ניקיון קיטנות -רכש | D50: 5 | E50: 0 | F50: 3 | G50: 0 | H50: 0 | I50: 0 | J50: להעביר יתרות ולבטל. כפילות עם סעיף 1812293782
A51: 67 | B51: 1812295782 | C51: העשרה קיטנות גני מועדון -רכש | D51: 54 | E51: 0 | F51: 0 | G51: 0 | H51: 0 | I51: 0 | J51: להעביר לקייטנות ולבטל
A52: 70 | B52: 1812300782 | C52: גנים עצמאיים חומרי מלאכה -רכש | D52: 20 | E52: 0 | F52: 0 | G52: 0 | H52: 0 | I52: 0 | J52: להעביר להוצאות גנ"י ולבטל
A53: 84 | B53: 1813200782 | C53: מרכז מדע ודעת | D53: 0 | E53: 0 | F53: 7 | G53: 0 | H53: 0 | I53: 0 | J53: להעביר להוצאות בי"ס ולבטל
A54: 104 | B54: 1823500782 | C54: קייטנות משרד החינוך גנ"י | D54: 0 | E54: 0 | F54: 300 | G54: 0 | H54: 0 | I54: 0 | J54: לבטל סעיף | K54: לצרף לתקציב סעיף אחר
A55: 23 | B55: 1824300810 | C55: סיוע למתנ"ס תשלומי פרישה | D55: 130 | E55: 0 | F55: 0 | G55: 0 | H55: 0 | I55: 0 | J55: לבטל סעיף

Sheet הכנסות 1
A2: עדכון תקציב 2022 והצעת תקציב 2023- הכנסות
A4: מס' | B4: מס חשבון | C4: שם חשבון | D4: ביצוע 2021 | E4: תקציב 2022 מעודכן (מס 1) | F4: ביצוע 1-6/2022 | G4: תקציב 2022 מעודכן (מס 2) | H4: הצעה 2023 | I4: הערות/ קישורים
A5: 1 | B5: 1111000100 | C5: ארנונה כללית | D5: =171051+956 -> 172007 | E5: 180888 | F5: 99403 | G5: =179919+1800+600 -> 182319 | H5: =G5*1.0192+2000+2000 -> 189819.52 | I5: עדכון אוטומטי 1.92%+ סקר מדידות
A6: 2 | B6: 1111000910 | C6: שיפוי ארנונה משרדי ממשלה סבב א' | D6: 0 | E6: 0 | F6: 0 | G6: 0 | H6: 0
C7: שיפוי ארנונה רשות המיסים סבב ב' | D7: 1573 | E7: 1500 | F7: 0 | G7: 100 | H7: 40
A8: 3 | B8: 1111200100 | C8: אכיפה מלגם | D8: 3 | E8: 100 | F8: 2 | G8: 2 | H8: 0
A9: 4 | B9: 1113000100 | C9: הנחות ארנונה רישום מקביל | D9: 33076 | E9: 27000 | F9: 20123 | G9: =(20123/23285)*39425-2000 -> 32071.259 | H9: 32000
A10: 5 | B10: 1121000220 | C10: תעודות ואישורים | D10: 67 | E10: 60.3 | F10: 32 | G10: 60 | H10: 60
A11: 6 | B11: 1121100220 | C11: אישור תושב | D11: 297 | E11: 350 | F11: 261 | G11: 300 | H11: 300
A12: 7 | B12: 1122000210 | C12: אגרת שלטים | D12: 1195 | E12: 1440 | F12: 797 | G12: 1131 | H12: 1300
A13: 8 | B13: 1122000211 | C13: הכנסות משלטי חוצות | D13: 95 | E13: 85 | F13: 117 | G13: 117 | H13: =85*1.17 -> 99.45
A14: 9 | B14: 1129000290 | C14: רשוי עסקים | D14: 34 | E14: 130 | F14: 29 | G14: 40 | H14: 40
A15: 10 | B15: 1129000291 | C15: רישיון עסק בנק הדואר | D15: 18 | E15: 40 | F15: 6 | G15: 20 | H15: 20
A16: 11 | B16: 1191000910 | C16: מענק כללי | D16: 7319 | E16: 7319 | F16: 3194 | G16: 6400 | H16: 7300
A17: 12 | B17: 1192000910 | C17: מענק משרד הפנים-חד פעמיים | D17: 5988 | E17: 4454.0688 | F17: 10 | G17: 4307 | H17: 4307
A18: 13 | B18: 1196000910 | C18: החזר מזכירים קלפיות | H18: 200
A19: 14 | B19: 1212300650 | C19: שימוש במזבלה עירונית | D19: 148 | E19: 480 | F19: 278 | G19: 480 | H19: 500
A20: 15 | B20: 1212300690 | C20: פנוי פסולת מגורים | D20: 12 | E20: 18 | F20: 6 | G20: 15 | H20: 15
A21: 16 | B21: 1214200220 | C21: אגרת רשיונות לכלבים | D21: 12 | E21: 350 | F21: 316 | G21: 350 | H21: 350
A22: 17 | B22: 1214210220 | C22: הכנסות מפיקוח וטרינרי בשווקים | D22: 505 | E22: 250 | F22: 67 | G22: 67 | H22: 150
A23: 18 | B23: 1222100910 | C23: השתתפות ממשלה במשא"ז | D23: 0 | E23: 12 | F23: 0 | G23: 12 | H23: 12
A24: 19 | B24: 1229000440 | C24: השת' רשויות בהפעלת פיקוד העורף | D24: 0 | E24: 0 | F24: 0 | G24: 50 | H24: 50
A25: 20 | B25: 1229999910 | C25: הכנסות משרדי ממשלה קורונה | D25: 1282 | E25: 926 | F25: 0 | G25: 481 | H25: 0
A26: 21 | B26: 1230000690 | C26: כיסוי הוצ' מח' הנדסה | D26: 9725 | E26: 8091 | F26: 900 | G26: =5422*1.15+12878-1800-3500-1775+3 -> 12041.3 | H26: =5500*1.15+14732-2000-4000-436+3 -> 14624
A27: 17 | B27: 1232000690 | C27: מידע תכנוני מח' הנדסה | D27: לבטל שורה | E27: 0
A28: 22 | B28: 1233100290 | C28: אגרת רשיונות בניה | D28: 2959 | E28: 4000 | F28: 1572 | G28: =2200+600+793 -> 3593 | H28: 4000
A29: 23 | B29: 1269000540 | C29: החזר מחברות ביטוח | D29: 101 | E29: 200 | F29: 60 | G29: 250 | H29: 300
A30: 24 | B30: 1269000620 | C30: הכנסות ממכירת ציוד | D30: 10 | E30: 110 | F30: 42 | G30: 42 | H30: =70+20 -> 90
A31: 25 | B31: 1269000690 | C31: הכנסות שונות | D31: =3782+12 -> 3794 | E31: 1000 | F31: 141 | G31: =1000+3049 -> 4049 | H31: 1000
A32: 22 | B32: 1269000696 | C32: הכנסות | D32: לבטל שורה | E32: 0
A33: 26 | B33: 1269011690 | C33: הכנסות בעד שרותים הנדסיים | D33: 97 | E33: 120 | F33: 9 | G33: 20 | H33: 20
A34: 27 | B34: 1269012690 | C34: אגרת מידע | D34: 29 | E34: 40 | F34: 13 | G34: 40 | H34: 40
A35: 25 | B35: 1269022690 | C35: חוק חופש המידע | D35: לבטל שורה | E35: 0
A36: 26 | B36: 1269023690 | C36: הכנסות מדמי שרות במטווח | D36: לבטל שורה | E36: 0
A37: 27 | B37: 1269034690 | C37: פרוייקט מחשב לכל ילד | D37: לבטל שורה | E37: 0
A38: 28 | B38: 1269042690 | C38: הכנסות מדוכנים-עצמאות קלי | D38: לבטל שורה | E38: 0
A39: 28 | B39: 1269050690 | C39: אולם ארועים ברחוב צהל | D39: 4 | E39: 10 | F39: 6 | G39: 12 | H39: 12
A40: 29 | B40: 1269053690 | C40: הכנסות מפינוי אשפה באזור התעשיה | D40: 359 | E40: 400 | F40: 7 | G40: =(500+330+20*4)*350*1.17/1000 -> 372.645 | H40: =580*350*1.17/1000 -> 237.51
A41: 30 | B41: 1269056690 | C41: הכנסות מעמלת עו"ד | D41: 223 | E41: 200 | F41: 148 | G41: 300 | H41: 300
A42: 31 | B42: 1269063690 | C42: הכנסות תרבות ערכי | D42: 9 | E42: 30 | F42: 48 | G42: =95+72 -> 167 | H42: 30
A43: 32 | B43: 1269069690 | C43: מבטחים-השתת' פנסיה | D43: 320 | E43: 450 | F43: 8 | G43: 544 | H43: 550
A44: 33 | B44: 1269099690 | C44: הכנסות מהסדרי פנסיה | D44: 0 | E44: 0 | F44: 8 | G44: =8*4 -> 32 | H44: 32
A45: 34 | B45: 1269074690 | C45: הכנ' מהשבת כספים ביקורת א | D45: 4 | E45: 7 | F45: 5 | G45: 5 | H45: 0 | I45: הסכמים הסתיימו
A46: 35 | B46: 1269023690 | C46: הכנסות מדמי שירות במטווח | D46: 0 | E46: 0 | F46: 0 | G46: 81 | H46: 40
A47: 36 | B47: 1269100990 | C47: הכנסות משרדי ממשלה שונים | D47: 359 | E47: 200 | F47: 0 | G47: 200 | H47: 200
A48: 37 | B48: 1269200690 | C48: השאלת ציוד פארק המשפחה | D48: 13 | E48: 0 | F48: 6 | G48: 13 | H48: 13
A49: 38 | B49: 1272000640 | C49: הכנסות שכ"ד קליקה | D49: 258 | E49: 400 | F49: 242 | G49: 440 | H49: 450 | I49: בתפוסה מלאה
A50: 39 | B50: 1273200690 | C50: החזר הלוואת בעלים | D50: 1476 | E50: 869 | F50: 369 | G50: 1060 | H50: 0
A51: 40 | B51: 1281200690 | C51: דוחות שיטור עירוני | D51: 359 | E51: 300 | F51: 102 | G51: 200 | H51: 200
A52: 41 | B52: 1282000690 | C52: קנסות בתי משפט | D52: 147 | E52: 200 | F52: 103 | G52: 250 | H52: 250 | I52: איחוד סעיפים
A53: 42 | B53: 1282100690 | C53: גזרי דין | D53: 6 | E53: 300 | F53: 43
A54: 43 | B54: 31 | C54: חינוך- השתתפות ממשלה | D54: ='הכנסות חינוך 3'!D49 -> 48287 | E54: 43940.5 | F54: ='הכנסות חינוך 3'!F49 -> 27096 | G54: ='הכנסות חינוך 3'!G49 -> 48151 | H54: ='הכנסות חינוך 3'!H49 -> 45621 | I54: ראה עמוד-3
B55: 31 | C55: חינוך עצמיות | D55: ='הכנסות חינוך 3'!D66 -> 2412 | E55: 2280 | F55: ='הכנסות חינוך 3'!F66 -> 970 | G55: ='הכנסות חינוך 3'!G66 -> 2145.417 | H55: ='הכנסות חינוך 3'!H66 -> 2127 | I55: ראה עמוד-3
A56: 44 | B56: 31 | C56: רישום מקביל גננות | D56: ='הכנסות חינוך 3'!D52 -> 4979 | E56: 7400 | F56: ='הכנסות חינוך 3'!F52 -> 0 | G56: ='הכנסות חינוך 3'!G52 -> 7400 | H56: ='הכנסות חינוך 3'!H52 -> 7400 | I56: ראה עמוד-3
A57: 45 | B57: 32 | C57: תרבות- השתתפות ממשלה | D57: ='הכנסות תרבות 4'!D9 -> 1089 | E57: 1690 | F57: ='הכנסות תרבות 4'!F9 -> 212 | G57: ='הכנסות תרבות 4'!G9 -> 1510 | H57: ='הכנסות תרבות 4'!H9 -> 1650 | I57: ראה עמוד-4
B58: 32 | C58: תרבות-עצמיות | D58: ='הכנסות תרבות 4'!D21 -> 2560 | E58: 3338 | F58: ='הכנסות תרבות 4'!F21 -> 1408 | G58: ='הכנסות תרבות 4'!G21 -> 2930 | H58: ='הכנסות תרבות 4'!H21 -> 2430 | I58: ראה עמוד-4
A59: 46 | B59: 32 | C59: הכנסות מפסטיבל עצמיות | D59: ='הכנסות תרבות 4'!D29-'הכנסות תרבות 4'!D28 -> 518 | E59: 950 | F59: ='הכנסות תרבות 4'!F29 -> 0 | G59: ='הכנסות תרבות 4'!G26+'הכנסות תרבות 4'!G27 -> 0 | H59: ='הכנסות תרבות 4'!H26+'הכנסות תרבות 4'!H27 -> 0 | I59: ראה עמוד-4
B60: 32 | C60: הכנסות פסטיבל- השתתפות ממשלה | D60: ='הכנסות תרבות 4'!D28 -> 0 | E60: 1700 | F60: 0 | G60: ='הכנסות תרבות 4'!G28 -> 220 | H60: ='הכנסות תרבות 4'!H28 -> 220 | I60: ראה עמוד-4
A61: 47 | B61: 34 | C61: רווחה- השתתפות ממשלה | D61: ='הכנסות רווחה 5'!D117 -> 41200 | E61: 42884.72 | F61: ='הכנסות רווחה 5'!F117 -> 20965 | G61: ='הכנסות רווחה 5'!G117 -> 49368 | H61: ='הכנסות רווחה 5'!H117 -> 49289 | I61: ראה עמוד-5-7
B62: 34 | C62: רווחה- עצמיות | D62: ='הכנסות רווחה 5'!D130 -> 1315 | E62: 1215 | F62: ='הכנסות רווחה 5'!F130 -> 653 | G62: ='הכנסות רווחה 5'!G130 -> 1220 | H62: ='הכנסות רווחה 5'!H130 -> 1222
A63: 48 | B63: 1413000690 | C63: הכנסות משכ"ע עובדים מושאלים | D63: 0 | E63: 0 | F63: 38 | G63: 220 | H63: 220
A64: 49 | B64: 1413100210 | C64: אגרות מים | D64: -7 | E64: -10 | F64: -7 | G64: -10 | H64: -10
A65: 50 | B65: 1433000640 | C65: הכנסות שכ"ד משרדים ועסקים | D65: 1956 | E65: 2330.89 | F65: 788 | G65: 1723 | H65: 1723
A66: 51 | B66: 1433100640 | C66: שכר דירה אודיטוריום | D66: 3 | E66: 5 | F66: 3 | G66: 6 | H66: 10
A67: 52 | B67: 1433200640 | C67: הכנסות עצמיות ממרכז צעירים | D67: =30+94 -> 124 | E67: 70 | F67: 22 | G67: 55 | H67: 80 | I67: כולל קורס בודקי תוכנה שנת 2021 (94)
A68: 53 | B68: 1433300640 | C68: שכ"ד קליטה | D68: לבטל ולהעביר שורה | E68: 0
A69: 54 | B69: 1438000690 | C69: הכנסות תקורה א.ע לביוב | D69: 0 | E69: 250 | F69: 0 | G69: 250 | H69: 250
A70: 55 | B70: 1439000640 | C70: הכנסות מאנטנות כולל פוטו וולטאים שלב א' | D70: 558 | E70: 656.5 | F70: 327 | G70: =161+166+165+165 -> 657 | H70: 657
A71: 56 | B71: 1439100640 | C71: הכנ' חש' אנט' פוטו וולט שלב ב' | D71: 0 | E71: 0 | F71: 0 | G71: 250 | H71: 660
A72: 57 | B72: 1443000220 | C72: הכנסות מרשות החניה | D72: =2272+6 -> 2278 | E72: 3200 | F72: =1087+14 -> 1101 | G72: 3000 | H72: 3400
A73: 58 | B73: 1443000221 | C73: הכנסות חניה מטרופולינט | E73: 0
A74: 59 | B74: 1443100220 | C74: מנוי חניונים | E74: 0
A75: 60 | B75: 1472000210 | C75: אגרת ביוב | D75: לבטל שורה ולשים בהכנסות שונות | E75: 0
A76: 61 | B76: 1472000800 | C76: היטל ביוב | D76: לבטל שורה ולשים בהכנסות שונות | E76: 0
A77: 62 | B77: 1472000210 | C77: אגרת ביוב | D77: 1 | E77: 0 | F77: 0 | G77: 0 | H77: 0
A78: 63 | B78: 1511000660 | C78: הכנסות מריבית ודוידנד | D78: 3309 | E78: 1000 | F78: 567 | G78: 0 | H78: 1200
A79: 64 | B79: 1591900590 | C79: העברה מקרנות | D79: 0 | E79: 0 | F79: 0 | G79: 0 | H79: 0
A80: 65 | B80: 1594100690 | C80: הכנסות שנים קודמות | D80: 320 | E80: 200 | F80: 0 | G80: 200 | H80: 300
A81: 66 | B81: 1599200691 | C81: עודף מצטבר | D81: 0 | E81: 500 | F81: 0 | G81: 100 | H81: 200
A82: 67 | B82: 1599000780 | C82: אשראי הלוואה ממוסד בנקאי | D82: 0 | E82: 0 | F82: 0 | G82: 0 | H82: 0
B83: סה"כ | D83: =SUM(D5:D82) -> 354785 | E83: =SUM(E5:E82) -> 355929.98 | F83: =SUM(F5:F82) -> 182616 | G83: =SUM(G5:G82) -> 371429.62 | H83: =SUM(H5:H82) -> 377600.48
E86: תקציב 2022 עדכון (1) | F86: תקציב 2022 מעודכן (מס 2) | G86: הצעה 2023
D87: הכנסות | E87: =E83 -> 355929.98 | F87: =G83 -> 371429.62 | G87: =H83 -> 377600.48
D88: הוצאות | E88: 355930.22 | F88: ='הוצאות 2'!G45 -> 371429.8 | G88: ='הוצאות 2'!H45 -> 377600.06
D89: עודף/גרעון | E89: 0 | F89: 0 | G89: =G87-G88 -> 0.4281363

Sheet גיליון1

Sheet הוצאות 2
A2: עדכון תקציב 2022 הצעת תקציב 2023 - הוצאות
A4: מס | B4: סעיף | C4: שם החשבון | D4: ביצוע 2021 | E4: תקציב 2022 מעודכן (מס 1) | F4: ביצוע 1-6/2022 | G4: תקציב 2022 מעודכן (מס 2) | H4: הצעה 2023 | I4: קישורים
A5: 1 | B5: 110 | C5: משכורות שוטף | D5: 133818 | E5: 138248 | F5: ='הוצאות שכר 6'!E123-'הוצאות שכר 6'!E113-'הוצאות שכר 6'!E31-'הוצאות שכר 6'!E32 -> 71032 | G5: ='הוצאות שכר 6'!D140-'הוצאות שכר 6'!F129 -> 139402.41 | H5: ='הוצאות שכר 6'!E140-'הוצאות שכר 6'!G129 -> 141839.06 | I5: ראה עמוד 8
A6: 2 | B6: 300-320 | C6: פנסיונרים ופיצויים | D6: 27674 | E6: 28500 | F6: ='הוצאות שכר 6'!E129 -> 15432 | G6: ='הוצאות שכר 6'!F129 -> 30290 | H6: ='הוצאות שכר 6'!G129 -> 30290 | I6: ראה עמוד-8
A7: 3 | B7: 410 | C7: שכר דירה | D7: ='שכד ביטוחים עיתונים ומשלחות 7 '!D5 -> 42 | E7: 75.2 | F7: ='שכד ביטוחים עיתונים ומשלחות 7 '!F6 -> 76 | G7: ='שכד ביטוחים עיתונים ומשלחות 7 '!G6 -> 84 | H7: ='שכד ביטוחים עיתונים ומשלחות 7 '!H6 -> 84 | I7: ראה עמוד-12
A8: 4 | B8: 420 | C8: הג"א מקומי | D8: 480 | E8: 480 | F8: =' 19 הג"א'!F27 -> 256 | G8: =' 19 הג"א'!G27 -> 480 | H8: =' 19 הג"א'!H27 -> 480
A9: 5 | B9: 422 | C9: אחזקת נגררים | D9: ='תיקונים ורישוי 14'!F50 -> 40 | E9: ='תיקונים ורישוי 14'!G50 -> 0 | F9: ='תיקונים ורישוי 14'!H50 -> 55 | G9: ='תיקונים ורישוי 14'!I51 -> 85 | H9: ='תיקונים ורישוי 14'!J51 -> 85
A10: 6 | B10: 430-771 | C10: חשמל,מים מוסדות עירייה ותאורת רחובות | D10: ='חשמל ומים 12'!D22+'חשמל ומים 12'!D26 -> 6695 | E10: ='חשמל ומים 12'!E22+'חשמל ומים 12'!E26 -> 3916 | F10: ='חשמל ומים 12'!F22+'חשמל ומים 12'!F26 -> 2831 | G10: ='חשמל ומים 12'!G28 -> 5368 | H10: ='חשמל ומים 12'!H28 -> 5276 | I10: ראה עמוד-20
A11: 7 | B11: 440 | C11: ביטוחים כלליים | D11: ='שכד ביטוחים עיתונים ומשלחות 7 '!D16 -> 3096 | E11: 3143 | F11: ='שכד ביטוחים עיתונים ומשלחות 7 '!F16 -> 2872 | G11: ='שכד ביטוחים עיתונים ומשלחות 7 '!G16 -> 3410 | H11: ='שכד ביטוחים עיתונים ומשלחות 7 '!H16 -> 3410 | I11: ראה עמוד-12
A12: 8 | B12: 470 | C12: אחזקת מכונות - מדפסות וציוד משרדי | D12: ='ציוד משרדי וכיבוד 11'!D42 -> 754 | E12: 753.04 | F12: ='ציוד משרדי וכיבוד 11'!F42 -> 393 | G12: ='ציוד משרדי וכיבוד 11'!G42 -> 763 | H12: ='ציוד משרדי וכיבוד 11'!H42 -> 753 | I12: ראה עמוד-18
A13: 9 | B13: 511 | C13: הוצאות כיבוד | D13: ='ציוד משרדי וכיבוד 11'!D57 -> 123 | E13: 124 | F13: ='ציוד משרדי וכיבוד 11'!F57 -> 112 | G13: ='ציוד משרדי וכיבוד 11'!G57 -> 160 | H13: ='ציוד משרדי וכיבוד 11'!H57 -> 140 | I13: ראה עמוד-19
A14: 10 | B14: 513 | C14: ארוח משלחות | D14: ='שכד ביטוחים עיתונים ומשלחות 7 '!D23 -> 0 | E14: 20 | F14: ='שכד ביטוחים עיתונים ומשלחות 7 '!F23 -> 13 | G14: ='שכד ביטוחים עיתונים ומשלחות 7 '!G23 -> 17 | H14: ='שכד ביטוחים עיתונים ומשלחות 7 '!H23 -> 17 | I14: ראה עמוד-12
A15: 11 | B15: 522 | C15: ספרים ועיתונים | D15: ='שכד ביטוחים עיתונים ומשלחות 7 '!D31 -> 0 | E15: 0.4 | F15: ='שכד ביטוחים עיתונים ומשלחות 7 '!F31 -> 0 | G15: ='שכד ביטוחים עיתונים ומשלחות 7 '!G31 -> 2 | H15: ='שכד ביטוחים עיתונים ומשלחות 7 '!H31 -> 2 | I15: ראה עמוד-12
A16: 12 | B16: 530 | C16: דמי שימוש לאשכול, רכישות רכבים | D16: ='דלק ורכבים 13'!E34 -> 298 | E16: 584 | F16: ='דלק ורכבים 13'!G34 -> 343 | G16: ='דלק ורכבים 13'!H34 -> 384 | H16: ='דלק ורכבים 13'!I34 -> 384 | I16: ראה עמוד-21
A17: 13 | B17: 531 | C17: דלק ושמנים | D17: 1067 | E17: 1199.52 | F17: ='דלק ורכבים 13'!G24 -> 694 | G17: ='דלק ורכבים 13'!H24 -> 1335 | H17: ='דלק ורכבים 13'!I24 -> 1342 | I17: ראה עמוד-21
A18: 14 | B18: 532 | C18: תיקונים | D18: ='תיקונים ורישוי 14'!F28 -> 902 | E18: 959.328 | F18: ='תיקונים ורישוי 14'!H28 -> 695 | G18: ='תיקונים ורישוי 14'!I28 -> 942 | H18: ='תיקונים ורישוי 14'!J28 -> 1360 | I18: ראה עמוד-22
A19: 15 | B19: 533 | C19: רשוי וביטוח | D19: ='תיקונים ורישוי 14'!F46 -> 416 | E19: 428 | F19: ='תיקונים ורישוי 14'!H46 -> 390 | G19: ='תיקונים ורישוי 14'!I46 -> 415 | H19: ='תיקונים ורישוי 14'!J46 -> 415 | I19: ראה עמוד-23
A20: 16 | B20: 534 | C20: ליסינג רכבי עירייה | D20: ='ליסינג 15'!E21 -> 1605 | E20: 1704.896 | F20: ='ליסינג 15'!G21 -> 769 | G20: ='ליסינג 15'!H21 -> 1669 | H20: ='ליסינג 15'!I21 -> 1804 | I20: ראה עמוד-24
A21: 17 | B21: 540 | C21: הוצאות תקשורת וניידים, נייחים ודואר | D21: ='תקשורת פרסום ומחשוב 16'!F6 -> 1585.7143 | E21: 1585.7143 | F21: ='תקשורת פרסום ומחשוב 16'!H6 -> 796 | G21: ='תקשורת פרסום ומחשוב 16'!I6 -> 1586 | H21: ='תקשורת פרסום ומחשוב 16'!J6 -> 1586 | I21: ראה עמוד-25
A22: 18 | B22: 550 | C22: פרסומים | D22: ='תקשורת פרסום ומחשוב 16'!F15 -> 241 | E22: 302 | F22: ='תקשורת פרסום ומחשוב 16'!H15 -> 223 | G22: ='תקשורת פרסום ומחשוב 16'!I15 -> 301 | H22: ='תקשורת פרסום ומחשוב 16'!J15 -> 301 | I22: ראה עמוד-25
A23: 19 | B23: 570 | C23: הוצאות מחשוב,מערכות ליבה: הנה"ח,גביה ושכר | D23: ='תקשורת פרסום ומחשוב 16'!F24 -> 946 | E23: 1458 | F23: ='תקשורת פרסום ומחשוב 16'!H24 -> 506 | G23: ='תקשורת פרסום ומחשוב 16'!I24 -> 1368 | H23: ='תקשורת פרסום ומחשוב 16'!J24 -> 1368 | I23: ראה עמוד-25
A24: 20 | B24: 610 | C24: ריבית ועמלות | D24: ='ריבית ועמלות ופרעון 17'!F8 -> 1882 | E24: 850 | F24: ='ריבית ועמלות ופרעון 17'!H8 -> 3242 | G24: ='ריבית ועמלות ופרעון 17'!I8 -> 1201 | H24: ='ריבית ועמלות ופרעון 17'!J8 -> 1200 | I24: ראה עמוד-26
A25: 21 | B25: 691-693 | C25: פרעון מלוות | D25: ='ריבית ועמלות ופרעון 17'!F21 -> 10383 | E25: 11324.04 | F25: ='ריבית ועמלות ופרעון 17'!H21 -> 8359 | G25: ='ריבית ועמלות ופרעון 17'!I21 -> 12878 | H25: ='ריבית ועמלות ופרעון 17'!J21 -> 14732 | I25: ראה עמוד-26
A26: 22 | B26: 710 | C26: הסעות תלמידים | D26: ='עבודות קבלניות 18'!D56 -> 6616 | E26: 6500 | F26: ='עבודות קבלניות 18'!F56 -> 3476 | G26: ='עבודות קבלניות 18'!G56 -> 7020 | H26: ='עבודות קבלניות 18'!H56 -> 7300 | I26: ראה עמוד-28
A27: 23 | B27: 720 | C27: הוצאות מים וגינון | D27: ='חשמל ומים 12'!D35 -> 2697 | E27: 3980 | F27: ='חשמל ומים 12'!F35 -> 781 | G27: ='חשמל ומים 12'!G35 -> 2296 | H27: ='חשמל ומים 12'!H35 -> 2296 | I27: ראה עמוד-20
A28: 24 | B28: 750 | C28: עבודות קבלניות | D28: ='עבודות קבלניות 18'!D25 -> 28089 | E28: 28066 | F28: ='עבודות קבלניות 18'!F25 -> 15881 | G28: ='עבודות קבלניות 18'!G25 -> 28156 | H28: ='עבודות קבלניות 18'!H25 -> 27731 | I28: ראה עמוד-27
A29: 25 | B29: 760 | C29: תלמידי חוץ ח"מ | D29: ='עבודות קבלניות 18'!D31 -> 1084 | E29: 500 | F29: 750 | G29: 850 | H29: 600 | I29: =I28 -> ראה עמוד-27
A30: 26 | B30: 780 | C30: הוצאות פעילות שוטפת לפי פרוט מחלקות | D30: ='20-780'!D93 -> 10810 | E30: 12494.6 | F30: ='20-780'!F93 -> 8459 | G30: ='20-780'!G93 -> 14292.5 | H30: ='20-780'!H93 -> 13773 | I30: ראה עמוד- 29
A31: 27 | B31: 781 | C31: פיתוח כלכלי | D31: ='עבודות קבלניות 18'!D43 -> 221 | E31: 590 | F31: ='עבודות קבלניות 18'!F43 -> 95 | G31: ='עבודות קבלניות 18'!G43 -> 232.5 | H31: ='עבודות קבלניות 18'!H43 -> 651 | I31: ראה עמוד -28
A32: 28 | B32: 782 | C32: הוצאות פעילות שוטפת לפי פרוט מחלקות | D32: ='21-782'!F97 -> 14484 | E32: 13947.5 | F32: ='21-782'!H97 -> 6298 | G32: ='21-782'!I97 -> 13607.14 | H32: ='21-782'!J97 -> 14634 | I32: ראה עמוד-31
A33: 29 | B33: 800 | C33: החזר השתתפות משלחות פולין וייצוג העירייה והחזר מתנות לנבחרים | D33: ='עבודות קבלניות 18'!D49 -> 14 | E33: 45 | F33: ='עבודות קבלניות 18'!F49 -> 10 | G33: ='עבודות קבלניות 18'!G49 -> 35 | H33: ='עבודות קבלניות 18'!H49 -> 35 | I33: ראה עמוד -28
A34: 30 | B34: 810 | C34: השתתפויות ותמיכות בפעילויות | D34: ='תמיכות 22'!D51 -> 21041.836 | E34: 19306 | F34: ='תמיכות 22'!F51 -> 10362 | G34: ='תמיכות 22'!G51 -> 17584 | H34: ='תמיכות 22'!H51 -> 20116 | I34: ראה עמוד-33
A35: 31 | B35: 811 | C35: הג"א ארצי | D35: 317 | E35: 317 | F35: 0 | G35: =' 19 הג"א'!G16 -> 318 | H35: =' 19 הג"א'!H16 -> 318 | I35: ראה עמוד-28
A36: 32 | B36: 830 | C36: ת.תקשוב - קיזוז רשויות | D36: ='עבודות קבלניות 18'!D62 -> 0 | E36: ='עבודות קבלניות 18'!E62 -> 0 | F36: ='עבודות קבלניות 18'!F62 -> 68 | G36: ='עבודות קבלניות 18'!G62 -> 308 | H36: ='עבודות קבלניות 18'!H62 -> 310 | I36: ראה עמוד 27
A37: 33 | B37: 840 | C37: רווחה | D37: =' הוצאות רווחה 8'!D110 -> 44678 | E37: 46193 | F37: =' הוצאות רווחה 8'!F110 -> 23132 | G37: =' הוצאות רווחה 8'!G110 -> 51058 | H37: =' הוצאות רווחה 8'!H110 -> 50588 | I37: ראה עמוד-13
A38: 34 | B38: 860 | C38: הנחות ארנונה רישום מקביל | D38: 33076 | E38: 27000 | F38: 20123 | G38: =(20123/23285)*39425-2000 -> 32071.259 | H38: 32000 | I38: ראה עמוד-1
A39: 35 | B39: 550-993 | C39: הוצאות חירום קורונה | D39: ='סעיפי קורונה 10'!E22 -> 489.95 | E39: 956 | F39: ='סעיפי קורונה 10'!G22 -> 814 | G39: ='סעיפי קורונה 10'!H24 -> 841 | H39: ='סעיפי קורונה 10'!I24 -> 0 | I39: ראה עמוד -17
A40: 36 | B40: 930 | C40: הג"א חירום | D40: 60 | E40: 60 | F40: =' 19 הג"א'!F34 -> 20 | G40: =' 19 הג"א'!G34 -> 60 | H40: =' 19 הג"א'!H34 -> 60
A41: 37 | B41: 960 | C41: רזרבה לפעולות | D41: 0 | E41: 100 | F41: 0 | G41: 100 | H41: 100
A42: 38 | B42: 960 | C42: הוצאות לשעת חירום מותנות | D42: 0 | E42: 100 | F42: 0 | G42: 0 | H42: 100
A43: 39 | B43: 970 | C43: מקדמה על הוצאות עודפות | D43: 18 | E43: 20 | F43: 12 | G43: 20 | H43: 20
A44: 40 | B44: 980 | C44: הוצאות שנים קודמות | D44: 376 | E44: 100 | F44: 439 | G44: 440 | H44: 100
B45: סה"כ | D45: 342700.38 | E45: =SUM(E5:E44) -> 355930.24 | F45: =SUM(F5:F44) -> 199809 | G45: =SUM(G5:G44) -> 371429.8 | H45: =SUM(H5:H44) -> 377600.06

Sheet הכנסות חינוך 3
A1: הכנסות בנושא חינוך - השתתפות ממשלה
A3: מס' | B3: מס. חשבון | C3: שם חשבון | D3: ביצוע 2021 | E3: תקציב 2022 מעודכן (מס 1) | F3: ביצוע 1-6/2022 | G3: תקציב 2022 מעודכן (מס 2) | H3: הצעה 2023
A4: 1 | B4: 1312200920 | C4: השתת' הממשלה לג.ילדים חובה | D4: 4069 | E4: =D4*1.02 -> 4150.38 | F4: 2005 | G4: 4000 | H4: 4000
A5: 2 | B5: 1312200923 | C5: עוזרות יוח"א ומיל"ת | D5: 434 | E5: =D5*1.02 -> 442.68 | F5: 179 | G5: 360 | H5: 360
A6: 3 | B6: 1312210920 | C6: סייעת שניה והעשרה | D6: 1627 | E6: =D6*1.02 -> 1659.54 | F6: 636 | G6: 1400 | H6: 1400
A7: 4 | B7: 1312211920 | C7: קיטנות השתתפות מ.חינוך | D7: 759 | E7: 0 | F7: =2396+25 -> 2421 | G7: 1200 | H7: 1200
A8: 5 | B8: 1312300920 | C8: השת' הממשלה לג.ילדים ט.חובה | D8: 10211 | E8: =D8*1.02 -> 10415.22 | F8: 5307 | G8: 10100 | H8: 10100
A9: 6 | B9: 1312500920 | C9: החזרי צהרונים מ.תמ"ת | D9: 541 | E9: 0 | F9: 99 | G9: 150 | H9: 150
A10: 7 | B10: 1312600921 | C10: העשרה ח. מיוחד - גני ילדים | D10: =37-31 -> 6 | E10: 40 | F10: =65+4 -> 69 | G10: 110 | H10: 110
A11: 8 | B11: 1313200920 | C11: השתת' הממשלה לבת"ס יסודיים כולל ביה"ס וגנ"י לחופש גדול | D11: 1531 | E11: 2000 | F11: 1536 | G11: 2800 | H11: 2800
A12: 9 | B12: 1313200921 | C12: הכנסות כלליות | D12: 4692 | E12: 1916 | F12: 893 | G12: 2700 | H12: 430
A13: 10 | B13: 1313200922 | C13: ציוד ראשוני - יוח"א | D13: -12 | E13: 50 | F13: 0 | G13: 0 | H13: 50
A14: 11 | B14: 1313200924 | C14: הזנה יוח"א בבתי ספר | D14: =614-95 -> 519 | E14: 550 | F14: 407 | G14: 650 | H14: 650
A15: 12 | B15: 1313200925 | C15: סיעות כית.בי"ס חריגות | D15: 834 | E15: 0 | F15: 301 | G15: 550 | H15: 550
A16: 13 | B16: 1313200926 | C16: סייעות כיתתיות | D16: 3023 | E16: 0 | F16: 1914 | G16: 3400 | H16: 3400
A17: 14 | B17: 1313200927 | C17: סייעות רפואיות | D17: 2000 | E17: 0 | F17: 1207 | G17: 2100 | H17: 2100
A18: 15 | B18: 1313210920 | C18: חינוך תעבורתי | D18: 6 | E18: 5 | F18: 8 | G18: 12 | H18: 12
A19: 16 | B19: 1313214920 | C19: תכנית ניצנים | D19: 405 | E19: 400 | F19: 250 | G19: 400 | H19: 400
A20: 17 | B20: 1313215920 | C20: אגרות תלמידי חוץ | D20: 73 | E20: 300 | F20: 0 | G20: 100 | H20: 150
A21: 18 | B21: 1313220920 | C21: חוק שילוב - סייעות | D21: 2021 | E21: 2127 | F21: 1144 | G21: 2127 | H21: 2130
A22: 19 | B22: 1313220922 | C22: סייעת לילד חולה בבית | D22: 0 | E22: 0 | F22: 115 | G22: 120 | H22: 120
A23: 20 | B23: 1313230920 | C23: סל תלמיד עולה יסודי | D23: -16 | E23: 80 | F23: 43 | G23: 60 | H23: 60
A24: 21 | B24: 1313230922 | C24: צמצום פערים | D24: 188 | E24: 0 | F24: 315 | G24: 460 | H24: 0
A25: 22 | B25: 1313240920 | C25: תוספת סייעת יוח"א גנים | D25: 489 | E25: =D25*1.02 -> 498.78 | F25: 174 | G25: 290 | H25: 290
A26: 23 | B26: 1313250920 | C26: ביה"ס ניהול עצמי | D26: =3301+46+64+289 -> 3700 | E26: 3500 | F26: 1578 | G26: 580 | H26: 0
A27: 24 | B27: 1313260920 | C27: אגרת שיכפול | D27: 160 | E27: 100 | F27: 111 | G27: 140 | H27: 40
A28: 25 | B28: 1313270920 | C28: מועדוניות ברשות | D28: 278 | E28: 300 | F28: 136 | G28: 280 | H28: 280
A29: 26 | B29: 1313291920 | C29: שרתים ומזכירים | D29: 0 | E29: 0 | F29: 833 | G29: 1620 | H29: 1620
A30: 27 | B30: 1313300920 | C30: מתי"א - שרתים | D30: 60 | E30: =D30*1.02 -> 61.2 | F30: 31 | G30: 61 | H30: 61
A31: 28 | B31: 1313300921 | C31: מתי"א - מזכירים | D31: 121 | E31: =D31*1.02 -> 123.42 | F31: 62 | G31: 123 | H31: 123
A32: 29 | B32: 1313310920 | C32: שירותי היקף - ח. מיוחד | D32: 190 | E32: =D32*1.02 -> 193.8 | F32: 64 | G32: 109 | H32: 110
A33: 30 | B33: 1313320920 | C33: ה. נלוות ח. מיוחד - מוסד | D33: 132 | E33: =D33*1.02 -> 134.64 | F33: 129 | G33: 185 | H33: 185
A34: 31 | B34: 1313340920 | C34: חופשות לאוטיסטים | D34: 131 | E34: =D34*1.02 -> 133.62 | F34: 21 | G34: 150 | H34: 150
A35: 32 | B35: 1313350920 | C35: שרתים ומזכירים חפץ חיים | D35: 173 | E35: =D35*1.02 -> 176.46 | F35: 0 | G35: 200 | H35: 200
A36: 33 | B36: 1313600920 | C36: שרתים יום חינוך ארוך | D36: 332 | E36: =D36*1.02 -> 338.64 | F36: 172 | G36: 330 | H36: 330
A37: 34 | B37: 1313600921 | C37: מזכירים יום חינוך ארוך | D37: 116 | E37: =D37*1.02 -> 118.32 | F37: 60 | G37: 118 | H37: 118
A38: 35 | B38: 1313700920 | C38: שרתים חוות ומרכזים | D38: 270 | E38: =D38*1.02 -> 275.4 | F38: 147 | G38: 280 | H38: 280
A39: 36 | B39: 1313700921 | C39: מזכירים - חוות ומרכזים | D39: 86 | E39: =D39*1.02 -> 87.72 | F39: 47 | G39: 90 | H39: 90
A40: 37 | B40: 1317100920 | C40: השתת' הממשלה לקב"טים | D40: 145 | E40: =D40*1.02 -> 147.9 | F40: 74 | G40: 148 | H40: 148
A41: 38 | B41: 1317100990 | C41: אבטחת מוס' חינוך משטרת ישראל | D41: 1900 | E41: 2100 | F41: 696 | G41: 2000 | H41: 2100
A42: 39 | B42: 1317300920 | C42: הש.הממשלה בשרות פס.חינוכי | D42: 1900 | E42: =D42*1.02 -> 1938 | F42: 1055 | G42: 2100 | H42: 2000
A43: 40 | B43: 1317700920 | C43: השתת.הממשלה לקבסים | D43: 417 | E43: =D43*1.02 -> 425.34 | F43: 197 | G43: 390 | H43: 390
A44: 41 | B44: 1317800920 | C44: השת ממשלה הסעות | D44: 2776 | E44: 3550 | F44: 1591 | G44: 3700 | H44: 3800
A45: 42 | B45: 1317810920 | C45: ל. הסעות ח"מ צפון | D45: 2000 | E45: 2000 | F45: 1069 | G45: 2000 | H45: 2000
A46: 43 | B46: 1328110920 | C46: עיר הילדים והנוער הכ' מ. החינוך | D46: 0 | E46: 100 | F46: 0 | G46: 98 | H46: 30
A47: 44 | B47: 1313295920 | C47: סל רשותי גפ"ן | D47: 0 | E47: 0 | F47: 0 | G47: 360 | H47: 1104
A48: 45 | C48: סל מוסדי גפ"ן | D48: 0 | E48: 0 | F48: 0 | G48: 0 | H48: 0
B49: סה"כ | D49: =SUM(D4:D48) -> 48287 | E49: =SUM(E4:E48) -> 40439.06 | F49: =SUM(F4:F48) -> 27096 | G49: =SUM(G4:G48) -> 48151 | H49: =SUM(H4:H48) -> 45621
A51: מס' | B51: מס. חשבון | C51: שם חשבון | D51: ביצוע 2021 | E51: תקציב 2022 מעודכן (מס 1) | F51: ביצוע 1-6/2022 | G51: תקציב 2022 מעודכן (מס 2) | H51: הצעה 2023
A52: 1 | B52: 1312310920 | C52: רישום מקביל גננות ע.מדינה | D52: 4979 | E52: 7400 | F52: 0 | G52: 7400 | H52: 7400
B53: =B49 -> סה"כ | D53: =SUM(D52) -> 4979 | E53: =SUM(E52) -> 7400 | F53: =SUM(F52) -> 0 | G53: =SUM(G52) -> 7400 | H53: =SUM(H52) -> 7400
A55: הכנסות בנושא חינוך - הכנסות עצמיות
A57: מס' | B57: מס. חשבון | C57: שם חשבון | D57: ביצוע 2021 | E57: תקציב 2022 מעודכן (מס 1) | F57: ביצוע 1-6/2022 | G57: תקציב 2022 מעודכן (מס 2) | H57: הצעה 2023
A58: 1 | B58: 1312200420 | C58: הכנסות הזנה- השתתפות הורי | D58: 230 | E58: 500 | F58: 290 | G58: 500 | H58: 500
A59: 2 | B59: 1312300410 | C59: השתת' הורים-ג.ילדים ט.חובה | D59: 440 | E59: 0 | F59: 34 | G59: 34 | H59: 5
A60: 3 | B60: 1312310410 | C60: גני מועדון-גביה על ידי מתנ"ס מ9.2020 | D60: 99 | E60: 100 | F60: 66 | G60: 100 | H60: 120
A61: 4 | B61: 1312800220 | C61: דמי קייטנות | D61: =44-106 -> -62 | E61: 500 | F61: 368 | G61: 350 | H61: 350
A62: 5 | B62: 1313700420 | C62: הכנסות מחווה חקלאית | D62: 7 | E62: 30 | F62: 20 | G62: 59 | H62: 70
A63: 6 | B63: 1315000430 | C63: חינוך על יסודי | D63: 243 | E63: 300 | F63: 33 | G63: 300 | H63: 300
A64: 7 | B64: 1317900220 | C64: אגרת חינוך-תשלומי הורים ( ביטוח תלמידים) | D64: =255+1 -> 256 | E64: 120 | F64: 54 | G64: =4093*69/1000 -> 282.417 | H64: 282
A65: 8 | B65: 1317930220 | C65: אגרת תלמידי חוץ תשלום מרשויות | D65: 1199 | E65: =1030-300 -> 730 | F65: 105 | G65: 520 | H65: 500
B66: סה"כ | D66: =SUM(D58:D65) -> 2412 | E66: =SUM(E58:E65) -> 2280 | F66: =SUM(F58:F65) -> 970 | G66: =SUM(G58:G65) -> 2145.417 | H66: =SUM(H58:H65) -> 2127

Sheet הכנסות תרבות 4
A2: הכנסות בנושא תרבות - השתתפות ממשלה
A4: מס' | B4: מס. חשבון | C4: שם חשבון | D4: ביצוע 2021 | E4: תקציב 2022 מעודכן (מס 1) | F4: ביצוע 1-6/2022 | G4: תקציב 2022 מעודכן (מס 2) | H4: הצעה 2023
A5: 1 | B5: 1322000920 | C5: השתתפות ממשלה בסל ספורט | D5: 488 | E5: 300 | F5: 189 | G5: 340 | H5: 350
A6: 2 | B6: 1322000990 | C6: הכנסות שרות התעסוקה+נגב גליל למרכז צעירים | D6: 243 | E6: 590 | F6: 23 | G6: =225+90+150+130+75 -> 670 | H6: 700
A7: 3 | B7: 1322100920 | C7: הכנסות ממשלה תרבות (כללית) | D7: 0 | E7: 400 | F7: 0 | G7: 100 | H7: 200
A8: 4 | B8: 1325100920 | C8: השת.הממשלה בחינוך מוזיקלי | D8: 358 | E8: 400 | F8: 0 | G8: 400 | H8: 400
B9: סה"כ | D9: =SUM(D5:D8) -> 1089 | E9: =SUM(E5:E8) -> 1690 | F9: =SUM(F5:F8) -> 212 | G9: =SUM(G5:G8) -> 1510 | H9: =SUM(H5:H8) -> 1650
A11: הכנסות בנושא תרבות - הכנסות עצמיות
A13: מס' | B13: מס. חשבון | C13: שם חשבון | D13: ביצוע 2021 | E13: תקציב 2022 מעודכן (מס 1) | F13: ביצוע 1-6/2022 | G13: תקציב 2022 מעודכן (מס 2) | H13: הצעה 2023
A14: 1 | B14: 1322000420 | C14: הכנסות מרכז ברוך | D14: 0 | E14: 50 | F14: 0 | G14: 20 | H14: 50
A15: 2 | B15: 1322100420 | C15: הכנסות אגף ספורט עירוני | D15: 271 | E15: 300 | F15: 91 | G15: 200 | H15: 200
A16: 3 | B16: 1322300420 | C16: סל תרבות | D16: 582 | E16: 500 | F16: 196 | G16: 750 | H16: 100
A17: 5 | B17: 1323000420 | C17: הכנסות מספריות | D17: 5 | E17: 30 | F17: 1 | G17: 10 | H17: 30
A18: 6 | B18: 1324000420 | C18: הכנסות מזאפה | D18: 0 | E18: 200 | F18: 0 | G18: 200 | H18: 200
A19: 7 | B19: 1325100220 | C19: שכ"ל בקונסרבטוריון | D19: 1658 | E19: 1900 | F19: 1120 | G19: 1700 | H19: 1800
A20: 8 | B20: 1325110220 | C20: הכנסות מהופעות קונסרבטוריון | D20: =42+2 -> 44 | E20: 288 | F20: 0 | G20: 50 | H20: 50
B21: סה"כ | D21: =SUM(D14:D20) -> 2560 | E21: =SUM(E14:E20) -> 3268 | F21: =SUM(F14:F20) -> 1408 | G21: =SUM(G14:G20) -> 2930 | H21: =SUM(H14:H20) -> 2430
A23: הכנסות פסטיבל - עצמיות, תרומות, פרסום וייעודיות
A25: מס' | B25: מס. חשבון | C25: שם חשבון | D25: ביצוע 2021 | E25: תקציב 2022 מעודכן (מס 1) | F25: ביצוע 1-6/2022 | G25: תקציב 2022 מעודכן (מס 2) | H25: הצעה 2023
A26: 1 | B26: 1322500420 | C26: מכירת כרטיסים פסטיבל | D26: 518 | E26: 0 | F26: 0 | G26: 0 | H26: 0
A27: 2 | B27: 1322600420 | C27: תרומות וחסויות פסטיבל | D27: 0 | E27: 50 | F27: 0 | G27: 0 | H27: 0
A28: 3 | B28: 1322800990 | C28: הכנסות ממשרדי ממשלה פסטיבל | D28: 0 | E28: 1700 | F28: 0 | G28: 220 | H28: 220
B29: סה"כ | D29: =SUM(D26:D28) -> 518 | E29: =SUM(E26:E28) -> 1750 | F29: 0 | G29: =SUM(G26:G28) -> 220 | H29: =SUM(H26:H28) -> 220
E52: עמוד -4
C76: הכנסות בנושא תרבות - הכנסות עצמיות
B78: מס. חשבון | C78: שם חשבון | D78: ביצוע 2019 עפ"י דוחות משרד הפנים

Sheet הכנסות רווחה 5
A1: הכנסות בנושא רווחה - השתתפות ממשלה
A3: מס' | B3: מס. חשבון | C3: שם חשבון | D3: ביצוע 2021 | E3: תקציב 2022 מעודכן (מס 1) | F3: ביצוע 1-6/2022 | G3: תקציב 2022 מעודכן (מס 2) | H3: הצעה 2023
A4: 1 | B4: 1341000930 | C4: חליפת מיגון | D4: 45 | E4: 0 | F4: 20 | G4: 20 | H4: 20
A5: 2 | B5: 1341010930 | C5: שכר עובדי מחלקה | D5: 5015 | E5: =D5*1.12 -> 5616.8 | F5: 3283 | G5: 11245 | H5: 11245
A6: 3 | B6: 1341020930 | C6: כ"א לחינוך המיוחד | D6: 121 | E6: =D6*1.02 -> 123.42 | F6: 67 | G6: 123 | H6: 123
A7: 4 | B7: 1341200930 | C7: נושמים לרווחה-כ"א | D7: 358 | E7: =D7*1.02 -> 365.16 | F7: 191 | G7: 365 | H7: 365
A8: 5 | B8: 1341300930 | C8: חליפות מיגון | D8: 1 | E8: =D8*1.02 -> 1.02 | F8: 0 | G8: 31 | H8: 31
A9: 6 | B9: 1341030930 | C9: בטחון עובדים - מאבטחים | D9: 64 | E9: =D9*1.02 -> 65.28 | F9: 71 | G9: 164 | H9: 164
A10: 7 | B10: 1342210930 | C10: מקלטים לנשים מוכות | D10: 425 | E10: =D10*1.02 -> 433.5 | F10: 7 | G10: 350 | H10: 350
A11: 8 | B11: 1342221930 | C11: משפחות במצוקה בקהילה | D11: 446 | E11: =D11*1.02 -> 454.92 | F11: 33 | G11: 67 | H11: 67
A12: 9 | B12: 1342222930 | C12: רכזי מענים מגן זהב | D12: 189 | E12: =D12*1.02 -> 192.78 | F12: 43 | G12: 86 | H12: 86
A13: 10 | B13: 1342240930 | C13: מסגרת ארציות לדרי רחוב | D13: =172+2 -> 174 | E13: =177+2 -> 179 | F13: 72 | G13: 153 | H13: 153
A14: 11 | B14: 1342290930 | C14: שיחות רווחה | D14: 51 | E14: =D14*1.02 -> 52.02 | F14: 29 | G14: 52 | H14: 52
A15: 12 | B15: 1342410930 | C15: תחנות לטפול במשפחה | D15: 89 | E15: =D15*1.02 -> 90.78 | F15: 0 | G15: 91 | H15: 91
A16: 13 | B16: 1342411930 | C16: מ.טיפול באלימות ילדי חוץ | D16: 87 | E16: =D16*1.02 -> 88.74 | F16: 0 | G16: 89 | H16: 89
A17: 14 | B17: 1342420930 | C17: תכנית למניעת אלימת | D17: 60 | E17: =D17*1.02 -> 61.2 | F17: 26 | G17: 107 | H17: 107
A18: 15 | B18: 1342430930 | C18: מרכזי טיפול באלימות | D18: 352 | E18: =D18*1.02 -> 359.04 | F18: 213 | G18: 359 | H18: 359
A19: 16 | B19: 1342431930 | C19: ת.לאומית נוער וצעירים | D19: 46 | E19: =D19*1.02 -> 46.92 | F19: 1 | G19: 47 | H19: 47
A20: 17 | B20: 1342432930 | C20: יתד תכניות צעירים | D20: 0 | E20: 0 | F20: 0 | G20: 114 | H20: 114
A21: 18 | B21: 1342433930 | C21: יתד- סל גמיש | D21: 252 | E21: =D21*1.02 -> 257.04 | F21: 55 | G21: 13 | H21: 13
A22: 19 | B22: 1342436930 | C22: תכנית לאומית תכנית ייחודי | D22: 0 | E22: =D22*1.02 -> 0 | F22: 0 | G22: 162 | H22: 162
A23: 20 | B23: 1342437930 | C23: מיתר | D23: 25 | E23: =D23*1.02 -> 25.5 | F23: 0 | G23: 26 | H23: 0
A24: 21 | B24: 1342440930 | C24: טיפול בפרט ובמשפחה | D24: 8 | E24: =D24*1.02 -> 8.16 | F24: 0 | G24: 8 | H24: 8
A25: 22 | B25: 1342441930 | C25: מרכז עוצמה | D25: 204 | E25: =D25*1.02 -> 208.08 | F25: 0 | G25: 192 | H25: 192
A26: 23 | B26: 1342450930 | C26: סדנאות למשפחה | D26: 60 | E26: =D26*1.02 -> 61.2 | F26: 0 | G26: 61 | H26: 61
A27: 24 | B27: 1342451930 | C27: תוכניות קהילה למשפחות | D27: 0 | E27: 0 | F27: -4 | G27: 279 | H27: 279
A28: 25 | B28: 1342453930 | C28: טיפול במשפחות חירום-אוקרינה | D28: 0 | E28: 0 | F28: 0 | G28: 72 | H28: 20
A29: 26 | B29: 1343501930 | C29: עבודה קהילתית | D29: 9 | E29: 7 | F29: 3 | G29: 18 | H29: 18
A30: 27 | B30: 1343510930 | C30: טיפול במשפחות אומנה | D30: 247 | E30: =D30*1.02 -> 251.94 | F30: 146 | G30: 290 | H30: 290
A31: 28 | B31: 1343530930 | C31: טיפול בילד בקהילה | D31: =560+59+91 -> 710 | E31: =D31*1.02 -> 724.2 | F31: 234 | G31: 467 | H31: 467
A32: 29 | B32: 1343540930 | C32: מועדוניות משותפות | D32: 374 | E32: =D32*1.02 -> 381.48 | F32: 185 | G32: 173 | H32: 173
A33: 30 | B33: 1343550930 | C33: טיפול בפגיעות מיניות | D33: 184 | E33: =D33*1.02 -> 187.68 | F33: 111 | G33: 453 | H33: 453
A34: 31 | B34: 1343551930 | C34: פגיעות מניות בגירים | D34: 265 | E34: =D34*1.02 -> 270.3 | F34: 190 | G34: 328 | H34: 328
A35: 32 | B35: 1343552930 | C35: ת. לאומית ילד ונוער | D35: 0 | E35: =D35*1.02 -> 0 | F35: 2 | G35: 130 | H35: 130
A36: 33 | B36: 1343581930 | C36: ועדת תסקירים | D36: 0 | E36: =D36*1.02 -> 0 | F36: 0 | G36: 1 | H36: 1
A37: 34 | B37: 1343810930 | C37: אחזקת ילדים בפנימיות | D37: 2957 | E37: =D37*1.02 -> 3016.14 | F37: 1645 | G37: 3244 | H37: 3244
A38: 35 | B38: 1343820930 | C38: תכנית עם הפנים לקהילה | D38: 86 | E38: =D38*1.02 -> 87.72 | F38: 22 | G38: 88 | H38: 88
A39: 36 | B39: 1343910930 | C39: ילדים במעונות יום | D39: 782 | E39: =D39*1.02 -> 797.64 | F39: 365 | G39: 798 | H39: 798
A40: 37 | B40: 1344310930 | C40: אחזקה במעונות- א.ותיק | D40: 2812 | E40: =D40*1.02 -> 2868.24 | F40: 1237 | G40: 2868 | H40: 2868
A41: 38 | B41: 1344414930 | C41: סיוע לניצולי שואה | D41: 0 | E41: =D41*1.02 -> 0 | F41: 25 | G41: 49 | H41: 49
A42: 39 | B42: 1344415930 | C42: טיפול בזקנים בסיכון | D42: 2 | E42: =D42*1.02 -> 2.04 | F42: 0 | G42: 2 | H42: 2
A43: 40 | B43: 1344416930 | C43: הזדקנות מיטבית קהילה | D43: 0 | E43: 1133 | F43: 312 | G43: 1133 | H43: 1133
A44: 41 | B44: 1344420930 | C44: מועדונים - א.ותיק | D44: 30 | E44: =D44*1.02 -> 30.6 | F44: 15 | G44: 31 | H44: 31
A45: 42 | B45: 1344440930 | C45: טיפול בקהילה- א.ותיק | D45: 82 | E45: =D45*1.02 -> 83.64 | F45: 9 | G45: 36 | H45: 36
A46: 43 | B46: 1344450930 | C46: שכונה תומכת | D46: 61 | E46: =D46*1.02 -> 62.22 | F46: 0 | G46: 62 | H46: 62
A47: 44 | B47: 1344470930 | C47: שרותים לניצולי שואה | D47: 691 | E47: =D47*1.02 -> 704.82 | F47: 328 | G47: 656 | H47: 656
A48: 45 | B48: 1344480930 | C48: נופשון לזקן | D48: 80 | E48: =D48*1.02 -> 81.6 | F48: 0 | G48: 82 | H48: 82
A49: 46 | B49: 1344481930 | C49: מיצוי זכויות לניצולי | D49: 38 | E49: =D49*1.02 -> 38.76 | F49: 0 | G49: 39 | H49: 39
A50: 47 | B50: 1344490930 | C50: חסידי אומות העולם | D50: 10 | E50: =D50*1.02 -> 10.2 | F50: 0 | G50: 10 | H50: 10
A51: 48 | B51: 1344491930 | C51: מועדונים תוכ.העשרה | D51: 3 | E51: =D51*1.02 -> 3.06 | F51: 0 | G51: 3 | H51: 3
A52: 49 | B52: 1344492930 | C52: הפוגת בדידות בסופ"ש | D52: 68 | E52: =D52*1.02 -> 69.36 | F52: 0 | G52: 69 | H52: 69
A53: 50 | B53: 1344493930 | C53: תוכנית למרותקי בית | D53: 113 | E53: =D53*1.02 -> 115.26 | F53: 0 | G53: 115 | H53: 115
A54: 51 | B54: 1344510930 | C54: מסגרות יומיות א.ותיק | D54: 182 | E54: =D54*1.02 -> 185.64 | F54: 0 | G54: 186 | H54: 186
A55: 52 | B55: 1344511930 | C55: מועדונים מועשרים | D55: 297 | E55: =D55*1.02 -> 302.94 | F55: 0 | G55: 303 | H55: 303
A56: 53 | B56: 1345100930 | C56: נופשונים וקייטנות | D56: 6 | E56: =D56*1.02 -> 6.12 | F56: -1 | G56: 6 | H56: 6
A57: 54 | B57: 1345101930 | C57: מרכז יום ותעסוקה לב | D57: 0 | E57: 0 | F57: 214 | G57: 490 | H57: 490
A58: 55 | B58: 1345110930 | C58: מ.יום שיקומי לאוטיסט | D58: 1234 | E58: =D58*1.02 -> 1258.68 | F58: 813 | G58: 1259 | H58: 1259
A59: 56 | B59: 1345111930 | C59: סביבה תומכת | D59: 139 | E59: =D59*1.02 -> 141.78 | F59: 67 | G59: 133 | H59: 133
A60: 57 | B60: 1345112930 | C60: שיקום בקהילה - מוגבלויות | D60: 102 | E60: =D60*1.02 -> 104.04 | F60: 48 | G60: 104 | H60: 104
A61: 58 | B61: 1345120930 | C61: משפחות אומנה מש"ה | D61: 18 | E61: =D61*1.02 -> 18.36 | F61: 7 | G61: 16 | H61: 16
A62: 59 | B62: 1345121930 | C62: משפחות אומנה לשיקום | D62: 60 | E62: =D62*1.02 -> 61.2 | F62: 17 | G62: 42 | H62: 42
A63: 60 | B63: 1345130930 | C63: סדור במעונות - מש"ה | D63: 5171 | E63: =D63*1.02 -> 5274.42 | F63: 2691 | G63: 5274 | H63: 5274
A64: 61 | B64: 1345150930 | C64: החזקת אוטיסטים במסגרת | D64: 3922 | E64: =D64*1.02 -> 4000.44 | F64: 2203 | G64: 4000 | H64: 4000
A65: 62 | B65: 1345160930 | C65: טיפול בהורים ובילדיה | D65: 151 | E65: =D65*1.02 -> 154.02 | F65: 73 | G65: 145 | H65: 145
A66: 63 | B66: 1345170930 | C66: מועדוניות לילדים | D66: 173 | E66: =D66*1.02 -> 176.46 | F66: 77 | G66: 154 | H66: 154
A67: 64 | B67: 1345180930 | C67: מ.יום ותעסוקה לבוגרי | D67: 446 | E67: =D67*1.02 -> 454.92 | F67: 0 | G67: 490 | H67: 490
A68: 65 | B68: 1345190930 | C68: הסעות לאוטיסטים | D68: 52 | E68: =D68*1.02 -> 53.04 | F68: 25 | G68: 50 | H68: 50
A69: 66 | B69: 1345200930 | C69: הפעלת מעונות ממשלתיי | D69: 913 | E69: =D69*1.02 -> 931.26 | F69: 413 | G69: 931 | H69: 931
... A74: 71 | B74: 1345340930 | C74: נופשונים - מש"ה | D74: 46 | E74: =D74*1.02 -> 46.92 | F74: 21 | G74: 41 | H74: 41
A75: 72 | B75: 1345351930 | C75: מועדונים לבוגרים עם אוטיזם | D75: 0 | E75: 0 | F75: 0 | G75: 2 | H75: 2
A76: 73 | B76: 1346300930 | C76: הדרכת עיוור ובני ביתו | D76: 148 | E76: =D76*1.02 -> 150.96 | F76: 80 | G76: 151 | H76: 151
A77: 74 | B77: 1346500930 | C77: אחזקת נכים בפנימיות | D77: 4860 | E77: =D77*1.02 -> 4957.2 | F77: 2778 | G77: 4651 | H77: 4651
A78: 75 | B78: 1346510930 | C78: אחזקת נכים במש. אומנה | D78: 608 | E78: =D78*1.02 -> 620.16 | F78: 340 | G78: 210 | H78: 210
A79: 76 | B79: 1346610930 | C79: תעסוקה מוגנת למוגבל | D79: 479 | E79: =D79*1.02 -> 488.58 | F79: 193 | G79: 385 | H79: 385
A80: 77 | B80: 1346620930 | C80: מס. יום לילד המוגבל | D80: 295 | E80: =D80*1.02 -> 300.9 | F80: 233 | G80: 358 | H80: 358
A81: 78 | B81: 1346631930 | C81: תוכנית תעסוקה | D81: 54 | E81: =D81*1.02 -> 55.08 | F81: 71 | G81: 200 | H81: 200
A82: 79 | B82: 1346710930 | C82: מ. יום שיקומי לנכים | D82: 2 | E82: =D82*1.02 -> 2.04 | F82: 0 | G82: 2 | H82: 2
A83: 80 | B83: 1346711930 | C83: ליווי למ.יום שיקומי | D83: 0 | E83: =D83*1.02 -> 0 | F83: 3 | G83: 90 | H83: 90
A84: 81 | B84: 1346712930 | C84: תוכניות לילד החריג | D84: 0 | E84: =D84*1.02 -> 0 | F84: 21 | G84: 43 | H84: 43
A85: 82 | B85: 1346730930 | C85: מועדון חברתי לבוגרים | D85: 154 | E85: =D85*1.02 -> 157.08 | F85: 49 | G85: 96 | H85: 96
A86: 83 | B86: 1346750930 | C86: קהילה תומכת לנכים | D86: 153 | E86: =D86*1.02 -> 156.06 | F86: 48 | G86: 95 | H86: 95
A87: 84 | B87: 1346760930 | C87: תעסוקה נתמכת לנכים | D87: 162 | E87: =D87*1.02 -> 165.24 | F87: 0 | G87: 165 | H87: 165
... A89: 86 | B89: 1346790930 | C89: הסעות מרכז יום שיקומי | D89: 215 | E89: =D89*1.02 -> 219.3 | F89: 12 | G89: 120 | H89: 120
A90: 87 | B90: 1346820930 | C90: נכים קשים בקהילה | D90: 501 | E90: 8 | F90: 6 | G90: 12 | H90: 12
A91: 88 | B91: 1346840930 | C91: מרכזי יום לנכים קשים | D91: 0 | E91: =D91*1.02 -> 0 | F91: 218 | G91: 435 | H91: 435
A92: 89 | B92: 1347100930 | C92: טיפול בנוער ובצעירים | D92: 209 | E92: =D92*1.02 -> 213.18 | F92: 72 | G92: 213 | H92: 213
A93: 90 | B93: 1347130930 | C93: טיפול בנערות במצוקה | D93: 41 | E93: =D93*1.02 -> 41.82 | F93: 0 | G93: 11 | H93: 11
A94: 91 | B94: 1347140930 | C94: נוער וצעי. חוץ ביתי | D94: 339 | E94: =D94*1.02 -> 345.78 | F94: 0 | G94: 346 | H94: 346
A95: 92 | B95: 1347160930 | C95: נערות חוץ ביתי | D95: 0 | E95: 0 | F95: 5 | G95: 13 | H95: 13
A96: 93 | B96: 1347180930 | C96: טיפול בנערות במגזר החרדי | D96: 97 | E96: =D96*1.02 -> 98.94 | F96: 29 | G96: 58 | H96: 58
A97: 94 | B97: 1347200930 | C97: מעונות חסות | D97: 212 | E97: =D97*1.02 -> 216.24 | F97: 156 | G97: 216 | H97: 216
A98: 95 | B98: 1347210930 | C98: מעונות חסות ממשלתיים | D98: 0 | E98: 0 | F98: 0 | G98: 97 | H98: 97
A99: 96 | B99: 1347310930 | C99: בדיקות סמים וסיוע | D99: 9 | E99: =D99*1.02 -> 9.18 | F99: 0 | G99: 9 | H99: 9
A100: 97 | B100: 1347312930 | C100: נפגעי התמכרויות | D100: 0 | E100: =D100*1.02 -> 0 | F100: 0 | G100: 36 | H100: 36
A101: 98 | B101: 1347323930 | C101: התמכרויות חוץ ביתי | D101: 0 | E101: 10 | F101: 0 | G101: 27 | H101: 27
A102: 99 | B102: 1347340930 | C102: סמים טיפול בקהילה | D102: 267 | E102: =D102*1.02 -> 272.34 | F102: 24 | G102: 272 | H102: 272
A103: 100 | B103: 1348210930 | C103: פ. קהילתי גאוגרפי | D103: 208 | E103: =D103*1.02 -> 212.16 | F103: 111 | G103: 224 | H103: 224
A104: 101 | B104: 1348211930 | C104: הערכות לחירום | D104: 3 | E104: =D104*1.02 -> 3.06 | F104: 0 | G104: 3 | H104: 3
A105: 102 | B105: 1348300930 | C105: פע' התנדבות בקהילה | D105: 5 | E105: =D105*1.02 -> 5.1 | F105: 8 | G105: 21 | H105: 21
A106: 103 | B106: 1348312930 | C106: לשכות ייעוץ לאזרח | D106: 1 | E106: =D106*1.02 -> 1.02 | F106: 0 | G106: 1 | H106: 1
...

Sheet הוצאות שכר 6
A2: הוצאות שכר
A4: פרק | B4: שם חשבון | C4: ביצוע 2021 | D4: תקציב 2022 מעודכן (מס 1) | E4: ביצוע 1-6/2022 | F4: תקציב 2022 מעודכן (מס 2) | G4: הצעה 2023 | H4: הערות
A5: 1611000110 | B5: נבחרים | C5: ='[1]שכר 2021'!C14/1000 -> 1899.309 | D5: 2255 | E5: 1092 | F5: 2026.4056 | G5: =F5*1.015 -> 2056.8017
A6: סה"כ פרק 61 נבחרים | C6: =SUM(C5) -> 1899.309 | D6: =SUM(D5) -> 2255 | E6: =SUM(E5) -> 1092 | F6: =SUM(F5) -> 2026.4056 | G6: =SUM(G5) -> 2056.8017
A7: 1611200110 | B7: לשכת ראש העיר | C7: 1671 | D7: 1897 | E7: 1077 | F7: 2235 | G7: =F7*1.015 -> 2268.525
A8: 1612000110 | B8: מבקר העירייה | C8: 610 | D8: 683 | E8: 334 | F8: 660 | G8: =F8*1.015 -> 669.9
A9: 1613000110 | B9: מינהל כללי | C9: 2845 | D9: 3316 | E9: 1540 | F9: 3254 | G9: =F9*1.015 -> 3302.81
A10: 1613300110 | B10: שכר אישורי תושב | C10: 488 | D10: 531 | E10: 284 | F10: 557 | G10: =F10*1.015 -> 565.355
A11: 1614000110 | B11: הסברה ויחסי ציבור | C11: 676 | D11: 655 | E11: 357 | F11: 715 | G11: =F11*1.015 -> 725.725
A12: 1615000110 | B12: משאבי אנוש | C12: 1037 | D12: 1072 | E12: 542 | F12: 1048 | G12: =F12*1.015 -> 1063.72
A13: 1617000110 | B13: יעוץ משפטי | C13: 1154 | D13: 642 | E13: 385 | F13: 941 | G13: 1330
A14: סה"כ פרק 61 | C14: =SUM(C7:C13) -> 8481 | D14: =SUM(D7:D13) -> 8796 | E14: =SUM(E7:E13) -> 4519 | F14: =SUM(F7:F13) -> 9410 | G14: =SUM(G7:G13) -> 9926.035
A15: 1621100110 | B15: גזברות | C15: 2043 | D15: 2165 | E15: 1157 | F15: 2315 | G15: =F15*1.015 -> 2349.725
A16: 1621300110 | B16: הנהלת חשבונות | C16: 996 | D16: 1200 | E16: 538 | F16: 1067 | G16: =F16*1.015 -> 1083.005
A17: 1621500110 | B17: יחידת שכר | C17: 692 | D17: 728 | E17: 401 | F17: 779 | G17: =F17*1.015 -> 790.685
A18: 1623100110 | B18: גביה | C18: 1854 | D18: 1899 | E18: 847 | F18: 1653 | G18: =F18*1.015 -> 1677.795
A19: 1623200110 | B19: אכיפה ועסקים | C19: 1258 | D19: 1236 | E19: 715 | F19: 1414 | G19: =F19*1.015 -> 1435.21
A20: סה"כ פרק 62 | C20: =SUM(C15:C19) -> 6843 | D20: =SUM(D15:D19) -> 7228 | E20: =SUM(E15:E19) -> 3658 | F20: =SUM(F15:F19) -> 7228 | G20: =SUM(G15:G19) -> 7336.42
A21: 1711000110 | B21: מינהל איכות הסביבה | C21: 1677 | D21: 1840 | E21: 1037 | F21: 2102 | G21: =F21*1.015 -> 2133.53
A22: 1712100110 | B22: מינהל שרותי ניקיון | C22: 495 | D22: 495 | E22: 244 | F22: 483 | G22: =F22*1.015 -> 490.245
A23: 1712200110 | B23: טיאוט וניקוי | C23: 5389 | D23: 5768 | E23: 2850 | F23: 5094 | G23: =F23*1.015 -> 5170.41
A24: 1712300110 | B24: איסוף וביעור אשפה | C24: 2585 | D24: 2638 | E24: 1127 | F24: 2214 | G24: =F24*1.015 -> 2247.21
A25: 1712320110 | B25: מנהלי רובע | C25: 0 | D25: 0 | E25: 455 | F25: 1120 | G25: =F25*1.015 -> 1136.8 | H25: נפתח סעיף חדש של מנהלי רובע
A26: 1712400110 | B26: תחנת מעבר | C26: 1612 | D26: 1779 | E26: 622 | F26: 1237 | G26: =F26*1.015 -> 1255.555
A27: 1714000110 | B27: שרות וטרינרי | C27: 919 | D27: 650 | E27: 348 | F27: 674 | G27: =F27*1.015 -> 684.11
A28: 1715000110 | B28: תברואה מונעת ריסוס | C28: 1330 | D28: 1486 | E28: 766 | F28: 1461 | G28: =F28*1.015 -> 1482.915
A29: סה"כ פרק 71 | C29: =SUM(C21:C28) -> 14007 | D29: =SUM(D21:D28) -> 14656 | E29: =SUM(E21:E28) -> 7449 | F29: =SUM(F21:F28) -> 14385 | G29: =SUM(G21:G28) -> 14600.775
A30: 1721000110 | B30: בטחון | C30: 1247 | D30: 1460 | E30: 842 | F30: 1659 | G30: =F30*1.015 -> 1683.885
A31: 1721100110 | B31: שיטור העירוני | C31: 3594 | D31: 3726 | E31: 1774 | F31: 3653 | G31: =F31*1.015 -> 3707.795 | H31: סעיף הועבר להיטל שמירה
A32: 1721200110 | B32: מוקד אזורי | C32: 912 | D32: 1000 | E32: 2092 | F32: 668 | G32: =F32*1.015 -> 678.02 | H32: סעיף הועבר להיטל שמירה
A33: 1723000110 | B33: הג"א מקומי | C33: 368 | D33: 166 | E33: 157 | F33: 290 | G33: =F33*1.015 -> 294.35
A34: סה"כ פרק 72 | C34: =SUM(C30:C33) -> 6121 | D34: =SUM(D30:D33) -> 6352 | E34: =SUM(E30:E33) -> 4865 | F34: =SUM(F30:F33) -> 6270 | G34: =SUM(G30:G33) -> 6364.05
A35: 1731000110 | B35: מינהל הנדסה | C35: 2506 | D35: 2550 | E35: 1464 | F35: 2825 | G35: =F35*1.015 -> 2867.375
A36: 1733000110 | B36: רישוי פיקוח ובניה | C36: 2507 | D36: 2614 | E36: 1287 | F36: 2597 | G36: =F36*1.015 -> 2635.955
A37: סה"כ פרק 73 | C37: =SUM(C35:C36) -> 5013 | D37: =SUM(D35:D36) -> 5164 | E37: =SUM(E35:E36) -> 2751 | F37: =SUM(F35:F36) -> 5422 | G37: =SUM(G35:G36) -> 5503.33
A38: 1741000110 | B38: תשתיות ותחבורה | C38: 1024 | D38: 1000 | E38: 527 | F38: 1034 | G38: =F38*1.015 -> 1049.51
A39: 1743000110 | B39: תאורת רחובות | C39: 683 | D39: 696 | E39: 345 | F39: 718 | G39: =F39*1.015 -> 728.77
A40: 1746000110 | B40: גנים ונטיעות | C40: 3392 | D40: 3500 | E40: 1418 | F40: 2799 | G40: =F40*1.015 -> 2840.985
A41: 1746100110 | B41: פארק הגליל | C41: 209 | D41: 213 | E41: 249 | F41: 517 | G41: 540
A42: 1746200110 | B42: פארק המשפחה | C42: 707 | D42: 738 | E42: 377 | F42: 764 | G42: =F42*1.015 -> 775.46
A43: סה"כ פרק 74 | C43: =SUM(C38:C42) -> 6015 | D43: =SUM(D38:D42) -> 6147 | E43: =SUM(E38:E42) -> 2916 | F43: =SUM(F38:F42) -> 5832 | G43: =SUM(G38:G42) -> 5934.725
A44: 1752000110 | B44: פסטיבל | C44: 93 | D44: 118 | E44: 3 | F44: 167 | G44: =F44*1.015 -> 169.505
A45: סה"כ פרק 75 | C45: =SUM(C44:C44) -> 93 | D45: =SUM(D44) -> 118 | E45: =SUM(E44) -> 3 | F45: =SUM(F44) -> 167 | G45: =SUM(G44) -> 169.505
A46: 1761000110 | B46: מוקד עירוני | C46: 1619 | D46: 1650 | E46: 878 | F46: 1740 | G46: =F46*1.015 -> 1766.1
A47: 1764000110 | B47: תרבות דיור | C47: 183 | D47: 183 | E47: 93 | F47: 182 | G47: =F47*1.015 -> 184.73
A48: סה"כ פרק 76 | C48: =SUM(C46:C47) -> 1802 | D48: =SUM(D46:D47) -> 1833 | E48: =SUM(E46:E47) -> 971 | F48: =SUM(F46:F47) -> 1922 | G48: =SUM(G46:G47) -> 1950.83
A49: 1770000110 | B49: פיתוח כלכלי (מבקר העירייה) | C49: 569 | D49: 572 | E49: 194 | F49: 288 | G49: 190
A50: 1772000110 | B50: שכר האב | C50: 625 | D50: 395 | E50: 361 | F50: 585 | G50: 650
A51: סה"כ פרק 77 | C51: =SUM(C49:C50) -> 1194 | D51: =SUM(D49:D50) -> 967 | E51: =SUM(E49:E50) -> 555 | F51: =SUM(F49:F50) -> 873 | G51: =SUM(G49:G50) -> 840
A52: 1781000110 | B52: פיקוח חוקי עזר | C52: 2253 | D52: 2401 | E52: 1153 | F52: 2224 | G52: =F52*1.015 -> 2257.36
A53: 1781100110 | B53: רישוי וקידום עסקים | C53: 651 | D53: 643 | E53: 331 | F53: 616 | G53: =F53*1.015 -> 625.24
A54: סה"כ פרק 78 | C54: =SUM(C52:C53) -> 2904 | D54: =SUM(D52:D53) -> 3044 | E54: =SUM(E52:E53) -> 1484 | F54: =SUM(F52:F53) -> 2840 | G54: =SUM(G52:G53) -> 2882.6
A55: 1811000110 | B55: מינהל חינוך | C55: 3256 | D55: 3348 | E55: 1623 | F55: 3265 | G55: =F55*1.015 -> 3313.975
A56: 1812200110 | B56: גני ילדים חובה | C56: 4228 | D56: 4430 | E56: =2123+16 -> 2139 | F56: 4302 | G56: =F56*1.015 -> 4366.53
A57: 1812210110 | B57: סייעות סבב | C57: 3925 | D57: 4100 | E57: 2121 | F57: 4235 | G57: =F57*1.015 -> 4298.525
A58: 1812300110 | B58: גני ילדים טרום חובה | C58: 6228 | D58: 6500 | E58: 3499 | F58: 6872 | G58: =F58*1.015 -> 6975.08
A59: 1812310110 | B59: מדריכת בטיחות בדרכים גנ"י | C59: 189 | D59: 177 | E59: 95 | F59: 191 | G59: =F59*1.015 -> 193.865
A60: 1812400110 | B60: מועדוניות | C60: 592 | D60: 621 | E60: 293 | F60: 432 | G60: =F60*1.015 -> 438.48
A61: 1812510110 | B61: מחליפות בגנים | C61: 146 | D61: 188 | E61: 7 | F61: 7 | G61: =F61*1.015 -> 7.105
A62: 1812520110 | B62: מסגרות חינוך בחופשה | C62: 184 | D62: 0 | E62: 28 | F62: 53 | G62: =F62*1.015 -> 53.795
A63: 1812600110 | B63: סייעות רפואיות | C63: 4169 | D63: 4543 | E63: 2292 | F63: 4408 | G63: =F63*1.015 -> 4474.12
A64: 1812700110 | B64: גנות טרום חובה | C64: 760 | D64: 733 | E64: 409 | F64: 768 | G64: =F64*1.015 -> 779.52
A65: 1812800110 | B65: גן חינוך מיוחד קשה | C65: 1943 | D65: 2041 | E65: 1003 | F65: 1884 | G65: =F65*1.015 -> 1912.26
A66: 1812900110 | B66: גן חינוך מיוחד קל ארוך | C66: 1368 | D66: 1477 | E66: 762 | F66: 1542 | G66: =F66*1.015 -> 1565.13
A67: 1813210110 | B67: בתי ספר | C67: =856.67154-42 -> 814.67154 | D67: 901 | E67: =473-10 -> 463 | F67: 1060 | G67: =F67*1.015 -> 1075.9
A68: 1813211110 | B68: בתי ספר | C68: 677.1959 | D68: 695 | E68: 333 | F68: 662 | G68: =F68*1.015 -> 671.93
A69: 1813212110 | B69: בתי ספר | C69: 889.7731 | D69: 904 | E69: 461 | F69: 901 | G69: =F69*1.015 -> 914.515
A70: 1813213110 | B70: בתי ספר | C70: 729.61299 | D70: 768 | E70: 346 | F70: 672 | G70: =F70*1.015 -> 682.08
A71: 1813214110 | B71: בתי ספר | C71: 563.56589 | D71: 623 | E71: 266 | F71: 506 | G71: =F71*1.015 -> 513.59
A72: 1813215110 | B72: בתי ספר | C72: 550.89389 | D72: 578 | E72: 274 | F72: 548 | G72: =F72*1.015 -> 556.22
A73: 1813216110 | B73: בתי ספר | C73: 511.23711 | D73: 532 | E73: 267 | F73: 521 | G73: =F73*1.015 -> 528.815
A74: 1813217110 | B74: בתי ספר | C74: 74.50519 | D74: 470 | E74: 251 | F74: 460 | G74: =F74*1.015 -> 466.9
A75: 1813218110 | B75: בתי ספר | C75: 872.41341 | D75: 935 | E75: 472 | F75: 935 | G75: =F75*1.015 -> 949.025
A76: 1813219110 | B76: בתי ספר | C76: 367.29095 | D76: 406 | E76: 195 | F76: 389 | G76: =F76*1.015 -> 394.835
A77: 1813220110 | B77: בתי ספר | C77: 805.82427 | D77: 802 | E77: 445 | F77: 855 | G77: =F77*1.015 -> 867.825
A78: 1813221110 | B78: בתי ספר | C78: 66.23303 | D78: 87 | E78: 29 | F78: 35 | G78: 0
A79: 1813222110 | B79: בתי ספר | C79: 256.47195 | D79: 259 | E79: 137 | F79: 264 | G79: =F79*1.015 -> 267.96
A80: 1813223110 | B80: בתי ספר | C80: 194.18293 | D80: 196 | E80: 102 | F80: 199 | G80: =F80*1.015 -> 201.985
A81: 1813224110 | B81: בתי ספר | C81: 258.44607 | D81: 299 | E81: 138 | F81: 262 | G81: =F81*1.015 -> 265.93
A82: 1813225110 | B82: בתי ספר | C82: 426.37846 | D82: 448 | E82: 210 | F82: 434 | G82: =F82*1.015 -> 440.51
A83: 1813226110 | B83: בתי ספר | C83: 447.48601 | D83: 471 | E83: 237 | F83: 464 | G83: =F83*1.015 -> 470.96
A84: 1813227110 | B84: נאמני קורונה | C84: 55 | D84: 205 | E84: 70 | F84: 72 | G84: 0
A85: 1813300110 | B85: מלוות בהסעות | C85: 3013 | D85: 3360 | E85: 1761 | F85: 3273 | G85: =F85*1.015 -> 3322.095
A86: 1813400110 | B86: חינוך פדגוגי קל | C86: 6827 | D86: 7089 | E86: 3413 | F86: 6610 | G86: =F86*1.015 -> 6709.15
A87: 1813500110 | B87: חינוך פדגוגי קשה | C87: 4415 | D87: 4578 | E87: 2256 | F87: 4606 | G87: =F87*1.015 -> 4675.09
A88: 1813600110 | B88: סייעות צמודות | C88: 1550 | D88: 1507 | E88: 1153 | F88: 2306 | G88: =F88*1.015 -> 2340.59
A89: 1813700110 | B89: פדגוגיות שעתיות | C89: 102 | D89: 132 | E89: 38 | F89: 52 | G89: =F89*1.015 -> 52.78
A90: 1817100110 | B90: קב"ט | C90: 392 | D90: 397 | E90: 217 | F90: 433 | G90: =F90*1.015 -> 439.495
A91: 1817200110 | B91: מרכזיה פדגוגית | C91: 623 | D91: 638 | E91: 317 | F91: 616 | G91: =F91*1.015 -> 625.24
A92: 1817300110 | B92: שרות פסיכולוגי | C92: 3213 | D92: 3460 | E92: 1890 | F92: 3941 | G92: =F92*1.015 -> 4000.115
A93: 1817700110 | B93: קב"ס | C93: 805 | D93: 835 | E93: 360 | F93: 721 | G93: =F93*1.015 -> 731.815
A94: 1817710110 | B94: שכר נוער בסיכון | C94: 371 | D94: 425 | E94: 191 | F94: 412 | G94: =F94*1.015 -> 418.18
A95: 1817900110 | B95: עיר ללא אלימות | C95: 221 | D95: 222 | E95: 249 | F95: 211 | G95: =F95*1.015 -> 214.165
A96: 1817910110 | B96: קידום נוער וקהילה | C96: 1693 | D96: 1563 | E96: 832 | F96: 1597 | G96: =F96*1.015 -> 1620.955
... A98: 1817912110 | B98: יחידת נוער | C98: 267 | D98: 276 | E98: 159 | F98: 335 | G98: =F98*1.015 -> 340.025
A99: סה"כ פרק 81 | C99: =SUM(C55:C98) -> 59330.183 | D99: =SUM(D55:D98) -> 62527 | E99: =SUM(E55:E98) -> 31916 | F99: =SUM(F55:F98) -> 62533 | G99: =SUM(G55:G98) -> 63362.39
A100: 1821000110 | B100: מינהל תרבות | C100: 1239 | D100: 1131 | E100: 824 | F100: 1664 | G100: =F100*1.015 -> 1688.96
A101: 1823000110 | B101: ספרייה | C101: 1219 | D101: 1336 | E101: 624 | F101: 1240 | G101: =F101*1.015 -> 1258.6
A102: 1824000110 | B102: שכר עובדי מרכז תרבות וספו | C102: 31 | D102: 0 | E102: 1 | F102: 1 | G102: =F102*1.015 -> 1.015
A103: 1825000110 | B103: קונסרבטוריון | C103: 558 | D103: 605 | E103: 283 | F103: 644 | G103: =F103*1.015 -> 653.66
...

Sheet שכד ביטוחים עיתונים ומשלחות 7  
B2: 410 | C2: תשלומי שכר דירה
A4: מס' | B4: מס' חשבון | C4: שם חשבון | D4: ביצוע 2021 | E4: תקציב 2022 מעודכן (מס 1) | F4: ביצוע 1-6/2022 | G4: תקציב 2022 מעודכן (מס 2) | H4: הצעה 2023
A5: 1 | B5: 1939000410 | C5: שכר דירה | D5: 42 | E5: =14*4+4.8*4 -> 75.2 | F5: 76 | G5: 84 | H5: 84
B6: סה"כ | D6: =SUM(D5) -> 42 | E6: =SUM(E5) -> 75.2 | F6: =SUM(F5) -> 76 | G6: =SUM(G5) -> 84 | H6: =H5 -> 84
B9: 440 | C9: הוצאות ביטוחים צד ג' וחבויות עפ"י התפלגות פרמיה והשתתפות עצמית
A12: מס' | B12: מס' חשבון | C12: שם חשבון | D12: ביצוע 2021 | E12: תקציב 2022 מעודכן (מס 1) | F12: ביצוע 1-6/2022 | G12: תקציב 2022 מעודכן (מס 2) | H12: הצעה 2023
A13: 1 | B13: 1767000440 | C13: ביטוח- השתתפות עצמית | D13: 1337 | E13: 900 | F13: 1037 | G13: 1200 | H13: 1200
A14: 2 | B14: 1767100440 | C14: ביטוח-פרמיה | D14: 1749 | E14: =1370+294+114+321+84+50 -> 2233 | F14: 1835 | G14: 2200 | H14: 2200
A15: 3 | B15: 1723200440 | C15: ביטוח מרכיבי התגוננות | D15: 10 | E15: 10 | F15: 0 | G15: 10 | H15: 10
B16: סה"כ | D16: =SUM(D13:D15) -> 3096 | E16: =SUM(E13:E15) -> 3143 | F16: =SUM(F13:F15) -> 2872 | G16: =SUM(G13:G15) -> 3410 | H16: =SUM(H13:H15) -> 3410
B19: 513 | C19: ארוח משלחות
A21: מס' | B21: מס' חשבון | C21: שם חשבון | D21: ביצוע 2021 | E21: תקציב 2022 מעודכן (מס 1) | F21: ביצוע 1-6/2022 | G21: תקציב 2022 מעודכן (מס 2) | H21: הצעה 2023
A22: 1 | B22: 1754000513 | C22: ארוח משלחות | D22: 0 | E22: 20 | F22: 13 | G22: =19-3+1 -> 17 | H22: 17
B23: סה"כ | D23: =SUM(D21:D22) -> 0 | E23: =SUM(E21:E22) -> 20 | F23: =SUM(F22) -> 13 | G23: =SUM(G22) -> 17 | H23: =H22 -> 17
B25: 522 | C25: הוצאות ספרים ועיתונים
A27: מס' | B27: מס' חשבון | C27: שם חשבון | D27: ביצוע 2021 | E27: תקציב 2022 מעודכן (מס 1) | F27: ביצוע 1-6/2022 | G27: תקציב 2022 מעודכן (מס 2) | H27: הצעה 2023
A28: 1 | B28: 1613000522 | C28: ספרים ועיתונים | D28: 0 | E28: 2 | F28: 0 | G28: 2 | H28: 2
A29: 2 | B29: 1617000522 | C29: ספרים ועתונים | D29: 0 | E29: 0 | F29: 0 | G29: 0 | H29: 0
A30: 3 | B30: 1621000522 | C30: ספרים ועתונים | D30: 0 | E30: 0 | F30: 0 | G30: 0 | H30: 0
B31: סה"כ | D31: =SUM(D28:D30) -> 0 | E31: =SUM(E28:E30) -> 2 | F31: =SUM(F28:F30) -> 0 | G31: =SUM(G28:G30) -> 2 | H31: =SUM(H28:H30) -> 2

Sheet  הוצאות רווחה  8
B2: 840 | C2: הוצאות רווחה
A4: מס' | B4: מס' חשבון | C4: שם חשבון | D4: ביצוע 2021 | E4: תקציב 2022 מעודכן (מס 1) | F4: ביצוע 1-6/2022 | G4: תקציב 2022 מעודכן (מס 2) | H4: הצעה 2023
A5: 1 | B5: 1841020840 | C5: כ"א לחינוך המיוחד | D5: 0 | E5: 136 | F5: 0 | G5: 136 | H5: 136
A6: 2 | B6: 1841050840 | C6: בטחון עובדים מאבטחים | D6: 0 | E6: 121.04 | F6: 0 | G6: 219 | H6: 219
A7: 3 | B7: 1841200840 | C7: נושמים לרווחה-כ"א | D7: =2+13+8 -> 23 | E7: 454.24 | F7: 0 | G7: 454 | H7: 454
A8: 4 | B8: 1841300840 | C8: חליפות מיגון | D8: 60 | E8: 40.8 | F8: 40 | G8: 73 | H8: 73
A9: 5 | B9: 1842210840 | C9: מקלטים לנשים מוכות | D9: 712 | E9: 504.56 | F9: 9 | G9: 467 | H9: 467
A10: 6 | B10: 1842220840 | C10: משפחות במצוקה קהילה | D10: 170 | E10: 176.8 | F10: 97 | G10: 89 | H10: 89
A11: 7 | B11: 1842240840 | C11: מסגרות ארציות לדרי רחוב | D11: 223 | E11: 122.4 | F11: 98 | G11: 204 | H11: 204
A12: 8 | B12: 1842290840 | C12: שיחות רווחה | D12: =13+12 -> 25 | E12: 54.4 | F12: 29 | G12: =51.3-0.3 -> 51 | H12: 51
A13: 9 | B13: 1842292840 | C13: רכזי מענים מגן זהב | D13: 21 | E13: 130.56 | F13: 38 | G13: 114 | H13: 114
A14: 10 | B14: 1842293840 | C14: טיפול אובדן שכול | D14: 0 | E14: 40.8 | F14: 0 | G14: 41 | H14: 41
A15: 11 | B15: 1842410840 | C15: תחנות לטיפול במשפחה | D15: 50 | E15: 178.16 | F15: 0 | G15: 178 | H15: 178
A16: 12 | B16: 1842420840 | C16: תכנית למניעת אלימות | D16: 38 | E16: 88 | F16: 6 | G16: 143 | H16: 143
A17: 13 | B17: 1842430840 | C17: מרכזי טיפול באלימות | D17: 11 | E17: 363.12 | F17: 0 | G17: 363 | H17: 363
A18: 14 | B18: 1842431840 | C18: תכנית לאומית נוער וצעירים | D18: 17 | E18: 32.64 | F18: 0 | G18: 33 | H18: 33
A19: 15 | B19: 1842432840 | C19: יתד תכנית צעירים | D19: 52 | E19: 346.8 | F19: 29 | G19: 151 | H19: 151
A20: 16 | B20: 1842433840 | C20: יתד- סל גמיש | D20: 134 | E20: 16.32 | F20: 15 | G20: 17 | H20: 17
A21: 17 | B21: 1842441840 | C21: מרכז עוצמה | D21: 175 | E21: 261.12 | F21: 41 | G21: 261 | H21: 261
A22: 18 | B22: 1842451840 | C22: טיפול בפרט ובמשפחה | D22: 11 | E22: 34 | F22: 0 | G22: 34 | H22: 34
A23: 19 | B23: 1842452840 | C23: תוכניות קהילה למשפחות | D23: 0 | E23: 372 | F23: -55 | G23: 372 | H23: 372
A24: 20 | B24: 1842453840 | C24: טיפול במשפחות חירום אוקרינה | D24: 0 | E24: 72 | F24: 2 | G24: 72 | H24: 72
... A31: 27 | B31: 1843540840 | C31: מועדוניות משותפות | D31: 10 | E31: 239.36 | F31: 0 | G31: 230 | H31: 230
A32: 28 | B32: 1843550840 | C32: טיפול בפגיעות מיניות | D32: =309-13 -> 296 | E32: 492.32 | F32: 17 | G32: 604 | H32: 604
A33: 29 | B33: 1843551840 | C33: פגיעות מניות בגירים | D33: 43 | E33: 136 | F33: 166 | G33: 437 | H33: 437
A34: 30 | B34: 1843552840 | C34: ת. לאומית ילד ונוער | D34: 1 | E34: 48.96 | F34: 3 | G34: 130 | H34: 130
A35: 31 | B35: 1843553840 | C35: ת. לאומית תוכניות | D35: 0 | E35: 216.24 | F35: 0 | G35: 216 | H35: 216
A36: 32 | B36: 1843581840 | C36: וועדת תסקירים | D36: 0 | E36: 1 | F36: 1 | G36: 1 | H36: 1
A37: 33 | B37: 1843810840 | C37: אחזקת ילדים בפנימיות | D37: 4449 | E37: 4108.56 | F37: 2339 | G37: 4325 | H37: 4325
A38: 34 | B38: 1843820840 | C38: תכנית עם הפנים לקהילה | D38: 130 | E38: 127.84 | F38: 35 | G38: 128 | H38: 128
A39: 35 | B39: 1843910840 | C39: ילדים במעונות יום | D39: 1047 | E39: 977.84 | F39: 546 | G39: 978 | H39: 978
A40: 36 | B40: 1844310840 | C40: אחזקה במעונות- אזרח ותיק | D40: 4242 | E40: 2774.4 | F40: 2041 | G40: 2774 | H40: 2774
A41: 37 | B41: 1844413840 | C41: העשרה מועדונית ורד | D41: 5 | E41: 5 | F41: 5 | G41: 5 | H41: 5
A42: 38 | B42: 1844414840 | C42: סיוע לניצולי שואה | D42: 0 | E42: 288.32 | F42: 82 | G42: 49 | H42: 49
A43: 39 | B43: 1844418840 | C43: הזדקנות מיטבית קהילה | D43: 108 | E43: =1510+61 -> 1571 | F43: =445+2 -> 447 | G43: 1510 | H43: 1510
A44: 40 | B44: 1844420840 | C44: מועדונים לאזרחים ותיקים | D44: =27+327 -> 354 | E44: =39+442 -> 481 | F44: 27 | G44: 39 | H44: 39
A45: 41 | B45: 1844425840 | C45: טיפול באזרח ותיק בסיכון | D45: 21 | E45: 21.76 | F45: 0 | G45: 22 | H45: 22
A46: 42 | B46: 1844440840 | C46: טיפול בקהילה- אזרח ותיק | D46: 130 | E46: 112.88 | F46: 50 | G46: 48 | H46: 48
A47: 43 | B47: 1844470840 | C47: שרותים לניצולי שואה | D47: =836+42 -> 878 | E47: =661+71 -> 732 | F47: 412 | G47: 656 | H47: 656
A48: 44 | B48: 1844491840 | C48: העשרה מועדונית ניצנים | D48: 5 | E48: 5 | F48: 5 | G48: 5 | H48: 5
A49: 45 | B49: 1844495840 | C49: מופ"ת ניצולי שואה | D49: 0 | E49: 291.04 | F49: 0 | G49: 291 | H49: 291
A50: 46 | B50: 1844511840 | C50: מועדונים מועשרים | D50: 416 | E50: 499.12 | F50: 0 | G50: 499 | H50: 499
A51: 47 | B51: 1845100840 | C51: נופשונים וקייטנות | D51: =1+5 -> 6 | E51: =7+14 -> 21 | F51: 1 | G51: 8 | H51: 8
A52: 48 | B52: 1845101840 | C52: מרכז יום ותעסוקה לב | D52: 0 | E52: 0 | F52: 238 | G52: 653 | H52: 653
A53: 49 | B53: 1845111840 | C53: סביבה תומכת | D53: =175+76 -> 251 | E53: =175+80 -> 255 | F53: 89 | G53: 176 | H53: 176
A54: 50 | B54: 1845112840 | C54: שיקום בקהילה - מוגבלויות | D54: 163 | E54: 128 | F54: 98 | G54: 128 | H54: 128
A55: 51 | B55: 1845120840 | C55: משפחות אומנה-מש"ה | D55: 24 | E55: 13.6 | F55: 12 | G55: 22 | H55: 22
A56: 52 | B56: 1845121840 | C56: משפחות אומנה לשיקום | D56: 55 | E56: 28.56 | F56: 22 | G56: 56 | H56: 56
A57: 53 | B57: 1845122840 | C57: מועדונים לילדים ולבוגר | D57: 0 | E57: 4.08 | F57: 0 | G57: 4 | H57: 4
A58: 54 | B58: 1845130840 | C58: סדור מעונות במש"ה | D58: 7448 | E58: 7575.2 | F58: 3845 | G58: 7575 | H58: 7575
A59: 55 | B59: 1845150840 | C59: החזקת אוטיסטים במסגרת | D59: 4331 | E59: 6103.68 | F59: 2282 | G59: 6104 | H59: 6104
A60: 56 | B60: 1845160840 | C60: טיפול בהורים ובילדיהם | D60: 216 | E60: 197.2 | F60: 129 | G60: 193 | H60: 193
A61: 57 | B61: 1845170840 | C61: מועדוניות לילדים | D61: 152 | E61: 176.8 | F61: 131 | G61: 206 | H61: 206
A62: 58 | B62: 1845180840 | C62: מרכז יום ותעסוקה לבוגרים | D62: 667 | E62: 591.6 | F62: 55 | G62: 653 | H62: 653
A63: 59 | B63: 1845190840 | C63: הסעות לאוטיסטים | D63: 102 | E63: =39+45 -> 84 | F63: 46 | G63: 67 | H63: 67
A64: 60 | B64: 1845200840 | C64: הפעלת מעונות ממשלתיים | D64: 1333 | E64: 1146.48 | F64: 550 | G64: 1146 | H64: 1146
A65: 61 | B65: 1845210840 | C65: מש"ה במעון אמוני | D65: 2 | E65: 5 | F65: 2 | G65: 5 | H65: 5
A66: 62 | B66: 1845220840 | C66: מש"ה במעון טיפולי | D66: 1252 | E66: 1015.92 | F66: 733 | G66: 1089 | H66: 1089
A67: 63 | B67: 1845230840 | C67: מעשי"ם | D67: 417 | E67: 331.84 | F67: 182 | G67: 330 | H67: 330
A68: 64 | B68: 1845320840 | C68: הסעות למרכז יום למש"ה | D68: 288 | E68: 189.04 | F68: 196 | G68: 217 | H68: 217
A69: 65 | B69: 1845340840 | C69: נופשונים למש"ה | D69: 65 | E69: 39.44 | F69: 86 | G69: 55 | H69: 55
A70: 66 | B70: 1845350840 | C70: מועדונים לבוגרים עם אוטוזם | D70: 0 | E70: 0 | F70: 0 | G70: 3 | H70: 3
A71: 67 | B71: 1846300840 | C71: הדרכת עיוור ובני ביתו | D71: 215 | E71: 213.52 | F71: 142 | G71: 213 | H71: 213
A72: 68 | B72: 1846500840 | C72: אחזקת נכים בפנימיות | D72: 7036 | E72: 5920.08 | F72: 3705 | G72: 6202 | H72: 6202
A73: 69 | B73: 1846510840 | C73: אחזקת נכים במשפחות אומנה | D73: 277 | E73: 280.16 | F73: 114 | G73: 281 | H73: 281
A74: 70 | B74: 1846610840 | C74: תעסוקה מוגנת למוגבל | D74: 668 | E74: 481.44 | F74: 334 | G74: 513 | H74: 513
A75: 71 | B75: 1846620840 | C75: מסגרת יום לילד המוגבל | D75: 464 | E75: 364.48 | F75: 347 | G75: 477 | H75: 477
A76: 72 | B76: 1846630840 | C76: תוכניות מעבר | D76: 0 | E76: 216 | F76: 0 | G76: 216 | H76: 216
A77: 73 | B77: 1846640840 | C77: תוכניות תעסוקה | D77: 266 | E77: 216.24 | F77: =54+40 -> 94 | G77: 267 | H77: 267
A78: 74 | B78: 1846710840 | C78: מרכז יום שיקומי לנכים | D78: 2013 | E78: 1096.16 | F78: =780+447 -> 1227 | G78: 1510 | H78: 1510
A79: 75 | B79: 1846711840 | C79: ליווי למרכז יום שיקומי | D79: 0 | E79: 229.84 | F79: 112 | G79: 220 | H79: 200
A80: 76 | B80: 1846730840 | C80: מועדון חברתי לבוגרים | D80: 147 | E80: 163.2 | F80: 87 | G80: 128 | H80: 128
A81: 77 | B81: 1846750840 | C81: קהילה תומכת לנכים | D81: 211 | E81: 205.36 | F81: 100 | G81: 127 | H81: 127
A82: 78 | B82: 1846761840 | C82: תוכניות תמיכה בקהילה | D82: 76 | E82: 398.48 | F82: 7 | G82: 398 | H82: 398
A83: 79 | B83: 1846780840 | C83: מרכזי יום לנכים קשים | D83: 0 | E83: 639.2 | F83: 0 | G83: 639 | H83: 639
A84: 80 | B84: 1846790840 | C84: הסעות מרכז יום שיקומי | D84: 0 | E84: 352.24 | F84: 15 | G84: 950 | H84: 500
A85: 81 | B85: 1846791840 | C85: תוכניות לילד החריג | D85: 0 | E85: 32.64 | F85: 24 | G85: 57 | H85: 57
A86: 82 | B86: 1846820840 | C86: נכים קשים בקהילה | D86: 616 | E86: 10.88 | F86: 8 | G86: 15 | H86: 15
A87: 83 | B87: 1846830840 | C87: שיקום נכים בקהילה | D87: 0 | E87: 131.92 | F87: 0 | G87: 132 | H87: 132
A88: 84 | B88: 1846840840 | C88: מרכזי יום לנכים קשים | D88: 0 | E88: 580 | F88: 387 | G88: 580 | H88: 580
A89: 85 | B89: 1847100840 | C89: טיפול בנוער ובצעירים | D89: 225 | E89: 204 | F89: 92 | G89: 204 | H89: 204
A90: 86 | B90: 1847110840 | C90: בתים חמים לנערות | D90: 0 | E90: 233.92 | F90: 0 | G90: 234 | H90: 234
... A98: 94 | B98: 1847311840 | C98: התמכרויות-חוץ ביתי | D98: 42 | E98: 13.6 | F98: 0 | G98: 36 | H98: 36
A99: 95 | B99: 1847341840 | C99: נפגעי התמכרויות טיפול בקהילה | D99: -12 | E99: 82.96 | F99: =7+22 -> 29 | G99: 73 | H99: 73
A100: 96 | B100: 1848211840 | C100: היערכות לחירום | D100: 5 | E100: 4.08 | F100: 0 | G100: 4 | H100: 4
A101: 97 | B101: 1848310840 | C101: פעולות התנדבות בקהילה | D101: =39+110+9 -> 158 | E101: 39.44 | F101: 13 | G101: 28 | H101: 28
A102: 98 | B102: 1848312840 | C102: לשכות ייעוץ לאזרח | D102: 4 | E102: 1.36 | F102: 0 | G102: 2 | H102: 2
A103: 99 | B103: 1849050840 | C103: משפחות עולים במצוקה | D103: 39 | E103: 28.56 | F103: 12 | G103: 27 | H103: 27
A104: 100 | B104: 1849060840 | C104: מרכז טיפול באלימות עולים | D104: 0 | E104: 44.88 | F104: 0 | G104: 45 | H104: 45
A105: 101 | B105: 1849080840 | C105: טיפול בעולים - אזרח ותיק | D105: 10 | E105: 14.96 | F105: 3 | G105: 15 | H105: 15
A106: 102 | B106: 1849090840 | C106: עובדי שכונה עולים | D106: 0 | E106: 145.52 | F106: 0 | G106: 146 | H106: 146
A107: 103 | B107: 1849130840 | C107: תוכניות לנגמלים | D107: 24 | E107: 40.8 | F107: 6 | G107: 27 | H107: 27
A108: 104 | B108: 1849140840 | C108: תוכניות טיפול בעולים | D108: 0 | E108: 29.92 | F108: 0 | G108: 30 | H108: 30
A109: 105 | B109: 1849200840 | C109: מועדון לעולים-העשרה | D109: 20 | E109: 27.2 | F109: 6 | G109: 27 | H109: 27
B110: סה"כ | D110: =SUM(D5:D109) -> 44678 | E110: =SUM(E5:E109) -> 49086.64 | F110: =SUM(F5:F109) -> 23132 | G110: =SUM(G5:G109) -> 51058 | H110: =SUM(H5:H109) -> 50588

Sheet קליקה 9
A2: קליקה - ריכוז הוצאות והכנסות
A4: מס' | B4: מס. חשבון | C4: שם חשבון | D4: ביצוע 2021 | E4: תקציב 2022 מעודכן (מס 1) | F4: ביצוע 1-6/2022 | G4: תקציב 2022 מעודכן (מס 2) | H4: הצעה 2023
A5: 1 | B5: 1772000782 | C5: קליקה שוטף | D5: 20 | E5: 55 | F5: 30 | G5: 59 | H5: 59
A6: 2 | B6: 1772000470 | C6: ציוד משרדי קליקה | D6: 9 | E6: 10 | F6: 2 | G6: 6 | H6: 6
A7: 3 | B7: 1772000511 | C7: כיבוד | D7: 13 | E7: 20 | F7: 14 | G7: 26 | H7: 23
A8: 4 | B8: 1772000810 | C8: תשלום למתנס השתתפות עירייה | D8: 42 | E8: 170 | F8: 87 | G8: 170 | H8: 170
A9: 5 | B9: 1772110781 | C9: חומרי ניקוי האב | D9: 6 | E9: 13.5 | F9: 11 | G9: 15 | H9: 15
A10: 6 | B10: 1772300781 | C10: ק.ק האב | D10: 5 | E10: 6.5 | F10: 1 | G10: 7 | H10: 7
A11: 7 | B11: 1772500781 | C11: הרצאות האב | D11: 2 | E11: 0 | F11: 0 | G11: 0 | H11: 0
A12: 8 | B12: 1772600781 | C12: פיתוח כלכלי האב | D12: 4 | E12: 0 | F12: 5 | G12: 0 | H12: 0
B13: סה"כ | D13: =SUM(D5:D12) -> 101 | E13: =SUM(E5:E12) -> 275 | F13: =SUM(F5:F12) -> 150 | G13: =SUM(G5:G12) -> 283 | H13: =SUM(H5:H12) -> 280

Sheet סעיפי קורונה 10
A2: הוצאות קורונה
B3: הכנסות
A4: מס' | B4: מס. חשבון | C4: שם חשבון | D4: ביצוע 2020 (דוחות) | E4: ביצוע 2021 | F4: תקציב 2022 מעודכן (מס 1) | G4: ביצוע 1-6/2022 | H4: תקציב 2022 מעודכן (מס 2) | I4: הצעה 2023
A5: 1 | B5: 1229999910 | C5: הכנסות קורונה משרדי ממשלה | D5: 0 | E5: 1282 | F5: 926 | G5: 150 | H5: 481 | I5: 0
A6: 2 | B6: 1229999911 | C6: הכנ' משרד הפנים סיוע חגי תשרי | D6: 93 | E6: 0 | F6: 0 | G6: 0 | H6: 0 | I6: 0
A7: 3 | B7: 1229999990 | C7: מענקי קורונה משרדי ממשלה | D7: 0 | E7: 33 | F7: 0 | G7: 0 | H7: 0 | I7: 0
B8: סה"כ הכנסות כללי | D8: =SUM(D5:D7) -> 93 | E8: =SUM(E5:E7) -> 1315 | F8: =SUM(F5:F7) -> 926 | G8: =SUM(G5:G7) -> 150 | H8: =SUM(H5:H7) -> 481 | I8: =SUM(I5:I7) -> 0
B10: הוצאות
A11: מס' | B11: מס. חשבון | C11: שם חשבון | D11: ביצוע 2020 (דוחות) | E11: ביצוע 2021 | F11: תקציב 2022 מעודכן (מס 1) | G11: ביצוע 1-6/2022 | H11: תקציב 2022 מעודכן (מס 2) | I11: הצעה 2023
A12: 1 | B12: 1729998110 | C12: שכר תגבור פיקוח ומוקד | E12: =39.5+39.5+38+79+270 -> 466 | F12: 0 | G12: 0 | H12: 0 | I12: 0
A13: 2 | B13: 1729999110 | C13: שכר נאמני קורונה ומתשאלים | E13: 0 | F13: 0 | G13: 0 | H13: 0 | I13: 0
B14: סה"כ | D14: =SUM(D12:D13) -> 0 | E14: =SUM(E12:E13) -> 466 | F14: =SUM(F12:F13) -> 0 | G14: =SUM(G12:G13) -> 0 | H14: =SUM(H12:H13) -> 0 | I14: =SUM(I12:I13) -> 0
A16: מס' | B16: מס. חשבון | C16: שם חשבון | D16: ביצוע 2020 (דוחות) | E16: ביצוע 2021 | F16: תקציב 2022 מעודכן (מס 1) | G16: ביצוע 1-6/2022 | H16: תקציב 2022 מעודכן (מס 2) | I16: הצעה 2023
A17: 1 | B17: 1729999550 | C17: קשר עם התושב | D17: 87 | E17: 100 | F17: 0 | G17: 0 | H17: 0 | I17: 0
A18: 2 | B18: 1729999930 | C18: הצטיידות קורונה | D18: 305 | E18: =107+39+19.2+79+38.5+39-E17-4.75 -> 216.95 | F18: 130 | G18: 103 | H18: 130 | I18: 0
A19: 3 | B19: 1729999931 | C19: תשלום למתנס נאמני קורונה | D19: 0 | E19: 0 | F19: 726 | G19: 651 | H19: 651 | I19: 0
A20: 4 | B20: 1729999933 | C20: הצטיידות חגי תשרי | D20: 94 | E20: 77 | F20: 0 | G20: 0 | H20: 0 | I20: 0
A21: 5 | B21: 1729999932 | C21: ציוד ומיגון לשעת חרום קורונה | D21: 558 | E21: 96 | F21: 100 | G21: 60 | H21: 60 | I21: 0
B22: סה"כ | D22: =SUM(D17:D21) -> 1044 | E22: =SUM(E17:E21) -> 489.95 | F22: =SUM(F17:F21) -> 956 | G22: =SUM(G17:G21) -> 814 | H22: =SUM(H17:H21) -> 841 | I22: =SUM(I17:I21) -> 0
B24: סה"כ הוצאות כללי | D24: =D22+D14+D8 -> 1137 | E24: =E22+E14+E8 -> 2270.95 | F24: =F22+F14+F8 -> 1882 | G24: =G22+G14+G8 -> 964 | H24: =H22+H14 -> 841 | I24: =I8+I14+I22 -> 0

Sheet ציוד משרדי וכיבוד 11
B2: 470 | C2: ציוד משרד ושכירות מדפסות
A4: מס'י | B4: מס' חשבון | C4: שם חשבון | D4: ביצוע 2021 | E4: תקציב 2022 מעודכן (מס 1) | F4: ביצוע 1-6/2022 | G4: תקציב 2022 מעודכן (מס 2) | H4: הצעה 2023
A5: 1 | B5: 1611000470 | C5: ציוד משרדי לשכת ראש העיר | D5: =29+1 -> 30 | E5: =2.5*12+10 -> 40 | F5: 10 | G5: 40 | H5: 40
A6: 3 | B6: 1612000470 | C6: ציוד משרדי מבקר העיריה | D6: 2 | E6: 40 | F6: 5 | G6: 40 | H6: 40
A7: 4 | B7: 1613000470 | C7: ציוד משרדי מינהל כללי | D7: 351 | E7: =27.5*12 -> 330 | F7: 197 | G7: 330 | H7: 330
A8: 5 | B8: 1613100470 | C8: נייר צילום | D8: 92 | E8: 70 | F8: 43 | G8: =66+14 -> 80 | H8: 70
A9: 6 | B9: 1617000470 | C9: ציוד משרדי יועץ משפטי | D9: 7 | E9: 7 | F9: 3 | G9: 7 | H9: 7
A10: 7 | B10: 1617100470 | C10: ציוד משרדי יועץ משפטי | D10: 2 | E10: 3 | F10: 2 | G10: 3 | H10: 3
A11: 8 | B11: 1621000470 | C11: ציוד משרדי גזברות | D11: 25 | E11: =1.67*12 -> 20.04 | F11: 12 | G11: 20 | H11: 20
A12: 9 | B12: 1621300470 | C12: ציוד משרדי הנהלת חשבונות | D12: 10 | E12: 12 | F12: 7 | G12: 12 | H12: 12
A13: 10 | B13: 1621310470 | C13: ציוד משרדי הנהלת חשבונות | D13: 5 | E13: 6 | F13: 1 | G13: 6 | H13: 6
A14: 11 | B14: 1623000470 | C14: ציוד משרדי גביה | D14: 37 | E14: 24 | F14: 15 | G14: 24 | H14: 24
A15: 12 | B15: 1711000470 | C15: ציוד משרדי תברואה | D15: 19 | E15: =12*1.5 -> 18 | F15: 11 | G15: 18 | H15: 18
A16: 13 | B16: 1721000470 | C16: ציוד משרדי בטחון | D16: 11 | E16: =0.75*12 -> 9 | F16: 3 | G16: 9 | H16: 9
A17: 14 | B17: 1722100470 | C17: ציוד משרדי משא"ז | D17: 1 | E17: 2 | F17: 2 | G17: 2 | H17: 2
A18: 15 | B18: 1731000470 | C18: ציוד משרדי הנדסה | D18: 37 | E18: 42 | F18: 17 | G18: 42 | H18: 42
A19: 16 | B19: 1731100470 | C19: ציוד משרדי הנדסה | D19: 2 | E19: 4 | F19: 4 | G19: 4 | H19: 4
A20: 17 | B20: 1732000470 | C20: ציוד משרדי ועדת בנין עיר | D20: 0 | E20: 1 | F20: 0 | G20: 1 | H20: 1
A21: 18 | B21: 1746000470 | C21: ציוד משרדי גינון | D21: 3 | E21: 0 | F21: 2 | G21: 2 | H21: 2
A22: 19 | B22: 1770000470 | C22: ציוד משרדי גישור | D22: 0 | E22: 1 | F22: 0 | G22: 1 | H22: 1
A23: 20 | B23: 1772000470 | C23: ציוד משרדי קליקה | D23: 9 | E23: 10 | F23: 2 | G23: 10 | H23: 10
A24: 21 | B24: 1782000470 | C24: ציוד משרדי בית משפט | D24: 0 | E24: 1 | F24: 0 | G24: 0 | H24: 0
A25: 22 | B25: 1811000470 | C25: ציוד משרדי חינוך | D25: 28 | E25: 24 | F25: 13 | G25: 24 | H25: 24
A26: 23 | B26: 1813210470 | C26: ציוד משרדי ביה"ס השחר | D26: 6 | E26: 4 | F26: 0 | G26: 4 | H26: 4
A27: 24 | B27: 1813700470 | C27: ציוד משרדי חווה חקלאית | D27: 2 | E27: 0 | F27: 1 | G27: 1 | H27: 1
A28: 25 | B28: 1815500470 | C28: ציוד משרדי כרם גפנים | D28: 0 | E28: 1 | F28: 0 | G28: 1 | H28: 1
A29: 26 | B29: 1815510470 | C29: ציוד משרדי כרם גפנים | D29: 10 | E29: 14 | F29: 4 | G29: =13-7 -> 6 | H29: 6
A30: 27 | B30: 1817300470 | C30: ציוד משרדי שרות פסיכולוגי | D30: 7 | E30: 4 | F30: 2 | G30: 4 | H30: 4
A31: 28 | B31: 1822110470 | C31: ציוד משרדי מח' הספורט | D31: 2 | E31: 1 | F31: 1 | G31: 1 | H31: 1
A32: 29 | B32: 1822200470 | C32: ציוד משרדי תרבות | D32: 6 | E32: 3 | F32: 3 | G32: 3 | H32: 3
A33: 30 | B33: 1823000470 | C33: ציוד משרדי ספריה | D33: 4 | E33: 3 | F33: 3 | G33: 3 | H33: 3
A34: 31 | B34: 1826100470 | C34: ציוד משרדי היכל התרבות | D34: 6 | E34: 6 | F34: 12 | G34: 12 | H34: 12
A35: 32 | B35: 1828200470 | C35: ציוד משרדי קידום נוער | D35: 7 | E35: 10 | F35: 2 | G35: 10 | H35: 10
A36: 33 | B36: 1841000470 | C36: ציוד משרדי רווחה | D36: 18 | E36: 20 | F36: 8 | G36: 20 | H36: 20
A37: 34 | B37: 1844400470 | C37: ציוד משרדי רווחה | D37: 0 | E37: 0
A38: 35 | B38: 1860000470 | C38: ציוד משרדי קליטה | D38: 3 | E38: 4 | F38: 3 | G38: 4 | H38: 4
A39: 36 | B39: 1913000470 | C39: ציוד משרדי תשתיות | D39: 2 | E39: 3 | F39: 1 | G39: 3 | H39: 3
A40: 37 | B40: 1933000470 | C40: ציוד משרדי הון אנושי | D40: 9 | E40: 13 | F40: 2 | G40: 13 | H40: 13
A41: 38 | B41: 1943000470 | C41: ציוד משרדי רשות החניה | D41: 1 | E41: 3 | F41: 2 | G41: 3 | H41: 3
B42: סה"כ | D42: =SUM(D5:D41) -> 754 | E42: =SUM(E5:E41) -> 753.04 | F42: =SUM(F5:F41) -> 393 | G42: =SUM(G5:G41) -> 763 | H42: =SUM(H5:H41) -> 753
B44: 511 | C44: הוצאות כיבוד עפ"י חלוקה מחלקתית
A46: מס'י | B46: מס' חשבון | C46: שם חשבון | D46: ביצוע 2021 | E46: תקציב 2022 מעודכן (מס 1) | F46: ביצוע 1-6/2022 | G46: תקציב 2022 מעודכן (מס 2) | H46: הצעה 2023
A47: 1 | B47: 1611000511 | C47: כיבוד לשכת ראש העיר | D47: 10 | E47: 12 | F47: 14 | G47: 18 | H47: 12
A48: 2 | B48: 1613000511 | C48: כיבוד מינהל כללי | D48: 94 | E48: =7*12 -> 84 | F48: 78 | G48: 107 | H48: 84
A49: 3 | B49: 1617000511 | C49: כיבוד יועץ משפטי | D49: 1 | E49: 1 | F49: 1 | G49: 1 | H49: 1
A50: 4 | B50: 1621000511 | C50: כיבוד גזברות | D50: 3 | E50: 3 | F50: 2 | G50: 3 | H50: 3
A51: 5 | B51: 1621300511 | C51: כיבוד הנהלת חשבונות | D51: 1 | E51: 1 | F51: 2 | G51: 1 | H51: 1
A52: 6 | B52: 1623000511 | C52: כיבוד גביה | D52: 0 | E52: 1 | F52: 0 | G52: 1 | H52: 1
A53: 7 | B53: 1711000511 | C53: כיבוד תברואה | D53: 0 | E53: 1 | F53: 0 | G53: 1 | H53: 1
A54: 8 | B54: 1731000511 | C54: כיבוד הנדסה | D54: 1 | E54: 1 | F54: 0 | G54: 1 | H54: 0
A55: 9 | B55: 1772000511 | C55: כיבוד האב | D55: 13 | E55: 20 | F55: 15 | G55: 20 | H55: 20
A56: 10 | B56: 1841000511 | C56: כיבוד רווחה | D56: 0 | E56: 0 | F56: 0 | G56: 7 | H56: 17
B57: סה"כ | D57: =SUM(D47:D56) -> 123 | E57: =SUM(E47:E56) -> 124 | F57: =SUM(F47:F56) -> 112 | G57: =SUM(G47:G56) -> 160 | H57: =SUM(H47:H56) -> 140

Sheet חשמל ומים 12
B2: 430+771 | C2: הוצאות חשמל ומים עפ"י פירוט מחלקתי
A4: מס' | B4: מס' חשבון | C4: שם חשבון | D4: ביצוע 2021 | E4: תקציב 2022 מעודכן (מס 1) | F4: ביצוע 1-6/2022 | G4: תקציב 2022 מעודכן (מס 2) | H4: הצעה 2023
A5: 1 | B5: 1613000430 | C5: חשמל ומים מוסדות | D5: =2734+2 -> 2736 | E5: 610 | F5: =1097+1 -> 1098 | G5: 2100 | H5: 2100
A6: 2 | B6: 1617000430 | C6: חשמל ומים בית משפט | D6: 1 | E6: 1 | F6: 1 | G6: 1 | H6: 0
A7: 3 | B7: 1715000430 | C7: חשמל ומים מחסן רעלים | D7: 1 | E7: 1 | F7: 0 | G7: 0 | H7: 0
A8: 4 | B8: 1723000430 | C8: מים הג"א | D8: 53 | E8: 24 | F8: 30 | G8: 24 | H8: 14
A9: 5 | B9: 1723100430 | C9: חשמל הג"א מקומי | D9: 63 | E9: 54 | F9: 54 | G9: 110 | H9: 110
A10: 6 | B10: 1812300430 | C10: חשמל ומים גני ילדים | D10: 561 | E10: 170 | F10: 289 | G10: 500 | H10: 500
A11: 7 | B11: 1813210430 | C11: חשמל ומים בתי ספר | D11: 78 | E11: 0 | F11: 80 | G11: 80 | H11: 0
A12: 8 | B12: 1813213430 | C12: חשמל ומים ביה"ס עמיחי | D12: 27 | E12: 4 | F12: 15 | G12: 27 | H12: 27
A13: 9 | B13: 1813214430 | C13: חשמל ומים ביה"ס רקפת | D13: 13 | E13: 8 | F13: 13 | G13: 13 | H13: 13
A14: 10 | B14: 1813220430 | C14: חשמל ומים ביה"ס הדקל | D14: 2 | E14: 0 | F14: 1 | G14: 1 | H14: 0
A15: 11 | B15: 1813240430 | C15: חשמל ומים ניצנים | D15: 32 | E15: 10 | F15: 12 | G15: 20 | H15: 20
A16: 12 | B16: 1813280430 | C16: חשמל ומים איריסים | D16: 22 | E16: 14 | F16: 14 | G16: 22 | H16: 22
A17: 13 | B17: 1815500430 | C17: חשמל ומים על יסודי | D17: 53 | E17: 38 | F17: 10 | G17: 38 | H17: 38
... A20: 16 | B20: 1841000430 | C20: חשמל ומים | D20: 39 | E20: 14 | F20: 10 | G20: 14 | H20: 14
A21: 17 | B21: 1939000430 | C21: חשמל ומים דירת מגורים | D21: 3 | E21: 2 | F21: =2-1 -> 1 | G21: 4 | H21: 4
B22: סה"כ | D22: =SUM(D5:D21) -> 3694 | E22: =SUM(E5:E21) -> 950 | F22: =SUM(F5:F21) -> 1636 | G22: =SUM(G5:G21) -> 2968 | H22: =SUM(H5:H21) -> 2876
A24: מס' | B24: מס' חשבון | C24: שם חשבון | D24: ביצוע 2021 | E24: תקציב 2022 מעודכן (מס 1) | F24: ביצוע 1-6/2022 | G24: תקציב 2022 מעודכן (מס 2) | H24: הצעה 2023
A25: 1 | B25: 1743000771 | C25: תאורת רחובות | D25: 3001 | E25: =3500*0.88+170-324+40 -> 2966 | F25: 1195 | G25: 2400 | H25: 2400
B26: סה"כ | D26: =D25 -> 3001 | E26: =E25 -> 2966 | F26: =SUM(F25) -> 1195 | G26: =SUM(G25) -> 2400 | H26: =SUM(H25) -> 2400
B28: סה"כ כולל | D28: =D22+D26 -> 6695 | E28: =E22+E26 -> 3916 | F28: =F22+F26 -> 2831 | G28: =G22+G26 -> 5368 | H28: =H22+H26 -> 5276
B31: 720 | C31: הוצאות מים גינון
A33: מס'י | B33: מס. חשבון | C33: שם חשבון | D33: ביצוע 2021 | E33: תקציב 2022 מעודכן (מס 1) | F33: ביצוע 1-6/2022 | G33: תקציב 2022 מעודכן (מס 2) | H33: הצעה 2023
A34: 1 | B34: 1746000720 | C34: הוצאות מים גינון | D34: 2697 | E34: 3980 | F34: 781 | G34: =781+709+610+196 -> 2296 | H34: =G34 -> 2296
B35: סה"כ | D35: =SUM(D34) -> 2697 | E35: =SUM(E34) -> 3980 | F35: =SUM(F34) -> 781 | G35: =SUM(G34) -> 2296 | H35: =SUM(H34) -> 2296

Sheet דלק ורכבים 13
C2: 531 | D2: הוצאות דלק: כרטיסי תדלוק ודלקנים עבור רכבי העירייה
B4: מס' | C4: מס. חשבון | D4: שם חשבון | E4: ביצוע 2021 | F4: תקציב 2022 מעודכן (מס 1) | G4: ביצוע 1-6/2022 | H4: תקציב 2022 מעודכן (מס 2) | I4: הצעה 2023
B5: 1 | C5: 1611000531 | D5: דלק ושמנים לשכת ראש העיר | E5: 66 | F5: 49 | G5: 34 | H5: 49 | I5: 49
B6: 2 | C6: 1612000531 | D6: דלק ושמנים מבקר העיריה | E6: 11 | F6: 15 | G6: 5 | H6: 15 | I6: 15
B7: 3 | C7: 1613000531 | D7: דלק ושמנים מינהל כללי | E7: 20 | F7: 24 | G7: 9 | H7: 18 | I7: 18
B8: 4 | C8: 1617000531 | D8: דלק ושמנים יועץ משפטי | E8: 6 | F8: 6 | G8: 0 | H8: 15 | I8: 15
B9: 5 | C9: 1621000531 | D9: דלק ושמנים גזברות | E9: 14 | F9: 15 | G9: 10 | H9: 15 | I9: 15
B10: 6 | C10: 1711000531 | D10: דלק ושמנים תברואה | E10: 192 | F10: 122 | G10: 125 | H10: 195 | I10: 195
B11: 7 | C11: 1712200531 | D11: דלק ושמנים נקיון | E11: 163 | F11: 285 | G11: 76 | H11: 225 | I11: 225
B12: 8 | C12: 1712300531 | D12: דלק ושמנים אשפה | E12: 499 | F12: 480 | G12: =337+15 -> 352 | H12: 620 | I12: 620
B13: 9 | C13: 1721000531 | D13: דלק ושמנים בטחון | E13: 26 | F13: 43 | G13: 6 | H13: 15 | I13: 15
B14: 10 | C14: 1733000531 | D14: דלק ושמנים הנדסה | E14: 5 | F14: 9 | G14: 7 | H14: 16 | I14: 23
B15: 11 | C15: 1746000531 | D15: דלק ושמנים גינון | E15: 71 | F15: 62 | G15: 33 | H15: 62 | I15: 62
B16: 12 | C16: 1811000531 | D16: דלק ושמנים חינוך | E16: 25 | F16: 35 | G16: 13 | H16: 35 | I16: 35
B17: 13 | C17: 1817910531 | D17: דלק ושמנים חינוך | E17: 19 | F17: 15 | G17: 6 | H17: 15 | I17: 15
B18: 14 | C18: 1821000531 | D18: דלק ושמנים תרבות | E18: 0 | F18: 0 | G18: 0 | H18: 0 | I18: 0
B19: 15 | C19: 1822200531 | D19: דלק ושמנים מרכז ברוך | E19: 5 | F19: 15 | G19: 0 | H19: 0 | I19: 0
B20: 16 | C20: 1841000531 | D20: דלק ושמנים רווחה | E20: 0 | F20: 0 | G20: 0 | H20: 0 | I20: 0
B21: 17 | C21: 1913000531 | D21: דלק ושמנים תשתיות | E21: 27 | F21: 22 | G21: 14 | H21: 22 | I21: 22
B22: 18 | C22: 1943000531 | D22: דלק ושמנים רשות החניה | E22: 3 | F22: 3 | G22: 1 | H22: 3 | I22: 3
B23: 19 | C23: 1860000531 | D23: דלק ושמנים קליטה | E23: 0 | F23: 0 | G23: 3 | H23: 15 | I23: 15
C24: סה"כ | E24: =SUM(E5:E23) -> 1152 | F24: =SUM(F5:F23) -> 1200 | G24: =SUM(G5:G23) -> 694 | H24: =SUM(H5:H23) -> 1335 | I24: =SUM(I5:I23) -> 1342
C26: 530 | D26: דמי שימוש שנתיים לאשכול בית הכרם ורכישת רכבים
B28: מס' | C28: מס. חשבון | D28: שם חשבון | E28: ביצוע 2021 | F28: תקציב 2022 מעודכן (מס 1) | G28: ביצוע 1-6/2022 | H28: תקציב 2022 מעודכן (מס 2) | I28: הצעה 2023
B29: 1 | C29: 1611000530 | D29: רכישת רכב ראש העיר | E29: 0 | F29: 205 | G29: 0 | H29: 0 | I29: 0
B30: 2 | C30: 1712210530 | D30: דמי שימוש מכונת טיאוט בינונית+טיאוט גדולה + משאית טמוני קרקע | E30: 247 | F30: 304 | G30: 292 | H30: 304 | I30: 304
B31: 3 | C31: 1712211530 | D31: משאית חשמלית זעירה | E31: 0 | F31: 0 | G31: 0 | H31: 5 | I31: 5
B32: 4 | C32: 1712220530 | D32: דמי שימוש מכונת טיאוט קטנה | E32: 51 | F32: 52 | G32: 51 | H32: 52 | I32: 52
B33: 5 | C33: 1712230530 | D33: דמי שימוש משאית רמסע | E33: 0 | F33: 23 | G33: 0 | H33: 23 | I33: 23
C34: סה"כ | E34: =SUM(E29:E33) -> 298 | F34: =SUM(F29:F33) -> 584 | G34: =SUM(G29:G33) -> 343 | H34: =SUM(H29:H33) -> 384 | I34: =SUM(I29:I33) -> 384

Sheet תיקונים ורישוי 14
D2: 532 | E2: הוצאות תיקוני רכבי עירייה שאינם בליסינג עפ"י חלוקה
C4: מס' | D4: מס. חשבון | E4: שם חשבון | F4: ביצוע 2021 | G4: תקציב 2022 מעודכן (מס 1) | H4: ביצוע 1-6/2022 | I4: תקציב 2022 מעודכן (מס 2) | J4: הצעה 2023
C5: 1 | D5: 1611000532 | E5: תיקוני רכב לשכת ראש העיר | F5: 23 | G5: 20 | H5: 50 | I5: 55 | J5: 20
C6: 2 | D6: 1612000532 | E6: תיקוני רכב מבקר העיריה | F6: 1 | G6: 5 | H6: -1 | I6: 2 | J6: 2
C7: 3 | D7: 1613000532 | E7: תיקוני רכב מינהל כללי | F7: 2 | G7: 5 | H7: 3 | I7: 5 | J7: 2
C8: 4 | D8: 1617000532 | E8: תיקוני רכב יועץ משפטי | F8: 1 | G8: 1 | H8: 2 | I8: 1 | J8: 1
C9: 5 | D9: 1621000532 | E9: תיקוני רכב גזברות | F9: 3 | G9: 3 | H9: 6 | I9: 6 | J9: 3
C10: 6 | D10: 1711000532 | E10: תיקוני רכב תברואה | F10: 110 | G10: 70 | H10: 67 | I10: 70 | J10: 115
C11: 7 | D11: 1711200532 | E11: תיקונים מח' רכב | F11: 0 | G11: 1 | H11: 0 | I11: 0 | J11: 0
C12: 8 | D12: 1712200532 | E12: תיקוני רכב מח' נקיון | F12: 255 | G12: 271 | H12: 168 | I12: 271 | J12: 300
C13: 9 | D13: 1712300532 | E13: תיקונים טרקטורים | F13: 445 | G13: 461 | H13: 375 | I13: 461 | J13: 850
C14: 10 | D14: 1712400532 | E14: תיקוני רכב תחנת מעבר | F14: 0 | G14: 0 | H14: 0 | I14: 0 | J14: 0
C15: 11 | D15: 1715300532 | E15: תיקונים הדברה | F15: 0 | G15: 0 | H15: 0 | I15: 0 | J15: 0
C16: 12 | D16: 1721000532 | E16: תיקוני רכב בטחון | F16: 8 | G16: 15 | H16: -1 | I16: 5 | J16: 1
... C20: 16 | D20: 1746000532 | E20: תיקוני רכב גינון | F20: 29 | G20: 29 | H20: 12 | I20: 29 | J20: 29
C21: 17 | D21: 1811000532 | E21: תיקוני רכב חינוך | F21: 5 | G21: =F21 -> 5 | H21: 2 | I21: 3 | J21: 3
C22: 18 | D22: 1817910532 | E22: תיקוני רכב חינוך | F22: 2 | G22: 4 | H22: 0 | I22: 4 | J22: 4
C23: 19 | D23: 1821000532 | E23: תיקוני רכב תרבות | F23: 1 | G23: =F23 -> 1 | H23: 0 | I23: 0 | J23: 0
C24: 20 | D24: 1822200532 | E24: תיקוני רכב תרבות | F24: 1 | G24: 2 | H24: 1 | I24: 2 | J24: 2
C25: 21 | D25: 1841000532 | E25: תיקוני רכב רווחה | F25: 0 | G25: =F25 -> 0 | H25: 0 | I25: 0 | J25: 0
C26: 22 | D26: 1913000532 | E26: תיקוני רכב תשתיות | F26: 12 | G26: 60 | H26: 10 | I26: 20 | J26: 20
C27: 23 | D27: 1943000532 | E27: תיקוני רכב רשות החניה | F27: 3 | G27: 6 | H27: 1 | I27: 6 | J27: 6
D28: סה"כ | F28: =SUM(F5:F27) -> 902 | G28: =SUM(G5:G27) -> 961 | H28: =SUM(H5:H27) -> 695 | I28: =SUM(I5:I27) -> 942 | J28: =SUM(J5:J27) -> 1360
D30: 533 | E30: הוצאות רישוי ובטוח לרכבי עירייה שאינם בליסינג
C32: מס' | D32: מס. חשבון | E32: שם חשבון | F32: ביצוע 2021 | G32: תקציב 2022 מעודכן (מס 1) | H32: ביצוע 1-6/2022 | I32: תקציב 2022 מעודכן (מס 2) | J32: הצעה 2023
C33: 1 | D33: 1611000533 | E33: רישוי וביטוח לשכת ראש העיר | F33: 9 | G33: 8 | H33: 8 | I33: 8 | J33: 8
C34: 2 | D34: 1613000533 | E34: רישוי ובטוח מינהל כללי | F34: 0 | G34: 0 | H34: 0 | I34: 0 | J34: 0
C35: 3 | D35: 1711000533 | E35: רשוי וביטוח תברואה | F35: 65 | G35: 63 | H35: 90 | I35: 100 | J35: 100
C36: 4 | D36: 1712200533 | E36: רשוי וביטוח נקיון | F36: 49 | G36: 50 | H36: 44 | I36: 50 | J36: 50
C37: 5 | D37: 1712300533 | E37: רישוי וביטוח אשפה | F37: 229 | G37: 233 | H37: 197 | I37: 200 | J37: 200
C38: 6 | D38: 1721000533 | E38: רישוי ובטוח בטחון | F38: 1 | G38: 10 | H38: 2 | I38: 2 | J38: 2
C39: 7 | D39: 1746000533 | E39: רישוי ובטוח גינון | F39: 25 | G39: 24 | H39: 13 | I39: 15 | J39: 15
C40: 8 | D40: 1817910533 | E40: רשוי וביטוח חינוך | F40: 7 | G40: 7 | H40: -1 | I40: 0 | J40: 0
C41: 9 | D41: 1822200533 | E41: רשוי ובטוח תרבות | F41: 3 | G41: 3 | H41: 3 | I41: 3 | J41: 3
C42: 10 | D42: 1841000533 | E42: רישוי ובטוח רווחה | F42: 0 | G42: 0 | H42: 0 | I42: 0 | J42: 0
C43: 11 | D43: 1860000533 | E43: רישוי וביטוח קליטה | F43: 0 | G43: 0 | H43: 0 | I43: 0 | J43: 0
C44: 12 | D44: 1913000533 | E44: רישוי וביטוח תשתיות | F44: 18 | G44: 19 | H44: 16 | I44: 19 | J44: 19
C45: 13 | D45: 1943000533 | E45: רישוי וביטוח רשות החניה | F45: 10 | G45: 11 | H45: 18 | I45: 18 | J45: 18
D46: סה"כ | F46: =SUM(F33:F45) -> 416 | G46: =SUM(G33:G45) -> 428 | H46: =SUM(H33:H45) -> 390 | I46: =SUM(I33:I45) -> 415 | J46: =SUM(J33:J45) -> 415
C49: מס' | D49: מס. חשבון | E49: שם חשבון | F49: ביצוע 2021 | G49: תקציב 2022 מעודכן (מס 1) | H49: ביצוע 1-6/2022 | I49: תקציב 2022 מעודכן (מס 2) | J49: הצעה 2023
C50: 1 | D50: 1723000422 | E50: אחזקת נגררים (ביטוח) | F50: 40 | G50: 0 | H50: 55 | I50: 85 | J50: 85
D51: סה"כ | F51: =SUM(F50) -> 40 | G51: =SUM(G50) -> 0 | H51: =SUM(H50) -> 55 | I51: =SUM(I50) -> 85 | J51: =SUM(J50) -> 85

Sheet ליסינג 15
C2: 534 | D2: הוצאות ליסינג רכבי עירייה
B4: מס' | C4: מס. חשבון | D4: שם חשבון | E4: ביצוע 2021 | F4: תקציב 2022 מעודכן (מס 1) | G4: ביצוע 1-6/2022 | H4: תקציב 2022 מעודכן (מס 2) | I4: הצעה 2023
B5: 1 | C5: 1611000534 | D5: שכירות ליסינג לשכת ראש העיר | E5: 159 | F5: 159 | G5: 91 | H5: 190 | I5: 196
B6: 2 | C6: 1612000534 | D6: שכירות ליסינג מבקר העיריה | E6: 54 | F6: 57 | G6: 32 | H6: 64 | I6: 64
B7: 3 | C7: 1613000534 | D7: שכירות ליסינג מינהל כללי | E7: =8*12 -> 96 | F7: 98 | G7: 33 | H7: 66 | I7: 55
B8: 4 | C8: 1617000534 | D8: שכירות ליסינג יועץ משפטי | E8: 47 | F8: 52 | G8: 0 | H8: 32 | I8: 62
B9: 5 | C9: 1621000534 | D9: שכירות ליסינג גזברות | E9: 41 | F9: 45 | G9: 29 | H9: 55 | I9: 55
B10: 6 | C10: 1711000534 | D10: שכירות ליסינג תברואה | E10: 519 | F10: 581 | G10: 211 | H10: 462 | I10: =462+60 -> 522
B11: 7 | C11: 1712200534 | D11: שכירות ליסינג נקיון | E11: 107 | F11: 73 | G11: 98 | H11: 225 | I11: 245
B12: 8 | C12: 1721000534 | D12: שכירות ליסינג בטחון | E12: 181 | F12: 129 | G12: =88-21 -> 67 | H12: 133 | I12: 134
B13: 9 | C13: 1733000534 | D13: שכירות ליסינג הנדסה | E13: 19 | F13: 45 | G13: 23 | H13: 45 | I13: 64
B14: 10 | C14: 1746000534 | D14: שכירות ליסינג גינון | E14: 85 | F14: 113 | G14: 34 | H14: 68 | I14: 68
B15: 11 | C15: 1811000534 | D15: שכירות ליסינג חינוך | E15: 126 | F15: 128 | G15: 53 | H15: 104 | I15: 104
B16: 12 | C16: 1817910534 | D16: שכירות ליסינג חינוך נוער | E16: 78 | F16: 74 | G16: 60 | H16: 120 | I16: 120
B17: 13 | C17: 1821000534 | D17: שכירות ליסינג תרבות | E17: 6 | F17: 49 | G17: 0 | H17: 0 | I17: 0
B18: 14 | C18: 1822100534 | D18: שכירות ליסינג ספורט | E18: 0 | F18: =E18*1.02 -> 0 | G18: 0 | H18: 28 | I18: 28
B19: 15 | C19: 1860000534 | D19: שכירות ליסינג קליטה | E19: 0 | F19: 0 | G19: 21 | H19: 42 | I19: 42
B20: 16 | C20: 1913000534 | D20: שכירות ליסינג תשתיות | E20: 87 | F20: 102 | G20: 17 | H20: 35 | I20: 45
C21: סה"כ | E21: =SUM(E5:E20) -> 1605 | F21: =SUM(F5:F20) -> 1705 | G21: =SUM(G5:G20) -> 769 | H21: =SUM(H5:H20) -> 1669 | I21: =SUM(I5:I20) -> 1804

Sheet תקשורת פרסום ומחשוב 16
D2: 540 | E2: הוצאות תקשורת ניידים,נייחים ודואר
C4: מס' | D4: מס. חשבון | E4: שם חשבון | F4: ביצוע 2021 | G4: תקציב 2022 מעודכן (מס 1) | H4: ביצוע 1-6/2022 | I4: תקציב 2022 מעודכן (מס 2) | J4: הצעה 2023
C5: 1 | D5: 1613000540 | E5: בולים טלפון ומברקים | F5: =925/7*12 -> 1585.7143 | G5: =925/7*12 -> 1585.7143 | H5: 796 | I5: 1586 | J5: 1586
D6: סה"כ | F6: =SUM(F5) -> 1585.7143 | G6: =SUM(G5) -> 1585.7143 | H6: =SUM(H5) -> 796 | I6: =SUM(I5) -> 1586 | J6: =SUM(J5) -> 1586
D8: 550 | E8: הוצאות פרסום
C10: מס' | D10: מס. חשבון | E10: שם חשבון | F10: ביצוע 2021 | G10: תקציב 2022 מעודכן (מס 1) | H10: ביצוע 1-6/2022 | I10: תקציב 2022 מעודכן (מס 2) | J10: הצעה 2023
C11: 1 | D11: 1611000550 | E11: פרסומים לשכת ראש העיר | F11: 35 | G11: 58 | H11: 50 | I11: 58 | J11: 58
C12: 2 | D12: 1613000550 | E12: פרסומים מינהל כללי | F12: 65 | G12: 100 | H12: 43 | I12: 80 | J12: 80
C13: 3 | D13: 1613200550 | E13: פרסום בעיתון בשפה הרוסית | F13: 141 | G13: 130 | H13: 120 | I13: 150 | J13: 150
C14: 4 | D14: 1723200550 | E14: פרסום והדרכה הג"א מקומי | F14: 0 | G14: 13 | H14: 10 | I14: 13 | J14: 13
D15: סה"כ | F15: =SUM(F11:F14) -> 241 | G15: =SUM(G11:G14) -> 301 | H15: =SUM(H11:H14) -> 223 | I15: =SUM(I11:I14) -> 301 | J15: =SUM(J11:J14) -> 301
D18: 570 | E18: הוצאות מיחשוב, מערכות ליבה הנה"ח, גביה ושכר
C20: מס' | D20: מס. חשבון | E20: שם חשבון | F20: ביצוע 2021 | G20: תקציב 2022 מעודכן (מס 1) | H20: ביצוע 1-6/2022 | I20: תקציב 2022 מעודכן (מס 2) | J20: הצעה 2023
C21: 1 | D21: 1621300570 | E21: מיחשוב מערכות ליבה הנה"ח | F21: 0 | G21: 90 | H21: 0 | I21: 0 | J21: 0
C22: 2 | D22: 1623000570 | E22: מיחשוב מערכות | F22: 946 | G22: 1248 | H22: 448 | I22: 1248 | J22: 1248
C23: 3 | D23: 1732000570 | E23: מיחשוב ועדה מקומית (בר טכנ') | F23: 0 | G23: 120 | H23: 58 | I23: 120 | J23: 120
D24: סה"כ | F24: =SUM(F21:F23) -> 946 | G24: =SUM(G21:G23) -> 1458 | H24: =SUM(H21:H23) -> 506 | I24: =SUM(I21:I23) -> 1368 | J24: =SUM(J21:J23) -> 1368

Sheet ריבית ועמלות ופרעון 17
D2: 610 | E2: הוצאות ריבית ועמלות
C4: מס' | D4: מס. חשבון | E4: שם חשבון | F4: ביצוע 2021 | G4: תקציב 2022 מעודכן (מס 1) | H4: ביצוע 1-6/2022 | I4: תקציב 2022 מעודכן (מס 2) | J4: הצעה 2023
C5: 1 | D5: 1631000610 | E5: ריבית ועמלות | F5: 1313 | G5: 850 | H5: 569 | I5: 1200 | J5: 1200
C6: 2 | D6: 1631100610 | E6: עמלות אכיפה מילגם | F6: 0 | G6: 0 | H6: 1 | I6: 1 | J6: 0
C7: 3 | D7: 1631300610 | E7: רווח והפסד מנ"ע כולל שיערוך | F7: 569 | G7: 0 | H7: 2672 | I7: 0 | J7: 0
D8: סה"כ | F8: =SUM(F5:F7) -> 1882 | G8: =SUM(G5:G7) -> 850 | H8: =SUM(H5:H7) -> 3242 | I8: =SUM(I5:I7) -> 1201 | J8: =SUM(J5:J7) -> 1200
D11: 691-693 | E11: פרעון מלוות
C13: מס' | D13: מס. חשבון | E13: שם חשבון | F13: תקציב מעודכן 2021 | G13: תקציב 2022 מעודכן (מס 1) | H13: ביצוע 1-6/2022 | I13: תקציב 2022 מעודכן (מס 2) | J13: הצעה 2023
C14: 1 | D14: 1648000691 | E14: תשלומים קרן הלוואה | F14: 5137 | G14: 6752.8267 | H14: 3425 | I14: 5722 | J14: 6387
C15: 2 | D15: 1648000692 | E15: תשלומים ריבית הלוואה | F15: 709 | G15: 917.97333 | H15: 561 | I15: 1133 | J15: 1500
C16: 3 | D16: 1648000693 | E16: תשלומים הצמדה הלוואה | F16: 188 | G16: 186.76 | H16: 78 | I16: 97 | J16: 68
C17: 4 | D17: 1649100691 | E17: תשלומים קרן הלוואה | F17: 3757 | G17: =1230.96+2023 -> 3253.96 | H17: 3709 | I17: 5016 | J17: 5481
C18: 5 | D18: 1649100692 | E18: תשלומים ריבית הלוואה | F18: 572 | G18: 212.52 | H18: 561 | I18: 877 | J18: 1238
C19: 6 | D19: 1649100693 | E19: תשלומים הצמדה הלוואה | F19: 20 | G19: 0 | H19: 25 | I19: 33 | J19: 58
C20: 7 | D20: 1649200691 | E20: מיחזור מלוות | F20: 0 | G20: 0 | H20: 0 | I20: 0 | J20: 0
D21: סה"כ | F21: =SUM(F14:F20) -> 10383 | G21: =SUM(G14:G20) -> 11324.04 | H21: =SUM(H14:H20) -> 8359 | I21: =SUM(I14:I20) -> 12878 | J21: =SUM(J14:J20) -> 14732
B23: * | D23: בשנים 2020-22 בעקבות משבר הקורונה אושרו ונדחה פרעון המלוות בשלושה חודשים

Sheet עבודות קבלניות 18
B2: 750 | C2: עבודות קבלניות עפ"י פירוט
A4: מס' | B4: מס. חשבון | C4: שם חשבון | D4: ביצוע 2021 | E4: תקציב 2022 מעודכן (מס 1) | F4: ביצוע 1-6/2022 | G4: תקציב 2022 מעודכן (מס 2) | H4: הצעה 2023
A5: 1 | B5: 1613000750 | C5: תשלומי זכויות יוצרים (הפדרציה, אקו"ם ואשכולות) | D5: 87 | E5: 50 | F5: 61 | G5: 87 | H5: 87
A6: 2 | B6: 1621000750 | C6: הוצאות יעוץ עפ"י שעות בנושא דוחות כספיים ותיקי ני"ע | D6: 191 | E6: 160 | F6: =98+4 -> 102 | G6: =35+(1.5*12)+80+(12*6) -> 205 | H6: =30+(12*1.5)+(12*11) -> 180
A7: 3 | B7: 1623000750 | C7: הוצאות שוטפות מחלקת גביה(אורדע, זייד אורניב, חברי ועדת ערר) | D7: 1317 | E7: 500 | F7: 744 | G7: 1100 | H7: 500
A8: 4 | B8: 1623100750 | C8: הוצאות אכיפה המתבצעת ע"י הגביה | D8: 31 | E8: 70 | F8: 22 | G8: 44 | H8: 50
A9: 5 | B9: 1623200750 | C9: הוצאות דפוס גביה -רכש | D9: 18 | E9: 18 | F9: 12 | G9: 17 | H9: 17
A10: 6 | B10: 1623300750 | C10: הוצאות דפוס אכיפה -רכש | D10: 3 | E10: 10 | F10: 5 | G10: 10 | H10: 10
A11: 7 | B11: 1712200750 | C11: הוצאות קבלניות לטיאוט רחובות (מכרז משכ"ל שלג לבן+ אשכול בית הכרם) | D11: 11721 | E11: 11234 | F11: =5504+560 -> 6064 | G11: =F11*2-1188 -> 10940 | H11: 10940
A12: 8 | B12: 1712220750 | C12: תשלום לאשכול נהגים פינוי אשפה | D12: 82 | E12: 432 | F12: 328 | G12: =328+45*6-100 -> 498 | H12: =G12+15*12-100 -> 578
A13: 9 | B13: 1712320750 | C13: הוצאות פינוי אשפה בא.תעשיה | D13: 0 | E13: 200 | F13: 0 | G13: 0 | H13: 0
A14: 10 | B14: 1714200750 | C14: עב' קבלניות לכידת בעלי חיים | D14: 225 | E14: 254 | F14: 132 | G14: 267 | H14: 267
A15: 11 | B15: 1715300750 | C15: עבודות קבלניות הדברה | D15: 0 | E15: 60 | F15: 31 | G15: 60 | H15: 60
A16: 12 | B16: 1726200750 | C16: אחזקת מחסן פס"ח | D16: 0 | E16: 12 | F16: 0 | G16: 12 | H16: 12
A17: 13 | B17: 1744100750 | C17: אחזקת רמזורים | D17: 0 | E17: 100 | F17: 0 | G17: 100 | H17: 100
A18: 14 | B18: 1746000750 | C18: הוצאות קבלניות לגינון שטחי העיר (מכרז משכ"ל) | D18: 4467 | E18: 5500 | F18: =2438+913+16 -> 3367 | G18: 5500 | H18: 5500
A19: 15 | B19: 1811000750 | C19: נקיון בתי ספר | D19: 2420 | E19: 1700 | F19: 1450 | G19: 2450 | H19: 2450
A20: 16 | B20: 1812400750 | C20: הוצאות הזנה חינוך מיוחד (כרם גפנים ומועדוניות ) | D20: 341 | E20: 350 | F20: 289 | G20: 580 | H20: 580
A21: 17 | B21: 1812440750 | C21: הזנה גנ"י חובה קיזוז משרד החינוך | D21: 673 | E21: 800 | F21: =273+273 -> 546 | G21: 900 | H21: 900
A22: 18 | B22: 1812441750 | C22: הזנה יוח"א בי"ס קיזוז משרד החינוך | D22: 261 | E22: 600 | F22: 627 | G22: 1000 | H22: 1000
A23: 19 | B23: 1817900750 | C23: אבטחת מוסדות חינוך (מכרז משכ"ל) | D23: 3084 | E23: 2700 | F23: 1879 | G23: 3000 | H23: 3000
A24: 20 | B24: 1826400750 | C24: עבודות קבלניות פסטיבל | D24: 3168 | E24: 3550 | F24: 222 | G24: =3372-443-1543 -> 1386 | H24: 1500
B25: סה"כ | D25: =SUM(D5:D24) -> 28089 | E25: =SUM(E5:E24) -> 28300 | F25: =SUM(F5:F24) -> 15881 | G25: =SUM(G5:G24) -> 28156 | H25: =SUM(H5:H24) -> 27731
B27: 760
A29: מס' | B29: מס. חשבון | C29: שם חשבון | D29: ביצוע 2021 | E29: תקציב 2022 מעודכן (מס 1) | F29: ביצוע 1-6/2022 | G29: תקציב 2022 מעודכן (מס 2) | H29: הצעה 2023
A30: 1 | B30: 1813300760 | C30: חיוב בגין תלמידי חוץ ח"מ ע"י משרד החינוך | D30: 1084 | E30: 500 | F30: 499 | G30: 850 | H30: 600
B31: סה"כ | D31: =SUM(D30) -> 1084 | E31: =SUM(E30) -> 500 | F31: =SUM(F30) -> 499 | G31: =SUM(G30) -> 850 | H31: =SUM(H30) -> 600
B33: 781 | C33: פיתוח כלכלי-תעשיה
A35: מס' | B35: מס. חשבון | C35: שם חשבון | D35: ביצוע 2021 | E35: תקציב 2022 מעודכן (מס 1) | F35: ביצוע 1-6/2022 | G35: תקציב 2022 מעודכן (מס 2) | H35: הצעה 2023
A36: 1 | B36: 1772000781 | C36: פיתוח כלכלי | D36: 4 | E36: 150 | F36: 78 | G36: 88.5 | H36: =88+221 -> 309
A37: 2 | B37: 1772100781 | C37: מינהלת תעשיה | D37: 0 | E37: 0 | F37: 0 | G37: 120 | H37: 120
A38: 3 | B38: 1772200781 | C38: מינהלת צעירים | D38: 200 | E38: 300 | F38: 0 | G38: 2 | H38: 200
A39: 4 | B39: 1772110781 | C39: חומרי ניקוי האב | D39: 6 | E39: 6 | F39: 11 | G39: ='קליקה 9'!G9 -> 15 | H39: ='קליקה 9'!H9 -> 15
A40: 5 | B40: 1772300781 | C40: קופה קטנה האב | D40: 5 | E40: 7 | F40: 1 | G40: ='קליקה 9'!G10 -> 7 | H40: ='קליקה 9'!H10 -> 7
A41: 6 | B41: 1772500781 | C41: הרצאות האב | D41: 2 | E41: 0 | F41: 0 | G41: 0 | H41: 0
A42: 7 | B42: 1772600781 | C42: פיתוח כלכלי האב | D42: 4 | E42: 0 | F42: 5 | G42: 0 | H42: 0
B43: סה"כ | D43: =SUM(D36:D42) -> 221 | E43: =SUM(E36:E42) -> 463 | F43: =SUM(F36:F42) -> 95 | G43: =SUM(G36:G42) -> 232.5 | H43: =SUM(H36:H42) -> 651
B45: 800 | C45: החזר מתנות לנבחרים והשתתפות ליחידים
A47: מס' | B47: מס. חשבון | C47: שם חשבון | D47: ביצוע 2021 | E47: תקציב 2022 מעודכן (מס 1) | F47: ביצוע 1-6/2022 | G47: תקציב 2022 מעודכן (מס 2) | H47: הצעה 2023
A48: 1 | B48: 1611000800 | C48: השתתפויות ותרומות | D48: 14 | E48: 45 | F48: 10 | G48: 35 | H48: 35
B49: סה"כ | D49: =SUM(D48) -> 14 | E49: =SUM(E48) -> 45 | F49: =SUM(F48) -> 10 | G49: =SUM(G48) -> 35 | H49: =SUM(H48) -> 35
B51: 710 | C51: הסעות תלמידים
A53: מס' | B53: מס. חשבון | C53: שם חשבון | D53: ביצוע 2021 | E53: תקציב 2022 מעודכן (מס 1) | F53: ביצוע 1-6/2022 | G53: תקציב 2022 מעודכן (מס 2) | H53: הצעה 2023
A54: 1 | B54: 1817800710 | C54: הסעות תלמידים | D54: 6616 | E54: =5880+400 -> 6280 | F54: 3350 | G54: 6800 | H54: 7100
A55: 2 | B55: 1817810710 | C55: הסעות נט כרטיסיות | D55: 0 | E55: 220 | F55: 126 | G55: 220 | H55: 200
B56: סה"כ | D56: =SUM(D54:D55) -> 6616 | E56: =SUM(E54:E55) -> 6500 | F56: =SUM(F54:F55) -> 3476 | G56: =SUM(G54:G55) -> 7020 | H56: =SUM(H54:H55) -> 7300
B58: 830 | C58: ת.תקשוב - קיזוז רשויות
A60: מס'י | B60: מס. חשבון | C60: שם חשבון | D60: ביצוע 2021 | E60: תקציב 2022 מעודכן (מס 1) | F60: ביצוע 1-6/2022 | G60: תקציב 2022 מעודכן (מס 2) | H60: הצעה 2023
A61: 1 | B61: 1813200830 | C61: ת.תקשוב - קיזוז רשויות | D61: 0 | E61: 0 | F61: 68 | G61: =20*12+68 -> 308 | H61: 310
B62: =B56 -> סה"כ | D62: =SUM(D61) -> 0 | E62: =SUM(E61) -> 0 | F62: =SUM(F61) -> 68 | G62: =SUM(G61) -> 308 | H62: =SUM(H61) -> 310

Sheet  19 הג"א
A2: הג"א ארצי והג"א מקומי טבלה מרכזת
A4: מס' | B4: מס. חשבון | C4: שם חשבון | D4: ביצוע 2021 | E4: תקציב 2022 מעודכן (מס 1) | F4: ביצוע 1-6/2022 | G4: תקציב 2022 מעודכן (מס 2) | H4: הצעה 2023
A5: 1 | B5: 1723000110 | C5: כ"א אחזקת מקלטים | D5: 369 | E5: 166 | F5: 157 | G5: 280 | H5: 280
A6: 2 | B6: 1723000420 | C6: אחזקת מקלטים רגילים - הג"א | D6: 411 | E6: 411 | F6: 256 | G6: 411 | H6: 411
A7: 3 | B7: 1723100420 | C7: מחסן חרום רשותי | D7: 10 | E7: 10 | F7: 0 | G7: 10 | H7: 10
A8: 4 | B8: 1723110420 | C8: אחזקת מרכזי הפעלה לרשות | D8: 15 | E8: 15 | F8: 0 | G8: 15 | H8: 15
A9: 5 | B9: 1723200420 | C9: אחזקת נגררים | D9: 8 | E9: 8 | F9: 0 | G9: 8 | H9: 8
A10: 6 | B10: 1723300420 | C10: בדיקה תקופתית מערכת איוורור וסינון | D10: 36 | E10: 36 | F10: 0 | G10: 36 | H10: 36
A11: 7 | B11: 1723200930 | C11: רכש אמצעים לחרום | D11: 50 | E11: 50 | F11: 20 | G11: 50 | H11: 50
A12: 8 | B12: 1723110930 | C12: מערכת שליטה ובקרה לחרום | D12: 10 | E12: 10 | F12: 0 | G12: 10 | H12: 10
A13: 9 | B13: 1723200550 | C13: פרסום והדרכה הג"א מקומי | D13: 13.44 | E13: 13.44 | F13: 10 | G13: 13 | H13: 13
A14: 10 | B14: 1723200440 | C14: ביטוח מרכיבי התגוננות | D14: 10 | E14: 10 | F14: 0 | G14: 10 | H14: 10
B15: סה"כ הג"א מקומי | D15: =SUM(D5:D14) -> 932.44 | E15: =SUM(E5:E14) -> 729.44 | F15: =SUM(F5:F14) -> 443 | G15: =SUM(G5:G14) -> 843 | H15: =SUM(H5:H14) -> 843
A16: 1 | B16: 1723000811 | C16: הג"א ארצי | D16: 281 | E16: 318.234 | F16: 0 | G16: 318 | H16: 318
B17: סה"כ הג"א מקומי וארצי | D17: =D15+D16 -> 1213.44 | E17: =E15+E16 -> 1047.674 | F17: =F15+F16 -> 443 | G17: =G15+G16 -> 1161 | H17: =H15+H16 -> 1161
B19: 420
A21: מס' | B21: מס. חשבון | C21: שם חשבון | D21: ביצוע 2021 | E21: תקציב 2022 מעודכן (מס 1) | F21: ביצוע 1-6/2022 | G21: תקציב 2022 מעודכן (מס 2) | H21: הצעה 2023
A22: 1 | B22: 1723000420 | C22: שיפוץ ואחזקת מקלטים | D22: 411 | E22: 411 | F22: 256 | G22: 411 | H22: 411
A23: 2 | B23: 1723100420 | C23: מחסן חרום רשותי | D23: 10 | E23: 10 | F23: 0 | G23: 10 | H23: 10
A24: 3 | B24: 1723110420 | C24: אחזקת מרכזי הפעלה לרשות | D24: 15 | E24: 15 | F24: 0 | G24: 15 | H24: 15
A25: 4 | B25: 1723200420 | C25: אחזקת נגררים | D25: 8 | E25: 8 | F25: 0 | G25: 8 | H25: 8
A26: 5 | B26: 1723300420 | C26: בדיקה תקופתית מערכת איוורור וסינון | D26: 36 | E26: 36 | F26: 0 | G26: 36 | H26: 36
B27: סה"כ הג"א מקומי | D27: =SUM(D22:D26) -> 480 | E27: =SUM(E22:E26) -> 480 | F27: =SUM(F22:F26) -> 256 | G27: =SUM(G22:G26) -> 480 | H27: =SUM(H22:H26) -> 480
B29: 930
A31: מס' | B31: מס. חשבון | C31: שם חשבון | D31: ביצוע 2021 | E31: תקציב 2022 מעודכן (מס 1) | F31: ביצוע 1-6/2022 | G31: תקציב 2022 מעודכן (מס 2) | H31: הצעה 2023
A32: 1 | B32: 1723200930 | C32: רכש אמצעים לחרום | D32: 50 | E32: 50 | F32: 20 | G32: 50 | H32: 50
A33: 2 | B33: 1723110930 | C33: מערכת שליטה ובקרה לחרום | D33: 10 | E33: 10 | F33: 0 | G33: 10 | H33: 10
D34: =SUM(D32:D33) -> 60 | E34: =SUM(E32:E33) -> 60 | F34: =SUM(F32:F33) -> 20 | G34: =SUM(G32:G33) -> 60 | H34: =SUM(H32:H33) -> 60

Sheet 20-780
B2: 780 | C2: הוצאות פעילות שוטפת עפ"י פירוט מחלקתי
A4: מס' | B4: מס. חשבון | C4: שם חשבון | D4: ביצוע 2021 | E4: תקציב 2022 מעודכן (מס 1) | F4: ביצוע 1-6/2022 | G4: תקציב 2022 מעודכן (מס 2) | H4: הצעה 2023
A5: 1 | B5: 1613000780 | C5: הוצאות שונות מנהל כללי | D5: =5+23 -> 28 | E5: 40 | F5: 11 | G5: 40 | H5: 40
A6: 2 | B6: 1616000780 | C6: או"ש הדרכה ולימודים | D6: 120 | E6: 140 | F6: 54 | G6: 140 | H6: 120
A7: 3 | B7: 1619000780 | C7: בחירות לרשויות מקומיות | H7: 600
A8: 4 | B8: 1711000780 | C8: קופה קטנה שפ"ע | D8: 1 | E8: 3 | F8: 0 | G8: 3 | H8: 3
A9: 5 | B9: 1711300780 | C9: ביגוד לפקחים | D9: 10 | E9: 30 | F9: 18 | G9: 18 | H9: 18
A10: 6 | B10: 1711500780 | C10: ק.ק אחזקה | D10: 0 | E10: 2 | F10: 1 | G10: 1.5 | H10: 2
A11: 7 | B11: 1714200780 | C11: הוצאות וטרינריה - חוזים | D11: 76 | E11: 20 | F11: 12 | G11: 20 | H11: 20
A12: 8 | B12: 1714210780 | C12: הוצאות וטרינריה כנגד קבלות-רכש | D12: 98 | E12: 100 | F12: 47 | G12: 100 | H12: 100
A13: 9 | B13: 1722000780 | C13: קופה קטנה שמירה ביטחונית | D13: 2 | E13: 2 | F13: 1 | G13: 2 | H13: 2
A14: 10 | B14: 1752300780 | C14: ק.ק קידום ומדיה דיגיטלית | D14: 0 | E14: 0 | F14: 5 | G14: 10 | H14: 10
A15: 11 | B15: 1731000780 | C15: הוצאות מח' הנדסה | D15: 6 | E15: 15 | F15: 6 | G15: 15 | H15: 15
A16: 12 | B16: 1731100780 | C16: קופה קטנה הנדסה | D16: 0 | E16: 4 | F16: 1 | G16: 4 | H16: 4
A17: 13 | B17: 1731300780 | C17: קופה קטנה ועדה מקומית לבנ | D17: 3 | E17: 3 | F17: 1 | G17: 3 | H17: 3
A18: 14 | B18: 1746000780 | C18: ק.ק. מינהלת רובעים - גינון | D18: 2 | E18: 2 | F18: 0 | G18: 2 | H18: 2
A19: 15 | B19: 1746100780 | C19: פינת חי מוצרי ניקיון | D19: 1 | E19: 15 | F19: 1 | G19: 15 | H19: 15
... A31: 27 | B31: 1811500780 | C31: קופה קטנה מחלקת נכסים | D31: 2 | E31: 3 | F31: 1 | G31: 2 | H31: 0
A32: 28 | B32: 1813210780 | C32: ביה"ס השחר | D32: 20 | E32: 18 | F32: 7 | G32: =17-10 -> 7 | H32: 7
A33: 29 | B33: 1813211780 | C33: ביה"ס כלנית ניהול עצמי | D33: =301+17 -> 318 | E33: 312 | F33: 218 | G33: 271 | H33: 0
A34: 30 | B34: 1813212780 | C34: ביה"ס אמי"ת (תקציב במסגרת סעיף על יסודי) | D34: 100 | E34: 100 | F34: 0 | G34: 0 | H34: 0
A35: 31 | B35: 1813214780 | C35: ביה"ס רקפת ניהול עצמי | D35: =168+8 -> 176 | E35: 170 | F35: 123 | G35: 166 | H35: 0
A36: 32 | B36: 1813215780 | C36: ביה"ס הרעות ניהול עצמי | D36: =320+18 -> 338 | E36: 325 | F36: 202 | G36: 283 | H36: 0
A37: 33 | B37: 1813220780 | C37: ביה"ס הדקל ניהול עצמי | D37: =262+13 -> 275 | E37: 267 | F37: 219 | G37: 259 | H37: 0
A38: 34 | B38: 1813230780 | C38: ביה"ס מוריה ניהול עצמי | D38: =200+11 -> 211 | E38: 217 | F38: 156 | G38: 224 | H38: 0
A39: 35 | B39: 1813240780 | C39: ביה"ס ניצנים ניהול עצמי | D39: =104+6 -> 110 | E39: 85 | F39: 72 | G39: 96 | H39: 0
A40: 36 | B40: 1813270780 | C40: ביה"ס אופק ניהול עצמי | D40: =362+22 -> 384 | E40: 395 | F40: 278 | G40: 370 | H40: 0
A41: 37 | B41: 1813280780 | C41: ביה"ס איריסים ניהול עצמי | D41: =365+20 -> 385 | E41: 352 | F41: 202 | G41: 278 | H41: 0
A42: 38 | B42: 1813295780 | C42: סל רשותי גפ"ן | G42: 400 | H42: 1227
A43: 39 | B43: 1813296780 | C43: סל מוסדי גפ"ן השתתפות רשות | G43: 300 | H43: 990
A44: 40 | B44: 1813297780 | C44: אחזקת בי"ס יסודיים (חשמל ומים ניהול עצמי) | G44: 200 | H44: 550
A45: 41 | B45: 1813290780 | C45: צהרוני גנים הנחות רווחה ( תשלום למתנ"ס) | D45: 248 | E45: 150 | F45: 131 | G45: 210 | H45: 150
A46: 42 | B46: 1813291780 | C46: סל העשרה מלגות למשפחות נזקקות (תשלום למתנ"ס) | D46: 0 | E46: 25 | F46: 0 | G46: 25 | H46: 25
A47: 43 | B47: 1813292780 | C47: צהרוני גנים סבסוד עירייה ( תשלום למתנ"ס) | D47: 0 | E47: 168 | F47: 0 | G47: 168 | H47: 168
A48: 44 | B48: 1813293780 | C48: תוכ' אור למתנ"ס תק' מ.החינוך | D48: 18 | E48: 38 | F48: 0 | G48: 38 | H48: 38
A49: 45 | B49: 1813294780 | C49: צמצום פערים קורונה | D49: 0 | E49: 460 | F49: 351 | G49: 393 | H49: 0
A50: 46 | B50: 1813300780 | C50: אגרות תלמידי חוץ | D50: 0 | E50: 500 | F50: 378 | G50: 600 | H50: 600
A51: 47 | B51: 1813700780 | C51: שוטף חווה חקלאית | D51: 25 | E51: 27 | F51: 40 | G51: 65 | H51: 70
A52: 48 | B52: 1817200780 | C52: הוצאות מרפ"ד - פיסג"ה | D52: 20 | E52: 26 | F52: 26 | G52: 52 | H52: 26
A53: 49 | B53: 1822000780 | C53: השתתפות עירייה מרכז צעירים (תשלום שכר למתנ"ס) | D53: 331 | E53: 220 | F53: 137 | G53: 216 | H53: 220
A54: 50 | B54: 1822100780 | C54: פעולות תרבות לחיילים | D54: 0 | E54: 10 | F54: 5 | G54: =10-4 -> 6 | H54: 6
A55: 51 | B55: 1822110780 | C55: הוצאות אגף ספורט עירוני כנגד הכנסות משרדי ממשלה | D55: 193 | E55: 300 | F55: 295 | G55: 440 | H55: 350
A56: 52 | B56: 1822111780 | C56: הוצאות סל ספורט כנגד הכנסות עצמיות | D56: 164 | E56: 190 | F56: 172 | G56: 181 | H56: 180
A57: 53 | B57: 1822112780 | C57: אגף ספורט אחזקת אולמות (תשלום למתנ"ס ) | D57: 736 | E57: 1315 | F57: 1000 | G57: 1295 | H57: 1300
A58: 54 | B58: 1822210780 | C58: הוצאות מרכז ברוך | D58: 6 | E58: 20 | F58: 2 | G58: 10 | H58: 10
A59: 55 | B59: 1822222780 | C59: קופה קטנה מרכז ברוך | D59: 2 | E59: 2 | F59: 0 | G59: 2 | H59: 2
A60: 56 | B60: 1822230780 | C60: מרכז ברוך כנגד הפקדות | D60: 14 | E60: 25 | F60: 0 | G60: 6 | H60: 25
A61: 57 | B61: 1822300780 | C61: סל תרבות כנגד הכנסות עצמיות | D61: 20 | E61: 350 | F61: 560 | G61: 750 | H61: =750*0.9 -> 675
A62: 58 | B62: 1825110780 | C62: שכ"ע מורים ופעולות-קונסבטוריון | D62: 2721 | E62: 2800 | F62: 1208 | G62: 2800 | H62: 2800
A63: 59 | B63: 1825111780 | C63: הסעות קונסרבטוריון | D63: 0 | E63: 10 | F63: 6 | G63: =10-1 -> 9 | H63: 9
A64: 60 | B64: 1825112780 | C64: חומרי ניקוי ובדק בית ושוטף קונסרבטוריון | D64: 3 | E64: 5 | F64: 3 | G64: 5 | H64: 5
A65: 61 | B65: 1825113780 | C65: ציוד משרדי קונסרבטוריון | D65: 3 | E65: 4 | F65: 2 | G65: 4 | H65: 4
A66: 62 | B66: 1825114780 | C66: ימי מוסיקה כנגד הפקדות (הופעות) | D66: 49 | E66: 50 | F66: 9 | G66: =47-23 -> 24 | H66: 24
A67: 63 | B67: 1825115780 | C67: קופה קטנה קונסרבטוריון | D67: 0 | E67: 3 | F67: 0 | G67: 3 | H67: 3
A68: 64 | B68: 1825116780 | C68: מקהלת נופר כנגד תשלומי משרד החינוך | D68: 61 | E68: 65 | F68: 41 | G68: 41 | H68: 0
A69: 65 | B69: 1826110780 | C69: להקות מחול - השתתפות עירייה | D69: 33 | E69: 150 | F69: 85 | G69: 143 | H69: 143
A70: 66 | B70: 1826420780 | C70: החזר מלווה עירייה ( 1.7 מליון ₪) שנלקח ע"י הפסטיבל | D70: 71 | E70: 88 | F70: 35 | G70: 88 | H70: 88
A71: 67 | B71: 1827000780 | C71: פעילות תרבות תורנית | D71: 481 | E71: 500 | F71: 368 | G71: =475-2+4 -> 477 | H71: 477
A72: 68 | B72: 1827100780 | C72: גרעין תורני | D72: 94 | E72: 100 | F72: 80 | G72: =95+1 -> 96 | H72: 96
A73: 69 | B73: 1827110780 | C73: תרבות יהודית כנגד הכנ' מ.ממשלה | D73: 0 | E73: 95 | F73: 47 | G73: =95+72 -> 167 | H73: 30
A74: 70 | B74: 1827200780 | C74: פעילות חרדית | D74: 200 | E74: 200 | F74: 184 | G74: 190 | H74: 190
A75: 71 | B75: 1827400780 | C75: תרבות תורנית - כנגד הכ' ממשלה | D75: 10 | E75: =10+10 -> 20 | F75: 0 | G75: 0 | H75: 10
A76: 72 | B76: 1828000780 | C76: הוצאות שוטפות סגן ראש העיר | D76: 99 | E76: 110 | F76: 94 | G76: 105 | H76: 105
A77: 73 | B77: 1828100780 | C77: הוצאות לפעולות נוער וצעירים | D77: 315 | E77: 330 | F77: 91 | G77: =314-75+3 -> 242 | H77: 242
A78: 74 | B78: 1828110780 | C78: עיר הילדים והנוער כנגד מ.החינוך | D78: 0 | E78: 0 | F78: 0 | G78: 98 | H78: 30
A79: 75 | B79: 1828120780 | C79: זאפה- תשלומים לאומנים | D79: 223 | E79: 200 | F79: 18 | G79: =190-38 -> 152 | H79: 152
A80: 76 | B80: 1828200780 | C80: הוצאות קידום נוער כנגד הכנסות משרד החינוך | D80: 144 | E80: 115 | F80: 40 | G80: 114 | H80: 50
A81: 77 | B81: 1860000780 | C81: שוטף מ"מ ראש העיר | D81: 97 | E81: 110 | F81: 32 | G81: 105 | H81: 105
A82: 78 | B82: 1913000780 | C82: הוצאות מח' תשתיות | D82: 2 | E82: 2 | F82: 0 | G82: 2 | H82: 2
A83: 79 | B83: 1913100780 | C83: ק.קטנה מח' תשתיות | D83: 0 | E83: 2 | F83: 1 | G83: 2 | H83: 2
A84: 80 | B84: 1933000780 | C84: מרכז צעירים פעולות כנגד הכנסות | D84: 59 | E84: 60 | F84: 55 | G84: =57+2 -> 59 | H84: 60
A85: 81 | B85: 1933100780 | C85: חומרי ניקוי ודמי שתיה - מרכז צעירים והון אנושי | D85: 11 | E85: 12 | F85: 6 | G85: 12 | H85: 12
A86: 82 | B86: 1933200780 | C86: פעולות כנגד הכנסות ממשרדי ממשלה מרכז צעירים | D86: 34 | E86: 112 | F86: 7 | G86: 50 | H86: 50
A87: 83 | B87: 1933300780 | C87: ברוש תקשורת | D87: 11 | E87: 14 | F87: 6 | G87: 14 | H87: 14
A88: 84 | B88: 1933500780 | C88: קופה קטנה מרכז צעירים | D88: 1 | E88: 2 | F88: 0 | G88: 2 | H88: 2
A89: 85 | B89: 1933600780 | C89: הוצאות קורס בודקי תוכנה מרכז צעירים | D89: 15 | E89: 93.6 | F89: 84 | G89: 84 | H89: 0
A90: 86 | B90: 1943000780 | C90: הוצאות אכיפה רשות החניה | D90: 101 | E90: 150 | F90: 46 | G90: 80 | H90: 80
A91: 87 | B91: 1943100780 | C91: הוצאות שוטפות רשות החניה | D91: 9 | E91: 10 | F91: 12 | G91: =10+7 -> 17 | H91: 17
A92: 88 | B92: 1943200780 | C92: קופה קטנה רשות החניה | D92: 0 | E92: 2 | F92: 1 | G92: 2 | H92: 2
B93: סה"כ | D93: =SUM(D5:D92) -> 10810 | E93: =SUM(E5:E92) -> 13261.6 | F93: =SUM(F5:F92) -> 8459 | G93: =SUM(G5:G92) -> 14292.5 | H93: =SUM(H5:H92) -> 13773

Sheet 21-782
D2: 782 | E2: הוצאות פעילות שוטפת עפ"י פירוט מחלקתי
C4: מס' | D4: מס. חשבון | E4: שם חשבון | F4: ביצוע 2021 | G4: תקציב 2022 מעודכן (מס' 1) | H4: ביצוע 1-6/2022 | I4: תקציב 2022 מעודכן (מס 2) | J4: הצעה 2023
C5: 1 | D5: 1611000782 | E5: הוצאות אחרות- לשכת ראש העיר- ק.קטנה | F5: 8 | G5: 6 | H5: 7 | I5: 8 | J5: 8
C6: 2 | D6: 1611200782 | E6: הוצ' שוטפות לשכת ראש העיר -רכש | F6: 37 | G6: 55 | H6: 22 | I6: 35 | J6: 35
C7: 3 | D7: 1611300782 | E7: קופה קטנה סגנית ראש העיר | F7: 2 | G7: 5 | H7: 3 | I7: 5 | J7: 5
C8: 4 | D8: 1611400782 | E8: קופה קטנה סגן ראש העיר | F8: 3 | G8: 5 | H8: 4 | I8: 5 | J8: 5
C9: 5 | D9: 1611500782 | E9: הוצאות שוטפות פיתוח דמוגרפי- רכש | F9: 3 | G9: 10 | H9: 6 | I9: 10 | J9: 10
C10: 6 | D10: 1611510782 | E10: קופה קטנה פיתוח דמוגרפי | F10: 1 | G10: 3 | H10: 1 | I10: 3 | J10: 3
C11: 7 | D11: 1611520782 | E11: תחזוקה מועדוניים קהילתיים | F11: 0 | G11: 35 | H11: 26 | I11: 30 | J11: 30
C12: 9 | D12: 1612000782 | E12: הוצאות מבקר העירייה -רכש | F12: 2 | G12: =5+2 -> 7 | H12: 3 | I12: 5 | J12: 5
C13: 10 | D13: 1612100782 | E13: קופה קטנה מבקר העיריה | F13: 1 | G13: 1 | H13: 0 | I13: 1 | J13: 1
C14: 11 | D14: 1613000782 | E14: הוצאות שוטפות- מינהל כללי רכש | F14: =106+1 -> 107 | G14: =130+1 -> 131 | H14: 29 | I14: 130 | J14: 130
C15: 13 | D15: 1613200782 | E15: חומרי נקיון בנין העיריה -רכש | F15: 31 | G15: 50 | H15: 22 | I15: 50 | J15: 50
C16: 14 | D16: 1613300782 | E16: הוצ' שוטפות תגים מעטפות -רכש | F16: 29 | G16: 50 | H16: 17 | I16: =47-20 -> 27 | J16: 20
C17: 15 | D17: 1613400782 | E17: עובדי שב"ס - ארוחות עובדי שטח -רכש | F17: 11 | G17: 15 | H17: 0 | I17: 5 | J17: 5
C18: 16 | D18: 1613500782 | E18: מתנות לפורשים -רכש | F18: 17 | G18: 10 | H18: 3 | I18: 10 | J18: 10
C19: 17 | D19: 1613600782 | E19: הוצאות שוטפות משאבי אנוש- רכש | F19: 7 | G19: 10 | H19: 10 | I19: 10 | J19: 10
C20: 19 | D20: 1613900782 | E20: קופה קטנה מינהל כללי | F20: 6 | G20: 10 | H20: 3 | I20: 10 | J20: 10
C21: 20 | D21: 1613910782 | E21: קופה קטנה יד לבנים | F21: 2 | G21: 4 | H21: 2 | I21: 4 | J21: 4
C22: 21 | D22: 1613920782 | E22: שוטף יד לבנים | F22: 0 | G22: 10 | H22: 9 | I22: 12 | J22: 12
C23: 22 | D23: 1617000782 | E23: הוצ' קבלניות ליעוץ משפטי | F23: 968 | G23: 650 | H23: 745 | I23: 1000 | J23: 500
C24: 23 | D24: 1621000782 | E24: הוצאות שוטפות - מינהל כספים | F24: 18 | G24: 35 | H24: 11 | I24: 35 | J24: 35
C25: 24 | D25: 1621100782 | E25: הוצאות שוטפות מח' שכר -רכש | F25: 1 | G25: 1 | H25: 3 | I25: 3 | J25: 3
C26: 27 | D26: 1621300782 | E26: הוצאות משרדיות הנה"ח -רכש | F26: 9 | G26: 9 | H26: 7 | I26: 9 | J26: 9
C27: 28 | D27: 1623000782 | E27: הוצאות משרדיות מח' גביה -רכש | F27: 0 | G27: 2 | H27: 1 | I27: 2 | J27: 2
C28: 29 | D28: 1623100782 | E28: וועדת ערר טיפול משפטי | F28: 81 | G28: 70 | H28: 47 | I28: 70 | J28: 70
... C30: 31 | D30: 1623200782 | E30: הוצאות שוטפות גביה | F30: 6 | G30: 6 | H30: 4 | I30: 6 | J30: 6
C31: 32 | D31: 1623300782 | E31: הוצאות שוטפות אכיפה | F31: 5 | G31: 4 | H31: 3 | I31: =3.8-0.76 -> 3.04 | J31: 3
C32: 33 | D32: 1623500782 | E32: הוצאות אכיפה משפטית | F32: 83 | G32: 100 | H32: 54 | I32: 120 | J32: 120
C33: 34 | D33: 1711000782 | E33: הוצאות שוטפות- מינהל תברואה- רכש | F33: 170 | G33: 240 | H33: 160 | I33: =228-3 -> 225 | J33: 225
C34: 35 | D34: 1711100782 | E34: הוצאות שוטפות רישוי עסקים-רכש | F34: 9 | G34: 12 | H34: 6 | I34: =11-4 -> 7 | J34: 7
C35: 36 | D35: 1711400782 | E35: קופה קטנה תברואה | F35: 0 | G35: 2 | H35: 0 | I35: 2 | J35: 2
C36: 37 | D36: 1712400782 | E36: פינוי אשפה וגזם-קבלנים פנים | F36: =3082+17+2 -> 3101 | G36: =2130+10 -> 2140 | H36: 1359 | I36: =2600-260 -> 2340 | J36: =3133-260 -> 2873
C37: 38 | D37: 1712410782 | E37: פינוי אשפה- קבלנים חוץ עירוני | F37: =5886+3 -> 5889 | G37: 7000 | H37: =2539+30 -> 2569 | I37: =7144-412-1004 -> 5728 | J37: =7144-1004 -> 6140
C38: 39 | D38: 1712411782 | E38: פינוי וקליטת פסולת גושית | F38: 0 | G38: 0 | H38: 0 | I38: 465 | J38: 1110
C39: 40 | D39: 1712420782 | E39: קופה קטנה תחנת מעבר | F39: 0 | G39: 2 | H39: 0 | I39: 2 | J39: 2
C40: 41 | D40: 1721000782 | E40: הוצאות שוטפות מח' ביטחון | F40: 2 | G40: 2 | H40: 0 | I40: 2 | J40: 2
C41: 42 | D41: 1721100782 | E41: הוצאות שוטפות מחלקת בטחון-רכש | F41: 9 | G41: 2 | H41: 3 | I41: 3 | J41: 2
C42: 43 | D42: 1721200782 | E42: חומרי נקיון מחלקת בטחון -רכש | F42: 2 | G42: 12 | H42: 1 | I42: 10 | J42: 10
C43: 44 | D43: 1721400782 | E43: הוצאות שוטפות מח' קציני ביקור סדיר | F43: 0 | G43: 0 | H43: 0 | I43: 0 | J43: 4
C44: 45 | D44: 1723000782 | E44: הוצאות שוטפות- הג"א | F44: 0 | G44: 3 | H44: 0 | I44: 3 | J44: 3
C45: 46 | D45: 1732000782 | E45: הוצאות ועדה מקומית | F45: 29 | G45: 5 | H45: 3 | I45: 5 | J45: 5
C46: 47 | D46: 1746000782 | E46: הוצאות חזות עיר - גינון | F46: 10 | G46: 15 | H46: -13 | I46: -14 | J46: -14
C47: 48 | D47: 1761000782 | E47: קופה קטנה מוקד עירוני | F47: 2 | G47: 3 | H47: 2 | I47: 3 | J47: 3
C48: 49 | D48: 1772000782 | E48: שוטף האב | F48: 0 | G48: 0 | H48: 30 | I48: 59 | J48: 59
C49: 52 | D49: 1811600782 | E49: ק.ק. נכסים | F49: 0 | G49: 1 | H49: 0 | I49: 1 | J49: 1
C50: 53 | D50: 1812200782 | E50: הוצאות גני ילדים | F50: =517+1+1+1 -> 520 | G50: 978 | H50: 228 | I50: 800 | J50: 800
C51: 54 | D51: 1812210782 | E51: גנ"י חובה חומרי נקיון - רכש | F51: 35 | G51: 46 | H51: 17 | I51: 46 | J51: 46
C52: 55 | D52: 1812220782 | E52: גנ"י חובה חומרי מלאכה -רכש | F52: 174 | G52: 53 | H52: 23 | I52: 53 | J52: 53
C53: 56 | D53: 1812230782 | E53: גנ"י חובה חנ"מ חומרי מלאכה-רכש | F53: 13 | G53: 32 | H53: 12 | I53: 33 | J53: 36
C54: 60 | D54: 1812270782 | E54: גנ"י טרום חובה חנ"מ נקיון-רכש | F54: 15 | G54: 18 | H54: 3 | I54: 19 | J54: 20
C55: 63 | D55: 1812291782 | E55: קופה קטנה מתי"א -רכש | F55: 1 | G55: 1 | H55: 1 | I55: 1 | J55: 1
C56: 64 | D56: 1812292782 | E56: תקציב העשרה קיטנות -רכש | F56: 166 | G56: =120+3 -> 123 | H56: 18 | I56: 159 | J56: 170
C57: 65 | D57: 1812293782 | E57: חומרי ניקיון קיטנות -רכש | F57: 19 | G57: 12 | H57: 0 | I57: 12 | J57: 12
C58: 68 | D58: 1816696782 | E58: מזון קשה קייטנות | F58: 16 | G58: 20 | H58: 0 | I58: 15 | J58: 15
C59: 69 | D59: 1812297782 | E59: ניהול ותפעול קייטנות גנים | F59: 23 | G59: 0 | H59: 0 | I59: 0 | J59: 10
C60: 71 | D60: 1812310782 | E60: גנ"י טרום חובה נקיון -רכש | F60: 54 | G60: 66 | H60: 14 | I60: 66 | J60: 65
C61: 72 | D61: 1812320782 | E61: גנ"י טרום חובה חומרי מלאכה-רכש | F61: 33 | G61: 113 | H61: 55 | I61: 113 | J61: 111
C62: 73 | D62: 1812330782 | E62: גנ"י חנ"מ מזון קשה -רכש | F62: 29 | G62: 36 | H62: 18 | I62: 38 | J62: 40
C63: 74 | D63: 1812340782 | E63: דמי שתיה שנתיים לסייעות גנים-רכש | F63: 18 | G63: 18 | H63: 5 | I63: 18 | J63: 20
C64: 75 | D64: 1812400782 | E64: הוצאות מועדוניות + החזר להורים כנגד תמ"ת | F64: 139 | G64: 240 | H64: 99 | I64: 240 | J64: 240
C65: 76 | D65: 1812420782 | E65: הוצ' שוטף מועדונית ורד -רכש | F65: 4 | G65: 5 | H65: 1 | I65: 5 | J65: 5
C66: 77 | D66: 1812430782 | E66: כיבוד מועדונית ורד -רכש | F66: 4 | G66: 5 | H66: 3 | I66: 5 | J66: 5
C67: 78 | D67: 1812440782 | E67: חומרי ניקוי מועדונית ורד -רכש | F67: 1 | G67: 1 | H67: 0 | I67: 1 | J67: 1
C68: 79 | D68: 1812450782 | E68: שוטף מועדונית ניצנים -רכש | F68: 4 | G68: 4 | H68: 2 | I68: 5 | J68: 5
... C73: 85 | D73: 1813210782 | E73: ביה"ס השחר חומרי ניקוי -רכש | F73: 2 | G73: 3.5 | H73: 1 | I73: 4 | J73: 4
C74: 87 | D74: 1813310782 | E74: הוצאות בית ספר | F74: =759+5+1498+15 -> 2277 | G74: =200+7+25 -> 232 | H74: 121 | I74: 121 | J74: 200
C75: 88 | D75: 1813212782 | E75: קייטנות משרד החינוך בבי"ס | F75: 0 | G75: =600+300 -> 900 | H75: 160 | I75: 870 | J75: 760
C76: 89 | D76: 1813320782 | E76: כיתות חנ"מ מזון קשה -רכש | F76: 75 | G76: 84 | H76: 38 | I76: 74 | J76: 74
C77: 90 | D77: 1813710782 | E77: ק.ק חווה חקלאית | F77: 3 | G77: 1 | H77: 1 | I77: 1 | J77: 1
C78: 91 | D78: 1813720782 | E78: דמי שתיה חווה חקלאית -רכש | F78: 1 | G78: 1 | H78: 1 | I78: 1 | J78: 2
C79: 92 | D79: 1813730782 | E79: היגיינה וח. ניקוי חווה חקלאית | F79: 14 | G79: 24 | H79: 24 | I79: 25 | J79: 25
C80: 93 | D80: 1815500782 | E80: כרם גפנים - הוצאות שונות-רכש | F80: 4 | G80: 5 | H80: 2 | I80: 5 | J80: 5
C81: 95 | D81: 1817200782 | E81: הוצאות מרפ"ד - מתי"א | F81: 28 | G81: 25 | H81: 0 | I81: 28 | J81: 28
C82: 96 | D82: 1817210782 | E82: קופה קטנה מרכז פסג"ה | F82: 2 | G82: 1 | H82: 1 | I82: 1 | J82: 1
C83: 97 | D83: 1817220782 | E83: מתי"א כנגד הכנ' מ.חינוך | F83: 12 | G83: 12 | H83: 13 | I83: 24 | J83: 12
C84: 98 | D84: 1817300782 | E84: הוצאות להדרכת פסיכולוגים | F84: 41 | G84: 21 | H84: 24 | I84: 30 | J84: 30
C85: 99 | D85: 1817310782 | E85: הוצאות שוטפות שפ"י -רכש | F85: 5 | G85: 6 | H85: 9 | I85: 12 | J85: 12
C86: 100 | D86: 1817311782 | E86: קופה קטנה שפ"י | F86: 4 | G86: 5 | H86: 1 | I86: 5 | J86: 5
C87: 101 | D87: 1817320782 | E87: חומרי ניקוי שפ"י -רכש | F87: 1 | G87: 1 | H87: 1 | I87: 2 | J87: 2
... C90: 105 | D90: 1841000782 | E90: הוצאות שוטפות-מינהל רווחה רכש | F90: 29 | G90: 28 | H90: 26 | I90: 28 | J90: 28
C91: 106 | D91: 1841100782 | E91: הוצאות תמלול חוק הנגשה רווחה | F91: 8 | G91: 8 | H91: 9 | I91: =8.55-1.45 -> 7.1 | J91: 7
C92: 107 | D92: 1841200782 | E92: הוצאות חנות חברתית רווחה כנגד הפקדות | F92: 0 | G92: 20 | H92: 4 | I92: =19-12 -> 7 | J92: 7
C93: 108 | D93: 1841120782 | E93: קופה קטנה רווחה | F93: 10 | G93: 6 | H93: 3 | I93: 6 | J93: 6
C94: 110 | D94: 1841300782 | E94: הצט' מועדוני נוער כנגד הפקדות | F94: 0 | G94: 150 | H94: 88 | I94: 150 | J94: 100
C95: 111 | D95: 1937000782 | E95: השת' העיריה בתקציבי שוק עירוני | F95: 0 | G95: 40 | H95: 80 | I95: 80 | J95: 80
C96: 112 | D96: 1939000782 | E96: הוצאות נכסים, ועדי בתים | F96: 0 | G96: 1 | H96: 2 | I96: 4 | J96: 4
D97: סה"כ | F97: =SUM(F5:F96) -> 14484 | G97: =SUM(G5:G96) -> 14132.5 | H97: =SUM(H5:H96) -> 6298 | I97: =SUM(I5:I96) -> 13607.14 | J97: =SUM(J5:J96) -> 14634

Sheet תמיכות 22
B2: 810 | C2: השתתפויות ותמיכות בפעילויות
A4: מס'י | B4: מס. חשבון | C4: שם חשבון | D4: ביצוע 2021 | E4: תקציב 2022 מעודכן (מס 1) | F4: ביצוע 1-6/2022 | G4: תקציב 2022 מעודכן (מס 2) | H4: הצעה 2023
A5: 1 | B5: 1611000810 | C5: תמיכות עמותות סיוע ועזרה | D5: 181 | E5: 250 | F5: 103 | G5: 250 | H5: 250
A6: 2 | B6: 1613000810 | C6: השתתפות דמי חבר בשלטון המקומי | D6: 85 | E6: 123 | F6: 123 | G6: 123 | H6: 123
A7: 3 | B7: 1724000810 | C7: כיבוי אש | D7: 1 | E7: 10 | F7: 27 | G7: 30 | H7: 30
A8: 4 | B8: 1766000810 | C8: ועד עובדים | D8: 10 | E8: 304 | F8: 301 | G8: 310 | H8: 310
A9: 6 | B9: 1766200810 | C9: ימי הפוגה לעובדים | D9: 72 | E9: 180 | F9: 94 | G9: 140 | H9: 140
A10: 7 | B10: 1772000810 | C10: השתתפות עירייה קליקה (תשלום למתנ"ס) | D10: 42 | E10: 170 | F10: 87 | G10: 170 | H10: 170
A11: 8 | B11: 1772100810 | C11: החזר הלוואה חכ"ל דיור מוגן | D11: 107 | E11: 342 | F11: 240 | G11: 221 | H11: 219
A12: 9 | B12: 1812310810 | C12: תקן גננות ע. מדינה - רישום מקביל | D12: 12212 | E12: 7400 | F12: 3650 | G12: 7400 | H12: 7400
A13: 10 | B13: 1812311810 | C13: רישום מקביל גננות | D13: 0 | E13: 0 | F13: 0 | G13: 0 | H13: 0
A14: 11 | B14: 1812400810 | C14: ויצו ונעמת | D14: 15 | E14: 15 | F14: 6 | G14: 15 | H14: 15
A15: 12 | B15: 1812411810 | C15: פורום נשים כרמיאל-משגב | D15: 0 | E15: 2 | F15: 1 | G15: =2-1 -> 1 | H15: 1
A16: 13 | B16: 1813300810 | C16: חינוך מיוחד- ניצן | D16: 0 | E16: 0 | F16: 11 | G16: 22 | H16: 22
A17: 14 | B17: 1815500810 | C17: חינוך על יסודי -חשמל הורביץ | D17: 14 | E17: 30 | F17: 38 | G17: 60 | H17: 45
A18: 15 | B18: 1815510810 | C18: חינוך על יסודי אמי"ת | D18: 0 | E18: 100 | F18: 100 | G18: 100 | H18: 50
A19: 16 | B19: 1815520810 | C19: השת' עירייה חווידע (תשלום למתנס) | D19: 179 | E19: 134 | F19: 51 | G19: 134 | H19: 134
A20: 17 | B20: 1815530810 | C20: פעילות העשרה תלן כרם גפנים כנגד הכנסות מ.החינוך | D20: 144 | E20: 120 | F20: 86 | G20: 130 | H20: 130
A21: 18 | B21: 1816800810 | C21: השת' העירייה במילגות עירוניות | D21: 70 | E21: 100 | F21: 100 | G21: 100 | H21: 20
A22: 19 | B22: 1824000810 | C22: שרותי תרבות וספורט-מתנס כולל 2 שלוחות חדשות | D22: 1497 | E22: 1750 | F22: 1500 | G22: 1000 | H22: 3000
A23: 20 | B23: 1824100810 | C23: החזר הלוואה למתנ"ס 1265 אלש"ח | D23: 23 | E23: 144 | F23: 0 | G23: 144 | H23: 144
A24: 21 | B24: 1824110810 | C24: החזר הלוואה הנגשת הבריכה | D24: 9 | E24: 113 | F24: 0 | G24: 113 | H24: 113
A25: 22 | B25: 1824200810 | C25: השת' למתנס צעירים בעלי מוגבלויות (מתנס) | D25: =15+16 -> 31 | E25: =88+20 -> 108 | F25: 45 | G25: 88 | H25: 100
A26: 24 | B26: 1826100810 | C26: השתתפות בהיכל התרבות | D26: 1740 | E26: 1940 | F26: 1256 | G26: 1940 | H26: 1850
A27: 25 | B27: 1826120810 | C27: עובדי מנהלת תרבות תשלום להיכל | D27: 0 | E27: 668 | F27: 0 | G27: 434 | H27: 868
A28: 26 | B28: 1826110810 | C28: החזר הלוואה היכל התרבות | D28: 307 | E28: 310 | F28: 151 | G28: 310 | H28: 310
A29: 27 | B29: 1827000810 | C29: תמיכה במוסדות דת | D29: 50 | E29: 60 | F29: 25 | G29: =60-32 -> 28 | H29: 60
A30: 28 | B30: 1828000810 | C30: ק.קטנה קידום נוער-רכש | D30: 1 | E30: 3 | F30: 3 | G30: 3 | H30: 3
A31: 29 | B31: 1828900810 | C31: תנועות וארגוני נוער | D31: 0 | E31: 460 | F31: 0 | G31: 0 | H31: 460
A32: 30 | B32: 1828910810 | C32: רזרבה תנועות הנוער | D32: 19 | E32: 0 | F32: 0 | G32: =19-19 -> 0 | H32: 0
A33: 31 | B33: 1828911810 | C33: ארגון נוער מגן דוד אדום | D33: 0 | E33: 0 | F33: 0 | G33: =12-3 -> 9 | H33: 0
A34: 32 | B34: 1828912810 | C34: עמותת איגי | D34: 19.709 | E34: 0 | F34: 13 | G34: =24-4 -> 20 | H34: 0
A35: 33 | B35: 1828913810 | C35: רזרבה ארגוני נוער | D35: 6 | E35: 0 | F35: 0 | G35: =10-10 -> 0 | H35: 0
A36: 34 | B36: 1828914810 | C36: ארגון נוער אור ישראלי | D36: 10 | E36: 0 | F36: 3 | G36: =6-2 -> 4 | H36: 0
A37: 35 | B37: 1828920810 | C37: תנועת הצופים העבריים בישראל | D37: 53.27 | E37: 0 | F37: 21 | G37: =40-7 -> 33 | H37: 0
A38: 36 | B38: 1828930810 | C38: הסתדרות הנוער העובד והלומד | D38: 103.147 | E38: 0 | F38: 46 | G38: =110-15 -> 95 | H38: 0
A39: 37 | B39: 1828940810 | C39: תנועת בני עקיבא בישראל | D39: 61.709 | E39: 0 | F39: 43 | G39: =62-3 -> 59 | H39: 0
A40: 38 | B40: 1828950810 | C40: הסתדרות השומר הצעיר בישראל | D40: 49.743 | E40: 0 | F40: 24 | G40: =45-7 -> 38 | H40: 0
A41: 39 | B41: 1828960810 | C41: אריאל תנועת נוער ישראלית | D41: 37.63 | E41: 0 | F41: 13 | G41: =34-4 -> 30 | H41: 0
A42: 40 | B42: 1828970810 | C42: תנועת בנות בית יעקב - בנות בתיה | D42: 34.048 | E42: 0 | F42: 0 | G42: =34-12 -> 22 | H42: 0
A43: 41 | B43: 1828980810 | C43: כנפיים של קרמבו | D43: 35 | E43: 0 | F43: 16 | G43: =29-5 -> 24 | H43: 0
A44: 42 | B44: 1828990810 | C44: התנועה המסורתית נועם | D44: 15.168 | E44: 0 | F44: 3 | G44: =12-3 -> 9 | H44: 0
A45: 43 | B45: 1829900810 | C45: אגודות ספורט | D45: 1343 | E45: 1850 | F45: 1136 | G45: 1725 | H45: 1725
A46: 44 | B46: 1829910810 | C46: תמיכה בספורט - איחוד קבוצות | D46: 0 | E46: 160 | F46: 0 | G46: 0 | H46: 160
A47: 45 | B47: 1835000810 | C47: שרותי נט"ן/מד"א | D47: 139 | E47: 280 | F47: 142 | G47: 280 | H47: 280
A48: 49 | B48: 1851000810 | C48: השתתפות בתקציב מועצה דתית | D48: =174.75*12 -> 2097 | E48: 2097 | F48: 892 | G48: 1779 | H48: 1779
A49: 50 | B49: 1860000810 | C49: תמיכות בארגוני עולים | D49: 48 | E49: 25 | F49: 12 | G49: =23-12 -> 11 | H49: 25
A50: 51 | B50: 1870000810 | C50: איגוד ערים איכות סביבה | D50: =45.103*4 -> 180.412 | E50: 180 | F50: 0 | G50: 180 | H50: 180
B51: סה"כ | D51: =SUM(D5:D50) -> 21041.836 | E51: =SUM(E5:E50) -> 19428 | F51: =SUM(F5:F50) -> 10362 | G51: =SUM(G5:G50) -> 17584 | H51: =SUM(H5:H50) -> 20116

Sheet ביצוע 2020
A2: 100 | B2: 1111000 | C2: 0 | D2: 1.4321601e+08 | E2: 0 | F2: 4150005.8 | G2: 139066000 | H2: 1.5893602e+08
A3: 910 | B3: 1111000 | C3: 0 | D3: 22711486 | E3: 0 | F3: 486 | G3: 22711000 | H3: 0
A4: 911 | B4: 1111000 | C4: 0 | D4: 3178338.6 | E4: 1650661.4 | F4: 0 | G4: 4829000 | H4: 0
A5: 100 | B5: 1111200 | C5: 0 | D5: 3829.42 | E5: 0 | F5: 3829.42 | G5: 0 | H5: 0
A6: 100 | B6: 1113000 | C6: 0 | D6: 49539189 | E6: 0 | F6: 514189 | G6: 49025000 | H6: 31433157
A7: 220 | B7: 1121000 | C7: 0 | D7: 41861.77 | E7: 0 | F7: 1861.77 | G7: 40000 | H7: 51968.17
A8: 220 | B8: 1121100 | C8: 0 | D8: 311009.01 | E8: 0 | F8: 31009.01 | G8: 280000 | H8: 392865.71
A9: 210 | B9: 1122000 | C9: 0 | D9: 969817.78 | E9: 0 | F9: 24817.78 | G9: 945000 | H9: 1034173.5
A10: 210 | B10: 1122100 | C10: 0 | D10: 0 | E10: 0 | F10: 0 | G10: 0 | H10: 1913.88
A11: 220 | B11: 1124100 | C11: 0 | D11: 0 | E11: 0 | F11: 0 | G11: 0 | H11: 600
A12: 290 | B12: 1129000 | C12: 0 | D12: 39870 | E12: 130 | F12: 0 | G12: 40000 | H12: 74318.16
A13: 291 | B13: 1129000 | C13: 0 | D13: 17101 | E13: 0 | F13: 17101 | G13: 0 | H13: 0
... A246: 691 | B246: 1599900 | C246: 0 | D246: 18170000 | E246: 0 | F246: 0 | G246: 18170000 | H246: 0
D247: =SUM(D2:D246) -> 3.6146086e+08
A249: 110 | B249: 1611000 | C249: 4 | D249: 2128959.8 | E249: 0 | F249: 11959.79 | G249: 2117000 | H249: 2108283.8
A250: 110 | B250: 1611200 | C250: 0 | D250: 1727623.1 | E250: 7445.33 | F250: 0 | G250: 40000 | H250: 39112.65
A251: 110 | B251: 1612000 | C251: 0 | D251: 318766.98 | E251: 4346.5 | F251: 0 | G251: 13000 | H251: 8115.57
A252: 110 | B252: 1613000 | C252: 0 | D252: 4259803.5 | E252: 0 | F252: 0 | G252: 0 | H252: 192530
A253: 110 | B253: 1613100 | C253: 0 | D253: 43244.79 | E253: 3803.63 | F253: 0 | G253: 69000 | H253: 81049.77
A254: 110 | B254: 1613200 | C254: 0 | D254: 2103.82 | E254: 0 | F254: 5932 | G254: 27000 | H254: 21141.99
A255: 110 | B255: 1613300 | C255: 0 | D255: 79752.19 | E255: 5763 | F255: 0 | G255: 17000 | H255: 17060
A256: 110 | B256: 1614000 | C256: 0 | D256: 616393.15 | E256: 0 | F256: 36091 | G256: 191000 | H256: 164945.08
A257: 110 | B257: 1615000 | C257: 0 | D257: 1040858.9 | E257: 32273 | F257: 0 | G257: 48000 | H257: 53309
A258: 110 | B258: 1617000 | C258: 0 | D258: 1334852.7 | E258: 0 | F258: 583.14 | G258: 8000 | H258: 55855
A259: 110 | B259: 1621100 | C259: 0 | D259: 1766759.9 | E259: 27575 | F259: 0 | G259: 146000 | H259: 131027
A260: 110 | B260: 1621300 | C260: 0 | D260: 1199392.8 | E260: 376.85 | F260: 0 | G260: 1728000 | H260: 2037592.8
... A377: 320 | B377: 1869000 | C377: 0 | D377: 655 | E377: 1000 | F377: 0 | G377: 1000 | H377: 848
A378: 320 | B378: 1999000 | C378: 0 | D378: 1310007.8 | E378: 0 | F378: 334697.19 | G378: 7000000 | H378: 6585200.3 | I378: =SUM(D249:D378)/1000 -> 162404.61
A379: 410 | B379: 1939000 | C379: 0 | D379: 91113.17 | E379: 0 | F379: 1576.62 | G379: 0 | H379: 4417.9 | I379: =D379/1000 -> 91.11317
A380: 422 | B380: 1723000 | C380: 0 | D380: 10468 | E380: 0 | F380: 0 | G380: 0 | H380: 17192.55
A381: 430 | B381: 1613000 | C381: 0 | D381: 598262.21 | E381: 67738.5 | F381: 0 | G381: 105000 | H381: 195355.5
A382: 430 | B382: 1617000 | C382: 0 | D382: 897.44 | E382: 14639 | F382: 0 | G382: 75000 | H382: 0
A383: 430 | B383: 1712400 | C383: 0 | D383: 85577.55 | E383: 0 | F383: 5186.91 | G383: 1359000 | H383: 1299419.8
A384: 430 | B384: 1715000 | C384: 0 | D384: 164.32 | E384: 835.68 | F384: 0 | G384: 1000 | H384: 189.59
A385: 430 | B385: 1723000 | C385: 0 | D385: 23488.61 | E385: 0 | F385: 445 | G385: 14000 | H385: 0
A386: 430 | B386: 1723100 | C386: 0 | D386: 105050.08 | E386: 7800 | F386: 0 | G386: 270000 | H386: 258313
A387: 430 | B387: 1724000 | C387: 0 | D387: 227.93 | E387: 0 | F387: 285722.62 | G387: 618000 | H387: 1026997.3
A388: 430 | B388: 1812300 | C388: 0 | D388: 259574.79 | E388: 2000 | F388: 0 | G388: 2000 | H388: 1110
A389: 430 | B389: 1813213 | C389: 0 | D389: 10889.01 | E389: 2336.74 | F389: 0 | G389: 8000 | H389: 9501.03
A390: 430 | B390: 1813214 | C390: 0 | D390: 23502 | E390: 11246 | F390: 0 | G390: 11000 | H390: 11079
A391: 430 | B391: 1813220 | C391: 0 | D391: 6010.62 | E391: 2003.5 | F391: 0 | G391: 61000 | H391: 18825.3
... A398: 430 | B398: 1841000 | C398: 0 | D398: 6380.98 | E398: 0 | F398: 394.2 | G398: 2000 | H398: 1093.65
A399: 430 | B399: 1939000 | C399: 0 | D399: 5799.73 | E399: 205 | F399: 0 | G399: 1000 | H399: 0 | I399: =SUM(D380:D399)/1000 -> 4849.8381
A400: 440 | B400: 1723200 | C400: 0 | D400: 10000 | E400: 2000 | F400: 0 | G400: 2000 | H400: 0
A401: 440 | B401: 1767000 | C401: 0 | D401: 1290659.7 | E401: 1000 | F401: 0 | G401: 1000 | H401: 0
A402: 440 | B402: 1767100 | C402: 0 | D402: 1854910 | E402: 0 | F402: 49604.7 | G402: 323000 | H402: 0 | I402: =SUM(D400:D402)/1000 -> 3155.5697
A403: 470 | B403: 1611000 | C403: 0 | D403: 32554.67 | E403: 0 | F403: 10468 | G403: 0 | H403: 0
A404: 470 | B404: 1611200 | C404: 0 | D404: 3849 | E404: 76511.39 | F404: 0 | G404: 100000 | H404: 116545.56
A405: 470 | B405: 1612000 | C405: 0 | D405: 301.46 | E405: 0 | F405: 0 | G405: 0 | H405: 1061
A406: 470 | B406: 1613000 | C406: 0 | D406: 398768.82 | E406: 26582 | F406: 0 | G406: 315000 | H406: 293912
A407: 470 | B407: 1613100 | C407: 0 | D407: 24261 | E407: 0 | F407: 50.08 | G407: 105000 | H407: 0
A408: 470 | B408: 1617000 | C408: 0 | D408: 9969.96 | E408: 0 | F408: 0 | G408: 10000 | H408: 0
A409: 470 | B409: 1617100 | C409: 0 | D409: 1600 | E409: 772.07 | F409: 0 | G409: 1000 | H409: 404.97
A410: 470 | B410: 1621000 | C410: 0 | D410: 33194.56 | E410: 2377.31 | F410: 0 | G410: 30000 | H410: 6593
A411: 470 | B411: 1621300 | C411: 0 | D411: 16921.2 | E411: 692.04 | F411: 0 | G411: 26000 | H411: 0
A412: 470 | B412: 1621310 | C412: 0 | D412: 900 | E412: 0 | F412: 13214 | G412: 107000 | H412: 0
A413: 470 | B413: 1623000 | C413: 0 | D413: 26473.55 | E413: 14000 | F413: 0 | G413: 14000 | H413: 0
A414: 470 | B414: 1711000 | C414: 0 | D414: 16165.56 | E414: 12323.02 | F414: 0 | G414: 87000 | H414: 0
... A433: 470 | B433: 1933000 | C433: 0 | D433: 14952.89 | E433: 12947.71 | F433: 0 | G433: 68000 | H433: 60396.32
A434: 470 | B434: 1943000 | C434: 0 | D434: 1670.41 | E434: 10930.75 | F434: 0 | G434: 672000 | H434: 856956.33 | I434: =SUM(D403:D434)/1000 -> 762.87549
A435: 511 | B435: 1611000 | C435: 0 | D435: 8653.5 | E435: 0 | F435: 3614353.6 | G435: 0 | H435: 4079345.9
A436: 511 | B436: 1613000 | C436: 0 | D436: 140697.6 | E436: 100000 | F436: 0 | G436: 100000 | H436: 0
A437: 511 | B437: 1617000 | C437: 0 | D437: 407.5 | E437: 76344.39 | F437: 0 | G437: 3604000 | H437: 3561443.8
A438: 511 | B438: 1621000 | C438: 0 | D438: 1013.7 | E438: 0 | F438: 100.5 | G438: 0 | H438: 0
A439: 511 | B439: 1621300 | C439: 0 | D439: 415.09 | E439: 0 | F439: 5838.38 | G439: 0 | H439: 137458.55
A440: 511 | B440: 1623000 | C440: 0 | D440: 79.4 | E440: 1000 | F440: 0 | G440: 1000 | H440: 656
A441: 511 | B441: 1746000 | C441: 0 | D441: 828 | E441: 2242.55 | F441: 0 | G441: 161000 | H441: 144550.17
A442: 511 | B442: 1811000 | C442: 0 | D442: 520 | E442: 481484.31 | F442: 0 | G442: 3808000 | H442: 3591855.4 | I442: =SUM(D435:D442)/1000 -> 152.61479
A443: 513 | B443: 1754000 | C443: 0 | D443: 15191 | E443: 1169.8 | F443: 0 | G443: 3000 | H443: 4106.41 | I443: =D443/1000 -> 15.191
A444: 522 | B444: 1617000 | C444: 0 | D444: 1170 | E444: 0 | F444: 1682.84 | G444: 184000 | H444: 189463.27 | I444: =D444/1000 -> 1.17
A445: 530 | B445: 1712210 | C445: 0 | D445: 94952 | E445: 1547.7 | F445: 0 | G445: 4000 | H445: 0
A446: 530 | B446: 1712220 | C446: 0 | D446: 63262 | E446: 0 | F446: 0 | G446: 0 | H446: 45784.89
A447: 530 | B447: 1712230 | C447: 0 | D447: 34997 | E447: 206.6 | F447: 0 | G447: 101000 | H447: 669623.4 | I447: =SUM(D445:D447)/1000 -> 193.211
A448: 531 | B448: 1611000 | C448: 0 | D448: 65196.37 | E448: 0 | F448: 0 | G448: 0 | H448: 104057.99
A449: 531 | B449: 1612000 | C449: 0 | D449: 9126.66 | E449: 27115.02 | F449: 0 | G449: 750000 | H449: 850647.81
A450: 531 | B450: 1613000 | C450: 0 | D450: 19631.63 | E450: 0 | F450: 0 | G450: 0 | H450: 1545.43
A451: 531 | B451: 1617000 | C451: 0 | D451: 4610.01 | E451: 809 | F451: 0 | G451: 16000 | H451: 77676.39
A452: 531 | B452: 1621000 | C452: 0 | D452: 11076.08 | E452: 16650.25 | F452: 0 | G452: 1622000 | H452: 1740378.4
A453: 531 | B453: 1711000 | C453: 0 | D453: 246971.23 | E453: 0 | F453: 2244 | G453: 0 | H453: 47806.07
A454: 531 | B454: 1712200 | C454: 0 | D454: 55939.93 | E454: 1419 | F454: 0 | G454: 2000 | H454: 0
A455: 531 | B455: 1712300 | C455: 0 | D455: 425180.55 | E455: 92.5 | F455: 0 | G455: 1000 | H455: 1021.82
A456: 531 | B456: 1721000 | C456: 0 | D456: 534.75 | E456: 1000 | F456: 0 | G456: 1000 | H456: 0
A457: 531 | B457: 1733000 | C457: 0 | D457: 11500.38 | E457: 1000 | F457: 0 | G457: 1000 | H457: 0
A458: 531 | B458: 1746000 | C458: 0 | D458: 47902.73 | E458: 2969.51 | F458: 0 | G458: 180000 | H458: 180608.45
A459: 531 | B459: 1811000 | C459: 0 | D459: 48197.06 | E459: 1000 | F459: 0 | G459: 1000 | H459: 0
... A464: 531 | B464: 1913000 | C464: 0 | D464: 15797.34 | E464: 220090 | F464: 0 | G464: 2075000 | H464: 2020292.4
A465: 531 | B465: 1943000 | C465: 0 | D465: 2870.54 | E465: 0 | F465: 287147.04 | G465: 0 | H465: 0 | I465: =SUM(D448:D465)/1000 -> 1015.5891
A466: 532 | B466: 1611000 | C466: 0 | D466: 32932 | E466: 808.99 | F466: 0 | G466: 2000 | H466: 397.94
A467: 532 | B467: 1612000 | C467: 0 | D467: 2779.46 | E467: 478.3 | F467: 0 | G467: 2000 | H467: 9737.5
A468: 532 | B468: 1613000 | C468: 0 | D468: 8956.65 | E468: 0 | F468: 22951.78 | G468: 10000 | H468: 17099.4
A469: 532 | B469: 1617000 | C469: 0 | D469: 816.01 | E469: 0 | F469: 0 | G469: 0 | H469: 312830
A470: 532 | B470: 1621000 | C470: 0 | D470: 539.31 | E470: 0 | F470: 0 | G470: 100000 | H470: 201146
A471: 532 | B471: 1711000 | C471: 0 | D471: 208122.47 | E471: 62598.46 | F471: 0 | G471: 1824000 | H471: 1257557.4
A472: 532 | B472: 1711200 | C472: 0 | D472: 59.5 | E472: 2716.1 | F472: 0 | G472: 1036000 | H472: 1007868.1
A473: 532 | B473: 1712200 | C473: 0 | D473: 93341.03 | E473: 948.98 | F473: 0 | G473: 2000 | H473: 426.64
A474: 532 | B474: 1712300 | C474: 0 | D474: 452725.06 | E474: 0 | F474: 21103 | G474: 30000 | H474: 50340.2
A475: 532 | B475: 1715300 | C475: 0 | D475: 14445 | E475: 124789.12 | F475: 0 | G475: 3404000 | H475: 3509936.6
A476: 532 | B476: 1721000 | C476: 0 | D476: 5663.26 | E476: 0 | F476: 66109 | G476: 0 | H476: 519739
A477: 532 | B477: 1731000 | C477: 0 | D477: 1170 | E477: 3896.25 | F477: 0 | G477: 30000 | H477: 18682.6
... A488: 532 | B488: 1913000 | C488: 0 | D488: 18414.9 | E488: 0 | F488: 100177.37 | G488: 3568000 | H488: 3473803.7
...

Sheet שכר 2021
A1: מחלקה | B1: תקופה | C1: סיכום כללי | D1: חלקיות משרה | F1: משרות | H1: עובדים למחלקה
A2: 611000 | B2: 202101 | C2: 175239.93 | D2: 3 | H2: 3
A3: 611000 | B3: 202102 | C3: 175239.92 | D3: 3 | H3: 3
A4: 611000 | B4: 202103 | C4: 186144.43 | D4: 3 | H4: 3
A5: 611000 | B5: 202104 | C5: 175319.16 | D5: 3 | H5: 3
A6: 611000 | B6: 202105 | C6: 184970.43 | D6: 3 | H6: 3
A7: 611000 | B7: 202106 | C7: 250792.63 | D7: 2.5 | H7: 3
A8: 611000 | B8: 202107 | C8: 133537.54 | D8: 2 | H8: 2
A9: 611000 | B9: 202108 | C9: 123613 | D9: 2 | H9: 2
A10: 611000 | B10: 202109 | C10: 123613 | D10: 2 | H10: 2
A11: 611000 | B11: 202110 | C11: 123613 | D11: 2 | H11: 2
A12: 611000 | B12: 202111 | C12: 123613 | D12: 2 | H12: 2
A13: 611000 | B13: 202112 | C13: 123613 | D13: 2 | F13: {=SUM(D2:D13/12)} -> 2.4583333 | H13: 2
A14: 611000 סה"כ | C14: =SUM(C2:C13) -> 1899309
A15: 611200 | B15: 202101 | C15: 138618.56 | D15: 8.5 | H15: 10
A16: 611200 | B16: 202102 | C16: 136387.16 | D16: 8.5 | H16: 9
A17: 611200 | B17: 202103 | C17: 155759.65 | D17: 8.5 | H17: 9
A18: 611200 | B18: 202104 | C18: 136532.03 | D18: 8.5 | H18: 10
A19: 611200 | B19: 202105 | C19: 156426.79 | D19: 8.5 | H19: 10
A20: 611200 | B20: 202106 | C20: 199666.86 | D20: 7.466 | H20: 9
A21: 611200 | B21: 202107 | C21: 134031.48 | D21: 6.5 | H21: 8
A22: 611200 | B22: 202108 | C22: =134031.48+9250 -> 143281.48 | D22: 6.5 | H22: 7
A23: 611200 | B23: 202109 | C23: =134031.48+2350 -> 136381.48 | D23: 6.5 | H23: 7
A24: 611200 | B24: 202110 | C24: =C23+18130+2350 -> 156861.48 | D24: 7.5 | E24: שלי אטיאס | H24: 8
A25: 611200 | B25: 202111 | C25: =C24+18130+2350 -> 177341.48 | D25: 7.5 | H25: 8
A26: 611200 | B26: 202112 | C26: =C25+18130+2350 -> 197821.48 | D26: 7.5 | F26: {=SUM(D15:D26/12)} -> 7.6638333 | H26: 8
A27: 611200 סה"כ | C27: =SUM(C15:C26) -> 1869109.9
A28: 612000 | B28: 202101 | C28: 52190.41 | D28: 1 | H28: 1
A29: 612000 | B29: 202102 | C29: 52190.41 | D29: 1 | H29: 1
A30: 612000 | B30: 202103 | C30: 52157.19 | D30: 1 | H30: 1
A31: 612000 | B31: 202104 | C31: 52157.17 | D31: 1 | H31: 1
A32: 612000 | B32: 202105 | C32: 52155.66 | D32: 1 | H32: 1
A33: 612000 | B33: 202106 | C33: 56058.05 | D33: 1 | H33: 1
A34: 612000 | B34: 202107 | C34: 53386.82 | D34: 1 | H34: 1
A35: 612000 | B35: 202108 | C35: 52157 | D35: 1 | H35: 1
A36: 612000 | B36: 202109 | C36: 52157 | D36: 1 | H36: 1
A37: 612000 | B37: 202110 | C37: 52157 | D37: 1 | H37: 1
A38: 612000 | B38: 202111 | C38: 52157 | D38: 1 | H38: 1
A39: 612000 | B39: 202112 | C39: 52157 | D39: 1 | F39: {=SUM(D28:D39/12)} -> 1 | H39: 1
A40: 612000 סה"כ | C40: =SUM(C28:C39) -> 631080.71
A41: 613000 | B41: 202101 | C41: 224029.33 | D41: 12.45 | H41: 18
A42: 613000 | B42: 202102 | C42: 218883.71 | D42: 12.45 | H42: 17
A43: 613000 | B43: 202103 | C43: 235605.31 | D43: 13.433 | H43: 18
A44: 613000 | B44: 202104 | C44: 231497.43 | D44: 13.95 | H44: 17
A45: 613000 | B45: 202105 | C45: 230498.77 | D45: 13.95 | H45: 17
A46: 613000 | B46: 202106 | C46: 316192.35 | D46: 13.95 | H46: 18
A47: 613000 | B47: 202107 | C47: 275095.5 | D47: 12.95 | H47: 15
A48: 613000 | B48: 202108 | C48: 285000.5 | D48: 12.95 | H48: 15
A49: 613000 | B49: 202109 | C49: =285000.5+12000 -> 297000.5 | D49: 12.95 | H49: 15
A50: 613000 | B50: 202110 | C50: 285000.5 | D50: 12.95 | H50: 15
A51: 613000 | B51: 202111 | C51: 285000.5 | D51: 12.95 | H51: 15
A52: 613000 | B52: 202112 | C52: 285000.5 | D52: 12.95 | F52: {=SUM(D41:D52/12)} -> 13.156917 | H52: 15
A53: 613000 סה"כ | C53: =SUM(C41:C52) -> 3168804.9
A54: 613300 | B54: 202101 | C54: 44255.8 | D54: 4.8 | H54: 5
A55: 613300 | B55: 202102 | C55: 49717.52 | D55: 4.8 | H55: 5
A56: 613300 | B56: 202103 | C56: 37646.3 | D56: 4 | H56: 4
A57: 613300 | B57: 202104 | C57: 37400.29 | D57: 4 | H57: 4
A58: 613300 | B58: 202105 | C58: 39185.64 | D58: 4 | H58: 4
A59: 613300 | B59: 202106 | C59: 59591.56 | D59: 4 | H59: 4
A60: 613300 | B60: 202107 | C60: 42545.92 | D60: 4 | H60: 4
A61: 613300 | B61: 202108 | C61: 42545.92 | D61: 4 | H61: 4
A62: 613300 | B62: 202109 | C62: 42545.92 | D62: 4 | H62: 4
A63: 613300 | B63: 202110 | C63: 42545.92 | D63: 4 | H63: 4
A64: 613300 | B64: 202111 | C64: 42545.92 | D64: 4 | H64: 4
A65: 613300 | B65: 202112 | C65: 42545.92 | D65: 4 | F65: {=SUM(D54:D65/12)} -> 4.1333333 | H65: 4
A66: 613300 סה"כ | C66: =SUM(C54:C65) -> 523072.63
A67: 614000 | B67: 202101 | C67: 47442.36 | D67: 2 | H67: 2
A68: 614000 | B68: 202102 | C68: 50013.9 | D68: 2 | H68: 2
A69: 614000 | B69: 202103 | C69: 54855.03 | D69: 2 | H69: 2
A70: 614000 | B70: 202104 | C70: 50861.37 | D70: 2 | H70: 2
A71: 614000 | B71: 202105 | C71: 52386.79 | D71: 2 | H71: 2
A72: 614000 | B72: 202106 | C72: 65650.79 | D72: 2 | H72: 2
A73: 614000 | B73: 202107 | C73: 58927.2 | D73: 2 | H73: 2
A74: 614000 | B74: 202108 | C74: 52500 | D74: 2 | H74: 2
A75: 614000 | B75: 202109 | C75: 52500 | D75: 2 | H75: 2
A76: 614000 | B76: 202110 | C76: 52500 | D76: 2 | H76: 2
A77: 614000 | B77: 202111 | C77: 52500 | D77: 2 | H77: 2
A78: 614000 | B78: 202112 | C78: 52500 | D78: 2 | F78: {=SUM(D67:D78/12)} -> 2 | H78: 2
A79: 614000 סה"כ | C79: =SUM(C67:C78) -> 642637.44
A80: 615000 | B80: 202101 | C80: 79633.59 | D80: 4.6 | H80: 6
A81: 615000 | B81: 202102 | C81: 78332.23 | D81: 4.6 | H81: 6
A82: 615000 | B82: 202103 | C82: 82088.85 | D82: 4.6 | H82: 6
A83: 615000 | B83: 202104 | C83: 87460.37 | D83: 4.6 | H83: 6
A84: 615000 | B84: 202105 | C84: 85846.82 | D84: 4.6 | H84: 6
A85: 615000 | B85: 202106 | C85: 118267.72 | D85: 4.6 | H85: 6
A86: 615000 | B86: 202107 | C86: 85500 | D86: 4.6 | H86: 5
A87: 615000 | B87: 202108 | C87: 85500 | D87: 4.6 | H87: 5
A88: 615000 | B88: 202109 | C88: =85500+6000 -> 91500 | D88: 4.6 | H88: 5
A89: 615000 | B89: 202110 | C89: 85500 | D89: 4.6 | H89: 5
A90: 615000 | B90: 202111 | C90: 85500 | D90: 4.6 | H90: 5
A91: 615000 | B91: 202112 | C91: 85500 | D91: 4.6 | F91: {=SUM(D80:D91/12)} -> 4.6 | H91: 5
A92: 615000 סה"כ | C92: =SUM(C80:C91) -> 1050629.6
A93: 617000 | B93: 202101 | C93: 95906.11 | D93: 3 | H93: 3
A94: 617000 | B94: 202102 | C94: 95935.3 | D94: 3 | H94: 3
A95: 617000 | B95: 202103 | C95: 95120.82 | D95: 3 | H95: 3
A96: 617000 | B96: 202104 | C96: 102613.99 | D96: 2.666 | H96: 3
A97: 617000 | B97: 202105 | C97: 97259.1 | D97: 3 | H97: 3
A98: 617000 | B98: 202106 | C98: 118628.06 | D98: 3 | H98: 3
A99: 617000 | B99: 202107 | C99: 105344.56 | D99: 3 | H99: 3
A100: 617000 | B100: 202108 | C100: 97300 | D100: 3 | H100: 3
...
