Workbook

Sheet ריכוז מנהלים
G6: העבודה | H6: תקציב פיתוח 2021 באלפי ₪ | M6: תקציב פיתוח רב שנתי באלפי ₪
F7: מס' | G7: נושא
F8: מס' | G8: נושא | H8: תקציב פיתוח 2021 | I8: ממשלה ומוסדות | J8: היטל השבחה | K8: בעלים | L8: הלוואות | M8: רב שנתי | N8: ממשלה ומוסדות | O8: היטל השבחה | P8: בעלים | Q8: הלוואות
F9: 1 | G9: סה"כ הנהלת העירייה | H9: ='ריכוז מחלקות'!H10 -> 4000 | I9: ='ריכוז מחלקות'!I10 -> 0 | J9: ='ריכוז מחלקות'!J10 -> 0 | K9: ='ריכוז מחלקות'!K10 -> 0 | L9: ='ריכוז מחלקות'!L10 -> 4000 | M9: ='ריכוז מחלקות'!M10 -> 5500 | N9: ='ריכוז מחלקות'!N10 -> 0 | O9: ='ריכוז מחלקות'!O10 -> 0 | ... Q9: ='ריכוז מחלקות'!Q10 -> 5500
F10: 2 | G10: סה"כ מינהל הנדסה | H10: ='ריכוז מחלקות'!H17 -> 178450 | I10: ='ריכוז מחלקות'!I17 -> 19280 | J10: ='ריכוז מחלקות'!J17 -> 64650 | K10: ='ריכוז מחלקות'!K17 -> 66100 | L10: ='ריכוז מחלקות'!L17 -> 28420 | M10: ='ריכוז מחלקות'!M17 -> 89250 | N10: ='ריכוז מחלקות'!N17 -> 27000 | O10: ='ריכוז מחלקות'!O17 -> 22900 | ... Q10: ='ריכוז מחלקות'!Q17 -> 700
F11: 3 | G11: סה"כ מערכות חינוך, תרבות ורווחה | H11: ='ריכוז מחלקות'!H29 -> 49550 | I11: ='ריכוז מחלקות'!I29 -> 16275 | J11: ='ריכוז מחלקות'!J29 -> 0 | K11: ='ריכוז מחלקות'!K29 -> 0 | L11: ='ריכוז מחלקות'!L29 -> 33275 | M11: ='ריכוז מחלקות'!M29 -> 39600 | N11: ='ריכוז מחלקות'!N29 -> 927 | O11: ='ריכוז מחלקות'!O29 -> 0 | ... Q11: ='ריכוז מחלקות'!Q29 -> 38673
F12: 4 | G12: סה"כ מינהל תפעול | H12: ='ריכוז מחלקות'!H44 -> 156258 | I12: ='ריכוז מחלקות'!I44 -> 31370 | J12: ='ריכוז מחלקות'!J44 -> 17500 | K12: ='ריכוז מחלקות'!K44 -> 26680 | L12: ='ריכוז מחלקות'!L44 -> 80708 | M12: ='ריכוז מחלקות'!M44 -> 136170 | N12: ='ריכוז מחלקות'!N44 -> 2800 | O12: ='ריכוז מחלקות'!O44 -> 21450 | ... Q12: ='ריכוז מחלקות'!Q44 -> 53445
F13: 5 | G13: סה"כ חברות ועמותות | H13: ='ריכוז מחלקות'!H49 -> 16950 | I13: ='ריכוז מחלקות'!I49 -> 0 | J13: ='ריכוז מחלקות'!J49 -> 0 | K13: ='ריכוז מחלקות'!K49 -> 0 | L13: ='ריכוז מחלקות'!L49 -> 16950 | M13: ='ריכוז מחלקות'!M49 -> 14000 | N13: ='ריכוז מחלקות'!N49 -> 0 | O13: ='ריכוז מחלקות'!O49 -> 0 | ... Q13: ='ריכוז מחלקות'!Q49 -> 14000
F14: 6 | G14: סה"כ תיירותיים | H14: ='ריכוז מחלקות'!H51 -> 8900 | I14: ='ריכוז מחלקות'!I51 -> 0 | J14: ='ריכוז מחלקות'!J51 -> 0 | K14: ='ריכוז מחלקות'!K51 -> 0 | L14: ='ריכוז מחלקות'!L51 -> 8900 | M14: ='ריכוז מחלקות'!M51 -> 0 | N14: ='ריכוז מחלקות'!N51 -> 0 | O14: ='ריכוז מחלקות'!O51 -> 0 | ... Q14: ='ריכוז מחלקות'!Q51 -> 0
F15: 7 | G15: סה"כ אחרים | H15: ='ריכוז מחלקות'!H53 -> 6500 | I15: ='ריכוז מחלקות'!I53 -> 1500 | J15: ='ריכוז מחלקות'!J53 -> 200 | K15: ='ריכוז מחלקות'!K53 -> 0 | L15: ='ריכוז מחלקות'!L53 -> 4800 | M15: ='ריכוז מחלקות'!M53 -> 600 | N15: ='ריכוז מחלקות'!N53 -> 0 | O15: ='ריכוז מחלקות'!O53 -> 0 | ... Q15: ='ריכוז מחלקות'!Q53 -> 600
F16: 8 | G16: סה"כ תחבורה ובינוי | H16: ='ריכוז מחלקות'!H58 -> 529850 | I16: ='ריכוז מחלקות'!I58 -> 518150 | J16: ='ריכוז מחלקות'!J58 -> 8700 | K16: ='ריכוז מחלקות'!K58 -> 0 | L16: ='ריכוז מחלקות'!L58 -> 3000 | M16: ='ריכוז מחלקות'!M58 -> 66700 | N16: ='ריכוז מחלקות'!N58 -> 30650 | O16: ='ריכוז מחלקות'!O58 -> 0 | ... Q16: ='ריכוז מחלקות'!Q58 -> 36050
F17: 9 | G17: סה"כ מינהל כספים | H17: ='ריכוז מחלקות'!H60 -> 27800 | I17: ='ריכוז מחלקות'!I60 -> 0 | J17: ='ריכוז מחלקות'!J60 -> 300 | K17: ='ריכוז מחלקות'!K60 -> 22000 | L17: ='ריכוז מחלקות'!L60 -> 5500 | M17: ='ריכוז מחלקות'!M60 -> 3700 | N17: ='ריכוז מחלקות'!N60 -> 0 | O17: ='ריכוז מחלקות'!O60 -> 200 | ... Q17: ='ריכוז מחלקות'!Q60 -> 3500
G18: סה"כ תקציב פיתוח | H18: =SUM(H9:H17) -> 978258 | I18: =SUM(I9:I17) -> 586575 | J18: =SUM(J9:J17) -> 91350 | K18: =SUM(K9:K17) -> 114780 | L18: =SUM(L9:L17) -> 185553 | M18: =SUM(M9:M17) -> 355520 | N18: =SUM(N9:N17) -> 61377 | O18: =SUM(O9:O17) -> 44550 | ... Q18: =SUM(Q9:Q17) -> 152468
C354: 0

Sheet ריכוז מחלקות
F6: העבודה | H6: תקציב פיתוח 2021 באלפי ₪ | M6: תקציב פיתוח רב שנתי באלפי ₪
F7: מס' | G7: נושא
F8: מס' | G8: נושא | H8: תקציב פיתוח 2021 | I8: ממשלה ומוסדות | J8: היטל השבחה | K8: בעלים | L8: הלוואות | M8: רב שנתי | N8: ממשלה ומוסדות | O8: היטל השבחה | P8: בעלים | Q8: הלוואות
F9: 1 | G9: הנהלת העירייה
G10: סה"כ הנהלת העירייה | H10: ='ספר תקציב'!H15 -> 4000 | I10: ='ספר תקציב'!I15 -> 0 | J10: ='ספר תקציב'!J15 -> 0 | K10: ='ספר תקציב'!K15 -> 0 | L10: ='ספר תקציב'!L15 -> 4000 | M10: ='ספר תקציב'!M15 -> 5500 | N10: ='ספר תקציב'!N15 -> 0 | O10: ='ספר תקציב'!O15 -> 0 | ... Q10: ='ספר תקציב'!Q15 -> 5500
F11: 2 | G11: מינהל הנדסה
G12: סה"כ משרד מהנדס העיר | H12: ='ספר תקציב'!H36 -> 83000 | I12: ='ספר תקציב'!I36 -> 0 | J12: ='ספר תקציב'!J36 -> 40500 | K12: ='ספר תקציב'!K36 -> 34500 | L12: ='ספר תקציב'!L36 -> 8000 | M12: ='ספר תקציב'!M36 -> 23000 | N12: ='ספר תקציב'!N36 -> 16000 | O12: ='ספר תקציב'!O36 -> 7000 | ... Q12: ='ספר תקציב'!Q36 -> 0
G13: סה"כ תכנון עיר | H13: ='ספר תקציב'!H43 -> 22950 | I13: ='ספר תקציב'!I43 -> 2500 | J13: ='ספר תקציב'!J43 -> 15450 | K13: ='ספר תקציב'!K43 -> 0 | L13: ='ספר תקציב'!L43 -> 5000 | M13: ='ספר תקציב'!M43 -> 0 | N13: ='ספר תקציב'!N43 -> 0 | O13: ='ספר תקציב'!O43 -> 0 | ... Q13: ='ספר תקציב'!Q43 -> 0
G14: סה"כ תכנון דרכים ותנועה | H14: ='ספר תקציב'!H80 -> 41750 | I14: ='ספר תקציב'!I80 -> 1480 | J14: ='ספר תקציב'!J80 -> 4200 | K14: ='ספר תקציב'!K80 -> 28400 | L14: ='ספר תקציב'!L80 -> 7670 | M14: ='ספר תקציב'!M80 -> 51450 | N14: ='ספר תקציב'!N80 -> 4000 | O14: ='ספר תקציב'!O80 -> 12900 | ... Q14: ='ספר תקציב'!Q80 -> 700
G15: סה"כ תכנון נוף | H15: ='ספר תקציב'!H90 -> 3200 | I15: ='ספר תקציב'!I90 -> 0 | J15: ='ספר תקציב'!J90 -> 0 | K15: ='ספר תקציב'!K90 -> 3200 | L15: ='ספר תקציב'!L90 -> 0 | M15: ='ספר תקציב'!M90 -> 7800 | N15: ='ספר תקציב'!N90 -> 0 | O15: ='ספר תקציב'!O90 -> 3000 | ... Q15: ='ספר תקציב'!Q90 -> 0
G16: סה"כ נכסים | H16: ='ספר תקציב'!H100 -> 27550 | I16: ='ספר תקציב'!I100 -> 15300 | J16: ='ספר תקציב'!J100 -> 4500 | K16: ='ספר תקציב'!K100 -> 0 | L16: ='ספר תקציב'!L100 -> 7750 | M16: ='ספר תקציב'!M100 -> 7000 | N16: ='ספר תקציב'!N100 -> 7000 | O16: ='ספר תקציב'!O100 -> 0 | ... Q16: ='ספר תקציב'!Q100 -> 0
G17: סה"כ מינהל הנדסה | H17: =SUM(H12:H16) -> 178450 | I17: =SUM(I12:I16) -> 19280 | J17: =SUM(J12:J16) -> 64650 | K17: =SUM(K12:K16) -> 66100 | L17: =SUM(L12:L16) -> 28420 | M17: =SUM(M12:M16) -> 89250 | N17: =SUM(N12:N16) -> 27000 | O17: =SUM(O12:O16) -> 22900 | ... Q17: =SUM(Q12:Q16) -> 700
F18: 3 | G18: חת"ר
G19: סה"כ עבודות בטיחות וביטחון | H19: ='ספר תקציב'!H110 -> 6650 | I19: ='ספר תקציב'!I110 -> 0 | J19: ='ספר תקציב'!J110 -> 0 | K19: ='ספר תקציב'!K110 -> 0 | L19: ='ספר תקציב'!L110 -> 6650 | M19: ='ספר תקציב'!M110 -> 4000 | N19: ='ספר תקציב'!N110 -> 0 | O19: ='ספר תקציב'!O110 -> 0 | ... Q19: ='ספר תקציב'!Q110 -> 4000
G20: סה"כ עבודות מיוחדות | H20: ='ספר תקציב'!H123 -> 3600 | I20: ='ספר תקציב'!I123 -> 0 | J20: ='ספר תקציב'!J123 -> 0 | K20: ='ספר תקציב'!K123 -> 0 | L20: ='ספר תקציב'!L123 -> 3600 | M20: ='ספר תקציב'!M123 -> 2100 | N20: ='ספר תקציב'!N123 -> 0 | O20: ='ספר תקציב'!O123 -> 0 | ... Q20: ='ספר תקציב'!Q123 -> 2100
G21: סה"כ שיפוצים ובטיחות מבני חינוך | H21: ='ספר תקציב'!H135 -> 8500 | I21: ='ספר תקציב'!I135 -> 600 | J21: ='ספר תקציב'!J135 -> 0 | K21: ='ספר תקציב'!K135 -> 0 | L21: ='ספר תקציב'!L135 -> 7900 | M21: ='ספר תקציב'!M135 -> 4600 | N21: ='ספר תקציב'!N135 -> 900 | O21: ='ספר תקציב'!O135 -> 0 | ... Q21: ='ספר תקציב'!Q135 -> 3700
G22: סה"כ ריהוט וציוד | H22: ='ספר תקציב'!H142 -> 2000 | I22: ='ספר תקציב'!I142 -> 0 | J22: ='ספר תקציב'!J142 -> 0 | K22: ='ספר תקציב'!K142 -> 0 | L22: ='ספר תקציב'!L142 -> 2000 | M22: ='ספר תקציב'!M142 -> 600 | N22: ='ספר תקציב'!N142 -> 0 | O22: ='ספר תקציב'!O142 -> 0 | ... Q22: ='ספר תקציב'!Q142 -> 600
G23: סה"כ פרוייקטים בשיתוף ביטוח לאומי | H23: ='ספר תקציב'!H145 -> 500 | I23: ='ספר תקציב'!I145 -> 400 | J23: ='ספר תקציב'!J145 -> 0 | K23: ='ספר תקציב'!K145 -> 0 | L23: ='ספר תקציב'!L145 -> 100 | M23: ='ספר תקציב'!M145 -> 0 | N23: ='ספר תקציב'!N145 -> 0 | O23: ='ספר תקציב'!O145 -> 0 | ... Q23: ='ספר תקציב'!Q145 -> 0
G24: סה"כ מדע וטכנולוגיה | H24: ='ספר תקציב'!H150 -> 2050 | I24: ='ספר תקציב'!I150 -> 1625 | J24: ='ספר תקציב'!J150 -> 0 | K24: ='ספר תקציב'!K150 -> 0 | L24: ='ספר תקציב'!L150 -> 425 | M24: ='ספר תקציב'!M150 -> 0 | N24: ='ספר תקציב'!N150 -> 0 | O24: ='ספר תקציב'!O150 -> 0 | ... Q24: ='ספר תקציב'!Q150 -> 0
G25: סה"כ מיחשוב מוסדות חינוך | H25: ='ספר תקציב'!H156 -> 1000 | I25: ='ספר תקציב'!I156 -> 500 | J25: ='ספר תקציב'!J156 -> 0 | K25: ='ספר תקציב'!K156 -> 0 | L25: ='ספר תקציב'!L156 -> 500 | M25: ='ספר תקציב'!M156 -> 850 | N25: ='ספר תקציב'!N156 -> 27 | O25: ='ספר תקציב'!O156 -> 0 | ... Q25: ='ספר תקציב'!Q156 -> 823
G26: סה"כ רשות הספורט | H26: ='ספר תקציב'!H175 -> 11000 | I26: ='ספר תקציב'!I175 -> 7650 | J26: ='ספר תקציב'!J175 -> 0 | K26: ='ספר תקציב'!K175 -> 0 | L26: ='ספר תקציב'!L175 -> 3350 | M26: ='ספר תקציב'!M175 -> 3050 | N26: ='ספר תקציב'!N175 -> 0 | O26: ='ספר תקציב'!O175 -> 0 | ... Q26: ='ספר תקציב'!Q175 -> 3050
G27: סה"כ מערכת תרבות | H27: ='ספר תקציב'!H190 -> 13650 | I27: ='ספר תקציב'!I190 -> 5500 | J27: ='ספר תקציב'!J190 -> 0 | K27: ='ספר תקציב'!K190 -> 0 | L27: ='ספר תקציב'!L190 -> 8150 | M27: ='ספר תקציב'!M190 -> 20300 | N27: ='ספר תקציב'!N190 -> 0 | O27: ='ספר תקציב'!O190 -> 0 | ... Q27: ='ספר תקציב'!Q190 -> 20300
G28: סה"כ מערכת רווחה | H28: ='ספר תקציב'!H194 -> 600 | I28: ='ספר תקציב'!I194 -> 0 | J28: ='ספר תקציב'!J194 -> 0 | K28: ='ספר תקציב'!K194 -> 0 | L28: ='ספר תקציב'!L194 -> 600 | M28: ='ספר תקציב'!M194 -> 4100 | N28: ='ספר תקציב'!N194 -> 0 | O28: ='ספר תקציב'!O194 -> 0 | ... Q28: ='ספר תקציב'!Q194 -> 4100
G29: סה"כ מערכות חינוך, תרבות ורווחה | H29: =SUM(H19:H28) -> 49550 | I29: =SUM(I19:I28) -> 16275 | J29: =SUM(J19:J28) -> 0 | K29: =SUM(K19:K28) -> 0 | L29: =SUM(L19:L28) -> 33275 | M29: =SUM(M19:M28) -> 39600 | N29: =SUM(N19:N28) -> 927 | O29: =SUM(O19:O28) -> 0 | P29: =SUM(P19:P28) -> 0 | Q29: 38673
F30: 4 | G30: מינהל תפעול
G31: סה"כ מינהלי תפעול | H31: ='ספר תקציב'!H204 -> 30 | I31: ='ספר תקציב'!I204 -> 0 | J31: ='ספר תקציב'!J204 -> 0 | K31: ='ספר תקציב'!K204 -> 30 | L31: ='ספר תקציב'!L204 -> 0 | M31: ='ספר תקציב'!M204 -> 3620 | N31: ='ספר תקציב'!N204 -> 0 | O31: ='ספר תקציב'!O204 -> 200 | ... Q31: ='ספר תקציב'!Q204 -> 3420
G32: סה"כ אגף תברואה | H32: ='ספר תקציב'!H241 -> 44900 | I32: ='ספר תקציב'!I241 -> 1020 | J32: ='ספר תקציב'!J241 -> 0 | K32: ='ספר תקציב'!K241 -> 0 | L32: ='ספר תקציב'!L241 -> 43880 | M32: ='ספר תקציב'!M241 -> 7600 | N32: ='ספר תקציב'!N241 -> 0 | O32: ='ספר תקציב'!O241 -> 0 | ... Q32: ='ספר תקציב'!Q241 -> 7600
G33: סה"כ שירות וטרינרי | H33: ='ספר תקציב'!H254 -> 1930 | I33: ='ספר תקציב'!I254 -> 400 | J33: ='ספר תקציב'!J254 -> 0 | K33: ='ספר תקציב'!K254 -> 0 | L33: ='ספר תקציב'!L254 -> 1530 | M33: ='ספר תקציב'!M254 -> 250 | N33: ='ספר תקציב'!N254 -> 0 | O33: ='ספר תקציב'!O254 -> 0 | ... Q33: ='ספר תקציב'!Q254 -> 250
G34: סה"כ שיפור פני העיר | H34: ='ספר תקציב'!H297 -> 32190 | I34: ='ספר תקציב'!I297 -> 0 | J34: ='ספר תקציב'!J297 -> 9900 | K34: ='ספר תקציב'!K297 -> 14850 | L34: ='ספר תקציב'!L297 -> 7440 | M34: ='ספר תקציב'!M297 -> 86080 | N34: ='ספר תקציב'!N297 -> 0 | O34: ='ספר תקציב'!O297 -> 21250 | ... Q34: ='ספר תקציב'!Q297 -> 8830
G35: סה"כ מחלקת רמזורים | H35: ='ספר תקציב'!H309 -> 5745 | I35: ='ספר תקציב'!I309 -> 0 | J35: ='ספר תקציב'!J309 -> 0 | K35: ='ספר תקציב'!K309 -> 0 | L35: ='ספר תקציב'!L309 -> 5745 | M35: ='ספר תקציב'!M309 -> 500 | N35: ='ספר תקציב'!N309 -> 0 | O35: ='ספר תקציב'!O309 -> 0 | ... Q35: ='ספר תקציב'!Q309 -> 500
G36: סה"כ מחלקת גנים | H36: ='ספר תקציב'!H350 -> 18170 | I36: ='ספר תקציב'!I350 -> 800 | J36: ='ספר תקציב'!J350 -> 400 | K36: ='ספר תקציב'!K350 -> 7600 | L36: ='ספר תקציב'!L350 -> 9370 | M36: ='ספר תקציב'!M350 -> 8500 | N36: ='ספר תקציב'!N350 -> 0 | O36: ='ספר תקציב'!O350 -> 0 | ... Q36: ='ספר תקציב'!Q350 -> 6725
G37: סה"כ ניקוז | H37: ='ספר תקציב'!H367 -> 4550 | I37: ='ספר תקציב'!I367 -> 0 | J37: ='ספר תקציב'!J367 -> 0 | K37: ='ספר תקציב'!K367 -> 4200 | L37: ='ספר תקציב'!L367 -> 350 | M37: ='ספר תקציב'!M367 -> 3450 | N37: ='ספר תקציב'!N367 -> 0 | O37: ='ספר תקציב'!O367 -> 0 | ... Q37: ='ספר תקציב'!Q367 -> 2750
G38: סה"כ בית מרחץ עירוני | H38: ='ספר תקציב'!H371 -> 3 | I38: ='ספר תקציב'!I371 -> 0 | J38: ='ספר תקציב'!J371 -> 0 | K38: ='ספר תקציב'!K371 -> 0 | L38: ='ספר תקציב'!L371 -> 3 | M38: ='ספר תקציב'!M371 -> 1500 | N38: ='ספר תקציב'!N371 -> 0 | O38: ='ספר תקציב'!O371 -> 0 | ... Q38: ='ספר תקציב'!Q371 -> 1500
G39: סה"כ חופים עירוניים | H39: ='ספר תקציב'!H393 -> 5350 | I39: ='ספר תקציב'!I393 -> 1200 | J39: ='ספר תקציב'!J393 -> 0 | K39: ='ספר תקציב'!K393 -> 0 | L39: ='ספר תקציב'!L393 -> 4150 | M39: ='ספר תקציב'!M393 -> 16620 | N39: ='ספר תקציב'!N393 -> 0 | O39: ='ספר תקציב'!O393 -> 0 | ... Q39: ='ספר תקציב'!Q393 -> 16620
G40: סה"כ ביטחון | H40: ='ספר תקציב'!H404 -> 2750 | I40: ='ספר תקציב'!I404 -> 150 | J40: ='ספר תקציב'!J404 -> 0 | K40: ='ספר תקציב'!K404 -> 0 | L40: ='ספר תקציב'!L404 -> 2600 | M40: ='ספר תקציב'!M404 -> 1150 | N40: ='ספר תקציב'!N404 -> 0 | O40: ='ספר תקציב'!O404 -> 0 | ... Q40: ='ספר תקציב'!Q404 -> 1150
G41: סה"כ פיקוח | H41: ='ספר תקציב'!H407 -> 30 | I41: ='ספר תקציב'!I407 -> 0 | J41: ='ספר תקציב'!J407 -> 0 | K41: ='ספר תקציב'!K407 -> 0 | L41: ='ספר תקציב'!L407 -> 30 | M41: ='ספר תקציב'!M407 -> 0 | N41: ='ספר תקציב'!N407 -> 0 | O41: ='ספר תקציב'!O407 -> 0 | ... Q41: ='ספר תקציב'!Q407 -> 0
G42: סה"כ פרוייקטים בשיתוף משרדי ממשלה | H42: ='ספר תקציב'!H417 -> 40000 | I42: ='ספר תקציב'!I417 -> 27800 | J42: ='ספר תקציב'!J417 -> 7200 | K42: ='ספר תקציב'!K417 -> 0 | L42: ='ספר תקציב'!L417 -> 5000 | M42: ='ספר תקציב'!M417 -> 4000 | N42: ='ספר תקציב'!N417 -> 2800 | O42: ='ספר תקציב'!O417 -> 0 | ... Q42: ='ספר תקציב'!Q417 -> 1200
G43: סה"כ רשות חניה | H43: ='ספר תקציב'!H427 -> 610 | I43: ='ספר תקציב'!I427 -> 0 | J43: ='ספר תקציב'!J427 -> 0 | K43: ='ספר תקציב'!K427 -> 0 | L43: ='ספר תקציב'!L427 -> 610 | M43: ='ספר תקציב'!M427 -> 2900 | N43: ='ספר תקציב'!N427 -> 0 | O43: ='ספר תקציב'!O427 -> 0 | ... Q43: ='ספר תקציב'!Q427 -> 2900
G44: סה"כ מינהל תפעול | H44: =SUM(H31:H43) -> 156258 | I44: =SUM(I31:I43) -> 31370 | J44: =SUM(J31:J43) -> 17500 | K44: =SUM(K31:K43) -> 26680 | L44: =SUM(L31:L43) -> 80708 | M44: =SUM(M31:M43) -> 136170 | N44: =SUM(N31:N43) -> 2800 | O44: =SUM(O31:O43) -> 21450 | ... Q44: =SUM(Q31:Q43) -> 53445
F45: 5 | G45: חברות ועמותות
...

Sheet ספר תקציב
F6: העבודה | H6: תקציב פיתוח 2021 באלפי ₪ | M6: תקציב פיתוח רב שנתי באלפי ₪
F7: מס' | G7: נושא
F8: מס' | G8: נושא | H8: תקציב פיתוח 2021 | I8: ממשלה ומוסדות | J8: היטל השבחה | K8: בעלים | L8: הלוואות | M8: רב שנתי | N8: ממשלה ומוסדות | O8: היטל השבחה | P8: בעלים | Q8: הלוואות
F9: 10100 | G9: הנהלת העירייה
F10: =F9+1 -> 10101 | G10: שיפוצים, רכישות ועבודות בטיחות | H10: 1500 | L10: 1500 | M10: 1000 | Q10: 1000 | R10: =M10-N10-O10-P10-Q10 -> 0
F11: =F10+1 -> 10102 | G11: שיפוץ היכל העירייה - רחבת כניסה | L11: 0 | M11: 1000 | Q11: 1000 | R11: =M11-N11-O11-P11-Q11 -> 0
F12: =F11+1 -> 10103 | G12: שיפוץ היכל העירייה - מעטפת | H12: 0 | L12: 0 | M12: 1500 | Q12: 1500 | R12: =M12-N12-O12-P12-Q12 -> 0
F13: =F12+1 -> 10104 | G13: ארכיון העיר | H13: 500 | L13: 500 | Q13: 0 | R13: =M13-N13-O13-P13-Q13 -> 0
F14: =F13+1 -> 10105 | G14: מינהלת 2030 - פרויקטים | H14: 2000 | L14: 2000 | M14: 2000 | Q14: 2000 | R14: =M14-N14-O14-P14-Q14 -> 0
G15: סה"כ הנהלת העירייה | H15: =SUM(H10:H14) -> 4000 | I15: =SUM(I10:I14) -> 0 | J15: =SUM(J10:J14) -> 0 | K15: =SUM(K10:K14) -> 0 | L15: =SUM(L10:L14) -> 4000 | M15: =SUM(M10:M14) -> 5500 | N15: =SUM(N10:N14) -> 0 | O15: =SUM(O10:O14) -> 0 | P15: 0 | Q15: =SUM(Q10:Q14) -> 5500 | R15: =M15-N15-O15-P15-Q15 -> 0
G16: מינהל הנדסה | R16: =M16-N16-O16-P16-Q16 -> 0
F17: 20100 | G17: משרד מהנדס העיר | R17: =M17-N17-O17-P17-Q17 -> 0
F18: =F17+1 -> 20101 | G18: עבודות מיוחדות | H18: 1000 | L18: 1000 | M18: 0 | Q18: 0 | R18: =M18-N18-O18-P18-Q18 -> 0
F19: =F18+1 -> 20102 | G19: פרויקטים לפיתוח עירוני | H19: 2000 | J19: 2000 | M19: 2000 | O19: 2000 | R19: =M19-N19-O19-P19-Q19 -> 0
F20: =F19+1 -> 20103 | G20: דמי הקמת מבנים ציבוריים (אגרות מים וביוב) | H20: 5000 | K20: 5000
G21: הנגשה ובטיחות | H21: 0 | M21: 0 | R21: =M21-N21-O21-P21-Q21 -> 0
F22: =F20+1 -> 20104 | G22: מבנים מסוכנים - אגף לרישוי הבניה | H22: 2000 | J22: 2000 | M22: 0 | O22: 0 | R22: =M22-N22-O22-P22-Q22 -> 0
F23: =F22+1 -> 20105 | G23: מבנים מסוכנים - אגף הפיקוח על הבניה | H23: 5000 | J23: 5000 | M23: 5000 | O23: 5000
F24: =F23+1 -> 20106 | G24: נגישות מתו"ס (מבנים, תשתיות וסביבה) - כולל מבני חינוך | H24: 28000 | J24: 14000 | K24: 14000 | M24: 0 | O24: 0 | P24: 0 | R24: =M24-N24-O24-P24-Q24 -> 0
F25: =F24+1 -> 20107 | G25: טיפול בגשרים ומבני דרך | H25: 10000 | J25: 10000 | M25: 0 | O25: 0 | R25: =M25-N25-O25-P25-Q25 -> 0
F26: =F25+1 -> 20108 | G26: ייעוץ פרויקטים | H26: 500 | L26: 500 | M26: 0 | Q26: 0 | R26: =M26-N26-O26-P26-Q26 -> 0
G27: פרויקטים עירונים וכללי | H27: 0 | M27: 0 | R27: =M27-N27-O27-P27-Q27 -> 0
F28: =F26+1 -> 20109 | G28: שיפוץ שוק תלפיות | H28: 15000 | J28: 7500 | K28: 7500 | M28: 16000 | N28: 16000 | R28: =M28-N28-O28-P28-Q28 -> 0
F29: =F28+1 -> 20110 | G29: שיפוץ בסטות ומרקיזות במתחם שוק תלפיות | H29: 2000 | K29: 2000 | M29: 0 | P29: 0 | R29: =M29-N29-O29-P29-Q29 -> 0
F30: =F29+1 -> 20111 | G30: קירוי מתחם סירקין | H30: 3000 | K30: 3000 | M30: 0
F31: =F30+1 -> 20112 | G31: מערת אליהו הנביא | H31: 3000 | L31: 3000 | M31: 0 | R31: =M31-N31-O31-P31-Q31 -> 0
F32: =F31+1 -> 20113 | G32: מתחמי אומנים | H32: 1000 | K32: 1000 | M32: 0 | R32: =M32-N32-O32-P32-Q32 -> 0
F33: =F32+1 -> 20114 | G33: בית העמותות | H33: 2000 | K33: 2000 | M33: 0 | R33: =M33-N33-O33-P33-Q33 -> 0
F34: =F33+1 -> 20115 | G34: מרכז מוסיקה ביפה נוף | H34: 1500 | L34: 1500 | M34: 0 | Q34: 0
F35: =F34+1 -> 20116 | G35: קיש קפה | H35: 2000 | L35: 2000 | M35: 0 | Q35: 0
G36: סה"כ משרד מהנדס העיר | H36: =SUM(H18:H35) -> 83000 | I36: =SUM(I18:I35) -> 0 | J36: =SUM(J18:J35) -> 40500 | K36: =SUM(K18:K35) -> 34500 | L36: =SUM(L18:L35) -> 8000 | M36: =SUM(M18:M35) -> 23000 | N36: =SUM(N18:N35) -> 16000 | O36: =SUM(O18:O35) -> 7000 | ... Q36: =SUM(Q18:Q35) -> 0 | R36: =M36-N36-O36-P36-Q36 -> 0
F37: 20200 | G37: תכנון עיר | R37: =M37-N37-O37-P37-Q37 -> 0
F38: =F37+1 -> 20201 | G38: מגורים, מלונאות והתחדשות עירונית | H38: 8250 | I38: 2500 | J38: 5750 | M38: 0 | O38: 0 | R38: =M38-N38-O38-P38-Q38 -> 0
F39: =F38+1 -> 20202 | G39: תוכניות שונות, שיתוף ציבור, נכסים עירונים ושימור | H39: 6500 | J39: 6500 | M39: 0 | O39: 0 | R39: =M39-N39-O39-P39-Q39 -> 0
F40: =F39+1 -> 20203 | G40: תעסוקה, תשתיות ודרכים | H40: 1200 | J40: 1200 | M40: 0 | O40: 0 | R40: =M40-N40-O40-P40-Q40 -> 0
F41: =F40+1 -> 20204 | G41: תוכנית מתאר חיפה | H41: 2000 | J41: 2000 | M41: 0 | O41: 0 | R41: =M41-N41-O41-P41-Q41 -> 0
F42: =F41+1 -> 20205 | G42: שיפוץ חזיתות ומבנים במקומות שונים | H42: 5000 | L42: 5000 | M42: 0 | Q42: 0 | R42: =M42-N42-O42-P42-Q42 -> 0
G43: סה"כ תכנון עיר | H43: =SUM(H38:H42) -> 22950 | I43: =SUM(I38:I42) -> 2500 | J43: =SUM(J38:J42) -> 15450 | K43: =SUM(K38:K42) -> 0 | L43: =SUM(L38:L42) -> 5000 | M43: =SUM(M38:M42) -> 0 | N43: =SUM(N38:N42) -> 0 | O43: =SUM(O38:O42) -> 0 | ... Q43: =SUM(Q38:Q42) -> 0 | R43: =M43-N43-O43-P43-Q43 -> 0
F44: 20300 | G44: תכנון דרכים ותנועה | R44: =M44-N44-O44-P44-Q44 -> 0
G45: כללי | R45: =M45-N45-O45-P45-Q45 -> 0
...
