Workbook

Sheet ריכוז מנהלים
G6: העבודה | H6: תקציב פיתוח 2021 באלפי ₪ | M6: תקציב פיתוח רב שנתי באלפי ₪
F7: מס' | G7: נושא
F8: מס' | G8: נושא | H8: תקציב פיתוח 2021 | I8: ממשלה ומוסדות | J8: היטל השבחה | K8: בעלים | L8: הלוואות | M8: רב שנתי | N8: ממשלה ומוסדות | O8: היטל השבחה | P8: בעלים | Q8: הלוואות
F9: 1 | G9: סה"כ הנהלת העירייה | H9: ='ריכוז מחלקות'!H10 -> 4000 | I9: ='ריכוז מחלקות'!I10 -> 0 | J9: ='ריכוז מחלקות'!J10 -> 0 | K9: ='ריכוז מחלקות'!K10 -> 0 | L9: ='ריכוז מחלקות'!L10 -> 4000 | M9: ='ריכוז מחלקות'!M10 -> 5500 | N9: ='ריכוז מחלקות'!N10 -> 0 | O9: ='ריכוז מחלקות'!O10 -> 0 | ... Q9: ='ריכוז מחלקות'!Q10 -> 5500
F10: 2 | G10: סה"כ מינהל הנדסה | H10: ='ריכוז מחלקות'!H17 -> 178450 | I10: ='ריכוז מחלקות'!I17 -> 19280 | J10: ='ריכוז מחלקות'!J17 -> 64650 | K10: ='ריכוז מחלקות'!K17 -> 66100 | L10: ='ריכוז מחלקות'!L17 -> 28420 | M10: ='ריכוז מחלקות'!M17 -> 89250 | N10: ='ריכוז מחלקות'!N17 -> 27000 | O10: ='ריכוז מחלקות'!O17 -> 22900 | ... Q10: ='ריכוז מחלקות'!Q17 -> 700
F11: 3 | G11: סה"כ מערכות חינוך, תרבות ורווחה | H11: ='ריכוז מחלקות'!H29 -> 49550 | I11: ='ריכוז מחלקות'!I29 -> 16275 | J11: ='ריכוז מחלקות'!J29 -> 0 | K11: ='ריכוז מחלקות'!K29 -> 0 | L11: ='ריכוז מחלקות'!L29 -> 33275 | M11: ='ריכוז מחלקות'!M29 -> 39600 | N11: ='ריכוז מחלקות'!N29 -> 927 | O11: ='ריכוז מחלקות'!O29 -> 0 | ... Q11: ='ריכוז מחלקות'!Q29 -> 38673
F12: 4 | G12: סה"כ מינהל תפעול | H12: ='ריכוז מחלקות'!H44 -> 156258 | I12: ='ריכוז מחלקות'!I44 -> 31370 | J12: ='ריכוז מחלקות'!J44 -> 17500 | K12: ='ריכוז מחלקות'!K44 -> 26680 | L12: ='ריכוז מחלקות'!L44 -> 80708 | M12: ='ריכוז מחלקות'!M44 -> 136170 | N12: ='ריכוז מחלקות'!N44 -> 2800 | O12: ='ריכוז מחלקות'!O44 -> 21450 | ... Q12: ='ריכוז מחלקות'!Q44 -> 53445
F13: 5 | G13: סה"כ חברות ועמותות | H13: ='ריכוז מחלקות'!H49 -> 16950 | I13: ='ריכוז מחלקות'!I49 -> 0 | J13: ='ריכוז מחלקות'!J49 -> 0 | K13: ='ריכוז מחלקות'!K49 -> 0 | L13: ='ריכוז מחלקות'!L49 -> 16950 | M13: ='ריכוז מחלקות'!M49 -> 14000 | N13: ='ריכוז מחלקות'!N49 -> 0 | O13: ='ריכוז מחלקות'!O49 -> 0 | ... Q13: ='ריכוז מחלקות'!Q49 -> 14000
F14: 6 | G14: סה"כ תיירותיים | H14: ='ריכוז מחלקות'!H51 -> 8900 | I14: ='ריכוז מחלקות'!I51 -> 0 | J14: ='ריכוז מחלקות'!J51 -> 0 | K14: ='ריכוז מחלקות'!K51 -> 0 | L14: ='ריכוז מחלקות'!L51 -> 8900 | M14: ='ריכוז מחלקות'!M51 -> 0 | N14: ='ריכוז מחלקות'!N51 -> 0 | O14: ='ריכוז מחלקות'!O51 -> 0 | ... Q14: ='ריכוז מחלקות'!Q51 -> 0
F15: 7 | G15: סה"כ אחרים | H15: ='ריכוז מחלקות'!H53 -> 6500 | I15: ='ריכוז מחלקות'!I53 -> 1500 | J15: ='ריכוז מחלקות'!J53 -> 200 | K15: ='ריכוז מחלקות'!K53 -> 0 | L15: ='ריכוז מחלקות'!L53 -> 4800 | M15: ='ריכוז מחלקות'!M53 -> 600 | N15: ='ריכוז מחלקות'!N53 -> 0 | O15: ='ריכוז מחלקות'!O53 -> 0 | ... Q15: ='ריכוז מחלקות'!Q53 -> 600
F16: 8 | G16: סה"כ תחבורה ובינוי | H16: ='ריכוז מחלקות'!H58 -> 529850 | I16: ='ריכוז מחלקות'!I58 -> 518150 | J16: ='ריכוז מחלקות'!J58 -> 8700 | K16: ='ריכוז מחלקות'!K58 -> 0 | L16: ='ריכוז מחלקות'!L58 -> 3000 | M16: ='ריכוז מחלקות'!M58 -> 66700 | N16: ='ריכוז מחלקות'!N58 -> 30650 | O16: ='ריכוז מחלקות'!O58 -> 0 | ... Q16: ='ריכוז מחלקות'!Q58 -> 36050
F17: 9 | G17: סה"כ מינהל כספים | H17: ='ריכוז מחלקות'!H60 -> 27800 | I17: ='ריכוז מחלקות'!I60 -> 0 | J17: ='ריכוז מחלקות'!J60 -> 300 | K17: ='ריכוז מחלקות'!K60 -> 22000 | L17: ='ריכוז מחלקות'!L60 -> 5500 | M17: ='ריכוז מחלקות'!M60 -> 3700 | N17: ='ריכוז מחלקות'!N60 -> 0 | O17: ='ריכוז מחלקות'!O60 -> 200 | ... Q17: ='ריכוז מחלקות'!Q60 -> 3500
G18: סה"כ תקציב פיתוח | H18: =SUM(H9:H17) -> 978258 | I18: =SUM(I9:I17) -> 586575 | J18: =SUM(J9:J17) -> 91350 | K18: =SUM(K9:K17) -> 114780 | L18: =SUM(L9:L17) -> 185553 | M18: =SUM(M9:M17) -> 355520 | N18: =SUM(N9:N17) -> 61377 | O18: =SUM(O9:O17) -> 44550 | ... Q18: =SUM(Q9:Q17) -> 152468
C354: 0

Sheet ריכוז מחלקות
F6: העבודה | H6: תקציב פיתוח 2021 באלפי ₪ | M6: תקציב פיתוח רב שנתי באלפי ₪
F7: מס' | G7: נושא
F8: מס' | G8: נושא | H8: תקציב פיתוח 2021 | I8: ממשלה ומוסדות | J8: היטל השבחה | K8: בעלים | L8: הלוואות | M8: רב שנתי | N8: ממשלה ומוסדות | O8: היטל השבחה | P8: בעלים | Q8: הלוואות
F9: 1 | G9: הנהלת העירייה
G10: סה"כ הנהלת העירייה | H10: ='ספר תקציב'!H15 -> 4000 | I10: ='ספר תקציב'!I15 -> 0 | J10: ='ספר תקציב'!J15 -> 0 | K10: ='ספר תקציב'!K15 -> 0 | L10: ='ספר תקציב'!L15 -> 4000 | M10: ='ספר תקציב'!M15 -> 5500 | N10: ='ספר תקציב'!N15 -> 0 | O10: ='ספר תקציב'!O15 -> 0 | ... Q10: ='ספר תקציב'!Q15 -> 5500
F11: 2 | G11: מינהל הנדסה
G12: סה"כ משרד מהנדס העיר | H12: ='ספר תקציב'!H36 -> 83000 | I12: ='ספר תקציב'!I36 -> 0 | J12: ='ספר תקציב'!J36 -> 40500 | K12: ='ספר תקציב'!K36 -> 34500 | L12: ='ספר תקציב'!L36 -> 8000 | M12: ='ספר תקציב'!M36 -> 23000 | N12: ='ספר תקציב'!N36 -> 16000 | O12: ='ספר תקציב'!O36 -> 7000 | ... Q12: ='ספר תקציב'!Q36 -> 0
G13: סה"כ תכנון עיר | H13: ='ספר תקציב'!H43 -> 22950 | I13: ='ספר תקציב'!I43 -> 2500 | J13: ='ספר תקציב'!J43 -> 15450 | K13: ='ספר תקציב'!K43 -> 0 | L13: ='ספר תקציב'!L43 -> 5000 | M13: ='ספר תקציב'!M43 -> 0 | N13: ='ספר תקציב'!N43 -> 0 | O13: ='ספר תקציב'!O43 -> 0 | ... Q13: ='ספר תקציב'!Q43 -> 0
G14: סה"כ תכנון דרכים ותנועה | H14: ='ספר תקציב'!H80 -> 41750 | I14: ='ספר תקציב'!I80 -> 1480 | J14: ='ספר תקציב'!J80 -> 4200 | K14: ='ספר תקציב'!K80 -> 28400 | L14: ='ספר תקציב'!L80 -> 7670 | M14: ='ספר תקציב'!M80 -> 51450 | N14: ='ספר תקציב'!N80 -> 4000 | O14: ='ספר תקציב'!O80 -> 12900 | ... Q14: ='ספר תקציב'!Q80 -> 700
G15: סה"כ תכנון נוף | H15: ='ספר תקציב'!H90 -> 3200 | I15: ='ספר תקציב'!I90 -> 0 | J15: ='ספר תקציב'!J90 -> 0 | K15: ='ספר תקציב'!K90 -> 3200 | L15: ='ספר תקציב'!L90 -> 0 | M15: ='ספר תקציב'!M90 -> 7800 | N15: ='ספר תקציב'!N90 -> 0 | O15: ='ספר תקציב'!O90 -> 3000 | ... Q15: ='ספר תקציב'!Q90 -> 0
G16: סה"כ נכסים | H16: ='ספר תקציב'!H100 -> 27550 | I16: ='ספר תקציב'!I100 -> 15300 | J16: ='ספר תקציב'!J100 -> 4500 | K16: ='ספר תקציב'!K100 -> 0 | L16: ='ספר תקציב'!L100 -> 7750 | M16: ='ספר תקציב'!M100 -> 7000 | N16: ='ספר תקציב'!N100 -> 7000 | O16: ='ספר תקציב'!O100 -> 0 | ... Q16: ='ספר תקציב'!Q100 -> 0
G17: סה"כ מינהל הנדסה | H17: =SUM(H12:H16) -> 178450 | I17: =SUM(I12:I16) -> 19280 | J17: =SUM(J12:J16) -> 64650 | K17: =SUM(K12:K16) -> 66100 | L17: =SUM(L12:L16) -> 28420 | M17: =SUM(M12:M16) -> 89250 | N17: =SUM(N12:N16) -> 27000 | O17: =SUM(O12:O16) -> 22900 | ... Q17: =SUM(Q12:Q16) -> 700
F18: 3 | G18: חת"ר
G19: סה"כ עבודות בטיחות וביטחון | H19: ='ספר תקציב'!H110 -> 6650 | I19: ='ספר תקציב'!I110 -> 0 | J19: ='ספר תקציב'!J110 -> 0 | K19: ='ספר תקציב'!K110 -> 0 | L19: ='ספר תקציב'!L110 -> 6650 | M19: ='ספר תקציב'!M110 -> 4000 | N19: ='ספר תקציב'!N110 -> 0 | O19: ='ספר תקציב'!O110 -> 0 | ... Q19: ='ספר תקציב'!Q110 -> 4000
G20: סה"כ עבודות מיוחדות | H20: ='ספר תקציב'!H123 -> 3600 | I20: ='ספר תקציב'!I123 -> 0 | J20: ='ספר תקציב'!J123 -> 0 | K20: ='ספר תקציב'!K123 -> 0 | L20: ='ספר תקציב'!L123 -> 3600 | M20: ='ספר תקציב'!M123 -> 2100 | N20: ='ספר תקציב'!N123 -> 0 | O20: ='ספר תקציב'!O123 -> 0 | ... Q20: ='ספר תקציב'!Q123 -> 2100
G21: סה"כ שיפוצים ובטיחות מבני חינוך | H21: ='ספר תקציב'!H135 -> 8500 | I21: ='ספר תקציב'!I135 -> 600 | J21: ='ספר תקציב'!J135 -> 0 | K21: ='ספר תקציב'!K135 -> 0 | L21: ='ספר תקציב'!L135 -> 7900 | M21: ='ספר תקציב'!M135 -> 4600 | N21: ='ספר תקציב'!N135 -> 900 | O21: ='ספר תקציב'!O135 -> 0 | ... Q21: ='ספר תקציב'!Q135 -> 3700
G22: סה"כ ריהוט וציוד | H22: ='ספר תקציב'!H142 -> 2000 | I22: ='ספר תקציב'!I142 -> 0 | J22: ='ספר תקציב'!J142 -> 0 | K22: ='ספר תקציב'!K142 -> 0 | L22: ='ספר תקציב'!L142 -> 2000 | M22: ='ספר תקציב'!M142 -> 600 | N22: ='ספר תקציב'!N142 -> 0 | O22: ='ספר תקציב'!O142 -> 0 | ... Q22: ='ספר תקציב'!Q142 -> 600
G23: סה"כ פרוייקטים בשיתוף ביטוח לאומי | H23: ='ספר תקציב'!H145 -> 500 | I23: ='ספר תקציב'!I145 -> 400 | J23: ='ספר תקציב'!J145 -> 0 | K23: ='ספר תקציב'!K145 -> 0 | L23: ='ספר תקציב'!L145 -> 100 | M23: ='ספר תקציב'!M145 -> 0 | N23: ='ספר תקציב'!N145 -> 0 | O23: ='ספר תקציב'!O145 -> 0 | ... Q23: ='ספר תקציב'!Q145 -> 0
G24: סה"כ מדע וטכנולוגיה | H24: ='ספר תקציב'!H150 -> 2050 | I24: ='ספר תקציב'!I150 -> 1625 | J24: ='ספר תקציב'!J150 -> 0 | K24: ='ספר תקציב'!K150 -> 0 | L24: ='ספר תקציב'!L150 -> 425 | M24: ='ספר תקציב'!M150 -> 0 | N24: ='ספר תקציב'!N150 -> 0 | O24: ='ספר תקציב'!O150 -> 0 | ... Q24: ='ספר תקציב'!Q150 -> 0
G25: סה"כ מיחשוב מוסדות חינוך | H25: ='ספר תקציב'!H156 -> 1000 | I25: ='ספר תקציב'!I156 -> 500 | J25: ='ספר תקציב'!J156 -> 0 | K25: ='ספר תקציב'!K156 -> 0 | L25: ='ספר תקציב'!L156 -> 500 | M25: ='ספר תקציב'!M156 -> 850 | N25: ='ספר תקציב'!N156 -> 27 | O25: ='ספר תקציב'!O156 -> 0 | ... Q25: ='ספר תקציב'!Q156 -> 823
G26: סה"כ רשות הספורט | H26: ='ספר תקציב'!H175 -> 11000 | I26: ='ספר תקציב'!I175 -> 7650 | J26: ='ספר תקציב'!J175 -> 0 | K26: ='ספר תקציב'!K175 -> 0 | L26: ='ספר תקציב'!L175 -> 3350 | M26: ='ספר תקציב'!M175 -> 3050 | N26: ='ספר תקציב'!N175 -> 0 | O26: ='ספר תקציב'!O175 -> 0 | ... Q26: ='ספר תקציב'!Q175 -> 3050
G27: סה"כ מערכת תרבות | H27: ='ספר תקציב'!H190 -> 13650 | I27: ='ספר תקציב'!I190 -> 5500 | J27: ='ספר תקציב'!J190 -> 0 | K27: ='ספר תקציב'!K190 -> 0 | L27: ='ספר תקציב'!L190 -> 8150 | M27: ='ספר תקציב'!M190 -> 20300 | N27: ='ספר תקציב'!N190 -> 0 | O27: ='ספר תקציב'!O190 -> 0 | ... Q27: ='ספר תקציב'!Q190 -> 20300
G28: סה"כ מערכת רווחה | H28: ='ספר תקציב'!H194 -> 600 | I28: ='ספר תקציב'!I194 -> 0 | J28: ='ספר תקציב'!J194 -> 0 | K28: ='ספר תקציב'!K194 -> 0 | L28: ='ספר תקציב'!L194 -> 600 | M28: ='ספר תקציב'!M194 -> 4100 | N28: ='ספר תקציב'!N194 -> 0 | O28: ='ספר תקציב'!O194 -> 0 | ... Q28: ='ספר תקציב'!Q194 -> 4100
G29: סה"כ מערכות חינוך, תרבות ורווחה | H29: =SUM(H19:H28) -> 49550 | I29: =SUM(I19:I28) -> 16275 | J29: =SUM(J19:J28) -> 0 | K29: =SUM(K19:K28) -> 0 | L29: =SUM(L19:L28) -> 33275 | M29: =SUM(M19:M28) -> 39600 | N29: =SUM(N19:N28) -> 927 | O29: =SUM(O19:O28) -> 0 | P29: =SUM(P19:P28) -> 0 | Q29: 38673
F30: 4 | G30: מינהל תפעול
G31: סה"כ מינהלי תפעול | H31: ='ספר תקציב'!H204 -> 30 | I31: ='ספר תקציב'!I204 -> 0 | J31: ='ספר תקציב'!J204 -> 0 | K31: ='ספר תקציב'!K204 -> 30 | L31: ='ספר תקציב'!L204 -> 0 | M31: ='ספר תקציב'!M204 -> 3620 | N31: ='ספר תקציב'!N204 -> 0 | O31: ='ספר תקציב'!O204 -> 200 | ... Q31: ='ספר תקציב'!Q204 -> 3420
G32: סה"כ אגף תברואה | H32: ='ספר תקציב'!H241 -> 44900 | I32: ='ספר תקציב'!I241 -> 1020 | J32: ='ספר תקציב'!J241 -> 0 | K32: ='ספר תקציב'!K241 -> 0 | L32: ='ספר תקציב'!L241 -> 43880 | M32: ='ספר תקציב'!M241 -> 7600 | N32: ='ספר תקציב'!N241 -> 0 | O32: ='ספר תקציב'!O241 -> 0 | ... Q32: ='ספר תקציב'!Q241 -> 7600
G33: סה"כ שירות וטרינרי | H33: ='ספר תקציב'!H254 -> 1930 | I33: ='ספר תקציב'!I254 -> 400 | J33: ='ספר תקציב'!J254 -> 0 | K33: ='ספר תקציב'!K254 -> 0 | L33: ='ספר תקציב'!L254 -> 1530 | M33: ='ספר תקציב'!M254 -> 250 | N33: ='ספר תקציב'!N254 -> 0 | O33: ='ספר תקציב'!O254 -> 0 | ... Q33: ='ספר תקציב'!Q254 -> 250
G34: סה"כ שיפור פני העיר | H34: ='ספר תקציב'!H297 -> 32190 | I34: ='ספר תקציב'!I297 -> 0 | J34: ='ספר תקציב'!J297 -> 9900 | K34: ='ספר תקציב'!K297 -> 14850 | L34: ='ספר תקציב'!L297 -> 7440 | M34: ='ספר תקציב'!M297 -> 86080 | N34: ='ספר תקציב'!N297 -> 0 | O34: ='ספר תקציב'!O297 -> 21250 | ... Q34: ='ספר תקציב'!Q297 -> 8830
G35: סה"כ מחלקת רמזורים | H35: ='ספר תקציב'!H309 -> 5745 | I35: ='ספר תקציב'!I309 -> 0 | J35: ='ספר תקציב'!J309 -> 0 | K35: ='ספר תקציב'!K309 -> 0 | L35: ='ספר תקציב'!L309 -> 5745 | M35: ='ספר תקציב'!M309 -> 500 | N35: ='ספר תקציב'!N309 -> 0 | O35: ='ספר תקציב'!O309 -> 0 | ... Q35: ='ספר תקציב'!Q309 -> 500
G36: סה"כ מחלקת גנים | H36: ='ספר תקציב'!H350 -> 18170 | I36: ='ספר תקציב'!I350 -> 800 | J36: ='ספר תקציב'!J350 -> 400 | K36: ='ספר תקציב'!K350 -> 7600 | L36: ='ספר תקציב'!L350 -> 9370 | M36: ='ספר תקציב'!M350 -> 8500 | N36: ='ספר תקציב'!N350 -> 0 | O36: ='ספר תקציב'!O350 -> 0 | ... Q36: ='ספר תקציב'!Q350 -> 6725
G37: סה"כ ניקוז | H37: ='ספר תקציב'!H367 -> 4550 | I37: ='ספר תקציב'!I367 -> 0 | J37: ='ספר תקציב'!J367 -> 0 | K37: ='ספר תקציב'!K367 -> 4200 | L37: ='ספר תקציב'!L367 -> 350 | M37: ='ספר תקציב'!M367 -> 3450 | N37: ='ספר תקציב'!N367 -> 0 | O37: ='ספר תקציב'!O367 -> 0 | ... Q37: ='ספר תקציב'!Q367 -> 2750
G38: סה"כ בית מרחץ עירוני | H38: ='ספר תקציב'!H371 -> 3 | I38: ='ספר תקציב'!I371 -> 0 | J38: ='ספר תקציב'!J371 -> 0 | K38: ='ספר תקציב'!K371 -> 0 | L38: ='ספר תקציב'!L371 -> 3 | M38: ='ספר תקציב'!M371 -> 1500 | N38: ='ספר תקציב'!N371 -> 0 | O38: ='ספר תקציב'!O371 -> 0 | ... Q38: ='ספר תקציב'!Q371 -> 1500
G39: סה"כ חופים עירוניים | H39: ='ספר תקציב'!H393 -> 5350 | I39: ='ספר תקציב'!I393 -> 1200 | J39: ='ספר תקציב'!J393 -> 0 | K39: ='ספר תקציב'!K393 -> 0 | L39: ='ספר תקציב'!L393 -> 4150 | M39: ='ספר תקציב'!M393 -> 16620 | N39: ='ספר תקציב'!N393 -> 0 | O39: ='ספר תקציב'!O393 -> 0 | ... Q39: ='ספר תקציב'!Q393 -> 16620
G40: סה"כ ביטחון | H40: ='ספר תקציב'!H404 -> 2750 | I40: ='ספר תקציב'!I404 -> 150 | J40: ='ספר תקציב'!J404 -> 0 | K40: ='ספר תקציב'!K404 -> 0 | L40: ='ספר תקציב'!L404 -> 2600 | M40: ='ספר תקציב'!M404 -> 1150 | N40: ='ספר תקציב'!N404 -> 0 | O40: ='ספר תקציב'!O404 -> 0 | ... Q40: ='ספר תקציב'!Q404 -> 1150
G41: סה"כ פיקוח | H41: ='ספר תקציב'!H407 -> 30 | I41: ='ספר תקציב'!I407 -> 0 | J41: ='ספר תקציב'!J407 -> 0 | K41: ='ספר תקציב'!K407 -> 0 | L41: ='ספר תקציב'!L407 -> 30 | M41: ='ספר תקציב'!M407 -> 0 | N41: ='ספר תקציב'!N407 -> 0 | O41: ='ספר תקציב'!O407 -> 0 | ... Q41: ='ספר תקציב'!Q407 -> 0
G42: סה"כ פרוייקטים בשיתוף משרדי ממשלה | H42: ='ספר תקציב'!H417 -> 40000 | I42: ='ספר תקציב'!I417 -> 27800 | J42: ='ספר תקציב'!J417 -> 7200 | K42: ='ספר תקציב'!K417 -> 0 | L42: ='ספר תקציב'!L417 -> 5000 | M42: ='ספר תקציב'!M417 -> 4000 | N42: ='ספר תקציב'!N417 -> 2800 | O42: ='ספר תקציב'!O417 -> 0 | ... Q42: ='ספר תקציב'!Q417 -> 1200
G43: סה"כ רשות חניה | H43: ='ספר תקציב'!H427 -> 610 | I43: ='ספר תקציב'!I427 -> 0 | J43: ='ספר תקציב'!J427 -> 0 | K43: ='ספר תקציב'!K427 -> 0 | L43: ='ספר תקציב'!L427 -> 610 | M43: ='ספר תקציב'!M427 -> 2900 | N43: ='ספר תקציב'!N427 -> 0 | O43: ='ספר תקציב'!O427 -> 0 | ... Q43: ='ספר תקציב'!Q427 -> 2900
G44: סה"כ מינהל תפעול | H44: =SUM(H31:H43) -> 156258 | I44: =SUM(I31:I43) -> 31370 | J44: =SUM(J31:J43) -> 17500 | K44: =SUM(K31:K43) -> 26680 | L44: =SUM(L31:L43) -> 80708 | M44: =SUM(M31:M43) -> 136170 | N44: =SUM(N31:N43) -> 2800 | O44: =SUM(O31:O43) -> 21450 | ... Q44: =SUM(Q31:Q43) -> 53445
F45: 5 | G45: חברות ועמותות
G46: סה"כ מוזיאונים | H46: ='ספר תקציב'!H437 -> 2500 | I46: ='ספר תקציב'!I437 -> 0 | J46: ='ספר תקציב'!J437 -> 0 | K46: ='ספר תקציב'!K437 -> 0 | L46: ='ספר תקציב'!L437 -> 2500 | M46: ='ספר תקציב'!M437 -> 6000 | N46: ='ספר תקציב'!N437 -> 0 | O46: ='ספר תקציב'!O437 -> 0 | ... Q46: ='ספר תקציב'!Q437 -> 6000
G47: סה"כ אתו"ס | H47: ='ספר תקציב'!H447 -> 3850 | I47: ='ספר תקציב'!I447 -> 0 | J47: ='ספר תקציב'!J447 -> 0 | K47: ='ספר תקציב'!K447 -> 0 | L47: ='ספר תקציב'!L447 -> 3850 | M47: ='ספר תקציב'!M447 -> 8000 | N47: ='ספר תקציב'!N447 -> 0 | O47: ='ספר תקציב'!O447 -> 0 | ... Q47: ='ספר תקציב'!Q447 -> 8000
G48: סה"כ חברה כלכלית, עמותות ותרומות | H48: ='ספר תקציב'!H453 -> 10600 | I48: ='ספר תקציב'!I453 -> 0 | J48: ='ספר תקציב'!J453 -> 0 | K48: ='ספר תקציב'!K453 -> 0 | L48: ='ספר תקציב'!L453 -> 10600 | M48: ='ספר תקציב'!M453 -> 0 | N48: ='ספר תקציב'!N453 -> 0 | O48: ='ספר תקציב'!O453 -> 0 | ... Q48: ='ספר תקציב'!Q453 -> 0
G49: סה"כ חברות ועמותות | H49: =SUM(H46:H48) -> 16950 | I49: =SUM(I46:I48) -> 0 | J49: =SUM(J46:J48) -> 0 | K49: =SUM(K46:K48) -> 0 | L49: =SUM(L46:L48) -> 16950 | M49: =SUM(M46:M48) -> 14000 | N49: =SUM(N46:N48) -> 0 | O49: =SUM(O46:O48) -> 0 | ... Q49: =SUM(Q46:Q48) -> 14000
F50: 6 | G50: תיירותיים
G51: סה"כ תיירותיים | H51: ='ספר תקציב'!H460 -> 8900 | I51: ='ספר תקציב'!I460 -> 0 | J51: ='ספר תקציב'!J460 -> 0 | K51: ='ספר תקציב'!K460 -> 0 | L51: ='ספר תקציב'!L460 -> 8900 | M51: ='ספר תקציב'!M460 -> 0 | N51: ='ספר תקציב'!N460 -> 0 | O51: ='ספר תקציב'!O460 -> 0 | ... Q51: ='ספר תקציב'!Q460 -> 0
F52: 7 | G52: אחרים
G53: סה"כ אחרים | H53: ='ספר תקציב'!H470 -> 6500 | I53: ='ספר תקציב'!I470 -> 1500 | J53: ='ספר תקציב'!J470 -> 200 | K53: ='ספר תקציב'!K470 -> 0 | L53: ='ספר תקציב'!L470 -> 4800 | M53: ='ספר תקציב'!M470 -> 600 | N53: ='ספר תקציב'!N470 -> 0 | O53: ='ספר תקציב'!O470 -> 0 | ... Q53: ='ספר תקציב'!Q470 -> 600
F54: 8 | G54: תחבורה ובינוי
G55: סה"כ כבישים בשיתוף משרד התחבורה | H55: ='ספר תקציב'!H486 -> 401500 | I55: ='ספר תקציב'!I486 -> 392800 | J55: ='ספר תקציב'!J486 -> 8700 | K55: ='ספר תקציב'!K486 -> 0 | L55: ='ספר תקציב'!L486 -> 0 | M55: ='ספר תקציב'!M486 -> 0 | N55: ='ספר תקציב'!N486 -> 0 | O55: ='ספר תקציב'!O486 -> 0 | ... Q55: ='ספר תקציב'!Q486 -> 0
G56: סה"כ מבני תרבות וחינוך במימון הפיס | H56: ='ספר תקציב'!H504 -> 96000 | I56: ='ספר תקציב'!I504 -> 95300 | J56: ='ספר תקציב'!J504 -> 0 | K56: ='ספר תקציב'!K504 -> 0 | L56: ='ספר תקציב'!L504 -> 700 | M56: ='ספר תקציב'!M504 -> 3500 | N56: ='ספר תקציב'!N504 -> 3500 | O56: ='ספר תקציב'!O504 -> 0 | ... Q56: ='ספר תקציב'!Q504 -> 0
G57: סה"כ בינוי-משרד החינוך | H57: ='ספר תקציב'!H551 -> 32350 | I57: ='ספר תקציב'!I551 -> 30050 | J57: ='ספר תקציב'!J551 -> 0 | K57: ='ספר תקציב'!K551 -> 0 | L57: ='ספר תקציב'!L551 -> 2300 | M57: ='ספר תקציב'!M551 -> 63200 | N57: ='ספר תקציב'!N551 -> 27150 | O57: ='ספר תקציב'!O551 -> 0 | ... Q57: ='ספר תקציב'!Q551 -> 36050
G58: סה"כ תחבורה ובינוי | H58: =SUM(H55:H57) -> 529850 | I58: =SUM(I55:I57) -> 518150 | J58: =SUM(J55:J57) -> 8700 | K58: =SUM(K55:K57) -> 0 | L58: =SUM(L55:L57) -> 3000 | M58: =SUM(M55:M57) -> 66700 | N58: =SUM(N55:N57) -> 30650 | O58: =SUM(O55:O57) -> 0 | ... Q58: =SUM(Q55:Q57) -> 36050
F59: 9 | G59: מינהל כספים
G60: סה"כ מינהל כספים | H60: ='ספר תקציב'!H562 -> 27800 | I60: ='ספר תקציב'!I562 -> 0 | J60: ='ספר תקציב'!J562 -> 300 | K60: ='ספר תקציב'!K562 -> 22000 | L60: ='ספר תקציב'!L562 -> 5500 | M60: ='ספר תקציב'!M562 -> 3700 | N60: ='ספר תקציב'!N562 -> 0 | O60: ='ספר תקציב'!O562 -> 200 | ... Q60: ='ספר תקציב'!Q562 -> 3500
G61: סה"כ תקציב פיתוח | H61: =H60+H58+H53+H51+H49+H44+H29+H17+H10 -> 978258 | I61: =I60+I58+I53+I51+I49+I44+I29+I17+I10 -> 586575 | J61: =J60+J58+J53+J51+J49+J44+J29+J17+J10 -> 91350 | K61: =K60+K58+K53+K51+K49+K44+K29+K17+K10 -> 114780 | L61: =L60+L58+L53+L51+L49+L44+L29+L17+L10 -> 185553 | M61: =M60+M58+M53+M51+M49+M44+M29+M17+M10 -> 355520 | N61: =N60+N58+N53+N51+N49+N44+N29+N17+N10 -> 61377 | O61: =O60+O58+O53+O51+O49+O44+O29+O17+O10 -> 44550 | ... Q61: =Q60+Q58+Q53+Q51+Q49+Q44+Q29+Q17+Q10 -> 152468
C399: 0

Sheet ספר תקציב
F6: העבודה | H6: תקציב פיתוח 2021 באלפי ₪ | M6: תקציב פיתוח רב שנתי באלפי ₪
F7: מס' | G7: נושא
F8: מס' | G8: נושא | H8: תקציב פיתוח 2021 | I8: ממשלה ומוסדות | J8: היטל השבחה | K8: בעלים | L8: הלוואות | M8: רב שנתי | N8: ממשלה ומוסדות | O8: היטל השבחה | P8: בעלים | Q8: הלוואות
F9: 10100 | G9: הנהלת העירייה
F10: =F9+1 -> 10101 | G10: שיפוצים, רכישות ועבודות בטיחות | H10: 1500 | L10: 1500 | M10: 1000 | Q10: 1000 | R10: =M10-N10-O10-P10-Q10 -> 0
F11: =F10+1 -> 10102 | G11: שיפוץ היכל העירייה - רחבת כניסה | L11: 0 | M11: 1000 | Q11: 1000 | R11: =M11-N11-O11-P11-Q11 -> 0
F12: =F11+1 -> 10103 | G12: שיפוץ היכל העירייה - מעטפת | H12: 0 | L12: 0 | M12: 1500 | Q12: 1500 | R12: =M12-N12-O12-P12-Q12 -> 0
F13: =F12+1 -> 10104 | G13: ארכיון העיר | H13: 500 | L13: 500 | Q13: 0 | R13: =M13-N13-O13-P13-Q13 -> 0
F14: =F13+1 -> 10105 | G14: מינהלת 2030 - פרויקטים | H14: 2000 | L14: 2000 | M14: 2000 | Q14: 2000 | R14: =M14-N14-O14-P14-Q14 -> 0
G15: סה"כ הנהלת העירייה | H15: =SUM(H10:H14) -> 4000 | I15: =SUM(I10:I14) -> 0 | J15: =SUM(J10:J14) -> 0 | K15: =SUM(K10:K14) -> 0 | L15: =SUM(L10:L14) -> 4000 | M15: =SUM(M10:M14) -> 5500 | N15: =SUM(N10:N14) -> 0 | O15: =SUM(O10:O14) -> 0 | P15: 0 | Q15: =SUM(Q10:Q14) -> 5500 | R15: =M15-N15-O15-P15-Q15 -> 0
G16: מינהל הנדסה | R16: =M16-N16-O16-P16-Q16 -> 0
F17: 20100 | G17: משרד מהנדס העיר | R17: =M17-N17-O17-P17-Q17 -> 0
F18: =F17+1 -> 20101 | G18: עבודות מיוחדות | H18: 1000 | L18: 1000 | M18: 0 | Q18: 0 | R18: =M18-N18-O18-P18-Q18 -> 0
F19: =F18+1 -> 20102 | G19: פרויקטים לפיתוח עירוני | H19: 2000 | J19: 2000 | M19: 2000 | O19: 2000 | R19: =M19-N19-O19-P19-Q19 -> 0
F20: =F19+1 -> 20103 | G20: דמי הקמת מבנים ציבוריים (אגרות מים וביוב) | H20: 5000 | K20: 5000
G21: הנגשה ובטיחות | H21: 0 | M21: 0 | R21: =M21-N21-O21-P21-Q21 -> 0
F22: =F20+1 -> 20104 | G22: מבנים מסוכנים - אגף לרישוי הבניה | H22: 2000 | J22: 2000 | M22: 0 | O22: 0 | R22: =M22-N22-O22-P22-Q22 -> 0
F23: =F22+1 -> 20105 | G23: מבנים מסוכנים - אגף הפיקוח על הבניה | H23: 5000 | J23: 5000 | M23: 5000 | O23: 5000
F24: =F23+1 -> 20106 | G24: נגישות מתו"ס (מבנים, תשתיות וסביבה) - כולל מבני חינוך | H24: 28000 | J24: 14000 | K24: 14000 | M24: 0 | O24: 0 | P24: 0 | R24: =M24-N24-O24-P24-Q24 -> 0
F25: =F24+1 -> 20107 | G25: טיפול בגשרים ומבני דרך | H25: 10000 | J25: 10000 | M25: 0 | O25: 0 | R25: =M25-N25-O25-P25-Q25 -> 0
F26: =F25+1 -> 20108 | G26: ייעוץ פרויקטים | H26: 500 | L26: 500 | M26: 0 | Q26: 0 | R26: =M26-N26-O26-P26-Q26 -> 0
G27: פרויקטים עירונים וכללי | H27: 0 | M27: 0 | R27: =M27-N27-O27-P27-Q27 -> 0
F28: =F26+1 -> 20109 | G28: שיפוץ שוק תלפיות | H28: 15000 | J28: 7500 | K28: 7500 | M28: 16000 | N28: 16000 | R28: =M28-N28-O28-P28-Q28 -> 0
F29: =F28+1 -> 20110 | G29: שיפוץ בסטות ומרקיזות במתחם שוק תלפיות | H29: 2000 | K29: 2000 | M29: 0 | P29: 0 | R29: =M29-N29-O29-P29-Q29 -> 0
F30: =F29+1 -> 20111 | G30: קירוי מתחם סירקין | H30: 3000 | K30: 3000 | M30: 0
F31: =F30+1 -> 20112 | G31: מערת אליהו הנביא | H31: 3000 | L31: 3000 | M31: 0 | R31: =M31-N31-O31-P31-Q31 -> 0
F32: =F31+1 -> 20113 | G32: מתחמי אומנים | H32: 1000 | K32: 1000 | M32: 0 | R32: =M32-N32-O32-P32-Q32 -> 0
F33: =F32+1 -> 20114 | G33: בית העמותות | H33: 2000 | K33: 2000 | M33: 0 | R33: =M33-N33-O33-P33-Q33 -> 0
F34: =F33+1 -> 20115 | G34: מרכז מוסיקה ביפה נוף | H34: 1500 | L34: 1500 | M34: 0 | Q34: 0
F35: =F34+1 -> 20116 | G35: קיש קפה | H35: 2000 | L35: 2000 | M35: 0 | Q35: 0
G36: סה"כ משרד מהנדס העיר | H36: =SUM(H18:H35) -> 83000 | I36: =SUM(I18:I35) -> 0 | J36: =SUM(J18:J35) -> 40500 | K36: =SUM(K18:K35) -> 34500 | L36: =SUM(L18:L35) -> 8000 | M36: =SUM(M18:M35) -> 23000 | N36: =SUM(N18:N35) -> 16000 | O36: =SUM(O18:O35) -> 7000 | ... Q36: =SUM(Q18:Q35) -> 0 | R36: =M36-N36-O36-P36-Q36 -> 0
F37: 20200 | G37: תכנון עיר | R37: =M37-N37-O37-P37-Q37 -> 0
F38: =F37+1 -> 20201 | G38: מגורים, מלונאות והתחדשות עירונית | H38: 8250 | I38: 2500 | J38: 5750 | M38: 0 | O38: 0 | R38: =M38-N38-O38-P38-Q38 -> 0
F39: =F38+1 -> 20202 | G39: תוכניות שונות, שיתוף ציבור, נכסים עירונים ושימור | H39: 6500 | J39: 6500 | M39: 0 | O39: 0 | R39: =M39-N39-O39-P39-Q39 -> 0
F40: =F39+1 -> 20203 | G40: תעסוקה, תשתיות ודרכים | H40: 1200 | J40: 1200 | M40: 0 | O40: 0 | R40: =M40-N40-O40-P40-Q40 -> 0
F41: =F40+1 -> 20204 | G41: תוכנית מתאר חיפה | H41: 2000 | J41: 2000 | M41: 0 | O41: 0 | R41: =M41-N41-O41-P41-Q41 -> 0
F42: =F41+1 -> 20205 | G42: שיפוץ חזיתות ומבנים במקומות שונים | H42: 5000 | L42: 5000 | M42: 0 | Q42: 0 | R42: =M42-N42-O42-P42-Q42 -> 0
G43: סה"כ תכנון עיר | H43: =SUM(H38:H42) -> 22950 | I43: =SUM(I38:I42) -> 2500 | J43: =SUM(J38:J42) -> 15450 | K43: =SUM(K38:K42) -> 0 | L43: =SUM(L38:L42) -> 5000 | M43: =SUM(M38:M42) -> 0 | N43: =SUM(N38:N42) -> 0 | O43: =SUM(O38:O42) -> 0 | ... Q43: =SUM(Q38:Q42) -> 0 | R43: =M43-N43-O43-P43-Q43 -> 0
F44: 20300 | G44: תכנון דרכים ותנועה | R44: =M44-N44-O44-P44-Q44 -> 0
G45: כללי | R45: =M45-N45-O45-P45-Q45 -> 0
F46: =F44+1 -> 20301 | G46: השלמה פיתוח בשכונות - היטל דרכים | H46: 6000 | K46: 6000 | M46: 0 | P46: 0 | R46: =M46-N46-O46-P46-Q46 -> 0
F47: =F46+1 -> 20302 | G47: תכנון ומדידה במקומות שונים | H47: 200 | J47: 200 | M47: 400 | O47: 400 | R47: =M47-N47-O47-P47-Q47 -> 0
F48: =F47+1 -> 20303 | G48: מיחשוב תהליכים תיוק, סריקה ותמרור חניות | H48: 0 | J48: 0 | M48: 700 | Q48: 700 | R48: =M48-N48-O48-P48-Q48 -> 0
F49: =F48+1 -> 20304 | G49: פיתוח ליד גנ"י ומבני ציבור | H49: 0 | K49: 0 | M49: 1000 | O49: 1000 | R49: =M49-N49-O49-P49-Q49 -> 0
F50: =F49+1 -> 20305 | G50: אזור תעשיה חפ/1704 ליד הצ'ק פוסט | H50: 2000 | K50: 2000 | M50: 6000 | P50: 6000 | R50: =M50-N50-O50-P50-Q50 -> 0
F51: =F50+1 -> 20306 | G51: אזור תעשיה חפ/1706 תכנון | H51: 1000 | K51: 1000 | M51: 4000 | P51: 4000 | R51: =M51-N51-O51-P51-Q51 -> 0
F52: =F51+1 -> 20307 | G52: אזור תעשיה חפ/1767 תכנון | H52: 400 | K52: 400 | M52: 1600 | P52: 1600 | R52: =M52-N52-O52-P52-Q52 -> 0
F53: =F52+1 -> 20308 | G53: עבודות שונות | H53: 1000 | L53: 1000 | M53: 0 | Q53: 0 | R53: =M53-N53-O53-P53-Q53 -> 0
G54: הסדרת פרויקטים - התחדשות | H54: 0 | M54: 0 | R54: =M54-N54-O54-P54-Q54 -> 0
F55: =F53+1 -> 20309 | G55: רח' מח"ל היטלים | H55: 2000 | I55: 1000 | K55: 1000 | M55: 8000 | N55: 4000 | P55: 4000 | R55: =M55-N55-O55-P55-Q55 -> 0
F56: =F55+1 -> 20310 | G56: פיתוח מתחם חביבה רייך (כולל חניון) | H56: 0 | K56: 0 | M56: 3750 | P56: 3750 | R56: =M56-N56-O56-P56-Q56 -> 0
G57: תוכניות אב | M57: 0 | R57: =M57-N57-O57-P57-Q57 -> 0
F58: =F56+1 -> 20311 | G58: תוכנית אב לתחבורה ציבורית | H58: 1500 | L58: 1500 | M58: 0 | Q58: 0 | R58: =M58-N58-O58-P58-Q58 -> 0
F59: =F58+1 -> 20312 | G59: תוכנית אב לחניה | H59: 50 | L59: 50 | M59: 0 | Q59: 0 | R59: =M59-N59-O59-P59-Q59 -> 0
F60: =F59+1 -> 20313 | G60: תכנון ירידות מרכס הכרמל | H60: 2000 | J60: 0 | L60: 2000 | M60: 0 | O60: 0 | Q60: 0 | R60: =M60-N60-O60-P60-Q60 -> 0
F61: =F60+1 -> 20314 | G61: תכנית אב לחינוך | H61: 1000 | J61: 1000 | M61: 0
F62: =F61+1 -> 20315 | G62: תכנית אב להתמודדות עם שינויי האקלים | H62: 1000 | L62: 1000 | M62: 0
F63: =F62+1 -> 20316 | G63: תכנית אב לקידום אנרגיות מתחדשות וצמצום צריכת האנרגיה | H63: 500 | L63: 500 | M63: 0
F64: =F63+1 -> 20317 | G64: תכנית אב לחופים | H64: 1000 | L64: 1000 | M64: 0
G65: הסדרת תנועה וכבישים | H65: 0 | M65: 0 | R65: =M65-N65-O65-P65-Q65 -> 0
F66: =F64+1 -> 20318 | G66: הסדרת חניה ברחובות | H66: 500 | L66: 500 | M66: 0 | Q66: 0 | R66: =M66-N66-O66-P66-Q66 -> 0
F67: =F66+1 -> 20319 | G67: פארקלטים | H67: 1500 | J67: 1500 | M67: 1000 | O67: 1000
F68: =F67+1 -> 20320 | G68: הסדרת צמתים ושינויים גאומטריים | H68: 1000 | J68: 1000 | M68: 4000 | O68: 4000 | R68: =M68-N68-O68-P68-Q68 -> 0
F69: =F68+1 -> 20321 | G69: ביצוע חניון ליד אינטל כחול לבן סלילה, תאורה עצים וחשמל | H69: 3000 | K69: 3000 | M69: 0 | P69: 0 | R69: =M69-N69-O69-P69-Q69 -> 0
F70: =F69+1 -> 20322 | G70: רמת זמר - סלילה | H70: 3000 | K70: 3000 | M70: 0 | P70: 0 | R70: =M70-N70-O70-P70-Q70 -> 0
F71: =F70+1 -> 20323 | G71: מבואות דרומיים שלב ב' | H71: 10000 | K71: 10000 | M71: 10000 | P71: 10000 | R71: =M71-N71-O71-P71-Q71 -> 0
F72: =F71+1 -> 20324 | G72: מורדות לינקולן | H72: 2000 | K72: 2000 | M72: 0
F73: =F72+1 -> 20325 | G73: רמת אלמוגי (אנטנות) | H73: 0 | K73: 0 | M73: 3000 | P73: 3000 | R73: =M73-N73-O73-P73-Q73 -> 0
G74: תשתיות דרגנועים, הולכי רגל, אופניים ותחבורה ציבורית | H74: 0 | M74: 0 | R74: =M74-N74-O74-P74-Q74 -> 0
F75: =F73+1 -> 20326 | G75: דרגנועים ברחבי העיר | H75: 0 | J75: 0 | M75: 6500 | O75: 6500 | R75: =M75-N75-O75-P75-Q75 -> 0
F76: =F75+1 -> 20327 | G76: רח' יורדי הים - תכנון והעתקת 4 עמודי חשמל כולל פינויים | H76: 0 | K76: 0 | M76: 1500 | P76: 1500 | R76: =M76-N76-O76-P76-Q76 -> 0
G77: בטיחות | H77: 0 | M77: 0 | R77: =M77-N77-O77-P77-Q77 -> 0
F78: =F76+1 -> 20328 | G78: שיפורי בטיחות | H78: 500 | J78: 500 | M78: 0 | O78: 0 | R78: =M78-N78-O78-P78-Q78 -> 0
F79: =F78+1 -> 20329 | G79: בטיחות בדרכים בתחום הגורם האנושי | H79: 600 | I79: 480 | L79: 120 | M79: 0 | N79: 0 | Q79: 0 | R79: =M79-N79-O79-P79-Q79 -> 0
G80: סה"כ תכנון דרכים ותנועה | H80: =SUM(H46:H79) -> 41750 | I80: =SUM(I46:I79) -> 1480 | J80: =SUM(J46:J79) -> 4200 | K80: =SUM(K46:K79) -> 28400 | L80: =SUM(L46:L79) -> 7670 | M80: =SUM(M46:M79) -> 51450 | N80: =SUM(N46:N79) -> 4000 | O80: =SUM(O46:O79) -> 12900 | ... Q80: =SUM(Q46:Q79) -> 700 | R80: =M80-N80-O80-P80-Q80 -> 0
F81: 20400 | G81: תכנון נוף | R81: =M81-N81-O81-P81-Q81 -> 0
F82: =F81+1 -> 20401 | G82: מדידה ותכנון גנים | H82: 200 | K82: 200 | M82: 300 | P82: 300 | R82: =M82-N82-O82-P82-Q82 -> 0
G83: טיילות ושבילי אופניים | H83: 0 | M83: 0 | R83: =M83-N83-O83-P83-Q83 -> 0
F84: =F82+1 -> 20402 | G84: השלמת שביל אופניים בה"ד עד שדרות בת גלים - קטע בין טילת הבה"ד עד בת גלים | H84: 0 | J84: 0 | M84: 1500 | O84: 1500 | R84: =M84-N84-O84-P84-Q84 -> 0
F85: =F84+1 -> 20403 | G85: תכנון וביצוע התאמות לשביל אופנים בטיילת בת גלים | H85: 0 | J85: 0 | M85: 1000 | O85: 1000 | R85: =M85-N85-O85-P85-Q85 -> 0
F86: =F85+1 -> 20404 | G86: תכנון ראשוני טיילת קרית חיים חוף כאן | H86: 0 | J86: 0 | M86: 500 | O86: 500 | R86: =M86-N86-O86-P86-Q86 -> 0
F87: =F86+1 -> 20405 | G87: פיתוח שצ"פ ברל כצנלסון | H87: 0 | K87: 0 | M87: 3000 | P87: 3000 | R87: =M87-N87-O87-P87-Q87 -> 0
F88: =F87+1 -> 20406 | G88: נחלת יעקב-הסכם פיתוח | H88: 2000 | K88: 2000 | M88: 0 | P88: 0 | R88: =M88-N88-O88-P88-Q88 -> 0
F89: =F88+1 -> 20407 | G89: ביצוע שצפ"ים | H89: 1000 | K89: 1000 | M89: 1500 | P89: 1500 | R89: =M89-N89-O89-P89-Q89 -> 0
G90: סה"כ תכנון נוף | H90: =SUM(H82:H89) -> 3200 | I90: =SUM(I82:I89) -> 0 | J90: =SUM(J82:J89) -> 0 | K90: =SUM(K82:K89) -> 3200 | L90: =SUM(L82:L89) -> 0 | M90: =SUM(M82:M89) -> 7800 | N90: =SUM(N82:N89) -> 0 | O90: =SUM(O82:O89) -> 3000 | ... Q90: =SUM(Q82:Q89) -> 0 | R90: =M90-N90-O90-P90-Q90 -> 0
F91: 20500 | G91: נכסים | R91: =M91-N91-O91-P91-Q91 -> 0
F92: =F91+1 -> 20501 | G92: הפקעות שונות | H92: 2000 | L92: 2000 | Q92: 0 | R92: =M92-N92-O92-P92-Q92 -> 0
F93: =F92+1 -> 20502 | G93: השבחת נכסים | H93: 3000 | J93: 3000 | M93: 0 | O93: 0 | R93: =M93-N93-O93-P93-Q93 -> 0
F94: =F93+1 -> 20503 | G94: השבחת מבנים, טיוב, שיפוץ,הסרת סכנה בנכסים ציבורים, רישום ופרצלציה, מדידות והריסת מבנים | H94: 3000 | L94: 3000 | M94: 0 | Q94: 0 | R94: =M94-N94-O94-P94-Q94 -> 0
F95: =F94+1 -> 20504 | G95: רכישת נכסים, פרסום מכרזים, פינוי פולשים וניהול הליכים משפטיים | H95: 2750 | L95: 2750 | M95: 0 | Q95: 0 | R95: =M95-N95-O95-P95-Q95 -> 0
F96: =F95+1 -> 20505 | G96: שכ"ט שמאים ועו"ד חיצוניים | H96: 500 | J96: 500 | M96: 0 | O96: 0 | R96: =M96-N96-O96-P96-Q96 -> 0
F97: =F96+1 -> 20506 | G97: מעונות יום | H97: 13000 | I97: 13000 | M97: 0 | N97: 0 | R97: =M97-N97-O97-P97-Q97 -> 0
F98: =F97+1 -> 20507 | G98: סקר נכסים של מבני חינוך לאיתור פוטנציאל תגבור וניצול אופטימלי של מגרשים "חומים" | H98: 1000 | J98: 1000 | M98: 0 | O98: 0 | R98: =M98-N98-O98-P98-Q98 -> 0
F99: =F98+1 -> 20508 | G99: שיפוץ שער פלמר | H99: 2300 | I99: 2300 | M99: 7000 | N99: 7000 | R99: =M99-N99-O99-P99-Q99 -> 0
G100: סה"כ נכסים | H100: =SUM(H92:H99) -> 27550 | I100: =SUM(I92:I99) -> 15300 | J100: =SUM(J92:J99) -> 4500 | K100: =SUM(K92:K99) -> 0 | L100: =SUM(L92:L99) -> 7750 | M100: =SUM(M92:M99) -> 7000 | N100: =SUM(N92:N99) -> 7000 | O100: =SUM(O92:O99) -> 0 | ... Q100: =SUM(Q92:Q99) -> 0 | R100: =M100-N100-O100-P100-Q100 -> 0
G101: סה"כ מינהל הנדסה | H101: =H100+H90+H80+H43+H36 -> 178450 | I101: =I100+I90+I80+I43+I36 -> 19280 | J101: =J100+J90+J80+J43+J36 -> 64650 | K101: =K100+K90+K80+K43+K36 -> 66100 | L101: =L100+L90+L80+L43+L36 -> 28420 | M101: =M100+M90+M80+M43+M36 -> 89250 | N101: =N100+N90+N80+N43+N36 -> 27000 | O101: =O100+O90+O80+O43+O36 -> 22900 | ... Q101: =Q100+Q90+Q80+Q43+Q36 -> 700 | R101: =M101-N101-O101-P101-Q101 -> 0
G102: חת"ר | R102: =M102-N102-O102-P102-Q102 -> 0
G103: מערכת חינוך | R103: =M103-N103-O103-P103-Q103 -> 0
F104: 30100 | G104: עבודות בטיחות ובטחון | R104: =M104-N104-O104-P104-Q104 -> 0
F105: =+F104+1 -> 30101 | G105: עבודות בטיחות ובטחון | H105: 2000 | L105: 2000 | M105: 2000 | Q105: 2000 | R105: =M105-N105-O105-P105-Q105 -> 0
...
