Workbook

Sheet ריכוז מנהלים
E1: טבלת ריכוז נתונים מתחילה בתא F8
F6: העבודה | H6: תקציב פיתוח הצעת היחידות | I6: מימון תקציב פיתוח 2020 | N6: תקציב פיתוח 2020 | T6: תקציב פיתוח רב שנתי
F7: מס' | G7: נושא | H7: עמודה1 | I7: עמודה2 | J7: עמודה3 | K7: עמודה4 | L7: עמודה5 | M7: עמודה6 | N7: עמודה7 | O7: עמודה8 | P7: עמודה9 | Q7: עמודה10 | R7: עמודה11 | S7: עמודה12 | T7: עמודה13 | U7: עמודה14 | V7: עמודה15 | W7: עמודה16 | X7: עמודה17 | Y7: עמודה18
F8: מס' | G8: נושא | H8: תקציב פיתוח 2020 - הצעת היחידות | I8: ממשלה ומוסדות | J8: היטל השבחה | K8: בעלים | L8: הלוואות | M8: מכירת נכסים | N8: תקציב פיתוח 2020 | O8: תקציב 2020 ממשלה ומוסדות | P8: תקציב 2020 היטל השבחה | Q8: תקציב 2020 בעלים | R8: תקציב 2020 הלוואות | S8: מכירת נכסים | T8: רב שנתי | U8: תקציב רב שנתי ממשלה ומוסדות | V8: תקציב רב שנתי היטל השבחה | W8: תקציב רב שנתי בעלים | X8: תקציב רב שנתי הלוואות | Y8: מכירת נכסים
F9: 1 | G9: סה"כ הנהלת העירייה | H9: ='ספר תקציב'!H15 -> 9390000 | I9: ='ספר תקציב'!I15 -> 0 | J9: ='ספר תקציב'!J15 -> 0 | K9: ='ספר תקציב'!K15 -> 0 | L9: ='ספר תקציב'!L15 -> 9390000 | M9: ='ספר תקציב'!M15 -> 0 | N9: ='ספר תקציב'!N15 -> 4000000 | O9: ='ספר תקציב'!O15 -> 0 | ... X9: ='ספר תקציב'!X15 -> 5390000 | Y9: =SUM(#REF!) -> #REF!
F10: 2 | G10: סה"כ מינהל הנדסה | H10: ='ספר תקציב'!H103 -> 279296000 | I10: ='ספר תקציב'!I103 -> 62780000 | J10: ='ספר תקציב'!J103 -> 77106000 | K10: ='ספר תקציב'!K103 -> 110490000 | L10: ='ספר תקציב'!L103 -> 24920000 | M10: ='ספר תקציב'!M103 -> 0 | N10: ='ספר תקציב'!N103 -> 188296000 | O10: ='ספר תקציב'!O103 -> 53080000 | ... X10: ='ספר תקציב'!X103 -> 6850000 | Y10: =#REF!+#REF!+#REF!+#REF!+#REF! -> #REF!
F11: 3 | G11: סה"כ מערכות חינוך, תרבות ורווחה | H11: ='ספר תקציב'!H201 -> 88440000 | I11: ='ספר תקציב'!I201 -> 9217000 | J11: ='ספר תקציב'!J201 -> 0 | K11: ='ספר תקציב'!K201 -> 0 | L11: ='ספר תקציב'!L201 -> 69223000 | M11: ='ספר תקציב'!M201 -> 0 | N11: ='ספר תקציב'!N201 -> 48415000 | O11: ='ספר תקציב'!O201 -> 16315000 | ... X11: ='ספר תקציב'!X201 -> 39073000 | Y11: =#REF!+#REF!+#REF!+#REF! -> #REF!
F12: 4 | G12: סה"כ מינהל תפעול | H12: ='ספר תקציב'!H444 -> 339823900 | I12: ='ספר תקציב'!I444 -> 50548000 | J12: ='ספר תקציב'!J444 -> 48680000 | K12: ='ספר תקציב'!K444 -> 84426000 | L12: ='ספר תקציב'!L444 -> 151169900 | M12: ='ספר תקציב'!M444 -> 0 | N12: ='ספר תקציב'!N444 -> 198188900 | O12: ='ספר תקציב'!O444 -> 51791000 | ... X12: ='ספר תקציב'!X444 -> 54284000 | Y12: =#REF!+#REF!+#REF!+#REF!+#REF!+#REF!+#REF!+#REF!+#REF! -> #REF!
F13: 5 | G13: סה"כ חברות ועמותות | H13: ='ספר תקציב'!H472 -> 34920000 | I13: ='ספר תקציב'!I472 -> 0 | J13: ='ספר תקציב'!J472 -> 0 | K13: ='ספר תקציב'!K472 -> 0 | L13: ='ספר תקציב'!L472 -> 29420000 | M13: ='ספר תקציב'!M472 -> 0 | N13: ='ספר תקציב'!N472 -> 17420000 | O13: ='ספר תקציב'!O472 -> 0 | ... X13: ='ספר תקציב'!X472 -> 17500000 | Y13: =#REF!+#REF!+#REF! -> #REF!
F14: 6 | G14: סה"כ תיירותיים | H14: ='ספר תקציב'!H478 -> 8962500 | I14: ='ספר תקציב'!I478 -> 0 | J14: ='ספר תקציב'!J478 -> 0 | K14: ='ספר תקציב'!K478 -> 0 | L14: ='ספר תקציב'!L478 -> 8962500 | M14: ='ספר תקציב'!M478 -> 0 | N14: ='ספר תקציב'!N478 -> 8962500 | O14: ='ספר תקציב'!O478 -> 0 | ... X14: ='ספר תקציב'!X478 -> 0 | Y14: =SUM(#REF!) -> #REF!
F15: 7 | G15: סה"כ אחרים | H15: ='ספר תקציב'!H488 -> 10324000 | I15: ='ספר תקציב'!I488 -> 3500000 | J15: ='ספר תקציב'!J488 -> 200000 | K15: ='ספר תקציב'!K488 -> 0 | L15: ='ספר תקציב'!L488 -> 6624000 | M15: ='ספר תקציב'!M488 -> 0 | N15: ='ספר תקציב'!N488 -> 5600000 | O15: ='ספר תקציב'!O488 -> 1500000 | ... X15: ='ספר תקציב'!X488 -> 2724000 | Y15: =SUM(#REF!) -> #REF!
F16: 8 | G16: סה"כ תחבורה ובינוי | H16: ='ספר תקציב'!H563 -> 610303500 | I16: ='ספר תקציב'!I563 -> 503365000 | J16: ='ספר תקציב'!J563 -> 17775000 | K16: ='ספר תקציב'!K563 -> 0 | L16: ='ספר תקציב'!L563 -> 59713500 | M16: ='ספר תקציב'!M563 -> 0 | N16: ='ספר תקציב'!N563 -> 541500000 | O16: ='ספר תקציב'!O563 -> 520225000 | ... X16: ='ספר תקציב'!X563 -> 41580000 | Y16: =#REF!+#REF! -> #REF!
F17: 9 | G17: סה"כ מינהל כספים | H17: ='ספר תקציב'!H572 -> 19550000 | I17: ='ספר תקציב'!I572 -> 0 | J17: ='ספר תקציב'!J572 -> 500000 | K17: ='ספר תקציב'!K572 -> 10000000 | L17: ='ספר תקציב'!L572 -> 9050000 | M17: ='ספר תקציב'!M572 -> 0 | N17: ='ספר תקציב'!N572 -> 15800000 | O17: ='ספר תקציב'!O572 -> 0 | ... X17: ='ספר תקציב'!X572 -> 3550000 | Y17: =#REF! -> #REF!
G18: סה"כ תקציב פיתוח | H18: =H17+H16+H15+H14+H13+H12+H11+H10+H9 -> 1401009900 | I18: =I17+I16+I15+I14+I13+I12+I11+I10+I9 -> 629410000 | J18: =J17+J16+J15+J14+J13+J12+J11+J10+J9 -> 144261000 | K18: =K17+K16+K15+K14+K13+K12+K11+K10+K9 -> 204916000 | L18: =L17+L16+L15+L14+L13+L12+L11+L10+L9 -> 368472900 | M18: =M17+M16+M15+M14+M13+M12+M11+M10+M9 -> 0 | N18: =N17+N16+N15+N14+N13+N12+N11+N10+N9 -> 1028182400 | O18: =O17+O16+O15+O14+O13+O12+O11+O10+O9 -> 642911000 | ... Y18: =Y17+Y16+Y15+Y14+Y13+Y12+Y11+Y10+Y9 -> #REF!
AA20: =H20-I20-J20-K20-L20-M20 -> 0
AA21: =H21-I21-J21-K21-L21-M21 -> 0
AA22: =H22-I22-J22-K22-L22-M22 -> 0
AA23: =H23-I23-J23-K23-L23-M23 -> 0
AA24: =H24-I24-J24-K24-L24-M24 -> 0
AA25: =H25-I25-J25-K25-L25-M25 -> 0
AA26: =H26-I26-J26-K26-L26-M26 -> 0
AA27: =H27-I27-J27-K27-L27-M27 -> 0
AA28: =H28-I28-J28-K28-L28-M28 -> 0
AA29: =H29-I29-J29-K29-L29-M29 -> 0
AA30: =H30-I30-J30-K30-L30-M30 -> 0
AA31: =H31-I31-J31-K31-L31-M31 -> 0
... AA282: =H282-I282-J282-K282-L282-M282 -> 0
C354: 0

Sheet ריכוז מחלקות
E1: טבלת ריכוז נתונים מתחילה בתא F8
F6: העבודה | H6: תקציב פיתוח הצעת היחידות | I6: מימון תקציב פיתוח 2020 | N6: תקציב פיתוח 2020 | T6: תקציב פיתוח רב שנתי
F7: מס' | G7: נושא | H7: עמודה1 | I7: עמודה2 | J7: עמודה3 | K7: עמודה4 | L7: עמודה5 | M7: עמודה6 | N7: עמודה7 | O7: עמודה8 | P7: עמודה9 | Q7: עמודה10 | R7: עמודה11 | S7: עמודה12 | T7: עמודה13 | U7: עמודה14 | V7: עמודה15 | W7: עמודה16 | X7: עמודה17 | Y7: עמודה18
F8: מס' | G8: נושא | H8: תקציב פיתוח 2020 - הצעת היחידות | I8: ממשלה ומוסדות | J8: היטל השבחה | K8: בעלים | L8: הלוואות | M8: מכירת נכסים | N8: תקציב פיתוח 2020 | O8: תקציב 2020 ממשלה ומוסדות | P8: תקציב 2020 היטל השבחה | Q8: תקציב 2020 בעלים | R8: תקציב 2020 הלוואות | S8: מכירת נכסים | T8: רב שנתי | U8: תקציב רב שנתי ממשלה ומוסדות | V8: תקציב רב שנתי היטל השבחה | W8: תקציב רב שנתי בעלים | X8: תקציב רב שנתי הלוואות | Y8: מכירת נכסים
F9: 1 | G9: סה"כ הנהלת העירייה | H9: ='ספר תקציב'!H15 -> 9390000 | I9: ='ספר תקציב'!I15 -> 0 | J9: ='ספר תקציב'!J15 -> 0 | K9: ='ספר תקציב'!K15 -> 0 | L9: ='ספר תקציב'!L15 -> 9390000 | M9: ='ספר תקציב'!M15 -> 0 | N9: ='ספר תקציב'!N15 -> 4000000 | O9: ='ספר תקציב'!O15 -> 0 | ... X9: ='ספר תקציב'!X15 -> 5390000 | Y9: =SUM(#REF!) -> #REF! | AA9: =N9-O9-P9-Q9-R9 -> 0 | AB9: =T9-U9-V9-W9-X9 -> 0
G10: סה"כ משרד מהנדס העיר | H10: ='ספר תקציב'!H32 -> 83800000 | I10: ='ספר תקציב'!I32 -> 20800000 | J10: ='ספר תקציב'!J32 -> 39000000 | K10: ='ספר תקציב'!K32 -> 19500000 | L10: ='ספר תקציב'!L32 -> 1500000 | M10: ='ספר תקציב'!M32 -> 0 | N10: ='ספר תקציב'!N32 -> 81800000 | O10: ='ספר תקציב'!O32 -> 17300000 | ... X10: ='ספר תקציב'!X32 -> 0 | Y10: =SUM(#REF!) -> #REF! | AA10: =N10-O10-P10-Q10-R10 -> 0 | AB10: =T10-U10-V10-W10-X10 -> 0
G11: סה"כ תכנון עיר | H11: ='ספר תקציב'!H39 -> 22256000 | I11: ='ספר תקציב'!I39 -> 5000000 | J11: ='ספר תקציב'!J39 -> 15256000 | K11: ='ספר תקציב'!K39 -> 0 | L11: ='ספר תקציב'!L39 -> 2000000 | M11: ='ספר תקציב'!M39 -> 0 | N11: ='ספר תקציב'!N39 -> 22256000 | O11: ='ספר תקציב'!O39 -> 5000000 | ... X11: ='ספר תקציב'!X39 -> 0 | Y11: =SUM(#REF!) -> #REF! | AA11: =N11-O11-P11-Q11-R11 -> 0 | AB11: =T11-U11-V11-W11-X11 -> 0
G12: סה"כ תכנון דרכים ותנועה | H12: ='ספר תקציב'!H81 -> 112490000 | I12: ='ספר תקציב'!I81 -> 7680000 | J12: ='ספר תקציב'!J81 -> 14400000 | K12: ='ספר תקציב'!K81 -> 82490000 | L12: ='ספר תקציב'!L81 -> 6920000 | M12: ='ספר תקציב'!M81 -> 0 | N12: ='ספר תקציב'!N81 -> 39790000 | O12: ='ספר תקציב'!O81 -> 1480000 | ... X12: ='ספר תקציב'!X81 -> 850000 | Y12: =SUM(#REF!) -> #REF! | AA12: =N12-O12-P12-Q12-R12 -> 0 | AB12: =T12-U12-V12-W12-X12 -> 0
G13: סה"כ תכנון נוף | H13: ='ספר תקציב'!H92 -> 13150000 | I13: ='ספר תקציב'!I92 -> 0 | J13: ='ספר תקציב'!J92 -> 4000000 | K13: ='ספר תקציב'!K92 -> 8500000 | L13: ='ספר תקציב'!L92 -> 650000 | M13: ='ספר תקציב'!M92 -> 0 | N13: ='ספר תקציב'!N92 -> 2850000 | O13: ='ספר תקציב'!O92 -> 0 | ... X13: ='ספר תקציב'!X92 -> 0 | Y13: =SUM(#REF!) -> #REF! | AA13: =N13-O13-P13-Q13-R13 -> 0 | AB13: =T13-U13-V13-W13-X13 -> 0
G14: סה"כ נכסים | H14: ='ספר תקציב'!H102 -> 47600000 | I14: ='ספר תקציב'!I102 -> 29300000 | J14: ='ספר תקציב'!J102 -> 4450000 | K14: ='ספר תקציב'!K102 -> 0 | L14: ='ספר תקציב'!L102 -> 13850000 | M14: ='ספר תקציב'!M102 -> 0 | N14: ='ספר תקציב'!N102 -> 41600000 | O14: ='ספר תקציב'!O102 -> 29300000 | ... X14: ='ספר תקציב'!X102 -> 6000000 | Y14: =SUM(#REF!) -> #REF! | AA14: =N14-O14-P14-Q14-R14 -> 0 | AB14: =T14-U14-V14-W14-X14 -> 0
F15: 2 | G15: סה"כ מינהל הנדסה | H15: =H14+H13+H12+H11+H10 -> 279296000 | I15: =I14+I13+I12+I11+I10 -> 62780000 | J15: =J14+J13+J12+J11+J10 -> 77106000 | K15: =K14+K13+K12+K11+K10 -> 110490000 | L15: =L14+L13+L12+L11+L10 -> 24920000 | M15: =M14+M13+M12+M11+M10 -> 0 | N15: =N14+N13+N12+N11+N10 -> 188296000 | O15: =O14+O13+O12+O11+O10 -> 53080000 | ... Y15: =Y14+Y13+Y12+Y11+Y10 -> #REF! | AA15: =N15-O15-P15-Q15-R15 -> 0 | AB15: =T15-U15-V15-W15-X15 -> 0
G16: סה"כ עבודות בטיחות וביטחון | H16: ='ספר תקציב'!H111 -> 9900000 | I16: ='ספר תקציב'!I111 -> 0 | J16: ='ספר תקציב'!J111 -> 0 | K16: ='ספר תקציב'!K111 -> 0 | L16: ='ספר תקציב'!L111 -> 9900000 | M16: ='ספר תקציב'!M111 -> 0 | N16: ='ספר תקציב'!N111 -> 5900000 | O16: ='ספר תקציב'!O111 -> 0 | ... X16: ='ספר תקציב'!X111 -> 4000000 | Y16: =SUM(#REF!) -> #REF! | AA16: =N16-O16-P16-Q16-R16 -> 0 | AB16: =T16-U16-V16-W16-X16 -> 0
G17: סה"כ עבודות מיוחדות | H17: ='ספר תקציב'!H126 -> 6220000 | I17: ='ספר תקציב'!I126 -> 0 | J17: ='ספר תקציב'!J126 -> 0 | K17: ='ספר תקציב'!K126 -> 0 | L17: ='ספר תקציב'!L126 -> 6220000 | M17: ='ספר תקציב'!M126 -> 0 | N17: ='ספר תקציב'!N126 -> 3320000 | O17: ='ספר תקציב'!O126 -> 0 | ... X17: ='ספר תקציב'!X126 -> 2900000 | Y17: =SUM(#REF!) -> #REF! | AA17: =N17-O17-P17-Q17-R17 -> 0 | AB17: =T17-U17-V17-W17-X17 -> 0
G18: סה"כ שיפוצים ובטיחות מבני חינוך | H18: ='ספר תקציב'!H136 -> 11750000 | I18: ='ספר תקציב'!I136 -> 1500000 | J18: ='ספר תקציב'!J136 -> 0 | K18: ='ספר תקציב'!K136 -> 0 | L18: ='ספר תקציב'!L136 -> 10250000 | M18: ='ספר תקציב'!M136 -> 0 | N18: ='ספר תקציב'!N136 -> 7750000 | O18: ='ספר תקציב'!O136 -> 600000 | ... X18: ='ספר תקציב'!X136 -> 3100000 | Y18: =SUM(#REF!) -> #REF! | AA18: =N18-O18-P18-Q18-R18 -> 0 | AB18: =T18-U18-V18-W18-X18 -> 0
G19: סה"כ ריהוט וציוד | H19: ='ספר תקציב'!H145 -> 2900000 | I19: ='ספר תקציב'!I145 -> 0 | J19: ='ספר תקציב'!J145 -> 0 | K19: ='ספר תקציב'!K145 -> 0 | L19: ='ספר תקציב'!L145 -> 2900000 | M19: ='ספר תקציב'!M145 -> 0 | N19: ='ספר תקציב'!N145 -> 2700000 | O19: ='ספר תקציב'!O145 -> 0 | ... X19: ='ספר תקציב'!X145 -> 200000 | Y19: =SUM(#REF!) -> #REF! | AA19: =N19-O19-P19-Q19-R19 -> 0 | AB19: =T19-U19-V19-W19-X19 -> 0
G20: סה"כ פרוייקטים בשיתוף ביטוח לאומי | H20: ='ספר תקציב'!H148 -> 300000 | I20: ='ספר תקציב'!I148 -> 240000 | J20: ='ספר תקציב'!J148 -> 0 | K20: ='ספר תקציב'!K148 -> 0 | L20: ='ספר תקציב'!L148 -> 60000 | M20: ='ספר תקציב'!M148 -> 0 | N20: ='ספר תקציב'!N148 -> 300000 | O20: ='ספר תקציב'!O148 -> 240000 | ... X20: ='ספר תקציב'!X148 -> 0 | Y20: =SUM(#REF!) -> #REF! | AA20: =N20-O20-P20-Q20-R20 -> 0 | AB20: =T20-U20-V20-W20-X20 -> 0
G21: סה"כ מדע וטכנולוגיה | H21: ='ספר תקציב'!H153 -> 2070000 | I21: ='ספר תקציב'!I153 -> 1600000 | J21: ='ספר תקציב'!J153 -> 0 | K21: ='ספר תקציב'!K153 -> 0 | L21: ='ספר תקציב'!L153 -> 470000 | M21: ='ספר תקציב'!M153 -> 0 | N21: ='ספר תקציב'!N153 -> 2020000 | O21: ='ספר תקציב'!O153 -> 1625000 | ... X21: ='ספר תקציב'!X153 -> 25000 | Y21: =SUM(#REF!) -> #REF! | AA21: =N21-O21-P21-Q21-R21 -> 0 | AB21: =T21-U21-V21-W21-X21 -> 0
G22: סה"כ מיחשוב מוסדות חינוך | H22: ='ספר תקציב'!H160 -> 4560000 | I22: ='ספר תקציב'!I160 -> 3227000 | J22: ='ספר תקציב'!J160 -> 0 | K22: ='ספר תקציב'!K160 -> 0 | L22: ='ספר תקציב'!L160 -> 1333000 | M22: ='ספר תקציב'!M160 -> 0 | N22: ='ספר תקציב'!N160 -> 3700000 | O22: ='ספר תקציב'!O160 -> 3200000 | ... X22: ='ספר תקציב'!X160 -> 833000 | Y22: =SUM(#REF!) -> #REF! | AA22: =N22-O22-P22-Q22-R22 -> 0 | AB22: =T22-U22-V22-W22-X22 -> 0
G23: סה"כ רשות הספורט | H23: ='ספר תקציב'!H179 -> 11550000 | I23: ='ספר תקציב'!I179 -> 2650000 | J23: ='ספר תקציב'!J179 -> 0 | K23: ='ספר תקציב'!K179 -> 0 | L23: ='ספר תקציב'!L179 -> 8900000 | M23: ='ספר תקציב'!M179 -> 0 | N23: ='ספר תקציב'!N179 -> 8500000 | O23: ='ספר תקציב'!O179 -> 5150000 | ... X23: ='ספר תקציב'!X179 -> 3050000 | Y23: =SUM(#REF!) -> #REF! | AA23: =N23-O23-P23-Q23-R23 -> 0 | AB23: =T23-U23-V23-W23-X23 -> 0
G24: סה"כ מערכת תרבות | H24: ='ספר תקציב'!H196 -> 34650000 | I24: ='ספר תקציב'!I196 -> 0 | J24: ='ספר תקציב'!J196 -> 0 | K24: ='ספר תקציב'!K196 -> 0 | L24: ='ספר תקציב'!L196 -> 24650000 | M24: ='ספר תקציב'!M196 -> 0 | N24: ='ספר תקציב'!N196 -> 13625000 | O24: ='ספר תקציב'!O196 -> 5500000 | ... X24: ='ספר תקציב'!X196 -> 21025000 | Y24: =SUM(#REF!) -> #REF! | AA24: =N24-O24-P24-Q24-R24 -> 0 | AB24: =T24-U24-V24-W24-X24 -> 0
G25: סה"כ מערכת רווחה | H25: ='ספר תקציב'!H200 -> 4540000 | I25: ='ספר תקציב'!I200 -> 0 | J25: ='ספר תקציב'!J200 -> 0 | K25: ='ספר תקציב'!K200 -> 0 | L25: ='ספר תקציב'!L200 -> 4540000 | M25: ='ספר תקציב'!M200 -> 0 | N25: ='ספר תקציב'!N200 -> 600000 | O25: ='ספר תקציב'!O200 -> 0 | ... X25: ='ספר תקציב'!X200 -> 3940000 | Y25: =SUM(#REF!) -> #REF! | AA25: =N25-O25-P25-Q25-R25 -> 0 | AB25: =T25-U25-V25-W25-X25 -> 0
F26: 3 | G26: סה"כ מערכות חינוך, תרבות ורווחה | H26: ='ספר תקציב'!H201 -> 88440000 | I26: ='ספר תקציב'!I201 -> 9217000 | J26: ='ספר תקציב'!J201 -> 0 | K26: ='ספר תקציב'!K201 -> 0 | L26: ='ספר תקציב'!L201 -> 69223000 | M26: ='ספר תקציב'!M201 -> 0 | N26: ='ספר תקציב'!N201 -> 48415000 | O26: ='ספר תקציב'!O201 -> 16315000 | ... X26: ='ספר תקציב'!X201 -> 39073000 | Y26: =Y25+Y24+#REF!+Y23 -> #REF! | AA26: =N26-O26-P26-Q26-R26 -> 0 | AB26: =T26-U26-V26-W26-X26 -> 0
G27: סה"כ מינהלי | H27: ='ספר תקציב'!H211 -> 5445000 | I27: ='ספר תקציב'!I211 -> 1200000 | J27: ='ספר תקציב'!J211 -> 200000 | K27: ='ספר תקציב'!K211 -> 30000 | L27: ='ספר תקציב'!L211 -> 4015000 | M27: ='ספר תקציב'!M211 -> 0 | N27: ='ספר תקציב'!N211 -> 1680000 | O27: ='ספר תקציב'!O211 -> 1200000 | ... X27: ='ספר תקציב'!X211 -> 3565000 | Y27: =SUM(#REF!) -> #REF! | AA27: =N27-O27-P27-Q27-R27 -> 0 | AB27: =T27-U27-V27-W27-X27 -> 0
G28: סה"כ אגף תברואה | H28: ='ספר תקציב'!H248 -> 74393000 | I28: ='ספר תקציב'!I248 -> 300000 | J28: ='ספר תקציב'!J248 -> 0 | K28: ='ספר תקציב'!K248 -> 0 | L28: ='ספר תקציב'!L248 -> 74093000 | M28: ='ספר תקציב'!M248 -> 0 | N28: ='ספר תקציב'!N248 -> 66894000 | O28: ='ספר תקציב'!O248 -> 1020000 | ... X28: ='ספר תקציב'!X248 -> 7499000 | Y28: =SUM(#REF!) -> #REF! | AA28: =N28-O28-P28-Q28-R28 -> 0 | AB28: =T28-U28-V28-W28-X28 -> 0
G29: סה"כ שירות וטרינרי | H29: ='ספר תקציב'!H261 -> 2150000 | I29: ='ספר תקציב'!I261 -> 400000 | J29: ='ספר תקציב'!J261 -> 0 | K29: ='ספר תקציב'!K261 -> 0 | L29: ='ספר תקציב'!L261 -> 1750000 | M29: ='ספר תקציב'!M261 -> 0 | N29: ='ספר תקציב'!N261 -> 1900000 | O29: ='ספר תקציב'!O261 -> 400000 | ... X29: ='ספר תקציב'!X261 -> 250000 | Y29: =SUM(#REF!) -> #REF! | AA29: =N29-O29-P29-Q29-R29 -> 0 | AB29: =T29-U29-V29-W29-X29 -> 0
G30: סה"כ שיפור פני העיר | H30: ='ספר תקציב'!H304 -> 118484000 | I30: ='ספר תקציב'!I304 -> 0 | J30: ='ספר תקציב'!J304 -> 34458000 | K30: ='ספר תקציב'!K304 -> 71582000 | L30: ='ספר תקציב'!L304 -> 12244000 | M30: ='ספר תקציב'!M304 -> 0 | N30: ='ספר תקציב'!N304 -> 31668000 | O30: ='ספר תקציב'!O304 -> 0 | ... X30: ='ספר תקציב'!X304 -> 8854000 | Y30: =SUM(#REF!) -> #REF! | AA30: =N30-O30-P30-Q30-R30 -> 0 | AB30: =T30-U30-V30-W30-X30 -> 0
G31: סה"כ מחלקת רמזורים | H31: ='ספר תקציב'!H316 -> 6672000 | I31: ='ספר תקציב'!I316 -> 0 | J31: ='ספר תקציב'!J316 -> 0 | K31: ='ספר תקציב'!K316 -> 0 | L31: ='ספר תקציב'!L316 -> 6672000 | M31: ='ספר תקציב'!M316 -> 0 | N31: ='ספר תקציב'!N316 -> 6147000 | O31: ='ספר תקציב'!O316 -> 0 | ... X31: ='ספר תקציב'!X316 -> 525000 | Y31: =SUM(#REF!) -> #REF! | AA31: =N31-O31-P31-Q31-R31 -> 0 | AB31: =T31-U31-V31-W31-X31 -> 0
G32: סה"כ מחלקת גנים | H32: ='ספר תקציב'!H360 -> 35161000 | I32: ='ספר תקציב'!I360 -> 8200000 | J32: ='ספר תקציב'!J360 -> 0 | K32: ='ספר תקציב'!K360 -> 7589000 | L32: ='ספר תקציב'!L360 -> 18372000 | M32: ='ספר תקציב'!M360 -> 0 | N32: ='ספר תקציב'!N360 -> 25057000 | O32: ='ספר תקציב'!O360 -> 8200000 | ... X32: ='ספר תקציב'!X360 -> 7490000 | Y32: =SUM(#REF!) -> #REF! | AA32: =N32-O32-P32-Q32-R32 -> 0 | AB32: =T32-U32-V32-W32-X32 -> 0
G33: סה"כ ניקוז | H33: ='ספר תקציב'!H377 -> 7906000 | I33: ='ספר תקציב'!I377 -> 0 | J33: ='ספר תקציב'!J377 -> 0 | K33: ='ספר תקציב'!K377 -> 4825000 | L33: ='ספר תקציב'!L377 -> 3081000 | M33: ='ספר תקציב'!M377 -> 0 | N33: ='ספר תקציב'!N377 -> 4520000 | O33: ='ספר תקציב'!O377 -> 0 | ... X33: ='ספר תקציב'!X377 -> 2731000 | Y33: =SUM(#REF!) -> #REF! | AA33: =N33-O33-P33-Q33-R33 -> 0 | AB33: =T33-U33-V33-W33-X33 -> 0
G34: סה"כ בית מרחץ עירוני | H34: ='ספר תקציב'!H381 -> 1502900 | I34: ='ספר תקציב'!I381 -> 0 | J34: ='ספר תקציב'!J381 -> 0 | K34: ='ספר תקציב'!K381 -> 0 | L34: ='ספר תקציב'!L381 -> 1502900 | M34: ='ספר תקציב'!M381 -> 0 | N34: ='ספר תקציב'!N381 -> 2900 | O34: ='ספר תקציב'!O381 -> 0 | ... X34: ='ספר תקציב'!X381 -> 1500000 | Y34: =SUM(#REF!) -> #REF! | AA34: =N34-O34-P34-Q34-R34 -> 0 | AB34: =T34-U34-V34-W34-X34 -> 0
G35: סה"כ חופים עירוניים | H35: ='ספר תקציב'!H405 -> 22769000 | I35: ='ספר תקציב'!I405 -> 1710000 | J35: ='ספר תקציב'!J405 -> 0 | K35: ='ספר תקציב'!K405 -> 400000 | L35: ='ספר תקציב'!L405 -> 19859000 | M35: ='ספר תקציב'!M405 -> 0 | N35: ='ספר תקציב'!N405 -> 6210000 | O35: ='ספר תקציב'!O405 -> 2018000 | ... X35: ='ספר תקציב'!X405 -> 16559000 | Y35: =SUM(#REF!) -> #REF! | AA35: =N35-O35-P35-Q35-R35 -> 0 | AB35: =T35-U35-V35-W35-X35 -> 0
G36: סה"כ ביטחון | H36: ='ספר תקציב'!H416 -> 3890000 | I36: ='ספר תקציב'!I416 -> 0 | J36: ='ספר תקציב'!J416 -> 0 | K36: ='ספר תקציב'!K416 -> 0 | L36: ='ספר תקציב'!L416 -> 3890000 | M36: ='ספר תקציב'!M416 -> 0 | N36: ='ספר תקציב'!N416 -> 2755000 | O36: ='ספר תקציב'!O416 -> 135000 | ... X36: ='ספר תקציב'!X416 -> 1135000 | Y36: =SUM(#REF!) -> #REF! | AA36: =N36-O36-P36-Q36-R36 -> 0 | AB36: =T36-U36-V36-W36-X36 -> 0
G37: סה"כ פיקוח | H37: ='ספר תקציב'!H420 -> 312000 | I37: ='ספר תקציב'!I420 -> 120000 | J37: ='ספר תקציב'!J420 -> 0 | K37: ='ספר תקציב'!K420 -> 0 | L37: ='ספר תקציב'!L420 -> 192000 | M37: ='ספר תקציב'!M420 -> 0 | N37: ='ספר תקציב'!N420 -> 25000 | O37: ='ספר תקציב'!O420 -> 0 | ... X37: ='ספר תקציב'!X420 -> 167000 | Y37: =SUM(#REF!) -> #REF! | AA37: =N37-O37-P37-Q37-R37 -> 0 | AB37: =T37-U37-V37-W37-X37 -> 0
G38: סה"כ פרוייקטים בשיתוף משרדי ממשלה | H38: ='ספר תקציב'!H433 -> 57740000 | I38: ='ספר תקציב'!I433 -> 38618000 | J38: ='ספר תקציב'!J433 -> 14022000 | K38: ='ספר תקציב'!K433 -> 0 | L38: ='ספר תקציב'!L433 -> 2100000 | M38: ='ספר תקציב'!M433 -> 0 | N38: ='ספר תקציב'!N433 -> 50740000 | O38: ='ספר תקציב'!O433 -> 38818000 | ... X38: ='ספר תקציב'!X433 -> 1200000 | Y38: =SUM(#REF!) -> #REF! | AA38: =N38-O38-P38-Q38-R38 -> 0 | AB38: =T38-U38-V38-W38-X38 -> 0
G39: סה"כ רשות חניה | H39: ='ספר תקציב'!H443 -> 3399000 | I39: ='ספר תקציב'!I443 -> 0 | J39: ='ספר תקציב'!J443 -> 0 | K39: ='ספר תקציב'!K443 -> 0 | L39: ='ספר תקציב'!L443 -> 3399000 | M39: ='ספר תקציב'!M443 -> 0 | N39: ='ספר תקציב'!N443 -> 590000 | O39: ='ספר תקציב'!O443 -> 0 | ... X39: ='ספר תקציב'!X443 -> 2809000 | Y39: =SUM(#REF!) -> #REF! | AA39: =N39-O39-P39-Q39-R39 -> 0 | AB39: =T39-U39-V39-W39-X39 -> 0
F40: 4 | G40: סה"כ מינהל תפעול | H40: ='ספר תקציב'!H444 -> 339823900 | I40: ='ספר תקציב'!I444 -> 50548000 | J40: ='ספר תקציב'!J444 -> 48680000 | K40: ='ספר תקציב'!K444 -> 84426000 | L40: ='ספר תקציב'!L444 -> 151169900 | M40: ='ספר תקציב'!M444 -> 0 | N40: ='ספר תקציב'!N444 -> 198188900 | O40: ='ספר תקציב'!O444 -> 51791000 | ... X40: ='ספר תקציב'!X444 -> 54284000 | Y40: =Y39+Y38+Y37+Y36+Y35+#REF!+Y29+Y28+Y27 -> #REF! | AA40: =N40-O40-P40-Q40-R40 -> 0 | AB40: =T40-U40-V40-W40-X40 -> 0
G41: סה"כ מוזיאונים | H41: ='ספר תקציב'!H453 -> 8450000 | I41: ='ספר תקציב'!I453 -> 0 | J41: ='ספר תקציב'!J453 -> 0 | K41: ='ספר תקציב'!K453 -> 0 | L41: ='ספר תקציב'!L453 -> 8450000 | M41: ='ספר תקציב'!M453 -> 0 | N41: ='ספר תקציב'!N453 -> 2450000 | O41: ='ספר תקציב'!O453 -> 0 | ... X41: ='ספר תקציב'!X453 -> 6000000 | Y41: =SUM(#REF!) -> #REF! | AA41: =N41-O41-P41-Q41-R41 -> 0 | AB41: =T41-U41-V41-W41-X41 -> 0
G42: סה"כ אתו"ס | H42: ='ספר תקציב'!H465 -> 15870000 | I42: ='ספר תקציב'!I465 -> 0 | J42: ='ספר תקציב'!J465 -> 0 | K42: ='ספר תקציב'!K465 -> 0 | L42: ='ספר תקציב'!L465 -> 15870000 | M42: ='ספר תקציב'!M465 -> 0 | N42: ='ספר תקציב'!N465 -> 4370000 | O42: ='ספר תקציב'!O465 -> 0 | ... X42: ='ספר תקציב'!X465 -> 11500000 | Y42: =SUM(#REF!) -> #REF! | AA42: =N42-O42-P42-Q42-R42 -> 0 | AB42: =T42-U42-V42-W42-X42 -> 0
G43: סה"כ חברה כלכלית, עמותות ותרומות | H43: ='ספר תקציב'!H471 -> 10600000 | I43: ='ספר תקציב'!I471 -> 0 | J43: ='ספר תקציב'!J471 -> 0 | K43: ='ספר תקציב'!K471 -> 0 | L43: ='ספר תקציב'!L471 -> 5100000 | M43: ='ספר תקציב'!M471 -> 0 | N43: ='ספר תקציב'!N471 -> 10600000 | O43: ='ספר תקציב'!O471 -> 0 | ... X43: ='ספר תקציב'!X471 -> 0 | Y43: =SUM(#REF!) -> #REF! | AA43: =N43-O43-P43-Q43-R43 -> 0 | AB43: =T43-U43-V43-W43-X43 -> 0
F44: 5 | G44: סה"כ חברות ועמותות | H44: ='ספר תקציב'!H472 -> 34920000 | I44: ='ספר תקציב'!I472 -> 0 | J44: ='ספר תקציב'!J472 -> 0 | K44: ='ספר תקציב'!K472 -> 0 | L44: ='ספר תקציב'!L472 -> 29420000 | M44: ='ספר תקציב'!M472 -> 0 | N44: ='ספר תקציב'!N472 -> 17420000 | O44: ='ספר תקציב'!O472 -> 0 | ... X44: ='ספר תקציב'!X472 -> 17500000 | Y44: =Y43+Y42+Y41 -> #REF! | AA44: =N44-O44-P44-Q44-R44 -> 0 | AB44: =T44-U44-V44-W44-X44 -> 0
...

Sheet ספר תקציב
F6: העבודה | H6: תקציב פיתוח הצעת היחידות | I6: מימון תקציב פיתוח 2020 | N6: תקציב פיתוח 2020 | T6: תקציב פיתוח רב שנתי
F7: מס' | G7: נושא | H7: עמודה1 | I7: עמודה2 | J7: עמודה3 | K7: עמודה4 | L7: עמודה5 | M7: עמודה6 | N7: עמודה7 | O7: עמודה8 | P7: עמודה9 | Q7: עמודה10 | R7: עמודה11 | S7: עמודה12 | T7: עמודה13 | U7: עמודה14 | V7: עמודה15 | W7: עמודה16 | X7: עמודה17 | Y7: עמודה18
F8: מס' | G8: נושא | H8: תקציב פיתוח 2020 - הצעת היחידות | I8: ממשלה ומוסדות | J8: היטל השבחה | K8: בעלים | L8: הלוואות | M8: מכירת נכסים | N8: תקציב פיתוח 2020 | O8: תקציב 2020 ממשלה ומוסדות | P8: תקציב 2020 היטל השבחה | Q8: תקציב 2020 בעלים | R8: תקציב 2020 הלוואות | S8: מכירת נכסים | T8: רב שנתי | U8: תקציב רב שנתי ממשלה ומוסדות | V8: תקציב רב שנתי היטל השבחה | W8: תקציב רב שנתי בעלים | X8: תקציב רב שנתי הלוואות | Y8: מכירת נכסים
F9: 10100 | G9: הנהלת העירייה
F10: =F9+1 -> 10101 | G10: שיפוצים, רכישות ועבודות בטיחות | H10: 2390000 | L10: =+H10 -> 2390000 | N10: 1500000 | R10: =+N10 -> 1500000 | T10: =H10-N10 -> 890000 | X10: =T10 -> 890000 | AA10: =N10-O10-P10-Q10-R10 -> 0 | AB10: =T10-U10-V10-W10-X10 -> 0
F11: =F10+1 -> 10102 | G11: שיפוץ היכל העירייה - רחבת כניסה | H11: 1000000 | L11: =H11 -> 1000000 | R11: =N11 -> 0 | T11: =H11-N11 -> 1000000 | X11: =T11 -> 1000000 | AA11: =N11-O11-P11-Q11-R11 -> 0 | AB11: =T11-U11-V11-W11-X11 -> 0
F12: =F11+1 -> 10103 | G12: שיפוץ היכל העירייה - מעטפת | H12: 1500000 | L12: =+H12 -> 1500000 | N12: 0 | R12: =+N12 -> 0 | T12: =H12-N12 -> 1500000 | X12: =T12 -> 1500000 | Y12: =+T12 -> 1500000 | AA12: =N12-O12-P12-Q12-R12 -> 0 | AB12: =T12-U12-V12-W12-X12 -> 0
F13: =F12+1 -> 10104 | G13: ארכיון העיר | H13: 500000 | L13: =+H13 -> 500000 | N13: =H13 -> 500000 | R13: =+N13 -> 500000 | T13: =H13-N13 -> 0 | X13: =+T13 -> 0 | AA13: =N13-O13-P13-Q13-R13 -> 0 | AB13: =T13-U13-V13-W13-X13 -> 0
F14: =F13+1 -> 10105 | G14: מינהלת 2030 - פרויקטים | H14: 4000000 | L14: =H14 -> 4000000 | N14: 2000000 | R14: =+N14 -> 2000000 | T14: =H14-N14 -> 2000000 | X14: =+T14 -> 2000000 | AA14: =N14-O14-P14-Q14-R14 -> 0 | AB14: =T14-U14-V14-W14-X14 -> 0
G15: סה"כ הנהלת העירייה | H15: =SUM(H10:H14) -> 9390000 | I15: =SUM(I10:I14) -> 0 | J15: =SUM(J10:J14) -> 0 | K15: =SUM(K10:K14) -> 0 | L15: =SUM(L10:L14) -> 9390000 | M15: =SUM(M10:M14) -> 0 | N15: =SUM(N10:N14) -> 4000000 | O15: =SUM(O10:O14) -> 0 | ... X15: =SUM(X10:X14) -> 5390000 | Y15: =SUM(Y10:Y13) -> 1500000 | AA15: =N15-O15-P15-Q15-R15 -> 0 | AB15: =T15-U15-V15-W15-X15 -> 0
G16: מינהל הנדסה | AA16: =N16-O16-P16-Q16-R16 -> 0 | AB16: =T16-U16-V16-W16-X16 -> 0
F17: 20100 | G17: משרד מהנדס העיר | AA17: =N17-O17-P17-Q17-R17 -> 0 | AB17: =T17-U17-V17-W17-X17 -> 0
F18: =F17+1 -> 20101 | G18: עבודות מיוחדות | H18: 1000000 | L18: =H18 -> 1000000 | N18: =H18 -> 1000000 | R18: =N18 -> 1000000 | T18: =H18-N18 -> 0 | X18: =T18 -> 0 | AA18: =N18-O18-P18-Q18-R18 -> 0 | AB18: =T18-U18-V18-W18-X18 -> 0
F19: =F18+1 -> 20102 | G19: פרויקטים לפיתוח עירוני | H19: 4000000 | J19: =H19 -> 4000000 | N19: 2000000 | P19: =N19 -> 2000000 | T19: =H19-N19 -> 2000000 | V19: =T19 -> 2000000 | AA19: =N19-O19-P19-Q19-R19 -> 0 | AB19: =T19-U19-V19-W19-X19 -> 0
G20: הנגשה ובטיחות | N20: =H20 -> 0 | T20: =H20-N20 -> 0 | AA20: =N20-O20-P20-Q20-R20 -> 0 | AB20: =T20-U20-V20-W20-X20 -> 0
F21: =F19+1 -> 20103 | G21: מבנים מסוכנים - אגף הפיקוח על הבניה | H21: 2000000 | J21: =H21 -> 2000000 | N21: =H21 -> 2000000 | P21: =N21 -> 2000000 | T21: =H21-N21 -> 0 | V21: =T21 -> 0 | AA21: =N21-O21-P21-Q21-R21 -> 0 | AB21: =T21-U21-V21-W21-X21 -> 0
F22: =F21+1 -> 20104 | G22: נגישות מתו"ס (מבנים, תשתיות וסביבה) - כולל מבני חינוך | H22: 35000000 | J22: =0.5*H22 -> 17500000 | K22: =0.5*H22 -> 17500000 | N22: =H22 -> 35000000 | P22: =0.5*N22 -> 17500000 | Q22: =0.5*N22 -> 17500000 | T22: =H22-N22 -> 0 | V22: =0.5*T22 -> 0 | W22: =0.5*T22 -> 0 | AA22: =N22-O22-P22-Q22-R22 -> 0 | AB22: =T22-U22-V22-W22-X22 -> 0
F23: =F22+1 -> 20105 | G23: טיפול בגשרים ומבני דרך | H23: 12000000 | J23: =H23 -> 12000000 | N23: =H23 -> 12000000 | P23: =N23 -> 12000000 | T23: =H23-N23 -> 0 | V23: =T23 -> 0 | AA23: =N23-O23-P23-Q23-R23 -> 0 | AB23: =T23-U23-V23-W23-X23 -> 0
F24: =F23+1 -> 20106 | G24: ייעוץ פרויקטים | H24: 500000 | L24: =H24 -> 500000 | N24: =H24 -> 500000 | R24: =N24 -> 500000 | T24: =H24-N24 -> 0 | X24: =T24 -> 0 | AA24: =N24-O24-P24-Q24-R24 -> 0 | AB24: =T24-U24-V24-W24-X24 -> 0
G25: פרויקטים עירונים וכללי | N25: =H25 -> 0 | T25: =H25-N25 -> 0 | AA25: =N25-O25-P25-Q25-R25 -> 0 | AB25: =T25-U25-V25-W25-X25 -> 0
F26: =F24+1 -> 20107 | G26: בית מינץ | H26: 4700000 | I26: =H26 -> 4700000 | N26: =H26 -> 4700000 | O26: =N26 -> 4700000 | T26: =H26-N26 -> 0 | U26: =T26 -> 0 | AA26: =N26-O26-P26-Q26-R26 -> 0 | AB26: =T26-U26-V26-W26-X26 -> 0
F27: =F26+1 -> 20108 | G27: ספריה ומועדון קרית אליעזר | H27: 2600000 | I27: =H27 -> 2600000 | N27: =H27 -> 2600000 | O27: =N27 -> 2600000 | T27: =H27-N27 -> 0 | U27: =T27 -> 0 | AA27: =N27-O27-P27-Q27-R27 -> 0 | AB27: =T27-U27-V27-W27-X27 -> 0
F28: =F27+1 -> 20109 | G28: מרכז רב תכליתי נווה פז | H28: 10000000 | I28: =H28 -> 10000000 | N28: =H28 -> 10000000 | O28: =N28 -> 10000000 | T28: =H28-N28 -> 0 | U28: =T28 -> 0 | AA28: =N28-O28-P28-Q28-R28 -> 0 | AB28: =T28-U28-V28-W28-X28 -> 0
F29: =F28+1 -> 20110 | G29: שיפוץ שוק תלפיות | H29: 7000000 | I29: =0.5*H29 -> 3500000 | J29: =0.5*H29 -> 3500000 | N29: =H29 -> 7000000 | P29: =N29/2 -> 3500000 | Q29: =N29/2 -> 3500000 | U29: =0.5*T29 -> 0 | V29: =0.5*T29 -> 0 | AA29: =N29-O29-P29-Q29-R29 -> 0 | AB29: =T29-U29-V29-W29-X29 -> 0
F30: =F29+1 -> 20111 | G30: שיפוץ בסטות ומרקיזות במתחם שוק תלפיות | H30: 2000000 | K30: =H30 -> 2000000 | N30: =H30 -> 2000000 | Q30: =N30 -> 2000000 | T30: =H30-N30 -> 0 | W30: =T30 -> 0 | AA30: =N30-O30-P30-Q30-R30 -> 0 | AB30: =T30-U30-V30-W30-X30 -> 0
F31: =F30+1 -> 20112 | G31: מערת אליהו הנביא | H31: 3000000 | N31: =H31 -> 3000000 | R31: =N31 -> 3000000 | T31: =H31-N31 -> 0 | AA31: =N31-O31-P31-Q31-R31 -> 0 | AB31: =T31-U31-V31-W31-X31 -> 0
G32: סה"כ משרד מהנדס העיר | H32: =SUM(H18:H31) -> 83800000 | I32: =SUM(I18:I31) -> 20800000 | J32: =SUM(J18:J31) -> 39000000 | K32: =SUM(K18:K31) -> 19500000 | L32: =SUM(L18:L31) -> 1500000 | M32: =SUM(M18:M31) -> 0 | N32: =SUM(N18:N31) -> 81800000 | O32: =SUM(O18:O31) -> 17300000 | ... Y32: =SUM(Y18:Y31) -> 0 | AA32: =N32-O32-P32-Q32-R32 -> 0 | AB32: =T32-U32-V32-W32-X32 -> 0
F33: 20200 | G33: תכנון עיר | AA33: =N33-O33-P33-Q33-R33 -> 0 | AB33: =T33-U33-V33-W33-X33 -> 0
F34: =F33+1 -> 20201 | G34: מגורים, מלונאות והתחדשות עירונית | H34: =11300000-2000000 -> 9300000 | I34: 5000000 | J34: =H34-I34 -> 4300000 | N34: =H34 -> 9300000 | O34: 5000000 | P34: =N34-O34 -> 4300000 | T34: =H34-N34 -> 0 | V34: =T34-U34 -> 0 | AA34: =N34-O34-P34-Q34-R34 -> 0 | AB34: =T34-U34-V34-W34-X34 -> 0
F35: =F34+1 -> 20202 | G35: תוכניות שונות, שיתוף ציבור, נכסים עירונים ושימור | H35: 7706000 | J35: =H35 -> 7706000 | N35: =H35 -> 7706000 | P35: =N35 -> 7706000 | T35: =H35-N35 -> 0 | V35: =T35 -> 0 | AA35: =N35-O35-P35-Q35-R35 -> 0 | AB35: =T35-U35-V35-W35-X35 -> 0
F36: =F35+1 -> 20203 | G36: תעסוקה, תשתיות ודרכים | H36: 1250000 | J36: =H36 -> 1250000 | N36: =H36 -> 1250000 | P36: =N36 -> 1250000 | T36: =H36-N36 -> 0 | V36: =T36 -> 0 | AA36: =N36-O36-P36-Q36-R36 -> 0 | AB36: =T36-U36-V36-W36-X36 -> 0
F37: =F36+1 -> 20204 | G37: תוכנית מתאר חיפה | H37: 2000000 | J37: =H37 -> 2000000 | N37: =H37 -> 2000000 | P37: =N37 -> 2000000 | T37: =H37-N37 -> 0 | V37: =T37 -> 0 | AA37: =N37-O37-P37-Q37-R37 -> 0 | AB37: =T37-U37-V37-W37-X37 -> 0
F38: =F37+1 -> 20205 | G38: שיפוץ חזיתות ומבנים במקומות שונים | H38: 2000000 | L38: =H38 -> 2000000 | N38: =H38 -> 2000000 | R38: =N38 -> 2000000 | T38: =H38-N38 -> 0 | X38: =T38 -> 0 | AA38: =N38-O38-P38-Q38-R38 -> 0 | AB38: =T38-U38-V38-W38-X38 -> 0
G39: סה"כ תכנון עיר | H39: =SUM(H34:H38) -> 22256000 | I39: =SUM(I34:I38) -> 5000000 | J39: =SUM(J34:J38) -> 15256000 | K39: =SUM(K34:K38) -> 0 | L39: =SUM(L34:L38) -> 2000000 | M39: =SUM(M34:M38) -> 0 | N39: =SUM(N34:N38) -> 22256000 | O39: =SUM(O34:O38) -> 5000000 | ... Y39: =SUM(Y34:Y38) -> 0 | AA39: =N39-O39-P39-Q39-R39 -> 0 | AB39: =T39-U39-V39-W39-X39 -> 0
F40: 20300 | G40: תכנון דרכים ותנועה | AA40: =N40-O40-P40-Q40-R40 -> 0 | AB40: =T40-U40-V40-W40-X40 -> 0
G41: כללי | AA41: =N41-O41-P41-Q41-R41 -> 0 | AB41: =T41-U41-V41-W41-X41 -> 0
F42: =F40+1 -> 20301 | G42: השלמה פיתוח בשכונות - היטל דרכים | H42: 6000000 | K42: =H42 -> 6000000 | N42: =H42 -> 6000000 | Q42: =N42 -> 6000000 | T42: =H42-N42 -> 0 | W42: =T42 -> 0 | AA42: =N42-O42-P42-Q42-R42 -> 0 | AB42: =T42-U42-V42-W42-X42 -> 0
F43: =F42+1 -> 20302 | G43: תכנון ומדידה במקומות שונים | H43: 1000000 | J43: =H43 -> 1000000 | N43: 200000 | P43: =N43 -> 200000 | T43: =H43-N43 -> 800000 | V43: =T43 -> 800000 | AA43: =N43-O43-P43-Q43-R43 -> 0 | AB43: =T43-U43-V43-W43-X43 -> 0
F44: =F43+1 -> 20303 | G44: מיחשוב תהליכים תיוק, סריקה ותמרור חניות | H44: 700000 | J44: =H44 -> 700000 | N44: 0 | P44: =N44 -> 0 | T44: =H44-N44 -> 700000 | X44: =T44 -> 700000 | AA44: =N44-O44-P44-Q44-R44 -> 0 | AB44: =T44-U44-V44-W44-X44 -> 0
F45: =F44+1 -> 20304 | G45: פיתוח ליד גנ"י ומבני ציבור | H45: 2000000 | K45: =H45 -> 2000000 | N45: 0 | Q45: =N45 -> 0 | T45: =H45-N45 -> 2000000 | V45: =T45 -> 2000000 | AA45: =N45-O45-P45-Q45-R45 -> 0 | AB45: =T45-U45-V45-W45-X45 -> 0
...
