Workbook

Sheet תקציב 2018
F6: מס' | G6: נושא | H6: עמודה1 | I6: עמודה2 | J6: עמודה3 | K6: עמודה4 | L6: עמודה5 | M6: עמודה6 | N6: עמודה7 | Q6: מקורות מימון 2009
F7: מס' סידורי | G7: נושא העבודה | H7: תקציב 2018 | I7: ממשלה ומוסדות | J7: היטל השבחה | K7: בעלים | L7: הלוואות | M7: מכירת נכסים | N7: מימון עירוני | O7: תקציב רב שנתי | P7: הצעת אגף תקציבים | Q7: ממשלה ומוסדות | R7: היטל השבחה | S7: בעלים | T7: הלוואות | U7: מכירת נכסים | V7: מימון עירוני
F8: 10100 | G8: הנהלת העירייה
F9: =F8+1 -> 10101 | G9: שיפוצים, רכישות ועבודות בטיחות | H9: =60000+200000+170000+100000+800000+650000+5000+30000+83000 -> 2098000 | M9: =H9 -> 2098000 | N9: =SUM(J9:M9) -> 2098000 | V9: =U9+T9+S9+R9 -> 0 | W9: =P9-Q9-V9 -> 0 | Y9: =H9-#REF!-#REF! -> #REF!
F10: =F9+1 -> 10102 | G10: עירונית קריית חיים | H10: 100000 | L10: =H10 -> 100000 | N10: =SUM(J10:M10) -> 100000 | Y10: =H10-#REF!-#REF! -> #REF!
F11: =F10+1 -> 10103 | G11: שיפוץ היכל העירייה | H11: =1500000+1600000+600000+800000 -> 4500000 | M11: =H11 -> 4500000 | N11: =SUM(J11:M11) -> 4500000 | V11: =U11+T11+S11+R11 -> 0 | W11: =P11-Q11-V11 -> 0 | Y11: =H11-#REF!-#REF! -> #REF!
F12: =F11+1 -> 10104 | G12: חגיגות 70 שנה למדינה | H12: 100000 | L12: =H12 -> 100000
F13: =F12+1 -> 10105 | G13: ארכיון העיר | H13: 930000 | M13: =H13 -> 930000 | N13: =SUM(J13:M13) -> 930000 | V13: =U13+T13+S13+R13 -> 0 | W13: =P13-Q13-V13 -> 0 | Y13: =H13-#REF!-#REF! -> #REF!
G14: סה"כ הנהלת העירייה | H14: =SUM(H9:H13) -> 7728000 | I14: =SUM(I9:I13) -> 0 | J14: =SUM(J9:J13) -> 0 | K14: =SUM(K9:K13) -> 0 | L14: =SUM(L9:L13) -> 200000 | M14: =SUM(M9:M13) -> 7528000 | N14: =SUM(N9:N13) -> 7628000 | O14: =SUM(O9:O13) -> 0 | ... V14: =SUM(V9:V13) -> 0 | W14: =P14-Q14-V14 -> 0 | Y14: =H14-#REF!-#REF! -> #REF!
G15: מינהל הנדסה | W15: =P15-Q15-V15 -> 0 | Y15: =H15-#REF!-#REF! -> #REF!
F16: 20100 | G16: משרד מהנדס העיר | W16: =P16-Q16-V16 -> 0 | Y16: =H16-#REF!-#REF! -> #REF!
F17: =+F16+1 -> 20101 | G17: עבודות מיוחדות | H17: 1000000 | L17: =H17 -> 1000000 | N17: =SUM(J17:M17) -> 1000000 | V17: =U17+T17+S17+R17 -> 0 | W17: =P17-Q17-V17 -> 0 | Y17: =H17-#REF!-#REF! -> #REF!
F18: =+F17+1 -> 20102 | G18: מבנים מסוכנים - אגף הפיקוח על הבניה | H18: 2000000 | M18: =H18 -> 2000000 | N18: =SUM(J18:M18) -> 2000000 | V18: =U18+T18+S18+R18 -> 0 | W18: =P18-Q18-V18 -> 0 | Y18: =H18-#REF!-#REF! -> #REF!
F19: =+F18+1 -> 20103 | G19: נגישות מתו"ס (מבנים, תשתיות וסביבה) - כולל ביצוע | H19: 20000000 | J19: =H19/2 -> 10000000 | M19: =H19/2 -> 10000000 | N19: =SUM(J19:M19) -> 20000000 | V19: =U19+T19+S19+R19 -> 0 | W19: =P19-Q19-V19 -> 0 | Y19: =H19-#REF!-#REF! -> #REF!
F20: =+F19+1 -> 20104 | G20: יועצים | H20: 500000 | L20: =H20 -> 500000 | N20: =SUM(J20:M20) -> 500000 | V20: =U20+T20+S20+R20 -> 0 | W20: =P20-Q20-V20 -> 0 | Y20: =H20-#REF!-#REF! -> #REF!
F21: =+F20+1 -> 20105 | G21: טיפול בגשרים ומבני דרך | H21: 20000000 | K21: =H21 -> 20000000 | N21: =SUM(J21:M21) -> 20000000 | Y21: =H21-#REF!-#REF! -> #REF!
F22: =+F21+1 -> 20106 | G22: שיפוץ חזיתות ומבנים במקומות שונים | H22: 1000000 | M22: =H22 -> 1000000 | N22: =SUM(J22:M22) -> 1000000 | Y22: =H22-#REF!-#REF! -> #REF!
G23: סה"כ משרד מהנדס העיר | H23: =SUM(H17:H22) -> 44500000 | I23: =SUM(I17:I22) -> 0 | J23: =SUM(J17:J22) -> 10000000 | K23: =SUM(K17:K22) -> 20000000 | L23: =SUM(L17:L22) -> 1500000 | M23: =SUM(M17:M22) -> 13000000 | N23: =SUM(N17:N22) -> 44500000 | O23: =SUM(O17:O21) -> 0 | P23: =SUM(P17:P21) -> 0 | Q23: =SUM(Q17:Q21) -> 0 | R23: =SUM(R17:R21) -> 0 | S23: =SUM(S17:S21) -> 0 | T23: =SUM(T17:T21) -> 0 | U23: =SUM(U17:U21) -> 0 | V23: =SUM(V17:V21) -> 0 | W23: =P23-Q23-V23 -> 0 | Y23: =H23-#REF!-#REF! -> #REF!
F24: 20200 | G24: תכנון עיר | W24: =P24-Q24-V24 -> 0 | Y24: =H24-#REF!-#REF! -> #REF!
F25: =+F24+1 -> 20201 | G25: מגורים, מלונאות והתחדשות עירונית | H25: =5550000+520000+1625000 -> 7695000 | J25: =H25 -> 7695000 | N25: =SUM(J25:M25) -> 7695000 | V25: =U25+T25+S25+R25 -> 0 | W25: =P25-Q25-V25 -> 0 | Y25: =H25-#REF!-#REF! -> #REF!
F26: =+F25+1 -> 20202 | G26: תוכניות שונות , שיתוף ציבור, נכסים עירוניים ושימור | H26: =500000+1000000+50000 -> 1550000 | J26: =H26-L26 -> 1500000 | L26: =50000 -> 50000
F27: =+F26+1 -> 20203 | G27: תעסוקה, תשתיות ודרכים | H27: =150000+500000 -> 650000 | J27: =H27 -> 650000 | N27: =SUM(J27:M27) -> 650000 | V27: =U27+T27+S27+R27 -> 0 | W27: =P27-Q27-V27 -> 0 | Y27: =H27-#REF!-#REF! -> #REF!
G28: סה"כ תכנון עיר | H28: =SUM(H25:H27) -> 9895000 | I28: =SUM(I25:I27) -> 0 | J28: =SUM(J25:J27) -> 9845000 | K28: =SUM(K25:K27) -> 0 | L28: =SUM(L25:L27) -> 50000 | M28: =SUM(M25:M27) -> 0 | N28: =SUM(N25:N27) -> 8345000 | O28: =SUM(O25:O27) -> 0 | ... V28: =SUM(V25:V27) -> 0 | W28: =P28-Q28-V28 -> 0 | Y28: =H28-#REF!-#REF! -> #REF!
F29: 20300 | G29: תכנון דרכים ותנועה | W29: =P29-Q29-V29 -> 0 | Y29: =H29-#REF!-#REF! -> #REF!
F30: =F29+1 -> 20301 | G30: השלמת פיתוח בשכונות-היטל דרכים | H30: 8000000 | K30: =H30 -> 8000000 | N30: =SUM(J30:M30) -> 8000000 | Y30: =H30-#REF!-#REF! -> #REF!
F31: =F30+1 -> 20302 | G31: תכנון ומדידה במקומות שונים | H31: 1000000 | J31: =H31 -> 1000000 | N31: =SUM(J31:M31) -> 1000000 | Y31: =H31-#REF!-#REF! -> #REF!
F32: =F31+1 -> 20303 | G32: נחלת יעקב-הסכם פיתוח | H32: 2000000 | K32: =H32 -> 2000000 | N32: =SUM(J32:M32) -> 2000000 | Y32: =H32-#REF!-#REF! -> #REF!
F33: =F32+1 -> 20304 | G33: פיתוח מתחם חביבה רייך | H33: 8000000 | K33: =H33 -> 8000000 | N33: =SUM(J33:M33) -> 8000000 | Y33: =H33-#REF!-#REF! -> #REF!
F34: =F33+1 -> 20305 | G34: שיקום שכונת הדר - מערב | H34: 2000000 | K34: =H34 -> 2000000 | N34: =SUM(J34:M34) -> 2000000 | Y34: =H34-#REF!-#REF! -> #REF!
F35: =F34+1 -> 20306 | G35: שיקום שכונת הדר מזרח | H35: 2000000 | K35: =H35 -> 2000000 | N35: =SUM(J35:M35) -> 2000000 | Y35: =H35-#REF!-#REF! -> #REF!
F36: =F35+1 -> 20307 | G36: פיתוח ליד גנ"י ומבני ציבור | H36: 2000000 | K36: =H36 -> 2000000 | N36: =SUM(J36:M36) -> 2000000 | Y36: =H36-#REF!-#REF! -> #REF!
F37: =F36+1 -> 20308 | G37: רח' בודנהיימר השלמת פיתוח | H37: 2000000 | K37: =H37 -> 2000000 | N37: =SUM(J37:M37) -> 2000000 | Y37: =H37-#REF!-#REF! -> #REF!
F38: =F37+1 -> 20309 | G38: רח' מח"ל היטלים | H38: 1500000 | K38: =H38 -> 1500000 | N38: =SUM(J38:M38) -> 1500000 | Y38: =H38-#REF!-#REF! -> #REF!
F39: =F38+1 -> 20310 | G39: שכונת האצטדיון ק. אליעזר | H39: 5000000 | K39: =H39 -> 5000000 | N39: =SUM(J39:M39) -> 5000000 | Y39: =H39-#REF!-#REF! -> #REF!
F40: =F39+1 -> 20311 | G40: שינויים בכרמליה - תכנון וביצוע | H40: 4000000 | K40: =H40 -> 4000000 | N40: =SUM(J40:M40) -> 4000000 | Y40: =H40-#REF!-#REF! -> #REF!
F41: =F40+1 -> 20312 | G41: רחוב משאש ביצוע מעגל תנועה | H41: 3000000 | K41: =H41 -> 3000000 | N41: =SUM(J41:M41) -> 3000000 | Y41: =H41-#REF!-#REF! -> #REF!
F42: =F41+1 -> 20313 | G42: מדידות | H42: 200000 | J42: =H42 -> 200000 | N42: =SUM(J42:M42) -> 200000 | Y42: =H42-#REF!-#REF! -> #REF!
F43: =F42+1 -> 20314 | G43: הסדרת כניסה לתחנת רכבת ולקמפוס הנמל | H43: 4000000 | J43: =H43 -> 4000000 | N43: =SUM(J43:M43) -> 4000000
F44: =F43+1 -> 20315 | G44: רחוב קדושי בגדד | H44: 2750000 | K44: =H44 -> 2750000 | N44: =SUM(J44:M44) -> 2750000
F45: =F44+1 -> 20316 | G45: רחוב יורדי הים | H45: 5950000 | K45: =H45 -> 5950000 | N45: =SUM(J45:M45) -> 5950000
...

Sheet ריכוז מינהלים
F6: עמודה1 | G6: עמודה2 | H6: תקציב 2012 | I6: עמודה3 | J6: תקציב 2013 | K6: עמודה4 | L6: תקציב 2014 | M6: עמודה5 | N6: תקציב 2015 | O6: עמודה6 | P6: תקציב 2016 | Q6: עמודה7 | R6: תקציב 2017 | S6: עמודה8 | T6: יתרה מועברת ל- 2018 | U6: עמודה9 | V6: עמודה10 | W6: עמודה11 | X6: עמודה12 | Y6: עמודה13 | Z6: עמודה14 | AA6: עמודה15 | AB6: עמודה16 | AC6: עמודה17 | AD6: עמודה18 | AE6: עמודה19 | AF6: עמודה20 | AG6: עמודה21 | AH6: עמודה22 | AI6: עמודה23 | AJ6: עמודה24 | AK6: עמודה25 | AL6: עמודה26
F7: מס' | G7: נושא | AO7: מקורות מימון 2009
F8: מס' סידורי | G8: נושא העבודה | H8: תקציב 2012 | I8: הרשאות 2012 | J8: תקציב 2013 | K8: הרשאות 2013 | L8: תקציב 2014 | M8: הרשאות 2014 | N8: תקציב 2015 | O8: הרשאות 2015 | P8: תקציב 2016 | Q8: הרשאות 2016 | R8: תקציב 2017 | S8: הרשאות 2017 עד לתאריך 3.10.17 | T8: אומדן יתרה ל-2018 | U8: ממשלה ומוסדות | V8: יתרה המועברת ל- 2018- מימון עירוני | W8: תקציב 2018 | X8: יצא בודאות גבוהה | Y8: ממשלה ומוסדות | Z8: הלוואות | AA8: עצמיות | AB8: עירוני | AC8: גמיש | AD8: ממשלה ומוסדות | AE8: הלוואות | AF8: עצמיות | AG8: ממשלה ומוסדות | AH8: היטל השבחה | AI8: בעלים | AJ8: הלוואות | AK8: מכירת נכסים | AL8: מימון עירוני | AM8: תקציב רב שנתי | AN8: הצעת אגף תקציבים | AO8: ממשלה ומוסדות | AP8: היטל השבחה | AQ8: בעלים | AR8: הלוואות | AS8: מכירת נכסים | AT8: מימון עירוני
F9: 1 | G9: סה"כ הנהלת העירייה | H9: =SUM(#REF!) -> #REF! | I9: =SUM(#REF!) -> #REF! | J9: =SUM(#REF!) -> #REF! | K9: =SUM(#REF!) -> #REF! | L9: =SUM(#REF!) -> #REF! | M9: =SUM(#REF!) -> #REF! | N9: =SUM(#REF!) -> #REF! | O9: =SUM(#REF!) -> #REF! | ... V9: =SUM(#REF!) -> #REF! | W9: ='תקציב 2018'!H14 -> 7728000 | X9: ='תקציב 2018'!#REF! -> #REF! | Y9: ='תקציב 2018'!#REF! -> #REF! | Z9: ='תקציב 2018'!#REF! -> #REF! | AA9: ='תקציב 2018'!#REF! -> #REF! | AB9: ='תקציב 2018'!#REF! -> #REF! | AC9: ='תקציב 2018'!#REF! -> #REF! | AD9: ='תקציב 2018'!#REF! -> #REF! | AE9: ='תקציב 2018'!#REF! -> #REF! | AF9: ='תקציב 2018'!#REF! -> #REF! | AG9: ='תקציב 2018'!I14 -> 0 | AH9: ='תקציב 2018'!J14 -> 0 | AI9: ='תקציב 2018'!K14 -> 0 | AJ9: ='תקציב 2018'!L14 -> 200000 | AK9: ='תקציב 2018'!M14 -> 7528000 | AL9: ='תקציב 2018'!N14 -> 7628000 | AM9: ='תקציב 2018'!O14 -> 0 | AN9: ='תקציב 2018'!P14 -> 0 | ... AU9: ='תקציב 2018'!W14 -> 0 | AW9: =W9-X9-AC9 -> #REF!
F10: 2 | G10: סה"כ מינהל הנדסה | H10: =#REF!+#REF!+#REF!+#REF!+#REF!+#REF!+#REF! -> #REF! | I10: =#REF!+#REF!+#REF!+#REF!+#REF!+#REF!+#REF! -> #REF! | J10: =#REF!+#REF!+#REF!+#REF!+#REF!+#REF!+#REF! -> #REF! | K10: =#REF!+#REF!+#REF!+#REF!+#REF!+#REF!+#REF! -> #REF! | L10: =#REF!+#REF!+#REF!+#REF!+#REF!+#REF!+#REF! -> #REF! | M10: =#REF!+#REF!+#REF!+#REF!+#REF!+#REF!+#REF! -> #REF! | N10: =#REF!+#REF!+#REF!+#REF!+#REF!+#REF!+#REF! -> #REF! | O10: =#REF!+#REF!+#REF!+#REF!+#REF!+#REF!+#REF! -> #REF! | ... V10: =#REF!+#REF!+#REF!+#REF!+#REF!+#REF!+#REF! -> #REF! | W10: ='תקציב 2018'!H88 -> 236345000 | X10: ='תקציב 2018'!#REF! -> #REF! | Y10: ='תקציב 2018'!#REF! -> #REF! | Z10: ='תקציב 2018'!#REF! -> #REF! | AA10: ='תקציב 2018'!#REF! -> #REF! | AB10: ='תקציב 2018'!#REF! -> #REF! | AC10: ='תקציב 2018'!#REF! -> #REF! | AD10: ='תקציב 2018'!#REF! -> #REF! | AE10: ='תקציב 2018'!#REF! -> #REF! | AF10: ='תקציב 2018'!#REF! -> #REF! | AG10: ='תקציב 2018'!I88 -> 32505000 | AH10: ='תקציב 2018'!J88 -> 56140000 | AI10: ='תקציב 2018'!K88 -> 114100000 | AJ10: ='תקציב 2018'!L88 -> 3200000 | AK10: ='תקציב 2018'!M88 -> 30400000 | AL10: ='תקציב 2018'!N88 -> 202290000 | AM10: ='תקציב 2018'!O88 -> #REF! | AN10: ='תקציב 2018'!P88 -> #REF! | ... AU10: ='תקציב 2018'!W88 -> #REF! | AW10: =W10-X10-AC10 -> #REF!
F11: 3 | G11: סה"כ מערכות חינוך, תרבות ורווחה | H11: =#REF!+#REF!+#REF! -> #REF! | I11: =#REF!+#REF!+#REF! -> #REF! | J11: =#REF!+#REF!+#REF! -> #REF! | K11: =#REF!+#REF!+#REF! -> #REF! | L11: =#REF!+#REF!+#REF! -> #REF! | M11: =#REF!+#REF!+#REF! -> #REF! | N11: =#REF!+#REF!+#REF! -> #REF! | O11: =#REF!+#REF!+#REF! -> #REF! | ... V11: =#REF!+#REF!+#REF! -> #REF! | W11: ='תקציב 2018'!H194 -> 65805000 | X11: ='תקציב 2018'!#REF! -> #REF! | Y11: ='תקציב 2018'!#REF! -> #REF! | Z11: ='תקציב 2018'!#REF! -> #REF! | AA11: ='תקציב 2018'!#REF! -> #REF! | AB11: ='תקציב 2018'!#REF! -> #REF! | AC11: ='תקציב 2018'!#REF! -> #REF! | AD11: ='תקציב 2018'!#REF! -> #REF! | AE11: ='תקציב 2018'!#REF! -> #REF! | AF11: ='תקציב 2018'!#REF! -> #REF! | AG11: ='תקציב 2018'!I194 -> 15861000 | AH11: ='תקציב 2018'!J194 -> 1500000 | AI11: ='תקציב 2018'!K194 -> 0 | AJ11: ='תקציב 2018'!L194 -> 16014000 | AK11: ='תקציב 2018'!M194 -> 32430000 | AL11: ='תקציב 2018'!N194 -> 49944000 | AM11: ='תקציב 2018'!O194 -> 0 | AN11: ='תקציב 2018'!P194 -> 0 | ... AU11: ='תקציב 2018'!W194 -> 0 | AW11: =W11-X11-AC11 -> #REF!
F12: 4 | G12: סה"כ מינהל תפעול | H12: =#REF!+#REF!+#REF!+#REF!+#REF!+#REF!+#REF!+#REF!+#REF! -> #REF! | I12: =#REF!+#REF!+#REF!+#REF!+#REF!+#REF!+#REF!+#REF!+#REF! -> #REF! | J12: =#REF!+#REF!+#REF!+#REF!+#REF!+#REF!+#REF!+#REF!+#REF! -> #REF! | K12: =#REF!+#REF!+#REF!+#REF!+#REF!+#REF!+#REF!+#REF!+#REF! -> #REF! | L12: =#REF!+#REF!+#REF!+#REF!+#REF!+#REF!+#REF!+#REF!+#REF! -> #REF! | M12: =#REF!+#REF!+#REF!+#REF!+#REF!+#REF!+#REF!+#REF!+#REF! -> #REF! | N12: =#REF!+#REF!+#REF!+#REF!+#REF!+#REF!+#REF!+#REF!+#REF! -> #REF! | O12: =#REF!+#REF!+#REF!+#REF!+#REF!+#REF!+#REF!+#REF!+#REF! -> #REF! | ... V12: =#REF!+#REF!+#REF!+#REF!+#REF!+#REF!+#REF!+#REF!+#REF! -> #REF! | W12: ='תקציב 2018'!H378 -> 262803000 | X12: ='תקציב 2018'!#REF! -> #REF! | Y12: ='תקציב 2018'!#REF! -> #REF! | Z12: ='תקציב 2018'!#REF! -> #REF! | AA12: ='תקציב 2018'!#REF! -> #REF! | AB12: ='תקציב 2018'!#REF! -> #REF! | AC12: ='תקציב 2018'!#REF! -> #REF! | AD12: ='תקציב 2018'!#REF! -> #REF! | AE12: ='תקציב 2018'!#REF! -> #REF! | AF12: ='תקציב 2018'!#REF! -> #REF! | AG12: ='תקציב 2018'!I378 -> 16121000 | AH12: ='תקציב 2018'!J378 -> 30303500 | AI12: ='תקציב 2018'!K378 -> 80391000 | AJ12: ='תקציב 2018'!L378 -> 127589000 | AK12: ='תקציב 2018'!M378 -> 8398500 | AL12: ='תקציב 2018'!N378 -> 246682000 | AM12: ='תקציב 2018'!O378 -> 0 | AN12: ='תקציב 2018'!P378 -> 52900000 | ... AU12: ='תקציב 2018'!W378 -> 0 | AW12: =W12-X12-AC12 -> #REF!
F13: 5 | G13: סה"כ חברות ועמותות | H13: =#REF!+#REF!+#REF! -> #REF! | I13: =#REF!+#REF!+#REF! -> #REF! | J13: =#REF!+#REF!+#REF! -> #REF! | K13: =#REF!+#REF!+#REF! -> #REF! | L13: =#REF!+#REF!+#REF! -> #REF! | M13: =#REF!+#REF!+#REF! -> #REF! | N13: =#REF!+#REF!+#REF! -> #REF! | O13: =#REF!+#REF!+#REF! -> #REF! | ... V13: =#REF!+#REF!+#REF! -> #REF! | W13: ='תקציב 2018'!H408 -> 22442000 | X13: ='תקציב 2018'!#REF! -> #REF! | Y13: ='תקציב 2018'!#REF! -> #REF! | Z13: ='תקציב 2018'!#REF! -> #REF! | AA13: ='תקציב 2018'!#REF! -> #REF! | AB13: ='תקציב 2018'!#REF! -> #REF! | AC13: ='תקציב 2018'!#REF! -> #REF! | AD13: ='תקציב 2018'!#REF! -> #REF! | AE13: ='תקציב 2018'!#REF! -> #REF! | AF13: ='תקציב 2018'!#REF! -> #REF! | AG13: ='תקציב 2018'!I408 -> 0 | AH13: ='תקציב 2018'!J408 -> 0 | AI13: ='תקציב 2018'!K408 -> 0 | AJ13: ='תקציב 2018'!L408 -> 8222000 | AK13: ='תקציב 2018'!M408 -> 14220000 | AL13: ='תקציב 2018'!N408 -> 22442000 | AM13: ='תקציב 2018'!O408 -> 0 | AN13: ='תקציב 2018'!P408 -> 0 | ... AU13: ='תקציב 2018'!W408 -> 0 | AW13: =W13-X13-AC13 -> #REF!
F14: 6 | G14: סה"כ תיירותיים | H14: =SUM(#REF!) -> #REF! | I14: =SUM(#REF!) -> #REF! | J14: =SUM(#REF!) -> #REF! | K14: =SUM(#REF!) -> #REF! | L14: =SUM(#REF!) -> #REF! | M14: =SUM(#REF!) -> #REF! | N14: =SUM(#REF!) -> #REF! | O14: =SUM(#REF!) -> #REF! | ... V14: =SUM(#REF!) -> #REF! | W14: ='תקציב 2018'!H413 -> 1930000 | X14: ='תקציב 2018'!#REF! -> #REF! | Y14: ='תקציב 2018'!#REF! -> #REF! | Z14: ='תקציב 2018'!#REF! -> #REF! | AA14: ='תקציב 2018'!#REF! -> #REF! | AB14: ='תקציב 2018'!#REF! -> #REF! | AC14: ='תקציב 2018'!#REF! -> #REF! | AD14: ='תקציב 2018'!#REF! -> #REF! | AE14: ='תקציב 2018'!#REF! -> #REF! | AF14: ='תקציב 2018'!#REF! -> #REF! | AG14: ='תקציב 2018'!I413 -> 0 | AH14: ='תקציב 2018'!J413 -> 0 | AI14: ='תקציב 2018'!K413 -> 0 | AJ14: ='תקציב 2018'!L413 -> 1930000 | AK14: ='תקציב 2018'!M413 -> 0 | AL14: ='תקציב 2018'!N413 -> 1930000 | AM14: ='תקציב 2018'!O413 -> 0 | AN14: ='תקציב 2018'!P413 -> 0 | ... AU14: ='תקציב 2018'!W413 -> 0 | AW14: =W14-X14-AC14 -> #REF!
F15: 7 | G15: סה"כ אחרים | H15: =SUM(#REF!) -> #REF! | I15: =SUM(#REF!) -> #REF! | J15: =SUM(#REF!) -> #REF! | K15: =SUM(#REF!) -> #REF! | L15: =SUM(#REF!) -> #REF! | M15: =SUM(#REF!) -> #REF! | N15: =SUM(#REF!) -> #REF! | O15: =SUM(#REF!) -> #REF! | ... V15: =SUM(#REF!) -> #REF! | W15: ='תקציב 2018'!H426 -> 27503000 | X15: ='תקציב 2018'!#REF! -> #REF! | Y15: ='תקציב 2018'!#REF! -> #REF! | Z15: ='תקציב 2018'!#REF! -> #REF! | AA15: ='תקציב 2018'!#REF! -> #REF! | AB15: ='תקציב 2018'!#REF! -> #REF! | AC15: ='תקציב 2018'!#REF! -> #REF! | AD15: ='תקציב 2018'!#REF! -> #REF! | AE15: ='תקציב 2018'!#REF! -> #REF! | AF15: ='תקציב 2018'!#REF! -> #REF! | AG15: ='תקציב 2018'!I426 -> 1500000 | AH15: ='תקציב 2018'!J426 -> 200000 | AI15: ='תקציב 2018'!K426 -> 0 | AJ15: ='תקציב 2018'!L426 -> 6335000 | AK15: ='תקציב 2018'!M426 -> 19468000 | AL15: ='תקציב 2018'!N426 -> 25968000 | AM15: ='תקציב 2018'!O426 -> 0 | AN15: ='תקציב 2018'!P426 -> 0 | ... AU15: ='תקציב 2018'!W426 -> 0 | AW15: =W15-X15-AC15 -> #REF!
F16: 8 | G16: סה"כ תחבורה ובינוי | H16: =#REF!+#REF!+#REF!+#REF! -> #REF! | I16: =#REF!+#REF!+#REF!+#REF! -> #REF! | J16: =#REF!+#REF!+#REF!+#REF! -> #REF! | K16: =#REF!+#REF!+#REF!+#REF! -> #REF! | L16: =#REF!+#REF!+#REF!+#REF! -> #REF! | M16: =#REF!+#REF!+#REF!+#REF! -> #REF! | N16: =#REF!+#REF!+#REF!+#REF! -> #REF! | O16: =#REF!+#REF!+#REF!+#REF! -> #REF! | ... V16: =#REF!+#REF!+#REF!+#REF! -> #REF! | W16: ='תקציב 2018'!H489 -> 614940000 | X16: ='תקציב 2018'!#REF! -> #REF! | Y16: ='תקציב 2018'!#REF! -> #REF! | Z16: ='תקציב 2018'!#REF! -> #REF! | AA16: ='תקציב 2018'!#REF! -> #REF! | AB16: ='תקציב 2018'!#REF! -> #REF! | AC16: ='תקציב 2018'!#REF! -> #REF! | AD16: ='תקציב 2018'!#REF! -> #REF! | AE16: ='תקציב 2018'!#REF! -> #REF! | AF16: ='תקציב 2018'!#REF! -> #REF! | AG16: ='תקציב 2018'!I489 -> 537560000 | AH16: ='תקציב 2018'!J489 -> 13230000 | AI16: ='תקציב 2018'!K489 -> 0 | AJ16: ='תקציב 2018'!L489 -> 3500000 | AK16: ='תקציב 2018'!M489 -> 60650000 | AL16: ='תקציב 2018'!N489 -> 77380000 | AM16: ='תקציב 2018'!O489 -> #REF! | AN16: ='תקציב 2018'!P489 -> #REF! | ... AU16: ='תקציב 2018'!W489 -> #REF! | AW16: =W16-X16-AC16 -> #REF!
F17: 9 | G17: סה"כ מינהל כספים | H17: =#REF!+#REF! -> #REF! | I17: =#REF!+#REF! -> #REF! | J17: =#REF!+#REF! -> #REF! | K17: =#REF!+#REF! -> #REF! | L17: =#REF!+#REF! -> #REF! | M17: =#REF!+#REF! -> #REF! | N17: =#REF!+#REF! -> #REF! | O17: =#REF!+#REF! -> #REF! | ... V17: =#REF!+#REF! -> #REF! | W17: ='תקציב 2018'!H498 -> 14550000 | X17: ='תקציב 2018'!#REF! -> #REF! | Y17: ='תקציב 2018'!#REF! -> #REF! | Z17: ='תקציב 2018'!#REF! -> #REF! | AA17: ='תקציב 2018'!#REF! -> #REF! | AB17: ='תקציב 2018'!#REF! -> #REF! | AC17: ='תקציב 2018'!#REF! -> #REF! | AD17: ='תקציב 2018'!#REF! -> #REF! | AE17: ='תקציב 2018'!#REF! -> #REF! | AF17: ='תקציב 2018'!#REF! -> #REF! | AG17: ='תקציב 2018'!I498 -> 0 | AH17: ='תקציב 2018'!J498 -> 700000 | AI17: ='תקציב 2018'!K498 -> 0 | AJ17: ='תקציב 2018'!L498 -> 13850000 | AK17: ='תקציב 2018'!M498 -> 0 | AL17: ='תקציב 2018'!N498 -> 14550000 | AM17: ='תקציב 2018'!O498 -> #REF! | AN17: ='תקציב 2018'!P498 -> #REF! | ... AU17: ='תקציב 2018'!W498 -> #REF! | AW17: =W17-X17-AC17 -> #REF!
G18: סה"כ תקציב פיתוח | H18: =H17+H16+H15+H14+H13+H12+H11+H10+H9 -> #REF! | I18: =I17+I16+I15+I14+I13+I12+I11+I10+I9 -> #REF! | J18: =J17+J16+J15+J14+J13+J12+J11+J10+J9 -> #REF! | K18: =K17+K16+K15+K14+K13+K12+K11+K10+K9 -> #REF! | L18: =L17+L16+L15+L14+L13+L12+L11+L10+L9 -> #REF! | M18: =M17+M16+M15+M14+M13+M12+M11+M10+M9 -> #REF! | N18: =N17+N16+N15+N14+N13+N12+N11+N10+N9 -> #REF! | O18: =O17+O16+O15+O14+O13+O12+O11+O10+O9 -> #REF! | ... AU18: =AU17+AU16+AU15+AU14+AU13+AU12+AU11+AU10+AU9 -> #REF! | AW18: =W18-X18-AC18 -> #REF!
C356: 0

Sheet ריכוז מחלקות
F6: מס' | G6: נושא | AO6: מקורות מימון 2009
F7: מס' סידורי | G7: נושא | H7: תקציב 2012 | I7: הרשאות 2012 | J7: תקציב 2013 | K7: הרשאות 2013 | L7: תקציב 2014 | M7: הרשאות 2014 | N7: תקציב 2015 | O7: הרשאות 2015 | P7: תקציב 2016 | Q7: הרשאות 2016 | R7: תקציב 2017 | S7: הרשאות 2017 עד לתאריך 3.10.17 | T7: אומדן יתרה ל-2018 | U7: ממשלה ומוסדות | V7: יתרה המועברת ל- 2018- מימון עירוני | W7: תקציב 2018 | X7: יצא בודאות גבוהה | Y7: ממשלה ומוסדות2 | Z7: הלוואות | AA7: עצמיות | AB7: עירוני | AC7: גמיש | AD7: ממשלה ומוסדות3 | AE7: הלוואות4 | AF7: עצמיות5 | AG7: ממשלה ומוסדות4 | AH7: היטל השבחה | AI7: בעלים | AJ7: הלוואות2 | AK7: מכירת נכסים | AL7: מימון עירוני | AM7: תקציב רב שנתי | AN7: הצעת אגף תקציבים | AO7: ממשלה ומוסדות | AP7: היטל השבחה | AQ7: בעלים | AR7: הלוואות | AS7: מכירת נכסים | AT7: מימון עירוני
F8: 1 | G8: סה"כ הנהלת העירייה | H8: =SUM(#REF!) -> #REF! | I8: =SUM(#REF!) -> #REF! | J8: =SUM(#REF!) -> #REF! | K8: =SUM(#REF!) -> #REF! | L8: =SUM(#REF!) -> #REF! | M8: =SUM(#REF!) -> #REF! | N8: =SUM(#REF!) -> #REF! | O8: =SUM(#REF!) -> #REF! | ... V8: =SUM(#REF!) -> #REF! | W8: ='תקציב 2018'!H14 -> 7728000 | X8: ='תקציב 2018'!#REF! -> #REF! | Y8: ='תקציב 2018'!#REF! -> #REF! | Z8: ='תקציב 2018'!#REF! -> #REF! | AA8: ='תקציב 2018'!#REF! -> #REF! | AB8: ='תקציב 2018'!#REF! -> #REF! | AC8: ='תקציב 2018'!#REF! -> #REF! | AD8: ='תקציב 2018'!#REF! -> #REF! | AE8: ='תקציב 2018'!#REF! -> #REF! | AF8: ='תקציב 2018'!#REF! -> #REF! | AG8: ='תקציב 2018'!I14 -> 0 | AH8: ='תקציב 2018'!J14 -> 0 | AI8: ='תקציב 2018'!K14 -> 0 | AJ8: ='תקציב 2018'!L14 -> 200000 | AK8: ='תקציב 2018'!M14 -> 7528000 | AL8: ='תקציב 2018'!N14 -> 7628000 | AM8: =SUM(#REF!) -> #REF! | AN8: =SUM(#REF!) -> #REF! | AO8: =SUM(#REF!) -> #REF! | AP8: =SUM(#REF!) -> #REF! | AQ8: =SUM(#REF!) -> #REF! | AR8: =SUM(#REF!) -> #REF! | AS8: =SUM(#REF!) -> #REF! | AT8: =SUM(#REF!) -> #REF! | AU8: =AN8-AO8-AT8 -> #REF! | AW8: =W8-X8-AC8 -> #REF!
G9: סה"כ משרד מהנדס העיר | H9: =SUM(#REF!) -> #REF! | I9: =SUM(#REF!) -> #REF! | J9: =SUM(#REF!) -> #REF! | K9: =SUM(#REF!) -> #REF! | L9: =SUM(#REF!) -> #REF! | M9: =SUM(#REF!) -> #REF! | N9: =SUM(#REF!) -> #REF! | O9: =SUM(#REF!) -> #REF! | ... V9: =SUM(#REF!) -> #REF! | W9: ='תקציב 2018'!H23 -> 44500000 | X9: ='תקציב 2018'!#REF! -> #REF! | Y9: ='תקציב 2018'!#REF! -> #REF! | Z9: ='תקציב 2018'!#REF! -> #REF! | AA9: ='תקציב 2018'!#REF! -> #REF! | AB9: ='תקציב 2018'!#REF! -> #REF! | AC9: ='תקציב 2018'!#REF! -> #REF! | AD9: ='תקציב 2018'!#REF! -> #REF! | AE9: ='תקציב 2018'!#REF! -> #REF! | AF9: ='תקציב 2018'!#REF! -> #REF! | AG9: ='תקציב 2018'!I23 -> 0 | AH9: ='תקציב 2018'!J23 -> 10000000 | AI9: ='תקציב 2018'!K23 -> 20000000 | AJ9: ='תקציב 2018'!L23 -> 1500000 | AK9: ='תקציב 2018'!M23 -> 13000000 | AL9: ='תקציב 2018'!N23 -> 44500000 | AM9: =SUM(#REF!) -> #REF! | AN9: =SUM(#REF!) -> #REF! | AO9: =SUM(#REF!) -> #REF! | AP9: =SUM(#REF!) -> #REF! | AQ9: =SUM(#REF!) -> #REF! | AR9: =SUM(#REF!) -> #REF! | AS9: =SUM(#REF!) -> #REF! | AT9: =SUM(#REF!) -> #REF! | AU9: =AN9-AO9-AT9 -> #REF! | AW9: =W9-X9-AC9 -> #REF!
G10: סה"כ תכנון עיר | H10: =SUM(#REF!) -> #REF! | I10: =SUM(#REF!) -> #REF! | J10: =SUM(#REF!) -> #REF! | K10: =SUM(#REF!) -> #REF! | L10: =SUM(#REF!) -> #REF! | M10: =SUM(#REF!) -> #REF! | N10: =SUM(#REF!) -> #REF! | O10: =SUM(#REF!) -> #REF! | ... V10: =SUM(#REF!) -> #REF! | W10: ='תקציב 2018'!H28 -> 9895000 | X10: ='תקציב 2018'!#REF! -> #REF! | Y10: ='תקציב 2018'!#REF! -> #REF! | Z10: ='תקציב 2018'!#REF! -> #REF! | AA10: ='תקציב 2018'!#REF! -> #REF! | AB10: ='תקציב 2018'!#REF! -> #REF! | AC10: ='תקציב 2018'!#REF! -> #REF! | AD10: ='תקציב 2018'!#REF! -> #REF! | AE10: ='תקציב 2018'!#REF! -> #REF! | AF10: ='תקציב 2018'!#REF! -> #REF! | AG10: ='תקציב 2018'!I28 -> 0 | AH10: ='תקציב 2018'!J28 -> 9845000 | AI10: ='תקציב 2018'!K28 -> 0 | AJ10: ='תקציב 2018'!L28 -> 50000 | AK10: ='תקציב 2018'!M28 -> 0 | AL10: ='תקציב 2018'!N28 -> 8345000 | AM10: =SUM(#REF!) -> #REF! | AN10: =SUM(#REF!) -> #REF! | AO10: =SUM(#REF!) -> #REF! | AP10: =SUM(#REF!) -> #REF! | AQ10: =SUM(#REF!) -> #REF! | AR10: =SUM(#REF!) -> #REF! | AS10: =SUM(#REF!) -> #REF! | AT10: =SUM(#REF!) -> #REF! | AU10: =AN10-AO10-AT10 -> #REF! | AW10: =W10-X10-AC10 -> #REF!
G11: סה"כ תכנון דרכים ותנועה | H11: =SUM(#REF!) -> #REF! | I11: =SUM(#REF!) -> #REF! | J11: =SUM(#REF!) -> #REF! | K11: =SUM(#REF!) -> #REF! | L11: =SUM(#REF!) -> #REF! | M11: =SUM(#REF!) -> #REF! | N11: =SUM(#REF!) -> #REF! | O11: =SUM(#REF!) -> #REF! | ... V11: =SUM(#REF!) -> #REF! | W11: ='תקציב 2018'!H57 -> 128500000 | X11: ='תקציב 2018'!#REF! -> #REF! | Y11: ='תקציב 2018'!#REF! -> #REF! | Z11: ='תקציב 2018'!#REF! -> #REF! | AA11: ='תקציב 2018'!#REF! -> #REF! | AB11: ='תקציב 2018'!#REF! -> #REF! | AC11: ='תקציב 2018'!#REF! -> #REF! | AD11: ='תקציב 2018'!#REF! -> #REF! | AE11: ='תקציב 2018'!#REF! -> #REF! | AF11: ='תקציב 2018'!#REF! -> #REF! | AG11: ='תקציב 2018'!I57 -> 8000000 | AH11: ='תקציב 2018'!J57 -> 31200000 | AI11: ='תקציב 2018'!K57 -> 88300000 | AJ11: ='תקציב 2018'!L57 -> 1000000 | AK11: ='תקציב 2018'!M57 -> 0 | AL11: ='תקציב 2018'!N57 -> 120500000 | AM11: =SUM(#REF!) -> #REF! | AN11: =SUM(#REF!) -> #REF! | AO11: =SUM(#REF!) -> #REF! | AP11: =SUM(#REF!) -> #REF! | AQ11: =SUM(#REF!) -> #REF! | AR11: =SUM(#REF!) -> #REF! | AS11: =SUM(#REF!) -> #REF! | AT11: =SUM(#REF!) -> #REF! | AU11: =AN11-AO11-AT11 -> #REF! | AW11: =W11-X11-AC11 -> #REF!
G12: סה"כ עבודות בשיתוף ממשלה | H12: =SUM(#REF!) -> #REF! | I12: =SUM(#REF!) -> #REF! | J12: =SUM(#REF!) -> #REF! | K12: =SUM(#REF!) -> #REF! | L12: =SUM(#REF!) -> #REF! | M12: =SUM(#REF!) -> #REF! | N12: =SUM(#REF!) -> #REF! | O12: =SUM(#REF!) -> #REF! | ... V12: =SUM(#REF!) -> #REF! | W12: ='תקציב 2018'!H62 -> 1150000 | X12: ='תקציב 2018'!#REF! -> #REF! | Y12: ='תקציב 2018'!#REF! -> #REF! | Z12: ='תקציב 2018'!#REF! -> #REF! | AA12: ='תקציב 2018'!#REF! -> #REF! | AB12: ='תקציב 2018'!#REF! -> #REF! | AC12: ='תקציב 2018'!#REF! -> #REF! | AD12: ='תקציב 2018'!#REF! -> #REF! | AE12: ='תקציב 2018'!#REF! -> #REF! | AF12: ='תקציב 2018'!#REF! -> #REF! | AG12: ='תקציב 2018'!I62 -> 505000 | AH12: ='תקציב 2018'!J62 -> 45000 | AI12: ='תקציב 2018'!K62 -> 0 | AJ12: ='תקציב 2018'!L62 -> 600000 | AK12: ='תקציב 2018'!M62 -> 0 | AL12: ='תקציב 2018'!N62 -> 645000 | AM12: =SUM(#REF!) -> #REF! | AN12: =SUM(#REF!) -> #REF! | AO12: =SUM(#REF!) -> #REF! | AP12: =SUM(#REF!) -> #REF! | AQ12: =SUM(#REF!) -> #REF! | AR12: =SUM(#REF!) -> #REF! | AS12: =SUM(#REF!) -> #REF! | AT12: =SUM(#REF!) -> #REF! | AU12: =AN12-AO12-AT12 -> #REF! | AW12: =W12-X12-AC12 -> #REF!
G13: סה"כ תכנון נוף | H13: =SUM(#REF!) -> #REF! | I13: =SUM(#REF!) -> #REF! | J13: =SUM(#REF!) -> #REF! | K13: =SUM(#REF!) -> #REF! | L13: =SUM(#REF!) -> #REF! | M13: =SUM(#REF!) -> #REF! | N13: =SUM(#REF!) -> #REF! | O13: =SUM(#REF!) -> #REF! | ... V13: =SUM(#REF!) -> #REF! | W13: ='תקציב 2018'!H71 -> 14300000 | X13: ='תקציב 2018'!#REF! -> #REF! | Y13: ='תקציב 2018'!#REF! -> #REF! | Z13: ='תקציב 2018'!#REF! -> #REF! | AA13: ='תקציב 2018'!#REF! -> #REF! | AB13: ='תקציב 2018'!#REF! -> #REF! | AC13: ='תקציב 2018'!#REF! -> #REF! | AD13: ='תקציב 2018'!#REF! -> #REF! | AE13: ='תקציב 2018'!#REF! -> #REF! | AF13: ='תקציב 2018'!#REF! -> #REF! | AG13: ='תקציב 2018'!I71 -> 4000000 | AH13: ='תקציב 2018'!J71 -> 4500000 | AI13: ='תקציב 2018'!K71 -> 5800000 | AJ13: ='תקציב 2018'!L71 -> 0 | AK13: ='תקציב 2018'!M71 -> 0 | AL13: ='תקציב 2018'!N71 -> 10300000 | AM13: =SUM(#REF!) -> #REF! | AN13: =SUM(#REF!) -> #REF! | AO13: =SUM(#REF!) -> #REF! | AP13: =SUM(#REF!) -> #REF! | AQ13: =SUM(#REF!) -> #REF! | AR13: =SUM(#REF!) -> #REF! | AS13: =SUM(#REF!) -> #REF! | AT13: =SUM(#REF!) -> #REF! | AU13: =AN13-AO13-AT13 -> #REF! | AW13: =W13-X13-AC13 -> #REF!
G14: סה"כ נכסים | H14: =SUM(#REF!) -> #REF! | I14: =SUM(#REF!) -> #REF! | J14: =SUM(#REF!) -> #REF! | K14: =SUM(#REF!) -> #REF! | L14: =SUM(#REF!) -> #REF! | M14: =SUM(#REF!) -> #REF! | N14: =SUM(#REF!) -> #REF! | O14: =SUM(#REF!) -> #REF! | ... V14: =SUM(#REF!) -> #REF! | W14: ='תקציב 2018'!H87 -> 38000000 | X14: ='תקציב 2018'!#REF! -> #REF! | Y14: ='תקציב 2018'!#REF! -> #REF! | Z14: ='תקציב 2018'!#REF! -> #REF! | AA14: ='תקציב 2018'!#REF! -> #REF! | AB14: ='תקציב 2018'!#REF! -> #REF! | AC14: ='תקציב 2018'!#REF! -> #REF! | AD14: ='תקציב 2018'!#REF! -> #REF! | AE14: ='תקציב 2018'!#REF! -> #REF! | AF14: ='תקציב 2018'!#REF! -> #REF! | AG14: ='תקציב 2018'!I87 -> 20000000 | AH14: ='תקציב 2018'!J87 -> 550000 | AI14: ='תקציב 2018'!K87 -> 0 | AJ14: ='תקציב 2018'!L87 -> 50000 | AK14: ='תקציב 2018'!M87 -> 17400000 | AL14: ='תקציב 2018'!N87 -> 18000000 | AM14: =SUM(#REF!) -> #REF! | AN14: =SUM(#REF!) -> #REF! | AO14: =SUM(#REF!) -> #REF! | AP14: =SUM(#REF!) -> #REF! | AQ14: =SUM(#REF!) -> #REF! | AR14: =SUM(#REF!) -> #REF! | AS14: =SUM(#REF!) -> #REF! | AT14: =SUM(#REF!) -> #REF! | AU14: =AN14-AO14-AT14 -> #REF! | AW14: =W14-X14-AC14 -> #REF!
F15: 2 | G15: סה"כ מינהל הנדסה | H15: =H14+H13+H12+H11+#REF!+H10+H9 -> #REF! | I15: =I14+I13+I12+I11+#REF!+I10+I9 -> #REF! | J15: =J14+J13+J12+J11+#REF!+J10+J9 -> #REF! | K15: =K14+K13+K12+K11+#REF!+K10+K9 -> #REF! | L15: =L14+L13+L12+L11+#REF!+L10+L9 -> #REF! | M15: =M14+M13+M12+M11+#REF!+M10+M9 -> #REF! | N15: =N14+N13+N12+N11+#REF!+N10+N9 -> #REF! | O15: =O14+O13+O12+O11+#REF!+O10+O9 -> #REF! | ... V15: =V14+V13+V12+V11+#REF!+V10+V9 -> #REF! | W15: =W14+W13+W12+W11+W10+W9 -> 236345000 | X15: =X14+X13+X12+X11+X10+X9 -> #REF! | Y15: =Y14+Y13+Y12+Y11+Y10+Y9 -> #REF! | Z15: =Z14+Z13+Z12+Z11+Z10+Z9 -> #REF! | AA15: =AA14+AA13+AA12+AA11+AA10+AA9 -> #REF! | AB15: =AB14+AB13+AB12+AB11+AB10+AB9 -> #REF! | AC15: =AC14+AC13+AC12+AC11+AC10+AC9 -> #REF! | AD15: =AD14+AD13+AD12+AD11+AD10+AD9 -> #REF! | ... AL15: =AL14+AL13+AL12+AL11+AL10+AL9 -> 202290000 | AM15: =AM14+AM13+AM12+AM11+#REF!+AM10+AM9 -> #REF! | AN15: =AN14+AN13+AN12+AN11+#REF!+AN10+AN9 -> #REF! | AO15: =AO14+AO13+AO12+AO11+#REF!+AO10+AO9 -> #REF! | AP15: =AP14+AP13+AP12+AP11+#REF!+AP10+AP9 -> #REF! | AQ15: =AQ14+AQ13+AQ12+AQ11+#REF!+AQ10+AQ9 -> #REF! | AR15: =AR14+AR13+AR12+AR11+#REF!+AR10+AR9 -> #REF! | AS15: =AS14+AS13+AS12+AS11+#REF!+AS10+AS9 -> #REF! | AT15: =AT14+AT13+AT12+AT11+#REF!+AT10+AT9 -> #REF! | AU15: =AN15-AO15-AT15 -> #REF! | AW15: =W15-X15-AC15 -> #REF!
G16: סה"כ עבודות בטיחות וביטחון | H16: =SUM(#REF!) -> #REF! | I16: =SUM(#REF!) -> #REF! | J16: =SUM(#REF!) -> #REF! | K16: =SUM(#REF!) -> #REF! | L16: =SUM(#REF!) -> #REF! | M16: =SUM(#REF!) -> #REF! | N16: =SUM(#REF!) -> #REF! | O16: =SUM(#REF!) -> #REF! | ... V16: =SUM(#REF!) -> #REF! | W16: ='תקציב 2018'!H97 -> 8050000 | X16: ='תקציב 2018'!#REF! -> #REF! | Y16: ='תקציב 2018'!#REF! -> #REF! | Z16: ='תקציב 2018'!#REF! -> #REF! | AA16: ='תקציב 2018'!#REF! -> #REF! | AB16: ='תקציב 2018'!#REF! -> #REF! | AC16: ='תקציב 2018'!#REF! -> #REF! | AD16: ='תקציב 2018'!#REF! -> #REF! | AE16: ='תקציב 2018'!#REF! -> #REF! | AF16: ='תקציב 2018'!#REF! -> #REF! | AG16: ='תקציב 2018'!I97 -> 0 | AH16: ='תקציב 2018'!J97 -> 0 | AI16: ='תקציב 2018'!K97 -> 0 | AJ16: ='תקציב 2018'!L97 -> 2050000 | AK16: ='תקציב 2018'!M97 -> 6000000 | AL16: ='תקציב 2018'!N97 -> 8050000 | AM16: =SUM(#REF!) -> #REF! | AN16: =SUM(#REF!) -> #REF! | AO16: =SUM(#REF!) -> #REF! | AP16: =SUM(#REF!) -> #REF! | AQ16: =SUM(#REF!) -> #REF! | AR16: =SUM(#REF!) -> #REF! | AS16: =SUM(#REF!) -> #REF! | AT16: =SUM(#REF!) -> #REF! | AU16: =SUM(#REF!) -> #REF! | AW16: =W16-X16-AC16 -> #REF!
G17: סה"כ עבודות מיוחדות | H17: =SUM(#REF!) -> #REF! | I17: =SUM(#REF!) -> #REF! | J17: =SUM(#REF!) -> #REF! | K17: =SUM(#REF!) -> #REF! | L17: =SUM(#REF!) -> #REF! | M17: =SUM(#REF!) -> #REF! | N17: =SUM(#REF!) -> #REF! | O17: =SUM(#REF!) -> #REF! | ... V17: =SUM(#REF!) -> #REF! | W17: ='תקציב 2018'!H113 -> 11870000 | X17: ='תקציב 2018'!#REF! -> #REF! | Y17: ='תקציב 2018'!#REF! -> #REF! | Z17: ='תקציב 2018'!#REF! -> #REF! | AA17: ='תקציב 2018'!#REF! -> #REF! | AB17: ='תקציב 2018'!#REF! -> #REF! | AC17: ='תקציב 2018'!#REF! -> #REF! | AD17: ='תקציב 2018'!#REF! -> #REF! | AE17: ='תקציב 2018'!#REF! -> #REF! | AF17: ='תקציב 2018'!#REF! -> #REF! | AG17: ='תקציב 2018'!I113 -> 800000 | AH17: ='תקציב 2018'!J113 -> 0 | AI17: ='תקציב 2018'!K113 -> 0 | AJ17: ='תקציב 2018'!L113 -> 920000 | AK17: ='תקציב 2018'!M113 -> 10150000 | AL17: ='תקציב 2018'!N113 -> 11070000 | AM17: =SUM(#REF!) -> #REF! | AN17: =SUM(#REF!) -> #REF! | AO17: =SUM(#REF!) -> #REF! | AP17: =SUM(#REF!) -> #REF! | AQ17: =SUM(#REF!) -> #REF! | AR17: =SUM(#REF!) -> #REF! | AS17: =SUM(#REF!) -> #REF! | AT17: =SUM(#REF!) -> #REF! | AU17: =AN17-AO17-AT17 -> #REF! | AW17: =W17-X17-AC17 -> #REF!
G18: סה"כ שיפוצים ובטיחות מבני חינוך | H18: =SUM(#REF!) -> #REF! | I18: =SUM(#REF!) -> #REF! | J18: =SUM(#REF!) -> #REF! | K18: =SUM(#REF!) -> #REF! | L18: =SUM(#REF!) -> #REF! | M18: =SUM(#REF!) -> #REF! | N18: =SUM(#REF!) -> #REF! | O18: =SUM(#REF!) -> #REF! | ... V18: =SUM(#REF!) -> #REF! | W18: ='תקציב 2018'!H133 -> 17450000 | X18: ='תקציב 2018'!#REF! -> #REF! | Y18: ='תקציב 2018'!#REF! -> #REF! | Z18: ='תקציב 2018'!#REF! -> #REF! | AA18: ='תקציב 2018'!#REF! -> #REF! | AB18: ='תקציב 2018'!#REF! -> #REF! | AC18: ='תקציב 2018'!#REF! -> #REF! | AD18: ='תקציב 2018'!#REF! -> #REF! | AE18: ='תקציב 2018'!#REF! -> #REF! | AF18: ='תקציב 2018'!#REF! -> #REF! | AG18: ='תקציב 2018'!I133 -> 3650000 | AH18: ='תקציב 2018'!J133 -> 1350000 | AI18: ='תקציב 2018'!K133 -> 0 | AJ18: ='תקציב 2018'!L133 -> 4420000 | AK18: ='תקציב 2018'!M133 -> 8030000 | AL18: ='תקציב 2018'!N133 -> 13800000 | AM18: =SUM(#REF!) -> #REF! | AN18: =SUM(#REF!) -> #REF! | AO18: =SUM(#REF!) -> #REF! | AP18: =SUM(#REF!) -> #REF! | AQ18: =SUM(#REF!) -> #REF! | AR18: =SUM(#REF!) -> #REF! | AS18: =SUM(#REF!) -> #REF! | AT18: =SUM(#REF!) -> #REF! | AU18: =AN18-AO18-AT18 -> #REF! | AW18: =W18-X18-AC18 -> #REF!
G19: סה"כ ריהוט וציוד | H19: =SUM(#REF!) -> #REF! | I19: =SUM(#REF!) -> #REF! | J19: =SUM(#REF!) -> #REF! | K19: =SUM(#REF!) -> #REF! | L19: =SUM(#REF!) -> #REF! | M19: =SUM(#REF!) -> #REF! | N19: =SUM(#REF!) -> #REF! | O19: =SUM(#REF!) -> #REF! | ... V19: =SUM(#REF!) -> #REF! | W19: ='תקציב 2018'!H142 -> 2930000 | X19: ='תקציב 2018'!#REF! -> #REF! | Y19: ='תקציב 2018'!#REF! -> #REF! | Z19: ='תקציב 2018'!#REF! -> #REF! | AA19: ='תקציב 2018'!#REF! -> #REF! | AB19: ='תקציב 2018'!#REF! -> #REF! | AC19: ='תקציב 2018'!#REF! -> #REF! | AD19: ='תקציב 2018'!#REF! -> #REF! | AE19: ='תקציב 2018'!#REF! -> #REF! | AF19: ='תקציב 2018'!#REF! -> #REF! | AG19: ='תקציב 2018'!I142 -> 434000 | AH19: ='תקציב 2018'!J142 -> 0 | AI19: ='תקציב 2018'!K142 -> 0 | AJ19: ='תקציב 2018'!L142 -> 2496000 | AK19: ='תקציב 2018'!M142 -> 0 | AL19: ='תקציב 2018'!N142 -> 2496000 | AM19: =SUM(#REF!) -> #REF! | AN19: =SUM(#REF!) -> #REF! | AO19: =SUM(#REF!) -> #REF! | AP19: =SUM(#REF!) -> #REF! | AQ19: =SUM(#REF!) -> #REF! | AR19: =SUM(#REF!) -> #REF! | AS19: =SUM(#REF!) -> #REF! | AT19: =SUM(#REF!) -> #REF! | AU19: =AN19-AO19-AT19 -> #REF! | AW19: =W19-X19-AC19 -> #REF!
G20: סה"כ פרוייקטים בשיתוף ביטוח לאומי | H20: =SUM(#REF!) -> #REF! | I20: =SUM(#REF!) -> #REF! | J20: =SUM(#REF!) -> #REF! | K20: =SUM(#REF!) -> #REF! | L20: =SUM(#REF!) -> #REF! | M20: =SUM(#REF!) -> #REF! | N20: =SUM(#REF!) -> #REF! | O20: =SUM(#REF!) -> #REF! | ... V20: =SUM(#REF!) -> #REF! | W20: ='תקציב 2018'!H145 -> 300000 | X20: ='תקציב 2018'!#REF! -> #REF! | Y20: ='תקציב 2018'!#REF! -> #REF! | Z20: ='תקציב 2018'!#REF! -> #REF! | AA20: ='תקציב 2018'!#REF! -> #REF! | AB20: ='תקציב 2018'!#REF! -> #REF! | AC20: ='תקציב 2018'!#REF! -> #REF! | AD20: ='תקציב 2018'!#REF! -> #REF! | AE20: ='תקציב 2018'!#REF! -> #REF! | AF20: ='תקציב 2018'!#REF! -> #REF! | AG20: ='תקציב 2018'!I145 -> 150000 | AH20: ='תקציב 2018'!J145 -> 0 | AI20: ='תקציב 2018'!K145 -> 0 | AJ20: ='תקציב 2018'!L145 -> 150000 | AK20: ='תקציב 2018'!M145 -> 0 | AL20: ='תקציב 2018'!N145 -> 150000 | AM20: =SUM(#REF!) -> #REF! | AN20: =SUM(#REF!) -> #REF! | AO20: =SUM(#REF!) -> #REF! | AP20: =SUM(#REF!) -> #REF! | AQ20: =SUM(#REF!) -> #REF! | AR20: =SUM(#REF!) -> #REF! | AS20: =SUM(#REF!) -> #REF! | AT20: =SUM(#REF!) -> #REF! | AU20: =AN20-AO20-AT20 -> #REF! | AW20: =W20-X20-AC20 -> #REF!
G21: סה"כ מדע וטכנולוגיה | H21: =SUM(#REF!) -> #REF! | I21: =SUM(#REF!) -> #REF! | J21: =SUM(#REF!) -> #REF! | K21: =SUM(#REF!) -> #REF! | L21: =SUM(#REF!) -> #REF! | M21: =SUM(#REF!) -> #REF! | N21: =SUM(#REF!) -> #REF! | O21: =SUM(#REF!) -> #REF! | ... V21: =SUM(#REF!) -> #REF! | W21: ='תקציב 2018'!H150 -> 570000 | X21: ='תקציב 2018'!#REF! -> #REF! | Y21: ='תקציב 2018'!#REF! -> #REF! | Z21: ='תקציב 2018'!#REF! -> #REF! | AA21: ='תקציב 2018'!#REF! -> #REF! | AB21: ='תקציב 2018'!#REF! -> #REF! | AC21: ='תקציב 2018'!#REF! -> #REF! | AD21: ='תקציב 2018'!#REF! -> #REF! | AE21: ='תקציב 2018'!#REF! -> #REF! | AF21: ='תקציב 2018'!#REF! -> #REF! | AG21: ='תקציב 2018'!I150 -> 250000 | AH21: ='תקציב 2018'!J150 -> 0 | AI21: ='תקציב 2018'!K150 -> 0 | AJ21: ='תקציב 2018'!L150 -> 320000 | AK21: ='תקציב 2018'!M150 -> 0 | AL21: ='תקציב 2018'!N150 -> 320000 | AM21: =SUM(#REF!) -> #REF! | AN21: =SUM(#REF!) -> #REF! | AO21: =SUM(#REF!) -> #REF! | AP21: =SUM(#REF!) -> #REF! | AQ21: =SUM(#REF!) -> #REF! | AR21: =SUM(#REF!) -> #REF! | AS21: =SUM(#REF!) -> #REF! | AT21: =SUM(#REF!) -> #REF! | AU21: =AN21-AO21-AT21 -> #REF! | AW21: =W21-X21-AC21 -> #REF!
G22: סה"כ מיחשוב מוסדות חינוך | H22: =SUM(#REF!) -> #REF! | I22: =SUM(#REF!) -> #REF! | J22: =SUM(#REF!) -> #REF! | K22: =SUM(#REF!) -> #REF! | L22: =SUM(#REF!) -> #REF! | M22: =SUM(#REF!) -> #REF! | N22: =SUM(#REF!) -> #REF! | O22: =SUM(#REF!) -> #REF! | ... V22: =SUM(#REF!) -> #REF! | W22: ='תקציב 2018'!H157 -> 4280000 | X22: ='תקציב 2018'!#REF! -> #REF! | Y22: ='תקציב 2018'!#REF! -> #REF! | Z22: ='תקציב 2018'!#REF! -> #REF! | AA22: ='תקציב 2018'!#REF! -> #REF! | AB22: ='תקציב 2018'!#REF! -> #REF! | AC22: ='תקציב 2018'!#REF! -> #REF! | AD22: ='תקציב 2018'!#REF! -> #REF! | AE22: ='תקציב 2018'!#REF! -> #REF! | AF22: ='תקציב 2018'!#REF! -> #REF! | AG22: ='תקציב 2018'!I157 -> 3027000 | AH22: ='תקציב 2018'!J157 -> 0 | AI22: ='תקציב 2018'!K157 -> 0 | AJ22: ='תקציב 2018'!L157 -> 1253000 | AK22: ='תקציב 2018'!M157 -> 0 | AL22: ='תקציב 2018'!N157 -> 1253000 | AM22: =SUM(#REF!) -> #REF! | AN22: =SUM(#REF!) -> #REF! | AO22: =SUM(#REF!) -> #REF! | AP22: =SUM(#REF!) -> #REF! | AQ22: =SUM(#REF!) -> #REF! | AR22: =SUM(#REF!) -> #REF! | AS22: =SUM(#REF!) -> #REF! | AT22: =SUM(#REF!) -> #REF! | AU22: =AN22-AO22-AT22 -> #REF! | AW22: =W22-X22-AC22 -> #REF!
G23: סה"כ מערכת תרבות | H23: =SUM(#REF!) -> #REF! | I23: =SUM(#REF!) -> #REF! | J23: =SUM(#REF!) -> #REF! | K23: =SUM(#REF!) -> #REF! | L23: =SUM(#REF!) -> #REF! | M23: =SUM(#REF!) -> #REF! | N23: =SUM(#REF!) -> #REF! | O23: =SUM(#REF!) -> #REF! | ... V23: =SUM(#REF!) -> #REF! | W23: ='תקציב 2018'!H185 -> 16300000 | X23: ='תקציב 2018'!#REF! -> #REF! | Y23: ='תקציב 2018'!#REF! -> #REF! | Z23: ='תקציב 2018'!#REF! -> #REF! | AA23: ='תקציב 2018'!#REF! -> #REF! | AB23: ='תקציב 2018'!#REF! -> #REF! | AC23: ='תקציב 2018'!#REF! -> #REF! | AD23: ='תקציב 2018'!#REF! -> #REF! | AE23: ='תקציב 2018'!#REF! -> #REF! | AF23: ='תקציב 2018'!#REF! -> #REF! | AG23: ='תקציב 2018'!I185 -> 7550000 | AH23: ='תקציב 2018'!J185 -> 150000 | AI23: ='תקציב 2018'!K185 -> 0 | AJ23: ='תקציב 2018'!L185 -> 3850000 | AK23: ='תקציב 2018'!M185 -> 4750000 | AL23: ='תקציב 2018'!N185 -> 8750000 | AM23: =SUM(#REF!) -> #REF! | AN23: =SUM(#REF!) -> #REF! | AO23: =SUM(#REF!) -> #REF! | AP23: =SUM(#REF!) -> #REF! | AQ23: =SUM(#REF!) -> #REF! | AR23: =SUM(#REF!) -> #REF! | AS23: =SUM(#REF!) -> #REF! | AT23: =SUM(#REF!) -> #REF! | AU23: =AN23-AO23-AT23 -> #REF! | AW23: =W23-X23-AC23 -> #REF!
G24: סה"כ מערכת רווחה | H24: =SUM(#REF!) -> #REF! | I24: =SUM(#REF!) -> #REF! | J24: =SUM(#REF!) -> #REF! | K24: =SUM(#REF!) -> #REF! | L24: =SUM(#REF!) -> #REF! | M24: =SUM(#REF!) -> #REF! | N24: =SUM(#REF!) -> #REF! | O24: =SUM(#REF!) -> #REF! | ... V24: =SUM(#REF!) -> #REF! | W24: ='תקציב 2018'!H193 -> 4055000 | X24: ='תקציב 2018'!#REF! -> #REF! | Y24: ='תקציב 2018'!#REF! -> #REF! | Z24: ='תקציב 2018'!#REF! -> #REF! | AA24: ='תקציב 2018'!#REF! -> #REF! | AB24: ='תקציב 2018'!#REF! -> #REF! | AC24: ='תקציב 2018'!#REF! -> #REF! | AD24: ='תקציב 2018'!#REF! -> #REF! | AE24: ='תקציב 2018'!#REF! -> #REF! | AF24: ='תקציב 2018'!#REF! -> #REF! | AG24: ='תקציב 2018'!I193 -> 0 | AH24: ='תקציב 2018'!J193 -> 0 | AI24: ='תקציב 2018'!K193 -> 0 | AJ24: ='תקציב 2018'!L193 -> 555000 | AK24: ='תקציב 2018'!M193 -> 3500000 | AL24: ='תקציב 2018'!N193 -> 4055000 | AM24: =SUM(#REF!) -> #REF! | AN24: =SUM(#REF!) -> #REF! | AO24: =SUM(#REF!) -> #REF! | AP24: =SUM(#REF!) -> #REF! | AQ24: =SUM(#REF!) -> #REF! | AR24: =SUM(#REF!) -> #REF! | AS24: =SUM(#REF!) -> #REF! | AT24: =SUM(#REF!) -> #REF! | AU24: =AN24-AO24-AT24 -> #REF! | AW24: =W24-X24-AC24 -> #REF!
F25: 3 | G25: סה"כ מערכות חינוך, תרבות ורווחה | H25: =H24+H23+#REF! -> #REF! | I25: =I24+I23+#REF! -> #REF! | J25: =J24+J23+#REF! -> #REF! | K25: =K24+K23+#REF! -> #REF! | L25: =L24+L23+#REF! -> #REF! | M25: =M24+M23+#REF! -> #REF! | N25: =N24+N23+#REF! -> #REF! | O25: =O24+O23+#REF! -> #REF! | ... V25: =V24+V23+#REF! -> #REF! | W25: ='תקציב 2018'!H194 -> 65805000 | X25: ='תקציב 2018'!#REF! -> #REF! | Y25: ='תקציב 2018'!#REF! -> #REF! | Z25: ='תקציב 2018'!#REF! -> #REF! | AA25: ='תקציב 2018'!#REF! -> #REF! | AB25: ='תקציב 2018'!#REF! -> #REF! | AC25: ='תקציב 2018'!#REF! -> #REF! | AD25: ='תקציב 2018'!#REF! -> #REF! | AE25: ='תקציב 2018'!#REF! -> #REF! | AF25: ='תקציב 2018'!#REF! -> #REF! | AG25: ='תקציב 2018'!I194 -> 15861000 | AH25: ='תקציב 2018'!J194 -> 1500000 | AI25: ='תקציב 2018'!K194 -> 0 | AJ25: ='תקציב 2018'!L194 -> 16014000 | AK25: ='תקציב 2018'!M194 -> 32430000 | AL25: ='תקציב 2018'!N194 -> 49944000 | AM25: =AM24+AM23+#REF! -> #REF! | AN25: =AN24+AN23+#REF! -> #REF! | AO25: =AO24+AO23+#REF! -> #REF! | AP25: =AP24+AP23+#REF! -> #REF! | AQ25: =AQ24+AQ23+#REF! -> #REF! | AR25: =AR24+AR23+#REF! -> #REF! | AS25: =AS24+AS23+#REF! -> #REF! | AT25: =AT24+AT23+#REF! -> #REF! | AU25: =AN25-AO25-AT25 -> #REF! | AW25: =W25-X25-AC25 -> #REF!
G26: סה"כ מינהלי | H26: =SUM(#REF!) -> #REF! | I26: =SUM(#REF!) -> #REF! | J26: =SUM(#REF!) -> #REF! | K26: =SUM(#REF!) -> #REF! | L26: =SUM(#REF!) -> #REF! | M26: =SUM(#REF!) -> #REF! | N26: =SUM(#REF!) -> #REF! | O26: =SUM(#REF!) -> #REF! | ... V26: =SUM(#REF!) -> #REF! | W26: ='תקציב 2018'!H203 -> 6710000 | X26: ='תקציב 2018'!#REF! -> #REF! | Y26: ='תקציב 2018'!#REF! -> #REF! | Z26: ='תקציב 2018'!#REF! -> #REF! | AA26: ='תקציב 2018'!#REF! -> #REF! | AB26: ='תקציב 2018'!#REF! -> #REF! | AC26: ='תקציב 2018'!#REF! -> #REF! | AD26: ='תקציב 2018'!#REF! -> #REF! | AE26: ='תקציב 2018'!#REF! -> #REF! | AF26: ='תקציב 2018'!#REF! -> #REF! | AG26: ='תקציב 2018'!I203 -> 1200000 | AH26: ='תקציב 2018'!J203 -> 200000 | AI26: ='תקציב 2018'!K203 -> 30000 | AJ26: ='תקציב 2018'!L203 -> 950000 | AK26: ='תקציב 2018'!M203 -> 4330000 | AL26: ='תקציב 2018'!N203 -> 5510000 | AM26: =SUM(#REF!) -> #REF! | AN26: =SUM(#REF!) -> #REF! | AO26: =SUM(#REF!) -> #REF! | AP26: =SUM(#REF!) -> #REF! | AQ26: =SUM(#REF!) -> #REF! | AR26: =SUM(#REF!) -> #REF! | AS26: =SUM(#REF!) -> #REF! | AT26: =SUM(#REF!) -> #REF! | AU26: =AN26-AO26-AT26 -> #REF! | AW26: =W26-X26-AC26 -> #REF!
G27: סה"כ אגף תברואה | H27: =SUM(#REF!) -> #REF! | I27: =SUM(#REF!) -> #REF! | J27: =SUM(#REF!) -> #REF! | K27: =SUM(#REF!) -> #REF! | L27: =SUM(#REF!) -> #REF! | M27: =SUM(#REF!) -> #REF! | N27: =SUM(#REF!) -> #REF! | O27: =SUM(#REF!) -> #REF! | ... V27: =SUM(#REF!) -> #REF! | W27: ='תקציב 2018'!H234 -> 83766000 | X27: ='תקציב 2018'!#REF! -> #REF! | Y27: ='תקציב 2018'!#REF! -> #REF! | Z27: ='תקציב 2018'!#REF! -> #REF! | AA27: ='תקציב 2018'!#REF! -> #REF! | AB27: ='תקציב 2018'!#REF! -> #REF! | AC27: ='תקציב 2018'!#REF! -> #REF! | AD27: ='תקציב 2018'!#REF! -> #REF! | AE27: ='תקציב 2018'!#REF! -> #REF! | AF27: ='תקציב 2018'!#REF! -> #REF! | AG27: ='תקציב 2018'!I234 -> 0 | AH27: ='תקציב 2018'!J234 -> 0 | AI27: ='תקציב 2018'!K234 -> 0 | AJ27: ='תקציב 2018'!L234 -> 82266000 | AK27: ='תקציב 2018'!M234 -> 1500000 | AL27: ='תקציב 2018'!N234 -> 83766000 | AM27: =SUM(#REF!) -> #REF! | AN27: =SUM(#REF!) -> #REF! | AO27: =SUM(#REF!) -> #REF! | AP27: =SUM(#REF!) -> #REF! | AQ27: =SUM(#REF!) -> #REF! | AR27: =SUM(#REF!) -> #REF! | AS27: =SUM(#REF!) -> #REF! | AT27: =SUM(#REF!) -> #REF! | AU27: =SUM(#REF!) -> #REF! | AW27: =W27-X27-AC27 -> #REF!
G28: סה"כ שירות וטרינרי | H28: =SUM(#REF!) -> #REF! | I28: =SUM(#REF!) -> #REF! | J28: =SUM(#REF!) -> #REF! | K28: =SUM(#REF!) -> #REF! | L28: =SUM(#REF!) -> #REF! | M28: =SUM(#REF!) -> #REF! | N28: =SUM(#REF!) -> #REF! | O28: =SUM(#REF!) -> #REF! | ... V28: =SUM(#REF!) -> #REF! | W28: ='תקציב 2018'!H244 -> 1922000 | X28: ='תקציב 2018'!#REF! -> #REF! | Y28: ='תקציב 2018'!#REF! -> #REF! | Z28: ='תקציב 2018'!#REF! -> #REF! | AA28: ='תקציב 2018'!#REF! -> #REF! | AB28: ='תקציב 2018'!#REF! -> #REF! | AC28: ='תקציב 2018'!#REF! -> #REF! | AD28: ='תקציב 2018'!#REF! -> #REF! | AE28: ='תקציב 2018'!#REF! -> #REF! | AF28: ='תקציב 2018'!#REF! -> #REF! | AG28: ='תקציב 2018'!I244 -> 591000 | AH28: ='תקציב 2018'!J244 -> 0 | AI28: ='תקציב 2018'!K244 -> 0 | AJ28: ='תקציב 2018'!L244 -> 1311000 | AK28: ='תקציב 2018'!M244 -> 20000 | AL28: ='תקציב 2018'!N244 -> 1331000 | AM28: =SUM(#REF!) -> #REF! | AN28: =SUM(#REF!) -> #REF! | AO28: =SUM(#REF!) -> #REF! | AP28: =SUM(#REF!) -> #REF! | AQ28: =SUM(#REF!) -> #REF! | AR28: =SUM(#REF!) -> #REF! | AS28: =SUM(#REF!) -> #REF! | AT28: =SUM(#REF!) -> #REF! | AU28: =AN28-AO28-AT28 -> #REF! | AW28: =W28-X28-AC28 -> #REF!
G29: סה"כ הנהלת אגף שפע | W29: ='תקציב 2018'!H248 -> 908000 | X29: ='תקציב 2018'!#REF! -> #REF! | Y29: ='תקציב 2018'!#REF! -> #REF! | Z29: ='תקציב 2018'!#REF! -> #REF! | AA29: ='תקציב 2018'!#REF! -> #REF! | AB29: ='תקציב 2018'!#REF! -> #REF! | AC29: ='תקציב 2018'!#REF! -> #REF! | AD29: ='תקציב 2018'!#REF! -> #REF! | AE29: ='תקציב 2018'!#REF! -> #REF! | AF29: ='תקציב 2018'!#REF! -> #REF! | AG29: ='תקציב 2018'!I248 -> 0 | AH29: ='תקציב 2018'!J248 -> 0 | AI29: ='תקציב 2018'!K248 -> 0 | AJ29: ='תקציב 2018'!L248 -> 908000 | AK29: ='תקציב 2018'!M248 -> 0 | AL29: ='תקציב 2018'!N248 -> 908000 | AW29: =W29-X29-AC29 -> #REF!
G30: סה"כ מחלקת דרכים | H30: =SUM(#REF!) -> #REF! | I30: =SUM(#REF!) -> #REF! | J30: =SUM(#REF!) -> #REF! | K30: =SUM(#REF!) -> #REF! | L30: =SUM(#REF!) -> #REF! | M30: =SUM(#REF!) -> #REF! | N30: =SUM(#REF!) -> #REF! | O30: =SUM(#REF!) -> #REF! | ... V30: =SUM(#REF!) -> #REF! | W30: ='תקציב 2018'!H274 -> 32618000 | X30: ='תקציב 2018'!#REF! -> #REF! | Y30: ='תקציב 2018'!#REF! -> #REF! | Z30: ='תקציב 2018'!#REF! -> #REF! | AA30: ='תקציב 2018'!#REF! -> #REF! | AB30: ='תקציב 2018'!#REF! -> #REF! | AC30: ='תקציב 2018'!#REF! -> #REF! | AD30: ='תקציב 2018'!#REF! -> #REF! | AE30: ='תקציב 2018'!#REF! -> #REF! | AF30: ='תקציב 2018'!#REF! -> #REF! | AG30: ='תקציב 2018'!I274 -> 0 | AH30: ='תקציב 2018'!J274 -> 2173500 | AI30: ='תקציב 2018'!K274 -> 15255000 | AJ30: ='תקציב 2018'!L274 -> 15189500 | AK30: ='תקציב 2018'!M274 -> 0 | AL30: ='תקציב 2018'!N274 -> 32618000 | AM30: =SUM(#REF!) -> #REF! | AN30: =SUM(#REF!) -> #REF! | AO30: =SUM(#REF!) -> #REF! | AP30: =SUM(#REF!) -> #REF! | AQ30: =SUM(#REF!) -> #REF! | AR30: =SUM(#REF!) -> #REF! | AS30: =SUM(#REF!) -> #REF! | AT30: =SUM(#REF!) -> #REF! | AU30: =SUM(#REF!) -> #REF! | AW30: =W30-X30-AC30 -> #REF!
G31: סה"כ מחלקת ניהול ופיקוח על פרויקטים | H31: =SUM(#REF!) -> #REF! | I31: =SUM(#REF!) -> #REF! | J31: =SUM(#REF!) -> #REF! | K31: =SUM(#REF!) -> #REF! | L31: =SUM(#REF!) -> #REF! | M31: =SUM(#REF!) -> #REF! | N31: =SUM(#REF!) -> #REF! | O31: =SUM(#REF!) -> #REF! | ... V31: =SUM(#REF!) -> #REF! | W31: ='תקציב 2018'!H278 -> 53570000 | X31: ='תקציב 2018'!#REF! -> #REF! | Y31: ='תקציב 2018'!#REF! -> #REF! | Z31: ='תקציב 2018'!#REF! -> #REF! | AA31: ='תקציב 2018'!#REF! -> #REF! | AB31: ='תקציב 2018'!#REF! -> #REF! | AC31: ='תקציב 2018'!#REF! -> #REF! | AD31: ='תקציב 2018'!#REF! -> #REF! | AE31: ='תקציב 2018'!#REF! -> #REF! | AF31: ='תקציב 2018'!#REF! -> #REF! | AG31: ='תקציב 2018'!I278 -> 0 | AH31: ='תקציב 2018'!J278 -> 21070000 | AI31: ='תקציב 2018'!K278 -> 32500000 | AJ31: ='תקציב 2018'!L278 -> 0 | AK31: ='תקציב 2018'!M278 -> 0 | AL31: ='תקציב 2018'!N278 -> 53570000 | AW31: =W31-X31-AC31 -> #REF!
G32: סה"כ מחלקת תאורה | H32: =SUM(#REF!) -> #REF! | I32: =SUM(#REF!) -> #REF! | J32: =SUM(#REF!) -> #REF! | K32: =SUM(#REF!) -> #REF! | L32: =SUM(#REF!) -> #REF! | M32: =SUM(#REF!) -> #REF! | N32: =SUM(#REF!) -> #REF! | O32: =SUM(#REF!) -> #REF! | ... V32: =SUM(#REF!) -> #REF! | W32: ='תקציב 2018'!H283 -> 9745000 | X32: ='תקציב 2018'!#REF! -> #REF! | Y32: ='תקציב 2018'!#REF! -> #REF! | Z32: ='תקציב 2018'!#REF! -> #REF! | AA32: ='תקציב 2018'!#REF! -> #REF! | AB32: ='תקציב 2018'!#REF! -> #REF! | AC32: ='תקציב 2018'!#REF! -> #REF! | AD32: ='תקציב 2018'!#REF! -> #REF! | AE32: ='תקציב 2018'!#REF! -> #REF! | AF32: ='תקציב 2018'!#REF! -> #REF! | AG32: ='תקציב 2018'!I283 -> 2000000 | AH32: ='תקציב 2018'!J283 -> 2000000 | AI32: ='תקציב 2018'!K283 -> 5695000 | AJ32: ='תקציב 2018'!L283 -> 50000 | AK32: ='תקציב 2018'!M283 -> 0 | AL32: ='תקציב 2018'!N283 -> 7745000 | AM32: =SUM(#REF!) -> #REF! | AN32: =SUM(#REF!) -> #REF! | AO32: =SUM(#REF!) -> #REF! | AP32: =SUM(#REF!) -> #REF! | AQ32: =SUM(#REF!) -> #REF! | AR32: =SUM(#REF!) -> #REF! | AS32: =SUM(#REF!) -> #REF! | AT32: =SUM(#REF!) -> #REF! | AU32: =AN32-AO32-AT32 -> #REF! | AW32: =W32-X32-AC32 -> #REF!
G33: סה"כ מחלקת רמזורים | H33: =SUM(#REF!) -> #REF! | I33: =SUM(#REF!) -> #REF! | J33: =SUM(#REF!) -> #REF! | K33: =SUM(#REF!) -> #REF! | L33: =SUM(#REF!) -> #REF! | M33: =SUM(#REF!) -> #REF! | N33: =SUM(#REF!) -> #REF! | O33: =SUM(#REF!) -> #REF! | ... V33: =SUM(#REF!) -> #REF! | W33: ='תקציב 2018'!H293 -> 4625000 | X33: ='תקציב 2018'!#REF! -> #REF! | Y33: ='תקציב 2018'!#REF! -> #REF! | Z33: ='תקציב 2018'!#REF! -> #REF! | AA33: ='תקציב 2018'!#REF! -> #REF! | AB33: ='תקציב 2018'!#REF! -> #REF! | AC33: ='תקציב 2018'!#REF! -> #REF! | AD33: ='תקציב 2018'!#REF! -> #REF! | AE33: ='תקציב 2018'!#REF! -> #REF! | AF33: ='תקציב 2018'!#REF! -> #REF! | AG33: ='תקציב 2018'!I293 -> 0 | AH33: ='תקציב 2018'!J293 -> 0 | AI33: ='תקציב 2018'!K293 -> 0 | AJ33: ='תקציב 2018'!L293 -> 4625000 | AK33: ='תקציב 2018'!M293 -> 0 | AL33: ='תקציב 2018'!N293 -> 4625000 | AM33: =SUM(#REF!) -> #REF! | AN33: =SUM(#REF!) -> #REF! | AO33: =SUM(#REF!) -> #REF! | AP33: =SUM(#REF!) -> #REF! | AQ33: =SUM(#REF!) -> #REF! | AR33: =SUM(#REF!) -> #REF! | AS33: =SUM(#REF!) -> #REF! | AT33: =SUM(#REF!) -> #REF! | AU33: =AN33-AO33-AT33 -> #REF! | AW33: =W33-X33-AC33 -> #REF!
G34: סה"כ מחלקת גנים | H34: =SUM(#REF!) -> #REF! | I34: =SUM(#REF!) -> #REF! | J34: =SUM(#REF!) -> #REF! | K34: =SUM(#REF!) -> #REF! | L34: =SUM(#REF!) -> #REF! | M34: =SUM(#REF!) -> #REF! | N34: =SUM(#REF!) -> #REF! | O34: =SUM(#REF!) -> #REF! | ... V34: =SUM(#REF!) -> #REF! | W34: ='תקציב 2018'!H325 -> 36684000 | X34: ='תקציב 2018'!#REF! -> #REF! | Y34: ='תקציב 2018'!#REF! -> #REF! | Z34: ='תקציב 2018'!#REF! -> #REF! | AA34: ='תקציב 2018'!#REF! -> #REF! | AB34: ='תקציב 2018'!#REF! -> #REF! | AC34: ='תקציב 2018'!#REF! -> #REF! | AD34: ='תקציב 2018'!#REF! -> #REF! | AE34: ='תקציב 2018'!#REF! -> #REF! | AF34: ='תקציב 2018'!#REF! -> #REF! | AG34: ='תקציב 2018'!I325 -> 580000 | AH34: ='תקציב 2018'!J325 -> 0 | AI34: ='תקציב 2018'!K325 -> 21081000 | AJ34: ='תקציב 2018'!L325 -> 15023000 | AK34: ='תקציב 2018'!M325 -> 0 | AL34: ='תקציב 2018'!N325 -> 36104000 | AM34: =SUM(#REF!) -> #REF! | AN34: =SUM(#REF!) -> #REF! | AO34: =SUM(#REF!) -> #REF! | AP34: =SUM(#REF!) -> #REF! | AQ34: =SUM(#REF!) -> #REF! | AR34: =SUM(#REF!) -> #REF! | AS34: =SUM(#REF!) -> #REF! | AT34: =SUM(#REF!) -> #REF! | AU34: =SUM(#REF!) -> #REF! | AW34: =W34-X34-AC34 -> #REF!
G35: סה"כ ניקוז | H35: =SUM(#REF!) -> #REF! | I35: =SUM(#REF!) -> #REF! | J35: =SUM(#REF!) -> #REF! | K35: =SUM(#REF!) -> #REF! | L35: =SUM(#REF!) -> #REF! | M35: =SUM(#REF!) -> #REF! | N35: =SUM(#REF!) -> #REF! | O35: =SUM(#REF!) -> #REF! | ... V35: =SUM(#REF!) -> #REF! | W35: ='תקציב 2018'!H336 -> 6440000 | X35: ='תקציב 2018'!#REF! -> #REF! | Y35: ='תקציב 2018'!#REF! -> #REF! | Z35: ='תקציב 2018'!#REF! -> #REF! | AA35: ='תקציב 2018'!#REF! -> #REF! | AB35: ='תקציב 2018'!#REF! -> #REF! | AC35: ='תקציב 2018'!#REF! -> #REF! | AD35: ='תקציב 2018'!#REF! -> #REF! | AE35: ='תקציב 2018'!#REF! -> #REF! | AF35: ='תקציב 2018'!#REF! -> #REF! | AG35: ='תקציב 2018'!I336 -> 0 | AH35: ='תקציב 2018'!J336 -> 0 | AI35: ='תקציב 2018'!K336 -> 5530000 | AJ35: ='תקציב 2018'!L336 -> 910000 | AK35: ='תקציב 2018'!M336 -> 0 | AL35: ='תקציב 2018'!N336 -> 6440000 | AM35: =SUM(#REF!) -> #REF! | AN35: =SUM(#REF!) -> #REF! | AO35: =SUM(#REF!) -> #REF! | AP35: =SUM(#REF!) -> #REF! | AQ35: =SUM(#REF!) -> #REF! | AR35: =SUM(#REF!) -> #REF! | AS35: =SUM(#REF!) -> #REF! | AT35: =SUM(#REF!) -> #REF! | AU35: =SUM(#REF!) -> #REF! | AW35: =W35-X35-AC35 -> #REF!
G36: סה"כ בית מרחץ עירוני | H36: =SUM(#REF!) -> #REF! | I36: =SUM(#REF!) -> #REF! | J36: =SUM(#REF!) -> #REF! | K36: =SUM(#REF!) -> #REF! | L36: =SUM(#REF!) -> #REF! | M36: =SUM(#REF!) -> #REF! | N36: =SUM(#REF!) -> #REF! | O36: =SUM(#REF!) -> #REF! | ... V36: =SUM(#REF!) -> #REF! | W36: ='תקציב 2018'!H341 -> 783000 | X36: ='תקציב 2018'!#REF! -> #REF! | Y36: ='תקציב 2018'!#REF! -> #REF! | Z36: ='תקציב 2018'!#REF! -> #REF! | AA36: ='תקציב 2018'!#REF! -> #REF! | AB36: ='תקציב 2018'!#REF! -> #REF! | AC36: ='תקציב 2018'!#REF! -> #REF! | AD36: ='תקציב 2018'!#REF! -> #REF! | AE36: ='תקציב 2018'!#REF! -> #REF! | AF36: ='תקציב 2018'!#REF! -> #REF! | AG36: ='תקציב 2018'!I341 -> 0 | AH36: ='תקציב 2018'!J341 -> 0 | AI36: ='תקציב 2018'!K341 -> 0 | AJ36: ='תקציב 2018'!L341 -> 30000 | AK36: ='תקציב 2018'!M341 -> 753000 | AL36: ='תקציב 2018'!N341 -> 783000 | AM36: =SUM(#REF!) -> #REF! | AN36: =SUM(#REF!) -> #REF! | AO36: =SUM(#REF!) -> #REF! | AP36: =SUM(#REF!) -> #REF! | AQ36: =SUM(#REF!) -> #REF! | AR36: =SUM(#REF!) -> #REF! | AS36: =SUM(#REF!) -> #REF! | AT36: =SUM(#REF!) -> #REF! | AU36: =SUM(#REF!) -> #REF! | AW36: =W36-X36-AC36 -> #REF!
G37: סה"כ חופים עירוניים | H37: =SUM(#REF!) -> #REF! | I37: =SUM(#REF!) -> #REF! | J37: =SUM(#REF!) -> #REF! | K37: =SUM(#REF!) -> #REF! | L37: =SUM(#REF!) -> #REF! | M37: =SUM(#REF!) -> #REF! | N37: =SUM(#REF!) -> #REF! | O37: =SUM(#REF!) -> #REF! | ... V37: =SUM(#REF!) -> #REF! | W37: ='תקציב 2018'!H351 -> 3070000 | X37: ='תקציב 2018'!#REF! -> #REF! | Y37: ='תקציב 2018'!#REF! -> #REF! | Z37: ='תקציב 2018'!#REF! -> #REF! | AA37: ='תקציב 2018'!#REF! -> #REF! | AB37: ='תקציב 2018'!#REF! -> #REF! | AC37: ='תקציב 2018'!#REF! -> #REF! | AD37: ='תקציב 2018'!#REF! -> #REF! | AE37: ='תקציב 2018'!#REF! -> #REF! | AF37: ='תקציב 2018'!#REF! -> #REF! | AG37: ='תקציב 2018'!I351 -> 410000 | AH37: ='תקציב 2018'!J351 -> 0 | AI37: ='תקציב 2018'!K351 -> 300000 | AJ37: ='תקציב 2018'!L351 -> 1610000 | AK37: ='תקציב 2018'!M351 -> 750000 | AL37: ='תקציב 2018'!N351 -> 2660000 | AM37: =SUM(#REF!) -> #REF! | AN37: =SUM(#REF!) -> #REF! | AO37: =SUM(#REF!) -> #REF! | AP37: =SUM(#REF!) -> #REF! | AQ37: =SUM(#REF!) -> #REF! | AR37: =SUM(#REF!) -> #REF! | AS37: =SUM(#REF!) -> #REF! | AT37: =SUM(#REF!) -> #REF! | AU37: =AN37-AO37-AT37 -> #REF! | AW37: =W37-X37-AC37 -> #REF!
G38: סה"כ ביטחון | H38: =SUM(#REF!) -> #REF! | I38: =SUM(#REF!) -> #REF! | J38: =SUM(#REF!) -> #REF! | K38: =SUM(#REF!) -> #REF! | L38: =SUM(#REF!) -> #REF! | M38: =SUM(#REF!) -> #REF! | N38: =SUM(#REF!) -> #REF! | O38: =SUM(#REF!) -> #REF! | ... V38: =SUM(#REF!) -> #REF! | W38: ='תקציב 2018'!H360 -> 2842000 | X38: ='תקציב 2018'!#REF! -> #REF! | Y38: ='תקציב 2018'!#REF! -> #REF! | Z38: ='תקציב 2018'!#REF! -> #REF! | AA38: ='תקציב 2018'!#REF! -> #REF! | AB38: ='תקציב 2018'!#REF! -> #REF! | AC38: ='תקציב 2018'!#REF! -> #REF! | AD38: ='תקציב 2018'!#REF! -> #REF! | AE38: ='תקציב 2018'!#REF! -> #REF! | AF38: ='תקציב 2018'!#REF! -> #REF! | AG38: ='תקציב 2018'!I360 -> 0 | AH38: ='תקציב 2018'!J360 -> 0 | AI38: ='תקציב 2018'!K360 -> 0 | AJ38: ='תקציב 2018'!L360 -> 1796500 | AK38: ='תקציב 2018'!M360 -> 1045500 | AL38: ='תקציב 2018'!N360 -> 2842000 | AM38: =SUM(#REF!) -> #REF! | AN38: =SUM(#REF!) -> #REF! | AO38: =SUM(#REF!) -> #REF! | AP38: =SUM(#REF!) -> #REF! | AQ38: =SUM(#REF!) -> #REF! | AR38: =SUM(#REF!) -> #REF! | AS38: =SUM(#REF!) -> #REF! | AT38: =SUM(#REF!) -> #REF! | AU38: =AN38-AO38-AT38 -> #REF! | AW38: =W38-X38-AC38 -> #REF!
G39: סה"כ פיקוח | H39: =SUM(#REF!) -> #REF! | I39: =SUM(#REF!) -> #REF! | J39: =SUM(#REF!) -> #REF! | K39: =SUM(#REF!) -> #REF! | L39: =SUM(#REF!) -> #REF! | M39: =SUM(#REF!) -> #REF! | N39: =SUM(#REF!) -> #REF! | O39: =SUM(#REF!) -> #REF! | ... V39: =SUM(#REF!) -> #REF! | W39: ='תקציב 2018'!H364 -> 490000 | X39: ='תקציב 2018'!#REF! -> #REF! | Y39: ='תקציב 2018'!#REF! -> #REF! | Z39: ='תקציב 2018'!#REF! -> #REF! | AA39: ='תקציב 2018'!#REF! -> #REF! | AB39: ='תקציב 2018'!#REF! -> #REF! | AC39: ='תקציב 2018'!#REF! -> #REF! | AD39: ='תקציב 2018'!#REF! -> #REF! | AE39: ='תקציב 2018'!#REF! -> #REF! | AF39: ='תקציב 2018'!#REF! -> #REF! | AG39: ='תקציב 2018'!I364 -> 0 | AH39: ='תקציב 2018'!J364 -> 0 | AI39: ='תקציב 2018'!K364 -> 0 | AJ39: ='תקציב 2018'!L364 -> 490000 | AK39: ='תקציב 2018'!M364 -> 0 | AL39: ='תקציב 2018'!N364 -> 490000 | AM39: =SUM(#REF!) -> #REF! | AN39: =SUM(#REF!) -> #REF! | AO39: =SUM(#REF!) -> #REF! | AP39: =SUM(#REF!) -> #REF! | AQ39: =SUM(#REF!) -> #REF! | AR39: =SUM(#REF!) -> #REF! | AS39: =SUM(#REF!) -> #REF! | AT39: =SUM(#REF!) -> #REF! | AU39: =AN39-AO39-AT39 -> #REF! | AW39: =W39-X39-AC39 -> #REF!
G40: סה"כ פרוייקטים בשיתוף משרדי ממשלה | H40: =SUM(#REF!) -> #REF! | I40: =SUM(#REF!) -> #REF! | J40: =SUM(#REF!) -> #REF! | K40: =SUM(#REF!) -> #REF! | L40: =SUM(#REF!) -> #REF! | M40: =SUM(#REF!) -> #REF! | N40: =SUM(#REF!) -> #REF! | O40: =SUM(#REF!) -> #REF! | ... V40: =SUM(#REF!) -> #REF! | W40: ='תקציב 2018'!H370 -> 16200000 | X40: ='תקציב 2018'!#REF! -> #REF! | Y40: ='תקציב 2018'!#REF! -> #REF! | Z40: ='תקציב 2018'!#REF! -> #REF! | AA40: ='תקציב 2018'!#REF! -> #REF! | AB40: ='תקציב 2018'!#REF! -> #REF! | AC40: ='תקציב 2018'!#REF! -> #REF! | AD40: ='תקציב 2018'!#REF! -> #REF! | AE40: ='תקציב 2018'!#REF! -> #REF! | AF40: ='תקציב 2018'!#REF! -> #REF! | AG40: ='תקציב 2018'!I370 -> 11340000 | AH40: ='תקציב 2018'!J370 -> 4860000 | AI40: ='תקציב 2018'!K370 -> 0 | AJ40: ='תקציב 2018'!L370 -> 0 | AK40: ='תקציב 2018'!M370 -> 0 | AL40: ='תקציב 2018'!N370 -> 4860000 | AM40: =SUM(#REF!) -> #REF! | AN40: =SUM(#REF!) -> #REF! | AO40: =SUM(#REF!) -> #REF! | AP40: =SUM(#REF!) -> #REF! | AQ40: =SUM(#REF!) -> #REF! | AR40: =SUM(#REF!) -> #REF! | AS40: =SUM(#REF!) -> #REF! | AT40: =SUM(#REF!) -> #REF! | AU40: =AN40-AO40-AT40 -> #REF! | AW40: =W40-X40-AC40 -> #REF!
G41: סה"כ רשות חניה | H41: =SUM(#REF!) -> #REF! | I41: =SUM(#REF!) -> #REF! | J41: =SUM(#REF!) -> #REF! | K41: =SUM(#REF!) -> #REF! | L41: =SUM(#REF!) -> #REF! | M41: =SUM(#REF!) -> #REF! | N41: =SUM(#REF!) -> #REF! | O41: =SUM(#REF!) -> #REF! | ... V41: =SUM(#REF!) -> #REF! | W41: ='תקציב 2018'!H377 -> 2430000 | X41: ='תקציב 2018'!#REF! -> #REF! | Y41: ='תקציב 2018'!#REF! -> #REF! | Z41: ='תקציב 2018'!#REF! -> #REF! | AA41: ='תקציב 2018'!#REF! -> #REF! | AB41: ='תקציב 2018'!#REF! -> #REF! | AC41: ='תקציב 2018'!#REF! -> #REF! | AD41: ='תקציב 2018'!#REF! -> #REF! | AE41: ='תקציב 2018'!#REF! -> #REF! | AF41: ='תקציב 2018'!#REF! -> #REF! | AG41: ='תקציב 2018'!I377 -> 0 | AH41: ='תקציב 2018'!J377 -> 0 | AI41: ='תקציב 2018'!K377 -> 0 | AJ41: ='תקציב 2018'!L377 -> 2430000 | AK41: ='תקציב 2018'!M377 -> 0 | AL41: ='תקציב 2018'!N377 -> 2430000 | AM41: =SUM(#REF!) -> #REF! | AN41: =SUM(#REF!) -> #REF! | AO41: =SUM(#REF!) -> #REF! | AP41: =SUM(#REF!) -> #REF! | AQ41: =SUM(#REF!) -> #REF! | AR41: =SUM(#REF!) -> #REF! | AS41: =SUM(#REF!) -> #REF! | AT41: =SUM(#REF!) -> #REF! | AU41: =AN41-AO41-AT41 -> #REF! | AW41: =W41-X41-AC41 -> #REF!
