Workbook

Sheet ריכוז מינהלים לספר
E1: עמודה25 | F1: עמודה1 | G1: תקציב 2014 | H1: עמודה2 | I1: תקציב 2015 | J1: עמודה3 | K1: תקציב 2016 | L1: עמודה4 | M1: תקציב 2017 | N1: עמודה5 | O1: תקציב 2018 | P1: עמודה6 | Q1: עמודה7 | R1: עמודה8 | S1: יתרה מועברת ל- 2019 | T1: עמודה9 | U1: עמודה10 | V1: תקציב פיתוח הצעת היחידות | W1: תקציב פיתוח 2019 | X1: עמודה11 | Y1: עמודה12 | Z1: עמודה13 | AA1: עמודה14 | AB1: עמודה15 | AC1: רב שנתי | AD1: עמודה16 | AE1: עמודה17 | AF1: עמודה18 | AG1: עמודה19 | AH1: עמודה20 | AI1: מימון תקציב פיתוח 2019 הצעת היחידות | AJ1: עמודה21 | AK1: עמודה22 | AL1: עמודה23 | AM1: עמודה24 | AN1: מימון עירוני
E2: מס' | F2: נושא | AQ2: מקורות מימון 2009
E3: מספר סידורי | F3: נושא | G3: תקציב 2014 | H3: הרשאות 2014 | I3: תקציב 2015 | J3: הרשאות 2015 | K3: תקציב 2016 | L3: הרשאות 2016 | M3: תקציב 2017 | N3: הרשאות 2017 | O3: תקציב 2018 נכון לתאריך 29.11.18 | P3: הרשאות 2018 נכון לתאריך 29.11.18 | Q3: הפרש תקציב 2018-2017 | R3: הפרש הרשאות 2018-2017 | S3: אומדן יתרה ל-2019 | T3: ממשלה ומוסדות | U3: יתרה המועברת ל- 2019- מימון עירוני | V3: תקציב פיתוח 2019 - הצעת היחידות | W3: תקציב פיתוח 2019 | X3: ממשלה ומוסדות | Y3: היטל השבחה | Z3: בעלים | AA3: הלוואות | AB3: מכירת נכסים | AC3: רב שנתי | AD3: ממשלה ומוסדות | AE3: היטל השבחה | AF3: בעלים | AG3: הלוואות | AH3: מכירת נכסים | AI3: ממשלה ומוסדות | AJ3: היטל השבחה | AK3: בעלים | AL3: הלוואות | AM3: מכירת נכסים | AN3: מימון עירוני | AO3: תקציב רב שנתי | AP3: הצעת אגף תקציבים | AQ3: ממשלה ומוסדות | AR3: היטל השבחה | AS3: בעלים | AT3: הלוואות | AU3: מכירת נכסים | AV3: מימון עירוני
E4: 1 | F4: סה"כ הנהלת העירייה | G4: =SUM(#REF!) -> #REF! | H4: =SUM(#REF!) -> #REF! | I4: =SUM(#REF!) -> #REF! | J4: =SUM(#REF!) -> #REF! | K4: =SUM(#REF!) -> #REF! | L4: =SUM(#REF!) -> #REF! | M4: =SUM(#REF!) -> #REF! | N4: =SUM(#REF!) -> #REF! | ... U4: =SUM(#REF!) -> #REF! | V4: ='תקציב מפורט לספר '!V10 -> 8049000 | W4: ='תקציב מפורט לספר '!W10 -> 2089000 | X4: ='תקציב מפורט לספר '!X10 -> 0 | Y4: ='תקציב מפורט לספר '!Y10 -> 0 | Z4: ='תקציב מפורט לספר '!Z10 -> 0 | AA4: ='תקציב מפורט לספר '!AA10 -> 1489000 | AB4: ='תקציב מפורט לספר '!AB10 -> 600000 | AC4: ='תקציב מפורט לספר '!AC10 -> 5960000 | ... BC4: ='תקציב מפורט לספר '!BC10 -> 0
E5: 2 | F5: סה"כ מינהל הנדסה | G5: =#REF!+#REF!+#REF!+#REF!+#REF!+#REF! -> #REF! | H5: =#REF!+#REF!+#REF!+#REF!+#REF!+#REF! -> #REF! | I5: =#REF!+#REF!+#REF!+#REF!+#REF!+#REF! -> #REF! | J5: =#REF!+#REF!+#REF!+#REF!+#REF!+#REF! -> #REF! | K5: =#REF!+#REF!+#REF!+#REF!+#REF!+#REF! -> #REF! | L5: =#REF!+#REF!+#REF!+#REF!+#REF!+#REF! -> #REF! | M5: =#REF!+#REF!+#REF!+#REF!+#REF!+#REF! -> #REF! | N5: =#REF!+#REF!+#REF!+#REF!+#REF!+#REF! -> #REF! | ... U5: =#REF!+#REF!+#REF!+#REF!+#REF!+#REF! -> #REF! | V5: ='תקציב מפורט לספר '!V103 -> 361700000 | W5: ='תקציב מפורט לספר '!W103 -> 149125000 | X5: ='תקציב מפורט לספר '!X103 -> 43430000 | Y5: ='תקציב מפורט לספר '!Y103 -> 50075000 | Z5: ='תקציב מפורט לספר '!Z103 -> 43800000 | AA5: ='תקציב מפורט לספר '!AA103 -> 3220000 | AB5: ='תקציב מפורט לספר '!AB103 -> 8600000 | AC5: ='תקציב מפורט לספר '!AC103 -> 212575000 | ... BC5: ='תקציב מפורט לספר '!BC103 -> 0
E6: 3 | F6: סה"כ מערכות חינוך, תרבות ורווחה | G6: =#REF!+#REF!+#REF! -> #REF! | H6: =#REF!+#REF!+#REF! -> #REF! | I6: =#REF!+#REF!+#REF! -> #REF! | J6: =#REF!+#REF!+#REF! -> #REF! | K6: =#REF!+#REF!+#REF! -> #REF! | L6: =#REF!+#REF!+#REF! -> #REF! | M6: =#REF!+#REF!+#REF! -> #REF! | N6: =#REF!+#REF!+#REF! -> #REF! | ... U6: =#REF!+#REF!+#REF! -> #REF! | V6: ='תקציב מפורט לספר '!V201 -> 67305000 | W6: ='תקציב מפורט לספר '!W201 -> 44375000 | X6: ='תקציב מפורט לספר '!X201 -> 7611000 | Y6: ='תקציב מפורט לספר '!Y201 -> 2050000 | Z6: ='תקציב מפורט לספר '!Z201 -> 0 | AA6: ='תקציב מפורט לספר '!AA201 -> 20089000 | AB6: ='תקציב מפורט לספר '!AB201 -> 14625000 | AC6: ='תקציב מפורט לספר '!AC201 -> 22930000 | ... BC6: ='תקציב מפורט לספר '!BC201 -> 0
E7: 4 | F7: סה"כ מינהל תפעול | G7: =#REF!+#REF!+#REF!+#REF!+#REF!+#REF!+#REF!+#REF!+#REF! -> #REF! | H7: =#REF!+#REF!+#REF!+#REF!+#REF!+#REF!+#REF!+#REF!+#REF! -> #REF! | I7: =#REF!+#REF!+#REF!+#REF!+#REF!+#REF!+#REF!+#REF!+#REF! -> #REF! | J7: =#REF!+#REF!+#REF!+#REF!+#REF!+#REF!+#REF!+#REF!+#REF! -> #REF! | K7: =#REF!+#REF!+#REF!+#REF!+#REF!+#REF!+#REF!+#REF!+#REF! -> #REF! | L7: =#REF!+#REF!+#REF!+#REF!+#REF!+#REF!+#REF!+#REF!+#REF! -> #REF! | M7: =#REF!+#REF!+#REF!+#REF!+#REF!+#REF!+#REF!+#REF!+#REF! -> #REF! | N7: =#REF!+#REF!+#REF!+#REF!+#REF!+#REF!+#REF!+#REF!+#REF! -> #REF! | ... U7: =#REF!+#REF!+#REF!+#REF!+#REF!+#REF!+#REF!+#REF!+#REF! -> #REF! | V7: ='תקציב מפורט לספר '!V404 -> 333750000 | W7: ='תקציב מפורט לספר '!W404 -> 202067000 | X7: ='תקציב מפורט לספר '!X404 -> 40790000 | Y7: ='תקציב מפורט לספר '!Y404 -> 30955000 | Z7: ='תקציב מפורט לספר '!Z404 -> 24205000 | AA7: ='תקציב מפורט לספר '!AA404 -> 104079500 | AB7: ='תקציב מפורט לספר '!AB404 -> 2037500 | AC7: ='תקציב מפורט לספר '!AC404 -> 131683000 | ... BC7: ='תקציב מפורט לספר '!BC404 -> 0
E8: 5 | F8: סה"כ חברות ועמותות | G8: =#REF!+#REF!+#REF! -> #REF! | H8: =#REF!+#REF!+#REF! -> #REF! | I8: =#REF!+#REF!+#REF! -> #REF! | J8: =#REF!+#REF!+#REF! -> #REF! | K8: =#REF!+#REF!+#REF! -> #REF! | L8: =#REF!+#REF!+#REF! -> #REF! | M8: =#REF!+#REF!+#REF! -> #REF! | N8: =#REF!+#REF!+#REF! -> #REF! | ... U8: =#REF!+#REF!+#REF! -> #REF! | V8: ='תקציב מפורט לספר '!V433 -> 24455000 | W8: ='תקציב מפורט לספר '!W433 -> 6035000 | X8: ='תקציב מפורט לספר '!X433 -> 0 | Y8: ='תקציב מפורט לספר '!Y433 -> 0 | Z8: ='תקציב מפורט לספר '!Z433 -> 0 | AA8: ='תקציב מפורט לספר '!AA433 -> 4435000 | AB8: ='תקציב מפורט לספר '!AB433 -> 1600000 | AC8: ='תקציב מפורט לספר '!AC433 -> 18420000 | ... BC8: ='תקציב מפורט לספר '!BC433 -> 0
E9: 6 | F9: סה"כ תיירותיים | G9: =SUM(#REF!) -> #REF! | H9: =SUM(#REF!) -> #REF! | I9: =SUM(#REF!) -> #REF! | J9: =SUM(#REF!) -> #REF! | K9: =SUM(#REF!) -> #REF! | L9: =SUM(#REF!) -> #REF! | M9: =SUM(#REF!) -> #REF! | N9: =SUM(#REF!) -> #REF! | ... U9: =SUM(#REF!) -> #REF! | V9: ='תקציב מפורט לספר '!V438 -> 2350000 | W9: ='תקציב מפורט לספר '!W438 -> 1350000 | X9: ='תקציב מפורט לספר '!X438 -> 0 | Y9: ='תקציב מפורט לספר '!Y438 -> 0 | Z9: ='תקציב מפורט לספר '!Z438 -> 0 | AA9: ='תקציב מפורט לספר '!AA438 -> 1350000 | AB9: ='תקציב מפורט לספר '!AB438 -> 0 | AC9: ='תקציב מפורט לספר '!AC438 -> 1000000 | ... BC9: ='תקציב מפורט לספר '!BC438 -> 0
E10: 7 | F10: סה"כ אחרים | G10: =SUM(#REF!) -> #REF! | H10: =SUM(#REF!) -> #REF! | I10: =SUM(#REF!) -> #REF! | J10: =SUM(#REF!) -> #REF! | K10: =SUM(#REF!) -> #REF! | L10: =SUM(#REF!) -> #REF! | M10: =SUM(#REF!) -> #REF! | N10: =SUM(#REF!) -> #REF! | ... U10: =SUM(#REF!) -> #REF! | V10: ='תקציב מפורט לספר '!V451 -> 49551000 | W10: ='תקציב מפורט לספר '!W451 -> 9638000 | X10: ='תקציב מפורט לספר '!X451 -> 3500000 | Y10: ='תקציב מפורט לספר '!Y451 -> 200000 | Z10: ='תקציב מפורט לספר '!Z451 -> 0 | AA10: ='תקציב מפורט לספר '!AA451 -> 2969000 | AB10: ='תקציב מפורט לספר '!AB451 -> 2969000 | AC10: ='תקציב מפורט לספר '!AC451 -> 39913000 | ... BC10: ='תקציב מפורט לספר '!BC451 -> 0
E11: 8 | F11: סה"כ תחבורה, בינוי ותשתיות | G11: =+#REF!+#REF!+#REF! -> #REF! | H11: =+#REF!+#REF!+#REF! -> #REF! | I11: =+#REF!+#REF!+#REF! -> #REF! | J11: =+#REF!+#REF!+#REF! -> #REF! | K11: =+#REF!+#REF!+#REF! -> #REF! | L11: =+#REF!+#REF!+#REF! -> #REF! | M11: =+#REF!+#REF!+#REF! -> #REF! | N11: =+#REF!+#REF!+#REF! -> #REF! | ... U11: =+#REF!+#REF!+#REF! -> #REF! | V11: ='תקציב מפורט לספר '!V518 -> 628261000 | W11: ='תקציב מפורט לספר '!W518 -> 499861000 | X11: ='תקציב מפורט לספר '!X518 -> 459078000 | Y11: ='תקציב מפורט לספר '!Y518 -> 11340000 | Z11: ='תקציב מפורט לספר '!Z518 -> 0 | AA11: ='תקציב מפורט לספר '!AA518 -> 4000000 | AB11: ='תקציב מפורט לספר '!AB518 -> 25443000 | AC11: ='תקציב מפורט לספר '!AC518 -> 128400000 | ... BC11: ='תקציב מפורט לספר '!BC518 -> 0
E12: 9 | F12: סה"כ מינהל כספים | G12: =#REF!+#REF!+#REF! -> #REF! | H12: =#REF!+#REF!+#REF! -> #REF! | I12: =#REF!+#REF!+#REF! -> #REF! | J12: =#REF!+#REF!+#REF! -> #REF! | K12: =#REF!+#REF!+#REF! -> #REF! | L12: =#REF!+#REF!+#REF! -> #REF! | M12: =#REF!+#REF!+#REF! -> #REF! | N12: =#REF!+#REF!+#REF! -> #REF! | ... U12: =#REF!+#REF!+#REF! -> #REF! | V12: ='תקציב מפורט לספר '!V528 -> 26400000 | W12: ='תקציב מפורט לספר '!W528 -> 17200000 | X12: ='תקציב מפורט לספר '!X528 -> 0 | Y12: ='תקציב מפורט לספר '!Y528 -> 700000 | Z12: ='תקציב מפורט לספר '!Z528 -> 10000000 | AA12: ='תקציב מפורט לספר '!AA528 -> 6500000 | AB12: ='תקציב מפורט לספר '!AB528 -> 0 | AC12: ='תקציב מפורט לספר '!AC528 -> 9200000 | ... BC12: ='תקציב מפורט לספר '!BC528 -> 0
F13: סה"כ תקציב פיתוח | G13: =G12+G11+G10+G9+G8+G7+G6+G5+G4 -> #REF! | H13: =H12+H11+H10+H9+H8+H7+H6+H5+H4 -> #REF! | I13: =I12+I11+I10+I9+I8+I7+I6+I5+I4 -> #REF! | J13: =J12+J11+J10+J9+J8+J7+J6+J5+J4 -> #REF! | K13: =K12+K11+K10+K9+K8+K7+K6+K5+K4 -> #REF! | L13: =L12+L11+L10+L9+L8+L7+L6+L5+L4 -> #REF! | M13: =M12+M11+M10+M9+M8+M7+M6+M5+M4 -> #REF! | N13: =N12+N11+N10+N9+N8+N7+N6+N5+N4 -> #REF! | ... U13: =U12+U11+U10+U9+U8+U7+U6+U5+U4 -> #REF! | V13: ='תקציב מפורט לספר '!V529 -> 1501821000 | W13: ='תקציב מפורט לספר '!W529 -> 931740000 | X13: ='תקציב מפורט לספר '!X529 -> 554409000 | Y13: ='תקציב מפורט לספר '!Y529 -> 95320000 | Z13: ='תקציב מפורט לספר '!Z529 -> 78005000 | AA13: ='תקציב מפורט לספר '!AA529 -> 148131500 | AB13: ='תקציב מפורט לספר '!AB529 -> 55874500 | AC13: ='תקציב מפורט לספר '!AC529 -> 570081000 | ... BC13: ='תקציב מפורט לספר '!BC529 -> 0
C352: 0

Sheet ריכוז מחלקות לספר
E1: העבודה | F1: עמודה1 | G1: תקציב 2014 | H1: עמודה2 | I1: תקציב 2015 | J1: עמודה3 | K1: תקציב 2016 | L1: עמודה4 | M1: תקציב 2017 | N1: עמודה5 | O1: תקציב 2018 | P1: עמודה6 | Q1: עמודה7 | R1: עמודה8 | S1: יתרה מועברת ל- 2019 | T1: עמודה9 | U1: עמודה10 | V1: תקציב פיתוח הצעת היחידות | W1: תקציב פיתוח 2019 | X1: עמודה11 | Y1: עמודה12 | Z1: עמודה13 | AA1: עמודה14 | AB1: עמודה15 | AC1: רב שנתי | AD1: עמודה16 | AE1: עמודה17 | AF1: עמודה18 | AG1: עמודה19 | AH1: עמודה20 | AI1: מימון תקציב פיתוח 2019 הצעת היחידות | AJ1: עמודה21 | AK1: עמודה22 | AL1: עמודה23 | AM1: עמודה24 | AN1: מימון עירוני
E2: מס' | F2: נושא | AQ2: מקורות מימון 2009
E3: מספר סידורי | F3: נושא | G3: תקציב 2014 | H3: הרשאות 2014 | I3: תקציב 2015 | J3: הרשאות 2015 | K3: תקציב 2016 | L3: הרשאות 2016 | M3: תקציב 2017 | N3: הרשאות 2017 | O3: תקציב 2018 נכון לתאריך 29.11.18 | P3: הרשאות 2018 נכון לתאריך 29.11.18 | Q3: הפרש תקציב 2018-2017 | R3: הפרש הרשאות 2018-2017 | S3: אומדן יתרה ל-2019 | T3: ממשלה ומוסדות | U3: יתרה המועברת ל- 2019- מימון עירוני | V3: תקציב פיתוח 2019 - הצעת היחידות | W3: תקציב פיתוח 2019 | X3: ממשלה ומוסדות | Y3: היטל השבחה | Z3: בעלים | AA3: הלוואות | AB3: מכירת נכסים | AC3: רב שנתי | AD3: ממשלה ומוסדות | AE3: היטל השבחה | AF3: בעלים | AG3: הלוואות | AH3: מכירת נכסים | AI3: ממשלה ומוסדות | AJ3: היטל השבחה | AK3: בעלים | AL3: הלוואות | AM3: מכירת נכסים | AN3: מימון עירוני | AO3: תקציב רב שנתי | AP3: הצעת אגף תקציבים | AQ3: ממשלה ומוסדות | AR3: היטל השבחה | AS3: בעלים | AT3: הלוואות | AU3: מכירת נכסים | AV3: מימון עירוני
E4: 1 | F4: סה"כ הנהלת העירייה | G4: =SUM(#REF!) -> #REF! | H4: =SUM(#REF!) -> #REF! | I4: =SUM(#REF!) -> #REF! | J4: =SUM(#REF!) -> #REF! | K4: =SUM(#REF!) -> #REF! | L4: =SUM(#REF!) -> #REF! | M4: =SUM(#REF!) -> #REF! | N4: =SUM(#REF!) -> #REF! | ... V4: =SUM(#REF!) -> #REF! | W4: ='תקציב מפורט לספר '!W10 -> 2089000 | X4: ='תקציב מפורט לספר '!X10 -> 0 | Y4: ='תקציב מפורט לספר '!Y10 -> 0 | Z4: ='תקציב מפורט לספר '!Z10 -> 0 | AA4: ='תקציב מפורט לספר '!AA10 -> 1489000 | AB4: ='תקציב מפורט לספר '!AB10 -> 600000 | AC4: ='תקציב מפורט לספר '!AC10 -> 5960000 | AD4: ='תקציב מפורט לספר '!AD10 -> 0 | ... AH4: ='תקציב מפורט לספר '!AH10 -> 5460000 | AI4: =SUM(#REF!) -> #REF! | AJ4: =SUM(#REF!) -> #REF! | AK4: =SUM(#REF!) -> #REF! | AL4: =SUM(#REF!) -> #REF! | AM4: =SUM(#REF!) -> #REF! | AN4: =SUM(#REF!) -> #REF! | AO4: =SUM(#REF!) -> #REF! | AP4: =SUM(#REF!) -> #REF! | ... AV4: =SUM(#REF!) -> #REF! | AW4: =AP4-AQ4-AV4 -> #REF! | AY4: =V4-W4-AC4 -> #REF!
F5: סה"כ משרד מהנדס העיר | G5: =SUM(#REF!) -> #REF! | H5: =SUM(#REF!) -> #REF! | I5: =SUM(#REF!) -> #REF! | J5: =SUM(#REF!) -> #REF! | K5: =SUM(#REF!) -> #REF! | L5: =SUM(#REF!) -> #REF! | M5: =SUM(#REF!) -> #REF! | N5: =SUM(#REF!) -> #REF! | ... V5: =SUM(#REF!) -> #REF! | W5: ='תקציב מפורט לספר '!W22 -> 70000000 | X5: ='תקציב מפורט לספר '!X22 -> 0 | Y5: ='תקציב מפורט לספר '!Y22 -> 42000000 | Z5: ='תקציב מפורט לספר '!Z22 -> 25000000 | AA5: ='תקציב מפורט לספר '!AA22 -> 0 | AB5: ='תקציב מפורט לספר '!AB22 -> 3000000 | AC5: ='תקציב מפורט לספר '!AC22 -> 9560000 | AD5: ='תקציב מפורט לספר '!AD22 -> 0 | ... AH5: ='תקציב מפורט לספר '!AH22 -> 1000000 | AI5: =SUM(#REF!) -> #REF! | AJ5: =SUM(#REF!) -> #REF! | AK5: =SUM(#REF!) -> #REF! | AL5: =SUM(#REF!) -> #REF! | AM5: =SUM(#REF!) -> #REF! | AN5: =SUM(#REF!) -> #REF! | AO5: =SUM(#REF!) -> #REF! | AP5: =SUM(#REF!) -> #REF! | ... AV5: =SUM(#REF!) -> #REF! | AW5: =AP5-AQ5-AV5 -> #REF! | AY5: =V5-W5-AC5 -> #REF!
F6: סה"כ תכנון עיר | G6: =SUM(#REF!) -> #REF! | H6: =SUM(#REF!) -> #REF! | I6: =SUM(#REF!) -> #REF! | J6: =SUM(#REF!) -> #REF! | K6: =SUM(#REF!) -> #REF! | L6: =SUM(#REF!) -> #REF! | M6: =SUM(#REF!) -> #REF! | N6: =SUM(#REF!) -> #REF! | ... V6: =SUM(#REF!) -> #REF! | W6: ='תקציב מפורט לספר '!W28 -> 5075000 | X6: ='תקציב מפורט לספר '!X28 -> 0 | Y6: ='תקציב מפורט לספר '!Y28 -> 5075000 | Z6: ='תקציב מפורט לספר '!Z28 -> 0 | AA6: ='תקציב מפורט לספר '!AA28 -> 0 | AB6: ='תקציב מפורט לספר '!AB28 -> 0 | AC6: ='תקציב מפורט לספר '!AC28 -> 6275000 | AD6: ='תקציב מפורט לספר '!AD28 -> 0 | ... AH6: ='תקציב מפורט לספר '!AH28 -> 0 | AI6: =SUM(#REF!) -> #REF! | AJ6: =SUM(#REF!) -> #REF! | AK6: =SUM(#REF!) -> #REF! | AL6: =SUM(#REF!) -> #REF! | AM6: =SUM(#REF!) -> #REF! | AN6: =SUM(#REF!) -> #REF! | AO6: =SUM(#REF!) -> #REF! | AP6: =SUM(#REF!) -> #REF! | ... AV6: =SUM(#REF!) -> #REF! | AW6: =AP6-AQ6-AV6 -> #REF! | AY6: =V6-W6-AC6 -> #REF!
F7: סה"כ תכנון דרכים ותנועה | G7: =SUM(#REF!) -> #REF! | H7: =SUM(#REF!) -> #REF! | I7: =SUM(#REF!) -> #REF! | J7: =SUM(#REF!) -> #REF! | K7: =SUM(#REF!) -> #REF! | L7: =SUM(#REF!) -> #REF! | M7: =SUM(#REF!) -> #REF! | N7: =SUM(#REF!) -> #REF! | ... V7: =SUM(#REF!) -> #REF! | W7: ='תקציב מפורט לספר '!W67 -> 44550000 | X7: ='תקציב מפורט לספר '!X67 -> 22550000 | Y7: ='תקציב מפורט לספר '!Y67 -> 2450000 | Z7: ='תקציב מפורט לספר '!Z67 -> 18500000 | AA7: ='תקציב מפורט לספר '!AA67 -> 1050000 | AB7: ='תקציב מפורט לספר '!AB67 -> 0 | AC7: ='תקציב מפורט לספר '!AC67 -> 145350000 | AD7: ='תקציב מפורט לספר '!AD67 -> 9450000 | ... AH7: ='תקציב מפורט לספר '!AH67 -> 0 | AI7: =SUM(#REF!) -> #REF! | AJ7: =SUM(#REF!) -> #REF! | AK7: =SUM(#REF!) -> #REF! | AL7: =SUM(#REF!) -> #REF! | AM7: =SUM(#REF!) -> #REF! | AN7: =SUM(#REF!) -> #REF! | AO7: =SUM(#REF!) -> #REF! | AP7: =SUM(#REF!) -> #REF! | ... AV7: =SUM(#REF!) -> #REF! | AW7: =AP7-AQ7-AV7 -> #REF! | AY7: =V7-W7-AC7 -> #REF!
F8: סה"כ עבודות בשיתוף ממשלה | G8: =SUM(#REF!) -> #REF! | H8: =SUM(#REF!) -> #REF! | I8: =SUM(#REF!) -> #REF! | J8: =SUM(#REF!) -> #REF! | K8: =SUM(#REF!) -> #REF! | L8: =SUM(#REF!) -> #REF! | M8: =SUM(#REF!) -> #REF! | N8: =SUM(#REF!) -> #REF! | ... V8: =SUM(#REF!) -> #REF! | W8: ='תקציב מפורט לספר '!W71 -> 1100000 | X8: ='תקציב מפורט לספר '!X71 -> 880000 | Y8: ='תקציב מפורט לספר '!Y71 -> 0 | Z8: ='תקציב מפורט לספר '!Z71 -> 0 | AA8: ='תקציב מפורט לספר '!AA71 -> 220000 | AB8: ='תקציב מפורט לספר '!AB71 -> 0 | AC8: ='תקציב מפורט לספר '!AC71 -> 0 | AD8: ='תקציב מפורט לספר '!AD71 -> 0 | ... AH8: ='תקציב מפורט לספר '!AH71 -> 0 | AI8: =SUM(#REF!) -> #REF! | AJ8: =SUM(#REF!) -> #REF! | AK8: =SUM(#REF!) -> #REF! | AL8: =SUM(#REF!) -> #REF! | AM8: =SUM(#REF!) -> #REF! | AN8: =SUM(AJ8:AM8) -> #REF! | AO8: =SUM(#REF!) -> #REF! | AP8: =SUM(#REF!) -> #REF! | AQ8: =SUM(#REF!) -> #REF! | AR8: =SUM(#REF!) -> #REF! | AS8: =SUM(#REF!) -> #REF! | AT8: =SUM(#REF!) -> #REF! | AU8: =SUM(#REF!) -> #REF! | AV8: =SUM(#REF!) -> #REF! | AW8: =AP8-AQ8-AV8 -> #REF! | AY8: =V8-W8-AC8 -> #REF!
F9: סה"כ תכנון נוף | G9: =SUM(#REF!) -> #REF! | H9: =SUM(#REF!) -> #REF! | I9: =SUM(#REF!) -> #REF! | J9: =SUM(#REF!) -> #REF! | K9: =SUM(#REF!) -> #REF! | L9: =SUM(#REF!) -> #REF! | M9: =SUM(#REF!) -> #REF! | N9: =SUM(#REF!) -> #REF! | ... V9: =SUM(#REF!) -> #REF! | W9: ='תקציב מפורט לספר '!W85 -> 800000 | X9: ='תקציב מפורט לספר '!X85 -> 0 | Y9: ='תקציב מפורט לספר '!Y85 -> 0 | Z9: ='תקציב מפורט לספר '!Z85 -> 300000 | AA9: ='תקציב מפורט לספר '!AA85 -> 500000 | AB9: ='תקציב מפורט לספר '!AB85 -> 0 | AC9: ='תקציב מפורט לספר '!AC85 -> 37790000 | AD9: ='תקציב מפורט לספר '!AD85 -> 0 | ... AH9: ='תקציב מפורט לספר '!AH85 -> 0 | AI9: =SUM(#REF!) -> #REF! | AJ9: =SUM(#REF!) -> #REF! | AK9: =SUM(#REF!) -> #REF! | AL9: =SUM(#REF!) -> #REF! | AM9: =SUM(#REF!) -> #REF! | AN9: =SUM(#REF!) -> #REF! | AO9: =SUM(#REF!) -> #REF! | AP9: =SUM(#REF!) -> #REF! | ... AW9: =SUM(#REF!) -> #REF! | AY9: =V9-W9-AC9 -> #REF!
F10: סה"כ נכסים | G10: =SUM(#REF!) -> #REF! | H10: =SUM(#REF!) -> #REF! | I10: =SUM(#REF!) -> #REF! | J10: =SUM(#REF!) -> #REF! | K10: =SUM(#REF!) -> #REF! | L10: =SUM(#REF!) -> #REF! | M10: =SUM(#REF!) -> #REF! | N10: =SUM(#REF!) -> #REF! | ... V10: =SUM(#REF!) -> #REF! | W10: ='תקציב מפורט לספר '!W102 -> 27600000 | X10: ='תקציב מפורט לספר '!X102 -> 20000000 | Y10: ='תקציב מפורט לספר '!Y102 -> 550000 | Z10: ='תקציב מפורט לספר '!Z102 -> 0 | AA10: ='תקציב מפורט לספר '!AA102 -> 1450000 | AB10: ='תקציב מפורט לספר '!AB102 -> 5600000 | AC10: ='תקציב מפורט לספר '!AC102 -> 13600000 | AD10: ='תקציב מפורט לספר '!AD102 -> 0 | ... AH10: ='תקציב מפורט לספר '!AH102 -> 10000000 | AI10: =SUM(#REF!) -> #REF! | AJ10: =SUM(#REF!) -> #REF! | AK10: =SUM(#REF!) -> #REF! | AL10: =SUM(#REF!) -> #REF! | AM10: =SUM(#REF!) -> #REF! | AN10: =SUM(#REF!) -> #REF! | AO10: =SUM(#REF!) -> #REF! | AP10: =SUM(#REF!) -> #REF! | ... AW10: =SUM(#REF!) -> #REF! | AY10: =V10-W10-AC10 -> #REF!
E11: 2 | F11: סה"כ מינהל הנדסה | G11: =G10+G9+G8+G7+G6+G5 -> #REF! | H11: =H10+H9+H8+H7+H6+H5 -> #REF! | I11: =I10+I9+I8+I7+I6+I5 -> #REF! | J11: =J10+J9+J8+J7+J6+J5 -> #REF! | K11: =K10+K9+K8+K7+K6+K5 -> #REF! | L11: =L10+L9+L8+L7+L6+L5 -> #REF! | M11: =M10+M9+M8+M7+M6+M5 -> #REF! | N11: =N10+N9+N8+N7+N6+N5 -> #REF! | ... AW11: =AW10+AW9+AW8+AW7+AW6+AW5 -> #REF! | AY11: =V11-W11-AC11 -> #REF!
F12: סה"כ עבודות בטיחות וביטחון | G12: =SUM(#REF!) -> #REF! | H12: =SUM(#REF!) -> #REF! | I12: =SUM(#REF!) -> #REF! | J12: =SUM(#REF!) -> #REF! | K12: =SUM(#REF!) -> #REF! | L12: =SUM(#REF!) -> #REF! | M12: =SUM(#REF!) -> #REF! | N12: =SUM(#REF!) -> #REF! | ... V12: =SUM(#REF!) -> #REF! | W12: ='תקציב מפורט לספר '!W112 -> 8800000 | X12: ='תקציב מפורט לספר '!X112 -> 0 | Y12: ='תקציב מפורט לספר '!Y112 -> 0 | Z12: ='תקציב מפורט לספר '!Z112 -> 0 | AA12: ='תקציב מפורט לספר '!AA112 -> 5050000 | AB12: ='תקציב מפורט לספר '!AB112 -> 3750000 | AC12: ='תקציב מפורט לספר '!AC112 -> 100000 | AD12: ='תקציב מפורט לספר '!AD112 -> 0 | ... AH12: ='תקציב מפורט לספר '!AH112 -> 0 | AI12: =SUM(#REF!) -> #REF! | AJ12: =SUM(#REF!) -> #REF! | AK12: =SUM(#REF!) -> #REF! | AL12: =SUM(#REF!) -> #REF! | AM12: =SUM(#REF!) -> #REF! | AN12: =SUM(#REF!) -> #REF! | AO12: =SUM(#REF!) -> #REF! | AP12: =SUM(#REF!) -> #REF! | ... AW12: =SUM(#REF!) -> #REF! | AY12: =V12-W12-AC12 -> #REF!
F13: סה"כ עבודות מיוחדות | G13: =SUM(#REF!) -> #REF! | H13: =SUM(#REF!) -> #REF! | I13: =SUM(#REF!) -> #REF! | J13: =SUM(#REF!) -> #REF! | K13: =SUM(#REF!) -> #REF! | L13: =SUM(#REF!) -> #REF! | M13: =SUM(#REF!) -> #REF! | N13: =SUM(#REF!) -> #REF! | ... V13: =SUM(#REF!) -> #REF! | W13: ='תקציב מפורט לספר '!W127 -> 5870000 | X13: ='תקציב מפורט לספר '!X127 -> 800000 | Y13: ='תקציב מפורט לספר '!Y127 -> 400000 | Z13: ='תקציב מפורט לספר '!Z127 -> 0 | AA13: ='תקציב מפורט לספר '!AA127 -> 370000 | AB13: ='תקציב מפורט לספר '!AB127 -> 4300000 | AC13: ='תקציב מפורט לספר '!AC127 -> 5400000 | AD13: ='תקציב מפורט לספר '!AD127 -> 0 | ... AH13: ='תקציב מפורט לספר '!AH127 -> 2800000 | AI13: =SUM(#REF!) -> #REF! | AJ13: =SUM(#REF!) -> #REF! | AK13: =SUM(#REF!) -> #REF! | AL13: =SUM(#REF!) -> #REF! | AM13: =SUM(#REF!) -> #REF! | AN13: =SUM(#REF!) -> #REF! | AO13: =SUM(#REF!) -> #REF! | AP13: =SUM(#REF!) -> #REF! | ... AW13: =SUM(#REF!) -> #REF! | AY13: =V13-W13-AC13 -> #REF!
F14: סה"כ שיפוצים ובטיחות מבני חינוך | G14: =SUM(#REF!) -> #REF! | H14: =SUM(#REF!) -> #REF! | I14: =SUM(#REF!) -> #REF! | J14: =SUM(#REF!) -> #REF! | K14: =SUM(#REF!) -> #REF! | L14: =SUM(#REF!) -> #REF! | M14: =SUM(#REF!) -> #REF! | N14: =SUM(#REF!) -> #REF! | ... V14: =SUM(#REF!) -> #REF! | W14: ='תקציב מפורט לספר '!W145 -> 16050000 | X14: ='תקציב מפורט לספר '!X145 -> 2950000 | Y14: ='תקציב מפורט לספר '!Y145 -> 1300000 | Z14: ='תקציב מפורט לספר '!Z145 -> 0 | AA14: ='תקציב מפורט לספר '!AA145 -> 6975000 | AB14: ='תקציב מפורט לספר '!AB145 -> 4825000 | AC14: ='תקציב מפורט לספר '!AC145 -> 4500000 | AD14: ='תקציב מפורט לספר '!AD145 -> 0 | ... AH14: ='תקציב מפורט לספר '!AH145 -> 1775000 | AI14: =SUM(#REF!) -> #REF! | AJ14: =SUM(#REF!) -> #REF! | AK14: =SUM(#REF!) -> #REF! | AL14: =SUM(#REF!) -> #REF! | AM14: =SUM(#REF!) -> #REF! | AN14: =SUM(#REF!) -> #REF! | AO14: =SUM(#REF!) -> #REF! | AP14: =SUM(#REF!) -> #REF! | ... AV14: =SUM(#REF!) -> #REF! | AW14: =AP14-AQ14-AV14 -> #REF! | AY14: =V14-W14-AC14 -> #REF!
F15: סה"כ ריהוט וציוד | G15: =SUM(#REF!) -> #REF! | H15: =SUM(#REF!) -> #REF! | I15: =SUM(#REF!) -> #REF! | J15: =SUM(#REF!) -> #REF! | K15: =SUM(#REF!) -> #REF! | L15: =SUM(#REF!) -> #REF! | M15: =SUM(#REF!) -> #REF! | N15: =SUM(#REF!) -> #REF! | ... V15: =SUM(#REF!) -> #REF! | W15: ='תקציב מפורט לספר '!W154 -> 2350000 | X15: ='תקציב מפורט לספר '!X154 -> 234000 | Y15: ='תקציב מפורט לספר '!Y154 -> 0 | Z15: ='תקציב מפורט לספר '!Z154 -> 0 | AA15: ='תקציב מפורט לספר '!AA154 -> 2116000 | AB15: ='תקציב מפורט לספר '!AB154 -> 0 | AC15: ='תקציב מפורט לספר '!AC154 -> 1180000 | AD15: ='תקציב מפורט לספר '!AD154 -> 0 | ... AH15: ='תקציב מפורט לספר '!AH154 -> 0 | AI15: =SUM(#REF!) -> #REF! | AJ15: =SUM(#REF!) -> #REF! | AK15: =SUM(#REF!) -> #REF! | AL15: =SUM(#REF!) -> #REF! | AM15: =SUM(#REF!) -> #REF! | AN15: =SUM(#REF!) -> #REF! | AO15: =SUM(#REF!) -> #REF! | AP15: =SUM(#REF!) -> #REF! | ... AV15: =SUM(#REF!) -> #REF! | AW15: =AP15-AQ15-AV15 -> #REF! | AY15: =V15-W15-AC15 -> #REF!
F16: סה"כ פרוייקטים בשיתוף ביטוח לאומי | G16: =SUM(#REF!) -> #REF! | H16: =SUM(#REF!) -> #REF! | I16: =SUM(#REF!) -> #REF! | J16: =SUM(#REF!) -> #REF! | K16: =SUM(#REF!) -> #REF! | L16: =SUM(#REF!) -> #REF! | M16: =SUM(#REF!) -> #REF! | N16: =SUM(#REF!) -> #REF! | ... V16: =SUM(#REF!) -> #REF! | W16: ='תקציב מפורט לספר '!W157 -> 300000 | X16: ='תקציב מפורט לספר '!X157 -> 150000 | Y16: ='תקציב מפורט לספר '!Y157 -> 0 | Z16: ='תקציב מפורט לספר '!Z157 -> 0 | AA16: ='תקציב מפורט לספר '!AA157 -> 150000 | AB16: ='תקציב מפורט לספר '!AB157 -> 0 | AC16: ='תקציב מפורט לספר '!AC157 -> 0 | AD16: ='תקציב מפורט לספר '!AD157 -> 0 | ... AH16: ='תקציב מפורט לספר '!AH157 -> 0 | AI16: =SUM(#REF!) -> #REF! | AJ16: =SUM(#REF!) -> #REF! | AK16: =SUM(#REF!) -> #REF! | AL16: =SUM(#REF!) -> #REF! | AM16: =SUM(#REF!) -> #REF! | AN16: =SUM(#REF!) -> #REF! | AO16: =SUM(#REF!) -> #REF! | AP16: =SUM(#REF!) -> #REF! | ... AV16: =SUM(#REF!) -> #REF! | AW16: =AP16-AQ16-AV16 -> #REF! | AY16: =V16-W16-AC16 -> #REF!
F17: סה"כ מדע וטכנולוגיה | G17: =SUM(#REF!) -> #REF! | H17: =SUM(#REF!) -> #REF! | I17: =SUM(#REF!) -> #REF! | J17: =SUM(#REF!) -> #REF! | K17: =SUM(#REF!) -> #REF! | L17: =SUM(#REF!) -> #REF! | M17: =SUM(#REF!) -> #REF! | N17: =SUM(#REF!) -> #REF! | ... V17: =SUM(#REF!) -> #REF! | W17: ='תקציב מפורט לספר '!W162 -> 570000 | X17: ='תקציב מפורט לספר '!X162 -> 250000 | Y17: ='תקציב מפורט לספר '!Y162 -> 0 | Z17: ='תקציב מפורט לספר '!Z162 -> 0 | AA17: ='תקציב מפורט לספר '!AA162 -> 320000 | AB17: ='תקציב מפורט לספר '!AB162 -> 0 | AC17: ='תקציב מפורט לספר '!AC162 -> 0 | AD17: ='תקציב מפורט לספר '!AD162 -> 0 | ... AH17: ='תקציב מפורט לספר '!AH162 -> 0 | AI17: =SUM(#REF!) -> #REF! | AJ17: =SUM(#REF!) -> #REF! | AK17: =SUM(#REF!) -> #REF! | AL17: =SUM(#REF!) -> #REF! | AM17: =SUM(#REF!) -> #REF! | AN17: =SUM(#REF!) -> #REF! | AO17: =SUM(#REF!) -> #REF! | AP17: =SUM(#REF!) -> #REF! | ... AV17: =SUM(#REF!) -> #REF! | AW17: =AP17-AQ17-AV17 -> #REF! | AY17: =V17-W17-AC17 -> #REF!
F18: סה"כ מיחשוב מוסדות חינוך | G18: =SUM(#REF!) -> #REF! | H18: =SUM(#REF!) -> #REF! | I18: =SUM(#REF!) -> #REF! | J18: =SUM(#REF!) -> #REF! | K18: =SUM(#REF!) -> #REF! | L18: =SUM(#REF!) -> #REF! | M18: =SUM(#REF!) -> #REF! | N18: =SUM(#REF!) -> #REF! | ... V18: =SUM(#REF!) -> #REF! | W18: ='תקציב מפורט לספר '!W169 -> 4480000 | X18: ='תקציב מפורט לספר '!X169 -> 3227000 | Y18: ='תקציב מפורט לספר '!Y169 -> 0 | Z18: ='תקציב מפורט לספר '!Z169 -> 0 | AA18: ='תקציב מפורט לספר '!AA169 -> 1253000 | AB18: ='תקציב מפורט לספר '!AB169 -> 0 | AC18: ='תקציב מפורט לספר '!AC169 -> 0 | AD18: ='תקציב מפורט לספר '!AD169 -> 0 | ... AH18: ='תקציב מפורט לספר '!AH169 -> 0 | AI18: =SUM(#REF!) -> #REF! | AJ18: =SUM(#REF!) -> #REF! | AK18: =SUM(#REF!) -> #REF! | AL18: =SUM(#REF!) -> #REF! | AM18: =SUM(#REF!) -> #REF! | AN18: =SUM(#REF!) -> #REF! | AO18: =SUM(#REF!) -> #REF! | AP18: =SUM(#REF!) -> #REF! | ... AV18: =SUM(#REF!) -> #REF! | AW18: =AP18-AQ18-AV18 -> #REF! | AY18: =V18-W18-AC18 -> #REF!
F19: סה"כ מערכת תרבות | G19: =SUM(#REF!) -> #REF! | H19: =SUM(#REF!) -> #REF! | I19: =SUM(#REF!) -> #REF! | J19: =SUM(#REF!) -> #REF! | K19: =SUM(#REF!) -> #REF! | L19: =SUM(#REF!) -> #REF! | M19: =SUM(#REF!) -> #REF! | N19: =SUM(#REF!) -> #REF! | ... V19: =SUM(#REF!) -> #REF! | W19: ='תקציב מפורט לספר '!W193 -> 4700000 | X19: ='תקציב מפורט לספר '!X193 -> 0 | Y19: ='תקציב מפורט לספר '!Y193 -> 350000 | Z19: ='תקציב מפורט לספר '!Z193 -> 0 | AA19: ='תקציב מפורט לספר '!AA193 -> 3150000 | AB19: ='תקציב מפורט לספר '!AB193 -> 1200000 | AC19: ='תקציב מפורט לספר '!AC193 -> 7900000 | AD19: ='תקציב מפורט לספר '!AD193 -> 0 | ... AH19: ='תקציב מפורט לספר '!AH193 -> 850000 | AI19: =SUM(#REF!) -> #REF! | AJ19: =SUM(#REF!) -> #REF! | AK19: =SUM(#REF!) -> #REF! | AL19: =SUM(#REF!) -> #REF! | AM19: =SUM(#REF!) -> #REF! | AN19: =SUM(#REF!) -> #REF! | AO19: =SUM(#REF!) -> #REF! | AP19: =SUM(#REF!) -> #REF! | ... AV19: =SUM(#REF!) -> #REF! | AW19: =AP19-AQ19-AV19 -> #REF! | AY19: =V19-W19-AC19 -> #REF!
F20: סה"כ מערכת רווחה | G20: =SUM(#REF!) -> #REF! | H20: =SUM(#REF!) -> #REF! | I20: =SUM(#REF!) -> #REF! | J20: =SUM(#REF!) -> #REF! | K20: =SUM(#REF!) -> #REF! | L20: =SUM(#REF!) -> #REF! | M20: =SUM(#REF!) -> #REF! | N20: =SUM(#REF!) -> #REF! | ... V20: =SUM(#REF!) -> #REF! | W20: ='תקציב מפורט לספר '!W200 -> 1255000 | X20: ='תקציב מפורט לספר '!X200 -> 0 | Y20: ='תקציב מפורט לספר '!Y200 -> 0 | Z20: ='תקציב מפורט לספר '!Z200 -> 0 | AA20: ='תקציב מפורט לספר '!AA200 -> 705000 | AB20: ='תקציב מפורט לספר '!AB200 -> 550000 | AC20: ='תקציב מפורט לספר '!AC200 -> 3850000 | AD20: ='תקציב מפורט לספר '!AD200 -> 0 | ... AH20: ='תקציב מפורט לספר '!AH200 -> 1925000 | AI20: =SUM(#REF!) -> #REF! | AJ20: =SUM(#REF!) -> #REF! | AK20: =SUM(#REF!) -> #REF! | AL20: =SUM(#REF!) -> #REF! | AM20: =SUM(#REF!) -> #REF! | AN20: =SUM(#REF!) -> #REF! | AO20: =SUM(#REF!) -> #REF! | AP20: =SUM(#REF!) -> #REF! | ... AV20: =SUM(#REF!) -> #REF! | AW20: =AP20-AQ20-AV20 -> #REF! | AY20: =V20-W20-AC20 -> #REF!
E21: 3 | F21: סה"כ מערכות חינוך, תרבות ורווחה | G21: =G20+G19+#REF! -> #REF! | H21: =H20+H19+#REF! -> #REF! | I21: =I20+I19+#REF! -> #REF! | J21: =J20+J19+#REF! -> #REF! | K21: =K20+K19+#REF! -> #REF! | L21: =L20+L19+#REF! -> #REF! | M21: =M20+M19+#REF! -> #REF! | N21: =N20+N19+#REF! -> #REF! | ... V21: =V20+V19+#REF! -> #REF! | W21: ='תקציב מפורט לספר '!W201 -> 44375000 | X21: ='תקציב מפורט לספר '!X201 -> 7611000 | Y21: ='תקציב מפורט לספר '!Y201 -> 2050000 | Z21: ='תקציב מפורט לספר '!Z201 -> 0 | AA21: ='תקציב מפורט לספר '!AA201 -> 20089000 | AB21: ='תקציב מפורט לספר '!AB201 -> 14625000 | AC21: ='תקציב מפורט לספר '!AC201 -> 22930000 | AD21: ='תקציב מפורט לספר '!AD201 -> 0 | ... AH21: ='תקציב מפורט לספר '!AH201 -> 7350000 | AI21: =AI20+AI19+#REF! -> #REF! | AJ21: =AJ20+AJ19+#REF! -> #REF! | AK21: =AK20+AK19+#REF! -> #REF! | AL21: =AL20+AL19+#REF! -> #REF! | AM21: =AM20+AM19+#REF! -> #REF! | AN21: =AN20+AN19+#REF! -> #REF! | AO21: =AO20+AO19+#REF! -> #REF! | AP21: =AP20+AP19+#REF! -> #REF! | ... AV21: =AV20+AV19+#REF! -> #REF! | AW21: =AP21-AQ21-AV21 -> #REF! | AY21: =V21-W21-AC21 -> #REF!
F22: סה"כ מינהלי | G22: =SUM(#REF!) -> #REF! | H22: =SUM(#REF!) -> #REF! | I22: =SUM(#REF!) -> #REF! | J22: =SUM(#REF!) -> #REF! | K22: =SUM(#REF!) -> #REF! | L22: =SUM(#REF!) -> #REF! | M22: =SUM(#REF!) -> #REF! | N22: =SUM(#REF!) -> #REF! | ... V22: =SUM(#REF!) -> #REF! | W22: ='תקציב מפורט לספר '!W210 -> 2500000 | X22: ='תקציב מפורט לספר '!X210 -> 1200000 | Y22: ='תקציב מפורט לספר '!Y210 -> 200000 | Z22: ='תקציב מפורט לספר '!Z210 -> 30000 | AA22: ='תקציב מפורט לספר '!AA210 -> 820000 | AB22: ='תקציב מפורט לספר '!AB210 -> 250000 | AC22: ='תקציב מפורט לספר '!AC210 -> 3622000 | AD22: ='תקציב מפורט לספר '!AD210 -> 0 | ... AH22: ='תקציב מפורט לספר '!AH210 -> 1546000 | AI22: =SUM(#REF!) -> #REF! | AJ22: =SUM(#REF!) -> #REF! | AK22: =SUM(#REF!) -> #REF! | AL22: =SUM(#REF!) -> #REF! | AM22: =SUM(#REF!) -> #REF! | AN22: =SUM(#REF!) -> #REF! | AO22: =SUM(#REF!) -> #REF! | AP22: =SUM(#REF!) -> #REF! | ... AV22: =SUM(#REF!) -> #REF! | AW22: =AP22-AQ22-AV22 -> #REF! | AY22: =V22-W22-AC22 -> #REF!
F23: סה"כ אגף תברואה | G23: =SUM(#REF!) -> #REF! | H23: =SUM(#REF!) -> #REF! | I23: =SUM(#REF!) -> #REF! | J23: =SUM(#REF!) -> #REF! | K23: =SUM(#REF!) -> #REF! | L23: =SUM(#REF!) -> #REF! | M23: =SUM(#REF!) -> #REF! | N23: =SUM(#REF!) -> #REF! | ... V23: =SUM(#REF!) -> #REF! | W23: ='תקציב מפורט לספר '!W239 -> 82570000 | X23: ='תקציב מפורט לספר '!X239 -> 0 | Y23: ='תקציב מפורט לספר '!Y239 -> 0 | Z23: ='תקציב מפורט לספר '!Z239 -> 0 | AA23: ='תקציב מפורט לספר '!AA239 -> 82570000 | AB23: ='תקציב מפורט לספר '!AB239 -> 0 | AC23: ='תקציב מפורט לספר '!AC239 -> 10980000 | AD23: ='תקציב מפורט לספר '!AD239 -> 0 | ... AH23: ='תקציב מפורט לספר '!AH239 -> 0 | AI23: =SUM(#REF!) -> #REF! | AJ23: =SUM(#REF!) -> #REF! | AK23: =SUM(#REF!) -> #REF! | AL23: =SUM(#REF!) -> #REF! | AM23: =SUM(#REF!) -> #REF! | AN23: =SUM(#REF!) -> #REF! | AO23: =SUM(#REF!) -> #REF! | AP23: =SUM(#REF!) -> #REF! | ... AW23: =SUM(#REF!) -> #REF! | AY23: =V23-W23-AC23 -> #REF!
F24: סה"כ שירות וטרינרי | G24: =SUM(#REF!) -> #REF! | H24: =SUM(#REF!) -> #REF! | I24: =SUM(#REF!) -> #REF! | J24: =SUM(#REF!) -> #REF! | K24: =SUM(#REF!) -> #REF! | L24: =SUM(#REF!) -> #REF! | M24: =SUM(#REF!) -> #REF! | N24: =SUM(#REF!) -> #REF! | ... V24: =SUM(#REF!) -> #REF! | W24: ='תקציב מפורט לספר '!W249 -> 1690000 | X24: ='תקציב מפורט לספר '!X249 -> 300000 | Y24: ='תקציב מפורט לספר '!Y249 -> 0 | Z24: ='תקציב מפורט לספר '!Z249 -> 0 | AA24: ='תקציב מפורט לספר '!AA249 -> 1390000 | AB24: ='תקציב מפורט לספר '!AB249 -> 0 | AC24: ='תקציב מפורט לספר '!AC249 -> 500000 | AD24: ='תקציב מפורט לספר '!AD249 -> 0 | ... AH24: ='תקציב מפורט לספר '!AH249 -> 0 | AI24: =SUM(#REF!) -> #REF! | AJ24: =SUM(#REF!) -> #REF! | AK24: =SUM(#REF!) -> #REF! | AL24: =SUM(#REF!) -> #REF! | AM24: =SUM(#REF!) -> #REF! | AN24: =SUM(#REF!) -> #REF! | AO24: =SUM(#REF!) -> #REF! | AP24: =SUM(#REF!) -> #REF! | ... AV24: =SUM(#REF!) -> #REF! | AW24: =AP24-AQ24-AV24 -> #REF! | AY24: =V24-W24-AC24 -> #REF!
F25: סה"כ הנהלת אגף שפע | G25: =SUM(#REF!) -> #REF! | H25: =SUM(#REF!) -> #REF! | I25: =SUM(#REF!) -> #REF! | J25: =SUM(#REF!) -> #REF! | K25: =SUM(#REF!) -> #REF! | L25: =SUM(#REF!) -> #REF! | M25: =SUM(#REF!) -> #REF! | N25: =SUM(#REF!) -> #REF! | ... V25: =SUM(#REF!) -> #REF! | W25: ='תקציב מפורט לספר '!W256 -> 0 | X25: ='תקציב מפורט לספר '!X256 -> 0 | Y25: ='תקציב מפורט לספר '!Y256 -> 0 | Z25: ='תקציב מפורט לספר '!Z256 -> 0 | AA25: ='תקציב מפורט לספר '!AA256 -> 0 | AB25: ='תקציב מפורט לספר '!AB256 -> 0 | AC25: ='תקציב מפורט לספר '!AC256 -> 4250000 | AD25: ='תקציב מפורט לספר '!AD256 -> 0 | ... AH25: ='תקציב מפורט לספר '!AH256 -> 0 | AI25: =SUM(#REF!) -> #REF! | AJ25: =SUM(#REF!) -> #REF! | AK25: =SUM(#REF!) -> #REF! | AL25: =SUM(#REF!) -> #REF! | AM25: =SUM(#REF!) -> #REF! | AN25: =SUM(#REF!) -> #REF! | AY25: =V25-W25-AC25 -> #REF!
F26: סה"כ מחלקת דרכים | G26: =SUM(#REF!) -> #REF! | H26: =SUM(#REF!) -> #REF! | I26: =SUM(#REF!) -> #REF! | J26: =SUM(#REF!) -> #REF! | K26: =SUM(#REF!) -> #REF! | L26: =SUM(#REF!) -> #REF! | M26: =SUM(#REF!) -> #REF! | N26: =SUM(#REF!) -> #REF! | ... V26: =SUM(#REF!) -> #REF! | W26: ='תקציב מפורט לספר '!W278 -> 16765000 | X26: ='תקציב מפורט לספר '!X278 -> 0 | Y26: ='תקציב מפורט לספר '!Y278 -> 9500000 | Z26: ='תקציב מפורט לספר '!Z278 -> 3400000 | AA26: ='תקציב מפורט לספר '!AA278 -> 3865000 | AB26: ='תקציב מפורט לספר '!AB278 -> 0 | AC26: ='תקציב מפורט לספר '!AC278 -> 19828000 | AD26: ='תקציב מפורט לספר '!AD278 -> 0 | ... AH26: ='תקציב מפורט לספר '!AH278 -> 0 | AI26: =SUM(#REF!) -> #REF! | AJ26: =SUM(#REF!) -> #REF! | AK26: =SUM(#REF!) -> #REF! | AL26: =SUM(#REF!) -> #REF! | AM26: =SUM(#REF!) -> #REF! | AN26: =SUM(#REF!) -> #REF! | AO26: =SUM(#REF!) -> #REF! | AP26: =SUM(#REF!) -> #REF! | ... AW26: =SUM(#REF!) -> #REF! | AY26: =V26-W26-AC26 -> #REF!
F27: סה"כ מחלקת ניהול ופיקוח על פרויקטים | G27: =SUM(#REF!) -> #REF! | H27: =SUM(#REF!) -> #REF! | I27: =SUM(#REF!) -> #REF! | J27: =SUM(#REF!) -> #REF! | K27: =SUM(#REF!) -> #REF! | L27: =SUM(#REF!) -> #REF! | M27: =SUM(#REF!) -> #REF! | N27: =SUM(#REF!) -> #REF! | ... V27: =SUM(#REF!) -> #REF! | W27: ='תקציב מפורט לספר '!W282 -> 15000000 | X27: ='תקציב מפורט לספר '!X282 -> 0 | Y27: ='תקציב מפורט לספר '!Y282 -> 5000000 | Z27: ='תקציב מפורט לספר '!Z282 -> 10000000 | AA27: ='תקציב מפורט לספר '!AA282 -> 0 | AB27: ='תקציב מפורט לספר '!AB282 -> 0 | AC27: ='תקציב מפורט לספר '!AC282 -> 26800000 | AD27: ='תקציב מפורט לספר '!AD282 -> 0 | ... AH27: ='תקציב מפורט לספר '!AH282 -> 0 | AI27: =SUM(#REF!) -> #REF! | AJ27: =SUM(#REF!) -> #REF! | AK27: =SUM(#REF!) -> #REF! | AL27: =SUM(#REF!) -> #REF! | AM27: =SUM(#REF!) -> #REF! | AN27: =SUM(#REF!) -> #REF! | AY27: =V27-W27-AC27 -> #REF!
F28: סה"כ מחלקת תאורה | G28: =SUM(#REF!) -> #REF! | H28: =SUM(#REF!) -> #REF! | I28: =SUM(#REF!) -> #REF! | J28: =SUM(#REF!) -> #REF! | K28: =SUM(#REF!) -> #REF! | L28: =SUM(#REF!) -> #REF! | M28: =SUM(#REF!) -> #REF! | N28: =SUM(#REF!) -> #REF! | ... V28: =SUM(#REF!) -> #REF! | W28: ='תקציב מפורט לספר '!W286 -> 4000000 | X28: ='תקציב מפורט לספר '!X286 -> 0 | Y28: ='תקציב מפורט לספר '!Y286 -> 4000000 | Z28: ='תקציב מפורט לספר '!Z286 -> 0 | AA28: ='תקציב מפורט לספר '!AA286 -> 0 | AB28: ='תקציב מפורט לספר '!AB286 -> 0 | AC28: ='תקציב מפורט לספר '!AC286 -> 7565000 | AD28: ='תקציב מפורט לספר '!AD286 -> 0 | ... AH28: ='תקציב מפורט לספר '!AH286 -> 0 | AI28: =SUM(#REF!) -> #REF! | AJ28: =SUM(#REF!) -> #REF! | AK28: =SUM(#REF!) -> #REF! | AL28: =SUM(#REF!) -> #REF! | AM28: =SUM(#REF!) -> #REF! | AN28: =SUM(#REF!) -> #REF! | AO28: =SUM(#REF!) -> #REF! | AP28: =SUM(#REF!) -> #REF! | ... AV28: =SUM(#REF!) -> #REF! | AW28: =AP28-AQ28-AV28 -> #REF! | AY28: =V28-W28-AC28 -> #REF!
F29: סה"כ מחלקת רמזורים | G29: =SUM(#REF!) -> #REF! | H29: =SUM(#REF!) -> #REF! | I29: =SUM(#REF!) -> #REF! | J29: =SUM(#REF!) -> #REF! | K29: =SUM(#REF!) -> #REF! | L29: =SUM(#REF!) -> #REF! | M29: =SUM(#REF!) -> #REF! | N29: =SUM(#REF!) -> #REF! | ... V29: =SUM(#REF!) -> #REF! | W29: ='תקציב מפורט לספר '!W298 -> 6622000 | X29: ='תקציב מפורט לספר '!X298 -> 0 | Y29: ='תקציב מפורט לספר '!Y298 -> 0 | Z29: ='תקציב מפורט לספר '!Z298 -> 0 | AA29: ='תקציב מפורט לספר '!AA298 -> 6622000 | AB29: ='תקציב מפורט לספר '!AB298 -> 0 | AC29: ='תקציב מפורט לספר '!AC298 -> 632000 | AD29: ='תקציב מפורט לספר '!AD298 -> 0 | ... AH29: ='תקציב מפורט לספר '!AH298 -> 0 | AI29: =SUM(#REF!) -> #REF! | AJ29: =SUM(#REF!) -> #REF! | AK29: =SUM(#REF!) -> #REF! | AL29: =SUM(#REF!) -> #REF! | AM29: =SUM(#REF!) -> #REF! | AN29: =SUM(#REF!) -> #REF! | AO29: =SUM(#REF!) -> #REF! | AP29: =SUM(#REF!) -> #REF! | ... AW29: =SUM(#REF!) -> #REF! | AY29: =V29-W29-AC29 -> #REF!
F30: סה"כ מחלקת גנים | G30: =SUM(#REF!) -> #REF! | H30: =SUM(#REF!) -> #REF! | I30: =SUM(#REF!) -> #REF! | J30: =SUM(#REF!) -> #REF! | K30: =SUM(#REF!) -> #REF! | L30: =SUM(#REF!) -> #REF! | M30: =SUM(#REF!) -> #REF! | N30: =SUM(#REF!) -> #REF! | ... V30: =SUM(#REF!) -> #REF! | W30: ='תקציב מפורט לספר '!W335 -> 21070000 | X30: ='תקציב מפורט לספר '!X335 -> 10000000 | Y30: ='תקציב מפורט לספר '!Y335 -> 0 | Z30: ='תקציב מפורט לספר '!Z335 -> 6600000 | AA30: ='תקציב מפורט לספר '!AA335 -> 4470000 | AB30: ='תקציב מפורט לספר '!AB335 -> 0 | AC30: ='תקציב מפורט לספר '!AC335 -> 27193000 | AD30: ='תקציב מפורט לספר '!AD335 -> 0 | ... AH30: ='תקציב מפורט לספר '!AH335 -> 0 | AI30: =SUM(#REF!) -> #REF! | AJ30: =SUM(#REF!) -> #REF! | AK30: =SUM(#REF!) -> #REF! | AL30: =SUM(#REF!) -> #REF! | AM30: =SUM(#REF!) -> #REF! | AN30: =SUM(#REF!) -> #REF! | AO30: =SUM(#REF!) -> #REF! | AP30: =SUM(#REF!) -> #REF! | ... AW30: =SUM(#REF!) -> #REF! | AY30: =V30-W30-AC30 -> #REF!
F31: סה"כ ניקוז | G31: =SUM(#REF!) -> #REF! | H31: =SUM(#REF!) -> #REF! | I31: =SUM(#REF!) -> #REF! | J31: =SUM(#REF!) -> #REF! | K31: =SUM(#REF!) -> #REF! | L31: =SUM(#REF!) -> #REF! | M31: =SUM(#REF!) -> #REF! | N31: =SUM(#REF!) -> #REF! | ... V31: =SUM(#REF!) -> #REF! | W31: ='תקציב מפורט לספר '!W346 -> 4325000 | X31: ='תקציב מפורט לספר '!X346 -> 0 | Y31: ='תקציב מפורט לספר '!Y346 -> 0 | Z31: ='תקציב מפורט לספר '!Z346 -> 3975000 | AA31: ='תקציב מפורט לספר '!AA346 -> 350000 | AB31: ='תקציב מפורט לספר '!AB346 -> 0 | AC31: ='תקציב מפורט לספר '!AC346 -> 5575000 | AD31: ='תקציב מפורט לספר '!AD346 -> 0 | ... AH31: ='תקציב מפורט לספר '!AH346 -> 0 | AI31: =SUM(#REF!) -> #REF! | AJ31: =SUM(#REF!) -> #REF! | AK31: =SUM(#REF!) -> #REF! | AL31: =SUM(#REF!) -> #REF! | AM31: =SUM(#REF!) -> #REF! | AN31: =SUM(#REF!) -> #REF! | AO31: =SUM(#REF!) -> #REF! | AP31: =SUM(#REF!) -> #REF! | ... AW31: =SUM(#REF!) -> #REF! | AY31: =V31-W31-AC31 -> #REF!
F32: סה"כ בית מרחץ עירוני | G32: =SUM(#REF!) -> #REF! | H32: =SUM(#REF!) -> #REF! | I32: =SUM(#REF!) -> #REF! | J32: =SUM(#REF!) -> #REF! | K32: =SUM(#REF!) -> #REF! | L32: =SUM(#REF!) -> #REF! | M32: =SUM(#REF!) -> #REF! | N32: =SUM(#REF!) -> #REF! | ... V32: =SUM(#REF!) -> #REF! | W32: ='תקציב מפורט לספר '!W350 -> 300000 | X32: ='תקציב מפורט לספר '!X350 -> 0 | Y32: ='תקציב מפורט לספר '!Y350 -> 0 | Z32: ='תקציב מפורט לספר '!Z350 -> 0 | AA32: ='תקציב מפורט לספר '!AA350 -> 200000 | AB32: ='תקציב מפורט לספר '!AB350 -> 100000 | AC32: ='תקציב מפורט לספר '!AC350 -> 1992000 | AD32: ='תקציב מפורט לספר '!AD350 -> 0 | ... AH32: ='תקציב מפורט לספר '!AH350 -> 1992000 | AI32: =SUM(#REF!) -> #REF! | AJ32: =SUM(#REF!) -> #REF! | AK32: =SUM(#REF!) -> #REF! | AL32: =SUM(#REF!) -> #REF! | AM32: =SUM(#REF!) -> #REF! | AN32: =SUM(#REF!) -> #REF! | AO32: =SUM(#REF!) -> #REF! | AP32: =SUM(#REF!) -> #REF! | ... AW32: =SUM(#REF!) -> #REF! | AY32: =V32-W32-AC32 -> #REF!
F33: סה"כ חופים עירוניים | G33: =SUM(#REF!) -> #REF! | H33: =SUM(#REF!) -> #REF! | I33: =SUM(#REF!) -> #REF! | J33: =SUM(#REF!) -> #REF! | K33: =SUM(#REF!) -> #REF! | L33: =SUM(#REF!) -> #REF! | M33: =SUM(#REF!) -> #REF! | N33: =SUM(#REF!) -> #REF! | ... V33: =SUM(#REF!) -> #REF! | W33: ='תקציב מפורט לספר '!W366 -> 4510000 | X33: ='תקציב מפורט לספר '!X366 -> 695000 | Y33: ='תקציב מפורט לספר '!Y366 -> 0 | Z33: ='תקציב מפורט לספר '!Z366 -> 200000 | AA33: ='תקציב מפורט לספר '!AA366 -> 2385000 | AB33: ='תקציב מפורט לספר '!AB366 -> 1230000 | AC33: ='תקציב מפורט לספר '!AC366 -> 12630000 | AD33: ='תקציב מפורט לספר '!AD366 -> 1960000 | ... AH33: ='תקציב מפורט לספר '!AH366 -> 0 | AI33: =SUM(#REF!) -> #REF! | AJ33: =SUM(#REF!) -> #REF! | AK33: =SUM(#REF!) -> #REF! | AL33: =SUM(#REF!) -> #REF! | AM33: =SUM(#REF!) -> #REF! | AN33: =SUM(#REF!) -> #REF! | AO33: =SUM(#REF!) -> #REF! | AP33: =SUM(#REF!) -> #REF! | ... AV33: =SUM(#REF!) -> #REF! | AW33: =AP33-AQ33-AV33 -> #REF! | AY33: =V33-W33-AC33 -> #REF!
F34: סה"כ ביטחון | G34: =SUM(#REF!) -> #REF! | H34: =SUM(#REF!) -> #REF! | I34: =SUM(#REF!) -> #REF! | J34: =SUM(#REF!) -> #REF! | K34: =SUM(#REF!) -> #REF! | L34: =SUM(#REF!) -> #REF! | M34: =SUM(#REF!) -> #REF! | N34: =SUM(#REF!) -> #REF! | ... V34: =SUM(#REF!) -> #REF! | W34: ='תקציב מפורט לספר '!W376 -> 965000 | X34: ='תקציב מפורט לספר '!X376 -> 0 | Y34: ='תקציב מפורט לספר '!Y376 -> 0 | Z34: ='תקציב מפורט לספר '!Z376 -> 0 | AA34: ='תקציב מפורט לספר '!AA376 -> 507500 | AB34: ='תקציב מפורט לספר '!AB376 -> 457500 | AC34: ='תקציב מפורט לספר '!AC376 -> 5160000 | AD34: ='תקציב מפורט לספר '!AD376 -> 0 | ... AH34: ='תקציב מפורט לספר '!AH376 -> 506500 | AI34: =SUM(#REF!) -> #REF! | AJ34: =SUM(#REF!) -> #REF! | AK34: =SUM(#REF!) -> #REF! | AL34: =SUM(#REF!) -> #REF! | AM34: =SUM(#REF!) -> #REF! | AN34: =SUM(#REF!) -> #REF! | AO34: =SUM(#REF!) -> #REF! | AP34: =SUM(#REF!) -> #REF! | ... AV34: =SUM(#REF!) -> #REF! | AW34: =AP34-AQ34-AV34 -> #REF! | AY34: =V34-W34-AC34 -> #REF!
F35: סה"כ פיקוח | G35: =SUM(#REF!) -> #REF! | H35: =SUM(#REF!) -> #REF! | I35: =SUM(#REF!) -> #REF! | J35: =SUM(#REF!) -> #REF! | K35: =SUM(#REF!) -> #REF! | L35: =SUM(#REF!) -> #REF! | M35: =SUM(#REF!) -> #REF! | N35: =SUM(#REF!) -> #REF! | ... V35: =SUM(#REF!) -> #REF! | W35: ='תקציב מפורט לספר '!W381 -> 490000 | X35: ='תקציב מפורט לספר '!X381 -> 0 | Y35: ='תקציב מפורט לספר '!Y381 -> 0 | Z35: ='תקציב מפורט לספר '!Z381 -> 0 | AA35: ='תקציב מפורט לספר '!AA381 -> 490000 | AB35: ='תקציב מפורט לספר '!AB381 -> 0 | AC35: ='תקציב מפורט לספר '!AC381 -> 50000 | AD35: ='תקציב מפורט לספר '!AD381 -> 0 | ... AH35: ='תקציב מפורט לספר '!AH381 -> 0 | AI35: =SUM(#REF!) -> #REF! | AJ35: =SUM(#REF!) -> #REF! | AK35: =SUM(#REF!) -> #REF! | AL35: =SUM(#REF!) -> #REF! | AM35: =SUM(#REF!) -> #REF! | AN35: =SUM(#REF!) -> #REF! | AO35: =SUM(#REF!) -> #REF! | AP35: =SUM(#REF!) -> #REF! | ... AV35: =SUM(#REF!) -> #REF! | AW35: =AP35-AQ35-AV35 -> #REF! | AY35: =V35-W35-AC35 -> #REF!
F36: סה"כ פרוייקטים בשיתוף משרדי ממשלה | G36: =SUM(#REF!) -> #REF! | H36: =SUM(#REF!) -> #REF! | I36: =SUM(#REF!) -> #REF! | J36: =SUM(#REF!) -> #REF! | K36: =SUM(#REF!) -> #REF! | L36: =SUM(#REF!) -> #REF! | M36: =SUM(#REF!) -> #REF! | N36: =SUM(#REF!) -> #REF! | ... V36: =SUM(#REF!) -> #REF! | W36: ='תקציב מפורט לספר '!W395 -> 40850000 | X36: ='תקציב מפורט לספר '!X395 -> 28595000 | Y36: ='תקציב מפורט לספר '!Y395 -> 12255000 | Z36: ='תקציב מפורט לספר '!Z395 -> 0 | AA36: ='תקציב מפורט לספר '!AA395 -> 0 | AB36: ='תקציב מפורט לספר '!AB395 -> 0 | AC36: ='תקציב מפורט לספר '!AC395 -> 3000000 | AD36: ='תקציב מפורט לספר '!AD395 -> 0 | ... AH36: ='תקציב מפורט לספר '!AH395 -> 0 | AI36: =SUM(#REF!) -> #REF! | AJ36: =SUM(#REF!) -> #REF! | AK36: =SUM(#REF!) -> #REF! | AL36: =SUM(#REF!) -> #REF! | AM36: =SUM(#REF!) -> #REF! | AN36: =SUM(#REF!) -> #REF! | AO36: =SUM(#REF!) -> #REF! | AP36: =SUM(#REF!) -> #REF! | ... AV36: =SUM(#REF!) -> #REF! | AW36: =AP36-AQ36-AV36 -> #REF! | AY36: =V36-W36-AC36 -> #REF!
F37: סה"כ רשות חניה | G37: =SUM(#REF!) -> #REF! | H37: =SUM(#REF!) -> #REF! | I37: =SUM(#REF!) -> #REF! | J37: =SUM(#REF!) -> #REF! | K37: =SUM(#REF!) -> #REF! | L37: =SUM(#REF!) -> #REF! | M37: =SUM(#REF!) -> #REF! | N37: =SUM(#REF!) -> #REF! | ... V37: =SUM(#REF!) -> #REF! | W37: ='תקציב מפורט לספר '!W403 -> 410000 | X37: ='תקציב מפורט לספר '!X403 -> 0 | Y37: ='תקציב מפורט לספר '!Y403 -> 0 | Z37: ='תקציב מפורט לספר '!Z403 -> 0 | AA37: ='תקציב מפורט לספר '!AA403 -> 410000 | AB37: ='תקציב מפורט לספר '!AB403 -> 0 | AC37: ='תקציב מפורט לספר '!AC403 -> 1906000 | AD37: ='תקציב מפורט לספר '!AD403 -> 0 | ... AH37: ='תקציב מפורט לספר '!AH403 -> 0 | AI37: =SUM(#REF!) -> #REF! | AJ37: =SUM(#REF!) -> #REF! | AK37: =SUM(#REF!) -> #REF! | AL37: =SUM(#REF!) -> #REF! | AM37: =SUM(#REF!) -> #REF! | AN37: =SUM(#REF!) -> #REF! | AO37: =SUM(#REF!) -> #REF! | AP37: =SUM(#REF!) -> #REF! | ... AV37: =SUM(#REF!) -> #REF! | AW37: =AP37-AQ37-AV37 -> #REF! | AX37: =SUM(#REF!) -> #REF! | AY37: =V37-W37-AC37 -> #REF!
E38: 4 | F38: סה"כ מינהל תפעול | G38: =G37+G36+G35+G34+G33+#REF!+G24+G23+G22 -> #REF! | H38: =H37+H36+H35+H34+H33+#REF!+H24+H23+H22 -> #REF! | I38: =I37+I36+I35+I34+I33+#REF!+I24+I23+I22 -> #REF! | J38: =J37+J36+J35+J34+J33+#REF!+J24+J23+J22 -> #REF! | K38: =K37+K36+K35+K34+K33+#REF!+K24+K23+K22 -> #REF! | L38: =L37+L36+L35+L34+L33+#REF!+L24+L23+L22 -> #REF! | M38: =M37+M36+M35+M34+M33+#REF!+M24+M23+M22 -> #REF! | N38: =N37+N36+N35+N34+N33+#REF!+N24+N23+N22 -> #REF! | ... V38: =V37+V36+V35+V34+V33+#REF!+V24+V23+V22 -> #REF! | W38: ='תקציב מפורט לספר '!W404 -> 202067000 | X38: ='תקציב מפורט לספר '!X404 -> 40790000 | Y38: ='תקציב מפורט לספר '!Y404 -> 30955000 | Z38: ='תקציב מפורט לספר '!Z404 -> 24205000 | AA38: ='תקציב מפורט לספר '!AA404 -> 104079500 | AB38: ='תקציב מפורט לספר '!AB404 -> 2037500 | AC38: ='תקציב מפורט לספר '!AC404 -> 131683000 | AD38: ='תקציב מפורט לספר '!AD404 -> 1960000 | ... AH38: ='תקציב מפורט לספר '!AH404 -> 4044500 | AI38: =AI37+AI36+AI35+AI34+AI33+#REF!+AI24+AI23+AI22 -> #REF! | AJ38: =AJ37+AJ36+AJ35+AJ34+AJ33+#REF!+AJ24+AJ23+AJ22 -> #REF! | AK38: =AK37+AK36+AK35+AK34+AK33+#REF!+AK24+AK23+AK22 -> #REF! | AL38: =AL37+AL36+AL35+AL34+AL33+#REF!+AL24+AL23+AL22 -> #REF! | AM38: =AM37+AM36+AM35+AM34+AM33+#REF!+AM24+AM23+AM22 -> #REF! | AN38: =AN37+AN36+AN35+AN34+AN33+#REF!+AN24+AN23+AN22 -> #REF! | AO38: =AO37+AO36+AO35+AO34+AO33+AO32+AO31+AO30+AO29+AO28+AO26+AO24+AO23+AO22 -> #REF! | AP38: =AP37+AP36+AP35+AP34+AP33+AP32+AP31+AP30+AP29+AP28+AP26+AP24+AP23+AP22 -> #REF! | AQ38: =AQ37+AQ36+AQ35+AQ34+AQ33+AQ32+AQ31+AQ30+AQ29+AQ28+AQ26+AQ24+AQ23+AQ22 -> #REF! | AR38: =AR37+AR36+AR35+AR34+AR33+AR32+AR31+AR30+AR29+AR28+AR26+AR24+AR23+AR22 -> #REF! | AS38: =AS37+AS36+AS35+AS34+AS33+AS32+AS31+AS30+AS29+AS28+AS26+AS24+AS23+AS22 -> #REF! | AT38: =AT37+AT36+AT35+AT34+AT33+AT32+AT31+AT30+AT29+AT28+AT26+AT24+AT23+AT22 -> #REF! | AU38: =AU37+AU36+AU35+AU34+AU33+AU32+AU31+AU30+AU29+AU28+AU26+AU24+AU23+AU22 -> #REF! | AV38: =AV37+AV36+AV35+AV34+AV33+AV32+AV31+AV30+AV29+AV28+AV26+AV24+AV23+AV22 -> #REF! | AW38: =AP38-AQ38-AV38 -> #REF! | AY38: =V38-W38-AC38 -> #REF!
F39: סה"כ מוזיאונים | G39: =SUM(#REF!) -> #REF! | H39: =SUM(#REF!) -> #REF! | I39: =SUM(#REF!) -> #REF! | J39: =SUM(#REF!) -> #REF! | K39: =SUM(#REF!) -> #REF! | L39: =SUM(#REF!) -> #REF! | M39: =SUM(#REF!) -> #REF! | N39: =SUM(#REF!) -> #REF! | ... V39: =SUM(#REF!) -> #REF! | W39: ='תקציב מפורט לספר '!W414 -> 1200000 | X39: ='תקציב מפורט לספר '!X414 -> 0 | Y39: ='תקציב מפורט לספר '!Y414 -> 0 | Z39: ='תקציב מפורט לספר '!Z414 -> 0 | AA39: ='תקציב מפורט לספר '!AA414 -> 500000 | AB39: ='תקציב מפורט לספר '!AB414 -> 700000 | AC39: ='תקציב מפורט לספר '!AC414 -> 6000000 | AD39: ='תקציב מפורט לספר '!AD414 -> 0 | ... AH39: ='תקציב מפורט לספר '!AH414 -> 4250000 | AI39: =SUM(#REF!) -> #REF! | AJ39: =SUM(#REF!) -> #REF! | AK39: =SUM(#REF!) -> #REF! | AL39: =SUM(#REF!) -> #REF! | AM39: =SUM(#REF!) -> #REF! | AN39: =SUM(#REF!) -> #REF! | AO39: =SUM(#REF!) -> #REF! | AP39: =SUM(#REF!) -> #REF! | ... AV39: =SUM(#REF!) -> #REF! | AW39: =AP39-AQ39-AV39 -> #REF! | AY39: =V39-W39-AC39 -> #REF!
F40: סה"כ אתו"ס | G40: =SUM(#REF!) -> #REF! | H40: =SUM(#REF!) -> #REF! | I40: =SUM(#REF!) -> #REF! | J40: =SUM(#REF!) -> #REF! | K40: =SUM(#REF!) -> #REF! | L40: =SUM(#REF!) -> #REF! | M40: =SUM(#REF!) -> #REF! | N40: =SUM(#REF!) -> #REF! | ... V40: =SUM(#REF!) -> #REF! | W40: ='תקציב מפורט לספר '!W427 -> 3575000 | X40: ='תקציב מפורט לספר '!X427 -> 0 | Y40: ='תקציב מפורט לספר '!Y427 -> 0 | Z40: ='תקציב מפורט לספר '!Z427 -> 0 | AA40: ='תקציב מפורט לספר '!AA427 -> 2675000 | AB40: ='תקציב מפורט לספר '!AB427 -> 900000 | AC40: ='תקציב מפורט לספר '!AC427 -> 11720000 | AD40: ='תקציב מפורט לספר '!AD427 -> 0 | ... AH40: ='תקציב מפורט לספר '!AH427 -> 4785000 | AI40: =SUM(#REF!) -> #REF! | AJ40: =SUM(#REF!) -> #REF! | AK40: =SUM(#REF!) -> #REF! | AL40: =SUM(#REF!) -> #REF! | AM40: =SUM(#REF!) -> #REF! | AN40: =SUM(#REF!) -> #REF! | AO40: =SUM(#REF!) -> #REF! | AP40: =SUM(#REF!) -> #REF! | ... AV40: =SUM(#REF!) -> #REF! | AW40: =AP40-AQ40-AV40 -> #REF! | AY40: =V40-W40-AC40 -> #REF!
F41: סה"כ תאגידים, עמותות ותרומות | G41: =SUM(#REF!) -> #REF! | H41: =SUM(#REF!) -> #REF! | I41: =SUM(#REF!) -> #REF! | J41: =SUM(#REF!) -> #REF! | K41: =SUM(#REF!) -> #REF! | L41: =SUM(#REF!) -> #REF! | M41: =SUM(#REF!) -> #REF! | N41: =SUM(#REF!) -> #REF! | ... V41: =SUM(#REF!) -> #REF! | W41: ='תקציב מפורט לספר '!W432 -> 1260000 | X41: ='תקציב מפורט לספר '!X432 -> 0 | Y41: ='תקציב מפורט לספר '!Y432 -> 0 | Z41: ='תקציב מפורט לספר '!Z432 -> 0 | AA41: ='תקציב מפורט לספר '!AA432 -> 1260000 | AB41: ='תקציב מפורט לספר '!AB432 -> 0 | AC41: ='תקציב מפורט לספר '!AC432 -> 700000 | AD41: ='תקציב מפורט לספר '!AD432 -> 0 | ... AH41: ='תקציב מפורט לספר '!AH432 -> 0 | AI41: =SUM(#REF!) -> #REF! | AJ41: =SUM(#REF!) -> #REF! | AK41: =SUM(#REF!) -> #REF! | AL41: =SUM(#REF!) -> #REF! | AM41: =SUM(#REF!) -> #REF! | AN41: =SUM(#REF!) -> #REF! | AO41: =SUM(#REF!) -> #REF! | AP41: =SUM(#REF!) -> #REF! | ... AV41: =SUM(#REF!) -> #REF! | AW41: =AP41-AQ41-AV41 -> #REF! | AY41: =V41-W41-AC41 -> #REF!
E42: 5 | F42: סה"כ חברות ועמותות | G42: =G41+G40+G39 -> #REF! | H42: =H41+H40+H39 -> #REF! | I42: =I41+I40+I39 -> #REF! | J42: =J41+J40+J39 -> #REF! | K42: =K41+K40+K39 -> #REF! | L42: =L41+L40+L39 -> #REF! | M42: =M41+M40+M39 -> #REF! | N42: =N41+N40+N39 -> #REF! | ... AV42: =AV41+AV40+AV39 -> #REF! | AW42: =AP42-AQ42-AV42 -> #REF! | AY42: =V42-W42-AC42 -> #REF!
E43: 6 | F43: סה"כ תיירותיים | G43: =SUM(#REF!) -> #REF! | H43: =SUM(#REF!) -> #REF! | I43: =SUM(#REF!) -> #REF! | J43: =SUM(#REF!) -> #REF! | K43: =SUM(#REF!) -> #REF! | L43: =SUM(#REF!) -> #REF! | M43: =SUM(#REF!) -> #REF! | N43: =SUM(#REF!) -> #REF! | ... V43: =SUM(#REF!) -> #REF! | W43: ='תקציב מפורט לספר '!W438 -> 1350000 | X43: ='תקציב מפורט לספר '!X438 -> 0 | Y43: ='תקציב מפורט לספר '!Y438 -> 0 | Z43: ='תקציב מפורט לספר '!Z438 -> 0 | AA43: ='תקציב מפורט לספר '!AA438 -> 1350000 | AB43: ='תקציב מפורט לספר '!AB438 -> 0 | AC43: ='תקציב מפורט לספר '!AC438 -> 1000000 | AD43: ='תקציב מפורט לספר '!AD438 -> 0 | ... AH43: ='תקציב מפורט לספר '!AH438 -> 0 | AI43: =SUM(#REF!) -> #REF! | AJ43: =SUM(#REF!) -> #REF! | AK43: =SUM(#REF!) -> #REF! | AL43: =SUM(#REF!) -> #REF! | AM43: =SUM(#REF!) -> #REF! | AN43: =SUM(#REF!) -> #REF! | AO43: =SUM(#REF!) -> #REF! | AP43: =SUM(#REF!) -> #REF! | ... AV43: =SUM(#REF!) -> #REF! | AW43: =AP43-AQ43-AV43 -> #REF! | AY43: =V43-W43-AC43 -> #REF!
E44: 7 | F44: סה"כ אחרים | G44: =SUM(#REF!) -> #REF! | H44: =SUM(#REF!) -> #REF! | I44: =SUM(#REF!) -> #REF! | J44: =SUM(#REF!) -> #REF! | K44: =SUM(#REF!) -> #REF! | L44: =SUM(#REF!) -> #REF! | M44: =SUM(#REF!) -> #REF! | N44: =SUM(#REF!) -> #REF! | ... V44: =SUM(#REF!) -> #REF! | W44: ='תקציב מפורט לספר '!W451 -> 9638000 | X44: ='תקציב מפורט לספר '!X451 -> 3500000 | Y44: ='תקציב מפורט לספר '!Y451 -> 200000 | Z44: ='תקציב מפורט לספר '!Z451 -> 0 | AA44: ='תקציב מפורט לספר '!AA451 -> 2969000 | AB44: ='תקציב מפורט לספר '!AB451 -> 2969000 | AC44: ='תקציב מפורט לספר '!AC451 -> 39913000 | AD44: ='תקציב מפורט לספר '!AD451 -> 0 | ... AH44: ='תקציב מפורט לספר '!AH451 -> 1775000 | AI44: =SUM(#REF!) -> #REF! | AJ44: =SUM(#REF!) -> #REF! | AK44: =SUM(#REF!) -> #REF! | AL44: =SUM(#REF!) -> #REF! | AM44: =SUM(#REF!) -> #REF! | AN44: =SUM(#REF!) -> #REF! | AO44: =SUM(#REF!) -> #REF! | AP44: =SUM(#REF!) -> #REF! | ... AV44: =SUM(#REF!) -> #REF! | AW44: =AP44-AQ44-AV44 -> #REF! | AY44: =V44-W44-AC44 -> #REF!
F45: סה"כ פרויקטים בשיתוף משרד התחבורה | G45: =SUM(#REF!) -> #REF! | H45: =SUM(#REF!) -> #REF! | I45: =SUM(#REF!) -> #REF! | J45: =SUM(#REF!) -> #REF! | K45: =SUM(#REF!) -> #REF! | L45: =SUM(#REF!) -> #REF! | M45: =SUM(#REF!) -> #REF! | N45: =SUM(#REF!) -> #REF! | ... V45: =SUM(#REF!) -> #REF! | W45: ='תקציב מפורט לספר '!W469 -> 338100000 | X45: ='תקציב מפורט לספר '!X469 -> 326760000 | Y45: ='תקציב מפורט לספר '!Y469 -> 11340000 | Z45: ='תקציב מפורט לספר '!Z469 -> 0 | AA45: ='תקציב מפורט לספר '!AA469 -> 0 | AB45: ='תקציב מפורט לספר '!AB469 -> 0 | AC45: ='תקציב מפורט לספר '!AC469 -> 54800000 | AD45: ='תקציב מפורט לספר '!AD469 -> 46355000 | ... AH45: ='תקציב מפורט לספר '!AH469 -> 0 | AI45: =SUM(#REF!) -> #REF! | AJ45: =SUM(#REF!) -> #REF! | AK45: =SUM(#REF!) -> #REF! | AL45: =SUM(#REF!) -> #REF! | AM45: =SUM(#REF!) -> #REF! | AN45: =SUM(#REF!) -> #REF! | AO45: =SUM(#REF!) -> #REF! | AP45: =SUM(#REF!) -> #REF! | ... AV45: =SUM(#REF!) -> #REF! | AW45: =AP45-AQ45-AV45 -> #REF! | AY45: =V45-W45-AC45 -> #REF!
F46: סה"כ מבני תרבות וחינוך במימון הפיס | G46: =SUM(#REF!) -> #REF! | H46: =SUM(#REF!) -> #REF! | I46: =SUM(#REF!) -> #REF! | J46: =SUM(#REF!) -> #REF! | K46: =SUM(#REF!) -> #REF! | L46: =SUM(#REF!) -> #REF! | M46: =SUM(#REF!) -> #REF! | N46: =SUM(#REF!) -> #REF! | ... V46: =SUM(#REF!) -> #REF! | W46: ='תקציב מפורט לספר '!W475 -> 25500000 | X46: ='תקציב מפורט לספר '!X475 -> 25500000 | Y46: ='תקציב מפורט לספר '!Y475 -> 0 | Z46: ='תקציב מפורט לספר '!Z475 -> 0 | AA46: ='תקציב מפורט לספר '!AA475 -> 0 | AB46: ='תקציב מפורט לספר '!AB475 -> 0 | AC46: ='תקציב מפורט לספר '!AC475 -> 5000000 | AD46: ='תקציב מפורט לספר '!AD475 -> 5000000 | ... AH46: ='תקציב מפורט לספר '!AH475 -> 0 | AI46: =SUM(#REF!) -> #REF! | AJ46: =SUM(#REF!) -> #REF! | AK46: =SUM(#REF!) -> #REF! | AL46: =SUM(#REF!) -> #REF! | AM46: =SUM(#REF!) -> #REF! | AN46: =SUM(#REF!) -> #REF! | AO46: =SUM(#REF!) -> #REF! | AP46: =SUM(#REF!) -> #REF! | ... AV46: =SUM(#REF!) -> #REF! | AW46: =AP46-AQ46-AV46 -> #REF! | AY46: =V46-W46-AC46 -> #REF!
F47: סה"כ בינוי-משרד החינוך | G47: =SUM(#REF!) -> #REF! | H47: =SUM(#REF!) -> #REF! | I47: =SUM(#REF!) -> #REF! | J47: =SUM(#REF!) -> #REF! | K47: =SUM(#REF!) -> #REF! | L47: =SUM(#REF!) -> #REF! | M47: =SUM(#REF!) -> #REF! | N47: =SUM(#REF!) -> #REF! | ... V47: =SUM(#REF!) -> #REF! | W47: ='תקציב מפורט לספר '!W517 -> 136261000 | X47: ='תקציב מפורט לספר '!X517 -> 106818000 | Y47: ='תקציב מפורט לספר '!Y517 -> 0 | Z47: ='תקציב מפורט לספר '!Z517 -> 0 | AA47: ='תקציב מפורט לספר '!AA517 -> 4000000 | AB47: ='תקציב מפורט לספר '!AB517 -> 25443000 | AC47: ='תקציב מפורט לספר '!AC517 -> 68600000 | AD47: ='תקציב מפורט לספר '!AD517 -> 26020000 | ... AH47: ='תקציב מפורט לספר '!AH517 -> 40080000 | AI47: =SUM(#REF!) -> #REF! | AJ47: =SUM(#REF!) -> #REF! | AK47: =SUM(#REF!) -> #REF! | AL47: =SUM(#REF!) -> #REF! | AM47: =SUM(#REF!) -> #REF! | AN47: =SUM(#REF!) -> #REF! | AO47: =SUM(#REF!) -> #REF! | AP47: =SUM(#REF!) -> #REF! | ... AV47: =SUM(#REF!) -> #REF! | AW47: =AP47-AQ47-AV47 -> #REF! | AY47: =V47-W47-AC47 -> #REF!
E48: 8 | F48: סה"כ תחבורה, בינוי ותשתיות | G48: =+G47+G46+G45 -> #REF! | H48: =+H47+H46+H45 -> #REF! | I48: =+I47+I46+I45 -> #REF! | J48: =+J47+J46+J45 -> #REF! | K48: =+K47+K46+K45 -> #REF! | L48: =+L47+L46+L45 -> #REF! | M48: =+M47+M46+M45 -> #REF! | N48: =+N47+N46+N45 -> #REF! | ... AN48: =+AN47+AN46+AN45 -> #REF! | AO48: =#REF!+AO47+AO46+AO45 -> #REF! | AP48: =#REF!+AP47+AP46+AP45 -> #REF! | AQ48: =#REF!+AQ47+AQ46+AQ45 -> #REF! | AR48: =#REF!+AR47+AR46+AR45 -> #REF! | AS48: =#REF!+AS47+AS46+AS45 -> #REF! | AT48: =#REF!+AT47+AT46+AT45 -> #REF! | AU48: =#REF!+AU47+AU46+AU45 -> #REF! | AV48: =#REF!+AV47+AV46+AV45 -> #REF! | AW48: =AP48-AQ48-AV48 -> #REF! | AY48: =V48-W48-AC48 -> #REF!
E49: 9 | F49: סה"כ מינהל כספים | G49: =#REF!+#REF!+#REF! -> #REF! | H49: =#REF!+#REF!+#REF! -> #REF! | I49: =#REF!+#REF!+#REF! -> #REF! | J49: =#REF!+#REF!+#REF! -> #REF! | K49: =#REF!+#REF!+#REF! -> #REF! | L49: =#REF!+#REF!+#REF! -> #REF! | M49: =#REF!+#REF!+#REF! -> #REF! | N49: =#REF!+#REF!+#REF! -> #REF! | ... U49: =#REF!+#REF!+#REF! -> #REF! | V49: =#REF! -> #REF! | W49: ='תקציב מפורט לספר '!W528 -> 17200000 | X49: ='תקציב מפורט לספר '!X528 -> 0 | Y49: ='תקציב מפורט לספר '!Y528 -> 700000 | Z49: ='תקציב מפורט לספר '!Z528 -> 10000000 | AA49: ='תקציב מפורט לספר '!AA528 -> 6500000 | AB49: ='תקציב מפורט לספר '!AB528 -> 0 | AC49: ='תקציב מפורט לספר '!AC528 -> 9200000 | AD49: ='תקציב מפורט לספר '!AD528 -> 0 | ... AH49: ='תקציב מפורט לספר '!AH528 -> 0 | AI49: =#REF! -> #REF! | AJ49: =#REF! -> #REF! | AK49: =#REF! -> #REF! | AL49: =#REF! -> #REF! | AM49: =#REF! -> #REF! | AN49: =#REF!+#REF!+#REF! -> #REF! | AO49: =#REF!+#REF! -> #REF! | AP49: =#REF!+#REF! -> #REF! | AQ49: =#REF!+#REF! -> #REF! | AR49: =#REF!+#REF! -> #REF! | AS49: =#REF!+#REF! -> #REF! | AT49: =#REF!+#REF! -> #REF! | AU49: =#REF!+#REF! -> #REF! | AV49: =#REF!+#REF! -> #REF! | AW49: =AP49-AQ49-AV49 -> #REF! | AY49: =V49-W49-AC49 -> #REF!
F50: סה"כ תקציב פיתוח | G50: =G49+G48+G44+G43+G42+G38+G21+G11+G4 -> #REF! | H50: =H49+H48+H44+H43+H42+H38+H21+H11+H4 -> #REF! | I50: =I49+I48+I44+I43+I42+I38+I21+I11+I4 -> #REF! | J50: =J49+J48+J44+J43+J42+J38+J21+J11+J4 -> #REF! | K50: =K49+K48+K44+K43+K42+K38+K21+K11+K4 -> #REF! | L50: =L49+L48+L44+L43+L42+L38+L21+L11+L4 -> #REF! | M50: =M49+M48+M44+M43+M42+M38+M21+M11+M4 -> #REF! | N50: =N49+N48+N44+N43+N42+N38+N21+N11+N4 -> #REF! | ... AV50: =AV49+AV48+AV44+AV43+AV42+AV38+AV21+AV11+AV4 -> #REF! | AW50: =AP50-AQ50-AV50 -> #REF! | AY50: =V50-W50-AC50 -> #REF!
C388: 0

Sheet תקציב מפורט לספר 
E1: העבודה | F1: עמודה1 | G1: תקציב 2014 | H1: עמודה2 | I1: תקציב 2015 | J1: עמודה3 | K1: תקציב 2016 | L1: עמודה4 | M1: תקציב 2017 | N1: עמודה5 | O1: תקציב 2018 | P1: עמודה6 | Q1: עמודה7 | R1: עמודה8 | S1: יתרה מועברת ל- 2019 | T1: עמודה9 | U1: עמודה10 | V1: תקציב פיתוח הצעת היחידות | W1: תקציב פיתוח 2019 | X1: עמודה11 | Y1: עמודה12 | Z1: עמודה13 | AA1: עמודה14 | AB1: עמודה15 | AC1: רב שנתי | AD1: עמודה16 | AE1: עמודה17 | AF1: עמודה18 | AG1: עמודה19 | AH1: עמודה20 | AI1: מימון תקציב פיתוח 2019 הצעת היחידות | AJ1: עמודה21 | AK1: עמודה22 | AL1: עמודה23 | AM1: עמודה24 | AN1: מימון עירוני
E2: מספר סידורי | F2: נושא | AQ2: מקורות מימון 2009
E3: מספר סידורי | F3: נושא | G3: תקציב 2014 | H3: הרשאות 2014 | I3: תקציב 2015 | J3: הרשאות 2015 | K3: תקציב 2016 | L3: הרשאות 2016 | M3: תקציב 2017 | N3: הרשאות 2017 | O3: תקציב 2018 נכון לתאריך 29.11.18 | P3: הרשאות 2018 נכון לתאריך 29.11.18 | Q3: הפרש תקציב 2018-2017 | R3: הפרש הרשאות 2018-2017 | S3: אומדן יתרה ל-2019 | T3: ממשלה ומוסדות | U3: יתרה המועברת ל- 2019- מימון עירוני | V3: תקציב פיתוח 2019 - הצעת היחידות | W3: תקציב פיתוח 2019 | X3: ממשלה ומוסדות | Y3: היטל השבחה | Z3: בעלים | AA3: הלוואות | AB3: מכירת נכסים | AC3: רב שנתי | AD3: ממשלה ומוסדות | AE3: היטל השבחה | AF3: בעלים | AG3: הלוואות | AH3: מכירת נכסים | AI3: ממשלה ומוסדות | AJ3: היטל השבחה | AK3: בעלים | AL3: הלוואות | AM3: מכירת נכסים | AN3: מימון עירוני | AO3: תקציב רב שנתי | AP3: הצעת אגף תקציבים | AQ3: ממשלה ומוסדות | AR3: היטל השבחה | AS3: בעלים | AT3: הלוואות | AU3: מכירת נכסים | AV3: מימון עירוני
E4: 10100 | F4: הנהלת העירייה
E5: =E4+1 -> 10101 | F5: שיפוצים, רכישות ועבודות בטיחות | G5: 3950000 | H5: 3891549 | I5: 5100000 | J5: 4859835 | K5: 3900000 | L5: 3900000 | M5: 4650000 | N5: 4533006 | O5: 5098000 | P5: 5071695 | Q5: =O5-M5 -> 448000 | R5: =P5-N5 -> 538689 | S5: 1676000 | U5: =+S5 -> 1676000 | V5: 2000000 | W5: 1000000 | AA5: =W5/2 -> 500000 | AB5: =W5-AA5 -> 500000 | AC5: =V5-W5 -> 1000000 | AG5: =AC5/2 -> 500000 | AH5: =AC5-AG5 -> 500000 | AI5: =AD5+X5 -> 0 | AJ5: =AE5+Y5 -> 0 | AK5: =AF5+Z5 -> 0 | AL5: =AG5+AA5 -> 1000000 | AM5: =AH5+AB5 -> 1000000 | AN5: =SUM(AJ5:AM5) -> 2000000 | AV5: =AU5+AT5+AS5+AR5 -> 0 | AW5: =AP5-AQ5-AV5 -> 0 | AY5: =V5-W5-AC5 -> 0
E6: =E5+1 -> 10102 | F6: עירונית קריית חיים | O6: 100000 | Q6: =O6-M6 -> 100000 | R6: =P6-N6 -> 0 | V6: 200000 | W6: 200000 | AA6: =W6/2 -> 100000 | AB6: =W6-AA6 -> 100000 | AC6: =V6-W6 -> 0 | AI6: =AD6+X6 -> 0 | AJ6: =AE6+Y6 -> 0 | AK6: =AF6+Z6 -> 0 | AL6: =AG6+AA6 -> 100000 | AM6: =AH6+AB6 -> 100000 | AN6: =SUM(AJ6:AM6) -> 200000 | AY6: =V6-W6-AC6 -> 0
E7: =E6+1 -> 10103 | F7: שיפוץ היכל העירייה | O7: 4500000 | P7: 1479000 | Q7: =O7-M7 -> 4500000 | R7: =P7-N7 -> 1479000 | V7: 4960000 | W7: 0 | AC7: =V7-W7 -> 4960000 | AH7: =V7-Z7 -> 4960000 | AI7: =AD7+X7 -> 0 | AJ7: =AE7+Y7 -> 0 | AK7: =AF7+Z7 -> 0 | AL7: =AG7+AA7 -> 0 | AM7: =AH7+AB7 -> 4960000 | AN7: =SUM(AJ7:AM7) -> 4960000 | AV7: =AU7+AT7+AS7+AR7 -> 0 | AW7: =AP7-AQ7-AV7 -> 0 | AY7: =V7-W7-AC7 -> 0
E8: =E7+1 -> 10104 | F8: ארכיון העיר | G8: 700000 | H8: =26250+455000 -> 481250 | I8: 700000 | J8: 350000 | K8: 600000 | L8: =350000-5506 -> 344494 | M8: 350000 | N8: 350000 | O8: 930000 | P8: 500000 | Q8: =O8-M8 -> 580000 | R8: =P8-N8 -> 150000 | S8: 313000 | U8: =+S8 -> 313000 | V8: 500000 | W8: =V8 -> 500000 | AA8: =W8 -> 500000 | AC8: =V8-W8 -> 0 | AI8: =AD8+X8 -> 0 | AJ8: =AE8+Y8 -> 0 | AK8: =AF8+Z8 -> 0 | AL8: =AG8+AA8 -> 500000 | AM8: =AH8+AB8 -> 0 | AN8: =SUM(AJ8:AM8) -> 500000 | AV8: =AU8+AT8+AS8+AR8 -> 0 | AW8: =AP8-AQ8-AV8 -> 0 | AY8: =V8-W8-AC8 -> 0
E9: =E8+1 -> 10105 | F9: שעוני נוכחות-חוזה | I9: 100000 | V9: 389000 | W9: =+V9 -> 389000 | AA9: =W9 -> 389000 | AI9: =AD9+X9 -> 0 | AJ9: =AE9+Y9 -> 0 | AK9: =AF9+Z9 -> 0 | AL9: =AG9+AA9 -> 389000 | AM9: =AH9+AB9 -> 0 | AN9: =SUM(AJ9:AM9) -> 389000 | AV9: =AU9+AT9+AS9+AR9 -> 0 | AW9: =AP9-AQ9-AV9 -> 0 | AY9: =V9-W9-AC9 -> 0
F10: סה"כ הנהלת העירייה | G10: =SUM(G5:G9) -> 4650000 | H10: =SUM(H5:H9) -> 4372799 | I10: =SUM(I5:I9) -> 5900000 | J10: =SUM(J5:J9) -> 5209835 | K10: =SUM(K5:K9) -> 4500000 | L10: =SUM(L5:L9) -> 4244494 | M10: =SUM(M5:M9) -> 5000000 | N10: =SUM(N5:N9) -> 4883006 | ... AV10: =SUM(AV5:AV9) -> 0 | AW10: =AP10-AQ10-AV10 -> 0 | AY10: =V10-W10-AC10 -> 0
F11: מינהל הנדסה | AI11: =AD11+X11 -> 0 | AJ11: =AE11+Y11 -> 0 | AK11: =AF11+Z11 -> 0 | AL11: =AG11+AA11 -> 0 | AM11: =AH11+AB11 -> 0 | AW11: =AP11-AQ11-AV11 -> 0 | AY11: =V11-W11-AC11 -> 0
E12: 20100 | F12: משרד מהנדס העיר | AI12: =AD12+X12 -> 0 | AJ12: =AE12+Y12 -> 0 | AK12: =AF12+Z12 -> 0 | AL12: =AG12+AA12 -> 0 | AM12: =AH12+AB12 -> 0 | AW12: =AP12-AQ12-AV12 -> 0 | AY12: =V12-W12-AC12 -> 0
E13: =E12+1 -> 20101 | F13: עבודות מיוחדות | G13: 1000000 | H13: 999970 | I13: 1000000 | J13: 989071 | K13: 1000000 | L13: 943500 | M13: 1000000 | N13: 979438 | O13: 1000000 | P13: 880500 | Q13: =O13-M13 -> 0 | R13: =P13-N13 -> -98938 | S13: 177000 | U13: =+S13 -> 177000 | V13: 1000000 | W13: 0 | Y13: =W13 -> 0 | AC13: =V13-W13 -> 1000000 | AG13: =AC13 -> 1000000 | AI13: =AD13+X13 -> 0 | AJ13: =AE13+Y13 -> 0 | AK13: =AF13+Z13 -> 0 | AL13: =AG13+AA13 -> 1000000 | AM13: =AH13+AB13 -> 0 | AN13: =SUM(AJ13:AM13) -> 1000000 | AV13: =AU13+AT13+AS13+AR13 -> 0 | AW13: =AP13-AQ13-AV13 -> 0 | AY13: =V13-W13-AC13 -> 0
E14: =E13+1 -> 20102 | F14: מבנים מסוכנים - אגף הפיקוח על הבניה | G14: 1000000 | H14: =G14 -> 1000000 | I14: 1000000 | J14: 1000000 | K14: 1000000 | L14: =500000+400000+425000+100000-299225-125851 -> 999924 | M14: 1000000 | N14: 500000 | O14: 2000000 | P14: 1100000 | Q14: =O14-M14 -> 1000000 | R14: =P14-N14 -> 600000 | S14: 439174 | U14: =S14 -> 439174 | V14: 2000000 | W14: 2000000 | Y14: =W14 -> 2000000 | AC14: =V14-W14 -> 0 | AI14: =AD14+X14 -> 0 | AJ14: =AE14+Y14 -> 2000000 | AK14: =AF14+Z14 -> 0 | AL14: =AG14+AA14 -> 0 | AM14: =AH14+AB14 -> 0 | AN14: =SUM(AJ14:AM14) -> 2000000 | AV14: =AU14+AT14+AS14+AR14 -> 0 | AW14: =AP14-AQ14-AV14 -> 0 | AY14: =V14-W14-AC14 -> 0
E15: =E14+1 -> 20103 | F15: נגישות מתו"ס (מבנים, תשתיות וסביבה) - כולל ביצוע | G15: 20000000 | H15: 500000 | I15: 15000000 | J15: 0 | K15: 15000000 | L15: =364700+125000+50000+627570+611585 -> 1778855 | M15: 26000000 | N15: =6060000+10000000 -> 16060000 | O15: 20000000 | P15: 8180000 | Q15: =O15-M15 -> -6000000 | R15: =P15-N15 -> -7880000 | S15: 14457355 | U15: =S15 -> 14457355 | V15: 50000000 | W15: =V15 -> 50000000 | Y15: =W15/2 -> 25000000 | Z15: =V15-Y15 -> 25000000 | AC15: =V15-W15 -> 0 | AI15: =AD15+X15 -> 0 | AJ15: =AE15+Y15 -> 25000000 | AK15: =AF15+Z15 -> 25000000 | AL15: =AG15+AA15 -> 0 | AM15: =AH15+AB15 -> 0 | AN15: =SUM(AJ15:AM15) -> 50000000 | AV15: =AU15+AT15+AS15+AR15 -> 0 | AW15: =AP15-AQ15-AV15 -> 0 | AY15: =V15-W15-AC15 -> 0
E16: =E15+1 -> 20104 | F16: יועצים | K16: 450000 | L16: 450000 | O16: 500000 | Q16: =O16-M16 -> 500000 | R16: =P16-N16 -> 0 | S16: 0 | U16: =S16 -> 0 | V16: 500000 | W16: 0 | Y16: =W16 -> 0 | AC16: =V16-W16 -> 500000 | AG16: =AC16 -> 500000 | AI16: =AD16+X16 -> 0 | AJ16: =AE16+Y16 -> 0 | AK16: =AF16+Z16 -> 0 | AL16: =AG16+AA16 -> 500000 | AM16: =AH16+AB16 -> 0 | AN16: =SUM(AJ16:AM16) -> 500000 | AV16: =AU16+AT16+AS16+AR16 -> 0 | AW16: =AP16-AQ16-AV16 -> 0 | AY16: =V16-W16-AC16 -> 0
E17: =E16+1 -> 20105 | F17: טיפול בגשרים ומבני דרך | K17: 1000000 | L17: 1000000 | M17: 10000000 | N17: 10000000 | O17: 20000000 | P17: 10000000 | Q17: =O17-M17 -> 10000000 | R17: =P17-N17 -> 0 | S17: 12013053 | U17: =S17 -> 12013053 | V17: 20000000 | W17: 15000000 | Y17: =W17 -> 15000000 | AC17: =V17-W17 -> 5000000 | AE17: =AC17 -> 5000000 | AI17: =AD17+X17 -> 0 | AJ17: =AE17+Y17 -> 20000000 | AK17: =AF17+Z17 -> 0 | AL17: =AG17+AA17 -> 0 | AM17: =AH17+AB17 -> 0 | AN17: =SUM(AJ17:AM17) -> 20000000 | AV17: =AU17+AT17+AS17+AR17 -> 0 | AW17: =AP17-AQ17-AV17 -> 0 | AY17: =V17-W17-AC17 -> 0
E18: =E17+1 -> 20106 | F18: שיפוץ חזיתות ומבנים במקומות שונים | G18: 2000000 | H18: 2000000 | I18: 1000000 | J18: =I18 -> 1000000 | K18: =950000-300000 -> 650000 | L18: 620000 | M18: 1000000 | N18: =M18 -> 1000000 | O18: 4000000 | P18: 3896000 | Q18: =O18-M18 -> 3000000 | R18: =P18-N18 -> 2896000 | S18: 4793873 | U18: =S18 -> 4793873 | V18: 4000000 | W18: 3000000 | AB18: =W18 -> 3000000 | AC18: =V18-W18 -> 1000000 | AH18: =AC18 -> 1000000 | AI18: =AD18+X18 -> 0 | AJ18: =AE18+Y18 -> 0 | AK18: =AF18+Z18 -> 0 | AL18: =AG18+AA18 -> 0 | AM18: =AH18+AB18 -> 4000000 | AN18: =SUM(AJ18:AM18) -> 4000000 | AV18: =AU18+AT18+AS18+AR18 -> 0 | AW18: =AP18-AQ18-AV18 -> 0 | AY18: =V18-W18-AC18 -> 0
E19: =E18+1 -> 20107 | F19: חזית ים | V19: 2000000 | W19: 0 | Z19: =W19 -> 0 | AC19: =V19-W19 -> 2000000 | AE19: =AC19 -> 2000000 | AI19: =AD19+X19 -> 0 | AJ19: =AE19+Y19 -> 2000000 | AK19: =AF19+Z19 -> 0 | AL19: =AG19+AA19 -> 0 | AM19: =AH19+AB19 -> 0 | AN19: =SUM(AJ19:AM19) -> 2000000 | AY19: =V19-W19-AC19 -> 0
E20: =E19+1 -> 20108 | F20: אכיפה יזומה שוטרים בתשלום | V20: 30000 | W20: 0 | Y20: =W20 -> 0 | AC20: =V20-W20 -> 30000 | AG20: =AC20 -> 30000 | AI20: =AD20+X20 -> 0 | AJ20: =AE20+Y20 -> 0 | AK20: =AF20+Z20 -> 0 | AL20: =AG20+AA20 -> 30000 | AM20: =AH20+AB20 -> 0 | AN20: =SUM(AJ20:AM20) -> 30000 | AY20: =V20-W20-AC20 -> 0
E21: =E20+1 -> 20109 | F21: שיתוף ציבור שימועים לשיפוץ חזיתות | V21: 30000 | W21: 0 | Y21: =W21 -> 0 | AC21: =V21-W21 -> 30000 | AG21: =AC21 -> 30000 | AI21: =AD21+X21 -> 0 | AJ21: =AE21+Y21 -> 0 | AK21: =AF21+Z21 -> 0 | AL21: =AG21+AA21 -> 30000 | AM21: =AH21+AB21 -> 0 | AN21: =SUM(AJ21:AM21) -> 30000 | AY21: =V21-W21-AC21 -> 0
F22: סה"כ משרד מהנדס העיר | G22: =SUM(G13:G21) -> 24000000 | H22: =SUM(H13:H21) -> 4499970 | I22: =SUM(I13:I21) -> 18000000 | J22: =SUM(J13:J21) -> 2989071 | K22: =SUM(K13:K21) -> 19100000 | L22: =SUM(L13:L21) -> 5792279 | M22: =SUM(M13:M18) -> 39000000 | N22: =SUM(N13:N18) -> 28539438 | O22: =SUM(O13:O18) -> 47500000 | P22: =SUM(P13:P18) -> 24056500 | Q22: =SUM(Q13:Q18) -> 8500000 | R22: =SUM(R13:R18) -> -4482938 | S22: =SUM(S13:S21) -> 31880455 | T22: =SUM(T13:T18) -> 0 | U22: =SUM(U13:U21) -> 31880455 | V22: =SUM(V13:V21) -> 79560000 | W22: =SUM(W13:W21) -> 70000000 | X22: =SUM(X13:X21) -> 0 | Y22: =SUM(Y13:Y21) -> 42000000 | Z22: =SUM(Z13:Z21) -> 25000000 | AA22: =SUM(AA13:AA21) -> 0 | AB22: =SUM(AB13:AB21) -> 3000000 | ... AN22: =SUM(AN13:AN21) -> 79560000 | AO22: =SUM(AO13:AO18) -> 0 | AP22: =SUM(AP13:AP18) -> 0 | AQ22: =SUM(AQ13:AQ18) -> 0 | AR22: =SUM(AR13:AR18) -> 0 | AS22: =SUM(AS13:AS18) -> 0 | AT22: =SUM(AT13:AT18) -> 0 | AU22: =SUM(AU13:AU18) -> 0 | AV22: =SUM(AV13:AV18) -> 0 | AW22: =AP22-AQ22-AV22 -> 0 | AY22: =V22-W22-AC22 -> 0
E23: 20200 | F23: תכנון עיר | AW23: =AP23-AQ23-AV23 -> 0 | AY23: =V23-W23-AC23 -> 0
E24: =E23+1 -> 20201 | F24: מגורים, מלונאות והתחדשות עירונית | G24: 2500000 | H24: 2500000 | I24: 250000 | J24: 0 | M24: 500000 | N24: 500000 | O24: 7695000 | P24: 1700000 | Q24: =O24-M24 -> 7195000 | R24: =P24-N24 -> 1200000 | S24: 8074150 | U24: =S24 -> 8074150 | V24: 4950000 | W24: =V24/2 -> 2475000 | Y24: =W24 -> 2475000 | AC24: =V24-W24 -> 2475000 | AE24: =AC24 -> 2475000 | AI24: =AD24+X24 -> 0 | AJ24: =AE24+Y24 -> 4950000 | AK24: =AF24+Z24 -> 0 | AL24: =AG24+AA24 -> 0 | AM24: =AH24+AB24 -> 0 | AN24: =SUM(AJ24:AM24) -> 4950000 | AV24: =AU24+AT24+AS24+AR24 -> 0 | AW24: =AP24-AQ24-AV24 -> 0 | AY24: =V24-W24-AC24 -> 0
E25: =E24+1 -> 20202 | F25: תוכניות שונות, שיתוף ציבור, נכסים עירונים ושימור | G25: 1050000 | H25: 777000 | K25: 500000 | L25: 183000 | M25: 50000 | N25: 90000 | O25: 1675802 | P25: 1375802 | Q25: =O25-M25 -> 1625802 | R25: =P25-N25 -> 1285802 | S25: 3757102 | U25: =S25 -> 3757102 | V25: 2500000 | W25: =V25/2 -> 1250000 | Y25: =W25 -> 1250000 | AC25: =V25-W25 -> 1250000 | AE25: =AC25 -> 1250000 | AI25: =AD25+X25 -> 0 | AJ25: =AE25+Y25 -> 2500000 | AK25: =AF25+Z25 -> 0 | AL25: =AG25+AA25 -> 0 | AM25: =AH25+AB25 -> 0 | AN25: =SUM(AJ25:AM25) -> 2500000 | AV25: =AU25+AT25+AS25+AR25 -> 0 | AW25: =AP25-AQ25-AV25 -> 0 | AY25: =V25-W25-AC25 -> 0
E26: =E25+1 -> 20203 | F26: תעסוקה, תשתיות ודרכים | G26: 350000 | H26: 0 | I26: 100000 | J26: 100000 | O26: 650000 | P26: 250000 | Q26: =O26-M26 -> 650000 | R26: =P26-N26 -> 250000 | S26: 696439 | U26: =S26 -> 696439 | V26: 700000 | W26: =V26/2 -> 350000 | Y26: =W26 -> 350000 | AC26: =V26-W26 -> 350000 | AE26: =AC26 -> 350000 | AI26: =AD26+X26 -> 0 | AJ26: =AE26+Y26 -> 700000 | AK26: =AF26+Z26 -> 0 | AL26: =AG26+AA26 -> 0 | AM26: =AH26+AB26 -> 0 | AN26: =SUM(AJ26:AM26) -> 700000 | AV26: =AU26+AT26+AS26+AR26 -> 0 | AW26: =AP26-AQ26-AV26 -> 0 | AY26: =V26-W26-AC26 -> 0
E27: =E26+1 -> 20204 | F27: תוכנית מתאר חיפה | K27: 50000 | L27: 0 | V27: 3200000 | W27: 1000000 | Y27: =W27 -> 1000000 | AC27: =V27-W27 -> 2200000 | AE27: =AC27 -> 2200000 | AI27: =AD27+X27 -> 0 | AJ27: =AE27+Y27 -> 3200000 | AK27: =AF27+Z27 -> 0 | AL27: =AG27+AA27 -> 0 | AM27: =AH27+AB27 -> 0
F28: סה"כ תכנון עיר | G28: =SUM(G24:G27) -> 3900000 | H28: =SUM(H24:H27) -> 3277000 | I28: =SUM(I24:I27) -> 350000 | J28: =SUM(J24:J27) -> 100000 | K28: =SUM(K24:K27) -> 550000 | L28: =SUM(L24:L27) -> 183000 | M28: =SUM(M24:M27) -> 550000 | N28: =SUM(N24:N27) -> 590000 | ... AV28: =SUM(AV24:AV27) -> 0 | AW28: =AP28-AQ28-AV28 -> 0 | AY28: =V28-W28-AC28 -> 0
E29: 20300 | F29: תכנון דרכים ותנועה | AW29: =AP29-AQ29-AV29 -> 0 | AY29: =V29-W29-AC29 -> 0
E30: =E29+1 -> 20301 | F30: השלמה פיתוח בשכונות - היטל דרכים | G30: 7000000 | H30: 6738550 | I30: 12100000 | J30: 11325790 | K30: 8500000 | L30: 4823901 | M30: 8000000 | N30: 3849000 | O30: 4603638 | P30: 2299638 | Q30: =O30-M30 -> -3396362 | R30: =P30-N30 -> -1549362 | S30: 7839700 | U30: =S30 -> 7839700 | V30: 6000000 | W30: 5000000 | Z30: =W30 -> 5000000 | AC30: =V30-W30 -> 1000000 | AF30: =AC30 -> 1000000 | AI30: =AD30+X30 -> 0 | AJ30: =AE30+Y30 -> 0 | AK30: =AF30+Z30 -> 6000000 | AL30: =AG30+AA30 -> 0 | AM30: =AH30+AB30 -> 0 | AN30: =SUM(AJ30:AM30) -> 6000000 | AV30: =AU30+AT30+AS30+AR30 -> 0 | AY30: =V30-W30-AC30 -> 0
E31: =E30+1 -> 20302 | F31: תכנון ומדידה במקומות שונים | G31: 300000 | H31: 200000 | I31: 100000 | J31: 100000 | K31: 200000 | L31: 200000 | M31: 200000 | N31: 200000 | O31: 1000000 | P31: 200000 | Q31: =O31-M31 -> 800000 | R31: =P31-N31 -> 0 | S31: 148171 | U31: =S31 -> 148171 | V31: 1000000 | W31: 200000 | Y31: =W31 -> 200000 | AC31: =V31-W31 -> 800000 | AE31: =AC31 -> 800000 | AI31: =AD31+X31 -> 0 | AJ31: =AE31+Y31 -> 1000000 | AK31: =AF31+Z31 -> 0 | AL31: =AG31+AA31 -> 0 | AM31: =AH31+AB31 -> 0 | AN31: =SUM(AJ31:AM31) -> 1000000 | AV31: =AU31+AT31+AS31+AR31 -> 0 | AW31: =AP31-AQ31-AV31 -> 0 | AY31: =V31-W31-AC31 -> 0
E32: =E31+1 -> 20303 | F32: נחלת יעקב-הסכם פיתוח | I32: 3500000 | J32: 1212399 | K32: 2000000 | L32: 0 | M32: 2000000 | O32: 2000000 | P32: 1420800 | Q32: =O32-M32 -> 0 | R32: =P32-N32 -> 1420800 | S32: 1420800 | U32: =S32 -> 1420800 | V32: 5000000 | W32: 0 | Z32: =W32 -> 0 | AC32: =V32-W32 -> 5000000 | AF32: =AC32 -> 5000000 | AI32: =AD32+X32 -> 0 | AJ32: =AE32+Y32 -> 0 | AK32: =AF32+Z32 -> 5000000 | AL32: =AG32+AA32 -> 0 | AM32: =AH32+AB32 -> 0 | AN32: =SUM(AJ32:AM32) -> 5000000 | AV32: =AU32+AT32+AS32+AR32 -> 0 | AW32: =AP32-AQ32-AV32 -> 0 | AY32: =V32-W32-AC32 -> 0
E33: =E32+1 -> 20304 | F33: פיתוח מתחם חביבה רייך | G33: 7000000 | H33: 3000000 | I33: 5000000 | J33: 4800000 | K33: 4000000 | L33: 3650000 | M33: 7000000 | N33: 7000000 | O33: 8000000 | P33: 7200000 | Q33: =O33-M33 -> 1000000 | R33: =P33-N33 -> 200000 | S33: 10222276 | U33: =S33 -> 10222276 | V33: 8000000 | W33: 0 | Z33: =W33 -> 0 | AC33: =V33-W33 -> 8000000 | AF33: =AC33 -> 8000000 | AI33: =AD33+X33 -> 0 | AJ33: =AE33+Y33 -> 0 | AK33: =AF33+Z33 -> 8000000 | AL33: =AG33+AA33 -> 0 | AM33: =AH33+AB33 -> 0 | AN33: =SUM(AJ33:AM33) -> 8000000 | AV33: =AU33+AT33+AS33+AR33 -> 0 | AW33: =AP33-AQ33-AV33 -> 0 | AY33: =V33-W33-AC33 -> 0
E34: =E33+1 -> 20305 | F34: פיתוח ליד גנ"י ומבני ציבור | I34: 1750000 | J34: =125000+167000+60000+70000 -> 422000 | K34: 500000 | L34: 146000 | M34: 250000 | N34: 250000 | O34: 2850000 | P34: 2850000 | Q34: =O34-M34 -> 2600000 | R34: =P34-N34 -> 2600000 | S34: 2700519 | U34: =S34 -> 2700519 | V34: 2000000 | W34: 500000 | Y34: =W34 -> 500000 | AC34: =V34-W34 -> 1500000 | AE34: =AC34 -> 1500000 | AI34: =AD34+X34 -> 0 | AJ34: =AE34+Y34 -> 2000000 | AK34: =AF34+Z34 -> 0 | AL34: =AG34+AA34 -> 0 | AM34: =AH34+AB34 -> 0 | AN34: =SUM(AJ34:AM34) -> 2000000 | AV34: =AU34+AT34+AS34+AR34 -> 0 | AW34: =AP34-AQ34-AV34 -> 0 | AY34: =V34-W34-AC34 -> 0
E35: =E34+1 -> 20306 | F35: רח' מח"ל היטלים | O35: 1500000 | P35: 1500000 | Q35: =O35-M35 -> 1500000 | R35: =P35-N35 -> 1500000 | S35: 1246014 | U35: =S35 -> 1246014 | V35: 7000000 | W35: =V35 -> 7000000 | X35: =W35/2 -> 3500000 | Z35: =W35-X35 -> 3500000 | AC35: =V35-W35 -> 0 | AI35: =AD35+X35 -> 3500000 | AJ35: =AE35+Y35 -> 0 | AK35: =AF35+Z35 -> 3500000 | AL35: =AG35+AA35 -> 0 | AM35: =AH35+AB35 -> 0 | AN35: =SUM(AJ35:AM35) -> 3500000 | AV35: =AU35+AT35+AS35+AR35 -> 0 | AW35: =AP35-AQ35-AV35 -> 0 | AY35: =V35-W35-AC35 -> 0
E36: =E35+1 -> 20307 | F36: שינוים בכרמליה - תכנון וביצוע | O36: 1000000 | P36: 650000 | Q36: =O36-M36 -> 1000000 | R36: =P36-N36 -> 650000 | S36: 650000 | U36: 650000 | V36: 1000000 | W36: 0 | Z36: =W36 -> 0 | AC36: =V36-W36 -> 1000000 | AF36: =AC36 -> 1000000 | AI36: =AD36+X36 -> 0 | AJ36: =AE36+Y36 -> 0 | AK36: =AF36+Z36 -> 1000000 | AL36: =AG36+AA36 -> 0 | AM36: =AH36+AB36 -> 0 | AN36: =SUM(AJ36:AM36) -> 1000000
E37: =E36+1 -> 20308 | F37: ביצוע התאמות לשינויי תנועה בקרית חיים | V37: 300000 | W37: 0 | Z37: =W37 -> 0 | AC37: =V37-W37 -> 300000 | AF37: =AC37 -> 300000 | AI37: =AD37+X37 -> 0 | AJ37: =AE37+Y37 -> 0 | AK37: =AF37+Z37 -> 300000 | AL37: =AG37+AA37 -> 0 | AM37: =AH37+AB37 -> 0 | AN37: =SUM(AJ37:AM37) -> 300000
E38: =E37+1 -> 20309 | F38: מדידות | O38: 200000 | Q38: =O38-M38 -> 200000 | R38: =P38-N38 -> 0 | V38: 300000 | W38: 300000 | Y38: =W38 -> 300000 | AC38: =V38-W38 -> 0 | AI38: =AD38+X38 -> 0 | AJ38: =AE38+Y38 -> 300000 | AK38: =AF38+Z38 -> 0 | AL38: =AG38+AA38 -> 0 | AM38: =AH38+AB38 -> 0 | AN38: =SUM(AJ38:AM38) -> 300000
E39: =E38+1 -> 20310 | F39: הסדרת כניסה לתחנת רכבת ולקמפוס הנמל | V39: 4000000 | W39: 0 | Z39: =W39 -> 0 | AC39: =V39-W39 -> 4000000 | AE39: =AC39 -> 4000000 | AI39: =AD39+X39 -> 0 | AJ39: =AE39+Y39 -> 4000000 | AK39: =AF39+Z39 -> 0 | AL39: =AG39+AA39 -> 0 | AM39: =AH39+AB39 -> 0 | AN39: =SUM(AJ39:AM39) -> 4000000
E40: =E39+1 -> 20311 | F40: רחוב קדושי בגדד | Q40: =O40-M40 -> 0 | R40: =P40-N40 -> 0 | V40: 500000 | W40: 0 | Z40: =W40 -> 0 | AC40: =V40-W40 -> 500000 | AF40: =AC40 -> 500000 | AI40: =AD40+X40 -> 0 | AJ40: =AE40+Y40 -> 0 | AK40: =AF40+Z40 -> 500000 | AL40: =AG40+AA40 -> 0 | AM40: =AH40+AB40 -> 0 | AN40: =SUM(AJ40:AM40) -> 500000
E41: =E40+1 -> 20312 | F41: רחוב יורדי הים | Q41: =O41-M41 -> 0 | R41: =P41-N41 -> 0 | V41: 500000 | W41: 0 | Z41: =W41 -> 0 | AC41: =V41-W41 -> 500000 | AF41: =AC41 -> 500000 | AI41: =AD41+X41 -> 0 | AJ41: =AE41+Y41 -> 0 | AK41: =AF41+Z41 -> 500000 | AL41: =AG41+AA41 -> 0 | AM41: =AH41+AB41 -> 0 | AN41: =SUM(AJ41:AM41) -> 500000
E42: =E41+1 -> 20313 | F42: אזור תעשיה חפ/1704 ליד הצ'ק פוסט | G42: 2000000 | H42: 2000000 | I42: 4000000 | J42: 0 | K42: 4000000 | L42: 2202853 | M42: 6500000 | N42: 6500000 | O42: 8000000 | Q42: =O42-M42 -> 1500000 | R42: =P42-N42 -> -6500000 | S42: 7764179 | U42: =S42 -> 7764179 | V42: 20000000 | W42: 0 | Z42: =W42 -> 0 | AC42: =V42-W42 -> 20000000 | AF42: =AC42 -> 20000000 | AI42: =AD42+X42 -> 0 | AJ42: =AE42+Y42 -> 0 | AK42: =AF42+Z42 -> 20000000 | AL42: =AG42+AA42 -> 0 | AM42: =AH42+AB42 -> 0 | AN42: =SUM(AJ42:AM42) -> 20000000
E43: =E42+1 -> 20314 | F43: אזור תעשיה חפ/1706 תכנון | O43: 2000000 | Q43: =O43-M43 -> 2000000 | R43: =P43-N43 -> 0 | V43: 5000000 | W43: 0 | Z43: =W43 -> 0 | AC43: =V43-W43 -> 5000000 | AE43: =AC43 -> 5000000 | AI43: =AD43+X43 -> 0 | AJ43: =AE43+Y43 -> 5000000 | AK43: =AF43+Z43 -> 0 | AL43: =AG43+AA43 -> 0 | AM43: =AH43+AB43 -> 0 | AN43: =SUM(AJ43:AM43) -> 5000000
E44: =E43+1 -> 20315 | F44: אזור תעשיה חפ/1767 תכנון | O44: 4000000 | P44: 2000000 | Q44: =O44-M44 -> 4000000 | R44: =P44-N44 -> 2000000 | S44: 1900000 | U44: =S44 -> 1900000 | V44: 4000000 | W44: 0 | Z44: =W44 -> 0 | AC44: =V44-W44 -> 4000000 | AE44: =AC44 -> 4000000 | AI44: =AD44+X44 -> 0 | AJ44: =AE44+Y44 -> 4000000 | AK44: =AF44+Z44 -> 0 | AL44: =AG44+AA44 -> 0 | AM44: =AH44+AB44 -> 0 | AN44: =SUM(AJ44:AM44) -> 4000000
E45: =E44+1 -> 20316 | F45: רמת הנשיא (חביב) - סלילה | G45: 10000000 | H45: 505000 | I45: 15000000 | J45: 0 | K45: 20000000 | L45: 0 | O45: 5000000 | Q45: =O45-M45 -> 5000000 | R45: =P45-N45 -> 0 | S45: 17958739 | U45: =S45 -> 17958739 | V45: 2000000 | W45: 2000000 | Z45: =W45 -> 2000000 | AC45: =V45-W45 -> 0 | AH45: =V45-Z45 -> 0 | AI45: =AD45+X45 -> 0 | AJ45: =AE45+Y45 -> 0 | AK45: =AF45+Z45 -> 2000000 | AL45: =AG45+AA45 -> 0 | AM45: =AH45+AB45 -> 0 | AN45: =SUM(AJ45:AM45) -> 2000000
E46: =E45+1 -> 20317 | F46: רמת זמר - סלילה | I46: 10000000 | J46: 191000 | K46: 15000000 | L46: =1600000-30000 -> 1570000 | M46: 8500000 | N46: 4500000 | O46: 8000000 | P46: 8000000 | Q46: =O46-M46 -> -500000 | R46: =P46-N46 -> 3500000 | S46: 5833305 | U46: =S46 -> 5833305 | V46: 11000000 | W46: 8000000 | Z46: =W46 -> 8000000 | AC46: =V46-W46 -> 3000000 | AF46: =AC46 -> 3000000 | AI46: =AD46+X46 -> 0 | AJ46: =AE46+Y46 -> 0 | AK46: =AF46+Z46 -> 11000000 | AL46: =AG46+AA46 -> 0 | AM46: =AH46+AB46 -> 0 | AN46: =SUM(AJ46:AM46) -> 11000000
E47: =E46+1 -> 20318 | F47: מבואות דרומיים - מערכת כבישים וגשר | G47: 20000000 | H47: =17000000+2813441 -> 19813441 | I47: 38000000 | J47: =4831215+12206779 -> 17037994 | K47: 20000000 | L47: 16000000 | M47: 7700000 | N47: 7700000 | O47: 15100000 | P47: 7500000 | Q47: =O47-M47 -> 7400000 | R47: =P47-N47 -> -200000 | S47: 11222884 | U47: =S47 -> 11222884 | V47: 8000000 | W47: =V47 -> 8000000 | X47: =W47 -> 8000000 | AC47: =V47-W47 -> 0 | AI47: =AD47+X47 -> 8000000 | AJ47: =AE47+Y47 -> 0 | AK47: =AF47+Z47 -> 0 | AL47: =AG47+AA47 -> 0 | AM47: =AH47+AB47 -> 0 | AN47: =SUM(AJ47:AM47) -> 0
E48: =E47+1 -> 20319 | F48: פארק נחל הגיבורים | G48: 6000000 | H48: 500000 | I48: 6000000 | J48: 0 | K48: 6000000 | L48: 0 | M48: 8000000 | O48: 8000000 | Q48: =O48-M48 -> 0 | R48: =P48-N48 -> 0 | S48: 500000 | T48: 500000 | V48: 8000000 | X48: =W48 -> 0 | AC48: =V48-W48 -> 8000000 | AF48: =AC48 -> 8000000 | AI48: =AD48+X48 -> 0 | AJ48: =AE48+Y48 -> 0 | AK48: =AF48+Z48 -> 8000000 | AL48: =AG48+AA48 -> 0 | AM48: =AH48+AB48 -> 0 | AN48: =SUM(AJ48:AM48) -> 8000000
E49: =E48+1 -> 20320 | F49: רמת אלמוגי (אנטנות) | O49: 2000000 | P49: 1500000 | Q49: =O49-M49 -> 2000000 | R49: =P49-N49 -> 1500000 | S49: 1500000 | U49: =S49 -> 1500000 | V49: 10000000 | W49: =V49 -> 10000000 | X49: =W49 -> 10000000 | AC49: =V49-W49 -> 0 | AI49: =AD49+X49 -> 10000000 | AJ49: =AE49+Y49 -> 0 | AK49: =AF49+Z49 -> 0 | AL49: =AG49+AA49 -> 0 | AM49: =AH49+AB49 -> 0 | AN49: =SUM(AJ49:AM49) -> 0
E50: =E49+1 -> 20321 | F50: רחוב האסיף בין שמשון וטנא | V50: 1700000 | W50: 0 | Z50: =W50 -> 0 | AC50: =V50-W50 -> 1700000 | AF50: =AC50 -> 1700000 | AI50: =AD50+X50 -> 0 | AJ50: =AE50+Y50 -> 0 | AK50: =AF50+Z50 -> 1700000 | AL50: =AG50+AA50 -> 0 | AM50: =AH50+AB50 -> 0 | AN50: =SUM(AJ50:AM50) -> 1700000
E51: =E50+1 -> 20322 | F51: דרגנועים ברחבי העיר | V51: 15000000 | W51: 1500000 | X51: =W51*0.7 -> 1050000 | Y51: =W51-X51 -> 450000 | AC51: =V51-W51 -> 13500000 | AD51: =AC51*0.7 -> 9450000 | AE51: =AC51-AD51 -> 4050000 | AI51: =AD51+X51 -> 10500000 | AJ51: =AE51+Y51 -> 4500000 | AK51: =AF51+Z51 -> 0 | AL51: =AG51+AA51 -> 0 | AM51: =AH51+AB51 -> 0 | AN51: =SUM(AJ51:AM51) -> 4500000
E52: =E51+1 -> 20323 | F52: עבודות שונות | G52: 1000000 | H52: 821500 | I52: 1000000 | J52: 842000 | K52: 1000000 | L52: 689200 | M52: 1000000 | N52: 1016470 | O52: 1000000 | P52: 1153362 | Q52: =O52-M52 -> 0 | R52: =P52-N52 -> 136892 | S52: 50000 | U52: =+S52 -> 50000 | V52: 1000000 | W52: 1000000 | AA52: =W52 -> 1000000 | AC52: =V52-W52 -> 0 | AI52: =AD52+X52 -> 0 | AJ52: =AE52+Y52 -> 0 | AK52: =AF52+Z52 -> 0 | AL52: =AG52+AA52 -> 1000000 | AM52: =AH52+AB52 -> 0 | AN52: =SUM(AJ52:AM52) -> 1000000
E53: =E52+1 -> 20324 | F53: השלמת כביש מגדל אור | V53: 5000000 | W53: 0 | Z53: =W53 -> 0 | AC53: =V53-W53 -> 5000000 | AE53: =AC53 -> 5000000 | AI53: =AD53+X53 -> 0 | AJ53: =AE53+Y53 -> 5000000 | AK53: =AF53+Z53 -> 0 | AL53: =AG53+AA53 -> 0 | AM53: =AH53+AB53 -> 0 | AN53: =SUM(AJ53:AM53) -> 5000000
E54: =E53+1 -> 20325 | F54: רחוב הרב חלפון | V54: 3000000 | W54: 0 | Z54: =W54 -> 0 | AC54: =V54-W54 -> 3000000 | AF54: =AC54 -> 3000000 | AI54: =AD54+X54 -> 0 | AJ54: =AE54+Y54 -> 0 | AK54: =AF54+Z54 -> 3000000 | AL54: =AG54+AA54 -> 0 | AM54: =AH54+AB54 -> 0 | AN54: =SUM(AJ54:AM54) -> 3000000
E55: =E54+1 -> 20326 | F55: שביל כליל החורש ומורן | V55: 300000 | W55: 0 | Z55: =W55 -> 0 | AC55: =V55-W55 -> 300000 | AF55: =AC55 -> 300000 | AI55: =AD55+X55 -> 0 | AJ55: =AE55+Y55 -> 0 | AK55: =AF55+Z55 -> 300000 | AL55: =AG55+AA55 -> 0 | AM55: =AH55+AB55 -> 0 | AN55: =SUM(AJ55:AM55) -> 300000
E56: =E55+1 -> 20327 | F56: רחוב אמיל זולא , כל ישראל חברים, ויקטור הוגו, סמטת לואי | V56: 10000000 | W56: 0 | Z56: =W56 -> 0 | AC56: =V56-W56 -> 10000000 | AF56: =AC56 -> 10000000 | AI56: =AD56+X56 -> 0 | AJ56: =AE56+Y56 -> 0 | AK56: =AF56+Z56 -> 10000000 | AL56: =AG56+AA56 -> 0 | AM56: =AH56+AB56 -> 0 | AN56: =SUM(AJ56:AM56) -> 10000000
E57: =E56+1 -> 20328 | F57: שילוט עיר תחתית | V57: 50000 | W57: 50000 | AA57: =W57 -> 50000 | AC57: =V57-W57 -> 0 | AI57: =AD57+X57 -> 0 | AJ57: =AE57+Y57 -> 0 | AK57: =AF57+Z57 -> 0 | AL57: =AG57+AA57 -> 50000 | AM57: =AH57+AB57 -> 0 | AN57: =SUM(AJ57:AM57) -> 50000
E58: =E57+1 -> 20329 | F58: ציר ההסתדרות כביש פנימי מצפון לדרום | V58: 3000000 | W58: 0 | Z58: =W58 -> 0 | AC58: =V58-W58 -> 3000000 | AE58: =AC58 -> 3000000 | AI58: =AD58+X58 -> 0 | AJ58: =AE58+Y58 -> 3000000 | AK58: =AF58+Z58 -> 0 | AL58: =AG58+AA58 -> 0 | AM58: =AH58+AB58 -> 0 | AN58: =SUM(AJ58:AM58) -> 3000000
E59: =E58+1 -> 20330 | F59: רחוב בועז - הסדרת צמתים | V59: 1000000 | W59: 0 | Z59: =W59 -> 0 | AC59: =V59-W59 -> 1000000 | AE59: =AC59 -> 1000000 | AI59: =AD59+X59 -> 0 | AJ59: =AE59+Y59 -> 1000000 | AK59: =AF59+Z59 -> 0 | AL59: =AG59+AA59 -> 0 | AM59: =AH59+AB59 -> 0 | AN59: =SUM(AJ59:AM59) -> 1000000
E60: =E59+1 -> 20331 | F60: תכנית אב לחניה ובטיחות בנווה שאנן | V60: 50000 | W60: 0 | Z60: =W60 -> 0 | AC60: =V60-W60 -> 50000 | AE60: =AC60 -> 50000 | AI60: =AD60+X60 -> 0 | AJ60: =AE60+Y60 -> 50000 | AK60: =AF60+Z60 -> 0 | AL60: =AG60+AA60 -> 0 | AM60: =AH60+AB60 -> 0 | AN60: =SUM(AJ60:AM60) -> 50000
E61: =E60+1 -> 20332 | F61: שיפורי בטיחות | V61: 1000000 | W61: 1000000 | Y61: =W61 -> 1000000 | AC61: =V61-W61 -> 0 | AI61: =AD61+X61 -> 0 | AJ61: =AE61+Y61 -> 1000000 | AK61: =AF61+Z61 -> 0 | AL61: =AG61+AA61 -> 0 | AM61: =AH61+AB61 -> 0 | AN61: =SUM(AJ61:AM61) -> 1000000
E62: =E61+1 -> 20333 | F62: מחשוב תהליכים תיוק וסריקה | V62: 700000 | W62: 0 | Y62: =W62 -> 0 | AC62: =V62-W62 -> 700000 | AE62: =AC62 -> 700000 | AI62: =AD62+X62 -> 0 | AJ62: =AE62+Y62 -> 700000 | AK62: =AF62+Z62 -> 0 | AL62: =AG62+AA62 -> 0 | AM62: =AH62+AB62 -> 0 | AN62: =SUM(AJ62:AM62) -> 700000
E63: =E62+1 -> 20334 | F63: מורדות ורדיה- הסכם פיתוח | V63: 6000000 | W63: 0 | Z63: =W63 -> 0 | AC63: =V63-W63 -> 6000000 | AF63: =AC63 -> 6000000 | AI63: =AD63+X63 -> 0 | AJ63: =AE63+Y63 -> 0 | AK63: =AF63+Z63 -> 6000000 | AL63: =AG63+AA63 -> 0 | AM63: =AH63+AB63 -> 0 | AN63: =SUM(AJ63:AM63) -> 6000000
E64: =E63+1 -> 20335 | F64: ראש פינה נגב | V64: 7000000 | AC64: =V64 -> 7000000 | AF64: =AC64 -> 7000000 | AI64: =AD64+X64 -> 0 | AJ64: =AE64+Y64 -> 0 | AK64: =AF64+Z64 -> 7000000 | AL64: =AG64+AA64 -> 0 | AM64: =AH64+AB64 -> 0
E65: =E64+1 -> 20336 | F65: מדרחוב הנמל | V65: 1500000 | W65: 0 | Z65: =W65 -> 0 | AC65: =V65-W65 -> 1500000 | AE65: =AC65 -> 1500000 | AI65: =AD65+X65 -> 0 | AJ65: =AE65+Y65 -> 1500000 | AK65: =AF65+Z65 -> 0 | AL65: =AG65+AA65 -> 0 | AM65: =AH65+AB65 -> 0 | AN65: =SUM(AJ65:AM65) -> 1500000
E66: =E65+1 -> 20337 | F66: חידוש איזור מערבי של עיר תחתית עד עין דור | V66: 30000000 | AC66: =V66 -> 30000000 | AE66: =AC66/2 -> 15000000 | AF66: =AC66/2 -> 15000000 | AI66: =AD66+X66 -> 0 | AJ66: =AE66+Y66 -> 15000000 | AK66: =AF66+Z66 -> 15000000 | AL66: =AG66+AA66 -> 0 | AM66: =AH66+AB66 -> 0
F67: סה"כ תכנון דרכים ותנועה | G67: =SUM(G30:G66) -> 53300000 | H67: =SUM(H30:H66) -> 33578491 | I67: =SUM(I30:I66) -> 96450000 | J67: =SUM(J30:J66) -> 35931183 | K67: =SUM(K30:K66) -> 81200000 | L67: =SUM(L30:L66) -> 29281954 | M67: =SUM(M30:M66) -> 49150000 | N67: =SUM(N30:N66) -> 31015470 | ... AN67: =SUM(AN30:AN66) -> 120900000 | AO67: =SUM(AO30:AO35) -> 0 | AP67: =SUM(AP30:AP35) -> 0 | AQ67: =SUM(AQ30:AQ35) -> 0 | AR67: =SUM(AR30:AR35) -> 0 | AS67: =SUM(AS30:AS35) -> 0 | AT67: =SUM(AT30:AT35) -> 0 | AU67: =SUM(AU30:AU35) -> 0 | AV67: =SUM(AV30:AV35) -> 0 | AW67: =AP67-AQ67-AV67 -> 0 | AY67: =V67-W67-AC67 -> 0
E68: 20400 | F68: פרויקטים בשיתוף מ.ממשלה | AW68: =AP68-AQ68-AV68 -> 0 | AY68: =V68-W68-AC68 -> 0
E69: =E68+1 -> 20401 | F69: בטיחות בדרכים בתחום הגורם האנושי | G69: 480000 | H69: 477500 | I69: 505000 | J69: =37500+232500+232500 -> 502500 | K69: 500000 | L69: 362500 | M69: 500000 | N69: 937190 | O69: 957500 | P69: 857500 | Q69: =O69-M69 -> 457500 | R69: =P69-N69 -> -79690 | S69: 619251 | T69: =0.7*S69 -> 433475.7 | U69: =S69-T69 -> 185775.3 | V69: 600000 | W69: 600000 | X69: 480000 | AA69: =W69-X69 -> 120000 | AC69: =V69-W69 -> 0 | AI69: =AD69+X69 -> 480000 | AJ69: =AE69+Y69 -> 0 | AK69: =AF69+Z69 -> 0 | AL69: =AG69+AA69 -> 120000 | AM69: =AH69+AB69 -> 0 | AN69: =SUM(AJ69:AM69) -> 120000 | AV69: =AU69+AT69+AS69+AR69 -> 0 | AW69: =AP69-AQ69-AV69 -> 0 | AY69: =V69-W69-AC69 -> 0
E70: =E69+1 -> 20402 | F70: קירוי מגרש בטיחות בדרכים | G70: 650000 | H70: 0 | I70: 650000 | J70: 0 | O70: 500000 | Q70: =O70-M70 -> 500000 | R70: =P70-N70 -> 0 | V70: 500000 | W70: 500000 | X70: 400000 | AA70: =W70-X70 -> 100000 | AC70: =V70-W70 -> 0 | AI70: =AD70+X70 -> 400000 | AJ70: =AE70+Y70 -> 0 | AK70: =AF70+Z70 -> 0 | AL70: =AG70+AA70 -> 100000 | AM70: =AH70+AB70 -> 0 | AN70: =SUM(AJ70:AM70) -> 100000
F71: סה"כ עבודות בשיתוף ממשלה | G71: =SUM(G69:G70) -> 1130000 | H71: =SUM(H69:H70) -> 477500 | I71: =SUM(I69:I70) -> 1155000 | J71: =SUM(J69:J70) -> 502500 | K71: =SUM(K69:K70) -> 500000 | L71: =SUM(L69:L70) -> 362500 | M71: =SUM(M69:M70) -> 500000 | N71: =SUM(N69:N70) -> 937190 | ... AM71: =SUM(AM69:AM70) -> 0 | AN71: =SUM(AJ71:AM71) -> 220000 | AO71: =SUM(AO69:AO70) -> 0 | AP71: =SUM(AP69:AP70) -> 0 | AQ71: =SUM(AQ69:AQ70) -> 0 | AR71: =SUM(AR69:AR70) -> 0 | AS71: =SUM(AS69:AS70) -> 0 | AT71: =SUM(AT69:AT70) -> 0 | AU71: =SUM(AU69:AU70) -> 0 | AV71: =SUM(AV69:AV70) -> 0 | AW71: =AP71-AQ71-AV71 -> 0 | AY71: =V71-W71-AC71 -> 0
E72: 20500 | F72: תכנון נוף | AN72: =SUM(AJ72:AM72) -> 0 | AW72: =AP72-AQ72-AV72 -> 0 | AY72: =V72-W72-AC72 -> 0
E73: =E72+1 -> 20501 | F73: מדידה ותכנון גנים | I73: 200000 | J73: =I73 -> 200000 | K73: 200000 | L73: 200000 | M73: 400000 | N73: 400000 | O73: 800000 | P73: 300000 | Q73: =O73-M73 -> 400000 | R73: =P73-N73 -> -100000 | S73: 597492 | U73: =S73 -> 597492 | V73: 800000 | W73: 300000 | Z73: =W73 -> 300000 | AC73: =V73-W73 -> 500000 | AF73: =AC73 -> 500000 | AI73: =AD73+X73 -> 0 | AJ73: =AE73+Y73 -> 0 | AK73: =AF73+Z73 -> 800000 | AL73: =AG73+AA73 -> 0 | AM73: =AH73+AB73 -> 0 | AN73: =SUM(AJ73:AM73) -> 800000 | AV73: =AU73+AT73+AS73+AR73 -> 0 | AW73: =AP73-AQ73-AV73 -> 0 | AY73: =V73-W73-AC73 -> 0
E74: =E73+1 -> 20502 | F74: תכנון טיילת קרית חיים חוף כאן | O74: 500000 | Q74: =O74-M74 -> 500000 | R74: =P74-N74 -> 0 | V74: 500000 | W74: 0 | Z74: =W74 -> 0 | AC74: =V74-W74 -> 500000 | AE74: =AC74 -> 500000 | AI74: =AD74+X74 -> 0 | AJ74: =AE74+Y74 -> 500000 | AK74: =AF74+Z74 -> 0 | AL74: =AG74+AA74 -> 0 | AM74: =AH74+AB74 -> 0 | AN74: =SUM(AJ74:AM74) -> 500000
E75: =E74+1 -> 20503 | F75: ביצוע שצ"פ לצורך השלמת פריסה | I75: 200000 | J75: 0 | O75: 700000 | Q75: =O75-M75 -> 700000 | R75: =P75-N75 -> 0 | V75: 700000 | W75: 0 | Z75: =W75 -> 0 | AC75: =V75-W75 -> 700000 | AF75: =AC75 -> 700000 | AI75: =AD75+X75 -> 0 | AJ75: =AE75+Y75 -> 0 | AK75: =AF75+Z75 -> 700000 | AL75: =AG75+AA75 -> 0 | AM75: =AH75+AB75 -> 0 | AN75: =SUM(AJ75:AM75) -> 700000
E76: =E75+1 -> 20504 | F76: גינון שצ"פ ליד מעונות הסטודנטים בנו"ש | O76: 300000 | P76: 300000 | Q76: =O76-M76 -> 300000 | R76: =P76-N76 -> 300000 | S76: 300000 | U76: =S76 -> 300000 | V76: 700000 | W76: 0 | Z76: =W76 -> 0 | AC76: =V76-W76 -> 700000 | AF76: =AC76 -> 700000 | AI76: =AD76+X76 -> 0 | AJ76: =AE76+Y76 -> 0 | AK76: =AF76+Z76 -> 700000 | AL76: =AG76+AA76 -> 0 | AM76: =AH76+AB76 -> 0 | AN76: =SUM(AJ76:AM76) -> 700000
E77: =E76+1 -> 20505 | F77: גן האם | V77: 8000000 | W77: 0 | Y77: =W77/2 -> 0 | Z77: =W77/2 -> 0 | AC77: =V77-W77 -> 8000000 | AE77: =AC77/2 -> 4000000 | AF77: =AC77-AE77 -> 4000000 | AI77: =AD77+X77 -> 0 | AJ77: =AE77+Y77 -> 4000000 | AK77: =AF77+Z77 -> 4000000 | AL77: =AG77+AA77 -> 0 | AM77: =AH77+AB77 -> 0 | AN77: =SUM(AJ77:AM77) -> 8000000
E78: =E77+1 -> 20506 | F78: גן בורוכוב | V78: 4000000 | W78: 0 | AC78: =V78-W78 -> 4000000 | AF78: =AC78 -> 4000000 | AI78: =AD78+X78 -> 0 | AJ78: =AE78+Y78 -> 0 | AK78: =AF78+Z78 -> 4000000 | AL78: =AG78+AA78 -> 0 | AM78: =AH78+AB78 -> 0
E79: =E78+1 -> 20507 | F79: גן האומגה ברחוב דורי | V79: 8000000 | W79: 0 | Y79: =W79/2 -> 0 | Z79: =W79/2 -> 0 | AC79: =V79-W79 -> 8000000 | AE79: =AC79/2 -> 4000000 | AF79: =AC79-AE79 -> 4000000 | AI79: =AD79+X79 -> 0 | AJ79: =AE79+Y79 -> 4000000 | AK79: =AF79+Z79 -> 4000000 | AL79: =AG79+AA79 -> 0 | AM79: =AH79+AB79 -> 0 | AN79: =SUM(AJ79:AM79) -> 8000000
E80: =E79+1 -> 20508 | F80: גן אלנבי בכרמל | V80: 390000 | AC80: =V80-W80 -> 390000 | AF80: =AC80 -> 390000 | AI80: =AD80+X80 -> 0 | AJ80: =AE80+Y80 -> 0 | AK80: =AF80+Z80 -> 390000 | AL80: =AG80+AA80 -> 0 | AM80: =AH80+AB80 -> 0 | AN80: =SUM(AJ80:AM80) -> 390000
E81: =E80+1 -> 20509 | F81: חוברת שפה רחוב חיפאי | V81: 500000 | W81: =V81 -> 500000 | AA81: =W81 -> 500000 | AC81: =V81-W81 -> 0 | AI81: =AD81+X81 -> 0 | AJ81: =AE81+Y81 -> 0 | AK81: =AF81+Z81 -> 0 | AL81: =AG81+AA81 -> 500000 | AM81: =AH81+AB81 -> 0 | AN81: =SUM(AJ81:AM81) -> 500000
E82: =E81+1 -> 20510 | F82: חיבור פארק הכט לטיילת החדשה | V82: 3000000 | W82: 0 | Z82: =W82 -> 0 | AC82: =V82-W82 -> 3000000 | AE82: =AC82 -> 3000000 | AI82: =AD82+X82 -> 0 | AJ82: =AE82+Y82 -> 3000000 | AK82: =AF82+Z82 -> 0 | AL82: =AG82+AA82 -> 0 | AM82: =AH82+AB82 -> 0 | AN82: =SUM(AJ82:AM82) -> 3000000
E83: =E82+1 -> 20511 | F83: גן הזמר הדר ליד חוגים | V83: 10000000 | W83: 0 | Z83: =W83 -> 0 | AC83: =V83-W83 -> 10000000 | AF83: =AC83 -> 10000000 | AI83: =AD83+X83 -> 0 | AJ83: =AE83+Y83 -> 0 | AK83: =AF83+Z83 -> 10000000 | AL83: =AG83+AA83 -> 0 | AM83: =AH83+AB83 -> 0 | AN83: =SUM(AJ83:AM83) -> 10000000
E84: =E83+1 -> 20512 | F84: תכנון טיילת בת גלים - שביל אופניים | V84: 2000000 | W84: 0 | Z84: =W84 -> 0 | AC84: =V84-W84 -> 2000000 | AE84: =AC84 -> 2000000 | AI84: =AD84+X84 -> 0 | AJ84: =AE84+Y84 -> 2000000 | AK84: =AF84+Z84 -> 0 | AL84: =AG84+AA84 -> 0 | AM84: =AH84+AB84 -> 0 | AN84: =SUM(AJ84:AM84) -> 2000000
F85: סה"כ תכנון נוף | G85: =SUM(G73:G84) -> 0 | H85: =SUM(H73:H84) -> 0 | I85: =SUM(I73:I84) -> 400000 | J85: =SUM(J73:J84) -> 200000 | K85: =SUM(K73:K84) -> 200000 | L85: =SUM(L73:L84) -> 200000 | M85: =SUM(M73:M84) -> 400000 | N85: =SUM(N73:N84) -> 400000 | ... AW85: =SUM(AW73:AW84) -> 0 | AY85: =V85-W85-AC85 -> 0
E86: 20600 | F86: נכסים | AW86: =AP86-AQ86-AV86 -> 0 | AY86: =V86-W86-AC86 -> 0
E87: =E86+1 -> 20601 | F87: הפקעות שונות | G87: 100000 | H87: 70000 | I87: 100000 | J87: 0 | K87: 400000 | L87: 400000 | M87: 1650000 | N87: =1250000+390000 -> 1640000 | O87: 5000000 | P87: 460000 | Q87: =O87-M87 -> 3350000 | R87: =P87-N87 -> -1180000 | S87: 116203 | U87: =S87 -> 116203 | V87: 10000000 | W87: 3000000 | AB87: =W87 -> 3000000 | AC87: =V87-W87 -> 7000000 | AH87: =AC87 -> 7000000 | AI87: =AD87+X87 -> 0 | AJ87: =AE87+Y87 -> 0 | AK87: =AF87+Z87 -> 0 | AL87: =AG87+AA87 -> 0 | AM87: =AH87+AB87 -> 10000000 | AN87: =SUM(AJ87:AM87) -> 10000000 | AV87: =AU87+AT87+AS87+AR87 -> 0 | AW87: =AP87-AQ87-AV87 -> 0 | AY87: =V87-W87-AC87 -> 0
E88: =E87+1 -> 20602 | F88: רישום ופרצלציה | G88: 100000 | H88: 0 | I88: 100000 | J88: =I88 -> 100000 | K88: 100000 | L88: -31109 | M88: 100000 | O88: 200000 | P88: 100000 | Q88: =O88-M88 -> 100000 | R88: =P88-N88 -> 100000 | S88: 209918 | U88: =S88 -> 209918 | V88: 400000 | W88: 200000 | Y88: =W88 -> 200000 | AC88: =V88-W88 -> 200000 | AE88: =AC88 -> 200000 | AI88: =AD88+X88 -> 0 | AJ88: =AE88+Y88 -> 400000 | AK88: =AF88+Z88 -> 0 | AL88: =AG88+AA88 -> 0 | AM88: =AH88+AB88 -> 0 | AN88: =SUM(AJ88:AM88) -> 400000 | AV88: =AU88+AT88+AS88+AR88 -> 0 | AW88: =AP88-AQ88-AV88 -> 0 | AY88: =V88-W88-AC88 -> 0
E89: =E88+1 -> 20603 | F89: שיפוץ , שינוי יעוד , מדידות והריסות מבנים | G89: 122000 | H89: 122000 | I89: 150000 | J89: 75000 | K89: 150000 | L89: 0 | M89: 100000 | N89: 100000 | O89: 1000000 | P89: 180000 | Q89: =O89-M89 -> 900000 | R89: =P89-N89 -> 80000 | S89: 1219245 | U89: =S89 -> 1219245 | V89: 3000000 | W89: 1000000 | AA89: =W89 -> 1000000 | AC89: =V89-W89 -> 2000000 | AG89: =AC89 -> 2000000 | AI89: =AD89+X89 -> 0 | AJ89: =AE89+Y89 -> 0 | AK89: =AF89+Z89 -> 0 | AL89: =AG89+AA89 -> 3000000 | AM89: =AH89+AB89 -> 0 | AN89: =SUM(AJ89:AM89) -> 3000000 | AV89: =AU89+AT89+AS89+AR89 -> 0 | AW89: =AP89-AQ89-AV89 -> 0 | AY89: =V89-W89-AC89 -> 0
E90: =E89+1 -> 20604 | F90: השלמת זכות בעלות לעירייה בנכסים | G90: 2250000 | H90: 1530000 | I90: 2100000 | J90: 2000000 | K90: 2000000 | L90: =220000+1154000+500000+15000 -> 1889000 | M90: 650000 | N90: 620000 | O90: 200000 | Q90: =O90-M90 -> -450000 | R90: =P90-N90 -> -620000 | V90: 200000 | W90: 100000 | AB90: =W90 -> 100000 | AC90: =V90-W90 -> 100000 | AH90: =AC90 -> 100000 | AI90: =AD90+X90 -> 0 | AJ90: =AE90+Y90 -> 0 | AK90: =AF90+Z90 -> 0 | AL90: =AG90+AA90 -> 0 | AM90: =AH90+AB90 -> 200000 | AN90: =SUM(AJ90:AM90) -> 200000 | AV90: =AU90+AT90+AS90+AR90 -> 0 | AW90: =AP90-AQ90-AV90 -> 0 | AY90: =V90-W90-AC90 -> 0
E91: =E90+1 -> 20605 | F91: רישום והסדרת נכסי עירייה | G91: 200000 | H91: 200000 | I91: 200000 | J91: 200000 | K91: 300000 | L91: 0 | M91: 100000 | N91: 100000 | O91: 100000 | Q91: =O91-M91 -> 0 | R91: =P91-N91 -> -100000 | S91: 11521 | U91: =S91 -> 11521 | V91: 100000 | W91: 100000 | AB91: =W91 -> 100000 | AC91: =V91-W91 -> 0 | AI91: =AD91+X91 -> 0 | AJ91: =AE91+Y91 -> 0 | AK91: =AF91+Z91 -> 0 | AL91: =AG91+AA91 -> 0 | AM91: =AH91+AB91 -> 100000 | AN91: =SUM(AJ91:AM91) -> 100000 | AV91: =AU91+AT91+AS91+AR91 -> 0 | AW91: =AP91-AQ91-AV91 -> 0 | AY91: =V91-W91-AC91 -> 0
E92: =E91+1 -> 20606 | F92: טיפול בנכסים ציבוריים | G92: 462000 | H92: 462000 | I92: 400000 | J92: 400000 | M92: 500000 | N92: 350000 | O92: 500000 | Q92: =O92-M92 -> 0 | R92: =P92-N92 -> -350000 | S92: 154398 | U92: =S92 -> 154398 | V92: 500000 | Z92: =W92 -> 0 | AC92: =V92-W92 -> 500000 | AG92: =AC92/2 -> 250000 | AH92: =AC92-AG92 -> 250000 | AI92: =AD92+X92 -> 0 | AJ92: =AE92+Y92 -> 0 | AK92: =AF92+Z92 -> 0 | AL92: =AG92+AA92 -> 250000 | AM92: =AH92+AB92 -> 250000 | AN92: =SUM(AJ92:AM92) -> 500000 | AV92: =AU92+AT92+AS92+AR92 -> 0 | AW92: =AP92-AQ92-AV92 -> 0 | AY92: =V92-W92-AC92 -> 0
E93: =E92+1 -> 20607 | F93: פינויים כולל קיוסקים | I93: 1300000 | J93: 1255000 | K93: 4000000 | L93: =180000+120000-601518 -> -301518 | M93: 500000 | N93: 164500 | O93: 500000 | Q93: =O93-M93 -> 0 | R93: =P93-N93 -> -164500 | S93: 270000 | U93: =S93 -> 270000 | V93: 500000 | Z93: =W93 -> 0 | AC93: =V93-W93 -> 500000 | AH93: =V93-Z93 -> 500000 | AI93: =AD93+X93 -> 0 | AJ93: =AE93+Y93 -> 0 | AK93: =AF93+Z93 -> 0 | AL93: =AG93+AA93 -> 0 | AM93: =AH93+AB93 -> 500000 | AN93: =SUM(AJ93:AM93) -> 500000 | AV93: =AU93+AT93+AS93+AR93 -> 0 | AW93: =AP93-AQ93-AV93 -> 0 | AY93: =V93-W93-AC93 -> 0
E94: =E93+1 -> 20608 | F94: רכישה ושיפוץ מבנים/קרקעות | G94: 750000 | H94: 185000 | I94: 1000000 | J94: 1100000 | K94: =1000000+1000000 -> 2000000 | L94: =30000-84000 -> -54000 | O94: 2000000 | Q94: =O94-M94 -> 2000000 | R94: =P94-N94 -> 0 | V94: 3000000 | W94: 2000000 | AB94: =W94 -> 2000000 | AC94: =V94-W94 -> 1000000 | AH94: =AC94 -> 1000000 | AI94: =AD94+X94 -> 0 | AJ94: =AE94+Y94 -> 0 | AK94: =AF94+Z94 -> 0 | AL94: =AG94+AA94 -> 0 | AM94: =AH94+AB94 -> 3000000 | AN94: =SUM(AJ94:AM94) -> 3000000 | AV94: =AU94+AT94+AS94+AR94 -> 0 | AW94: =AP94-AQ94-AV94 -> 0 | AY94: =V94-W94-AC94 -> 0
E95: =E94+1 -> 20609 | F95: תחנות אם וילד | G95: 300000 | H95: 300000 | I95: 300000 | J95: 300000 | K95: 300000 | L95: 0 | M95: 300000 | N95: 300000 | O95: 340000 | P95: 40000 | Q95: =O95-M95 -> 40000 | R95: =P95-N95 -> -260000 | S95: 61008 | U95: =S95 -> 61008 | V95: 300000 | W95: 300000 | AA95: =W95/2 -> 150000 | AB95: =W95-AA95 -> 150000 | AC95: =V95-W95 -> 0 | AI95: =AD95+X95 -> 0 | AJ95: =AE95+Y95 -> 0 | AK95: =AF95+Z95 -> 0 | AL95: =AG95+AA95 -> 150000 | AM95: =AH95+AB95 -> 150000 | AN95: =SUM(AJ95:AM95) -> 300000 | AV95: =AU95+AT95+AS95+AR95 -> 0 | AW95: =AP95-AQ95-AV95 -> 0 | AY95: =V95-W95-AC95 -> 0
E96: =E95+1 -> 20610 | F96: שוק תלפיות הסרת סכנה | G96: 100000 | H96: 0 | O96: 1000000 | Q96: =O96-M96 -> 1000000 | R96: =P96-N96 -> 0 | V96: 1000000 | Z96: =W96 -> 0 | AC96: =V96-W96 -> 1000000 | AH96: =V96-Z96 -> 1000000 | AI96: =AD96+X96 -> 0 | AJ96: =AE96+Y96 -> 0 | AK96: =AF96+Z96 -> 0 | AL96: =AG96+AA96 -> 0 | AM96: =AH96+AB96 -> 1000000 | AN96: =SUM(AJ96:AM96) -> 1000000 | AY96: =V96-W96-AC96 -> 0
E97: =E96+1 -> 20611 | F97: הסרת סכנה מנכסים ציבוריים | G97: 600000 | H97: 0 | I97: 500000 | J97: 155000 | K97: 2000000 | L97: =70000+150000+350000 -> 570000 | M97: 1933000 | N97: =132200+810000+553000-750000+520000 -> 1265200 | O97: 800000 | P97: 450000 | Q97: =O97-M97 -> -1133000 | R97: =P97-N97 -> -815200 | S97: 547070 | U97: =S97 -> 547070 | V97: 800000 | W97: 500000 | AA97: =W97/2 -> 250000 | AB97: =W97-AA97 -> 250000 | AC97: =V97-W97 -> 300000 | AG97: =AC97/2 -> 150000 | AH97: =AC97-AG97 -> 150000 | AI97: =AD97+X97 -> 0 | AJ97: =AE97+Y97 -> 0 | AK97: =AF97+Z97 -> 0 | AL97: =AG97+AA97 -> 400000 | AM97: =AH97+AB97 -> 400000 | AN97: =SUM(AJ97:AM97) -> 800000 | AV97: =AU97+AT97+AS97+AR97 -> 0 | AW97: =AP97-AQ97-AV97 -> 0 | AY97: =V97-W97-AC97 -> 0
E98: =E97+1 -> 20612 | F98: פרסום מכרזים | G98: 100000 | H98: 0 | I98: 50000 | J98: 0 | K98: 50000 | L98: 0 | M98: 50000 | N98: 50000 | O98: 50000 | Q98: =O98-M98 -> 0 | R98: =P98-N98 -> -50000 | S98: 26887 | U98: =S98 -> 26887 | V98: 50000 | W98: 50000 | AA98: =W98 -> 50000 | AC98: =V98-W98 -> 0 | AI98: =AD98+X98 -> 0 | AJ98: =AE98+Y98 -> 0 | AK98: =AF98+Z98 -> 0 | AL98: =AG98+AA98 -> 50000 | AM98: =AH98+AB98 -> 0 | AN98: =SUM(AJ98:AM98) -> 50000 | AV98: =AU98+AT98+AS98+AR98 -> 0 | AW98: =AP98-AQ98-AV98 -> 0 | AY98: =V98-W98-AC98 -> 0
E99: =E98+1 -> 20613 | F99: מעונות יום | G99: 10000000 | H99: 5034000 | I99: 38500000 | J99: 23666500 | K99: 25000000 | L99: =109000+486000 -> 595000 | M99: 20000000 | N99: =400000+307000+280000 -> 987000 | O99: 20000000 | P99: 6850000 | Q99: =O99-M99 -> 0 | R99: =P99-N99 -> 5863000 | S99: 10712017 | T99: =S99 -> 10712017 | U99: 0 | V99: 20000000 | W99: 20000000 | X99: =W99 -> 20000000 | AC99: =V99-W99 -> 0 | AI99: =AD99+X99 -> 20000000 | AJ99: =AE99+Y99 -> 0 | AK99: =AF99+Z99 -> 0 | AL99: =AG99+AA99 -> 0 | AM99: =AH99+AB99 -> 0 | AN99: =SUM(AJ99:AM99) -> 0 | AY99: =V99-W99-AC99 -> 0
E100: =E99+1 -> 20614 | F100: שכ"ט שמאים | K100: 300000 | L100: 300000 | M100: 350000 | N100: 350000 | O100: 350000 | P100: 350000 | Q100: =O100-M100 -> 0 | R100: =P100-N100 -> 0 | S100: 195056 | U100: =S100 -> 195056 | V100: 350000 | W100: 350000 | Y100: =W100 -> 350000 | AC100: =V100-W100 -> 0 | AI100: =AD100+X100 -> 0 | AJ100: =AE100+Y100 -> 350000 | AK100: =AF100+Z100 -> 0 | AL100: =AG100+AA100 -> 0 | AM100: =AH100+AB100 -> 0 | AN100: =SUM(AJ100:AM100) -> 350000 | AV100: =AU100+AT100+AS100+AR100 -> 0 | AY100: =V100-W100-AC100 -> 0
...
