Workbook

Sheet ריכוז מינהלים לספר
E1: עמודה25 | F1: עמודה1 | G1: תקציב 2014 | H1: עמודה2 | I1: תקציב 2015 | J1: עמודה3 | K1: תקציב 2016 | L1: עמודה4 | M1: תקציב 2017 | N1: עמודה5 | O1: תקציב 2018 | P1: עמודה6 | Q1: עמודה7 | R1: עמודה8 | S1: יתרה מועברת ל- 2019 | T1: עמודה9 | U1: עמודה10 | V1: תקציב פיתוח הצעת היחידות | W1: תקציב פיתוח 2019 | X1: עמודה11 | Y1: עמודה12 | Z1: עמודה13 | AA1: עמודה14 | AB1: עמודה15 | AC1: רב שנתי | AD1: עמודה16 | AE1: עמודה17 | AF1: עמודה18 | AG1: עמודה19 | AH1: עמודה20 | AI1: מימון תקציב פיתוח 2019 הצעת היחידות | AJ1: עמודה21 | AK1: עמודה22 | AL1: עמודה23 | AM1: עמודה24 | AN1: מימון עירוני
E2: מס' | F2: נושא | AQ2: מקורות מימון 2009
E3: מספר סידורי | F3: נושא | G3: תקציב 2014 | H3: הרשאות 2014 | I3: תקציב 2015 | J3: הרשאות 2015 | K3: תקציב 2016 | L3: הרשאות 2016 | M3: תקציב 2017 | N3: הרשאות 2017 | O3: תקציב 2018 נכון לתאריך 29.11.18 | P3: הרשאות 2018 נכון לתאריך 29.11.18 | Q3: הפרש תקציב 2018-2017 | R3: הפרש הרשאות 2018-2017 | S3: אומדן יתרה ל-2019 | T3: ממשלה ומוסדות | U3: יתרה המועברת ל- 2019- מימון עירוני | V3: תקציב פיתוח 2019 - הצעת היחידות | W3: תקציב פיתוח 2019 | X3: ממשלה ומוסדות | Y3: היטל השבחה | Z3: בעלים | AA3: הלוואות | AB3: מכירת נכסים | AC3: רב שנתי | AD3: ממשלה ומוסדות | AE3: היטל השבחה | AF3: בעלים | AG3: הלוואות | AH3: מכירת נכסים | AI3: ממשלה ומוסדות | AJ3: היטל השבחה | AK3: בעלים | AL3: הלוואות | AM3: מכירת נכסים | AN3: מימון עירוני | AO3: תקציב רב שנתי | AP3: הצעת אגף תקציבים | AQ3: ממשלה ומוסדות | AR3: היטל השבחה | AS3: בעלים | AT3: הלוואות | AU3: מכירת נכסים | AV3: מימון עירוני
E4: 1 | F4: סה"כ הנהלת העירייה | G4: =SUM(#REF!) -> #REF! | H4: =SUM(#REF!) -> #REF! | I4: =SUM(#REF!) -> #REF! | J4: =SUM(#REF!) -> #REF! | K4: =SUM(#REF!) -> #REF! | L4: =SUM(#REF!) -> #REF! | M4: =SUM(#REF!) -> #REF! | N4: =SUM(#REF!) -> #REF! | ... U4: =SUM(#REF!) -> #REF! | V4: ='תקציב מפורט לספר '!V10 -> 8049000 | W4: ='תקציב מפורט לספר '!W10 -> 2089000 | X4: ='תקציב מפורט לספר '!X10 -> 0 | Y4: ='תקציב מפורט לספר '!Y10 -> 0 | Z4: ='תקציב מפורט לספר '!Z10 -> 0 | AA4: ='תקציב מפורט לספר '!AA10 -> 1489000 | AB4: ='תקציב מפורט לספר '!AB10 -> 600000 | AC4: ='תקציב מפורט לספר '!AC10 -> 5960000 | ... BC4: ='תקציב מפורט לספר '!BC10 -> 0
E5: 2 | F5: סה"כ מינהל הנדסה | G5: =#REF!+#REF!+#REF!+#REF!+#REF!+#REF! -> #REF! | H5: =#REF!+#REF!+#REF!+#REF!+#REF!+#REF! -> #REF! | I5: =#REF!+#REF!+#REF!+#REF!+#REF!+#REF! -> #REF! | J5: =#REF!+#REF!+#REF!+#REF!+#REF!+#REF! -> #REF! | K5: =#REF!+#REF!+#REF!+#REF!+#REF!+#REF! -> #REF! | L5: =#REF!+#REF!+#REF!+#REF!+#REF!+#REF! -> #REF! | M5: =#REF!+#REF!+#REF!+#REF!+#REF!+#REF! -> #REF! | N5: =#REF!+#REF!+#REF!+#REF!+#REF!+#REF! -> #REF! | ... U5: =#REF!+#REF!+#REF!+#REF!+#REF!+#REF! -> #REF! | V5: ='תקציב מפורט לספר '!V103 -> 361700000 | W5: ='תקציב מפורט לספר '!W103 -> 149125000 | X5: ='תקציב מפורט לספר '!X103 -> 43430000 | Y5: ='תקציב מפורט לספר '!Y103 -> 50075000 | Z5: ='תקציב מפורט לספר '!Z103 -> 43800000 | AA5: ='תקציב מפורט לספר '!AA103 -> 3220000 | AB5: ='תקציב מפורט לספר '!AB103 -> 8600000 | AC5: ='תקציב מפורט לספר '!AC103 -> 212575000 | ... BC5: ='תקציב מפורט לספר '!BC103 -> 0
E6: 3 | F6: סה"כ מערכות חינוך, תרבות ורווחה | G6: =#REF!+#REF!+#REF! -> #REF! | H6: =#REF!+#REF!+#REF! -> #REF! | I6: =#REF!+#REF!+#REF! -> #REF! | J6: =#REF!+#REF!+#REF! -> #REF! | K6: =#REF!+#REF!+#REF! -> #REF! | L6: =#REF!+#REF!+#REF! -> #REF! | M6: =#REF!+#REF!+#REF! -> #REF! | N6: =#REF!+#REF!+#REF! -> #REF! | ... U6: =#REF!+#REF!+#REF! -> #REF! | V6: ='תקציב מפורט לספר '!V201 -> 67305000 | W6: ='תקציב מפורט לספר '!W201 -> 44375000 | X6: ='תקציב מפורט לספר '!X201 -> 7611000 | Y6: ='תקציב מפורט לספר '!Y201 -> 2050000 | Z6: ='תקציב מפורט לספר '!Z201 -> 0 | AA6: ='תקציב מפורט לספר '!AA201 -> 20089000 | AB6: ='תקציב מפורט לספר '!AB201 -> 14625000 | AC6: ='תקציב מפורט לספר '!AC201 -> 22930000 | ... BC6: ='תקציב מפורט לספר '!BC201 -> 0
E7: 4 | F7: סה"כ מינהל תפעול | G7: =#REF!+#REF!+#REF!+#REF!+#REF!+#REF!+#REF!+#REF!+#REF! -> #REF! | H7: =#REF!+#REF!+#REF!+#REF!+#REF!+#REF!+#REF!+#REF!+#REF! -> #REF! | I7: =#REF!+#REF!+#REF!+#REF!+#REF!+#REF!+#REF!+#REF!+#REF! -> #REF! | J7: =#REF!+#REF!+#REF!+#REF!+#REF!+#REF!+#REF!+#REF!+#REF! -> #REF! | K7: =#REF!+#REF!+#REF!+#REF!+#REF!+#REF!+#REF!+#REF!+#REF! -> #REF! | L7: =#REF!+#REF!+#REF!+#REF!+#REF!+#REF!+#REF!+#REF!+#REF! -> #REF! | M7: =#REF!+#REF!+#REF!+#REF!+#REF!+#REF!+#REF!+#REF!+#REF! -> #REF! | N7: =#REF!+#REF!+#REF!+#REF!+#REF!+#REF!+#REF!+#REF!+#REF! -> #REF! | ... U7: =#REF!+#REF!+#REF!+#REF!+#REF!+#REF!+#REF!+#REF!+#REF! -> #REF! | V7: ='תקציב מפורט לספר '!V404 -> 333750000 | W7: ='תקציב מפורט לספר '!W404 -> 202067000 | X7: ='תקציב מפורט לספר '!X404 -> 40790000 | Y7: ='תקציב מפורט לספר '!Y404 -> 30955000 | Z7: ='תקציב מפורט לספר '!Z404 -> 24205000 | AA7: ='תקציב מפורט לספר '!AA404 -> 104079500 | AB7: ='תקציב מפורט לספר '!AB404 -> 2037500 | AC7: ='תקציב מפורט לספר '!AC404 -> 131683000 | ... BC7: ='תקציב מפורט לספר '!BC404 -> 0
E8: 5 | F8: סה"כ חברות ועמותות | G8: =#REF!+#REF!+#REF! -> #REF! | H8: =#REF!+#REF!+#REF! -> #REF! | I8: =#REF!+#REF!+#REF! -> #REF! | J8: =#REF!+#REF!+#REF! -> #REF! | K8: =#REF!+#REF!+#REF! -> #REF! | L8: =#REF!+#REF!+#REF! -> #REF! | M8: =#REF!+#REF!+#REF! -> #REF! | N8: =#REF!+#REF!+#REF! -> #REF! | ... U8: =#REF!+#REF!+#REF! -> #REF! | V8: ='תקציב מפורט לספר '!V433 -> 24455000 | W8: ='תקציב מפורט לספר '!W433 -> 6035000 | X8: ='תקציב מפורט לספר '!X433 -> 0 | Y8: ='תקציב מפורט לספר '!Y433 -> 0 | Z8: ='תקציב מפורט לספר '!Z433 -> 0 | AA8: ='תקציב מפורט לספר '!AA433 -> 4435000 | AB8: ='תקציב מפורט לספר '!AB433 -> 1600000 | AC8: ='תקציב מפורט לספר '!AC433 -> 18420000 | ... BC8: ='תקציב מפורט לספר '!BC433 -> 0
E9: 6 | F9: סה"כ תיירותיים | G9: =SUM(#REF!) -> #REF! | H9: =SUM(#REF!) -> #REF! | I9: =SUM(#REF!) -> #REF! | J9: =SUM(#REF!) -> #REF! | K9: =SUM(#REF!) -> #REF! | L9: =SUM(#REF!) -> #REF! | M9: =SUM(#REF!) -> #REF! | N9: =SUM(#REF!) -> #REF! | ... U9: =SUM(#REF!) -> #REF! | V9: ='תקציב מפורט לספר '!V438 -> 2350000 | W9: ='תקציב מפורט לספר '!W438 -> 1350000 | X9: ='תקציב מפורט לספר '!X438 -> 0 | Y9: ='תקציב מפורט לספר '!Y438 -> 0 | Z9: ='תקציב מפורט לספר '!Z438 -> 0 | AA9: ='תקציב מפורט לספר '!AA438 -> 1350000 | AB9: ='תקציב מפורט לספר '!AB438 -> 0 | AC9: ='תקציב מפורט לספר '!AC438 -> 1000000 | ... BC9: ='תקציב מפורט לספר '!BC438 -> 0
E10: 7 | F10: סה"כ אחרים | G10: =SUM(#REF!) -> #REF! | H10: =SUM(#REF!) -> #REF! | I10: =SUM(#REF!) -> #REF! | J10: =SUM(#REF!) -> #REF! | K10: =SUM(#REF!) -> #REF! | L10: =SUM(#REF!) -> #REF! | M10: =SUM(#REF!) -> #REF! | N10: =SUM(#REF!) -> #REF! | ... U10: =SUM(#REF!) -> #REF! | V10: ='תקציב מפורט לספר '!V451 -> 49551000 | W10: ='תקציב מפורט לספר '!W451 -> 9638000 | X10: ='תקציב מפורט לספר '!X451 -> 3500000 | Y10: ='תקציב מפורט לספר '!Y451 -> 200000 | Z10: ='תקציב מפורט לספר '!Z451 -> 0 | AA10: ='תקציב מפורט לספר '!AA451 -> 2969000 | AB10: ='תקציב מפורט לספר '!AB451 -> 2969000 | AC10: ='תקציב מפורט לספר '!AC451 -> 39913000 | ... BC10: ='תקציב מפורט לספר '!BC451 -> 0
E11: 8 | F11: סה"כ תחבורה, בינוי ותשתיות | G11: =+#REF!+#REF!+#REF! -> #REF! | H11: =+#REF!+#REF!+#REF! -> #REF! | I11: =+#REF!+#REF!+#REF! -> #REF! | J11: =+#REF!+#REF!+#REF! -> #REF! | K11: =+#REF!+#REF!+#REF! -> #REF! | L11: =+#REF!+#REF!+#REF! -> #REF! | M11: =+#REF!+#REF!+#REF! -> #REF! | N11: =+#REF!+#REF!+#REF! -> #REF! | ... U11: =+#REF!+#REF!+#REF! -> #REF! | V11: ='תקציב מפורט לספר '!V518 -> 628261000 | W11: ='תקציב מפורט לספר '!W518 -> 499861000 | X11: ='תקציב מפורט לספר '!X518 -> 459078000 | Y11: ='תקציב מפורט לספר '!Y518 -> 11340000 | Z11: ='תקציב מפורט לספר '!Z518 -> 0 | AA11: ='תקציב מפורט לספר '!AA518 -> 4000000 | AB11: ='תקציב מפורט לספר '!AB518 -> 25443000 | AC11: ='תקציב מפורט לספר '!AC518 -> 128400000 | ... BC11: ='תקציב מפורט לספר '!BC518 -> 0
E12: 9 | F12: סה"כ מינהל כספים | G12: =#REF!+#REF!+#REF! -> #REF! | H12: =#REF!+#REF!+#REF! -> #REF! | I12: =#REF!+#REF!+#REF! -> #REF! | J12: =#REF!+#REF!+#REF! -> #REF! | K12: =#REF!+#REF!+#REF! -> #REF! | L12: =#REF!+#REF!+#REF! -> #REF! | M12: =#REF!+#REF!+#REF! -> #REF! | N12: =#REF!+#REF!+#REF! -> #REF! | ... U12: =#REF!+#REF!+#REF! -> #REF! | V12: ='תקציב מפורט לספר '!V528 -> 26400000 | W12: ='תקציב מפורט לספר '!W528 -> 17200000 | X12: ='תקציב מפורט לספר '!X528 -> 0 | Y12: ='תקציב מפורט לספר '!Y528 -> 700000 | Z12: ='תקציב מפורט לספר '!Z528 -> 10000000 | AA12: ='תקציב מפורט לספר '!AA528 -> 6500000 | AB12: ='תקציב מפורט לספר '!AB528 -> 0 | AC12: ='תקציב מפורט לספר '!AC528 -> 9200000 | ... BC12: ='תקציב מפורט לספר '!BC528 -> 0
F13: סה"כ תקציב פיתוח | G13: =G12+G11+G10+G9+G8+G7+G6+G5+G4 -> #REF! | H13: =H12+H11+H10+H9+H8+H7+H6+H5+H4 -> #REF! | I13: =I12+I11+I10+I9+I8+I7+I6+I5+I4 -> #REF! | J13: =J12+J11+J10+J9+J8+J7+J6+J5+J4 -> #REF! | K13: =K12+K11+K10+K9+K8+K7+K6+K5+K4 -> #REF! | L13: =L12+L11+L10+L9+L8+L7+L6+L5+L4 -> #REF! | M13: =M12+M11+M10+M9+M8+M7+M6+M5+M4 -> #REF! | N13: =N12+N11+N10+N9+N8+N7+N6+N5+N4 -> #REF! | ... U13: =U12+U11+U10+U9+U8+U7+U6+U5+U4 -> #REF! | V13: ='תקציב מפורט לספר '!V529 -> 1501821000 | W13: ='תקציב מפורט לספר '!W529 -> 931740000 | X13: ='תקציב מפורט לספר '!X529 -> 554409000 | Y13: ='תקציב מפורט לספר '!Y529 -> 95320000 | Z13: ='תקציב מפורט לספר '!Z529 -> 78005000 | AA13: ='תקציב מפורט לספר '!AA529 -> 148131500 | AB13: ='תקציב מפורט לספר '!AB529 -> 55874500 | AC13: ='תקציב מפורט לספר '!AC529 -> 570081000 | ... BC13: ='תקציב מפורט לספר '!BC529 -> 0
C352: 0

Sheet ריכוז מחלקות לספר
E1: העבודה | F1: עמודה1 | G1: תקציב 2014 | H1: עמודה2 | I1: תקציב 2015 | J1: עמודה3 | K1: תקציב 2016 | L1: עמודה4 | M1: תקציב 2017 | N1: עמודה5 | O1: תקציב 2018 | P1: עמודה6 | Q1: עמודה7 | R1: עמודה8 | S1: יתרה מועברת ל- 2019 | T1: עמודה9 | U1: עמודה10 | V1: תקציב פיתוח הצעת היחידות | W1: תקציב פיתוח 2019 | X1: עמודה11 | Y1: עמודה12 | Z1: עמודה13 | AA1: עמודה14 | AB1: עמודה15 | AC1: רב שנתי | AD1: עמודה16 | AE1: עמודה17 | AF1: עמודה18 | AG1: עמודה19 | AH1: עמודה20 | AI1: מימון תקציב פיתוח 2019 הצעת היחידות | AJ1: עמודה21 | AK1: עמודה22 | AL1: עמודה23 | AM1: עמודה24 | AN1: מימון עירוני
E2: מס' | F2: נושא | AQ2: מקורות מימון 2009
E3: מספר סידורי | F3: נושא | G3: תקציב 2014 | H3: הרשאות 2014 | I3: תקציב 2015 | J3: הרשאות 2015 | K3: תקציב 2016 | L3: הרשאות 2016 | M3: תקציב 2017 | N3: הרשאות 2017 | O3: תקציב 2018 נכון לתאריך 29.11.18 | P3: הרשאות 2018 נכון לתאריך 29.11.18 | Q3: הפרש תקציב 2018-2017 | R3: הפרש הרשאות 2018-2017 | S3: אומדן יתרה ל-2019 | T3: ממשלה ומוסדות | U3: יתרה המועברת ל- 2019- מימון עירוני | V3: תקציב פיתוח 2019 - הצעת היחידות | W3: תקציב פיתוח 2019 | X3: ממשלה ומוסדות | Y3: היטל השבחה | Z3: בעלים | AA3: הלוואות | AB3: מכירת נכסים | AC3: רב שנתי | AD3: ממשלה ומוסדות | AE3: היטל השבחה | AF3: בעלים | AG3: הלוואות | AH3: מכירת נכסים | AI3: ממשלה ומוסדות | AJ3: היטל השבחה | AK3: בעלים | AL3: הלוואות | AM3: מכירת נכסים | AN3: מימון עירוני | AO3: תקציב רב שנתי | AP3: הצעת אגף תקציבים | AQ3: ממשלה ומוסדות | AR3: היטל השבחה | AS3: בעלים | AT3: הלוואות | AU3: מכירת נכסים | AV3: מימון עירוני
E4: 1 | F4: סה"כ הנהלת העירייה | G4: =SUM(#REF!) -> #REF! | H4: =SUM(#REF!) -> #REF! | I4: =SUM(#REF!) -> #REF! | J4: =SUM(#REF!) -> #REF! | K4: =SUM(#REF!) -> #REF! | L4: =SUM(#REF!) -> #REF! | M4: =SUM(#REF!) -> #REF! | N4: =SUM(#REF!) -> #REF! | ... V4: =SUM(#REF!) -> #REF! | W4: ='תקציב מפורט לספר '!W10 -> 2089000 | X4: ='תקציב מפורט לספר '!X10 -> 0 | Y4: ='תקציב מפורט לספר '!Y10 -> 0 | Z4: ='תקציב מפורט לספר '!Z10 -> 0 | AA4: ='תקציב מפורט לספר '!AA10 -> 1489000 | AB4: ='תקציב מפורט לספר '!AB10 -> 600000 | AC4: ='תקציב מפורט לספר '!AC10 -> 5960000 | AD4: ='תקציב מפורט לספר '!AD10 -> 0 | ... AH4: ='תקציב מפורט לספר '!AH10 -> 5460000 | AI4: =SUM(#REF!) -> #REF! | AJ4: =SUM(#REF!) -> #REF! | AK4: =SUM(#REF!) -> #REF! | AL4: =SUM(#REF!) -> #REF! | AM4: =SUM(#REF!) -> #REF! | AN4: =SUM(#REF!) -> #REF! | AO4: =SUM(#REF!) -> #REF! | AP4: =SUM(#REF!) -> #REF! | ... AV4: =SUM(#REF!) -> #REF! | AW4: =AP4-AQ4-AV4 -> #REF! | AY4: =V4-W4-AC4 -> #REF!
F5: סה"כ משרד מהנדס העיר | G5: =SUM(#REF!) -> #REF! | H5: =SUM(#REF!) -> #REF! | I5: =SUM(#REF!) -> #REF! | J5: =SUM(#REF!) -> #REF! | K5: =SUM(#REF!) -> #REF! | L5: =SUM(#REF!) -> #REF! | M5: =SUM(#REF!) -> #REF! | N5: =SUM(#REF!) -> #REF! | ... V5: =SUM(#REF!) -> #REF! | W5: ='תקציב מפורט לספר '!W22 -> 70000000 | X5: ='תקציב מפורט לספר '!X22 -> 0 | Y5: ='תקציב מפורט לספר '!Y22 -> 42000000 | Z5: ='תקציב מפורט לספר '!Z22 -> 25000000 | AA5: ='תקציב מפורט לספר '!AA22 -> 0 | AB5: ='תקציב מפורט לספר '!AB22 -> 3000000 | AC5: ='תקציב מפורט לספר '!AC22 -> 9560000 | AD5: ='תקציב מפורט לספר '!AD22 -> 0 | ... AH5: ='תקציב מפורט לספר '!AH22 -> 1000000 | AI5: =SUM(#REF!) -> #REF! | AJ5: =SUM(#REF!) -> #REF! | AK5: =SUM(#REF!) -> #REF! | AL5: =SUM(#REF!) -> #REF! | AM5: =SUM(#REF!) -> #REF! | AN5: =SUM(#REF!) -> #REF! | AO5: =SUM(#REF!) -> #REF! | AP5: =SUM(#REF!) -> #REF! | ... AV5: =SUM(#REF!) -> #REF! | AW5: =AP5-AQ5-AV5 -> #REF! | AY5: =V5-W5-AC5 -> #REF!
F6: סה"כ תכנון עיר | G6: =SUM(#REF!) -> #REF! | H6: =SUM(#REF!) -> #REF! | I6: =SUM(#REF!) -> #REF! | J6: =SUM(#REF!) -> #REF! | K6: =SUM(#REF!) -> #REF! | L6: =SUM(#REF!) -> #REF! | M6: =SUM(#REF!) -> #REF! | N6: =SUM(#REF!) -> #REF! | ... V6: =SUM(#REF!) -> #REF! | W6: ='תקציב מפורט לספר '!W28 -> 5075000 | X6: ='תקציב מפורט לספר '!X28 -> 0 | Y6: ='תקציב מפורט לספר '!Y28 -> 5075000 | Z6: ='תקציב מפורט לספר '!Z28 -> 0 | AA6: ='תקציב מפורט לספר '!AA28 -> 0 | AB6: ='תקציב מפורט לספר '!AB28 -> 0 | AC6: ='תקציב מפורט לספר '!AC28 -> 6275000 | AD6: ='תקציב מפורט לספר '!AD28 -> 0 | ... AH6: ='תקציב מפורט לספר '!AH28 -> 0 | AI6: =SUM(#REF!) -> #REF! | AJ6: =SUM(#REF!) -> #REF! | AK6: =SUM(#REF!) -> #REF! | AL6: =SUM(#REF!) -> #REF! | AM6: =SUM(#REF!) -> #REF! | AN6: =SUM(#REF!) -> #REF! | AO6: =SUM(#REF!) -> #REF! | AP6: =SUM(#REF!) -> #REF! | ... AV6: =SUM(#REF!) -> #REF! | AW6: =AP6-AQ6-AV6 -> #REF! | AY6: =V6-W6-AC6 -> #REF!
F7: סה"כ תכנון דרכים ותנועה | G7: =SUM(#REF!) -> #REF! | H7: =SUM(#REF!) -> #REF! | I7: =SUM(#REF!) -> #REF! | J7: =SUM(#REF!) -> #REF! | K7: =SUM(#REF!) -> #REF! | L7: =SUM(#REF!) -> #REF! | M7: =SUM(#REF!) -> #REF! | N7: =SUM(#REF!) -> #REF! | ... V7: =SUM(#REF!) -> #REF! | W7: ='תקציב מפורט לספר '!W67 -> 44550000 | X7: ='תקציב מפורט לספר '!X67 -> 22550000 | Y7: ='תקציב מפורט לספר '!Y67 -> 2450000 | Z7: ='תקציב מפורט לספר '!Z67 -> 18500000 | AA7: ='תקציב מפורט לספר '!AA67 -> 1050000 | AB7: ='תקציב מפורט לספר '!AB67 -> 0 | AC7: ='תקציב מפורט לספר '!AC67 -> 145350000 | AD7: ='תקציב מפורט לספר '!AD67 -> 9450000 | ... AH7: ='תקציב מפורט לספר '!AH67 -> 0 | AI7: =SUM(#REF!) -> #REF! | AJ7: =SUM(#REF!) -> #REF! | AK7: =SUM(#REF!) -> #REF! | AL7: =SUM(#REF!) -> #REF! | AM7: =SUM(#REF!) -> #REF! | AN7: =SUM(#REF!) -> #REF! | AO7: =SUM(#REF!) -> #REF! | AP7: =SUM(#REF!) -> #REF! | ... AV7: =SUM(#REF!) -> #REF! | AW7: =AP7-AQ7-AV7 -> #REF! | AY7: =V7-W7-AC7 -> #REF!
F8: סה"כ עבודות בשיתוף ממשלה | G8: =SUM(#REF!) -> #REF! | H8: =SUM(#REF!) -> #REF! | I8: =SUM(#REF!) -> #REF! | J8: =SUM(#REF!) -> #REF! | K8: =SUM(#REF!) -> #REF! | L8: =SUM(#REF!) -> #REF! | M8: =SUM(#REF!) -> #REF! | N8: =SUM(#REF!) -> #REF! | ... V8: =SUM(#REF!) -> #REF! | W8: ='תקציב מפורט לספר '!W71 -> 1100000 | X8: ='תקציב מפורט לספר '!X71 -> 880000 | Y8: ='תקציב מפורט לספר '!Y71 -> 0 | Z8: ='תקציב מפורט לספר '!Z71 -> 0 | AA8: ='תקציב מפורט לספר '!AA71 -> 220000 | AB8: ='תקציב מפורט לספר '!AB71 -> 0 | AC8: ='תקציב מפורט לספר '!AC71 -> 0 | AD8: ='תקציב מפורט לספר '!AD71 -> 0 | ... AH8: ='תקציב מפורט לספר '!AH71 -> 0 | AI8: =SUM(#REF!) -> #REF! | AJ8: =SUM(#REF!) -> #REF! | AK8: =SUM(#REF!) -> #REF! | AL8: =SUM(#REF!) -> #REF! | AM8: =SUM(#REF!) -> #REF! | AN8: =SUM(AJ8:AM8) -> #REF! | AO8: =SUM(#REF!) -> #REF! | AP8: =SUM(#REF!) -> #REF! | AQ8: =SUM(#REF!) -> #REF! | AR8: =SUM(#REF!) -> #REF! | AS8: =SUM(#REF!) -> #REF! | AT8: =SUM(#REF!) -> #REF! | AU8: =SUM(#REF!) -> #REF! | AV8: =SUM(#REF!) -> #REF! | AW8: =AP8-AQ8-AV8 -> #REF! | AY8: =V8-W8-AC8 -> #REF!
F9: סה"כ תכנון נוף | G9: =SUM(#REF!) -> #REF! | H9: =SUM(#REF!) -> #REF! | I9: =SUM(#REF!) -> #REF! | J9: =SUM(#REF!) -> #REF! | K9: =SUM(#REF!) -> #REF! | L9: =SUM(#REF!) -> #REF! | M9: =SUM(#REF!) -> #REF! | N9: =SUM(#REF!) -> #REF! | ... V9: =SUM(#REF!) -> #REF! | W9: ='תקציב מפורט לספר '!W85 -> 800000 | X9: ='תקציב מפורט לספר '!X85 -> 0 | Y9: ='תקציב מפורט לספר '!Y85 -> 0 | Z9: ='תקציב מפורט לספר '!Z85 -> 300000 | AA9: ='תקציב מפורט לספר '!AA85 -> 500000 | AB9: ='תקציב מפורט לספר '!AB85 -> 0 | AC9: ='תקציב מפורט לספר '!AC85 -> 37790000 | AD9: ='תקציב מפורט לספר '!AD85 -> 0 | ... AH9: ='תקציב מפורט לספר '!AH85 -> 0 | AI9: =SUM(#REF!) -> #REF! | AJ9: =SUM(#REF!) -> #REF! | AK9: =SUM(#REF!) -> #REF! | AL9: =SUM(#REF!) -> #REF! | AM9: =SUM(#REF!) -> #REF! | AN9: =SUM(#REF!) -> #REF! | AO9: =SUM(#REF!) -> #REF! | AP9: =SUM(#REF!) -> #REF! | ... AW9: =SUM(#REF!) -> #REF! | AY9: =V9-W9-AC9 -> #REF!
F10: סה"כ נכסים | G10: =SUM(#REF!) -> #REF! | H10: =SUM(#REF!) -> #REF! | I10: =SUM(#REF!) -> #REF! | J10: =SUM(#REF!) -> #REF! | K10: =SUM(#REF!) -> #REF! | L10: =SUM(#REF!) -> #REF! | M10: =SUM(#REF!) -> #REF! | N10: =SUM(#REF!) -> #REF! | ... V10: =SUM(#REF!) -> #REF! | W10: ='תקציב מפורט לספר '!W102 -> 27600000 | X10: ='תקציב מפורט לספר '!X102 -> 20000000 | Y10: ='תקציב מפורט לספר '!Y102 -> 550000 | Z10: ='תקציב מפורט לספר '!Z102 -> 0 | AA10: ='תקציב מפורט לספר '!AA102 -> 1450000 | AB10: ='תקציב מפורט לספר '!AB102 -> 5600000 | AC10: ='תקציב מפורט לספר '!AC102 -> 13600000 | AD10: ='תקציב מפורט לספר '!AD102 -> 0 | ... AH10: ='תקציב מפורט לספר '!AH102 -> 10000000 | AI10: =SUM(#REF!) -> #REF! | AJ10: =SUM(#REF!) -> #REF! | AK10: =SUM(#REF!) -> #REF! | AL10: =SUM(#REF!) -> #REF! | AM10: =SUM(#REF!) -> #REF! | AN10: =SUM(#REF!) -> #REF! | AO10: =SUM(#REF!) -> #REF! | AP10: =SUM(#REF!) -> #REF! | ... AW10: =SUM(#REF!) -> #REF! | AY10: =V10-W10-AC10 -> #REF!
E11: 2 | F11: סה"כ מינהל הנדסה | G11: =G10+G9+G8+G7+G6+G5 -> #REF! | H11: =H10+H9+H8+H7+H6+H5 -> #REF! | I11: =I10+I9+I8+I7+I6+I5 -> #REF! | J11: =J10+J9+J8+J7+J6+J5 -> #REF! | K11: =K10+K9+K8+K7+K6+K5 -> #REF! | L11: =L10+L9+L8+L7+L6+L5 -> #REF! | M11: =M10+M9+M8+M7+M6+M5 -> #REF! | N11: =N10+N9+N8+N7+N6+N5 -> #REF! | ... AW11: =AW10+AW9+AW8+AW7+AW6+AW5 -> #REF! | AY11: =V11-W11-AC11 -> #REF!
F12: סה"כ עבודות בטיחות וביטחון | G12: =SUM(#REF!) -> #REF! | H12: =SUM(#REF!) -> #REF! | I12: =SUM(#REF!) -> #REF! | J12: =SUM(#REF!) -> #REF! | K12: =SUM(#REF!) -> #REF! | L12: =SUM(#REF!) -> #REF! | M12: =SUM(#REF!) -> #REF! | N12: =SUM(#REF!) -> #REF! | ... V12: =SUM(#REF!) -> #REF! | W12: ='תקציב מפורט לספר '!W112 -> 8800000 | X12: ='תקציב מפורט לספר '!X112 -> 0 | Y12: ='תקציב מפורט לספר '!Y112 -> 0 | Z12: ='תקציב מפורט לספר '!Z112 -> 0 | AA12: ='תקציב מפורט לספר '!AA112 -> 5050000 | AB12: ='תקציב מפורט לספר '!AB112 -> 3750000 | AC12: ='תקציב מפורט לספר '!AC112 -> 100000 | AD12: ='תקציב מפורט לספר '!AD112 -> 0 | ... AH12: ='תקציב מפורט לספר '!AH112 -> 0 | AI12: =SUM(#REF!) -> #REF! | AJ12: =SUM(#REF!) -> #REF! | AK12: =SUM(#REF!) -> #REF! | AL12: =SUM(#REF!) -> #REF! | AM12: =SUM(#REF!) -> #REF! | AN12: =SUM(#REF!) -> #REF! | AO12: =SUM(#REF!) -> #REF! | AP12: =SUM(#REF!) -> #REF! | ... AW12: =SUM(#REF!) -> #REF! | AY12: =V12-W12-AC12 -> #REF!
F13: סה"כ עבודות מיוחדות | G13: =SUM(#REF!) -> #REF! | H13: =SUM(#REF!) -> #REF! | I13: =SUM(#REF!) -> #REF! | J13: =SUM(#REF!) -> #REF! | K13: =SUM(#REF!) -> #REF! | L13: =SUM(#REF!) -> #REF! | M13: =SUM(#REF!) -> #REF! | N13: =SUM(#REF!) -> #REF! | ... V13: =SUM(#REF!) -> #REF! | W13: ='תקציב מפורט לספר '!W127 -> 5870000 | X13: ='תקציב מפורט לספר '!X127 -> 800000 | Y13: ='תקציב מפורט לספר '!Y127 -> 400000 | Z13: ='תקציב מפורט לספר '!Z127 -> 0 | AA13: ='תקציב מפורט לספר '!AA127 -> 370000 | AB13: ='תקציב מפורט לספר '!AB127 -> 4300000 | AC13: ='תקציב מפורט לספר '!AC127 -> 5400000 | AD13: ='תקציב מפורט לספר '!AD127 -> 0 | ... AH13: ='תקציב מפורט לספר '!AH127 -> 2800000 | AI13: =SUM(#REF!) -> #REF! | AJ13: =SUM(#REF!) -> #REF! | AK13: =SUM(#REF!) -> #REF! | AL13: =SUM(#REF!) -> #REF! | AM13: =SUM(#REF!) -> #REF! | AN13: =SUM(#REF!) -> #REF! | AO13: =SUM(#REF!) -> #REF! | AP13: =SUM(#REF!) -> #REF! | ... AW13: =SUM(#REF!) -> #REF! | AY13: =V13-W13-AC13 -> #REF!
F14: סה"כ שיפוצים ובטיחות מבני חינוך | G14: =SUM(#REF!) -> #REF! | H14: =SUM(#REF!) -> #REF! | I14: =SUM(#REF!) -> #REF! | J14: =SUM(#REF!) -> #REF! | K14: =SUM(#REF!) -> #REF! | L14: =SUM(#REF!) -> #REF! | M14: =SUM(#REF!) -> #REF! | N14: =SUM(#REF!) -> #REF! | ... V14: =SUM(#REF!) -> #REF! | W14: ='תקציב מפורט לספר '!W145 -> 16050000 | X14: ='תקציב מפורט לספר '!X145 -> 2950000 | Y14: ='תקציב מפורט לספר '!Y145 -> 1300000 | Z14: ='תקציב מפורט לספר '!Z145 -> 0 | AA14: ='תקציב מפורט לספר '!AA145 -> 6975000 | AB14: ='תקציב מפורט לספר '!AB145 -> 4825000 | AC14: ='תקציב מפורט לספר '!AC145 -> 4500000 | AD14: ='תקציב מפורט לספר '!AD145 -> 0 | ... AH14: ='תקציב מפורט לספר '!AH145 -> 1775000 | AI14: =SUM(#REF!) -> #REF! | AJ14: =SUM(#REF!) -> #REF! | AK14: =SUM(#REF!) -> #REF! | AL14: =SUM(#REF!) -> #REF! | AM14: =SUM(#REF!) -> #REF! | AN14: =SUM(#REF!) -> #REF! | AO14: =SUM(#REF!) -> #REF! | AP14: =SUM(#REF!) -> #REF! | ... AV14: =SUM(#REF!) -> #REF! | AW14: =AP14-AQ14-AV14 -> #REF! | AY14: =V14-W14-AC14 -> #REF!
F15: סה"כ ריהוט וציוד | G15: =SUM(#REF!) -> #REF! | H15: =SUM(#REF!) -> #REF! | I15: =SUM(#REF!) -> #REF! | J15: =SUM(#REF!) -> #REF! | K15: =SUM(#REF!) -> #REF! | L15: =SUM(#REF!) -> #REF! | M15: =SUM(#REF!) -> #REF! | N15: =SUM(#REF!) -> #REF! | ... V15: =SUM(#REF!) -> #REF! | W15: ='תקציב מפורט לספר '!W154 -> 2350000 | X15: ='תקציב מפורט לספר '!X154 -> 234000 | Y15: ='תקציב מפורט לספר '!Y154 -> 0 | Z15: ='תקציב מפורט לספר '!Z154 -> 0 | AA15: ='תקציב מפורט לספר '!AA154 -> 2116000 | AB15: ='תקציב מפורט לספר '!AB154 -> 0 | AC15: ='תקציב מפורט לספר '!AC154 -> 1180000 | AD15: ='תקציב מפורט לספר '!AD154 -> 0 | ... AH15: ='תקציב מפורט לספר '!AH154 -> 0 | AI15: =SUM(#REF!) -> #REF! | AJ15: =SUM(#REF!) -> #REF! | AK15: =SUM(#REF!) -> #REF! | AL15: =SUM(#REF!) -> #REF! | AM15: =SUM(#REF!) -> #REF! | AN15: =SUM(#REF!) -> #REF! | AO15: =SUM(#REF!) -> #REF! | AP15: =SUM(#REF!) -> #REF! | ... AV15: =SUM(#REF!) -> #REF! | AW15: =AP15-AQ15-AV15 -> #REF! | AY15: =V15-W15-AC15 -> #REF!
F16: סה"כ פרוייקטים בשיתוף ביטוח לאומי | G16: =SUM(#REF!) -> #REF! | H16: =SUM(#REF!) -> #REF! | I16: =SUM(#REF!) -> #REF! | J16: =SUM(#REF!) -> #REF! | K16: =SUM(#REF!) -> #REF! | L16: =SUM(#REF!) -> #REF! | M16: =SUM(#REF!) -> #REF! | N16: =SUM(#REF!) -> #REF! | ... V16: =SUM(#REF!) -> #REF! | W16: ='תקציב מפורט לספר '!W157 -> 300000 | X16: ='תקציב מפורט לספר '!X157 -> 150000 | Y16: ='תקציב מפורט לספר '!Y157 -> 0 | Z16: ='תקציב מפורט לספר '!Z157 -> 0 | AA16: ='תקציב מפורט לספר '!AA157 -> 150000 | AB16: ='תקציב מפורט לספר '!AB157 -> 0 | AC16: ='תקציב מפורט לספר '!AC157 -> 0 | AD16: ='תקציב מפורט לספר '!AD157 -> 0 | ... AH16: ='תקציב מפורט לספר '!AH157 -> 0 | AI16: =SUM(#REF!) -> #REF! | AJ16: =SUM(#REF!) -> #REF! | AK16: =SUM(#REF!) -> #REF! | AL16: =SUM(#REF!) -> #REF! | AM16: =SUM(#REF!) -> #REF! | AN16: =SUM(#REF!) -> #REF! | AO16: =SUM(#REF!) -> #REF! | AP16: =SUM(#REF!) -> #REF! | ... AV16: =SUM(#REF!) -> #REF! | AW16: =AP16-AQ16-AV16 -> #REF! | AY16: =V16-W16-AC16 -> #REF!
F17: סה"כ מדע וטכנולוגיה | G17: =SUM(#REF!) -> #REF! | H17: =SUM(#REF!) -> #REF! | I17: =SUM(#REF!) -> #REF! | J17: =SUM(#REF!) -> #REF! | K17: =SUM(#REF!) -> #REF! | L17: =SUM(#REF!) -> #REF! | M17: =SUM(#REF!) -> #REF! | N17: =SUM(#REF!) -> #REF! | ... V17: =SUM(#REF!) -> #REF! | W17: ='תקציב מפורט לספר '!W162 -> 570000 | X17: ='תקציב מפורט לספר '!X162 -> 250000 | Y17: ='תקציב מפורט לספר '!Y162 -> 0 | Z17: ='תקציב מפורט לספר '!Z162 -> 0 | AA17: ='תקציב מפורט לספר '!AA162 -> 320000 | AB17: ='תקציב מפורט לספר '!AB162 -> 0 | AC17: ='תקציב מפורט לספר '!AC162 -> 0 | AD17: ='תקציב מפורט לספר '!AD162 -> 0 | ... AH17: ='תקציב מפורט לספר '!AH162 -> 0 | AI17: =SUM(#REF!) -> #REF! | AJ17: =SUM(#REF!) -> #REF! | AK17: =SUM(#REF!) -> #REF! | AL17: =SUM(#REF!) -> #REF! | AM17: =SUM(#REF!) -> #REF! | AN17: =SUM(#REF!) -> #REF! | AO17: =SUM(#REF!) -> #REF! | AP17: =SUM(#REF!) -> #REF! | ... AV17: =SUM(#REF!) -> #REF! | AW17: =AP17-AQ17-AV17 -> #REF! | AY17: =V17-W17-AC17 -> #REF!
F18: סה"כ מיחשוב מוסדות חינוך | G18: =SUM(#REF!) -> #REF! | H18: =SUM(#REF!) -> #REF! | I18: =SUM(#REF!) -> #REF! | J18: =SUM(#REF!) -> #REF! | K18: =SUM(#REF!) -> #REF! | L18: =SUM(#REF!) -> #REF! | M18: =SUM(#REF!) -> #REF! | N18: =SUM(#REF!) -> #REF! | ... V18: =SUM(#REF!) -> #REF! | W18: ='תקציב מפורט לספר '!W169 -> 4480000 | X18: ='תקציב מפורט לספר '!X169 -> 3227000 | Y18: ='תקציב מפורט לספר '!Y169 -> 0 | Z18: ='תקציב מפורט לספר '!Z169 -> 0 | AA18: ='תקציב מפורט לספר '!AA169 -> 1253000 | AB18: ='תקציב מפורט לספר '!AB169 -> 0 | AC18: ='תקציב מפורט לספר '!AC169 -> 0 | AD18: ='תקציב מפורט לספר '!AD169 -> 0 | ... AH18: ='תקציב מפורט לספר '!AH169 -> 0 | AI18: =SUM(#REF!) -> #REF! | AJ18: =SUM(#REF!) -> #REF! | AK18: =SUM(#REF!) -> #REF! | AL18: =SUM(#REF!) -> #REF! | AM18: =SUM(#REF!) -> #REF! | AN18: =SUM(#REF!) -> #REF! | AO18: =SUM(#REF!) -> #REF! | AP18: =SUM(#REF!) -> #REF! | ... AV18: =SUM(#REF!) -> #REF! | AW18: =AP18-AQ18-AV18 -> #REF! | AY18: =V18-W18-AC18 -> #REF!
F19: סה"כ מערכת תרבות | G19: =SUM(#REF!) -> #REF! | H19: =SUM(#REF!) -> #REF! | I19: =SUM(#REF!) -> #REF! | J19: =SUM(#REF!) -> #REF! | K19: =SUM(#REF!) -> #REF! | L19: =SUM(#REF!) -> #REF! | M19: =SUM(#REF!) -> #REF! | N19: =SUM(#REF!) -> #REF! | ... V19: =SUM(#REF!) -> #REF! | W19: ='תקציב מפורט לספר '!W193 -> 4700000 | X19: ='תקציב מפורט לספר '!X193 -> 0 | Y19: ='תקציב מפורט לספר '!Y193 -> 350000 | Z19: ='תקציב מפורט לספר '!Z193 -> 0 | AA19: ='תקציב מפורט לספר '!AA193 -> 3150000 | AB19: ='תקציב מפורט לספר '!AB193 -> 1200000 | AC19: ='תקציב מפורט לספר '!AC193 -> 7900000 | AD19: ='תקציב מפורט לספר '!AD193 -> 0 | ... AH19: ='תקציב מפורט לספר '!AH193 -> 850000 | AI19: =SUM(#REF!) -> #REF! | AJ19: =SUM(#REF!) -> #REF! | AK19: =SUM(#REF!) -> #REF! | AL19: =SUM(#REF!) -> #REF! | AM19: =SUM(#REF!) -> #REF! | AN19: =SUM(#REF!) -> #REF! | AO19: =SUM(#REF!) -> #REF! | AP19: =SUM(#REF!) -> #REF! | ... AV19: =SUM(#REF!) -> #REF! | AW19: =AP19-AQ19-AV19 -> #REF! | AY19: =V19-W19-AC19 -> #REF!
F20: סה"כ מערכת רווחה | G20: =SUM(#REF!) -> #REF! | H20: =SUM(#REF!) -> #REF! | I20: =SUM(#REF!) -> #REF! | J20: =SUM(#REF!) -> #REF! | K20: =SUM(#REF!) -> #REF! | L20: =SUM(#REF!) -> #REF! | M20: =SUM(#REF!) -> #REF! | N20: =SUM(#REF!) -> #REF! | ... V20: =SUM(#REF!) -> #REF! | W20: ='תקציב מפורט לספר '!W200 -> 1255000 | X20: ='תקציב מפורט לספר '!X200 -> 0 | Y20: ='תקציב מפורט לספר '!Y200 -> 0 | Z20: ='תקציב מפורט לספר '!Z200 -> 0 | AA20: ='תקציב מפורט לספר '!AA200 -> 705000 | AB20: ='תקציב מפורט לספר '!AB200 -> 550000 | AC20: ='תקציב מפורט לספר '!AC200 -> 3850000 | AD20: ='תקציב מפורט לספר '!AD200 -> 0 | ... AH20: ='תקציב מפורט לספר '!AH200 -> 1925000 | AI20: =SUM(#REF!) -> #REF! | AJ20: =SUM(#REF!) -> #REF! | AK20: =SUM(#REF!) -> #REF! | AL20: =SUM(#REF!) -> #REF! | AM20: =SUM(#REF!) -> #REF! | AN20: =SUM(#REF!) -> #REF! | AO20: =SUM(#REF!) -> #REF! | AP20: =SUM(#REF!) -> #REF! | ... AV20: =SUM(#REF!) -> #REF! | AW20: =AP20-AQ20-AV20 -> #REF! | AY20: =V20-W20-AC20 -> #REF!
E21: 3 | F21: סה"כ מערכות חינוך, תרבות ורווחה | G21: =G20+G19+#REF! -> #REF! | H21: =H20+H19+#REF! -> #REF! | I21: =I20+I19+#REF! -> #REF! | J21: =J20+J19+#REF! -> #REF! | K21: =K20+K19+#REF! -> #REF! | L21: =L20+L19+#REF! -> #REF! | M21: =M20+M19+#REF! -> #REF! | N21: =N20+N19+#REF! -> #REF! | ... V21: =V20+V19+#REF! -> #REF! | W21: ='תקציב מפורט לספר '!W201 -> 44375000 | X21: ='תקציב מפורט לספר '!X201 -> 7611000 | Y21: ='תקציב מפורט לספר '!Y201 -> 2050000 | Z21: ='תקציב מפורט לספר '!Z201 -> 0 | AA21: ='תקציב מפורט לספר '!AA201 -> 20089000 | AB21: ='תקציב מפורט לספר '!AB201 -> 14625000 | AC21: ='תקציב מפורט לספר '!AC201 -> 22930000 | AD21: ='תקציב מפורט לספר '!AD201 -> 0 | ... AH21: ='תקציב מפורט לספר '!AH201 -> 7350000 | AI21: =AI20+AI19+#REF! -> #REF! | AJ21: =AJ20+AJ19+#REF! -> #REF! | AK21: =AK20+AK19+#REF! -> #REF! | AL21: =AL20+AL19+#REF! -> #REF! | AM21: =AM20+AM19+#REF! -> #REF! | AN21: =AN20+AN19+#REF! -> #REF! | AO21: =AO20+AO19+#REF! -> #REF! | AP21: =AP20+AP19+#REF! -> #REF! | ... AV21: =AV20+AV19+#REF! -> #REF! | AW21: =AP21-AQ21-AV21 -> #REF! | AY21: =V21-W21-AC21 -> #REF!
F22: סה"כ מינהלי | G22: =SUM(#REF!) -> #REF! | H22: =SUM(#REF!) -> #REF! | I22: =SUM(#REF!) -> #REF! | J22: =SUM(#REF!) -> #REF! | K22: =SUM(#REF!) -> #REF! | L22: =SUM(#REF!) -> #REF! | M22: =SUM(#REF!) -> #REF! | N22: =SUM(#REF!) -> #REF! | ... V22: =SUM(#REF!) -> #REF! | W22: ='תקציב מפורט לספר '!W210 -> 2500000 | X22: ='תקציב מפורט לספר '!X210 -> 1200000 | Y22: ='תקציב מפורט לספר '!Y210 -> 200000 | Z22: ='תקציב מפורט לספר '!Z210 -> 30000 | AA22: ='תקציב מפורט לספר '!AA210 -> 820000 | AB22: ='תקציב מפורט לספר '!AB210 -> 250000 | AC22: ='תקציב מפורט לספר '!AC210 -> 3622000 | AD22: ='תקציב מפורט לספר '!AD210 -> 0 | ... AH22: ='תקציב מפורט לספר '!AH210 -> 1546000 | AI22: =SUM(#REF!) -> #REF! | AJ22: =SUM(#REF!) -> #REF! | AK22: =SUM(#REF!) -> #REF! | AL22: =SUM(#REF!) -> #REF! | AM22: =SUM(#REF!) -> #REF! | AN22: =SUM(#REF!) -> #REF! | AO22: =SUM(#REF!) -> #REF! | AP22: =SUM(#REF!) -> #REF! | ... AV22: =SUM(#REF!) -> #REF! | AW22: =AP22-AQ22-AV22 -> #REF! | AY22: =V22-W22-AC22 -> #REF!
F23: סה"כ אגף תברואה | G23: =SUM(#REF!) -> #REF! | H23: =SUM(#REF!) -> #REF! | I23: =SUM(#REF!) -> #REF! | J23: =SUM(#REF!) -> #REF! | K23: =SUM(#REF!) -> #REF! | L23: =SUM(#REF!) -> #REF! | M23: =SUM(#REF!) -> #REF! | N23: =SUM(#REF!) -> #REF! | ... V23: =SUM(#REF!) -> #REF! | W23: ='תקציב מפורט לספר '!W239 -> 82570000 | X23: ='תקציב מפורט לספר '!X239 -> 0 | Y23: ='תקציב מפורט לספר '!Y239 -> 0 | Z23: ='תקציב מפורט לספר '!Z239 -> 0 | AA23: ='תקציב מפורט לספר '!AA239 -> 82570000 | AB23: ='תקציב מפורט לספר '!AB239 -> 0 | AC23: ='תקציב מפורט לספר '!AC239 -> 10980000 | AD23: ='תקציב מפורט לספר '!AD239 -> 0 | ... AH23: ='תקציב מפורט לספר '!AH239 -> 0 | AI23: =SUM(#REF!) -> #REF! | AJ23: =SUM(#REF!) -> #REF! | AK23: =SUM(#REF!) -> #REF! | AL23: =SUM(#REF!) -> #REF! | AM23: =SUM(#REF!) -> #REF! | AN23: =SUM(#REF!) -> #REF! | AO23: =SUM(#REF!) -> #REF! | AP23: =SUM(#REF!) -> #REF! | ... AW23: =SUM(#REF!) -> #REF! | AY23: =V23-W23-AC23 -> #REF!
F24: סה"כ שירות וטרינרי | G24: =SUM(#REF!) -> #REF! | H24: =SUM(#REF!) -> #REF! | I24: =SUM(#REF!) -> #REF! | J24: =SUM(#REF!) -> #REF! | K24: =SUM(#REF!) -> #REF! | L24: =SUM(#REF!) -> #REF! | M24: =SUM(#REF!) -> #REF! | N24: =SUM(#REF!) -> #REF! | ... V24: =SUM(#REF!) -> #REF! | W24: ='תקציב מפורט לספר '!W249 -> 1690000 | X24: ='תקציב מפורט לספר '!X249 -> 300000 | Y24: ='תקציב מפורט לספר '!Y249 -> 0 | Z24: ='תקציב מפורט לספר '!Z249 -> 0 | AA24: ='תקציב מפורט לספר '!AA249 -> 1390000 | AB24: ='תקציב מפורט לספר '!AB249 -> 0 | AC24: ='תקציב מפורט לספר '!AC249 -> 500000 | AD24: ='תקציב מפורט לספר '!AD249 -> 0 | ... AH24: ='תקציב מפורט לספר '!AH249 -> 0 | AI24: =SUM(#REF!) -> #REF! | AJ24: =SUM(#REF!) -> #REF! | AK24: =SUM(#REF!) -> #REF! | AL24: =SUM(#REF!) -> #REF! | AM24: =SUM(#REF!) -> #REF! | AN24: =SUM(#REF!) -> #REF! | AO24: =SUM(#REF!) -> #REF! | AP24: =SUM(#REF!) -> #REF! | ... AV24: =SUM(#REF!) -> #REF! | AW24: =AP24-AQ24-AV24 -> #REF! | AY24: =V24-W24-AC24 -> #REF!
F25: סה"כ הנהלת אגף שפע | G25: =SUM(#REF!) -> #REF! | H25: =SUM(#REF!) -> #REF! | I25: =SUM(#REF!) -> #REF! | J25: =SUM(#REF!) -> #REF! | K25: =SUM(#REF!) -> #REF! | L25: =SUM(#REF!) -> #REF! | M25: =SUM(#REF!) -> #REF! | N25: =SUM(#REF!) -> #REF! | ... V25: =SUM(#REF!) -> #REF! | W25: ='תקציב מפורט לספר '!W256 -> 0 | X25: ='תקציב מפורט לספר '!X256 -> 0 | Y25: ='תקציב מפורט לספר '!Y256 -> 0 | Z25: ='תקציב מפורט לספר '!Z256 -> 0 | AA25: ='תקציב מפורט לספר '!AA256 -> 0 | AB25: ='תקציב מפורט לספר '!AB256 -> 0 | AC25: ='תקציב מפורט לספר '!AC256 -> 4250000 | AD25: ='תקציב מפורט לספר '!AD256 -> 0 | ... AH25: ='תקציב מפורט לספר '!AH256 -> 0 | AI25: =SUM(#REF!) -> #REF! | AJ25: =SUM(#REF!) -> #REF! | AK25: =SUM(#REF!) -> #REF! | AL25: =SUM(#REF!) -> #REF! | AM25: =SUM(#REF!) -> #REF! | AN25: =SUM(#REF!) -> #REF! | AY25: =V25-W25-AC25 -> #REF!
F26: סה"כ מחלקת דרכים | G26: =SUM(#REF!) -> #REF! | H26: =SUM(#REF!) -> #REF! | I26: =SUM(#REF!) -> #REF! | J26: =SUM(#REF!) -> #REF! | K26: =SUM(#REF!) -> #REF! | L26: =SUM(#REF!) -> #REF! | M26: =SUM(#REF!) -> #REF! | N26: =SUM(#REF!) -> #REF! | ... V26: =SUM(#REF!) -> #REF! | W26: ='תקציב מפורט לספר '!W278 -> 16765000 | X26: ='תקציב מפורט לספר '!X278 -> 0 | Y26: ='תקציב מפורט לספר '!Y278 -> 9500000 | Z26: ='תקציב מפורט לספר '!Z278 -> 3400000 | AA26: ='תקציב מפורט לספר '!AA278 -> 3865000 | AB26: ='תקציב מפורט לספר '!AB278 -> 0 | AC26: ='תקציב מפורט לספר '!AC278 -> 19828000 | AD26: ='תקציב מפורט לספר '!AD278 -> 0 | ... AH26: ='תקציב מפורט לספר '!AH278 -> 0 | AI26: =SUM(#REF!) -> #REF! | AJ26: =SUM(#REF!) -> #REF! | AK26: =SUM(#REF!) -> #REF! | AL26: =SUM(#REF!) -> #REF! | AM26: =SUM(#REF!) -> #REF! | AN26: =SUM(#REF!) -> #REF! | AO26: =SUM(#REF!) -> #REF! | AP26: =SUM(#REF!) -> #REF! | ... AW26: =SUM(#REF!) -> #REF! | AY26: =V26-W26-AC26 -> #REF!
F27: סה"כ מחלקת ניהול ופיקוח על פרויקטים | G27: =SUM(#REF!) -> #REF! | H27: =SUM(#REF!) -> #REF! | I27: =SUM(#REF!) -> #REF! | J27: =SUM(#REF!) -> #REF! | K27: =SUM(#REF!) -> #REF! | L27: =SUM(#REF!) -> #REF! | M27: =SUM(#REF!) -> #REF! | N27: =SUM(#REF!) -> #REF! | ... V27: =SUM(#REF!) -> #REF! | W27: ='תקציב מפורט לספר '!W282 -> 15000000 | X27: ='תקציב מפורט לספר '!X282 -> 0 | Y27: ='תקציב מפורט לספר '!Y282 -> 5000000 | Z27: ='תקציב מפורט לספר '!Z282 -> 10000000 | AA27: ='תקציב מפורט לספר '!AA282 -> 0 | AB27: ='תקציב מפורט לספר '!AB282 -> 0 | AC27: ='תקציב מפורט לספר '!AC282 -> 26800000 | AD27: ='תקציב מפורט לספר '!AD282 -> 0 | ... AH27: ='תקציב מפורט לספר '!AH282 -> 0 | AI27: =SUM(#REF!) -> #REF! | AJ27: =SUM(#REF!) -> #REF! | AK27: =SUM(#REF!) -> #REF! | AL27: =SUM(#REF!) -> #REF! | AM27: =SUM(#REF!) -> #REF! | AN27: =SUM(#REF!) -> #REF! | AY27: =V27-W27-AC27 -> #REF!
F28: סה"כ מחלקת תאורה | G28: =SUM(#REF!) -> #REF! | H28: =SUM(#REF!) -> #REF! | I28: =SUM(#REF!) -> #REF! | J28: =SUM(#REF!) -> #REF! | K28: =SUM(#REF!) -> #REF! | L28: =SUM(#REF!) -> #REF! | M28: =SUM(#REF!) -> #REF! | N28: =SUM(#REF!) -> #REF! | ... V28: =SUM(#REF!) -> #REF! | W28: ='תקציב מפורט לספר '!W286 -> 4000000 | X28: ='תקציב מפורט לספר '!X286 -> 0 | Y28: ='תקציב מפורט לספר '!Y286 -> 4000000 | Z28: ='תקציב מפורט לספר '!Z286 -> 0 | AA28: ='תקציב מפורט לספר '!AA286 -> 0 | AB28: ='תקציב מפורט לספר '!AB286 -> 0 | AC28: ='תקציב מפורט לספר '!AC286 -> 7565000 | AD28: ='תקציב מפורט לספר '!AD286 -> 0 | ... AH28: ='תקציב מפורט לספר '!AH286 -> 0 | AI28: =SUM(#REF!) -> #REF! | AJ28: =SUM(#REF!) -> #REF! | AK28: =SUM(#REF!) -> #REF! | AL28: =SUM(#REF!) -> #REF! | AM28: =SUM(#REF!) -> #REF! | AN28: =SUM(#REF!) -> #REF! | AO28: =SUM(#REF!) -> #REF! | AP28: =SUM(#REF!) -> #REF! | ... AV28: =SUM(#REF!) -> #REF! | AW28: =AP28-AQ28-AV28 -> #REF! | AY28: =V28-W28-AC28 -> #REF!
F29: סה"כ מחלקת רמזורים | G29: =SUM(#REF!) -> #REF! | H29: =SUM(#REF!) -> #REF! | I29: =SUM(#REF!) -> #REF! | J29: =SUM(#REF!) -> #REF! | K29: =SUM(#REF!) -> #REF! | L29: =SUM(#REF!) -> #REF! | M29: =SUM(#REF!) -> #REF! | N29: =SUM(#REF!) -> #REF! | ... V29: =SUM(#REF!) -> #REF! | W29: ='תקציב מפורט לספר '!W298 -> 6622000 | X29: ='תקציב מפורט לספר '!X298 -> 0 | Y29: ='תקציב מפורט לספר '!Y298 -> 0 | Z29: ='תקציב מפורט לספר '!Z298 -> 0 | AA29: ='תקציב מפורט לספר '!AA298 -> 6622000 | AB29: ='תקציב מפורט לספר '!AB298 -> 0 | AC29: ='תקציב מפורט לספר '!AC298 -> 632000 | AD29: ='תקציב מפורט לספר '!AD298 -> 0 | ... AH29: ='תקציב מפורט לספר '!AH298 -> 0 | AI29: =SUM(#REF!) -> #REF! | AJ29: =SUM(#REF!) -> #REF! | AK29: =SUM(#REF!) -> #REF! | AL29: =SUM(#REF!) -> #REF! | AM29: =SUM(#REF!) -> #REF! | AN29: =SUM(#REF!) -> #REF! | AO29: =SUM(#REF!) -> #REF! | AP29: =SUM(#REF!) -> #REF! | ... AW29: =SUM(#REF!) -> #REF! | AY29: =V29-W29-AC29 -> #REF!
F30: סה"כ מחלקת גנים | G30: =SUM(#REF!) -> #REF! | H30: =SUM(#REF!) -> #REF! | I30: =SUM(#REF!) -> #REF! | J30: =SUM(#REF!) -> #REF! | K30: =SUM(#REF!) -> #REF! | L30: =SUM(#REF!) -> #REF! | M30: =SUM(#REF!) -> #REF! | N30: =SUM(#REF!) -> #REF! | ... V30: =SUM(#REF!) -> #REF! | W30: ='תקציב מפורט לספר '!W335 -> 21070000 | X30: ='תקציב מפורט לספר '!X335 -> 10000000 | Y30: ='תקציב מפורט לספר '!Y335 -> 0 | Z30: ='תקציב מפורט לספר '!Z335 -> 6600000 | AA30: ='תקציב מפורט לספר '!AA335 -> 4470000 | AB30: ='תקציב מפורט לספר '!AB335 -> 0 | AC30: ='תקציב מפורט לספר '!AC335 -> 27193000 | AD30: ='תקציב מפורט לספר '!AD335 -> 0 | ... AH30: ='תקציב מפורט לספר '!AH335 -> 0 | AI30: =SUM(#REF!) -> #REF! | AJ30: =SUM(#REF!) -> #REF! | AK30: =SUM(#REF!) -> #REF! | AL30: =SUM(#REF!) -> #REF! | AM30: =SUM(#REF!) -> #REF! | AN30: =SUM(#REF!) -> #REF! | AO30: =SUM(#REF!) -> #REF! | AP30: =SUM(#REF!) -> #REF! | ... AW30: =SUM(#REF!) -> #REF! | AY30: =V30-W30-AC30 -> #REF!
F31: סה"כ ניקוז | G31: =SUM(#REF!) -> #REF! | H31: =SUM(#REF!) -> #REF! | I31: =SUM(#REF!) -> #REF! | J31: =SUM(#REF!) -> #REF! | K31: =SUM(#REF!) -> #REF! | L31: =SUM(#REF!) -> #REF! | M31: =SUM(#REF!) -> #REF! | N31: =SUM(#REF!) -> #REF! | ... V31: =SUM(#REF!) -> #REF! | W31: ='תקציב מפורט לספר '!W346 -> 4325000 | X31: ='תקציב מפורט לספר '!X346 -> 0 | Y31: ='תקציב מפורט לספר '!Y346 -> 0 | Z31: ='תקציב מפורט לספר '!Z346 -> 3975000 | AA31: ='תקציב מפורט לספר '!AA346 -> 350000 | AB31: ='תקציב מפורט לספר '!AB346 -> 0 | AC31: ='תקציב מפורט לספר '!AC346 -> 5575000 | AD31: ='תקציב מפורט לספר '!AD346 -> 0 | ... AH31: ='תקציב מפורט לספר '!AH346 -> 0 | AI31: =SUM(#REF!) -> #REF! | AJ31: =SUM(#REF!) -> #REF! | AK31: =SUM(#REF!) -> #REF! | AL31: =SUM(#REF!) -> #REF! | AM31: =SUM(#REF!) -> #REF! | AN31: =SUM(#REF!) -> #REF! | AO31: =SUM(#REF!) -> #REF! | AP31: =SUM(#REF!) -> #REF! | ... AW31: =SUM(#REF!) -> #REF! | AY31: =V31-W31-AC31 -> #REF!
F32: סה"כ בית מרחץ עירוני | G32: =SUM(#REF!) -> #REF! | H32: =SUM(#REF!) -> #REF! | I32: =SUM(#REF!) -> #REF! | J32: =SUM(#REF!) -> #REF! | K32: =SUM(#REF!) -> #REF! | L32: =SUM(#REF!) -> #REF! | M32: =SUM(#REF!) -> #REF! | N32: =SUM(#REF!) -> #REF! | ... V32: =SUM(#REF!) -> #REF! | W32: ='תקציב מפורט לספר '!W350 -> 300000 | X32: ='תקציב מפורט לספר '!X350 -> 0 | Y32: ='תקציב מפורט לספר '!Y350 -> 0 | Z32: ='תקציב מפורט לספר '!Z350 -> 0 | AA32: ='תקציב מפורט לספר '!AA350 -> 200000 | AB32: ='תקציב מפורט לספר '!AB350 -> 100000 | AC32: ='תקציב מפורט לספר '!AC350 -> 1992000 | AD32: ='תקציב מפורט לספר '!AD350 -> 0 | ... AH32: ='תקציב מפורט לספר '!AH350 -> 1992000 | AI32: =SUM(#REF!) -> #REF! | AJ32: =SUM(#REF!) -> #REF! | AK32: =SUM(#REF!) -> #REF! | AL32: =SUM(#REF!) -> #REF! | AM32: =SUM(#REF!) -> #REF! | AN32: =SUM(#REF!) -> #REF! | AO32: =SUM(#REF!) -> #REF! | AP32: =SUM(#REF!) -> #REF! | ... AW32: =SUM(#REF!) -> #REF! | AY32: =V32-W32-AC32 -> #REF!
F33: סה"כ חופים עירוניים | G33: =SUM(#REF!) -> #REF! | H33: =SUM(#REF!) -> #REF! | I33: =SUM(#REF!) -> #REF! | J33: =SUM(#REF!) -> #REF! | K33: =SUM(#REF!) -> #REF! | L33: =SUM(#REF!) -> #REF! | M33: =SUM(#REF!) -> #REF! | N33: =SUM(#REF!) -> #REF! | ... V33: =SUM(#REF!) -> #REF! | W33: ='תקציב מפורט לספר '!W366 -> 4510000 | X33: ='תקציב מפורט לספר '!X366 -> 695000 | Y33: ='תקציב מפורט לספר '!Y366 -> 0 | Z33: ='תקציב מפורט לספר '!Z366 -> 200000 | AA33: ='תקציב מפורט לספר '!AA366 -> 2385000 | AB33: ='תקציב מפורט לספר '!AB366 -> 1230000 | AC33: ='תקציב מפורט לספר '!AC366 -> 12630000 | AD33: ='תקציב מפורט לספר '!AD366 -> 1960000 | ... AH33: ='תקציב מפורט לספר '!AH366 -> 0 | AI33: =SUM(#REF!) -> #REF! | AJ33: =SUM(#REF!) -> #REF! | AK33: =SUM(#REF!) -> #REF! | AL33: =SUM(#REF!) -> #REF! | AM33: =SUM(#REF!) -> #REF! | AN33: =SUM(#REF!) -> #REF! | AO33: =SUM(#REF!) -> #REF! | AP33: =SUM(#REF!) -> #REF! | ... AV33: =SUM(#REF!) -> #REF! | AW33: =AP33-AQ33-AV33 -> #REF! | AY33: =V33-W33-AC33 -> #REF!
F34: סה"כ ביטחון | G34: =SUM(#REF!) -> #REF! | H34: =SUM(#REF!) -> #REF! | I34: =SUM(#REF!) -> #REF! | J34: =SUM(#REF!) -> #REF! | K34: =SUM(#REF!) -> #REF! | L34: =SUM(#REF!) -> #REF! | M34: =SUM(#REF!) -> #REF! | N34: =SUM(#REF!) -> #REF! | ... V34: =SUM(#REF!) -> #REF! | W34: ='תקציב מפורט לספר '!W376 -> 965000 | X34: ='תקציב מפורט לספר '!X376 -> 0 | Y34: ='תקציב מפורט לספר '!Y376 -> 0 | Z34: ='תקציב מפורט לספר '!Z376 -> 0 | AA34: ='תקציב מפורט לספר '!AA376 -> 507500 | AB34: ='תקציב מפורט לספר '!AB376 -> 457500 | AC34: ='תקציב מפורט לספר '!AC376 -> 5160000 | AD34: ='תקציב מפורט לספר '!AD376 -> 0 | ... AH34: ='תקציב מפורט לספר '!AH376 -> 506500 | AI34: =SUM(#REF!) -> #REF! | AJ34: =SUM(#REF!) -> #REF! | AK34: =SUM(#REF!) -> #REF! | AL34: =SUM(#REF!) -> #REF! | AM34: =SUM(#REF!) -> #REF! | AN34: =SUM(#REF!) -> #REF! | AO34: =SUM(#REF!) -> #REF! | AP34: =SUM(#REF!) -> #REF! | ... AV34: =SUM(#REF!) -> #REF! | AW34: =AP34-AQ34-AV34 -> #REF! | AY34: =V34-W34-AC34 -> #REF!
F35: סה"כ פיקוח | G35: =SUM(#REF!) -> #REF! | H35: =SUM(#REF!) -> #REF! | I35: =SUM(#REF!) -> #REF! | J35: =SUM(#REF!) -> #REF! | K35: =SUM(#REF!) -> #REF! | L35: =SUM(#REF!) -> #REF! | M35: =SUM(#REF!) -> #REF! | N35: =SUM(#REF!) -> #REF! | ... V35: =SUM(#REF!) -> #REF! | W35: ='תקציב מפורט לספר '!W381 -> 490000 | X35: ='תקציב מפורט לספר '!X381 -> 0 | Y35: ='תקציב מפורט לספר '!Y381 -> 0 | Z35: ='תקציב מפורט לספר '!Z381 -> 0 | AA35: ='תקציב מפורט לספר '!AA381 -> 490000 | AB35: ='תקציב מפורט לספר '!AB381 -> 0 | AC35: ='תקציב מפורט לספר '!AC381 -> 50000 | AD35: ='תקציב מפורט לספר '!AD381 -> 0 | ... AH35: ='תקציב מפורט לספר '!AH381 -> 0 | AI35: =SUM(#REF!) -> #REF! | AJ35: =SUM(#REF!) -> #REF! | AK35: =SUM(#REF!) -> #REF! | AL35: =SUM(#REF!) -> #REF! | AM35: =SUM(#REF!) -> #REF! | AN35: =SUM(#REF!) -> #REF! | AO35: =SUM(#REF!) -> #REF! | AP35: =SUM(#REF!) -> #REF! | ... AV35: =SUM(#REF!) -> #REF! | AW35: =AP35-AQ35-AV35 -> #REF! | AY35: =V35-W35-AC35 -> #REF!
F36: סה"כ פרוייקטים בשיתוף משרדי ממשלה | G36: =SUM(#REF!) -> #REF! | H36: =SUM(#REF!) -> #REF! | I36: =SUM(#REF!) -> #REF! | J36: =SUM(#REF!) -> #REF! | K36: =SUM(#REF!) -> #REF! | L36: =SUM(#REF!) -> #REF! | M36: =SUM(#REF!) -> #REF! | N36: =SUM(#REF!) -> #REF! | ... V36: =SUM(#REF!) -> #REF! | W36: ='תקציב מפורט לספר '!W395 -> 40850000 | X36: ='תקציב מפורט לספר '!X395 -> 28595000 | Y36: ='תקציב מפורט לספר '!Y395 -> 12255000 | Z36: ='תקציב מפורט לספר '!Z395 -> 0 | AA36: ='תקציב מפורט לספר '!AA395 -> 0 | AB36: ='תקציב מפורט לספר '!AB395 -> 0 | AC36: ='תקציב מפורט לספר '!AC395 -> 3000000 | AD36: ='תקציב מפורט לספר '!AD395 -> 0 | ... AH36: ='תקציב מפורט לספר '!AH395 -> 0 | AI36: =SUM(#REF!) -> #REF! | AJ36: =SUM(#REF!) -> #REF! | AK36: =SUM(#REF!) -> #REF! | AL36: =SUM(#REF!) -> #REF! | AM36: =SUM(#REF!) -> #REF! | AN36: =SUM(#REF!) -> #REF! | AO36: =SUM(#REF!) -> #REF! | AP36: =SUM(#REF!) -> #REF! | ... AV36: =SUM(#REF!) -> #REF! | AW36: =AP36-AQ36-AV36 -> #REF! | AY36: =V36-W36-AC36 -> #REF!
F37: סה"כ רשות חניה | G37: =SUM(#REF!) -> #REF! | H37: =SUM(#REF!) -> #REF! | I37: =SUM(#REF!) -> #REF! | J37: =SUM(#REF!) -> #REF! | K37: =SUM(#REF!) -> #REF! | L37: =SUM(#REF!) -> #REF! | M37: =SUM(#REF!) -> #REF! | N37: =SUM(#REF!) -> #REF! | ... V37: =SUM(#REF!) -> #REF! | W37: ='תקציב מפורט לספר '!W403 -> 410000 | X37: ='תקציב מפורט לספר '!X403 -> 0 | Y37: ='תקציב מפורט לספר '!Y403 -> 0 | Z37: ='תקציב מפורט לספר '!Z403 -> 0 | AA37: ='תקציב מפורט לספר '!AA403 -> 410000 | AB37: ='תקציב מפורט לספר '!AB403 -> 0 | AC37: ='תקציב מפורט לספר '!AC403 -> 1906000 | AD37: ='תקציב מפורט לספר '!AD403 -> 0 | ... AH37: ='תקציב מפורט לספר '!AH403 -> 0 | AI37: =SUM(#REF!) -> #REF! | AJ37: =SUM(#REF!) -> #REF! | AK37: =SUM(#REF!) -> #REF! | AL37: =SUM(#REF!) -> #REF! | AM37: =SUM(#REF!) -> #REF! | AN37: =SUM(#REF!) -> #REF! | AO37: =SUM(#REF!) -> #REF! | AP37: =SUM(#REF!) -> #REF! | ... AV37: =SUM(#REF!) -> #REF! | AW37: =AP37-AQ37-AV37 -> #REF! | AX37: =SUM(#REF!) -> #REF! | AY37: =V37-W37-AC37 -> #REF!
E38: 4 | F38: סה"כ מינהל תפעול | G38: =G37+G36+G35+G34+G33+#REF!+G24+G23+G22 -> #REF! | H38: =H37+H36+H35+H34+H33+#REF!+H24+H23+H22 -> #REF! | I38: =I37+I36+I35+I34+I33+#REF!+I24+I23+I22 -> #REF! | J38: =J37+J36+J35+J34+J33+#REF!+J24+J23+J22 -> #REF! | K38: =K37+K36+K35+K34+K33+#REF!+K24+K23+K22 -> #REF! | L38: =L37+L36+L35+L34+L33+#REF!+L24+L23+L22 -> #REF! | M38: =M37+M36+M35+M34+M33+#REF!+M24+M23+M22 -> #REF! | N38: =N37+N36+N35+N34+N33+#REF!+N24+N23+N22 -> #REF! | ... V38: =V37+V36+V35+V34+V33+#REF!+V24+V23+V22 -> #REF! | W38: ='תקציב מפורט לספר '!W404 -> 202067000 | X38: ='תקציב מפורט לספר '!X404 -> 40790000 | Y38: ='תקציב מפורט לספר '!Y404 -> 30955000 | Z38: ='תקציב מפורט לספר '!Z404 -> 24205000 | AA38: ='תקציב מפורט לספר '!AA404 -> 104079500 | AB38: ='תקציב מפורט לספר '!AB404 -> 2037500 | AC38: ='תקציב מפורט לספר '!AC404 -> 131683000 | AD38: ='תקציב מפורט לספר '!AD404 -> 1960000 | ... AH38: ='תקציב מפורט לספר '!AH404 -> 4044500 | AI38: =AI37+AI36+AI35+AI34+AI33+#REF!+AI24+AI23+AI22 -> #REF! | AJ38: =AJ37+AJ36+AJ35+AJ34+AJ33+#REF!+AJ24+AJ23+AJ22 -> #REF! | AK38: =AK37+AK36+AK35+AK34+AK33+#REF!+AK24+AK23+AK22 -> #REF! | AL38: =AL37+AL36+AL35+AL34+AL33+#REF!+AL24+AL23+AL22 -> #REF! | AM38: =AM37+AM36+AM35+AM34+AM33+#REF!+AM24+AM23+AM22 -> #REF! | AN38: =AN37+AN36+AN35+AN34+AN33+#REF!+AN24+AN23+AN22 -> #REF! | AO38: =AO37+AO36+AO35+AO34+AO33+AO32+AO31+AO30+AO29+AO28+AO26+AO24+AO23+AO22 -> #REF! | AP38: =AP37+AP36+AP35+AP34+AP33+AP32+AP31+AP30+AP29+AP28+AP26+AP24+AP23+AP22 -> #REF! | AQ38: =AQ37+AQ36+AQ35+AQ34+AQ33+AQ32+AQ31+AQ30+AQ29+AQ28+AQ26+AQ24+AQ23+AQ22 -> #REF! | AR38: =AR37+AR36+AR35+AR34+AR33+AR32+AR31+AR30+AR29+AR28+AR26+AR24+AR23+AR22 -> #REF! | AS38: =AS37+AS36+AS35+AS34+AS33+AS32+AS31+AS30+AS29+AS28+AS26+AS24+AS23+AS22 -> #REF! | AT38: =AT37+AT36+AT35+AT34+AT33+AT32+AT31+AT30+AT29+AT28+AT26+AT24+AT23+AT22 -> #REF! | AU38: =AU37+AU36+AU35+AU34+AU33+AU32+AU31+AU30+AU29+AU28+AU26+AU24+AU23+AU22 -> #REF! | AV38: =AV37+AV36+AV35+AV34+AV33+AV32+AV31+AV30+AV29+AV28+AV26+AV24+AV23+AV22 -> #REF! | AW38: =AP38-AQ38-AV38 -> #REF! | AY38: =V38-W38-AC38 -> #REF!
F39: סה"כ מוזיאונים | G39: =SUM(#REF!) -> #REF! | H39: =SUM(#REF!) -> #REF! | I39: =SUM(#REF!) -> #REF! | J39: =SUM(#REF!) -> #REF! | K39: =SUM(#REF!) -> #REF! | L39: =SUM(#REF!) -> #REF! | M39: =SUM(#REF!) -> #REF! | N39: =SUM(#REF!) -> #REF! | ... V39: =SUM(#REF!) -> #REF! | W39: ='תקציב מפורט לספר '!W414 -> 1200000 | X39: ='תקציב מפורט לספר '!X414 -> 0 | Y39: ='תקציב מפורט לספר '!Y414 -> 0 | Z39: ='תקציב מפורט לספר '!Z414 -> 0 | AA39: ='תקציב מפורט לספר '!AA414 -> 500000 | AB39: ='תקציב מפורט לספר '!AB414 -> 700000 | AC39: ='תקציב מפורט לספר '!AC414 -> 6000000 | AD39: ='תקציב מפורט לספר '!AD414 -> 0 | ... AH39: ='תקציב מפורט לספר '!AH414 -> 4250000 | AI39: =SUM(#REF!) -> #REF! | AJ39: =SUM(#REF!) -> #REF! | AK39: =SUM(#REF!) -> #REF! | AL39: =SUM(#REF!) -> #REF! | AM39: =SUM(#REF!) -> #REF! | AN39: =SUM(#REF!) -> #REF! | AO39: =SUM(#REF!) -> #REF! | AP39: =SUM(#REF!) -> #REF! | ... AV39: =SUM(#REF!) -> #REF! | AW39: =AP39-AQ39-AV39 -> #REF! | AY39: =V39-W39-AC39 -> #REF!
F40: סה"כ אתו"ס | G40: =SUM(#REF!) -> #REF! | H40: =SUM(#REF!) -> #REF! | I40: =SUM(#REF!) -> #REF! | J40: =SUM(#REF!) -> #REF! | K40: =SUM(#REF!) -> #REF! | L40: =SUM(#REF!) -> #REF! | M40: =SUM(#REF!) -> #REF! | N40: =SUM(#REF!) -> #REF! | ... V40: =SUM(#REF!) -> #REF! | W40: ='תקציב מפורט לספר '!W427 -> 3575000 | X40: ='תקציב מפורט לספר '!X427 -> 0 | Y40: ='תקציב מפורט לספר '!Y427 -> 0 | Z40: ='תקציב מפורט לספר '!Z427 -> 0 | AA40: ='תקציב מפורט לספר '!AA427 -> 2675000 | AB40: ='תקציב מפורט לספר '!AB427 -> 900000 | AC40: ='תקציב מפורט לספר '!AC427 -> 11720000 | AD40: ='תקציב מפורט לספר '!AD427 -> 0 | ... AH40: ='תקציב מפורט לספר '!AH427 -> 4785000 | AI40: =SUM(#REF!) -> #REF! | AJ40: =SUM(#REF!) -> #REF! | AK40: =SUM(#REF!) -> #REF! | AL40: =SUM(#REF!) -> #REF! | AM40: =SUM(#REF!) -> #REF! | AN40: =SUM(#REF!) -> #REF! | AO40: =SUM(#REF!) -> #REF! | AP40: =SUM(#REF!) -> #REF! | ... AV40: =SUM(#REF!) -> #REF! | AW40: =AP40-AQ40-AV40 -> #REF! | AY40: =V40-W40-AC40 -> #REF!
...

Sheet תקציב מפורט לספר 
E1: העבודה | F1: עמודה1 | G1: תקציב 2014 | H1: עמודה2 | I1: תקציב 2015 | J1: עמודה3 | K1: תקציב 2016 | L1: עמודה4 | M1: תקציב 2017 | N1: עמודה5 | O1: תקציב 2018 | P1: עמודה6 | Q1: עמודה7 | R1: עמודה8 | S1: יתרה מועברת ל- 2019 | T1: עמודה9 | U1: עמודה10 | V1: תקציב פיתוח הצעת היחידות | W1: תקציב פיתוח 2019 | X1: עמודה11 | Y1: עמודה12 | Z1: עמודה13 | AA1: עמודה14 | AB1: עמודה15 | AC1: רב שנתי | AD1: עמודה16 | AE1: עמודה17 | AF1: עמודה18 | AG1: עמודה19 | AH1: עמודה20 | AI1: מימון תקציב פיתוח 2019 הצעת היחידות | AJ1: עמודה21 | AK1: עמודה22 | AL1: עמודה23 | AM1: עמודה24 | AN1: מימון עירוני
E2: מספר סידורי | F2: נושא | AQ2: מקורות מימון 2009
E3: מספר סידורי | F3: נושא | G3: תקציב 2014 | H3: הרשאות 2014 | I3: תקציב 2015 | J3: הרשאות 2015 | K3: תקציב 2016 | L3: הרשאות 2016 | M3: תקציב 2017 | N3: הרשאות 2017 | O3: תקציב 2018 נכון לתאריך 29.11.18 | P3: הרשאות 2018 נכון לתאריך 29.11.18 | Q3: הפרש תקציב 2018-2017 | R3: הפרש הרשאות 2018-2017 | S3: אומדן יתרה ל-2019 | T3: ממשלה ומוסדות | U3: יתרה המועברת ל- 2019- מימון עירוני | V3: תקציב פיתוח 2019 - הצעת היחידות | W3: תקציב פיתוח 2019 | X3: ממשלה ומוסדות | Y3: היטל השבחה | Z3: בעלים | AA3: הלוואות | AB3: מכירת נכסים | AC3: רב שנתי | AD3: ממשלה ומוסדות | AE3: היטל השבחה | AF3: בעלים | AG3: הלוואות | AH3: מכירת נכסים | AI3: ממשלה ומוסדות | AJ3: היטל השבחה | AK3: בעלים | AL3: הלוואות | AM3: מכירת נכסים | AN3: מימון עירוני | AO3: תקציב רב שנתי | AP3: הצעת אגף תקציבים | AQ3: ממשלה ומוסדות | AR3: היטל השבחה | AS3: בעלים | AT3: הלוואות | AU3: מכירת נכסים | AV3: מימון עירוני
E4: 10100 | F4: הנהלת העירייה
E5: =E4+1 -> 10101 | F5: שיפוצים, רכישות ועבודות בטיחות | G5: 3950000 | H5: 3891549 | I5: 5100000 | J5: 4859835 | K5: 3900000 | L5: 3900000 | M5: 4650000 | N5: 4533006 | O5: 5098000 | P5: 5071695 | Q5: =O5-M5 -> 448000 | R5: =P5-N5 -> 538689 | S5: 1676000 | U5: =+S5 -> 1676000 | V5: 2000000 | W5: 1000000 | AA5: =W5/2 -> 500000 | AB5: =W5-AA5 -> 500000 | AC5: =V5-W5 -> 1000000 | AG5: =AC5/2 -> 500000 | AH5: =AC5-AG5 -> 500000 | AI5: =AD5+X5 -> 0 | AJ5: =AE5+Y5 -> 0 | AK5: =AF5+Z5 -> 0 | AL5: =AG5+AA5 -> 1000000 | AM5: =AH5+AB5 -> 1000000 | AN5: =SUM(AJ5:AM5) -> 2000000 | AV5: =AU5+AT5+AS5+AR5 -> 0 | AW5: =AP5-AQ5-AV5 -> 0 | AY5: =V5-W5-AC5 -> 0
E6: =E5+1 -> 10102 | F6: עירונית קריית חיים | O6: 100000 | Q6: =O6-M6 -> 100000 | R6: =P6-N6 -> 0 | V6: 200000 | W6: 200000 | AA6: =W6/2 -> 100000 | AB6: =W6-AA6 -> 100000 | AC6: =V6-W6 -> 0 | AI6: =AD6+X6 -> 0 | AJ6: =AE6+Y6 -> 0 | AK6: =AF6+Z6 -> 0 | AL6: =AG6+AA6 -> 100000 | AM6: =AH6+AB6 -> 100000 | AN6: =SUM(AJ6:AM6) -> 200000 | AY6: =V6-W6-AC6 -> 0
E7: =E6+1 -> 10103 | F7: שיפוץ היכל העירייה | O7: 4500000 | P7: 1479000 | Q7: =O7-M7 -> 4500000 | R7: =P7-N7 -> 1479000 | V7: 4960000 | W7: 0 | AC7: =V7-W7 -> 4960000 | AH7: =V7-Z7 -> 4960000 | AI7: =AD7+X7 -> 0 | AJ7: =AE7+Y7 -> 0 | AK7: =AF7+Z7 -> 0 | AL7: =AG7+AA7 -> 0 | AM7: =AH7+AB7 -> 4960000 | AN7: =SUM(AJ7:AM7) -> 4960000 | AV7: =AU7+AT7+AS7+AR7 -> 0 | AW7: =AP7-AQ7-AV7 -> 0 | AY7: =V7-W7-AC7 -> 0
E8: =E7+1 -> 10104 | F8: ארכיון העיר | G8: 700000 | H8: =26250+455000 -> 481250 | I8: 700000 | J8: 350000 | K8: 600000 | L8: =350000-5506 -> 344494 | M8: 350000 | N8: 350000 | O8: 930000 | P8: 500000 | Q8: =O8-M8 -> 580000 | R8: =P8-N8 -> 150000 | S8: 313000 | U8: =+S8 -> 313000 | V8: 500000 | W8: =V8 -> 500000 | AA8: =W8 -> 500000 | AC8: =V8-W8 -> 0 | AI8: =AD8+X8 -> 0 | AJ8: =AE8+Y8 -> 0 | AK8: =AF8+Z8 -> 0 | AL8: =AG8+AA8 -> 500000 | AM8: =AH8+AB8 -> 0 | AN8: =SUM(AJ8:AM8) -> 500000 | AV8: =AU8+AT8+AS8+AR8 -> 0 | AW8: =AP8-AQ8-AV8 -> 0 | AY8: =V8-W8-AC8 -> 0
E9: =E8+1 -> 10105 | F9: שעוני נוכחות-חוזה | I9: 100000 | V9: 389000 | W9: =+V9 -> 389000 | AA9: =W9 -> 389000 | AI9: =AD9+X9 -> 0 | AJ9: =AE9+Y9 -> 0 | AK9: =AF9+Z9 -> 0 | AL9: =AG9+AA9 -> 389000 | AM9: =AH9+AB9 -> 0 | AN9: =SUM(AJ9:AM9) -> 389000 | AV9: =AU9+AT9+AS9+AR9 -> 0 | AW9: =AP9-AQ9-AV9 -> 0 | AY9: =V9-W9-AC9 -> 0
F10: סה"כ הנהלת העירייה | G10: =SUM(G5:G9) -> 4650000 | H10: =SUM(H5:H9) -> 4372799 | I10: =SUM(I5:I9) -> 5900000 | J10: =SUM(J5:J9) -> 5209835 | K10: =SUM(K5:K9) -> 4500000 | L10: =SUM(L5:L9) -> 4244494 | M10: =SUM(M5:M9) -> 5000000 | N10: =SUM(N5:N9) -> 4883006 | ... AV10: =SUM(AV5:AV9) -> 0 | AW10: =AP10-AQ10-AV10 -> 0 | AY10: =V10-W10-AC10 -> 0
F11: מינהל הנדסה | AI11: =AD11+X11 -> 0 | AJ11: =AE11+Y11 -> 0 | AK11: =AF11+Z11 -> 0 | AL11: =AG11+AA11 -> 0 | AM11: =AH11+AB11 -> 0 | AW11: =AP11-AQ11-AV11 -> 0 | AY11: =V11-W11-AC11 -> 0
E12: 20100 | F12: משרד מהנדס העיר | AI12: =AD12+X12 -> 0 | AJ12: =AE12+Y12 -> 0 | AK12: =AF12+Z12 -> 0 | AL12: =AG12+AA12 -> 0 | AM12: =AH12+AB12 -> 0 | AW12: =AP12-AQ12-AV12 -> 0 | AY12: =V12-W12-AC12 -> 0
E13: =E12+1 -> 20101 | F13: עבודות מיוחדות | G13: 1000000 | H13: 999970 | I13: 1000000 | J13: 989071 | K13: 1000000 | L13: 943500 | M13: 1000000 | N13: 979438 | O13: 1000000 | P13: 880500 | Q13: =O13-M13 -> 0 | R13: =P13-N13 -> -98938 | S13: 177000 | U13: =+S13 -> 177000 | V13: 1000000 | W13: 0 | Y13: =W13 -> 0 | AC13: =V13-W13 -> 1000000 | AG13: =AC13 -> 1000000 | AI13: =AD13+X13 -> 0 | AJ13: =AE13+Y13 -> 0 | AK13: =AF13+Z13 -> 0 | AL13: =AG13+AA13 -> 1000000 | AM13: =AH13+AB13 -> 0 | AN13: =SUM(AJ13:AM13) -> 1000000 | AV13: =AU13+AT13+AS13+AR13 -> 0 | AW13: =AP13-AQ13-AV13 -> 0 | AY13: =V13-W13-AC13 -> 0
E14: =E13+1 -> 20102 | F14: מבנים מסוכנים - אגף הפיקוח על הבניה | G14: 1000000 | H14: =G14 -> 1000000 | I14: 1000000 | J14: 1000000 | K14: 1000000 | L14: =500000+400000+425000+100000-299225-125851 -> 999924 | M14: 1000000 | N14: 500000 | O14: 2000000 | P14: 1100000 | Q14: =O14-M14 -> 1000000 | R14: =P14-N14 -> 600000 | S14: 439174 | U14: =S14 -> 439174 | V14: 2000000 | W14: 2000000 | Y14: =W14 -> 2000000 | AC14: =V14-W14 -> 0 | AI14: =AD14+X14 -> 0 | AJ14: =AE14+Y14 -> 2000000 | AK14: =AF14+Z14 -> 0 | AL14: =AG14+AA14 -> 0 | AM14: =AH14+AB14 -> 0 | AN14: =SUM(AJ14:AM14) -> 2000000 | AV14: =AU14+AT14+AS14+AR14 -> 0 | AW14: =AP14-AQ14-AV14 -> 0 | AY14: =V14-W14-AC14 -> 0
E15: =E14+1 -> 20103 | F15: נגישות מתו"ס (מבנים, תשתיות וסביבה) - כולל ביצוע | G15: 20000000 | H15: 500000 | I15: 15000000 | J15: 0 | K15: 15000000 | L15: =364700+125000+50000+627570+611585 -> 1778855 | M15: 26000000 | N15: =6060000+10000000 -> 16060000 | O15: 20000000 | P15: 8180000 | Q15: =O15-M15 -> -6000000 | R15: =P15-N15 -> -7880000 | S15: 14457355 | U15: =S15 -> 14457355 | V15: 50000000 | W15: =V15 -> 50000000 | Y15: =W15/2 -> 25000000 | Z15: =V15-Y15 -> 25000000 | AC15: =V15-W15 -> 0 | AI15: =AD15+X15 -> 0 | AJ15: =AE15+Y15 -> 25000000 | AK15: =AF15+Z15 -> 25000000 | AL15: =AG15+AA15 -> 0 | AM15: =AH15+AB15 -> 0 | AN15: =SUM(AJ15:AM15) -> 50000000 | AV15: =AU15+AT15+AS15+AR15 -> 0 | AW15: =AP15-AQ15-AV15 -> 0 | AY15: =V15-W15-AC15 -> 0
E16: =E15+1 -> 20104 | F16: יועצים | K16: 450000 | L16: 450000 | O16: 500000 | Q16: =O16-M16 -> 500000 | R16: =P16-N16 -> 0 | S16: 0 | U16: =S16 -> 0 | V16: 500000 | W16: 0 | Y16: =W16 -> 0 | AC16: =V16-W16 -> 500000 | AG16: =AC16 -> 500000 | AI16: =AD16+X16 -> 0 | AJ16: =AE16+Y16 -> 0 | AK16: =AF16+Z16 -> 0 | AL16: =AG16+AA16 -> 500000 | AM16: =AH16+AB16 -> 0 | AN16: =SUM(AJ16:AM16) -> 500000 | AV16: =AU16+AT16+AS16+AR16 -> 0 | AW16: =AP16-AQ16-AV16 -> 0 | AY16: =V16-W16-AC16 -> 0
E17: =E16+1 -> 20105 | F17: טיפול בגשרים ומבני דרך | K17: 1000000 | L17: 1000000 | M17: 10000000 | N17: 10000000 | O17: 20000000 | P17: 10000000 | Q17: =O17-M17 -> 10000000 | R17: =P17-N17 -> 0 | S17: 12013053 | U17: =S17 -> 12013053 | V17: 20000000 | W17: 15000000 | Y17: =W17 -> 15000000 | AC17: =V17-W17 -> 5000000 | AE17: =AC17 -> 5000000 | AI17: =AD17+X17 -> 0 | AJ17: =AE17+Y17 -> 20000000 | AK17: =AF17+Z17 -> 0 | AL17: =AG17+AA17 -> 0 | AM17: =AH17+AB17 -> 0 | AN17: =SUM(AJ17:AM17) -> 20000000 | AV17: =AU17+AT17+AS17+AR17 -> 0 | AW17: =AP17-AQ17-AV17 -> 0 | AY17: =V17-W17-AC17 -> 0
E18: =E17+1 -> 20106 | F18: שיפוץ חזיתות ומבנים במקומות שונים | G18: 2000000 | H18: 2000000 | I18: 1000000 | J18: =I18 -> 1000000 | K18: =950000-300000 -> 650000 | L18: 620000 | M18: 1000000 | N18: =M18 -> 1000000 | O18: 4000000 | P18: 3896000 | Q18: =O18-M18 -> 3000000 | R18: =P18-N18 -> 2896000 | S18: 4793873 | U18: =S18 -> 4793873 | V18: 4000000 | W18: 3000000 | AB18: =W18 -> 3000000 | AC18: =V18-W18 -> 1000000 | AH18: =AC18 -> 1000000 | AI18: =AD18+X18 -> 0 | AJ18: =AE18+Y18 -> 0 | AK18: =AF18+Z18 -> 0 | AL18: =AG18+AA18 -> 0 | AM18: =AH18+AB18 -> 4000000 | AN18: =SUM(AJ18:AM18) -> 4000000 | AV18: =AU18+AT18+AS18+AR18 -> 0 | AW18: =AP18-AQ18-AV18 -> 0 | AY18: =V18-W18-AC18 -> 0
E19: =E18+1 -> 20107 | F19: חזית ים | V19: 2000000 | W19: 0 | Z19: =W19 -> 0 | AC19: =V19-W19 -> 2000000 | AE19: =AC19 -> 2000000 | AI19: =AD19+X19 -> 0 | AJ19: =AE19+Y19 -> 2000000 | AK19: =AF19+Z19 -> 0 | AL19: =AG19+AA19 -> 0 | AM19: =AH19+AB19 -> 0 | AN19: =SUM(AJ19:AM19) -> 2000000 | AY19: =V19-W19-AC19 -> 0
E20: =E19+1 -> 20108 | F20: אכיפה יזומה שוטרים בתשלום | V20: 30000 | W20: 0 | Y20: =W20 -> 0 | AC20: =V20-W20 -> 30000 | AG20: =AC20 -> 30000 | AI20: =AD20+X20 -> 0 | AJ20: =AE20+Y20 -> 0 | AK20: =AF20+Z20 -> 0 | AL20: =AG20+AA20 -> 30000 | AM20: =AH20+AB20 -> 0 | AN20: =SUM(AJ20:AM20) -> 30000 | AY20: =V20-W20-AC20 -> 0
E21: =E20+1 -> 20109 | F21: שיתוף ציבור שימועים לשיפוץ חזיתות | V21: 30000 | W21: 0 | Y21: =W21 -> 0 | AC21: =V21-W21 -> 30000 | AG21: =AC21 -> 30000 | AI21: =AD21+X21 -> 0 | AJ21: =AE21+Y21 -> 0 | AK21: =AF21+Z21 -> 0 | AL21: =AG21+AA21 -> 30000 | AM21: =AH21+AB21 -> 0 | AN21: =SUM(AJ21:AM21) -> 30000 | AY21: =V21-W21-AC21 -> 0
F22: סה"כ משרד מהנדס העיר | G22: =SUM(G13:G21) -> 24000000 | H22: =SUM(H13:H21) -> 4499970 | I22: =SUM(I13:I21) -> 18000000 | J22: =SUM(J13:J21) -> 2989071 | K22: =SUM(K13:K21) -> 19100000 | L22: =SUM(L13:L21) -> 5792279 | M22: =SUM(M13:M18) -> 39000000 | N22: =SUM(N13:N18) -> 28539438 | O22: =SUM(O13:O18) -> 47500000 | P22: =SUM(P13:P18) -> 24056500 | Q22: =SUM(Q13:Q18) -> 8500000 | R22: =SUM(R13:R18) -> -4482938 | S22: =SUM(S13:S21) -> 31880455 | T22: =SUM(T13:T18) -> 0 | U22: =SUM(U13:U21) -> 31880455 | V22: =SUM(V13:V21) -> 79560000 | W22: =SUM(W13:W21) -> 70000000 | X22: =SUM(X13:X21) -> 0 | Y22: =SUM(Y13:Y21) -> 42000000 | Z22: =SUM(Z13:Z21) -> 25000000 | AA22: =SUM(AA13:AA21) -> 0 | AB22: =SUM(AB13:AB21) -> 3000000 | ... AN22: =SUM(AN13:AN21) -> 79560000 | AO22: =SUM(AO13:AO18) -> 0 | AP22: =SUM(AP13:AP18) -> 0 | AQ22: =SUM(AQ13:AQ18) -> 0 | AR22: =SUM(AR13:AR18) -> 0 | AS22: =SUM(AS13:AS18) -> 0 | AT22: =SUM(AT13:AT18) -> 0 | AU22: =SUM(AU13:AU18) -> 0 | AV22: =SUM(AV13:AV18) -> 0 | AW22: =AP22-AQ22-AV22 -> 0 | AY22: =V22-W22-AC22 -> 0
E23: 20200 | F23: תכנון עיר | AW23: =AP23-AQ23-AV23 -> 0 | AY23: =V23-W23-AC23 -> 0
E24: =E23+1 -> 20201 | F24: מגורים, מלונאות והתחדשות עירונית | G24: 2500000 | H24: 2500000 | I24: 250000 | J24: 0 | M24: 500000 | N24: 500000 | O24: 7695000 | P24: 1700000 | Q24: =O24-M24 -> 7195000 | R24: =P24-N24 -> 1200000 | S24: 8074150 | U24: =S24 -> 8074150 | V24: 4950000 | W24: =V24/2 -> 2475000 | Y24: =W24 -> 2475000 | AC24: =V24-W24 -> 2475000 | AE24: =AC24 -> 2475000 | AI24: =AD24+X24 -> 0 | AJ24: =AE24+Y24 -> 4950000 | AK24: =AF24+Z24 -> 0 | AL24: =AG24+AA24 -> 0 | AM24: =AH24+AB24 -> 0 | AN24: =SUM(AJ24:AM24) -> 4950000 | AV24: =AU24+AT24+AS24+AR24 -> 0 | AW24: =AP24-AQ24-AV24 -> 0 | AY24: =V24-W24-AC24 -> 0
E25: =E24+1 -> 20202 | F25: תוכניות שונות, שיתוף ציבור, נכסים עירונים ושימור | G25: 1050000 | H25: 777000 | K25: 500000 | L25: 183000 | M25: 50000 | N25: 90000 | O25: 1675802 | P25: 1375802 | Q25: =O25-M25 -> 1625802 | R25: =P25-N25 -> 1285802 | S25: 3757102 | U25: =S25 -> 3757102 | V25: 2500000 | W25: =V25/2 -> 1250000 | Y25: =W25 -> 1250000 | AC25: =V25-W25 -> 1250000 | AE25: =AC25 -> 1250000 | AI25: =AD25+X25 -> 0 | AJ25: =AE25+Y25 -> 2500000 | AK25: =AF25+Z25 -> 0 | AL25: =AG25+AA25 -> 0 | AM25: =AH25+AB25 -> 0 | AN25: =SUM(AJ25:AM25) -> 2500000 | AV25: =AU25+AT25+AS25+AR25 -> 0 | AW25: =AP25-AQ25-AV25 -> 0 | AY25: =V25-W25-AC25 -> 0
E26: =E25+1 -> 20203 | F26: תעסוקה, תשתיות ודרכים | G26: 350000 | H26: 0 | I26: 100000 | J26: 100000 | O26: 650000 | P26: 250000 | Q26: =O26-M26 -> 650000 | R26: =P26-N26 -> 250000 | S26: 696439 | U26: =S26 -> 696439 | V26: 700000 | W26: =V26/2 -> 350000 | Y26: =W26 -> 350000 | AC26: =V26-W26 -> 350000 | AE26: =AC26 -> 350000 | AI26: =AD26+X26 -> 0 | AJ26: =AE26+Y26 -> 700000 | AK26: =AF26+Z26 -> 0 | AL26: =AG26+AA26 -> 0 | AM26: =AH26+AB26 -> 0 | AN26: =SUM(AJ26:AM26) -> 700000 | AV26: =AU26+AT26+AS26+AR26 -> 0 | AW26: =AP26-AQ26-AV26 -> 0 | AY26: =V26-W26-AC26 -> 0
