Workbook

Sheet תקציב
F6: מס' סידורי | G6: נושא העבודה | H6: תקציב רב שנתי | I6: תקציב פיתוח 2017 | J6: ממשלה ומוסדות | K6: היטל השבחה | L6: בעלים | M6: הלוואות | N6: מכירת נכסים | O6: עמודה9
F7: מס' | G7: נושא | R7: מקורות מימון 2009
F8: 10100 | G8: הנהלת העירייה
F9: =F8+1 -> 10101 | G9: שיפוצים, רכישות ועבודות בטיחות | H9: =8960000-I9 -> 4960000 | I9: 4000000 | N9: =I9-M9 -> 4000000 | O9: =SUM(K9:N9) -> 4000000 | W9: =V9+U9+T9+S9 -> 0 | X9: =Q9-R9-W9 -> 0 | Z9: =I9-J9-SUM(K9:N9) -> 0
G10: סה"כ הנהלת העירייה | H10: =SUM(H9:H9) -> 4960000 | I10: =SUM(I9:I9) -> 4000000 | J10: =SUM(J9:J9) -> 0 | K10: =SUM(K9:K9) -> 0 | L10: =SUM(L9:L9) -> 0 | M10: =SUM(M9:M9) -> 0 | N10: =SUM(N9:N9) -> 4000000 | O10: =SUM(O9:O9) -> 4000000 | ... W10: =SUM(W9:W9) -> 0 | X10: =Q10-R10-W10 -> 0 | Z10: =I10-J10-SUM(K10:N10) -> 0
G11: מינהל הנדסה | X11: =Q11-R11-W11 -> 0 | Z11: =I11-J11-SUM(K11:N11) -> 0
F12: 20100 | G12: משרד מהנדס העיר | X12: =Q12-R12-W12 -> 0 | Z12: =I12-J12-SUM(K12:N12) -> 0
F13: =+F12+1 -> 20101 | G13: עבודות מיוחדות | I13: 1000000 | M13: =I13 -> 1000000 | O13: =SUM(K13:N13) -> 1000000 | W13: =V13+U13+T13+S13 -> 0 | X13: =Q13-R13-W13 -> 0 | Z13: =I13-J13-SUM(K13:N13) -> 0
F14: =+F13+1 -> 20102 | G14: מבנים מסוכנים - אגף הפיקוח על הבניה | H14: =2000000-I14 -> 1000000 | I14: 1000000 | N14: =I14 -> 1000000 | O14: =SUM(K14:N14) -> 1000000 | W14: =V14+U14+T14+S14 -> 0 | X14: =Q14-R14-W14 -> 0 | Z14: =I14-J14-SUM(K14:N14) -> 0
F15: =+F14+1 -> 20103 | G15: נגישות מתו"ס (מבנים, תשתיות וסביבה) - כולל ביצוע | I15: 15000000 | K15: 5000000 | N15: =I15-K15 -> 10000000 | O15: =SUM(K15:N15) -> 15000000 | W15: =V15+U15+T15+S15 -> 0 | X15: =Q15-R15-W15 -> 0 | Z15: =I15-J15-SUM(K15:N15) -> 0
F16: =+F15+1 -> 20104 | G16: שיפוץ חזיתות ומבנים במקומות שונים | I16: 1000000 | N16: =I16 -> 1000000 | O16: =SUM(K16:N16) -> 1000000 | W16: =V16+U16+T16+S16 -> 0 | X16: =Q16-R16-W16 -> 0 | Z16: =I16-J16-SUM(K16:N16) -> 0
F17: =+F16+1 -> 20105 | G17: טיפול בגשרים ומבני דרך | I17: 10000000 | L17: =I17 -> 10000000 | O17: =SUM(K17:N17) -> 10000000 | Z17: =I17-J17-SUM(K17:N17) -> 0
G18: סה"כ משרד מהנדס העיר | H18: =SUM(H13:H17) -> 1000000 | I18: =SUM(I13:I17) -> 28000000 | J18: =SUM(J13:J17) -> 0 | K18: =SUM(K13:K17) -> 5000000 | L18: =SUM(L13:L17) -> 10000000 | M18: =SUM(M13:M17) -> 1000000 | N18: =SUM(N13:N17) -> 12000000 | O18: =SUM(O13:O17) -> 28000000 | ... W18: =SUM(W13:W17) -> 0 | X18: =Q18-R18-W18 -> 0 | Z18: =I18-J18-SUM(K18:N18) -> 0
F19: 20200 | G19: תכנון עיר | X19: =Q19-R19-W19 -> 0 | Z19: =I19-J19-SUM(K19:N19) -> 0
F20: =+F19+1 -> 20201 | G20: מגורים | H20: =3200000-I20 -> 2700000 | I20: 500000 | K20: =I20 -> 500000 | O20: =SUM(K20:N20) -> 500000 | W20: =V20+U20+T20+S20 -> 0 | X20: =Q20-R20-W20 -> 0 | Z20: =I20-J20-SUM(K20:N20) -> 0
F21: =+F20+1 -> 20202 | G21: מלונאות | H21: 200000 | O21: =SUM(K21:N21) -> 0 | Z21: =I21-J21-SUM(K21:N21) -> 0
F22: =+F21+1 -> 20203 | G22: דרכים | H22: 500000 | O22: =SUM(K22:N22) -> 0 | Z22: =I22-J22-SUM(K22:N22) -> 0
F23: =+F22+1 -> 20204 | G23: התחדשות עירונית | H23: =1500000-I23 -> 1000000 | I23: 500000 | K23: =I23 -> 500000 | O23: =SUM(K23:N23) -> 500000 | W23: =V23+U23+T23+S23 -> 0 | X23: =Q23-R23-W23 -> 0 | Z23: =I23-J23-SUM(K23:N23) -> 0
F24: =+F23+1 -> 20205 | G24: שטחים פתוחים ומבני ציבור | H24: =500000-I24 -> 300000 | I24: 200000 | K24: =I24 -> 200000 | O24: =SUM(K24:N24) -> 200000 | W24: =V24+U24+T24+S24 -> 0 | X24: =Q24-R24-W24 -> 0 | Z24: =I24-J24-SUM(K24:N24) -> 0
F25: =+F24+1 -> 20206 | G25: סיקרי שימור | H25: 500000 | O25: =SUM(K25:N25) -> 0 | W25: =V25+U25+T25+S25 -> 0 | X25: =Q25-R25-W25 -> 0 | Z25: =I25-J25-SUM(K25:N25) -> 0
F26: =+F25+1 -> 20207 | G26: תכניות מדיניות כלל עירונית | H26: 100000 | O26: =SUM(K26:N26) -> 0 | Z26: =I26-J26-SUM(K26:N26) -> 0
F27: =+F26+1 -> 20208 | G27: תכניות שונות כלליות | H27: 1000000 | O27: =SUM(K27:N27) -> 0 | Z27: =I27-J27-SUM(K27:N27) -> 0
F28: =+F27+1 -> 20209 | G28: קידום תכניות על קרקעות עירוניות | H28: 2000000 | O28: =SUM(K28:N28) -> 0 | Z28: =I28-J28-SUM(K28:N28) -> 0
F29: =+F28+1 -> 20210 | G29: שיתוף ציבור | I29: 50000 | M29: =I29 -> 50000 | O29: =SUM(K29:N29) -> 50000 | W29: =V29+U29+T29+S29 -> 0 | X29: =Q29-R29-W29 -> 0 | Z29: =I29-J29-SUM(K29:N29) -> 0
G30: סה"כ תכנון עיר | H30: =SUM(H20:H29) -> 8300000 | I30: =SUM(I20:I29) -> 1250000 | J30: =SUM(J20:J29) -> 0 | K30: =SUM(K20:K29) -> 1200000 | L30: =SUM(L20:L29) -> 0 | M30: =SUM(M20:M29) -> 50000 | N30: =SUM(N20:N29) -> 0 | O30: =SUM(O20:O29) -> 1250000 | ... W30: =SUM(W20:W29) -> 0 | X30: =Q30-R30-W30 -> 0 | Z30: =I30-J30-SUM(K30:N30) -> 0
F31: 20400 | G31: תכנון דרכים ותנועה | X31: =Q31-R31-W31 -> 0 | Z31: =I31-J31-SUM(K31:N31) -> 0
F32: =+F31+1 -> 20401 | G32: השלמת פיתוח בשכונות-היטל דרכים | I32: 8000000 | L32: =I32-K32 -> 8000000 | O32: =SUM(K32:N32) -> 8000000 | W32: =V32+U32+T32+S32 -> 0 | X32: =Q32-R32-W32 -> 0 | Z32: =I32-J32-SUM(K32:N32) -> 0
F33: =+F32+1 -> 20402 | G33: תכנון ומדידה במקומות שונים | H33: =800000-I33 -> 600000 | I33: 200000 | K33: =I33 -> 200000 | O33: =SUM(K33:N33) -> 200000 | W33: =V33+U33+T33+S33 -> 0 | X33: =Q33-R33-W33 -> 0 | Z33: =I33-J33-SUM(K33:N33) -> 0
F34: =+F33+1 -> 20403 | G34: עבודות שונות | I34: 1000000 | M34: =I34 -> 1000000 | O34: =SUM(K34:N34) -> 1000000 | W34: =V34+U34+T34+S34 -> 0 | X34: =Q34-R34-W34 -> 0 | Z34: =I34-J34-SUM(K34:N34) -> 0
F35: =+F34+1 -> 20404 | G35: נחלת יעקב-הסכם פיתוח | I35: 2000000 | L35: =I35 -> 2000000 | O35: =SUM(K35:N35) -> 2000000 | W35: =V35+U35+T35+S35 -> 0 | X35: =Q35-R35-W35 -> 0 | Z35: =I35-J35-SUM(K35:N35) -> 0
F36: =+F35+1 -> 20405 | G36: חפ/1704 אזור תעשיה ליד הצ'ק פוסט | H36: 15000000 | O36: =SUM(K36:N36) -> 0 | Z36: =I36-J36-SUM(K36:N36) -> 0
F37: =+F36+1 -> 20406 | G37: רמת הנשיא (חביב) - סלילה | H37: 25000000 | O37: =SUM(K37:N37) -> 0 | Z37: =I37-J37-SUM(K37:N37) -> 0
F38: =+F37+1 -> 20407 | G38: רמת זמר - סלילה | I38: 8500000 | L38: =I38-K38 -> 8500000 | O38: =SUM(K38:N38) -> 8500000 | W38: =V38+U38+T38+S38 -> 0 | X38: =Q38-R38-W38 -> 0 | Z38: =I38-J38-SUM(K38:N38) -> 0
F39: =+F38+1 -> 20408 | G39: תכנון שיקום וריבוד כבישים ומדרכות | I39: 200000 | K39: =I39 -> 200000 | O39: =SUM(K39:N39) -> 200000 | W39: =V39+U39+T39+S39 -> 0 | X39: =Q39-R39-W39 -> 0 | Z39: =I39-J39-SUM(K39:N39) -> 0
F40: =+F39+1 -> 20409 | G40: טיילת הבה"ד | H40: =11000000-I40 -> 1000000 | I40: 10000000 | K40: =I40 -> 10000000 | O40: =SUM(K40:N40) -> 10000000 | W40: =V40+U40+T40+S40 -> 0 | X40: =Q40-R40-W40 -> 0 | Z40: =I40-J40-SUM(K40:N40) -> 0
F41: =+F40+1 -> 20410 | G41: מבואות דרומיים - מערכת כבישים וגשר | H41: =6000000-I41 -> 2000000 | I41: 4000000 | L41: =I41-K41 -> 4000000 | O41: =SUM(K41:N41) -> 4000000 | W41: =V41+U41+T41+S41 -> 0 | X41: =Q41-R41-W41 -> 0 | Z41: =I41-J41-SUM(K41:N41) -> 0
F42: =+F41+1 -> 20411 | G42: פיתוח מתחם חביבה רייך | H42: =7000000-I42 -> 5000000 | I42: 2000000 | J42: 1000000 | L42: =I42-J42 -> 1000000 | O42: =SUM(K42:N42) -> 1000000 | W42: =V42+U42+T42+S42 -> 0 | X42: =Q42-R42-W42 -> 0 | Z42: =I42-J42-SUM(K42:N42) -> 0
F43: =+F42+1 -> 20412 | G43: שיקום שכונת הדר - מערב | H43: 2000000 | O43: =SUM(K43:N43) -> 0 | Z43: =I43-J43-SUM(K43:N43) -> 0
F44: =+F43+1 -> 20413 | G44: שיקום שכונת הדר - מזרח | H44: 7000000 | O44: =SUM(K44:N44) -> 0 | Z44: =I44-J44-SUM(K44:N44) -> 0
F45: =+F44+1 -> 20414 | G45: פיתוח ליד גנ"י ומבני ציבור | H45: 2000000 | O45: =SUM(K45:N45) -> 0 | Z45: =I45-J45-SUM(K45:N45) -> 0
...

Sheet ריכוזים
B5: מס' סידורי | C5: נושא העבודה | D5: תקציב רב שנתי | E5: תקציב פיתוח 2017 | F5: ממשלה ומוסדות | G5: היטל השבחה | H5: בעלים | I5: הלוואות | J5: מכירת נכסים
B6: 1 | C6: סה"כ הנהלת העירייה | D6: =תקציב!H10 -> 4960000 | E6: =תקציב!I10 -> 4000000 | F6: =תקציב!J10 -> 0 | G6: =תקציב!K10 -> 0 | H6: =תקציב!L10 -> 0 | I6: =תקציב!M10 -> 0 | J6: =תקציב!N10 -> 4000000 | K6: =תקציב!O10 -> 4000000
B7: 2 | C7: סה"כ מינהל הנדסה | D7: =תקציב!H80 -> 87800000 | E7: =תקציב!I80 -> 125350000 | F7: =תקציב!J80 -> 43500000 | G7: =תקציב!K80 -> 26050000 | H7: =תקציב!L80 -> 39700000 | I7: =תקציב!M80 -> 2150000 | J7: =תקציב!N80 -> 13950000 | K7: =תקציב!O80 -> #REF!
B8: 3 | C8: סה"כ מערכות חינוך, תרבות ורווחה | D8: =תקציב!H183 -> 18530000 | E8: =תקציב!I183 -> 70520000 | F8: =תקציב!J183 -> 33440000 | G8: =תקציב!K183 -> 5000000 | H8: =תקציב!L183 -> 0 | I8: =תקציב!M183 -> 14805000 | J8: =תקציב!N183 -> 17275000 | K8: =תקציב!O183 -> 31080000
B9: 4 | C9: סה"כ מינהל תפעול | D9: =תקציב!H370 -> 94170637 | E9: =תקציב!I370 -> 204810000 | F9: =תקציב!J370 -> 8795000 | G9: =תקציב!K370 -> 26370000 | H9: =תקציב!L370 -> 75810000 | I9: =תקציב!M370 -> 89585000 | J9: =תקציב!N370 -> 4250000 | K9: =תקציב!O370 -> 194115000
B10: 5 | C10: סה"כ חברות ועמותות | D10: =תקציב!H402 -> 26466000 | E10: =תקציב!I402 -> 12835000 | F10: =תקציב!J402 -> 3500000 | G10: =תקציב!K402 -> 2105000 | H10: =תקציב!L402 -> 0 | I10: =תקציב!M402 -> 2225000 | J10: =תקציב!N402 -> 5005000 | K10: =תקציב!O402 -> 9335000
B11: 6 | C11: סה"כ תיירותיים | D11: =תקציב!H407 -> 900000 | E11: =תקציב!I407 -> 1350000 | F11: =תקציב!J407 -> 0 | G11: =תקציב!K407 -> 0 | H11: =תקציב!L407 -> 0 | I11: =תקציב!M407 -> 1350000 | J11: =תקציב!N407 -> 0 | K11: =תקציב!O407 -> 1350000
B12: 7 | C12: סה"כ אחרים | D12: =תקציב!H423 -> 1200000 | E12: =תקציב!I423 -> 12240000 | F12: =תקציב!J423 -> 1500000 | G12: =תקציב!K423 -> 200000 | H12: =תקציב!L423 -> 0 | I12: =תקציב!M423 -> 3465000 | J12: =תקציב!N423 -> 7075000 | K12: =תקציב!O423 -> 9940000
B13: 8 | C13: סה"כ תחבורה, בינוי ותשתיות | D13: =תקציב!H472 -> 33400000 | E13: =תקציב!I472 -> 496640000 | F13: =תקציב!J472 -> 474045000 | G13: =תקציב!K472 -> 8265000 | H13: =תקציב!L472 -> 0 | I13: =תקציב!M472 -> 0 | J13: =תקציב!N472 -> 14330000 | K13: =תקציב!O472 -> 22595000
B14: 9 | C14: סה"כ מינהל כספים | D14: =תקציב!H481 -> 1830000 | E14: =תקציב!I481 -> 6500000 | F14: =תקציב!J481 -> 0 | G14: =תקציב!K481 -> 80000 | H14: =תקציב!L481 -> 0 | I14: =תקציב!M481 -> 6420000 | J14: =תקציב!N481 -> 0 | K14: =תקציב!O481 -> 6500000
C15: סה"כ תקציב פיתוח | D15: =תקציב!H482 -> 269256637 | E15: =תקציב!I482 -> 934245000 | F15: =תקציב!J482 -> 564780000 | G15: =תקציב!K482 -> 68070000 | H15: =תקציב!L482 -> 115510000 | I15: =תקציב!M482 -> 120000000 | J15: =תקציב!N482 -> 65885000 | K15: =תקציב!O482 -> #REF!
D17: =SUM(D6:D14) -> 269256637 | E17: =SUM(E6:E14) -> 934245000 | F17: =SUM(F6:F14) -> 564780000 | G17: =SUM(G6:G14) -> 68070000 | H17: =SUM(H6:H14) -> 115510000 | I17: =SUM(I6:I14) -> 120000000 | J17: =SUM(J6:J14) -> 65885000 | K17: =SUM(G17:J17) -> 369465000
C19: מתוכנן | G19: 60000000 | H19: 150000000 | I19: 120000000 | J19: 60000000 | K19: =SUM(G19:J19) -> 390000000
C21: הפרש מתכנון | G21: =G17-G19 -> 8070000 | H21: =H17-H19 -> -34490000 | I21: =I17-I19 -> 0 | J21: =J17-J19 -> 5885000 | K21: =K17-K19 -> -20535000

Sheet ריכוזי אגפים
B3: מס' סידורי | C3: נושא העבודה | D3: תקציב רב שנתי | E3: תקציב פיתוח 2017 | F3: ממשלה ומוסדות | G3: היטל השבחה | H3: בעלים | I3: הלוואות | J3: מכירת נכסים
B4: 1 | C4: סה"כ הנהלת העירייה | D4: =תקציב!H10 -> 4960000 | E4: =תקציב!I10 -> 4000000 | F4: =תקציב!J10 -> 0 | G4: =תקציב!K10 -> 0 | H4: =תקציב!L10 -> 0 | I4: =תקציב!M10 -> 0 | J4: =תקציב!N10 -> 4000000 | M4: =SUM(F4:J4)-E4 -> 0
C5: מינהל הנדסה | M5: =SUM(F5:J5)-E5 -> 0
C6: סה"כ משרד מהנדס העיר | D6: =תקציב!H18 -> 1000000 | E6: =תקציב!I18 -> 28000000 | F6: =תקציב!J18 -> 0 | G6: =תקציב!K18 -> 5000000 | H6: =תקציב!L18 -> 10000000 | I6: =תקציב!M18 -> 1000000 | J6: =תקציב!N18 -> 12000000 | M6: =SUM(F6:J6)-E6 -> 0
C7: סה"כ תכנון עיר | D7: =תקציב!H30 -> 8300000 | E7: =תקציב!I30 -> 1250000 | F7: =תקציב!J30 -> 0 | G7: =תקציב!K30 -> 1200000 | H7: =תקציב!L30 -> 0 | I7: =תקציב!M30 -> 50000 | J7: =תקציב!N30 -> 0 | M7: =SUM(F7:J7)-E7 -> 0
C8: סה"כ תכנון דרכים ותנועה | D8: =תקציב!H50 -> 64600000 | E8: =תקציב!I50 -> 53400000 | F8: =תקציב!J50 -> 13500000 | G8: =תקציב!K50 -> 10400000 | H8: =תקציב!L50 -> 28500000 | I8: =תקציב!M50 -> 1000000 | J8: =תקציב!N50 -> 0 | M8: =SUM(F8:J8)-E8 -> 0
C9: סה"כ עבודות בשיתוף ממשלה | D9: =תקציב!H54 -> 0 | E9: =תקציב!I54 -> 2000000 | F9: =תקציב!J54 -> 1450000 | G9: =תקציב!K54 -> 450000 | H9: =תקציב!L54 -> 0 | I9: =תקציב!M54 -> 100000 | J9: =תקציב!N54 -> 0 | M9: =SUM(F9:J9)-E9 -> 0
C10: סה"כ תכנון נוף | D10: =תקציב!H64 -> 2950000 | E10: =תקציב!I64 -> 18300000 | F10: =תקציב!J64 -> 8550000 | G10: =תקציב!K64 -> 8550000 | H10: =תקציב!L64 -> 1200000 | I10: =תקציב!M64 -> 0 | J10: =תקציב!N64 -> 0 | M10: =SUM(F10:J10)-E10 -> 0
C11: סה"כ נכסים | D11: =תקציב!H79 -> 10950000 | E11: =תקציב!I79 -> 22400000 | F11: =תקציב!J79 -> 20000000 | G11: =תקציב!K79 -> 450000 | H11: =תקציב!L79 -> 0 | I11: =תקציב!M79 -> 0 | J11: =תקציב!N79 -> 1950000 | M11: =SUM(F11:J11)-E11 -> 0
B12: 2 | C12: סה"כ מינהל הנדסה | D12: =תקציב!H80 -> 87800000 | E12: =תקציב!I80 -> 125350000 | F12: =תקציב!J80 -> 43500000 | G12: =תקציב!K80 -> 26050000 | H12: =תקציב!L80 -> 39700000 | I12: =תקציב!M80 -> 2150000 | J12: =תקציב!N80 -> 13950000 | M12: =SUM(F12:J12)-E12 -> 0
C13: חת"ר | M13: =SUM(F13:J13)-E13 -> 0
C14: סה"כ עבודות בטיחות וביטחון | D14: =תקציב!H90 -> 2000000 | E14: =תקציב!I90 -> 24400000 | F14: =תקציב!J90 -> 20500000 | G14: =תקציב!K90 -> 0 | H14: =תקציב!L90 -> 0 | I14: =תקציב!M90 -> 2050000 | J14: =תקציב!N90 -> 1850000 | M14: =SUM(F14:J14)-E14 -> 0
C15: סה"כ עבודות מיוחדות | D15: =תקציב!H103 -> 700000 | E15: =תקציב!I103 -> 6820000 | F15: =תקציב!J103 -> 1000000 | G15: =תקציב!K103 -> 0 | H15: =תקציב!L103 -> 0 | I15: =תקציב!M103 -> 995000 | J15: =תקציב!N103 -> 4825000 | M15: =SUM(F15:J15)-E15 -> 0
C16: סה"כ שיפוצים ובטיחות מבני חינוך | D16: =תקציב!H128 -> 1550000 | E16: =תקציב!I128 -> 25060000 | F16: =תקציב!J128 -> 6850000 | G16: =תקציב!K128 -> 5000000 | H16: =תקציב!L128 -> 0 | I16: =תקציב!M128 -> 5460000 | J16: =תקציב!N128 -> 7750000 | M16: =SUM(F16:J16)-E16 -> 0
C17: סה"כ ריהוט וציוד | D17: =תקציב!H136 -> 550000 | E17: =תקציב!I136 -> 2650000 | F17: =תקציב!J136 -> 550000 | G17: =תקציב!K136 -> 0 | H17: =תקציב!L136 -> 0 | I17: =תקציב!M136 -> 2100000 | J17: =תקציב!N136 -> 0 | M17: =SUM(F17:J17)-E17 -> 0
C18: סה"כ פרוייקטים בשיתוף ביטוח לאומי | D18: =תקציב!H139 -> 0 | E18: =תקציב!I139 -> 200000 | F18: =תקציב!J139 -> 100000 | G18: =תקציב!K139 -> 0 | H18: =תקציב!L139 -> 0 | I18: =תקציב!M139 -> 0 | J18: =תקציב!N139 -> 100000 | M18: =SUM(F18:J18)-E18 -> 0
C19: סה"כ מדע וטכנולוגיה | D19: =תקציב!H144 -> 0 | E19: =תקציב!I144 -> 570000 | F19: =תקציב!J144 -> 250000 | G19: =תקציב!K144 -> 0 | H19: =תקציב!L144 -> 0 | I19: =תקציב!M144 -> 320000 | J19: =תקציב!N144 -> 0 | M19: =SUM(F19:J19)-E19 -> 0
C20: סה"כ מיחשוב מוסדות חינוך | D20: =תקציב!H151 -> 50000 | E20: =תקציב!I151 -> 4520000 | F20: =תקציב!J151 -> 3190000 | G20: =תקציב!K151 -> 0 | H20: =תקציב!L151 -> 0 | I20: =תקציב!M151 -> 1330000 | J20: =תקציב!N151 -> 0 | M20: =SUM(F20:J20)-E20 -> 0
C21: סה"כ מערכת תרבות | D21: =תקציב!H175 -> 12740000 | E21: =תקציב!I175 -> 4950000 | F21: =תקציב!J175 -> 1000000 | G21: =תקציב!K175 -> 0 | H21: =תקציב!L175 -> 0 | I21: =תקציב!M175 -> 2250000 | J21: =תקציב!N175 -> 1700000 | M21: =SUM(F21:J21)-E21 -> 0
C22: סה"כ מערכת רווחה | D22: =תקציב!H182 -> 940000 | E22: =תקציב!I182 -> 1350000 | F22: =תקציב!J182 -> 0 | G22: =תקציב!K182 -> 0 | H22: =תקציב!L182 -> 0 | I22: =תקציב!M182 -> 300000 | J22: =תקציב!N182 -> 1050000 | M22: =SUM(F22:J22)-E22 -> 0
B23: 3 | C23: סה"כ מערכות חינוך, תרבות ורווחה | D23: =תקציב!H183 -> 18530000 | E23: =תקציב!I183 -> 70520000 | F23: =תקציב!J183 -> 33440000 | G23: =תקציב!K183 -> 5000000 | H23: =תקציב!L183 -> 0 | I23: =תקציב!M183 -> 14805000 | J23: =תקציב!N183 -> 17275000 | M23: =SUM(F23:J23)-E23 -> 0
C24: מינהל תפעול | M24: =SUM(F24:J24)-E24 -> 0
C25: סה"כ מינהלי | D25: =תקציב!H192 -> 7500000 | E25: =תקציב!I192 -> 4185000 | F25: =תקציב!J192 -> 1300000 | G25: =תקציב!K192 -> 200000 | H25: =תקציב!L192 -> 30000 | I25: =תקציב!M192 -> 255000 | J25: =תקציב!N192 -> 2400000 | M25: =SUM(F25:J25)-E25 -> 0
C26: סה"כ אגף תברואה | D26: =תקציב!H223 -> 10466000 | E26: =תקציב!I223 -> 61620000 | F26: =תקציב!J223 -> 0 | G26: =תקציב!K223 -> 0 | H26: =תקציב!L223 -> 0 | I26: =תקציב!M223 -> 61520000 | J26: =תקציב!N223 -> 100000 | M26: =SUM(F26:J26)-E26 -> 0
C27: סה"כ שירות וטרינרי | D27: =תקציב!H231 -> 350000 | E27: =תקציב!I231 -> 1145000 | F27: =תקציב!J231 -> 150000 | G27: =תקציב!K231 -> 0 | H27: =תקציב!L231 -> 0 | I27: =תקציב!M231 -> 995000 | J27: =תקציב!N231 -> 0 | M27: =SUM(F27:J27)-E27 -> 0
C28: סה"כ מחלקת דרכים | D28: =תקציב!H262 -> 35737611 | E28: =תקציב!I262 -> 88755000 | F28: =תקציב!J262 -> 0 | G28: =תקציב!K262 -> 22905000 | H28: =תקציב!L262 -> 58585000 | I28: =תקציב!M262 -> 7265000 | J28: =תקציב!N262 -> 0 | M28: =SUM(F28:J28)-E28 -> 0
C29: סה"כ מחלקת תאורה | D29: =תקציב!H266 -> 2275000 | E29: =תקציב!I266 -> 4050000 | F29: =תקציב!J266 -> 1500000 | G29: =תקציב!K266 -> 1000000 | H29: =תקציב!L266 -> 1500000 | I29: =תקציב!M266 -> 50000 | J29: =תקציב!N266 -> 0 | M29: =SUM(F29:J29)-E29 -> 0
C30: סה"כ מחלקת רמזורים | D30: =תקציב!H279 -> 1003501 | E30: =תקציב!I279 -> 4310000 | F30: =תקציב!J279 -> 0 | G30: =תקציב!K279 -> 0 | H30: =תקציב!L279 -> 0 | I30: =תקציב!M279 -> 4310000 | J30: =תקציב!N279 -> 0 | M30: =SUM(F30:J30)-E30 -> 0
C31: סה"כ מחלקת גנים | D31: =תקציב!H318 -> 28074045 | E31: =תקציב!I318 -> 22000000 | F31: =תקציב!J318 -> 200000 | G31: =תקציב!K318 -> 0 | H31: =תקציב!L318 -> 10550000 | I31: =תקציב!M318 -> 11250000 | J31: =תקציב!N318 -> 0 | M31: =SUM(F31:J31)-E31 -> 0
C32: סה"כ ניקוז | D32: =תקציב!H331 -> 560000 | E32: =תקציב!I331 -> 6840000 | F32: =תקציב!J331 -> 0 | G32: =תקציב!K331 -> 0 | H32: =תקציב!L331 -> 5145000 | I32: =תקציב!M331 -> 1695000 | J32: =תקציב!N331 -> 0 | M32: =SUM(F32:J32)-E32 -> 0
C33: סה"כ בית מרחץ עירוני | D33: =תקציב!H334 -> 359000 | E33: =תקציב!I334 -> 200000 | F33: =תקציב!J334 -> 0 | G33: =תקציב!K334 -> 0 | H33: =תקציב!L334 -> 0 | I33: =תקציב!M334 -> 0 | J33: =תקציב!N334 -> 200000 | M33: =SUM(F33:J33)-E33 -> 0
C34: סה"כ חופים עירוניים | D34: =תקציב!H348 -> 1365000 | E34: =תקציב!I348 -> 2230000 | F34: =תקציב!J348 -> 360000 | G34: =תקציב!K348 -> 0 | H34: =תקציב!L348 -> 0 | I34: =תקציב!M348 -> 1120000 | J34: =תקציב!N348 -> 750000 | M34: =SUM(F34:J34)-E34 -> 0
C35: סה"כ ביטחון | D35: =תקציב!H356 -> 1715480 | E35: =תקציב!I356 -> 1600000 | F35: =תקציב!J356 -> 0 | G35: =תקציב!K356 -> 0 | H35: =תקציב!L356 -> 0 | I35: =תקציב!M356 -> 800000 | J35: =תקציב!N356 -> 800000 | M35: =SUM(F35:J35)-E35 -> 0
C36: סה"כ פיקוח | D36: =תקציב!H359 -> 0 | E36: =תקציב!I359 -> 10000 | F36: =תקציב!J359 -> 0 | G36: =תקציב!K359 -> 0 | H36: =תקציב!L359 -> 0 | I36: =תקציב!M359 -> 10000 | J36: =תקציב!N359 -> 0 | M36: =SUM(F36:J36)-E36 -> 0
C37: סה"כ פרוייקטים בשיתוף משרדי ממשלה | D37: =תקציב!H364 -> 4650000 | E37: =תקציב!I364 -> 7550000 | F37: =תקציב!J364 -> 5285000 | G37: =תקציב!K364 -> 2265000 | H37: =תקציב!L364 -> 0 | I37: =תקציב!M364 -> 0 | J37: =תקציב!N364 -> 0 | M37: =SUM(F37:J37)-E37 -> 0
C38: סה"כ רשות חניה | D38: =תקציב!H369 -> 115000 | E38: =תקציב!I369 -> 315000 | F38: =תקציב!J369 -> 0 | G38: =תקציב!K369 -> 0 | H38: =תקציב!L369 -> 0 | I38: =תקציב!M369 -> 315000 | J38: =תקציב!N369 -> 0 | M38: =SUM(F38:J38)-E38 -> 0
B39: 4 | C39: סה"כ מינהל תפעול | D39: =תקציב!H370 -> 94170637 | E39: =תקציב!I370 -> 204810000 | F39: =תקציב!J370 -> 8795000 | G39: =תקציב!K370 -> 26370000 | H39: =תקציב!L370 -> 75810000 | I39: =תקציב!M370 -> 89585000 | J39: =תקציב!N370 -> 4250000 | M39: =SUM(F39:J39)-E39 -> 0
C40: חברות ועמותות | M40: =SUM(F40:J40)-E40 -> 0
C41: סה"כ מוזיאונים | D41: =תקציב!H380 -> 3975000 | E41: =תקציב!I380 -> 1475000 | F41: =תקציב!J380 -> 0 | G41: =תקציב!K380 -> 0 | H41: =תקציב!L380 -> 0 | I41: =תקציב!M380 -> 0 | J41: =תקציב!N380 -> 1475000 | M41: =SUM(F41:J41)-E41 -> 0
C42: סה"כ אתו"ס | D42: =תקציב!H392 -> 17105000 | E42: =תקציב!I392 -> 3630000 | F42: =תקציב!J392 -> 0 | G42: =תקציב!K392 -> 0 | H42: =תקציב!L392 -> 0 | I42: =תקציב!M392 -> 600000 | J42: =תקציב!N392 -> 3030000 | M42: =SUM(F42:J42)-E42 -> 0
...
