Workbook
Name Print_Area_0: 'הנדסה 2018'!$A$2:$AO$102
Name Print_Area_0_0: 'הנדסה 2018'!$A$2:$AO$102
Name Print_Titles_0: 'הנדסה 2018'!$3:$6
Name Print_Titles_0_0: 'הנדסה 2018'!$3:$6

Sheet תקציב 2019
A5: הצעת התקציב הבלתי רגיל
A6: לשנת 2019
H29: טבת תשע"ט , דצמבר 2018
H30: עירית הרצליה/המינהל הכספי - אגף חוזים ותב"ר

Sheet תוכן ענינים
B2: תוכן | H2: עמודים
B4: מבוא | H4: 3
B5: התקציב הבלתי רגיל לשנת 2018 – ביצוע | H5: 4
B6: הצעת התקציב הבלתי רגיל לשנת 2019
B7: ריכוזים ודברי הסבר | H7: 5-16
B8: מינהל הנדסה | H8: 17-36
B9: החברה לפיתוח הרצליה | H9: 37-60
B10: אגף ת.ב.ל | H10: 61-72
B11: אגף בטחון פיקוח וסדר ציבורי | H11: 73-74
B12: אגף חינוך | H12: 75-77
B13: אגף ת.נ.ו.ס | H13: 78-79
B14: אגף ש.א.י.פ.ה | H14: 80-90
B15: רשות החופים | H15: 91-93
B16: החברה לפיתוח התיירות הרצליה | H16: 94-95
B17: אגף תקשוב ומערכות מידע | H17: 96-99
B18: אגף נכסים וביטוח | H18: 100-102
... B21: פרויקטים בביצוע החברה לפיתוח | H21: 139-140

Sheet מבוא
A4: 1. | B4: 1. | C4: מבוא
A6: 1.1 | C6: רקע :
C7: התקציב הבלתי רגיל (תב"ר) מהווה מסגרת תקציבית שנועדה בעיקר לביצוע פרויקטים של עבודות
C8: פיתוח ותשתיות, שיפוץ ובניה , בהיקף תקציבי נכבד המבוצעות במשך תקופה ארוכה.
C10: מקורות המימון לתב"ר הינם :
B11: ü | C11: מענקים ממקורות שלטוניים ובעיקר ממשרדי ממשלה.
B12: ü | C12: מענקים ממוסדות שאינם שלטוניים כגון : מפעל הפייס ,המועצה להסדר הימורים, השתתפויות ועוד.
B13: ü | C13: מקורות עצמיים של הרשות הכוללים היטלי השבחה , היטלי פיתוח , העברות מתקציב רגיל,
C14: תרומות, מימוש נכסים.
B15: ü | C15: הלוואות לזמן ארוך.
A17: 1.2 | C17: אישור התקציב הבלתי רגיל :
C18: על פי הוראות משרד הפנים ,לכל פרויקט יש לקבוע את היקף ההשקעה ומקורות המימון.
C19: ב – 10.2.2014 אושר במליאת הכנסת חוק רשויות איתנות על פיו ניתן לרשויות איתנות המתנהלות
C20: בהתאם לקריטריונים שהוצבו , חופש פעולה בתחומים מסוימים , בין היתר בתחום התקציב.
C21: ב – 16.3.2014 הכריז משרד הפנים על עיריית הרצליה כעל עירייה איתנה.
A23: 1.3 | C23: חברי וועדת הכספים/מועצת העיר מתבקשים לאשר בזאת : | E23: באלפי ₪
B26: ü | C26: תקציב בלתי רגיל לשנת 2019 בהשקעה של | E26: ='ריכוז אגפים'!S19/1000 -> 489407.85
B28: ü | C28: לביצוע פרויקטים בשנת 2019 בסכום של | E28: ='ריכוז אגפים'!L19/1000 -> 526734.77
B30: ü | C30: מתוך אומדן כולל של הפרויקטים בסכום של | E30: ='ריכוז אגפים'!B19/1000 -> 4672611.5
B33: ü | C33: פרויקטים שהיקפם עולה על 14,750 אלפי ₪ בביצוע החברה לפיתוח הרצליה.

Sheet תקציב 2018
A2: 2. | C2: התקציב הבלתי רגיל לשנת 2018
C4: הצעת התקציב הבלתי רגיל לשנת 2018 אושרה במועצת העיר בחודש נובמבר 2017 .
C5: הצעת התקציב הבלתי רגיל לשנת 2018 הסתכמה בסכום של 537,096 אלפי ₪ .
C7: מקורות המימון באלפי ₪ היו כדלקמן -
B9: ü | C9: קרן עבודות פיתוח | D9: 237740
B10: ü | C10: קרן עודפי תקציב רגיל | D10: 27000
B11: ü | C11: קרן מכירת רכוש | D11: 1250
B12: ü | C12: קרן ייעודית מתחם גליל ים | D12: 48963
B13: ü | C13: משרדי ממשלה ואחרים | D13: 222143
C14: סה"כ | D14: =SUM(D9:D13) -> 537096
C16: להלן נתוני ביצוע באלפי ₪ של התקציב הבלתי רגיל לשנת 2018 :
C18: סה"כ תקציב | D18: קרן עבודות פיתוח | E18: קרן עודפי תקציב רגיל | F18: קרן רכוש | G18: קרן ייעודית מתחם גליל ים | H18: משרדי ממשלה ואחרים | I18: סה"כ
C19: מסגרת תוכנית פיתוח | D19: =D9 -> 237740 | E19: =D10 -> 27000 | F19: =D11 -> 1250 | G19: =D12 -> 48963 | H19: =D13 -> 222143 | I19: =SUM(D19:H19) -> 537096
C20: ביצוע כולל צפי עד 31.12.2018 | D20: ='ריכוז אגפים 2018'!AL$20/1000 -> 200361.15 | E20: ='ריכוז אגפים 2018'!AM$20/1000 -> 23520 | F20: ='ריכוז אגפים 2018'!AN$20/1000 -> 0 | G20: ='ריכוז אגפים 2018'!AO$20/1000 -> 34900 | H20: ='ריכוז אגפים 2018'!AP$20/1000 -> 68190.703 | I20: =SUM(D20:H20) -> 326971.85
C21: אחוז ביצוע | D21: =D20/D19*100 -> 84.277425 | E21: =E20/E19*100 -> 87.111111 | F21: =F20/F19*100 -> 0 | G21: =G20/G19*100 -> 71.278312 | H21: =H20/H19*100 -> 30.69676 | I21: =I20/I19*100 -> 60.87773
C22: תקציב מעבר למסגרת תוכנית הפיתוח כולל צפי עד 31.12.2018 | D22: ='ריכוז תקציב מעבר לתוכנית 2018'!AG$117/1000 -> 38848.839 | E22: ='ריכוז תקציב מעבר לתוכנית 2018'!AH$117/1000 -> 8018.307 | H22: ='ריכוז תקציב מעבר לתוכנית 2018'!AI$117/1000 -> 9131.016 | I22: =SUM(D22:H22) -> 55998.162
C23: סה"כ | D23: =D20+D22 -> 239209.99 | E23: =E20+E22 -> 31538.307 | F23: =F20+F22 -> 0 | G23: =G20+G22 -> 34900 | H23: =H20+H22 -> 77321.719 | I23: =SUM(D23:H23) -> 382970.01
C24: אחוז ביצוע | D24: =D23/D19*100 -> 100.61832 | E24: =E23/E19*100 -> 116.80854 | F24: =F23/F19*100 -> 0 | G24: =G23/G19*100 -> 71.278312 | H24: =H23/H19*100 -> 34.807182 | I24: =I23/I19*100 -> 71.303829
C26: דו"ח מפורט מובא בעמודים 106-138

Sheet תקציב 2019 
A4: 3. | C4: הצעת התקציב הבלתי רגיל לשנת 2019
G5: באלפי ₪
A7: 3.1 | C7: הצעת התקציב הבלתי רגיל מסתכמת בהשקעה של | G7: =מבוא!E26 -> 489407.85
C9: לביצוע פרויקטים בשנת 2019 בסכום של | G9: =מבוא!E28 -> 526734.77
C11: מתוך אומדן כולל של הפרויקטים בסכום של | G11: =מבוא!E30 -> 4672611.5
A15: 3.2 | C15: הפרויקטים הבולטים לשנת 2019 הינם :
B16: ü | C16: עבודות פיתוח תשתיות, פארק, מוסדות חינוך ומבני ציבור במתחם גליל ים.
B17: ü | C17: פיתוח מתחם אלוני ים הר' 2030.
B18: ü | C18: פיתוח כבישים ותשתיות אזור תעשיה מערבי.
B19: ü | C19: פיתוח מתחם המכללות הר' 1920/1 .
B20: ü | C20: פיתוח מתחם הר' 1903 .
B21: ü | C21: פיתוח מתחם נוריות.
B22: ü | C22: פיתוח רחוב צ.ה.ל.
B23: ü | C23: מרכז תחבורה חדש .
B24: ü | C24: פיתוח קמפוס יד גיורא.
B25: ü | C25: פיתוח מתנ"סים.
B26: ü | C26: פיתוח אולמות ספורט.
B27: ü | C27: המשך ההשקעות בבניה חדשה כולל שדרוגים של מוסדות חינוך ברחבי העיר.

Sheet תקציב 2019 פרקים
A5: 3.3 | C5: חלוקת העלויות בתקציב באלפי ₪ על פי פרקים עיקריים מפורטת להלן –
C7: שם פרק | E7: מס' פרק | F7: שנת 2019 | G7: שנת 2018
C8: נכסים ציבוריים | E8: 74 | F8: ='ריכוז פרקים'!S8/1000 -> 244596.68 | G8: 283583 | I8: =F8/$F$21 -> 0.49978088
C9: חינוך (*) | E9: 81 | F9: ='ריכוז פרקים'!S11/1000 -> 83574.382 | G9: 125424 | I9: =F9/$F$21 -> 0.17076633
C10: תרבות וספורט (*) | E10: 82 | F10: ='ריכוז פרקים'!S12/1000 -> 80246.2 | G10: 53300 | I10: =F10/$F$21 -> 0.1639659
C11: רווחה (*) | E11: 84 | F11: ='ריכוז פרקים'!S13/1000 -> 50 | G11: =50 -> 50 | I11: =F11/$F$21 -> 0.00010216428
C12: נכסים | E12: 93 | F12: ='ריכוז פרקים'!S18/1000 -> 12154.3 | G12: 4770 | I12: =F12/$F$21 -> 0.024834706
C13: תרבות הדיור | E13: 764 | F13: ='ריכוז פרקים'!S17/1000 -> 16350 | G13: =13700 -> 13700 | I13: =F13/$F$21 -> 0.033407719
C14: חופים | E14: 747 | F14: ='ריכוז פרקים'!S9/1000 -> 3416.159 | G14: 2734 | I14: =F14/$F$21 -> 0.0069801885
C15: תכנון בנין עיר | E15: 73 | F15: ='ריכוז פרקים'!S7/1000 -> 19720.12 | G15: 19749 | I15: =F15/$F$21 -> 0.040293837
C16: מינהל כללי | E16: 61 | F16: ='ריכוז פרקים'!S6/1000 -> 285.00006 | G16: 200 | I16: =F16/$F$21 -> 0.00058233652
C17: שרותים עירוניים שונים | E17: 76 | F17: ='ריכוז פרקים'!S10/1000 -> 13960 | G17: =21485-50 -> 21435 | I17: =F17/$F$21 -> 0.028524267
C18: מבני דת ציבוריים | E18: 85 | F18: ='ריכוז פרקים'!S14/1000 -> 5425 | G18: 2500 | I18: =F18/$F$21 -> 0.011084824
C19: טיפול במרחב ציבורי | E19: 848 | F19: ='ריכוז פרקים'!S16/1000 -> 6500 | G19: 4100 | I19: =F19/$F$21 -> 0.013281356
C20: איכות הסביבה | E20: 87 | F20: ='ריכוז פרקים'!S15/1000 -> 3130 | G20: =5551 -> 5551 | I20: =F20/$F$21 -> 0.0063954839
C21: סה"כ | F21: =SUM(F8:F20) -> 489407.85 | G21: =SUM(G8:G20) -> 537096 | I21: =SUM(I8:I20) -> 1
C23: (*) | D23: מוין מחדש בשנת 2018

Sheet תקציב 2019  אגפים 
A5: 3.4 | C5: חלוקת ההשקעה בתקציב באלפי ₪ על פי אגפים/יחידות מפורטת להלן -
C7: שם פרק | F7: שנת 2019 | G7: שנת 2018
C8: מינהל הנדסה | F8: ='ריכוז אגפים'!$S7/1000 -> 42416.58 | G8: 17142 | J8: =F8/$F$22 -> 0.086669187
C9: החברה לפיתוח הרצליה | F9: ='ריכוז אגפים'!$S8/1000 -> 309252.68 | G9: 396380.57 | J9: =F9/$F$22 -> 0.63189154
C10: אגף ת.ב.ל | F10: ='ריכוז אגפים'!$S9/1000 -> 49451.3 | G10: 49542.6 | J10: =F10/$F$22 -> 0.10104313
C11: אגף בטחון,פיקוח וסדר ציבורי | F11: ='ריכוז אגפים'!$S10/1000 -> 1660 | G11: 900 | J11: =F11/$F$22 -> 0.0033918541
C12: אגף חינוך | F12: ='ריכוז אגפים'!$S11/1000 -> 8412.1001 | G12: 2580.137 | J12: =F12/$F$22 -> 0.017188323
C13: אגף ת.נ.ו.ס | F13: ='ריכוז אגפים'!$S12/1000 -> 3120 | G13: 1480 | J13: =F13/$F$22 -> 0.006375051
C14: אגף ש.א.י.פ.ה (*) | F14: ='ריכוז אגפים'!$S13/1000 -> 36405 | G14: =20498+3211.058+13700 -> 37409.058 | J14: =F14/$F$22 -> 0.074385812
C15: רשות החופים | F15: ='ריכוז אגפים'!$S14/1000 -> 1866.159 | G15: 2734 | J15: =F15/$F$22 -> 0.0038130958
C16: איכות הסביבה (*) | G16: =3211.058-3211.058 -> 0 | J16: =F16/$F$22 -> 0
C17: החברה לפיתוח התיירות | F17: ='ריכוז אגפים'!$S15/1000 -> 7930 | G17: 9180 | J17: =F17/$F$22 -> 0.016203255
C18: אגף תקשוב ומערכות מידע | F18: ='ריכוז אגפים'!$S16/1000 -> 12925 | G18: 9860 | J18: =F18/$F$22 -> 0.026409466
C19: אגף נכסים וביטוח | F19: ='ריכוז אגפים'!$S17/1000 -> 7949.3 | G19: 3070 | J19: =F19/$F$22 -> 0.01624269
C20: שיפוץ חזיתות/עמידר (*) | G20: =13750-13750 -> 0 | J20: =F20/$F$22 -> 0
C21: כללי | F21: ='ריכוז אגפים'!$S18/1000 -> 8019.727 | G21: =6767.586+50 -> 6817.586 | J21: =F21/$F$22 -> 0.016386593
C22: סה"כ | F22: =SUM(F8:F21) -> 489407.85 | G22: =SUM(G8:G21) -> 537095.95 | J22: =SUM(J8:J21) -> 1
C24: (*) | D24: מויין מחדש בשנת 2018

Sheet תקציב 2019  מקורות 
A5: 3.5 | C5: אומדן מקורות המימון באלפי ₪ מפורט להלן -
C7: מקור | F7: שנת 2019 | G7: שנת 2018
C8: קרן לעבודות פיתוח | F8: ='תקציב 2019 קרנות הרשות'!C21 -> 290040 | G8: 237740 | J8: =F8/$F$13 -> 0.59263455
C9: קרן עודפי תקציב רגיל | F9: ='תקציב 2019 קרנות הרשות'!D21 -> 44000 | G9: 27000 | J9: =F9/$F$13 -> 0.089904566
C10: קרן רכוש | G10: 1250 | J10: =F10/$F$13 -> 0
C11: קרן יעודית מתחם גליל ים | F11: 34722.657 | G11: 48963 | J11: =F11/$F$13 -> 0.070948305
C12: סה"כ משרדי ממשלה ואחרים | F12: ='תקציב 2019 מקורות אחרים'!F14 -> 120645.19 | G12: 222143 | J12: =F12/$F$13 -> 0.24651258
C13: סה"כ | F13: =SUM(F8:F12) -> 489407.85 | G13: =SUM(G8:G12) -> 537096 | J13: =SUM(J8:J12) -> 1

Sheet תקציב 2019 קרנות הרשות
A3: 3.6 | B3: קרנות הרשות - צפי תנועה באלפי ₪
C6: שנת 2019 | F6: שנת 2018
B7: תאור | C7: קרן עבודות פיתוח | D7: קרן עודפי תקציב רגיל | E7: סה"כ | F7: קרן עבודות פיתוח | G7: קרן עודפי תקציב רגיל | H7: סה"כ
B8: מקורות
B9: יתרה צפויה 1.1 | C9: =80000+10000+6000 -> 96000 | D9: =3000+1000 -> 4000 | E9: =SUM(C9:D9) -> 100000 | F9: 60280 | G9: 7000 | H9: =SUM(F9:G9) -> 67280
B10: היטלי השבחה ופיתוח שנה שוטפת | C10: =250000-40000 -> 210000 | E10: =SUM(C10:D10) -> 210000 | F10: 193000 | H10: =SUM(F10:G10) -> 193000
E11: =SUM(C11:D11) -> 0 | H11: =SUM(F11:G11) -> 0
B12: העברה מתקציב רגיל 2017 | G12: 15000 | H12: =SUM(F12:G12) -> 15000
B13: העברה מתקציב רגיל 2018 | D13: =10000+5000+10000 -> 25000 | E13: =SUM(C13:D13) -> 25000 | H13: =SUM(F13:G13) -> 0 | K13: =140000+31553 -> 171553
B14: העברה מעודפי תקציב רגיל שנים קודמות | D14: =5000+10000 -> 15000 | E14: =SUM(C14:D14) -> 15000 | G14: 5000 | H14: =SUM(F14:G14) -> 5000
E15: =SUM(C15:D15) -> 0 | H15: =SUM(F15:G15) -> 0
B16: העמקת גביה מהיטלי פיתוח שנה שוטפת | C16: 10000 | E16: =SUM(C16:D16) -> 10000 | F16: 10000 | H16: =SUM(F16:G16) -> 10000
B17: סה"כ מקורות | C17: =SUM(C9:C16) -> 316000 | D17: =SUM(D9:D16) -> 44000 | E17: =SUM(C17:D17) -> 360000 | F17: =SUM(F9:F16) -> 263280 | G17: =SUM(G9:G16) -> 27000 | H17: =SUM(H9:H16) -> 290280
B18: שימושים | H18: =SUM(F18:G18) -> 0
B19: השתתפות בפרעון מילוות מים,ביוב ופיתוח | C19: =5900+3800+5000 -> 14700 | E19: =SUM(C19:D19) -> 14700 | F19: 12227 | H19: =SUM(F19:G19) -> 12227 | K19: =C20 -> 11260
B20: השתתפות בשכ"ע הנדסה לפיתוח ותכנון | C20: =5860+3500+1900 -> 11260 | E20: =SUM(C20:D20) -> 11260 | F20: 13313 | H20: =SUM(F20:G20) -> 13313 | K20: עודכן ב - 920 אלפי ₪ עדכון איילת 22.9.16
B21: מימון תקציב בלתי רגיל | C21: =C17-C19-C20 -> 290040 | D21: =D17-D19-D20 -> 44000 | E21: =SUM(C21:D21) -> 334040 | F21: =F17-F19-F20 -> 237740 | G21: =G17-G19-G20 -> 27000 | H21: =SUM(F21:G21) -> 264740
B22: סה"כ שימושים | C22: =C17 -> 316000 | D22: =D17 -> 44000 | E22: =SUM(C22:D22) -> 360000 | F22: =SUM(F19:F21) -> 263280 | G22: =SUM(G19:G21) -> 27000 | H22: =SUM(H19:H21) -> 290280
K23: 31.10.16: | L23: עדכון של איילת: 644 אלפי ₪ משיכה נוספת.

Sheet תקציב 2019 מקורות אחרים
A4: 3.7 | C4: סעיף מימון משרדי ממשלה ואחרים מפורט בטבלה להלן – באלפי ₪ (*)
C6: תאור | F6: שנת 2019 | G6: שנת 2018
C7: משרד התחבורה | F7: ='פרוט מקורות אחרים'!M16/1000 -> 5967.54 | G7: 8745
C8: משרד החינוך | F8: ='פרוט מקורות אחרים'!E16/1000 -> 9299.3 | G8: 29983
C9: משרד הבינוי והשיכון
C10: רשות מינהל מקרקעי ישראל | F10: ='פרוט מקורות אחרים'!C16/1000 -> 66237.613 | G10: 124916
C11: משרדי ממשלה ואחרים | F11: =('פרוט מקורות אחרים'!D16+'פרוט מקורות אחרים'!F16+'פרוט מקורות אחרים'!G16+'פרוט מקורות אחרים'!I16+'פרוט מקורות אחרים'!J16+'פרוט מקורות אחרים'!K16+'פרוט מקורות אחרים'!L16)/1000 -> 19790.736 | G11: 32499
C12: מפעל הפייס | F12: ='פרוט מקורות אחרים'!H16/1000 -> 3000 | G12: 12300
C13: הכנסות בעד עבודות | F13: ='פרוט מקורות אחרים'!N16/1000 -> 16350 | G13: 13700
C14: סה"כ | F14: =SUM(F7:F13) -> 120645.19 | G14: =SUM(G7:G13) -> 222143
B16: (*) | C16: תקצוב הפרויקטים נשוא מימון משרדי ממשלה ואחרים כמפורט לעיל מותנה בקבלת מסמך
C17: התחייבות כספית חתום על ידי מורשי חתימה של הגורם המממן.
A19: 4. | B19: תב"רים לסגירה בשנת 2016
A21: 4.1 | B21: כללי :
B22: הנחיות משרד הפנים קובעות :
B23: תב"ר שהגיע לסיומו או לא הוחל בביצועו או לא הוצאו בגינו התחייבויות כספיות , עליו להיגרע מקובץ
B24: התב"רים במערכת הכספית של הרשות המקומית.
B25: עודף סופי בחשבון התב"ר יועבר לקרנות הרשות . יש לאשר את סגירת התב"רים במועצת העיר.
A27: 4.2 | B27: במהלך שנת 2016 אושרה במועצת העיר סגירת פרויקטים שהסתיימו/לא נוצלו לשנת 2016 והחזרת
B29: עודפים לקרנות הרשות בסכום של
C30: ראה פרוט נוסף בעמוד 15
A32: 4. | B32: פרויקטים בביצוע החברה לפיתוח
B34: בהתאם לתוספת להסכם מסגרת לביצוע פרויקטים הנדסיים בין העירייה לחברה לפיתוח הרצליה
B35: מיום 10.4.2005, יש לאשר במועצת העיר את ביצוע הפרויקטים שהיקפם עולה על ערך הסף.
B36: ערך הסף נכון להיום עומד על יותר מ - 14,750 אלפי ₪.
B38: פרוט הפרויקטים מובא בעמוד 140 - 139

Sheet תרשים אגפים

Sheet ריכוז אגפים
A2: ריכוז לפי אגפים/יחידות
B4: מרכיבי העלות | R4: מקורות מימון לפרויקט | Y4: מספר פרויקטים
A5: אגף/יחידה | B5: אומדן כולל לפרויקט | C5: אומדן מאושר במועצה | D5: תוספת לאומדן לאישור מועצה | E5: תקציב מאושר | F5: ביצוע בפועל | G5: שריון מערך הרכש | H5: שריון מערך חוזים | I5: סה"כ שריון התחייבויות | J5: סה"כ ביצוע | K5: יתרה לביצוע צפוי עד 31.12.2018 | L5: אומדן לביצוע שנת 2019 | M5: אומדן לביצוע שנת 2020 ואילך | N5: יתרת תקציב | O5: תקציב נוסף נדרש במסגרת תוכנית עבודה 2018 | P5: תקציב נוסף נדרש מעבר לתוכנית עבודה2018 | Q5: סה"כ תקציב נוסף נדרש 2018 | R5: יתרת תקציב פנויה 31.12.2018 | S5: תקציב נדרש 2019 | T5: קרן עבודות פיתוח | U5: קרן עודפי תקציב רגיל | V5: קרן רכוש | W5: קרן ייעודית | X5: אחרים
A7: מינהל הנדסה | B7: ='תקציב הנדסה 2019'!D$104 -> 849930879 | C7: ='תקציב הנדסה 2019'!E$104 -> 699330541 | D7: ='תקציב הנדסה 2019'!F$104 -> 150600338 | E7: ='תקציב הנדסה 2019'!G$104 -> 324115229 | F7: ='תקציב הנדסה 2019'!H$104 -> 2.5139166e+08 | G7: ='תקציב הנדסה 2019'!I$104 -> 22234190 | H7: ='תקציב הנדסה 2019'!J$104 -> 11172991 | I7: ='תקציב הנדסה 2019'!K$104 -> 33407181 | ... X7: ='תקציב הנדסה 2019'!Z$104 -> 2874577 | Y7: ='תקציב הנדסה 2019'!A104 -> 98
A8: החברה לפיתוח הרצליה | B8: ='תקציב החברה לפיתוח 2019'!D$117 -> 2499972125 | C8: ='תקציב החברה לפיתוח 2019'!E$117 -> 2075031725 | D8: ='תקציב החברה לפיתוח 2019'!F$117 -> 424940400 | E8: ='תקציב החברה לפיתוח 2019'!G$117 -> 959889223 | F8: ='תקציב החברה לפיתוח 2019'!H$117 -> 7.2684401e+08 | G8: ='תקציב החברה לפיתוח 2019'!I$117 -> 2023721.5 | H8: ='תקציב החברה לפיתוח 2019'!J$117 -> 1.0369992e+08 | I8: ='תקציב החברה לפיתוח 2019'!K$117 -> 1.0572364e+08 | ... X8: ='תקציב החברה לפיתוח 2019'!Z$117 -> 78185153 | Y8: ='תקציב החברה לפיתוח 2019'!A117 -> 105
A9: אגף ת.ב.ל | B9: ='תקציב אגף ת.ב.ל 2019'!D$70 -> 659008945 | C9: ='תקציב אגף ת.ב.ל 2019'!E$70 -> 632243945 | D9: ='תקציב אגף ת.ב.ל 2019'!F$70 -> 26765000 | E9: ='תקציב אגף ת.ב.ל 2019'!G$70 -> 507684741 | F9: ='תקציב אגף ת.ב.ל 2019'!H$70 -> 4.3235955e+08 | G9: ='תקציב אגף ת.ב.ל 2019'!I$70 -> 18484399 | H9: ='תקציב אגף ת.ב.ל 2019'!J$70 -> 36617167 | I9: ='תקציב אגף ת.ב.ל 2019'!K$70 -> 55101566 | ... X9: ='תקציב אגף ת.ב.ל 2019'!Z$70 -> 9221300 | Y9: ='תקציב אגף ת.ב.ל 2019'!A70 -> 64
A10: אגף בטחון פיקוח וסדר ציבורי | B10: ='תקציב אגף בטחון פיקוח סד"צ 2019'!D$11 -> 3735000 | C10: ='תקציב אגף בטחון פיקוח סד"צ 2019'!E$11 -> 2225000 | D10: ='תקציב אגף בטחון פיקוח סד"צ 2019'!F$11 -> 1510000 | E10: ='תקציב אגף בטחון פיקוח סד"צ 2019'!G$11 -> 2075000 | F10: ='תקציב אגף בטחון פיקוח סד"צ 2019'!H$11 -> 1876964.3 | G10: ='תקציב אגף בטחון פיקוח סד"צ 2019'!I$11 -> 0 | H10: ='תקציב אגף בטחון פיקוח סד"צ 2019'!J$11 -> 135281.96 | I10: ='תקציב אגף בטחון פיקוח סד"צ 2019'!K$11 -> 135281.96 | ... X10: ='תקציב אגף בטחון פיקוח סד"צ 2019'!Z$11 -> 0 | Y10: ='תקציב אגף בטחון פיקוח סד"צ 2019'!A11 -> 5
A11: אגף חינוך | B11: ='תקציב אגף חינוך 2019'!D$29 -> 18230363 | C11: ='תקציב אגף חינוך 2019'!E$29 -> 11385500 | D11: ='תקציב אגף חינוך 2019'!F$29 -> 6844863.1 | E11: ='תקציב אגף חינוך 2019'!G$29 -> 9038263 | F11: ='תקציב אגף חינוך 2019'!H$29 -> 4614992.4 | G11: ='תקציב אגף חינוך 2019'!I$29 -> 0 | H11: ='תקציב אגף חינוך 2019'!J$29 -> 1851410.7 | I11: ='תקציב אגף חינוך 2019'!K$29 -> 1851410.7 | ... X11: ='תקציב אגף חינוך 2019'!Z$29 -> 4878000 | Y11: ='תקציב אגף חינוך 2019'!A29 -> 23
A12: אגף ת.נ.ו.ס | B12: ='תקציב אגף תנוס 2019'!D$16 -> 14813365 | C12: ='תקציב אגף תנוס 2019'!E$16 -> 13843365 | D12: ='תקציב אגף תנוס 2019'!F$16 -> 970000 | E12: ='תקציב אגף תנוס 2019'!G$16 -> 8328365 | F12: ='תקציב אגף תנוס 2019'!H$16 -> 6323919 | G12: ='תקציב אגף תנוס 2019'!I$16 -> 0 | H12: ='תקציב אגף תנוס 2019'!J$16 -> 660990.71 | I12: ='תקציב אגף תנוס 2019'!K$16 -> 660990.71 | ... X12: ='תקציב אגף תנוס 2019'!Z$16 -> 0 | Y12: ='תקציב אגף תנוס 2019'!A16 -> 10
A13: אגף ש.א.י.פ.ה | B13: ='תקציב אגף שאיפה 2019'!D$49 -> 231868059 | C13: ='תקציב אגף שאיפה 2019'!E$49 -> 246322059 | D13: ='תקציב אגף שאיפה 2019'!F$49 -> -14454000 | E13: ='תקציב אגף שאיפה 2019'!G$49 -> 174365579 | F13: ='תקציב אגף שאיפה 2019'!H$49 -> 1.5674888e+08 | G13: ='תקציב אגף שאיפה 2019'!I$49 -> 474201 | H13: ='תקציב אגף שאיפה 2019'!J$49 -> 12594138 | I13: ='תקציב אגף שאיפה 2019'!K$49 -> 13068339 | ... X13: ='תקציב אגף שאיפה 2019'!Z$49 -> 17490000 | Y13: ='תקציב אגף שאיפה 2019'!A49 -> 42
A14: רשות החופים | B14: ='תקציב רשות החופים 2019'!D$25 -> 7879159 | C14: ='תקציב רשות החופים 2019'!E$25 -> 9541000 | D14: ='תקציב רשות החופים 2019'!F$25 -> -1661841 | E14: ='תקציב רשות החופים 2019'!G$25 -> 5613000 | F14: ='תקציב רשות החופים 2019'!H$25 -> 4759043.3 | G14: ='תקציב רשות החופים 2019'!I$25 -> 354044.03 | H14: ='תקציב רשות החופים 2019'!J$25 -> 255698.02 | I14: ='תקציב רשות החופים 2019'!K$25 -> 609742.05 | ... X14: ='תקציב רשות החופים 2019'!Z$25 -> 196159 | Y14: ='תקציב רשות החופים 2019'!A25 -> 19
A15: החברה לפיתוח התיירות | B15: ='תקציב החברה לתירות 2019'!D$19 -> 39693000 | C15: ='תקציב החברה לתירות 2019'!E$19 -> 39693000 | D15: ='תקציב החברה לתירות 2019'!F$19 -> 0 | E15: ='תקציב החברה לתירות 2019'!G$19 -> 12130000 | F15: ='תקציב החברה לתירות 2019'!H$19 -> 10252508 | G15: ='תקציב החברה לתירות 2019'!I$19 -> 0 | H15: ='תקציב החברה לתירות 2019'!J$19 -> 0 | I15: ='תקציב החברה לתירות 2019'!K$19 -> 0 | ... X15: ='תקציב החברה לתירות 2019'!Z$19 -> 4800000 | Y15: ='תקציב החברה לתירות 2019'!A19 -> 13
A16: אגף תקשוב ומערכות מידע | B16: ='תקציב אגף תקשוב 2019'!D$14 -> 49590000 | C16: ='תקציב אגף תקשוב 2019'!E$14 -> 41510000 | D16: ='תקציב אגף תקשוב 2019'!F$14 -> 8080000 | E16: ='תקציב אגף תקשוב 2019'!G$14 -> 18048000 | F16: ='תקציב אגף תקשוב 2019'!H$14 -> 8495620.3 | G16: ='תקציב אגף תקשוב 2019'!I$14 -> 5613414 | H16: ='תקציב אגף תקשוב 2019'!J$14 -> 331169 | I16: ='תקציב אגף תקשוב 2019'!K$14 -> 5944583 | ... X16: ='תקציב אגף תקשוב 2019'!Z$14 -> 3000000 | Y16: ='תקציב אגף תקשוב 2019'!A14 -> 8
A17: אגף נכסים וביטוח | B17: ='תקציב אגף נכסים וביטוח 2019'!D$23 -> 161849000 | C17: ='תקציב אגף נכסים וביטוח 2019'!E$23 -> 158949700 | D17: ='תקציב אגף נכסים וביטוח 2019'!F$23 -> 2899300 | E17: ='תקציב אגף נכסים וביטוח 2019'!G$23 -> 86452525 | F17: ='תקציב אגף נכסים וביטוח 2019'!H$23 -> 67056335 | G17: ='תקציב אגף נכסים וביטוח 2019'!I$23 -> 0 | H17: ='תקציב אגף נכסים וביטוח 2019'!J$23 -> 36241 | I17: ='תקציב אגף נכסים וביטוח 2019'!K$23 -> 36241 | ... X17: ='תקציב אגף נכסים וביטוח 2019'!Z$23 -> 0 | Y17: ='תקציב אגף נכסים וביטוח 2019'!A23 -> 17
A18: מינהל כללי | B18: ='תקציב מינהל כללי 2019'!D$16 -> 136041606 | C18: ='תקציב מינהל כללי 2019'!E$16 -> 125991606 | D18: ='תקציב מינהל כללי 2019'!F$16 -> 10050000 | E18: ='תקציב מינהל כללי 2019'!G$16 -> 92058500 | F18: ='תקציב מינהל כללי 2019'!H$16 -> 71800967 | G18: ='תקציב מינהל כללי 2019'!I$16 -> 462414.37 | H18: ='תקציב מינהל כללי 2019'!J$16 -> 5816839.3 | I18: ='תקציב מינהל כללי 2019'!K$16 -> 6279253.6 | ... X18: ='תקציב מינהל כללי 2019'!Z$16 -> 0 | Y18: ='תקציב מינהל כללי 2019'!A16 -> 10
A19: סה"כ | B19: =SUM(B7:B18) -> 4.6726115e+09 | C19: =SUM(C7:C18) -> 4056067441 | D19: =SUM(D7:D18) -> 6.1654406e+08 | E19: =SUM(E7:E18) -> 2199798425 | F19: =SUM(F7:F18) -> 1.7425244e+09 | G19: =SUM(G7:G18) -> 49646384 | H19: =SUM(H7:H18) -> 1.7317185e+08 | I19: =SUM(I7:I18) -> 2.2281823e+08 | ... Y19: =SUM(Y7:Y18) -> 414
J20: =I19+F19 -> 1.9653427e+09 | K20: =N19+Q19-R19 -> 3.5028223e+08 | N20: =E19-J19 -> 2.3445576e+08 | R20: =N19+Q19-K19 -> 37326928 | S20: =L19-R19 -> 4.8940785e+08
S23: סה"כ | T23: קע"פ | U23: קרן עודפי ת.ר. | V23: קרן רכוש | W23: קרן ייעודית | X23: אחרים
M24: יתרת מקורות מימון | O24: יתרת מקורות מימון | S24: =SUM(T24:X24) -> 489407846 | T24: ='תקציב 2019 קרנות הרשות'!C21*1000 -> 290040000 | U24: ='תקציב 2019 קרנות הרשות'!D21*1000 -> 44000000 | V24: ='תקציב 2019 מקורות '!F10*1000 -> 0 | W24: ='תקציב 2019 מקורות '!F11*1000 -> 34722657 | X24: ='פרוט מקורות אחרים'!O16 -> 120645189
M25: הפרש עודף (חוסר) | O25: הפרש עודף (חוסר) | S25: =S24-S19 -> -0.19398665 | T25: =T24-T19 -> 0 | U25: =U24-U19 -> -0.19398665 | V25: =V24-V19 -> 0 | W25: =W24-W19 -> 0 | X25: =X24-X19 -> 0

Sheet תרשים פרקים

Sheet ריכוז פרקים
A2: ריכוז לפי פרקים
B4: מרכיבי העלות | R4: מקורות מימון לפרויקט
A5: פרק | B5: אומדן כולל לפרויקט | C5: אומדן מאושר במועצה | D5: תוספת לאומדן לאישור מועצה | E5: תקציב מאושר | F5: ביצוע בפועל | G5: שריון מערך הרכש | H5: שריון מערך חוזים | I5: סה"כ שריון התחייבויות | J5: סה"כ ביצוע | K5: יתרה לביצוע צפוי עד 31.12.2018 | L5: אומדן לביצוע שנת 2019 | M5: אומדן לביצוע שנת 2020 ואילך | N5: יתרת תקציב | O5: תקציב נוסף נדרש במסגרת תוכנית עבודה2018 | P5: תקציב נוסף נדרש מעבר לתוכנית עבודה2018 | Q5: סה"כ תקציב נוסף נדרש 2018 | R5: יתרת תקציב פנויה 31.12.2018 | S5: תקציב נדרש 2019 | T5: קרן עבודות פיתוח | U5: קרן עודפי תקציב רגיל | V5: קרן רכוש | W5: קרן ייעודית | X5: אחרים
A6: מינהל כללי (61) | B6: ='תבל 2019 פרקים'!D$7+'מחשוב 2019 פרקים'!D$7 -> 8980000 | C6: ='תבל 2019 פרקים'!E$7+'מחשוב 2019 פרקים'!E$7 -> 8820000 | D6: ='תבל 2019 פרקים'!F$7+'מחשוב 2019 פרקים'!F$7 -> 160000 | E6: ='תבל 2019 פרקים'!G$7+'מחשוב 2019 פרקים'!G$7 -> 2798000 | F6: ='תבל 2019 פרקים'!H$7+'מחשוב 2019 פרקים'!H$7 -> 2504763.1 | G6: ='תבל 2019 פרקים'!I$7+'מחשוב 2019 פרקים'!I$7 -> 136200 | H6: ='תבל 2019 פרקים'!J$7+'מחשוב 2019 פרקים'!J$7 -> 101825 | I6: ='תבל 2019 פרקים'!K$7+'מחשוב 2019 פרקים'!K$7 -> 238025 | ... X6: ='תבל 2019 פרקים'!Z$7+'מחשוב 2019 פרקים'!Z$7 -> 0
A7: תכנון ובנין עיר (73) | B7: ='הנדסה 2019 פרקים'!D$50+' החברה לפיתוח 2019 פרקים'!D$14+'תבל 2019 פרקים'!D$11+'שאיפה 2019 פרקים'!D$9+'החברה לתיירות 2019 פרקים'!D$12+'מינהל כללי 2019 פרקים'!D$7 -> 237244873 | C7: ='הנדסה 2019 פרקים'!E$50+' החברה לפיתוח 2019 פרקים'!E$14+'תבל 2019 פרקים'!E$11+'שאיפה 2019 פרקים'!E$9+'החברה לתיירות 2019 פרקים'!E$12+'מינהל כללי 2019 פרקים'!E$7 -> 217878535 | D7: ='הנדסה 2019 פרקים'!F$50+' החברה לפיתוח 2019 פרקים'!F$14+'תבל 2019 פרקים'!F$11+'שאיפה 2019 פרקים'!F$9+'החברה לתיירות 2019 פרקים'!F$12+'מינהל כללי 2019 פרקים'!F$7 -> 19366338 | E7: ='הנדסה 2019 פרקים'!G$50+' החברה לפיתוח 2019 פרקים'!G$14+'תבל 2019 פרקים'!G$11+'שאיפה 2019 פרקים'!G$9+'החברה לתיירות 2019 פרקים'!G$12+'מינהל כללי 2019 פרקים'!G$7 -> 151013117 | F7: ='הנדסה 2019 פרקים'!H$50+' החברה לפיתוח 2019 פרקים'!H$14+'תבל 2019 פרקים'!H$11+'שאיפה 2019 פרקים'!H$9+'החברה לתיירות 2019 פרקים'!H$12+'מינהל כללי 2019 פרקים'!H$7 -> 1.0990021e+08 | G7: ='הנדסה 2019 פרקים'!I$50+' החברה לפיתוח 2019 פרקים'!I$14+'תבל 2019 פרקים'!I$11+'שאיפה 2019 פרקים'!I$9+'החברה לתיירות 2019 פרקים'!I$12+'מינהל כללי 2019 פרקים'!I$7 -> 3914309 | H7: ='הנדסה 2019 פרקים'!J$50+' החברה לפיתוח 2019 פרקים'!J$14+'תבל 2019 פרקים'!J$11+'שאיפה 2019 פרקים'!J$9+'החברה לתיירות 2019 פרקים'!J$12+'מינהל כללי 2019 פרקים'!J$7 -> 11315073 | I7: ='הנדסה 2019 פרקים'!K$50+' החברה לפיתוח 2019 פרקים'!K$14+'תבל 2019 פרקים'!K$11+'שאיפה 2019 פרקים'!K$9+'החברה לתיירות 2019 פרקים'!K$12+'מינהל כללי 2019 פרקים'!K$7 -> 15229382 | ... X7: ='הנדסה 2019 פרקים'!Z$50+' החברה לפיתוח 2019 פרקים'!Z$14+'תבל 2019 פרקים'!Z$11+'שאיפה 2019 פרקים'!Z$9+'החברה לתיירות 2019 פרקים'!Z$12+'מינהל כללי 2019 פרקים'!Z$7 -> 6392117
A8: נכסים ציבוריים (74) | B8: ='הנדסה 2019 פרקים'!D$102+' החברה לפיתוח 2019 פרקים'!D$56+' החברה לפיתוח 2019 פרקים'!D$60+'תבל 2019 פרקים'!D$20+'שאיפה 2019 פרקים'!D$31+'החברה לתיירות 2019 פרקים'!D$20+'מינהל כללי 2019 פרקים'!D$13 -> 2108526237 | C8: ='הנדסה 2019 פרקים'!E$102+' החברה לפיתוח 2019 פרקים'!E$56+' החברה לפיתוח 2019 פרקים'!E$60+'תבל 2019 פרקים'!E$20+'שאיפה 2019 פרקים'!E$31+'החברה לתיירות 2019 פרקים'!E$20+'מינהל כללי 2019 פרקים'!E$13 -> 1961207837 | D8: ='הנדסה 2019 פרקים'!F$102+' החברה לפיתוח 2019 פרקים'!F$56+' החברה לפיתוח 2019 פרקים'!F$60+'תבל 2019 פרקים'!F$20+'שאיפה 2019 פרקים'!F$31+'החברה לתיירות 2019 פרקים'!F$20+'מינהל כללי 2019 פרקים'!F$13 -> 147318400 | E8: ='הנדסה 2019 פרקים'!G$102+' החברה לפיתוח 2019 פרקים'!G$56+' החברה לפיתוח 2019 פרקים'!G$60+'תבל 2019 פרקים'!G$20+'שאיפה 2019 פרקים'!G$31+'החברה לתיירות 2019 פרקים'!G$20+'מינהל כללי 2019 פרקים'!G$13 -> 1025618321 | F8: ='הנדסה 2019 פרקים'!H$102+' החברה לפיתוח 2019 פרקים'!H$56+' החברה לפיתוח 2019 פרקים'!H$60+'תבל 2019 פרקים'!H$20+'שאיפה 2019 פרקים'!H$31+'החברה לתיירות 2019 פרקים'!H$20+'מינהל כללי 2019 פרקים'!H$13 -> 7.8207264e+08 | G8: ='הנדסה 2019 פרקים'!I$102+' החברה לפיתוח 2019 פרקים'!I$56+' החברה לפיתוח 2019 פרקים'!I$60+'תבל 2019 פרקים'!I$20+'שאיפה 2019 פרקים'!I$31+'החברה לתיירות 2019 פרקים'!I$20+'מינהל כללי 2019 פרקים'!I$13 -> 21006705 | H8: ='הנדסה 2019 פרקים'!J$102+' החברה לפיתוח 2019 פרקים'!J$56+' החברה לפיתוח 2019 פרקים'!J$60+'תבל 2019 פרקים'!J$20+'שאיפה 2019 פרקים'!J$31+'החברה לתיירות 2019 פרקים'!J$20+'מינהל כללי 2019 פרקים'!J$13 -> 1.0413453e+08 | I8: ='הנדסה 2019 פרקים'!K$102+' החברה לפיתוח 2019 פרקים'!K$56+' החברה לפיתוח 2019 פרקים'!K$60+'תבל 2019 פרקים'!K$20+'שאיפה 2019 פרקים'!K$31+'החברה לתיירות 2019 פרקים'!K$20+'מינהל כללי 2019 פרקים'!K$13 -> 1.2514123e+08 | ... X8: ='הנדסה 2019 פרקים'!Z$102+' החברה לפיתוח 2019 פרקים'!Z$56+' החברה לפיתוח 2019 פרקים'!Z$60+'תבל 2019 פרקים'!Z$20+'שאיפה 2019 פרקים'!Z$31+'החברה לתיירות 2019 פרקים'!Z$20+'מינהל כללי 2019 פרקים'!Z$13 -> 75117613
A9: חופים (747) | B9: =' החברה לפיתוח 2019 פרקים'!D$58+'שאיפה 2019 פרקים'!D$33+'רשות החופים 2019 פרקים'!D$25 -> 11162159 | C9: =' החברה לפיתוח 2019 פרקים'!E$58+'שאיפה 2019 פרקים'!E$33+'רשות החופים 2019 פרקים'!E$25 -> 16173000 | D9: =' החברה לפיתוח 2019 פרקים'!F$58+'שאיפה 2019 פרקים'!F$33+'רשות החופים 2019 פרקים'!F$25 -> -5010841 | E9: =' החברה לפיתוח 2019 פרקים'!G$58+'שאיפה 2019 פרקים'!G$33+'רשות החופים 2019 פרקים'!G$25 -> 7346000 | F9: =' החברה לפיתוח 2019 פרקים'!H$58+'שאיפה 2019 פרקים'!H$33+'רשות החופים 2019 פרקים'!H$25 -> 5901467.3 | G9: =' החברה לפיתוח 2019 פרקים'!I$58+'שאיפה 2019 פרקים'!I$33+'רשות החופים 2019 פרקים'!I$25 -> 354044.03 | H9: =' החברה לפיתוח 2019 פרקים'!J$58+'שאיפה 2019 פרקים'!J$33+'רשות החופים 2019 פרקים'!J$25 -> 262426.02 | I9: =' החברה לפיתוח 2019 פרקים'!K$58+'שאיפה 2019 פרקים'!K$33+'רשות החופים 2019 פרקים'!K$25 -> 616470.05 | ... X9: =' החברה לפיתוח 2019 פרקים'!Z$58+'שאיפה 2019 פרקים'!Z$33+'רשות החופים 2019 פרקים'!Z$25 -> 196159
A10: שרותים עירוניים שונים (76) | B10: ='הנדסה 2019 פרקים'!D$104+' החברה לפיתוח 2019 פרקים'!D$7+' החברה לפיתוח 2019 פרקים'!D$62+'תבל 2019 פרקים'!D$9+'ביטחון פיקוח וסדצ 2019 פרקים'!D$11+'חינוך 2019 פרקים'!D$7+'שאיפה 2019 פרקים'!D$7+'שאיפה 2019 פרקים'!D$35+'מחשוב 2019 פרקים'!D$9+'מחשוב 2019 פרקים'!D$14+'מינהל כללי 2019 פרקים'!D$16 -> 113498000 | C10: ='הנדסה 2019 פרקים'!E$104+' החברה לפיתוח 2019 פרקים'!E$7+' החברה לפיתוח 2019 פרקים'!E$62+'תבל 2019 פרקים'!E$9+'ביטחון פיקוח וסדצ 2019 פרקים'!E$11+'חינוך 2019 פרקים'!E$7+'שאיפה 2019 פרקים'!E$7+'שאיפה 2019 פרקים'!E$35+'מחשוב 2019 פרקים'!E$9+'מחשוב 2019 פרקים'!E$14+'מינהל כללי 2019 פרקים'!E$16 -> 109438000 | D10: ='הנדסה 2019 פרקים'!F$104+' החברה לפיתוח 2019 פרקים'!F$7+' החברה לפיתוח 2019 פרקים'!F$62+'תבל 2019 פרקים'!F$9+'ביטחון פיקוח וסדצ 2019 פרקים'!F$11+'חינוך 2019 פרקים'!F$7+'שאיפה 2019 פרקים'!F$7+'שאיפה 2019 פרקים'!F$35+'מחשוב 2019 פרקים'!F$9+'מחשוב 2019 פרקים'!F$14+'מינהל כללי 2019 פרקים'!F$16 -> 4060000 | E10: ='הנדסה 2019 פרקים'!G$104+' החברה לפיתוח 2019 פרקים'!G$7+' החברה לפיתוח 2019 פרקים'!G$62+'תבל 2019 פרקים'!G$9+'ביטחון פיקוח וסדצ 2019 פרקים'!G$11+'חינוך 2019 פרקים'!G$7+'שאיפה 2019 פרקים'!G$7+'שאיפה 2019 פרקים'!G$35+'מחשוב 2019 פרקים'!G$9+'מחשוב 2019 פרקים'!G$14+'מינהל כללי 2019 פרקים'!G$16 -> 78048000 | F10: ='הנדסה 2019 פרקים'!H$104+' החברה לפיתוח 2019 פרקים'!H$7+' החברה לפיתוח 2019 פרקים'!H$62+'תבל 2019 פרקים'!H$9+'ביטחון פיקוח וסדצ 2019 פרקים'!H$11+'חינוך 2019 פרקים'!H$7+'שאיפה 2019 פרקים'!H$7+'שאיפה 2019 פרקים'!H$35+'מחשוב 2019 פרקים'!H$9+'מחשוב 2019 פרקים'!H$14+'מינהל כללי 2019 פרקים'!H$16 -> 65846422 | G10: ='הנדסה 2019 פרקים'!I$104+' החברה לפיתוח 2019 פרקים'!I$7+' החברה לפיתוח 2019 פרקים'!I$62+'תבל 2019 פרקים'!I$9+'ביטחון פיקוח וסדצ 2019 פרקים'!I$11+'חינוך 2019 פרקים'!I$7+'שאיפה 2019 פרקים'!I$7+'שאיפה 2019 פרקים'!I$35+'מחשוב 2019 פרקים'!I$9+'מחשוב 2019 פרקים'!I$14+'מינהל כללי 2019 פרקים'!I$16 -> 5477214 | H10: ='הנדסה 2019 פרקים'!J$104+' החברה לפיתוח 2019 פרקים'!J$7+' החברה לפיתוח 2019 פרקים'!J$62+'תבל 2019 פרקים'!J$9+'ביטחון פיקוח וסדצ 2019 פרקים'!J$11+'חינוך 2019 פרקים'!J$7+'שאיפה 2019 פרקים'!J$7+'שאיפה 2019 פרקים'!J$35+'מחשוב 2019 פרקים'!J$9+'מחשוב 2019 פרקים'!J$14+'מינהל כללי 2019 פרקים'!J$16 -> 2177084.3 | I10: ='הנדסה 2019 פרקים'!K$104+' החברה לפיתוח 2019 פרקים'!K$7+' החברה לפיתוח 2019 פרקים'!K$62+'תבל 2019 פרקים'!K$9+'ביטחון פיקוח וסדצ 2019 פרקים'!K$11+'חינוך 2019 פרקים'!K$7+'שאיפה 2019 פרקים'!K$7+'שאיפה 2019 פרקים'!K$35+'מחשוב 2019 פרקים'!K$9+'מחשוב 2019 פרקים'!K$14+'מינהל כללי 2019 פרקים'!K$16 -> 7654298.3 | ... X10: ='הנדסה 2019 פרקים'!Z$104+' החברה לפיתוח 2019 פרקים'!Z$7+' החברה לפיתוח 2019 פרקים'!Z$62+'תבל 2019 פרקים'!Z$9+'ביטחון פיקוח וסדצ 2019 פרקים'!Z$11+'חינוך 2019 פרקים'!Z$7+'שאיפה 2019 פרקים'!Z$7+'שאיפה 2019 פרקים'!Z$35+'מחשוב 2019 פרקים'!Z$9+'מחשוב 2019 פרקים'!Z$14+'מינהל כללי 2019 פרקים'!Z$16 -> 600000
A11: חינוך (81) | B11: =' החברה לפיתוח 2019 פרקים'!D$87+'תבל 2019 פרקים'!D$56+'חינוך 2019 פרקים'!D$30+'שאיפה 2019 פרקים'!D$40+'מחשוב 2019 פרקים'!D$17 -> 1.3133233e+09 | C11: =' החברה לפיתוח 2019 פרקים'!E$87+'תבל 2019 פרקים'!E$56+'חינוך 2019 פרקים'!E$30+'שאיפה 2019 פרקים'!E$40+'מחשוב 2019 פרקים'!E$17 -> 908153445 | D11: =' החברה לפיתוח 2019 פרקים'!F$87+'תבל 2019 פרקים'!F$56+'חינוך 2019 פרקים'!F$30+'שאיפה 2019 פרקים'!F$40+'מחשוב 2019 פרקים'!F$17 -> 4.0516986e+08 | E11: =' החברה לפיתוח 2019 פרקים'!G$87+'תבל 2019 פרקים'!G$56+'חינוך 2019 פרקים'!G$30+'שאיפה 2019 פרקים'!G$40+'מחשוב 2019 פרקים'!G$17 -> 533940418 | F11: =' החברה לפיתוח 2019 פרקים'!H$87+'תבל 2019 פרקים'!H$56+'חינוך 2019 פרקים'!H$30+'שאיפה 2019 פרקים'!H$40+'מחשוב 2019 פרקים'!H$17 -> 4.4264373e+08 | G11: =' החברה לפיתוח 2019 פרקים'!I$87+'תבל 2019 פרקים'!I$56+'חינוך 2019 פרקים'!I$30+'שאיפה 2019 פרקים'!I$40+'מחשוב 2019 פרקים'!I$17 -> 18427702 | H11: =' החברה לפיתוח 2019 פרקים'!J$87+'תבל 2019 פרקים'!J$56+'חינוך 2019 פרקים'!J$30+'שאיפה 2019 פרקים'!J$40+'מחשוב 2019 פרקים'!J$17 -> 25095620 | I11: =' החברה לפיתוח 2019 פרקים'!K$87+'תבל 2019 פרקים'!K$56+'חינוך 2019 פרקים'!K$30+'שאיפה 2019 פרקים'!K$40+'מחשוב 2019 פרקים'!K$17 -> 43523321 | ... X11: =' החברה לפיתוח 2019 פרקים'!Z$87+'תבל 2019 פרקים'!Z$56+'חינוך 2019 פרקים'!Z$30+'שאיפה 2019 פרקים'!Z$40+'מחשוב 2019 פרקים'!Z$17 -> 20849300
A12: ספורט (82) | B12: ='הנדסה 2019 פרקים'!D$107+' החברה לפיתוח 2019 פרקים'!D$108+'תבל 2019 פרקים'!D$60+'תנוס 2019 פרקים'!D$15+'שאיפה 2019 פרקים'!D$42 -> 406186000 | C12: ='הנדסה 2019 פרקים'!E$107+' החברה לפיתוח 2019 פרקים'!E$108+'תבל 2019 פרקים'!E$60+'תנוס 2019 פרקים'!E$15+'שאיפה 2019 פרקים'!E$42 -> 376240000 | D12: ='הנדסה 2019 פרקים'!F$107+' החברה לפיתוח 2019 פרקים'!F$108+'תבל 2019 פרקים'!F$60+'תנוס 2019 פרקים'!F$15+'שאיפה 2019 פרקים'!F$42 -> 29946000 | E12: ='הנדסה 2019 פרקים'!G$107+' החברה לפיתוח 2019 פרקים'!G$108+'תבל 2019 פרקים'!G$60+'תנוס 2019 פרקים'!G$15+'שאיפה 2019 פרקים'!G$42 -> 71654800 | F12: ='הנדסה 2019 פרקים'!H$107+' החברה לפיתוח 2019 פרקים'!H$108+'תבל 2019 פרקים'!H$60+'תנוס 2019 פרקים'!H$15+'שאיפה 2019 פרקים'!H$42 -> 45525737 | G12: ='הנדסה 2019 פרקים'!I$107+' החברה לפיתוח 2019 פרקים'!I$108+'תבל 2019 פרקים'!I$60+'תנוס 2019 פרקים'!I$15+'שאיפה 2019 פרקים'!I$42 -> 123646.13 | H12: ='הנדסה 2019 פרקים'!J$107+' החברה לפיתוח 2019 פרקים'!J$108+'תבל 2019 פרקים'!J$60+'תנוס 2019 פרקים'!J$15+'שאיפה 2019 פרקים'!J$42 -> 15056624 | I12: ='הנדסה 2019 פרקים'!K$107+' החברה לפיתוח 2019 פרקים'!K$108+'תבל 2019 פרקים'!K$60+'תנוס 2019 פרקים'!K$15+'שאיפה 2019 פרקים'!K$42 -> 15180270 | ... X12: ='הנדסה 2019 פרקים'!Z$107+' החברה לפיתוח 2019 פרקים'!Z$108+'תבל 2019 פרקים'!Z$60+'תנוס 2019 פרקים'!Z$15+'שאיפה 2019 פרקים'!Z$42 -> 0
A13: רווחה (84) | B13: =' החברה לפיתוח 2019 פרקים'!D$111+'תבל 2019 פרקים'!D$62+'מינהל כללי 2019 פרקים'!D$18 -> 11354000 | C13: =' החברה לפיתוח 2019 פרקים'!E$111+'תבל 2019 פרקים'!E$62+'מינהל כללי 2019 פרקים'!E$18 -> 1454000 | D13: =' החברה לפיתוח 2019 פרקים'!F$111+'תבל 2019 פרקים'!F$62+'מינהל כללי 2019 פרקים'!F$18 -> 9900000 | E13: =' החברה לפיתוח 2019 פרקים'!G$111+'תבל 2019 פרקים'!G$62+'מינהל כללי 2019 פרקים'!G$18 -> 1454000 | F13: =' החברה לפיתוח 2019 פרקים'!H$111+'תבל 2019 פרקים'!H$62+'מינהל כללי 2019 פרקים'!H$18 -> 769620.44 | G13: =' החברה לפיתוח 2019 פרקים'!I$111+'תבל 2019 פרקים'!I$62+'מינהל כללי 2019 פרקים'!I$18 -> 0 | H13: =' החברה לפיתוח 2019 פרקים'!J$111+'תבל 2019 פרקים'!J$62+'מינהל כללי 2019 פרקים'!J$18 -> 0 | I13: =' החברה לפיתוח 2019 פרקים'!K$111+'תבל 2019 פרקים'!K$62+'מינהל כללי 2019 פרקים'!K$18 -> 0 | ... X13: =' החברה לפיתוח 2019 פרקים'!Z$111+'תבל 2019 פרקים'!Z$62+'מינהל כללי 2019 פרקים'!Z$18 -> 0
A14: מבני דת ציבוריים (85) | B14: =' החברה לפיתוח 2019 פרקים'!D$117+'תבל 2019 פרקים'!D$70 -> 22450000 | C14: =' החברה לפיתוח 2019 פרקים'!E$117+'תבל 2019 פרקים'!E$70 -> 14125000 | D14: =' החברה לפיתוח 2019 פרקים'!F$117+'תבל 2019 פרקים'!F$70 -> 8325000 | E14: =' החברה לפיתוח 2019 פרקים'!G$117+'תבל 2019 פרקים'!G$70 -> 11475000 | F14: =' החברה לפיתוח 2019 פרקים'!H$117+'תבל 2019 פרקים'!H$70 -> 5710639.2 | G14: =' החברה לפיתוח 2019 פרקים'!I$117+'תבל 2019 פרקים'!I$70 -> 206564.65 | H14: =' החברה לפיתוח 2019 פרקים'!J$117+'תבל 2019 פרקים'!J$70 -> 2455473.7 | I14: =' החברה לפיתוח 2019 פרקים'!K$117+'תבל 2019 פרקים'!K$70 -> 2662038.4 | ... X14: =' החברה לפיתוח 2019 פרקים'!Z$117+'תבל 2019 פרקים'!Z$70 -> 0
A15: איכות הסביבה (87) | B15: ='תבל 2019 פרקים'!D$73+'שאיפה 2019 פרקים'!D$56-B17 -> 16859559 | C15: ='תבל 2019 פרקים'!E$73+'שאיפה 2019 פרקים'!E$56-C17 -> 16704559 | D15: ='תבל 2019 פרקים'!F$73+'שאיפה 2019 פרקים'!F$56-D17 -> 155000 | E15: ='תבל 2019 פרקים'!G$73+'שאיפה 2019 פרקים'!G$56-E17 -> 3800559 | F15: ='תבל 2019 פרקים'!H$73+'שאיפה 2019 פרקים'!H$56-F17 -> 2580979.3 | G15: ='תבל 2019 פרקים'!I$73+'שאיפה 2019 פרקים'!I$56-G17 -> 0 | H15: ='תבל 2019 פרקים'!J$73+'שאיפה 2019 פרקים'!J$56-H17 -> 663670.98 | I15: ='תבל 2019 פרקים'!K$73+'שאיפה 2019 פרקים'!K$56-I17 -> 663670.98 | ... X15: ='תבל 2019 פרקים'!Z$73+'שאיפה 2019 פרקים'!Z$56-X17 -> 1140000
A16: טיפול במרחב ציבורי (848) | B16: =' החברה לפיתוח 2019 פרקים'!D$113+'שאיפה 2019 פרקים'!D$44+'תבל 2019 פרקים'!D$64 -> 31200000 | C16: =' החברה לפיתוח 2019 פרקים'!E$113+'שאיפה 2019 פרקים'!E$44+'תבל 2019 פרקים'!E$64 -> 28100000 | D16: =' החברה לפיתוח 2019 פרקים'!F$113+'שאיפה 2019 פרקים'!F$44+'תבל 2019 פרקים'!F$64 -> 3100000 | E16: =' החברה לפיתוח 2019 פרקים'!G$113+'שאיפה 2019 פרקים'!G$44+'תבל 2019 פרקים'!G$64 -> 23674320 | F16: =' החברה לפיתוח 2019 פרקים'!H$113+'שאיפה 2019 פרקים'!H$44+'תבל 2019 פרקים'!H$64 -> 20628614 | G16: =' החברה לפיתוח 2019 פרקים'!I$113+'שאיפה 2019 פרקים'!I$44+'תבל 2019 פרקים'!I$64 -> 0 | H16: =' החברה לפיתוח 2019 פרקים'!J$113+'שאיפה 2019 פרקים'!J$44+'תבל 2019 פרקים'!J$64 -> 2988269 | I16: =' החברה לפיתוח 2019 פרקים'!K$113+'שאיפה 2019 פרקים'!K$44+'תבל 2019 פרקים'!K$64 -> 2988269 | ... X16: =' החברה לפיתוח 2019 פרקים'!Z$113+'שאיפה 2019 פרקים'!Z$44+'תבל 2019 פרקים'!Z$64 -> 0
A17: תרבות הדיור (764) | B17: ='שאיפה 2019 פרקים'!D$48 -> 88000000 | C17: ='שאיפה 2019 פרקים'!E$48 -> 88000000 | D17: ='שאיפה 2019 פרקים'!F$48 -> 0 | E17: ='שאיפה 2019 פרקים'!G$48 -> 65250000 | F17: ='שאיפה 2019 פרקים'!H$48 -> 65137184 | G17: ='שאיפה 2019 פרקים'!I$48 -> 0 | H17: ='שאיפה 2019 פרקים'!J$48 -> 1 | I17: ='שאיפה 2019 פרקים'!K$48 -> 1 | ... X17: ='שאיפה 2019 פרקים'!Z$48 -> 16350000
A18: נכסים (93) | B18: =' החברה לפיתוח 2019 פרקים'!D$122+'תבל 2019 פרקים'!D$80+'תנוס 2019 פרקים'!D$17+'נכסים 2019 פרקים'!D$23 -> 288694365 | C18: =' החברה לפיתוח 2019 פרקים'!E$122+'תבל 2019 פרקים'!E$80+'תנוס 2019 פרקים'!E$17+'נכסים 2019 פרקים'!E$23 -> 294640065 | D18: =' החברה לפיתוח 2019 פרקים'!F$122+'תבל 2019 פרקים'!F$80+'תנוס 2019 פרקים'!F$17+'נכסים 2019 פרקים'!F$23 -> -5945700 | E18: =' החברה לפיתוח 2019 פרקים'!G$122+'תבל 2019 פרקים'!G$80+'תנוס 2019 פרקים'!G$17+'נכסים 2019 פרקים'!G$23 -> 208592890 | F18: =' החברה לפיתוח 2019 פרקים'!H$122+'תבל 2019 פרקים'!H$80+'תנוס 2019 פרקים'!H$17+'נכסים 2019 פרקים'!H$23 -> 1.7816943e+08 | G18: =' החברה לפיתוח 2019 פרקים'!I$122+'תבל 2019 פרקים'!I$80+'תנוס 2019 פרקים'!I$17+'נכסים 2019 פרקים'!I$23 -> 0 | H18: =' החברה לפיתוח 2019 פרקים'!J$122+'תבל 2019 פרקים'!J$80+'תנוס 2019 פרקים'!J$17+'נכסים 2019 פרקים'!J$23 -> 8921251.6 | I18: =' החברה לפיתוח 2019 פרקים'!K$122+'תבל 2019 פרקים'!K$80+'תנוס 2019 פרקים'!K$17+'נכסים 2019 פרקים'!K$23 -> 8921251.6 | ... X18: =' החברה לפיתוח 2019 פרקים'!Z$122+'תבל 2019 פרקים'!Z$80+'תנוס 2019 פרקים'!Z$17+'נכסים 2019 פרקים'!Z$23 -> 0
A19: תשלומים בלתי רגילים (99) | B19: ='מינהל כללי 2019 פרקים'!D$20 -> 15133000 | C19: ='מינהל כללי 2019 פרקים'!E$20 -> 15133000 | D19: ='מינהל כללי 2019 פרקים'!F$20 -> 0 | E19: ='מינהל כללי 2019 פרקים'!G$20 -> 15133000 | F19: ='מינהל כללי 2019 פרקים'!H$20 -> 15133000 | G19: ='מינהל כללי 2019 פרקים'!I$20 -> 0 | H19: ='מינהל כללי 2019 פרקים'!J$20 -> 0 | I19: ='מינהל כללי 2019 פרקים'!K$20 -> 0 | ... X19: ='מינהל כללי 2019 פרקים'!Z$20 -> 0
A20: סה"כ | B20: =SUM(B6:B19) -> 4.6726115e+09 | C20: =SUM(C6:C19) -> 4056067441 | D20: =SUM(D6:D19) -> 6.1654406e+08 | E20: =SUM(E6:E19) -> 2199798425 | F20: =SUM(F6:F19) -> 1.7425244e+09 | G20: =SUM(G6:G19) -> 49646384 | H20: =SUM(H6:H19) -> 1.7317185e+08 | I20: =SUM(I6:I19) -> 2.2281823e+08 | ... X20: =SUM(X6:X19) -> 120645189
J22: =I20+F20 -> 1.9653427e+09 | K22: =N22+Q20-R20 -> 3.5028223e+08 | N22: =E20-J20 -> 2.3445576e+08 | S22: =L20-R20 -> 4.8940785e+08
S23: סה"כ | T23: קע"פ | U23: קרן עודפי ת.ר. | V23: קרן רכוש | W23: קרן ייעודית | X23: אחרים
M24: יתרת מקורות מימון | O24: יתרת מקורות מימון | S24: =SUM(T24:X24) -> 489407846 | T24: ='תקציב 2019 קרנות הרשות'!C21*1000 -> 290040000 | U24: ='תקציב 2019 קרנות הרשות'!D21*1000 -> 44000000 | V24: ='תקציב 2019 מקורות '!F10*1000 -> 0 | W24: ='תקציב 2019 מקורות '!F11*1000 -> 34722657 | X24: ='פרוט מקורות אחרים'!O16 -> 120645189
M25: הפרש עודף (חוסר) | O25: הפרש עודף (חוסר) | S25: =S20-S24 -> 0.19398665 | T25: =T20-T24 -> 0 | U25: =U20-U24 -> 0.19398665 | V25: =V20-V24 -> 0 | W25: =W20-W24 -> 0 | X25: =X20-X24 -> 0
J27: =I20+F20 -> 1.9653427e+09 | K27: =N20+Q20-R20 -> 3.5028223e+08 | N27: =E20-J20 -> 2.3445576e+08 | S27: =L20-R20 -> 4.8940785e+08

Sheet פרוט מקורות אחרים
B1: מקורות מימון אחרים - פרוט
B3: אגף/מחלקה | C3: רשות מקרקעי ישראל | D3: המשרד להגנת הסביבה | E3: משרד החינוך | F3: משרד התשתיות והאנרגיה | G3: הקרן לשמירה על שטחים פתוחים | H3: מפעל הפייס | I3: משרד המדע | J3: משרד הבינוי והשיכון | K3: אחרים | L3: משרד הפנים | M3: משרד התחבורה | N3: הכנסות בעד עבודות | O3: סה"כ
B4: אגף הנדסה | J4: ='תקציב הנדסה 2019'!Z68+'תקציב הנדסה 2019'!Z46+'תקציב הנדסה 2019'!Z47 -> 1579577 | M4: ='תקציב הנדסה 2019'!Z12+'תקציב הנדסה 2019'!Z101+'תקציב הנדסה 2019'!Z102+'תקציב הנדסה 2019'!Z103 -> 1295000 | O4: =SUM(C4:N4) -> 2874577
B5: החברה לפיתוח הרצליה | C5: ='תקציב החברה לפיתוח 2019'!Z96+'תקציב החברה לפיתוח 2019'!Z97+'תקציב החברה לפיתוח 2019'!Z108 -> 66237613 | K5: ='תקציב החברה לפיתוח 2019'!Z9+'תקציב החברה לפיתוח 2019'!Z55+'תקציב החברה לפיתוח 2019'!Z88+'תקציב החברה לפיתוח 2019'!Z110 -> 7275000 | M5: ='תקציב החברה לפיתוח 2019'!Z31+'תקציב החברה לפיתוח 2019'!Z29 -> 4672540 | O5: =SUM(C5:N5) -> 78185153
B6: אגף ת.ב.ל | E6: ='תקציב אגף ת.ב.ל 2019'!Z53+'תקציב אגף ת.ב.ל 2019'!Z58+'תקציב אגף ת.ב.ל 2019'!Z62 -> 9221300 | O6: =SUM(C6:N6) -> 9221300
B7: אגף בטחון פיקוח וסדר ציבורי | O7: =SUM(C7:N7) -> 0
B8: אגף החינוך | E8: ='תקציב אגף חינוך 2019'!Z24 -> 78000 | I8: ='תקציב אגף חינוך 2019'!Z28 -> 4800000 | O8: =SUM(C8:N8) -> 4878000
B9: אגף ת.נ.ו.ס | O9: =SUM(C9:N9) -> 0
B10: אגף ש.א.י.פ.ה | D10: ='תקציב אגף שאיפה 2019'!Z23+'תקציב אגף שאיפה 2019'!Z35 -> 1140000 | N10: ='תקציב אגף שאיפה 2019'!Z13 -> 16350000 | O10: =SUM(C10:N10) -> 17490000
B11: רשות החופים | L11: ='תקציב רשות החופים 2019'!Z22+'תקציב רשות החופים 2019'!Z23+'תקציב רשות החופים 2019'!Z24 -> 196159 | O11: =SUM(C11:N11) -> 196159
B12: החברה לפיתוח תיירות | G12: ='תקציב החברה לתירות 2019'!Z10 -> 4800000 | O12: =SUM(C12:N12) -> 4800000
B13: אגף תקשוב ומע. מידע | H13: ='תקציב אגף תקשוב 2019'!Z13 -> 3000000 | O13: =SUM(C13:N13) -> 3000000
B14: אגף נכסים וביטוח | O14: =SUM(C14:N14) -> 0
B15: מינהל כללי | O15: =SUM(C15:N15) -> 0
B16: סה"כ | C16: =SUM(C4:C15) -> 66237613 | D16: =SUM(D4:D15) -> 1140000 | E16: =SUM(E4:E15) -> 9299300 | F16: =SUM(F4:F15) -> 0 | G16: =SUM(G4:G15) -> 4800000 | H16: =SUM(H4:H15) -> 3000000 | I16: =SUM(I4:I15) -> 4800000 | J16: =SUM(J4:J15) -> 1579577 | ... O16: =SUM(O4:O15) -> 120645189
J19: =J16+E16+#REF!+Q16+H16+F16 -> #REF! | K19: =K16+F16+D16+C16+I16+G16 -> 84252613

Sheet תרשים מקורות מימון

Sheet הנדסה 2019
C3: מינהל הנדסה
B5: ü | C5: סך התקציב הנדרש בשנת 2019 ע"י מינהל הנדסה מסתכם ב - | H5: ='תקציב הנדסה 2019'!U104 -> 42416580
B7: ü | C7: מספר הפרויקטים המטופל ע"י אגף הנדסה : | H7: ='תקציב הנדסה 2019'!A104 -> 98
B9: ü | C9: מקורות מימון לפרויקטים :
C11: מקורות מימון | E11: סכום | H11: אחוז
C12: קרן עבודות פיתוח | E12: ='תקציב הנדסה 2019'!V104/1000 -> 39542.003 | H12: =E12/$E$14 -> 0.93222987
C13: אחרים | E13: ='תקציב הנדסה 2019'!Z104/1000 -> 2874.577 | H13: =E13/$E$14 -> 0.067770127
C14: סה"כ | E14: =SUM(E12:E13) -> 42416.58 | H14: =E14/$E$14 -> 1
C16: ü | D16: עדכון שם תב"ר : מסומן (*)
D18: תב"ר 626 : תכנון ועדכון תוכנית אב לשבילי אופניים - תכנון וביצוע תוכנית אב לשבילי אופניים.
D20: תב"ר 1409 : חידוש תוקף תוכנית מתאר - תוכנית המיתאר הכוללנית.
D22: תב"ר 1527 : הר' 2159 התחדשות עירונית יד התשעה - התחדשות עירונית יד התשעה.
D24: תב"ר 1620 : קשר גשר - תכנון חיבוריות בין מזרח ומערב.
D26: תב"ר 1759 : תוכנית אסטרטגית להתייעלות עירונית במרכז העיר - תוכנית אסטרטגית להתייעלות
D27: עירונית במרכז העיר ובשכונות.
D29: תב"ר 1760 : תוכנית אסטרטגית להתייעלות עירונית באיזור התעשייה - תוכנית אסטרטגית באיזור
D30: התעשייה.
D32: תב"ר 1952 : איצטדיון כדורסל - היכל ספורט רב תכליתי.
C34: ü | D34: תאור הפרויקטים מובא בעמודים 36 -28

Sheet הנדסה 2019 (2)
C3: מינהל הנדסה
B5: ü | C5: פרויקטים עיקריים בשנת 2019 :
D7: פרויקט | E7: סכום
D8: החלפת קו ניקוז בדוד המלך | E8: 7500000
D9: פיתוח מתחם המכללות הר' 1920/1 | E9: 6000000
D10: מערכת בקרת רמזורים | E10: 4800000
D11: מתחם הבריגדה מתחם הר' 1960 | E11: 3900000
D12: תוכנית המתאר הכוללנית | E12: 2680000
D13: פינוי בינוי סוקולוב - רח' ירושלים | E13: 2008338
D14: מתחם יהודה המכבי וזוהר טל | E14: 2000000
D15: תכנון חניון מרינה לי | E15: 2000000
D16: תכנון שצ"פים במתחם הר' 1960 | E16: 1200000
D17: פיתוח שצ"פים מורדי הגטאות | E17: 1100000
D19: פרויקט : ז'בוטינסקי אלתרמן הבריגדה
D35: לקראת סיום

Sheet תקציב הנדסה 2019
A2: מינהל הנדסה
A4: מס' סידורי | B4: מס' תב"ר | C4: שם תב"ר | D4: אומדן כולל לפרוקט | E4: אומדן מאושר במועצה | F4: תוספת לאומדן לאישור המועצה | G4: תקציב מאושר | H4: ביצוע בפועל | I4: שריון מערך חוזים | J4: שריון מערך רכש | K4: סה"כ שריון התחייבויות | L4: סה"כ ביצוע | M4: יתרה לביצוע צפוי עד 31.12.2018 | N4: אומדן לביצוע שנת 2019 | O4: אומדן לביצוע שנת 2020 ואילך | P4: יתרת תקציב | Q4: תקציב נוסף נדרש במסגרת תוכנית עבודה 2018 | R4: תקציב נוסף נדרש מעבר לתוכנית עבודה 2018 | S4: סה"כ תקציב נוסף נדרש 2018 | T4: יתרת תקציב פנויה 31.12.2018 | U4: תקציב נדרש 2019 | V4: קרן עבודות פיתוח | W4: קרן עודפי תקציב רגיל | X4: קרן רכוש | Y4: קרן ייעודית | Z4: אחרים | AA4: תאור הפרויקט | AB4: פרק תב"ר
A6: =A5+1 -> 1 | B6: 179 | C6: יעודי קרקע -מפת בסיס | D6: =3200000-200000 -> 3000000 | E6: 3000000 | F6: =D6-E6 -> 0 | G6: 2870250 | H6: 2782107 | J6: 65735 | K6: =SUM(I6:J6) -> 65735 | L6: =H6+K6 -> 2847842 | M6: =P6+S6 -> 22408 | N6: =150000-50000 -> 100000 | O6: =D6-L6-M6-N6 -> 29750 | P6: =G6-L6 -> 22408 | S6: =SUM(Q6:R6) -> 0 | T6: =P6-M6+S6 -> 0 | U6: =N6-T6 -> 100000 | V6: =U6-Z6-W6-Y6 -> 100000 | AA6: עדכון מע. מידע הנדסי כתוצאה משינוי ייעודי קרקע עקב החלטות ועדות התכנון. | AB6: 732000
A7: =A6+1 -> 2 | B7: 304 | C7: פיתוח פארק הבאסה | D7: =54950000-20000 -> 54930000 | E7: 54950000 | F7: =D7-E7 -> -20000 | G7: 54950000 | H7: 54780523 | I7: 149074.13 | K7: =SUM(I7:J7) -> 149074.13 | L7: =H7+K7 -> 54929597 | M7: =P7+S7-20000 -> 403.26 | O7: =D7-L7-M7-N7 -> 0 | P7: =G7-L7 -> 20403.26 | S7: =SUM(Q7:R7) -> 0 | T7: =P7-M7+S7 -> 20000 | U7: =N7-T7 -> -20000 | V7: =U7-Z7-W7-Y7 -> -20000 | AB7: 746000
A8: =A7+1 -> 3 | B8: 507 | C8: החלפת מדרכות | D8: 2310000 | E8: 2310000 | F8: =D8-E8 -> 0 | G8: 1765000 | H8: 1653104.2 | K8: =SUM(I8:J8) -> 0 | L8: =H8+K8 -> 1653104.2 | M8: =P8+S8 -> 111895.77 | N8: =100000-50000 -> 50000 | O8: =D8-L8-M8-N8 -> 495000 | P8: =G8-L8 -> 111895.77 | S8: =SUM(Q8:R8) -> 0 | T8: =P8-M8+S8 -> 0 | U8: =N8-T8 -> 50000 | V8: =U8-Z8-W8-Y8 -> 50000 | AA8: ביצוע עבודות מדרכות לאחר השלמת עבודות בניה כתוצאה מהיתרים. | AB8: 742000
A9: =A8+1 -> 4 | B9: 546 | C9: מתחם הגאון מוילנא חתם סופר | D9: =5850000-2930000 -> 2920000 | E9: 5850000 | F9: =D9-E9 -> -2930000 | G9: 2950000 | H9: 2895703.4 | J9: 18053 | K9: =SUM(I9:J9) -> 18053 | L9: =H9+K9 -> 2913756.4 | M9: =P9+S9-30000 -> 6243.6 | O9: =D9-L9-M9-N9 -> 0 | P9: =G9-L9 -> 36243.6 | S9: =SUM(Q9:R9) -> 0 | T9: =P9-M9+S9 -> 30000 | U9: =N9-T9 -> -30000 | V9: =U9-Z9-W9-Y9 -> -30000 | AB9: 742000
A10: =A9+1 -> 5 | B10: 592 | C10: מתחם הבריגדה מתחם הר' 1960 | D10: 54893000 | E10: 54893000 | F10: =D10-E10 -> 0 | G10: =18420000+300000 -> 18720000 | H10: 17302170 | I10: 149113.19 | J10: 14350 | K10: =SUM(I10:J10) -> 163463.19 | L10: =H10+K10 -> 17465634 | M10: =P10+S10 -> 1254366.5 | N10: =3500000+400000 -> 3900000 | O10: =D10-L10-M10-N10 -> 32273000 | P10: =G10-L10 -> 1254366.5 | S10: =SUM(Q10:R10) -> 0 | T10: =P10-M10+S10 -> 0 | U10: =N10-T10 -> 3900000 | V10: =U10-Z10-W10-Y10 -> 3900000 | AA10: ביצוע עבודות סלילה ופיתוח סופי רח' דן שומרון. פיתוח שצ"פ האקליפטוס. תכנון רח' דורי. | AB10: 742000
A11: =A10+1 -> 6 | B11: 608 | C11: עבודות ניקוז בעיר | D11: 8300000 | E11: 8300000 | F11: =D11-E11 -> 0 | G11: 6250000 | H11: 5146280 | J11: 76278 | K11: =SUM(I11:J11) -> 76278 | L11: =H11+K11 -> 5222558 | M11: =P11+S11-650000 -> 377442 | N11: 600000 | O11: =D11-L11-M11-N11 -> 2100000 | P11: =G11-L11 -> 1027442 | S11: =SUM(Q11:R11) -> 0 | T11: =P11-M11+S11 -> 650000 | U11: =N11-T11 -> -50000 | V11: =U11-Z11-W11-Y11 -> -50000 | AA11: סל עבודות ניקוז ברחבי העיר . | AB11: 745000
A12: =A11+1 -> 7 | B12: 626 | C12: תכנון ועדכון וביצוע תוכנית אב לשבילי אופניים (*) עדכון שם | D12: 20025000 | E12: 20025000 | F12: =D12-E12 -> 0 | G12: 14525000 | H12: 13533711 | I12: 151233.86 | J12: 45309 | K12: =SUM(I12:J12) -> 196542.86 | L12: =H12+K12 -> 13730254 | M12: =P12+S12-500000 -> 294746.14 | N12: =3325000-1000000 -> 2325000 | O12: =D12-L12-M12-N12 -> 3675000 | P12: =G12-L12 -> 794746.14 | S12: =SUM(Q12:R12) -> 0 | T12: =P12-M12+S12 -> 500000 | U12: =N12-T12 -> 1825000 | V12: =U12-Z12-W12-Y12 -> 1475000 | Z12: =175000+175000 -> 350000 | AA12: תכנון שבילי אופנים וביצוע ברחבי העיר. מימון מ. התחבורה. | AB12: 732000
A13: =A12+1 -> 8 | B13: 631 | C13: מתחם רחוב משה | D13: =9005000-1946000 -> 7059000 | E13: 9005000 | F13: =D13-E13 -> -1946000 | G13: 7305000 | H13: 7030689.3 | J13: 27554.53 | K13: =SUM(I13:J13) -> 27554.53 | L13: =H13+K13 -> 7058243.9 | M13: =P13+S13-246000 -> 756.15 | O13: =D13-L13-M13-N13 -> 0 | P13: =G13-L13 -> 246756.15 | S13: =SUM(Q13:R13) -> 0 | T13: =P13-M13+S13 -> 246000 | U13: =N13-T13 -> -246000 | V13: =U13-Z13-W13-Y13 -> -246000 | AB13: 742000
A14: =A13+1 -> 9 | B14: 638 | C14: פיתוח מתחם רזיאל מע' תב"ע 1706 | D14: 7000000 | E14: 7000000 | F14: =D14-E14 -> 0 | G14: 4600000 | H14: 3454839 | I14: 74548.7 | J14: 7765.64 | K14: =SUM(I14:J14) -> 82314.34 | L14: =H14+K14 -> 3537153.3 | M14: =P14+S14 -> 1062846.7 | O14: =D14-L14-M14-N14 -> 2400000 | P14: =G14-L14 -> 1062846.7 | S14: =SUM(Q14:R14) -> 0 | T14: =P14-M14+S14 -> 0 | U14: =N14-T14 -> 0 | V14: =U14-Z14-W14-Y14 -> 0 | AA14: פיתוח ברח' העפרוני וזאב במתחם. אומדן ביצוע כולל תאורה וסלילת רחוב משולב . | AB14: 742000
A15: =A14+1 -> 10 | B15: 1018 | C15: מחלף הרב מכר | D15: 31900000 | E15: 31900000 | F15: =D15-E15 -> 0 | G15: 5100000 | H15: 3059586.8 | I15: 84192.99 | J15: 4379.93 | K15: =SUM(I15:J15) -> 88572.92 | L15: =H15+K15 -> 3148159.7 | M15: =P15+S15-1000000-750000 -> 201840.29 | N15: =2000000-250000 -> 1750000 | O15: =D15-L15-M15-N15 -> 26800000 | P15: =G15-L15 -> 1951840.3 | S15: =SUM(Q15:R15) -> 0 | T15: =P15-M15+S15 -> 1750000 | U15: =N15-T15 -> 0 | V15: =U15-Z15-W15-Y15 -> 0 | AA15: פרויקט ממשלתי המתוקצב ע"י המדינה במקביל לרשות. הביצוע העירוני מתעכב עקב בעית פולש. | AB15: 742000
A16: =A15+1 -> 11 | B16: 1100 | C16: תכנון מתחם הר' 2200 | D16: 7000000 | E16: 7000000 | F16: =D16-E16 -> 0 | G16: 5600000 | H16: 2706855.1 | I16: 2159838.6 | J16: 155452.21 | K16: =SUM(I16:J16) -> 2315290.8 | L16: =H16+K16 -> 5022145.9 | M16: =P16+S16 -> 577854.06 | N16: 300000 | O16: =D16-L16-M16-N16 -> 1100000 | P16: =G16-L16 -> 577854.06 | S16: =SUM(Q16:R16) -> 0 | T16: =P16-M16+S16 -> 0 | U16: =N16-T16 -> 300000 | V16: =U16-Z16-W16-Y16 -> 300000 | AA16: תכנון מתחם חוף התכלת. יש עתירה של בעלי הקרקע הפרטיים על השתהות בקידום התוכנית . לו"ז מאי 2019. | AB16: 732000
A17: =A16+1 -> 12 | B17: 1129 | C17: עבודות פיתוח ותשתיות קטנות | D17: 7000000 | E17: 7000000 | F17: =D17-E17 -> 0 | G17: 5991771 | H17: 5044953.6 | J17: 55293.76 | K17: =SUM(I17:J17) -> 55293.76 | L17: =H17+K17 -> 5100247.4 | M17: =P17+S17-750000 -> 141523.61 | N17: 750000 | O17: =D17-L17-M17-N17 -> 1008229 | P17: =G17-L17 -> 891523.61 | S17: =SUM(Q17:R17) -> 0 | T17: =P17-M17+S17 -> 750000 | U17: =N17-T17 -> 0 | V17: =U17-Z17-W17-Y17 -> 0 | AA17: סל עבודות פיתוח קטנות מזדמנות הנדרשות במהלך השנה. | AB17: 742000
A18: =A17+1 -> 13 | B18: 1220 | C18: תכנונים כלליים | D18: 7000000 | E18: 7000000 | F18: =D18-E18 -> 0 | G18: 5600000 | H18: 4415045 | I18: 45396 | J18: 548104 | K18: =SUM(I18:J18) -> 593500 | L18: =H18+K18 -> 5008545 | M18: =P18+S18 -> 591455 | N18: =400000+300000 -> 700000 | O18: =D18-L18-M18-N18 -> 700000 | P18: =G18-L18 -> 591455 | S18: =SUM(Q18:R18) -> 0 | T18: =P18-M18+S18 -> 0 | U18: =N18-T18 -> 700000 | V18: =U18-Z18-W18-Y18 -> 700000 | AA18: סל תכנון של תוכניות ופרויקטים, מדידות ותכנון ראשוני. | AB18: 732000
A19: =A18+1 -> 14 | B19: 1314 | C19: רח' גבעת החלומות פיתוח | D19: =3500000-300000 -> 3200000 | E19: 3200000 | F19: =D19-E19 -> 0 | G19: 400000 | H19: 359314.49 | K19: =SUM(I19:J19) -> 0 | L19: =H19+K19 -> 359314.49 | M19: =P19+S19 -> 40685.51 | N19: =100000+150000 -> 250000 | O19: =D19-L19-M19-N19 -> 2550000 | P19: =G19-L19 -> 40685.51 | S19: =SUM(Q19:R19) -> 0 | T19: =P19-M19+S19 -> 0 | U19: =N19-T19 -> 250000 | V19: =U19-Z19-W19-Y19 -> 250000 | AA19: פיתוח רחוב גבעת החלומות לרבות עבודות ניקוז ותאורה. | AB19: 742000
A20: =A19+1 -> 15 | B20: 1320 | C20: פארק הבאסה שלב ב' | D20: 23500000 | E20: 23500000 | F20: =D20-E20 -> 0 | G20: 21550000 | H20: 21339439 | I20: 204226.2 | K20: =SUM(I20:J20) -> 204226.2 | L20: =H20+K20 -> 21543665 | M20: =P20+S20 -> 6334.72 | N20: =1800000-1800000 -> 0 | O20: =D20-L20-M20-N20 -> 1950000 | P20: =G20-L20 -> 6334.72 | S20: =SUM(Q20:R20) -> 0 | T20: =P20-M20+S20 -> 0 | U20: =N20-T20 -> 0 | V20: =U20-Z20-W20-Y20 -> 0 | AB20: 746000
A21: =A20+1 -> 16 | B21: 1322 | C21: מתחם נוף ים פיתוח | D21: 18500000 | E21: 18500000 | F21: =D21-E21 -> 0 | G21: =11400000-350000 -> 11050000 | H21: 9625168.6 | I21: 92414.99 | K21: =SUM(I21:J21) -> 92414.99 | L21: =H21+K21 -> 9717583.6 | M21: =P21+S21-1200000 -> 132416.42 | N21: =4000000-3000000 -> 1000000 | O21: =D21-L21-M21-N21 -> 7650000 | P21: =G21-L21 -> 1332416.4 | S21: =SUM(Q21:R21) -> 0 | T21: =P21-M21+S21 -> 1200000 | U21: =N21-T21 -> -200000 | V21: =U21-Z21-W21-Y21 -> -200000 | AA21: פיתוח הרחובות משער הים צפונה - תשתיות תאורה וגינון, הנשיא והתאנה. | AB21: 742000
A22: =A21+1 -> 17 | B22: 1324 | C22: שצ"פ אל על והמינהרה | D22: 180000 | E22: 180000 | F22: =D22-E22 -> 0 | G22: 180000 | H22: 120629.48 | J22: 56544 | K22: =SUM(I22:J22) -> 56544 | L22: =H22+K22 -> 177173.48 | M22: =P22+S22 -> 2826.52 | O22: =D22-L22-M22-N22 -> 0 | P22: =G22-L22 -> 2826.52 | S22: =SUM(Q22:R22) -> 0 | T22: =P22-M22+S22 -> 0 | U22: =N22-T22 -> 0 | V22: =U22-Z22-W22-Y22 -> 0 | AB22: 742000
A23: =A22+1 -> 18 | B23: 1357 | C23: ספורטק שלב ג' | D23: 25000000 | E23: 25000000 | F23: =D23-E23 -> 0 | G23: 12612000 | H23: 12420746 | I23: 118498.13 | K23: =SUM(I23:J23) -> 118498.13 | L23: =H23+K23 -> 12539244 | M23: =P23+S23 -> 72755.73 | N23: =6500000-6500000 -> 0 | O23: =D23-L23-M23-N23 -> 12388000 | P23: =G23-L23 -> 72755.73 | S23: =SUM(Q23:R23) -> 0 | T23: =P23-M23+S23 -> 0 | U23: =N23-T23 -> 0 | V23: =U23-Z23-W23-Y23 -> 0 | AB23: 829000
A24: =A23+1 -> 19 | B24: 1363 | C24: מתחם יהודה המכבי וזוהר טל | D24: 15500000 | E24: 15500000 | F24: =D24-E24 -> 0 | G24: 6050000 | H24: 898457 | I24: 91890.9 | J24: 402974 | K24: =SUM(I24:J24) -> 494864.9 | L24: =H24+K24 -> 1393321.9 | M24: =P24+S24-4000000 -> 656678.1 | N24: 6000000 | O24: =D24-L24-M24-N24 -> 7450000 | P24: =G24-L24 -> 4656678.1 | S24: =SUM(Q24:R24) -> 0 | T24: =P24-M24+S24 -> 4000000 | U24: =N24-T24 -> 2000000 | V24: =U24-Z24-W24-Y24 -> 2000000 | AA24: פיתוח מתחם הרחובות יהודה המכבי, זוהר טל, האצל, הגבורה. תכנון ותחילת ביצוע. | AB24: 742000
A25: =A24+1 -> 20 | B25: 1366 | C25: ליווי תשתיות לאומיות | D25: 1500000 | E25: 1500000 | F25: =D25-E25 -> 0 | G25: 916000 | H25: 738983 | J25: 7821 | K25: =SUM(I25:J25) -> 7821 | L25: =H25+K25 -> 746804 | M25: =P25+S25-70000 -> 99196 | O25: =D25-L25-M25-N25 -> 654000 | P25: =G25-L25 -> 169196 | S25: =SUM(Q25:R25) -> 0 | T25: =P25-M25+S25 -> 70000 | U25: =N25-T25 -> -70000 | V25: =U25-Z25-W25-Y25 -> -70000 | AA25: ליווי יועצי תנועה, איכות הסביבה, במסגרת סלילת כביש 531 וכביש 20. | AB25: 742000
A26: =A25+1 -> 21 | B26: 1406 | C26: שימור אתרים | D26: =1400000+250000-350000 -> 1300000 | E26: 1300000 | F26: =D26-E26 -> 0 | G26: =1000000+300000 -> 1300000 | H26: 694328 | I26: 126373 | J26: 12432.48 | K26: =SUM(I26:J26) -> 138805.48 | L26: =H26+K26 -> 833133.48 | M26: =P26+S26 -> 466866.52 | O26: =D26-L26-M26-N26 -> 0 | P26: =G26-L26 -> 466866.52 | S26: =SUM(Q26:R26) -> 0 | T26: =P26-M26+S26 -> 0 | U26: =N26-T26 -> 0 | V26: =U26-Z26-W26-Y26 -> 0 | AA26: הכנת תב"עות לשימור אתרים. | AB26: 732000
A27: =A26+1 -> 22 | B27: 1407 | C27: תב"עות קטנות | D27: =6395000-1500000 -> 4895000 | E27: 4895000 | F27: =D27-E27 -> 0 | G27: 3495000 | H27: 2371902 | I27: 111224.98 | J27: 773210 | K27: =SUM(I27:J27) -> 884434.98 | L27: =H27+K27 -> 3256337 | M27: =P27+S27 -> 438663.02 | N27: =1000000-500000 -> 500000 | O27: =D27-L27-M27-N27 -> 700000 | P27: =G27-L27 -> 238663.02 | Q27: 200000 | S27: =SUM(Q27:R27) -> 200000 | T27: =P27-M27+S27 -> 0 | U27: =N27-T27 -> 500000 | V27: =U27-Z27-W27-Y27 -> 500000 | AA27: סל תכנון של תב"עות הנדרשות במהלך השנה. | AB27: 732000
A28: =A27+1 -> 23 | B28: 1408 | C28: תב"ע שיקום חופי הרצליה | D28: 1000000 | E28: 1000000 | F28: =D28-E28 -> 0 | G28: 100000 | H28: 0 | K28: =SUM(I28:J28) -> 0 | L28: =H28+K28 -> 0 | M28: =P28+S28 -> 200000 | N28: =300000-300000 -> 0 | O28: =D28-L28-M28-N28 -> 800000 | P28: =G28-L28 -> 100000 | Q28: 100000 | S28: =SUM(Q28:R28) -> 100000 | T28: =P28-M28+S28 -> 0 | U28: =N28-T28 -> 0 | V28: =U28-Z28-W28-Y28 -> 0 | AA28: טיפול תכנוני בהגנה על המצוקים מפני התמוטטות. | AB28: 732000
A29: =A28+1 -> 24 | B29: 1409 | C29: חידוש תוקף תכנית המתאר תוכנית המתאר הכוללנית (*) עדכון שם | D29: 7680000 | E29: 7300000 | F29: =D29-E29 -> 380000 | G29: =4000000+1000000 -> 5000000 | H29: 2980349 | I29: 558899.5 | J29: 324383 | K29: =SUM(I29:J29) -> 883282.5 | L29: =H29+K29 -> 3863631.5 | M29: =P29+S29-1000000 -> 136368.5 | N29: =3300000+380000 -> 3680000 | O29: =D29-L29-M29-N29 -> 0 | P29: =G29-L29 -> 1136368.5 | S29: =SUM(Q29:R29) -> 0 | T29: =P29-M29+S29 -> 1000000 | U29: =N29-T29 -> 2680000 | V29: =U29-Z29-W29-Y29 -> 2680000 | AA29: הכנת תוכנית מתאר כוללנית על מנת לאפשר לעיריה לתכנן תוכניות בסמכות וועדה מקומית. | AB29: 732000
A30: =A29+1 -> 25 | B30: 1457 | C30: ליווי "מהיר" לעיר | D30: 1100000 | E30: 1100000 | F30: =D30-E30 -> 0 | G30: 430000 | H30: 157316 | J30: 44257 | K30: =SUM(I30:J30) -> 44257 | L30: =H30+K30 -> 201573 | M30: =P30+S30 -> 228427 | N30: =670000-170000-500000 -> 0 | O30: =D30-L30-M30-N30 -> 670000 | P30: =G30-L30 -> 228427 | S30: =SUM(Q30:R30) -> 0 | T30: =P30-M30+S30 -> 0 | U30: =N30-T30 -> 0 | V30: =U30-Z30-W30-Y30 -> 0 | AA30: העסקת צוות יועצים שילווה את התכנון והביצוע של הפרויקט. | AB30: 742000
A31: =A30+1 -> 26 | B31: 1466 | C31: תמ"א 38 | D31: 2200000 | E31: 2200000 | F31: =D31-E31 -> 0 | G31: 1500000 | H31: 1161644 | J31: 110168 | K31: =SUM(I31:J31) -> 110168 | L31: =H31+K31 -> 1271812 | M31: =P31+S31-100000 -> 128188 | N31: =200000+50000 -> 250000 | O31: =D31-L31-M31-N31 -> 550000 | P31: =G31-L31 -> 228188 | S31: =SUM(Q31:R31) -> 0 | T31: =P31-M31+S31 -> 100000 | U31: =N31-T31 -> 150000 | V31: =U31-Z31-W31-Y31 -> 150000 | AA31: העצמת הזכויות הנוספות לבנינים לצורך הגברת הכדאיות של ביצוע חיזוק מבנים. | AB31: 732000
A32: =A31+1 -> 27 | B32: 1511 | C32: פתוח קטעי רח' דרך ירושלים גולומב | D32: 960000 | E32: 960000 | F32: =D32-E32 -> 0 | G32: 100000 | H32: 17284 | K32: =SUM(I32:J32) -> 0 | L32: =H32+K32 -> 17284 | M32: =P32+S32 -> 82716 | O32: =D32-L32-M32-N32 -> 860000 | P32: =G32-L32 -> 82716 | S32: =SUM(Q32:R32) -> 0 | T32: =P32-M32+S32 -> 0 | U32: =N32-T32 -> 0 | V32: =U32-Z32-W32-Y32 -> 0 | AA32: הקמת חניות והסדרים גיאומטרים ליד מבנה לזכר השואה שיוקם ע"י היזם (ליאור דינור ואחרים). מימון היזם מובטח בערבות. | AB32: 742000
A33: =A32+1 -> 28 | B33: 1527 | C33: הר' 2159 התחדשות עירונית יד התשעה (*) עדכון שם | D33: 3000000 | E33: 3000000 | F33: =D33-E33 -> 0 | G33: 1500000 | H33: 821144.02 | J33: 1431 | K33: =SUM(I33:J33) -> 1431 | L33: =H33+K33 -> 822575.02 | M33: =P33+S33-650000 -> 27424.98 | N33: =1000000-1000000 -> 0 | O33: =D33-L33-M33-N33 -> 2150000 | P33: =G33-L33 -> 677424.98 | S33: =SUM(Q33:R33) -> 0 | T33: =P33-M33+S33 -> 650000 | U33: =N33-T33 -> -650000 | V33: =U33-Z33-W33-Y33 -> -650000 | AA33: תכנון התחדשות עירונית ביד התשעה. | AB33: 732000
A34: =A33+1 -> 29 | B34: 1529 | C34: הוצאות בקשר עם תביעות סעיף 197 | D34: =350000+50000 -> 400000 | E34: 350000 | F34: =D34-E34 -> 50000 | G34: =200000+100000+50000 -> 350000 | H34: 183866.55 | K34: =SUM(I34:J34) -> 0 | L34: =H34+K34 -> 183866.55 | M34: =P34+S34 -> 166133.45 | N34: 50000 | O34: =D34-L34-M34-N34 -> 0 | P34: =G34-L34 -> 166133.45 | S34: =SUM(Q34:R34) -> 0 | T34: =P34-M34+S34 -> 0 | U34: =N34-T34 -> 50000 | V34: =U34-Z34-W34-Y34 -> 50000 | AA34: סל הוצאות בקשר עם תביעות סעיף 197. | AB34: 760000
A35: =A34+1 -> 30 | B35: 1551 | C35: צפון הרצליה הר' 2035 | D35: =1225240-700000 -> 525240 | E35: 225240 | F35: =D35-E35 -> 300000 | G35: 225240 | H35: 204671 | J35: 19855 | K35: =SUM(I35:J35) -> 19855 | L35: =H35+K35 -> 224526 | M35: =P35+S35 -> 714 | N35: =800000-500000 -> 300000 | O35: =D35-L35-M35-N35 -> 0 | P35: =G35-L35 -> 714 | S35: =SUM(Q35:R35) -> 0 | T35: =P35-M35+S35 -> 0 | U35: =N35-T35 -> 300000 | V35: =U35-Z35-W35-Y35 -> 300000 | AA35: הערכות להתנגדות לתוכנית שמקדם מינהל התכנון והועדה המחוזית לכל צפון הרצליה ללא שיתוף העירייה. | AB35: 732000
