Workbook
Name Print_Area_0: 'הנדסה 2018'!$A$2:$AO$102
Name Print_Area_0_0: 'הנדסה 2018'!$A$2:$AO$102
Name Print_Titles_0: 'הנדסה 2018'!$3:$6
Name Print_Titles_0_0: 'הנדסה 2018'!$3:$6

Sheet תקציב 2019
A5: הצעת התקציב הבלתי רגיל
A6: לשנת 2019
H29: טבת תשע"ט , דצמבר 2018
H30: עירית הרצליה/המינהל הכספי - אגף חוזים ותב"ר

Sheet תוכן ענינים
B2: תוכן | H2: עמודים
B4: מבוא | H4: 3
B5: התקציב הבלתי רגיל לשנת 2018 – ביצוע | H5: 4
B6: הצעת התקציב הבלתי רגיל לשנת 2019
B7: ריכוזים ודברי הסבר | H7: 5-16
B8: מינהל הנדסה | H8: 17-36
B9: החברה לפיתוח הרצליה | H9: 37-60
B10: אגף ת.ב.ל | H10: 61-72
B11: אגף בטחון פיקוח וסדר ציבורי | H11: 73-74
B12: אגף חינוך | H12: 75-77
B13: אגף ת.נ.ו.ס | H13: 78-79
B14: אגף ש.א.י.פ.ה | H14: 80-90
B15: רשות החופים | H15: 91-93
B16: החברה לפיתוח התיירות הרצליה | H16: 94-95
B17: אגף תקשוב ומערכות מידע | H17: 96-99
B18: אגף נכסים וביטוח | H18: 100-102
... B21: פרויקטים בביצוע החברה לפיתוח | H21: 139-140

Sheet מבוא
A4: 1. | B4: 1. | C4: מבוא
A6: 1.1 | C6: רקע :
C7: התקציב הבלתי רגיל (תב"ר) מהווה מסגרת תקציבית שנועדה בעיקר לביצוע פרויקטים של עבודות
C8: פיתוח ותשתיות, שיפוץ ובניה , בהיקף תקציבי נכבד המבוצעות במשך תקופה ארוכה.
C10: מקורות המימון לתב"ר הינם :
B11: ü | C11: מענקים ממקורות שלטוניים ובעיקר ממשרדי ממשלה.
B12: ü | C12: מענקים ממוסדות שאינם שלטוניים כגון : מפעל הפייס ,המועצה להסדר הימורים, השתתפויות ועוד.
B13: ü | C13: מקורות עצמיים של הרשות הכוללים היטלי השבחה , היטלי פיתוח , העברות מתקציב רגיל,
C14: תרומות, מימוש נכסים.
B15: ü | C15: הלוואות לזמן ארוך.
A17: 1.2 | C17: אישור התקציב הבלתי רגיל :
C18: על פי הוראות משרד הפנים ,לכל פרויקט יש לקבוע את היקף ההשקעה ומקורות המימון.
C19: ב – 10.2.2014 אושר במליאת הכנסת חוק רשויות איתנות על פיו ניתן לרשויות איתנות המתנהלות
C20: בהתאם לקריטריונים שהוצבו , חופש פעולה בתחומים מסוימים , בין היתר בתחום התקציב.
C21: ב – 16.3.2014 הכריז משרד הפנים על עיריית הרצליה כעל עירייה איתנה.
A23: 1.3 | C23: חברי וועדת הכספים/מועצת העיר מתבקשים לאשר בזאת : | E23: באלפי ₪
B26: ü | C26: תקציב בלתי רגיל לשנת 2019 בהשקעה של | E26: ='ריכוז אגפים'!S19/1000 -> 489407.85
B28: ü | C28: לביצוע פרויקטים בשנת 2019 בסכום של | E28: ='ריכוז אגפים'!L19/1000 -> 526734.77
B30: ü | C30: מתוך אומדן כולל של הפרויקטים בסכום של | E30: ='ריכוז אגפים'!B19/1000 -> 4672611.5
B33: ü | C33: פרויקטים שהיקפם עולה על 14,750 אלפי ₪ בביצוע החברה לפיתוח הרצליה.

Sheet תקציב 2018
A2: 2. | C2: התקציב הבלתי רגיל לשנת 2018
C4: הצעת התקציב הבלתי רגיל לשנת 2018 אושרה במועצת העיר בחודש נובמבר 2017 .
C5: הצעת התקציב הבלתי רגיל לשנת 2018 הסתכמה בסכום של 537,096 אלפי ₪ .
C7: מקורות המימון באלפי ₪ היו כדלקמן -
B9: ü | C9: קרן עבודות פיתוח | D9: 237740
B10: ü | C10: קרן עודפי תקציב רגיל | D10: 27000
B11: ü | C11: קרן מכירת רכוש | D11: 1250
B12: ü | C12: קרן ייעודית מתחם גליל ים | D12: 48963
B13: ü | C13: משרדי ממשלה ואחרים | D13: 222143
C14: סה"כ | D14: =SUM(D9:D13) -> 537096
C16: להלן נתוני ביצוע באלפי ₪ של התקציב הבלתי רגיל לשנת 2018 :
C18: סה"כ תקציב | D18: קרן עבודות פיתוח | E18: קרן עודפי תקציב רגיל | F18: קרן רכוש | G18: קרן ייעודית מתחם גליל ים | H18: משרדי ממשלה ואחרים | I18: סה"כ
C19: מסגרת תוכנית פיתוח | D19: =D9 -> 237740 | E19: =D10 -> 27000 | F19: =D11 -> 1250 | G19: =D12 -> 48963 | H19: =D13 -> 222143 | I19: =SUM(D19:H19) -> 537096
C20: ביצוע כולל צפי עד 31.12.2018 | D20: ='ריכוז אגפים 2018'!AL$20/1000 -> 200361.15 | E20: ='ריכוז אגפים 2018'!AM$20/1000 -> 23520 | F20: ='ריכוז אגפים 2018'!AN$20/1000 -> 0 | G20: ='ריכוז אגפים 2018'!AO$20/1000 -> 34900 | H20: ='ריכוז אגפים 2018'!AP$20/1000 -> 68190.703 | I20: =SUM(D20:H20) -> 326971.85
C21: אחוז ביצוע | D21: =D20/D19*100 -> 84.277425 | E21: =E20/E19*100 -> 87.111111 | F21: =F20/F19*100 -> 0 | G21: =G20/G19*100 -> 71.278312 | H21: =H20/H19*100 -> 30.69676 | I21: =I20/I19*100 -> 60.87773
C22: תקציב מעבר למסגרת תוכנית הפיתוח כולל צפי עד 31.12.2018 | D22: ='ריכוז תקציב מעבר לתוכנית 2018'!AG$117/1000 -> 38848.839 | E22: ='ריכוז תקציב מעבר לתוכנית 2018'!AH$117/1000 -> 8018.307 | H22: ='ריכוז תקציב מעבר לתוכנית 2018'!AI$117/1000 -> 9131.016 | I22: =SUM(D22:H22) -> 55998.162
C23: סה"כ | D23: =D20+D22 -> 239209.99 | E23: =E20+E22 -> 31538.307 | F23: =F20+F22 -> 0 | G23: =G20+G22 -> 34900 | H23: =H20+H22 -> 77321.719 | I23: =SUM(D23:H23) -> 382970.01
C24: אחוז ביצוע | D24: =D23/D19*100 -> 100.61832 | E24: =E23/E19*100 -> 116.80854 | F24: =F23/F19*100 -> 0 | G24: =G23/G19*100 -> 71.278312 | H24: =H23/H19*100 -> 34.807182 | I24: =I23/I19*100 -> 71.303829
C26: דו"ח מפורט מובא בעמודים 106-138

Sheet תקציב 2019 
A4: 3. | C4: הצעת התקציב הבלתי רגיל לשנת 2019
G5: באלפי ₪
A7: 3.1 | C7: הצעת התקציב הבלתי רגיל מסתכמת בהשקעה של | G7: =מבוא!E26 -> 489407.85
C9: לביצוע פרויקטים בשנת 2019 בסכום של | G9: =מבוא!E28 -> 526734.77
C11: מתוך אומדן כולל של הפרויקטים בסכום של | G11: =מבוא!E30 -> 4672611.5
A15: 3.2 | C15: הפרויקטים הבולטים לשנת 2019 הינם :
B16: ü | C16: עבודות פיתוח תשתיות, פארק, מוסדות חינוך ומבני ציבור במתחם גליל ים.
B17: ü | C17: פיתוח מתחם אלוני ים הר' 2030.
B18: ü | C18: פיתוח כבישים ותשתיות אזור תעשיה מערבי.
B19: ü | C19: פיתוח מתחם המכללות הר' 1920/1 .
B20: ü | C20: פיתוח מתחם הר' 1903 .
B21: ü | C21: פיתוח מתחם נוריות.
B22: ü | C22: פיתוח רחוב צ.ה.ל.
B23: ü | C23: מרכז תחבורה חדש .
B24: ü | C24: פיתוח קמפוס יד גיורא.
B25: ü | C25: פיתוח מתנ"סים.
B26: ü | C26: פיתוח אולמות ספורט.
B27: ü | C27: המשך ההשקעות בבניה חדשה כולל שדרוגים של מוסדות חינוך ברחבי העיר.

Sheet תקציב 2019 פרקים
A5: 3.3 | C5: חלוקת העלויות בתקציב באלפי ₪ על פי פרקים עיקריים מפורטת להלן –
C7: שם פרק | E7: מס' פרק | F7: שנת 2019 | G7: שנת 2018
C8: נכסים ציבוריים | E8: 74 | F8: ='ריכוז פרקים'!S8/1000 -> 244596.68 | G8: 283583 | I8: =F8/$F$21 -> 0.49978088
C9: חינוך (*) | E9: 81 | F9: ='ריכוז פרקים'!S11/1000 -> 83574.382 | G9: 125424 | I9: =F9/$F$21 -> 0.17076633
C10: תרבות וספורט (*) | E10: 82 | F10: ='ריכוז פרקים'!S12/1000 -> 80246.2 | G10: 53300 | I10: =F10/$F$21 -> 0.1639659
C11: רווחה (*) | E11: 84 | F11: ='ריכוז פרקים'!S13/1000 -> 50 | G11: =50 -> 50 | I11: =F11/$F$21 -> 0.00010216428
C12: נכסים | E12: 93 | F12: ='ריכוז פרקים'!S18/1000 -> 12154.3 | G12: 4770 | I12: =F12/$F$21 -> 0.024834706
C13: תרבות הדיור | E13: 764 | F13: ='ריכוז פרקים'!S17/1000 -> 16350 | G13: =13700 -> 13700 | I13: =F13/$F$21 -> 0.033407719
C14: חופים | E14: 747 | F14: ='ריכוז פרקים'!S9/1000 -> 3416.159 | G14: 2734 | I14: =F14/$F$21 -> 0.0069801885
C15: תכנון בנין עיר | E15: 73 | F15: ='ריכוז פרקים'!S7/1000 -> 19720.12 | G15: 19749 | I15: =F15/$F$21 -> 0.040293837
C16: מינהל כללי | E16: 61 | F16: ='ריכוז פרקים'!S6/1000 -> 285.00006 | G16: 200 | I16: =F16/$F$21 -> 0.00058233652
C17: שרותים עירוניים שונים | E17: 76 | F17: ='ריכוז פרקים'!S10/1000 -> 13960 | G17: =21485-50 -> 21435 | I17: =F17/$F$21 -> 0.028524267
C18: מבני דת ציבוריים | E18: 85 | F18: ='ריכוז פרקים'!S14/1000 -> 5425 | G18: 2500 | I18: =F18/$F$21 -> 0.011084824
C19: טיפול במרחב ציבורי | E19: 848 | F19: ='ריכוז פרקים'!S16/1000 -> 6500 | G19: 4100 | I19: =F19/$F$21 -> 0.013281356
C20: איכות הסביבה | E20: 87 | F20: ='ריכוז פרקים'!S15/1000 -> 3130 | G20: =5551 -> 5551 | I20: =F20/$F$21 -> 0.0063954839
C21: סה"כ | F21: =SUM(F8:F20) -> 489407.85 | G21: =SUM(G8:G20) -> 537096 | I21: =SUM(I8:I20) -> 1
C23: (*) | D23: מוין מחדש בשנת 2018

Sheet תקציב 2019  אגפים 
A5: 3.4 | C5: חלוקת ההשקעה בתקציב באלפי ₪ על פי אגפים/יחידות מפורטת להלן -
C7: שם פרק | F7: שנת 2019 | G7: שנת 2018
C8: מינהל הנדסה | F8: ='ריכוז אגפים'!$S7/1000 -> 42416.58 | G8: 17142 | J8: =F8/$F$22 -> 0.086669187
C9: החברה לפיתוח הרצליה | F9: ='ריכוז אגפים'!$S8/1000 -> 309252.68 | G9: 396380.57 | J9: =F9/$F$22 -> 0.63189154
C10: אגף ת.ב.ל | F10: ='ריכוז אגפים'!$S9/1000 -> 49451.3 | G10: 49542.6 | J10: =F10/$F$22 -> 0.10104313
C11: אגף בטחון,פיקוח וסדר ציבורי | F11: ='ריכוז אגפים'!$S10/1000 -> 1660 | G11: 900 | J11: =F11/$F$22 -> 0.0033918541
C12: אגף חינוך | F12: ='ריכוז אגפים'!$S11/1000 -> 8412.1001 | G12: 2580.137 | J12: =F12/$F$22 -> 0.017188323
C13: אגף ת.נ.ו.ס | F13: ='ריכוז אגפים'!$S12/1000 -> 3120 | G13: 1480 | J13: =F13/$F$22 -> 0.006375051
C14: אגף ש.א.י.פ.ה (*) | F14: ='ריכוז אגפים'!$S13/1000 -> 36405 | G14: =20498+3211.058+13700 -> 37409.058 | J14: =F14/$F$22 -> 0.074385812
C15: רשות החופים | F15: ='ריכוז אגפים'!$S14/1000 -> 1866.159 | G15: 2734 | J15: =F15/$F$22 -> 0.0038130958
C16: איכות הסביבה (*) | G16: =3211.058-3211.058 -> 0 | J16: =F16/$F$22 -> 0
C17: החברה לפיתוח התיירות | F17: ='ריכוז אגפים'!$S15/1000 -> 7930 | G17: 9180 | J17: =F17/$F$22 -> 0.016203255
C18: אגף תקשוב ומערכות מידע | F18: ='ריכוז אגפים'!$S16/1000 -> 12925 | G18: 9860 | J18: =F18/$F$22 -> 0.026409466
C19: אגף נכסים וביטוח | F19: ='ריכוז אגפים'!$S17/1000 -> 7949.3 | G19: 3070 | J19: =F19/$F$22 -> 0.01624269
C20: שיפוץ חזיתות/עמידר (*) | G20: =13750-13750 -> 0 | J20: =F20/$F$22 -> 0
C21: כללי | F21: ='ריכוז אגפים'!$S18/1000 -> 8019.727 | G21: =6767.586+50 -> 6817.586 | J21: =F21/$F$22 -> 0.016386593
C22: סה"כ | F22: =SUM(F8:F21) -> 489407.85 | G22: =SUM(G8:G21) -> 537095.95 | J22: =SUM(J8:J21) -> 1
C24: (*) | D24: מויין מחדש בשנת 2018

Sheet תקציב 2019  מקורות 
A5: 3.5 | C5: אומדן מקורות המימון באלפי ₪ מפורט להלן -
C7: מקור | F7: שנת 2019 | G7: שנת 2018
C8: קרן לעבודות פיתוח | F8: ='תקציב 2019 קרנות הרשות'!C21 -> 290040 | G8: 237740 | J8: =F8/$F$13 -> 0.59263455
C9: קרן עודפי תקציב רגיל | F9: ='תקציב 2019 קרנות הרשות'!D21 -> 44000 | G9: 27000 | J9: =F9/$F$13 -> 0.089904566
C10: קרן רכוש | G10: 1250 | J10: =F10/$F$13 -> 0
C11: קרן יעודית מתחם גליל ים | F11: 34722.657 | G11: 48963 | J11: =F11/$F$13 -> 0.070948305
C12: סה"כ משרדי ממשלה ואחרים | F12: ='תקציב 2019 מקורות אחרים'!F14 -> 120645.19 | G12: 222143 | J12: =F12/$F$13 -> 0.24651258
C13: סה"כ | F13: =SUM(F8:F12) -> 489407.85 | G13: =SUM(G8:G12) -> 537096 | J13: =SUM(J8:J12) -> 1

Sheet תקציב 2019 קרנות הרשות
A3: 3.6 | B3: קרנות הרשות - צפי תנועה באלפי ₪
C6: שנת 2019 | F6: שנת 2018
B7: תאור | C7: קרן עבודות פיתוח | D7: קרן עודפי תקציב רגיל | E7: סה"כ | F7: קרן עבודות פיתוח | G7: קרן עודפי תקציב רגיל | H7: סה"כ
B8: מקורות
B9: יתרה צפויה 1.1 | C9: =80000+10000+6000 -> 96000 | D9: =3000+1000 -> 4000 | E9: =SUM(C9:D9) -> 100000 | F9: 60280 | G9: 7000 | H9: =SUM(F9:G9) -> 67280
B10: היטלי השבחה ופיתוח שנה שוטפת | C10: =250000-40000 -> 210000 | E10: =SUM(C10:D10) -> 210000 | F10: 193000 | H10: =SUM(F10:G10) -> 193000
E11: =SUM(C11:D11) -> 0 | H11: =SUM(F11:G11) -> 0
B12: העברה מתקציב רגיל 2017 | G12: 15000 | H12: =SUM(F12:G12) -> 15000
B13: העברה מתקציב רגיל 2018 | D13: =10000+5000+10000 -> 25000 | E13: =SUM(C13:D13) -> 25000 | H13: =SUM(F13:G13) -> 0 | K13: =140000+31553 -> 171553
B14: העברה מעודפי תקציב רגיל שנים קודמות | D14: =5000+10000 -> 15000 | E14: =SUM(C14:D14) -> 15000 | G14: 5000 | H14: =SUM(F14:G14) -> 5000
E15: =SUM(C15:D15) -> 0 | H15: =SUM(F15:G15) -> 0
B16: העמקת גביה מהיטלי פיתוח שנה שוטפת | C16: 10000 | E16: =SUM(C16:D16) -> 10000 | F16: 10000 | H16: =SUM(F16:G16) -> 10000
B17: סה"כ מקורות | C17: =SUM(C9:C16) -> 316000 | D17: =SUM(D9:D16) -> 44000 | E17: =SUM(C17:D17) -> 360000 | F17: =SUM(F9:F16) -> 263280 | G17: =SUM(G9:G16) -> 27000 | H17: =SUM(H9:H16) -> 290280
B18: שימושים | H18: =SUM(F18:G18) -> 0
B19: השתתפות בפרעון מילוות מים,ביוב ופיתוח | C19: =5900+3800+5000 -> 14700 | E19: =SUM(C19:D19) -> 14700 | F19: 12227 | H19: =SUM(F19:G19) -> 12227 | K19: =C20 -> 11260
B20: השתתפות בשכ"ע הנדסה לפיתוח ותכנון | C20: =5860+3500+1900 -> 11260 | E20: =SUM(C20:D20) -> 11260 | F20: 13313 | H20: =SUM(F20:G20) -> 13313 | K20: עודכן ב - 920 אלפי ₪ עדכון איילת 22.9.16
B21: מימון תקציב בלתי רגיל | C21: =C17-C19-C20 -> 290040 | D21: =D17-D19-D20 -> 44000 | E21: =SUM(C21:D21) -> 334040 | F21: =F17-F19-F20 -> 237740 | G21: =G17-G19-G20 -> 27000 | H21: =SUM(F21:G21) -> 264740
B22: סה"כ שימושים | C22: =C17 -> 316000 | D22: =D17 -> 44000 | E22: =SUM(C22:D22) -> 360000 | F22: =SUM(F19:F21) -> 263280 | G22: =SUM(G19:G21) -> 27000 | H22: =SUM(H19:H21) -> 290280
K23: 31.10.16: | L23: עדכון של איילת: 644 אלפי ₪ משיכה נוספת.

Sheet תקציב 2019 מקורות אחרים
A4: 3.7 | C4: סעיף מימון משרדי ממשלה ואחרים מפורט בטבלה להלן – באלפי ₪ (*)
C6: תאור | F6: שנת 2019 | G6: שנת 2018
C7: משרד התחבורה | F7: ='פרוט מקורות אחרים'!M16/1000 -> 5967.54 | G7: 8745
C8: משרד החינוך | F8: ='פרוט מקורות אחרים'!E16/1000 -> 9299.3 | G8: 29983
C9: משרד הבינוי והשיכון
C10: רשות מינהל מקרקעי ישראל | F10: ='פרוט מקורות אחרים'!C16/1000 -> 66237.613 | G10: 124916
C11: משרדי ממשלה ואחרים | F11: =('פרוט מקורות אחרים'!D16+'פרוט מקורות אחרים'!F16+'פרוט מקורות אחרים'!G16+'פרוט מקורות אחרים'!I16+'פרוט מקורות אחרים'!J16+'פרוט מקורות אחרים'!K16+'פרוט מקורות אחרים'!L16)/1000 -> 19790.736 | G11: 32499
C12: מפעל הפייס | F12: ='פרוט מקורות אחרים'!H16/1000 -> 3000 | G12: 12300
C13: הכנסות בעד עבודות | F13: ='פרוט מקורות אחרים'!N16/1000 -> 16350 | G13: 13700
C14: סה"כ | F14: =SUM(F7:F13) -> 120645.19 | G14: =SUM(G7:G13) -> 222143
B16: (*) | C16: תקצוב הפרויקטים נשוא מימון משרדי ממשלה ואחרים כמפורט לעיל מותנה בקבלת מסמך
C17: התחייבות כספית חתום על ידי מורשי חתימה של הגורם המממן.
A19: 4. | B19: תב"רים לסגירה בשנת 2016
A21: 4.1 | B21: כללי :
B22: הנחיות משרד הפנים קובעות :
B23: תב"ר שהגיע לסיומו או לא הוחל בביצועו או לא הוצאו בגינו התחייבויות כספיות , עליו להיגרע מקובץ
B24: התב"רים במערכת הכספית של הרשות המקומית.
B25: עודף סופי בחשבון התב"ר יועבר לקרנות הרשות . יש לאשר את סגירת התב"רים במועצת העיר.
A27: 4.2 | B27: במהלך שנת 2016 אושרה במועצת העיר סגירת פרויקטים שהסתיימו/לא נוצלו לשנת 2016 והחזרת
B29: עודפים לקרנות הרשות בסכום של
C30: ראה פרוט נוסף בעמוד 15
A32: 4. | B32: פרויקטים בביצוע החברה לפיתוח
B34: בהתאם לתוספת להסכם מסגרת לביצוע פרויקטים הנדסיים בין העירייה לחברה לפיתוח הרצליה
B35: מיום 10.4.2005, יש לאשר במועצת העיר את ביצוע הפרויקטים שהיקפם עולה על ערך הסף.
B36: ערך הסף נכון להיום עומד על יותר מ - 14,750 אלפי ₪.
B38: פרוט הפרויקטים מובא בעמוד 140 - 139

Sheet תרשים אגפים

Sheet ריכוז אגפים
A2: ריכוז לפי אגפים/יחידות
B4: מרכיבי העלות | R4: מקורות מימון לפרויקט | Y4: מספר פרויקטים
A5: אגף/יחידה | B5: אומדן כולל לפרויקט | C5: אומדן מאושר במועצה | D5: תוספת לאומדן לאישור מועצה | E5: תקציב מאושר | F5: ביצוע בפועל | G5: שריון מערך הרכש | H5: שריון מערך חוזים | I5: סה"כ שריון התחייבויות | J5: סה"כ ביצוע | K5: יתרה לביצוע צפוי עד 31.12.2018 | L5: אומדן לביצוע שנת 2019 | M5: אומדן לביצוע שנת 2020 ואילך | N5: יתרת תקציב | O5: תקציב נוסף נדרש במסגרת תוכנית עבודה 2018 | P5: תקציב נוסף נדרש מעבר לתוכנית עבודה2018 | Q5: סה"כ תקציב נוסף נדרש 2018 | R5: יתרת תקציב פנויה 31.12.2018 | S5: תקציב נדרש 2019 | T5: קרן עבודות פיתוח | U5: קרן עודפי תקציב רגיל | V5: קרן רכוש | W5: קרן ייעודית | X5: אחרים
A7: מינהל הנדסה | B7: ='תקציב הנדסה 2019'!D$104 -> 849930879 | C7: ='תקציב הנדסה 2019'!E$104 -> 699330541 | D7: ='תקציב הנדסה 2019'!F$104 -> 150600338 | E7: ='תקציב הנדסה 2019'!G$104 -> 324115229 | F7: ='תקציב הנדסה 2019'!H$104 -> 2.5139166e+08 | G7: ='תקציב הנדסה 2019'!I$104 -> 22234190 | H7: ='תקציב הנדסה 2019'!J$104 -> 11172991 | I7: ='תקציב הנדסה 2019'!K$104 -> 33407181 | ... X7: ='תקציב הנדסה 2019'!Z$104 -> 2874577 | Y7: ='תקציב הנדסה 2019'!A104 -> 98
A8: החברה לפיתוח הרצליה | B8: ='תקציב החברה לפיתוח 2019'!D$117 -> 2499972125 | C8: ='תקציב החברה לפיתוח 2019'!E$117 -> 2075031725 | D8: ='תקציב החברה לפיתוח 2019'!F$117 -> 424940400 | E8: ='תקציב החברה לפיתוח 2019'!G$117 -> 959889223 | F8: ='תקציב החברה לפיתוח 2019'!H$117 -> 7.2684401e+08 | G8: ='תקציב החברה לפיתוח 2019'!I$117 -> 2023721.5 | H8: ='תקציב החברה לפיתוח 2019'!J$117 -> 1.0369992e+08 | I8: ='תקציב החברה לפיתוח 2019'!K$117 -> 1.0572364e+08 | ... X8: ='תקציב החברה לפיתוח 2019'!Z$117 -> 78185153 | Y8: ='תקציב החברה לפיתוח 2019'!A117 -> 105
A9: אגף ת.ב.ל | B9: ='תקציב אגף ת.ב.ל 2019'!D$70 -> 659008945 | C9: ='תקציב אגף ת.ב.ל 2019'!E$70 -> 632243945 | D9: ='תקציב אגף ת.ב.ל 2019'!F$70 -> 26765000 | E9: ='תקציב אגף ת.ב.ל 2019'!G$70 -> 507684741 | F9: ='תקציב אגף ת.ב.ל 2019'!H$70 -> 4.3235955e+08 | G9: ='תקציב אגף ת.ב.ל 2019'!I$70 -> 18484399 | H9: ='תקציב אגף ת.ב.ל 2019'!J$70 -> 36617167 | I9: ='תקציב אגף ת.ב.ל 2019'!K$70 -> 55101566 | ... X9: ='תקציב אגף ת.ב.ל 2019'!Z$70 -> 9221300 | Y9: ='תקציב אגף ת.ב.ל 2019'!A70 -> 64
A10: אגף בטחון פיקוח וסדר ציבורי | B10: ='תקציב אגף בטחון פיקוח סד"צ 2019'!D$11 -> 3735000 | C10: ='תקציב אגף בטחון פיקוח סד"צ 2019'!E$11 -> 2225000 | D10: ='תקציב אגף בטחון פיקוח סד"צ 2019'!F$11 -> 1510000 | E10: ='תקציב אגף בטחון פיקוח סד"צ 2019'!G$11 -> 2075000 | F10: ='תקציב אגף בטחון פיקוח סד"צ 2019'!H$11 -> 1876964.3 | G10: ='תקציב אגף בטחון פיקוח סד"צ 2019'!I$11 -> 0 | H10: ='תקציב אגף בטחון פיקוח סד"צ 2019'!J$11 -> 135281.96 | I10: ='תקציב אגף בטחון פיקוח סד"צ 2019'!K$11 -> 135281.96 | ... X10: ='תקציב אגף בטחון פיקוח סד"צ 2019'!Z$11 -> 0 | Y10: ='תקציב אגף בטחון פיקוח סד"צ 2019'!A11 -> 5
A11: אגף חינוך | B11: ='תקציב אגף חינוך 2019'!D$29 -> 18230363 | C11: ='תקציב אגף חינוך 2019'!E$29 -> 11385500 | D11: ='תקציב אגף חינוך 2019'!F$29 -> 6844863.1 | E11: ='תקציב אגף חינוך 2019'!G$29 -> 9038263 | F11: ='תקציב אגף חינוך 2019'!H$29 -> 4614992.4 | G11: ='תקציב אגף חינוך 2019'!I$29 -> 0 | H11: ='תקציב אגף חינוך 2019'!J$29 -> 1851410.7 | I11: ='תקציב אגף חינוך 2019'!K$29 -> 1851410.7 | ... X11: ='תקציב אגף חינוך 2019'!Z$29 -> 4878000 | Y11: ='תקציב אגף חינוך 2019'!A29 -> 23
A12: אגף ת.נ.ו.ס | B12: ='תקציב אגף תנוס 2019'!D$16 -> 14813365 | C12: ='תקציב אגף תנוס 2019'!E$16 -> 13843365 | D12: ='תקציב אגף תנוס 2019'!F$16 -> 970000 | E12: ='תקציב אגף תנוס 2019'!G$16 -> 8328365 | F12: ='תקציב אגף תנוס 2019'!H$16 -> 6323919 | G12: ='תקציב אגף תנוס 2019'!I$16 -> 0 | H12: ='תקציב אגף תנוס 2019'!J$16 -> 660990.71 | I12: ='תקציב אגף תנוס 2019'!K$16 -> 660990.71 | ... X12: ='תקציב אגף תנוס 2019'!Z$16 -> 0 | Y12: ='תקציב אגף תנוס 2019'!A16 -> 10
A13: אגף ש.א.י.פ.ה | B13: ='תקציב אגף שאיפה 2019'!D$49 -> 231868059 | C13: ='תקציב אגף שאיפה 2019'!E$49 -> 246322059 | D13: ='תקציב אגף שאיפה 2019'!F$49 -> -14454000 | E13: ='תקציב אגף שאיפה 2019'!G$49 -> 174365579 | F13: ='תקציב אגף שאיפה 2019'!H$49 -> 1.5674888e+08 | G13: ='תקציב אגף שאיפה 2019'!I$49 -> 474201 | H13: ='תקציב אגף שאיפה 2019'!J$49 -> 12594138 | I13: ='תקציב אגף שאיפה 2019'!K$49 -> 13068339 | ... X13: ='תקציב אגף שאיפה 2019'!Z$49 -> 17490000 | Y13: ='תקציב אגף שאיפה 2019'!A49 -> 42
A14: רשות החופים | B14: ='תקציב רשות החופים 2019'!D$25 -> 7879159 | C14: ='תקציב רשות החופים 2019'!E$25 -> 9541000 | D14: ='תקציב רשות החופים 2019'!F$25 -> -1661841 | E14: ='תקציב רשות החופים 2019'!G$25 -> 5613000 | F14: ='תקציב רשות החופים 2019'!H$25 -> 4759043.3 | G14: ='תקציב רשות החופים 2019'!I$25 -> 354044.03 | H14: ='תקציב רשות החופים 2019'!J$25 -> 255698.02 | I14: ='תקציב רשות החופים 2019'!K$25 -> 609742.05 | ... X14: ='תקציב רשות החופים 2019'!Z$25 -> 196159 | Y14: ='תקציב רשות החופים 2019'!A25 -> 19
A15: החברה לפיתוח התיירות | B15: ='תקציב החברה לתירות 2019'!D$19 -> 39693000 | C15: ='תקציב החברה לתירות 2019'!E$19 -> 39693000 | D15: ='תקציב החברה לתירות 2019'!F$19 -> 0 | E15: ='תקציב החברה לתירות 2019'!G$19 -> 12130000 | F15: ='תקציב החברה לתירות 2019'!H$19 -> 10252508 | G15: ='תקציב החברה לתירות 2019'!I$19 -> 0 | H15: ='תקציב החברה לתירות 2019'!J$19 -> 0 | I15: ='תקציב החברה לתירות 2019'!K$19 -> 0 | ... X15: ='תקציב החברה לתירות 2019'!Z$19 -> 4800000 | Y15: ='תקציב החברה לתירות 2019'!A19 -> 13
A16: אגף תקשוב ומערכות מידע | B16: ='תקציב אגף תקשוב 2019'!D$14 -> 49590000 | C16: ='תקציב אגף תקשוב 2019'!E$14 -> 41510000 | D16: ='תקציב אגף תקשוב 2019'!F$14 -> 8080000 | E16: ='תקציב אגף תקשוב 2019'!G$14 -> 18048000 | F16: ='תקציב אגף תקשוב 2019'!H$14 -> 8495620.3 | G16: ='תקציב אגף תקשוב 2019'!I$14 -> 5613414 | H16: ='תקציב אגף תקשוב 2019'!J$14 -> 331169 | I16: ='תקציב אגף תקשוב 2019'!K$14 -> 5944583 | ... X16: ='תקציב אגף תקשוב 2019'!Z$14 -> 3000000 | Y16: ='תקציב אגף תקשוב 2019'!A14 -> 8
A17: אגף נכסים וביטוח | B17: ='תקציב אגף נכסים וביטוח 2019'!D$23 -> 161849000 | C17: ='תקציב אגף נכסים וביטוח 2019'!E$23 -> 158949700 | D17: ='תקציב אגף נכסים וביטוח 2019'!F$23 -> 2899300 | E17: ='תקציב אגף נכסים וביטוח 2019'!G$23 -> 86452525 | F17: ='תקציב אגף נכסים וביטוח 2019'!H$23 -> 67056335 | G17: ='תקציב אגף נכסים וביטוח 2019'!I$23 -> 0 | H17: ='תקציב אגף נכסים וביטוח 2019'!J$23 -> 36241 | I17: ='תקציב אגף נכסים וביטוח 2019'!K$23 -> 36241 | ... X17: ='תקציב אגף נכסים וביטוח 2019'!Z$23 -> 0 | Y17: ='תקציב אגף נכסים וביטוח 2019'!A23 -> 17
A18: מינהל כללי | B18: ='תקציב מינהל כללי 2019'!D$16 -> 136041606 | C18: ='תקציב מינהל כללי 2019'!E$16 -> 125991606 | D18: ='תקציב מינהל כללי 2019'!F$16 -> 10050000 | E18: ='תקציב מינהל כללי 2019'!G$16 -> 92058500 | F18: ='תקציב מינהל כללי 2019'!H$16 -> 71800967 | G18: ='תקציב מינהל כללי 2019'!I$16 -> 462414.37 | H18: ='תקציב מינהל כללי 2019'!J$16 -> 5816839.3 | I18: ='תקציב מינהל כללי 2019'!K$16 -> 6279253.6 | ... X18: ='תקציב מינהל כללי 2019'!Z$16 -> 0 | Y18: ='תקציב מינהל כללי 2019'!A16 -> 10
A19: סה"כ | B19: =SUM(B7:B18) -> 4.6726115e+09 | C19: =SUM(C7:C18) -> 4056067441 | D19: =SUM(D7:D18) -> 6.1654406e+08 | E19: =SUM(E7:E18) -> 2199798425 | F19: =SUM(F7:F18) -> 1.7425244e+09 | G19: =SUM(G7:G18) -> 49646384 | H19: =SUM(H7:H18) -> 1.7317185e+08 | I19: =SUM(I7:I18) -> 2.2281823e+08 | ... Y19: =SUM(Y7:Y18) -> 414
J20: =I19+F19 -> 1.9653427e+09 | K20: =N19+Q19-R19 -> 3.5028223e+08 | N20: =E19-J19 -> 2.3445576e+08 | R20: =N19+Q19-K19 -> 37326928 | S20: =L19-R19 -> 4.8940785e+08
S23: סה"כ | T23: קע"פ | U23: קרן עודפי ת.ר. | V23: קרן רכוש | W23: קרן ייעודית | X23: אחרים
M24: יתרת מקורות מימון | O24: יתרת מקורות מימון | S24: =SUM(T24:X24) -> 489407846 | T24: ='תקציב 2019 קרנות הרשות'!C21*1000 -> 290040000 | U24: ='תקציב 2019 קרנות הרשות'!D21*1000 -> 44000000 | V24: ='תקציב 2019 מקורות '!F10*1000 -> 0 | W24: ='תקציב 2019 מקורות '!F11*1000 -> 34722657 | X24: ='פרוט מקורות אחרים'!O16 -> 120645189
M25: הפרש עודף (חוסר) | O25: הפרש עודף (חוסר) | S25: =S24-S19 -> -0.19398665 | T25: =T24-T19 -> 0 | U25: =U24-U19 -> -0.19398665 | V25: =V24-V19 -> 0 | W25: =W24-W19 -> 0 | X25: =X24-X19 -> 0

Sheet תרשים פרקים

Sheet ריכוז פרקים
A2: ריכוז לפי פרקים
B4: מרכיבי העלות | R4: מקורות מימון לפרויקט
A5: פרק | B5: אומדן כולל לפרויקט | C5: אומדן מאושר במועצה | D5: תוספת לאומדן לאישור מועצה | E5: תקציב מאושר | F5: ביצוע בפועל | G5: שריון מערך הרכש | H5: שריון מערך חוזים | I5: סה"כ שריון התחייבויות | J5: סה"כ ביצוע | K5: יתרה לביצוע צפוי עד 31.12.2018 | L5: אומדן לביצוע שנת 2019 | M5: אומדן לביצוע שנת 2020 ואילך | N5: יתרת תקציב | O5: תקציב נוסף נדרש במסגרת תוכנית עבודה2018 | P5: תקציב נוסף נדרש מעבר לתוכנית עבודה2018 | Q5: סה"כ תקציב נוסף נדרש 2018 | R5: יתרת תקציב פנויה 31.12.2018 | S5: תקציב נדרש 2019 | T5: קרן עבודות פיתוח | U5: קרן עודפי תקציב רגיל | V5: קרן רכוש | W5: קרן ייעודית | X5: אחרים
A6: מינהל כללי (61) | B6: ='תבל 2019 פרקים'!D$7+'מחשוב 2019 פרקים'!D$7 -> 8980000 | C6: ='תבל 2019 פרקים'!E$7+'מחשוב 2019 פרקים'!E$7 -> 8820000 | D6: ='תבל 2019 פרקים'!F$7+'מחשוב 2019 פרקים'!F$7 -> 160000 | E6: ='תבל 2019 פרקים'!G$7+'מחשוב 2019 פרקים'!G$7 -> 2798000 | F6: ='תבל 2019 פרקים'!H$7+'מחשוב 2019 פרקים'!H$7 -> 2504763.1 | G6: ='תבל 2019 פרקים'!I$7+'מחשוב 2019 פרקים'!I$7 -> 136200 | H6: ='תבל 2019 פרקים'!J$7+'מחשוב 2019 פרקים'!J$7 -> 101825 | I6: ='תבל 2019 פרקים'!K$7+'מחשוב 2019 פרקים'!K$7 -> 238025 | ... X6: ='תבל 2019 פרקים'!Z$7+'מחשוב 2019 פרקים'!Z$7 -> 0
A7: תכנון ובנין עיר (73) | B7: ='הנדסה 2019 פרקים'!D$50+' החברה לפיתוח 2019 פרקים'!D$14+'תבל 2019 פרקים'!D$11+'שאיפה 2019 פרקים'!D$9+'החברה לתיירות 2019 פרקים'!D$12+'מינהל כללי 2019 פרקים'!D$7 -> 237244873 | C7: ='הנדסה 2019 פרקים'!E$50+' החברה לפיתוח 2019 פרקים'!E$14+'תבל 2019 פרקים'!E$11+'שאיפה 2019 פרקים'!E$9+'החברה לתיירות 2019 פרקים'!E$12+'מינהל כללי 2019 פרקים'!E$7 -> 217878535 | D7: ='הנדסה 2019 פרקים'!F$50+' החברה לפיתוח 2019 פרקים'!F$14+'תבל 2019 פרקים'!F$11+'שאיפה 2019 פרקים'!F$9+'החברה לתיירות 2019 פרקים'!F$12+'מינהל כללי 2019 פרקים'!F$7 -> 19366338 | E7: ='הנדסה 2019 פרקים'!G$50+' החברה לפיתוח 2019 פרקים'!G$14+'תבל 2019 פרקים'!G$11+'שאיפה 2019 פרקים'!G$9+'החברה לתיירות 2019 פרקים'!G$12+'מינהל כללי 2019 פרקים'!G$7 -> 151013117 | F7: ='הנדסה 2019 פרקים'!H$50+' החברה לפיתוח 2019 פרקים'!H$14+'תבל 2019 פרקים'!H$11+'שאיפה 2019 פרקים'!H$9+'החברה לתיירות 2019 פרקים'!H$12+'מינהל כללי 2019 פרקים'!H$7 -> 1.0990021e+08 | G7: ='הנדסה 2019 פרקים'!I$50+' החברה לפיתוח 2019 פרקים'!I$14+'תבל 2019 פרקים'!I$11+'שאיפה 2019 פרקים'!I$9+'החברה לתיירות 2019 פרקים'!I$12+'מינהל כללי 2019 פרקים'!I$7 -> 3914309 | H7: ='הנדסה 2019 פרקים'!J$50+' החברה לפיתוח 2019 פרקים'!J$14+'תבל 2019 פרקים'!J$11+'שאיפה 2019 פרקים'!J$9+'החברה לתיירות 2019 פרקים'!J$12+'מינהל כללי 2019 פרקים'!J$7 -> 11315073 | I7: ='הנדסה 2019 פרקים'!K$50+' החברה לפיתוח 2019 פרקים'!K$14+'תבל 2019 פרקים'!K$11+'שאיפה 2019 פרקים'!K$9+'החברה לתיירות 2019 פרקים'!K$12+'מינהל כללי 2019 פרקים'!K$7 -> 15229382 | ... X7: ='הנדסה 2019 פרקים'!Z$50+' החברה לפיתוח 2019 פרקים'!Z$14+'תבל 2019 פרקים'!Z$11+'שאיפה 2019 פרקים'!Z$9+'החברה לתיירות 2019 פרקים'!Z$12+'מינהל כללי 2019 פרקים'!Z$7 -> 6392117
A8: נכסים ציבוריים (74) | B8: ='הנדסה 2019 פרקים'!D$102+' החברה לפיתוח 2019 פרקים'!D$56+' החברה לפיתוח 2019 פרקים'!D$60+'תבל 2019 פרקים'!D$20+'שאיפה 2019 פרקים'!D$31+'החברה לתיירות 2019 פרקים'!D$20+'מינהל כללי 2019 פרקים'!D$13 -> 2108526237 | C8: ='הנדסה 2019 פרקים'!E$102+' החברה לפיתוח 2019 פרקים'!E$56+' החברה לפיתוח 2019 פרקים'!E$60+'תבל 2019 פרקים'!E$20+'שאיפה 2019 פרקים'!E$31+'החברה לתיירות 2019 פרקים'!E$20+'מינהל כללי 2019 פרקים'!E$13 -> 1961207837 | D8: ='הנדסה 2019 פרקים'!F$102+' החברה לפיתוח 2019 פרקים'!F$56+' החברה לפיתוח 2019 פרקים'!F$60+'תבל 2019 פרקים'!F$20+'שאיפה 2019 פרקים'!F$31+'החברה לתיירות 2019 פרקים'!F$20+'מינהל כללי 2019 פרקים'!F$13 -> 147318400 | E8: ='הנדסה 2019 פרקים'!G$102+' החברה לפיתוח 2019 פרקים'!G$56+' החברה לפיתוח 2019 פרקים'!G$60+'תבל 2019 פרקים'!G$20+'שאיפה 2019 פרקים'!G$31+'החברה לתיירות 2019 פרקים'!G$20+'מינהל כללי 2019 פרקים'!G$13 -> 1025618321 | F8: ='הנדסה 2019 פרקים'!H$102+' החברה לפיתוח 2019 פרקים'!H$56+' החברה לפיתוח 2019 פרקים'!H$60+'תבל 2019 פרקים'!H$20+'שאיפה 2019 פרקים'!H$31+'החברה לתיירות 2019 פרקים'!H$20+'מינהל כללי 2019 פרקים'!H$13 -> 7.8207264e+08 | G8: ='הנדסה 2019 פרקים'!I$102+' החברה לפיתוח 2019 פרקים'!I$56+' החברה לפיתוח 2019 פרקים'!I$60+'תבל 2019 פרקים'!I$20+'שאיפה 2019 פרקים'!I$31+'החברה לתיירות 2019 פרקים'!I$20+'מינהל כללי 2019 פרקים'!I$13 -> 21006705 | H8: ='הנדסה 2019 פרקים'!J$102+' החברה לפיתוח 2019 פרקים'!J$56+' החברה לפיתוח 2019 פרקים'!J$60+'תבל 2019 פרקים'!J$20+'שאיפה 2019 פרקים'!J$31+'החברה לתיירות 2019 פרקים'!J$20+'מינהל כללי 2019 פרקים'!J$13 -> 1.0413453e+08 | I8: ='הנדסה 2019 פרקים'!K$102+' החברה לפיתוח 2019 פרקים'!K$56+' החברה לפיתוח 2019 פרקים'!K$60+'תבל 2019 פרקים'!K$20+'שאיפה 2019 פרקים'!K$31+'החברה לתיירות 2019 פרקים'!K$20+'מינהל כללי 2019 פרקים'!K$13 -> 1.2514123e+08 | ... X8: ='הנדסה 2019 פרקים'!Z$102+' החברה לפיתוח 2019 פרקים'!Z$56+' החברה לפיתוח 2019 פרקים'!Z$60+'תבל 2019 פרקים'!Z$20+'שאיפה 2019 פרקים'!Z$31+'החברה לתיירות 2019 פרקים'!Z$20+'מינהל כללי 2019 פרקים'!Z$13 -> 75117613
A9: חופים (747) | B9: =' החברה לפיתוח 2019 פרקים'!D$58+'שאיפה 2019 פרקים'!D$33+'רשות החופים 2019 פרקים'!D$25 -> 11162159 | C9: =' החברה לפיתוח 2019 פרקים'!E$58+'שאיפה 2019 פרקים'!E$33+'רשות החופים 2019 פרקים'!E$25 -> 16173000 | D9: =' החברה לפיתוח 2019 פרקים'!F$58+'שאיפה 2019 פרקים'!F$33+'רשות החופים 2019 פרקים'!F$25 -> -5010841 | E9: =' החברה לפיתוח 2019 פרקים'!G$58+'שאיפה 2019 פרקים'!G$33+'רשות החופים 2019 פרקים'!G$25 -> 7346000 | F9: =' החברה לפיתוח 2019 פרקים'!H$58+'שאיפה 2019 פרקים'!H$33+'רשות החופים 2019 פרקים'!H$25 -> 5901467.3 | G9: =' החברה לפיתוח 2019 פרקים'!I$58+'שאיפה 2019 פרקים'!I$33+'רשות החופים 2019 פרקים'!I$25 -> 354044.03 | H9: =' החברה לפיתוח 2019 פרקים'!J$58+'שאיפה 2019 פרקים'!J$33+'רשות החופים 2019 פרקים'!J$25 -> 262426.02 | I9: =' החברה לפיתוח 2019 פרקים'!K$58+'שאיפה 2019 פרקים'!K$33+'רשות החופים 2019 פרקים'!K$25 -> 616470.05 | ... X9: =' החברה לפיתוח 2019 פרקים'!Z$58+'שאיפה 2019 פרקים'!Z$33+'רשות החופים 2019 פרקים'!Z$25 -> 196159
A10: שרותים עירוניים שונים (76) | B10: ='הנדסה 2019 פרקים'!D$104+' החברה לפיתוח 2019 פרקים'!D$7+' החברה לפיתוח 2019 פרקים'!D$62+'תבל 2019 פרקים'!D$9+'ביטחון פיקוח וסדצ 2019 פרקים'!D$11+'חינוך 2019 פרקים'!D$7+'שאיפה 2019 פרקים'!D$7+'שאיפה 2019 פרקים'!D$35+'מחשוב 2019 פרקים'!D$9+'מחשוב 2019 פרקים'!D$14+'מינהל כללי 2019 פרקים'!D$16 -> 113498000 | C10: ='הנדסה 2019 פרקים'!E$104+' החברה לפיתוח 2019 פרקים'!E$7+' החברה לפיתוח 2019 פרקים'!E$62+'תבל 2019 פרקים'!E$9+'ביטחון פיקוח וסדצ 2019 פרקים'!E$11+'חינוך 2019 פרקים'!E$7+'שאיפה 2019 פרקים'!E$7+'שאיפה 2019 פרקים'!E$35+'מחשוב 2019 פרקים'!E$9+'מחשוב 2019 פרקים'!E$14+'מינהל כללי 2019 פרקים'!E$16 -> 109438000 | D10: ='הנדסה 2019 פרקים'!F$104+' החברה לפיתוח 2019 פרקים'!F$7+' החברה לפיתוח 2019 פרקים'!F$62+'תבל 2019 פרקים'!F$9+'ביטחון פיקוח וסדצ 2019 פרקים'!F$11+'חינוך 2019 פרקים'!F$7+'שאיפה 2019 פרקים'!F$7+'שאיפה 2019 פרקים'!F$35+'מחשוב 2019 פרקים'!F$9+'מחשוב 2019 פרקים'!F$14+'מינהל כללי 2019 פרקים'!F$16 -> 4060000 | E10: ='הנדסה 2019 פרקים'!G$104+' החברה לפיתוח 2019 פרקים'!G$7+' החברה לפיתוח 2019 פרקים'!G$62+'תבל 2019 פרקים'!G$9+'ביטחון פיקוח וסדצ 2019 פרקים'!G$11+'חינוך 2019 פרקים'!G$7+'שאיפה 2019 פרקים'!G$7+'שאיפה 2019 פרקים'!G$35+'מחשוב 2019 פרקים'!G$9+'מחשוב 2019 פרקים'!G$14+'מינהל כללי 2019 פרקים'!G$16 -> 78048000 | F10: ='הנדסה 2019 פרקים'!H$104+' החברה לפיתוח 2019 פרקים'!H$7+' החברה לפיתוח 2019 פרקים'!H$62+'תבל 2019 פרקים'!H$9+'ביטחון פיקוח וסדצ 2019 פרקים'!H$11+'חינוך 2019 פרקים'!H$7+'שאיפה 2019 פרקים'!H$7+'שאיפה 2019 פרקים'!H$35+'מחשוב 2019 פרקים'!H$9+'מחשוב 2019 פרקים'!H$14+'מינהל כללי 2019 פרקים'!H$16 -> 65846422 | G10: ='הנדסה 2019 פרקים'!I$104+' החברה לפיתוח 2019 פרקים'!I$7+' החברה לפיתוח 2019 פרקים'!I$62+'תבל 2019 פרקים'!I$9+'ביטחון פיקוח וסדצ 2019 פרקים'!I$11+'חינוך 2019 פרקים'!I$7+'שאיפה 2019 פרקים'!I$7+'שאיפה 2019 פרקים'!I$35+'מחשוב 2019 פרקים'!I$9+'מחשוב 2019 פרקים'!I$14+'מינהל כללי 2019 פרקים'!I$16 -> 5477214 | H10: ='הנדסה 2019 פרקים'!J$104+' החברה לפיתוח 2019 פרקים'!J$7+' החברה לפיתוח 2019 פרקים'!J$62+'תבל 2019 פרקים'!J$9+'ביטחון פיקוח וסדצ 2019 פרקים'!J$11+'חינוך 2019 פרקים'!J$7+'שאיפה 2019 פרקים'!J$7+'שאיפה 2019 פרקים'!J$35+'מחשוב 2019 פרקים'!J$9+'מחשוב 2019 פרקים'!J$14+'מינהל כללי 2019 פרקים'!J$16 -> 2177084.3 | I10: ='הנדסה 2019 פרקים'!K$104+' החברה לפיתוח 2019 פרקים'!K$7+' החברה לפיתוח 2019 פרקים'!K$62+'תבל 2019 פרקים'!K$9+'ביטחון פיקוח וסדצ 2019 פרקים'!K$11+'חינוך 2019 פרקים'!K$7+'שאיפה 2019 פרקים'!K$7+'שאיפה 2019 פרקים'!K$35+'מחשוב 2019 פרקים'!K$9+'מחשוב 2019 פרקים'!K$14+'מינהל כללי 2019 פרקים'!K$16 -> 7654298.3 | ... X10: ='הנדסה 2019 פרקים'!Z$104+' החברה לפיתוח 2019 פרקים'!Z$7+' החברה לפיתוח 2019 פרקים'!Z$62+'תבל 2019 פרקים'!Z$9+'ביטחון פיקוח וסדצ 2019 פרקים'!Z$11+'חינוך 2019 פרקים'!Z$7+'שאיפה 2019 פרקים'!Z$7+'שאיפה 2019 פרקים'!Z$35+'מחשוב 2019 פרקים'!Z$9+'מחשוב 2019 פרקים'!Z$14+'מינהל כללי 2019 פרקים'!Z$16 -> 600000
A11: חינוך (81) | B11: =' החברה לפיתוח 2019 פרקים'!D$87+'תבל 2019 פרקים'!D$56+'חינוך 2019 פרקים'!D$30+'שאיפה 2019 פרקים'!D$40+'מחשוב 2019 פרקים'!D$17 -> 1.3133233e+09 | C11: =' החברה לפיתוח 2019 פרקים'!E$87+'תבל 2019 פרקים'!E$56+'חינוך 2019 פרקים'!E$30+'שאיפה 2019 פרקים'!E$40+'מחשוב 2019 פרקים'!E$17 -> 908153445 | D11: =' החברה לפיתוח 2019 פרקים'!F$87+'תבל 2019 פרקים'!F$56+'חינוך 2019 פרקים'!F$30+'שאיפה 2019 פרקים'!F$40+'מחשוב 2019 פרקים'!F$17 -> 4.0516986e+08 | E11: =' החברה לפיתוח 2019 פרקים'!G$87+'תבל 2019 פרקים'!G$56+'חינוך 2019 פרקים'!G$30+'שאיפה 2019 פרקים'!G$40+'מחשוב 2019 פרקים'!G$17 -> 533940418 | F11: =' החברה לפיתוח 2019 פרקים'!H$87+'תבל 2019 פרקים'!H$56+'חינוך 2019 פרקים'!H$30+'שאיפה 2019 פרקים'!H$40+'מחשוב 2019 פרקים'!H$17 -> 4.4264373e+08 | G11: =' החברה לפיתוח 2019 פרקים'!I$87+'תבל 2019 פרקים'!I$56+'חינוך 2019 פרקים'!I$30+'שאיפה 2019 פרקים'!I$40+'מחשוב 2019 פרקים'!I$17 -> 18427702 | H11: =' החברה לפיתוח 2019 פרקים'!J$87+'תבל 2019 פרקים'!J$56+'חינוך 2019 פרקים'!J$30+'שאיפה 2019 פרקים'!J$40+'מחשוב 2019 פרקים'!J$17 -> 25095620 | I11: =' החברה לפיתוח 2019 פרקים'!K$87+'תבל 2019 פרקים'!K$56+'חינוך 2019 פרקים'!K$30+'שאיפה 2019 פרקים'!K$40+'מחשוב 2019 פרקים'!K$17 -> 43523321 | ... X11: =' החברה לפיתוח 2019 פרקים'!Z$87+'תבל 2019 פרקים'!Z$56+'חינוך 2019 פרקים'!Z$30+'שאיפה 2019 פרקים'!Z$40+'מחשוב 2019 פרקים'!Z$17 -> 20849300
A12: ספורט (82) | B12: ='הנדסה 2019 פרקים'!D$107+' החברה לפיתוח 2019 פרקים'!D$108+'תבל 2019 פרקים'!D$60+'תנוס 2019 פרקים'!D$15+'שאיפה 2019 פרקים'!D$42 -> 406186000 | C12: ='הנדסה 2019 פרקים'!E$107+' החברה לפיתוח 2019 פרקים'!E$108+'תבל 2019 פרקים'!E$60+'תנוס 2019 פרקים'!E$15+'שאיפה 2019 פרקים'!E$42 -> 376240000 | D12: ='הנדסה 2019 פרקים'!F$107+' החברה לפיתוח 2019 פרקים'!F$108+'תבל 2019 פרקים'!F$60+'תנוס 2019 פרקים'!F$15+'שאיפה 2019 פרקים'!F$42 -> 29946000 | E12: ='הנדסה 2019 פרקים'!G$107+' החברה לפיתוח 2019 פרקים'!G$108+'תבל 2019 פרקים'!G$60+'תנוס 2019 פרקים'!G$15+'שאיפה 2019 פרקים'!G$42 -> 71654800 | F12: ='הנדסה 2019 פרקים'!H$107+' החברה לפיתוח 2019 פרקים'!H$108+'תבל 2019 פרקים'!H$60+'תנוס 2019 פרקים'!H$15+'שאיפה 2019 פרקים'!H$42 -> 45525737 | G12: ='הנדסה 2019 פרקים'!I$107+' החברה לפיתוח 2019 פרקים'!I$108+'תבל 2019 פרקים'!I$60+'תנוס 2019 פרקים'!I$15+'שאיפה 2019 פרקים'!I$42 -> 123646.13 | H12: ='הנדסה 2019 פרקים'!J$107+' החברה לפיתוח 2019 פרקים'!J$108+'תבל 2019 פרקים'!J$60+'תנוס 2019 פרקים'!J$15+'שאיפה 2019 פרקים'!J$42 -> 15056624 | I12: ='הנדסה 2019 פרקים'!K$107+' החברה לפיתוח 2019 פרקים'!K$108+'תבל 2019 פרקים'!K$60+'תנוס 2019 פרקים'!K$15+'שאיפה 2019 פרקים'!K$42 -> 15180270 | ... X12: ='הנדסה 2019 פרקים'!Z$107+' החברה לפיתוח 2019 פרקים'!Z$108+'תבל 2019 פרקים'!Z$60+'תנוס 2019 פרקים'!Z$15+'שאיפה 2019 פרקים'!Z$42 -> 0
A13: רווחה (84) | B13: =' החברה לפיתוח 2019 פרקים'!D$111+'תבל 2019 פרקים'!D$62+'מינהל כללי 2019 פרקים'!D$18 -> 11354000 | C13: =' החברה לפיתוח 2019 פרקים'!E$111+'תבל 2019 פרקים'!E$62+'מינהל כללי 2019 פרקים'!E$18 -> 1454000 | D13: =' החברה לפיתוח 2019 פרקים'!F$111+'תבל 2019 פרקים'!F$62+'מינהל כללי 2019 פרקים'!F$18 -> 9900000 | E13: =' החברה לפיתוח 2019 פרקים'!G$111+'תבל 2019 פרקים'!G$62+'מינהל כללי 2019 פרקים'!G$18 -> 1454000 | F13: =' החברה לפיתוח 2019 פרקים'!H$111+'תבל 2019 פרקים'!H$62+'מינהל כללי 2019 פרקים'!H$18 -> 769620.44 | G13: =' החברה לפיתוח 2019 פרקים'!I$111+'תבל 2019 פרקים'!I$62+'מינהל כללי 2019 פרקים'!I$18 -> 0 | H13: =' החברה לפיתוח 2019 פרקים'!J$111+'תבל 2019 פרקים'!J$62+'מינהל כללי 2019 פרקים'!J$18 -> 0 | I13: =' החברה לפיתוח 2019 פרקים'!K$111+'תבל 2019 פרקים'!K$62+'מינהל כללי 2019 פרקים'!K$18 -> 0 | ... X13: =' החברה לפיתוח 2019 פרקים'!Z$111+'תבל 2019 פרקים'!Z$62+'מינהל כללי 2019 פרקים'!Z$18 -> 0
A14: מבני דת ציבוריים (85) | B14: =' החברה לפיתוח 2019 פרקים'!D$117+'תבל 2019 פרקים'!D$70 -> 22450000 | C14: =' החברה לפיתוח 2019 פרקים'!E$117+'תבל 2019 פרקים'!E$70 -> 14125000 | D14: =' החברה לפיתוח 2019 פרקים'!F$117+'תבל 2019 פרקים'!F$70 -> 8325000 | E14: =' החברה לפיתוח 2019 פרקים'!G$117+'תבל 2019 פרקים'!G$70 -> 11475000 | F14: =' החברה לפיתוח 2019 פרקים'!H$117+'תבל 2019 פרקים'!H$70 -> 5710639.2 | G14: =' החברה לפיתוח 2019 פרקים'!I$117+'תבל 2019 פרקים'!I$70 -> 206564.65 | H14: =' החברה לפיתוח 2019 פרקים'!J$117+'תבל 2019 פרקים'!J$70 -> 2455473.7 | I14: =' החברה לפיתוח 2019 פרקים'!K$117+'תבל 2019 פרקים'!K$70 -> 2662038.4 | ... X14: =' החברה לפיתוח 2019 פרקים'!Z$117+'תבל 2019 פרקים'!Z$70 -> 0
A15: איכות הסביבה (87) | B15: ='תבל 2019 פרקים'!D$73+'שאיפה 2019 פרקים'!D$56-B17 -> 16859559 | C15: ='תבל 2019 פרקים'!E$73+'שאיפה 2019 פרקים'!E$56-C17 -> 16704559 | D15: ='תבל 2019 פרקים'!F$73+'שאיפה 2019 פרקים'!F$56-D17 -> 155000 | E15: ='תבל 2019 פרקים'!G$73+'שאיפה 2019 פרקים'!G$56-E17 -> 3800559 | F15: ='תבל 2019 פרקים'!H$73+'שאיפה 2019 פרקים'!H$56-F17 -> 2580979.3 | G15: ='תבל 2019 פרקים'!I$73+'שאיפה 2019 פרקים'!I$56-G17 -> 0 | H15: ='תבל 2019 פרקים'!J$73+'שאיפה 2019 פרקים'!J$56-H17 -> 663670.98 | I15: ='תבל 2019 פרקים'!K$73+'שאיפה 2019 פרקים'!K$56-I17 -> 663670.98 | ... X15: ='תבל 2019 פרקים'!Z$73+'שאיפה 2019 פרקים'!Z$56-X17 -> 1140000
A16: טיפול במרחב ציבורי (848) | B16: =' החברה לפיתוח 2019 פרקים'!D$113+'שאיפה 2019 פרקים'!D$44+'תבל 2019 פרקים'!D$64 -> 31200000 | C16: =' החברה לפיתוח 2019 פרקים'!E$113+'שאיפה 2019 פרקים'!E$44+'תבל 2019 פרקים'!E$64 -> 28100000 | D16: =' החברה לפיתוח 2019 פרקים'!F$113+'שאיפה 2019 פרקים'!F$44+'תבל 2019 פרקים'!F$64 -> 3100000 | E16: =' החברה לפיתוח 2019 פרקים'!G$113+'שאיפה 2019 פרקים'!G$44+'תבל 2019 פרקים'!G$64 -> 23674320 | F16: =' החברה לפיתוח 2019 פרקים'!H$113+'שאיפה 2019 פרקים'!H$44+'תבל 2019 פרקים'!H$64 -> 20628614 | G16: =' החברה לפיתוח 2019 פרקים'!I$113+'שאיפה 2019 פרקים'!I$44+'תבל 2019 פרקים'!I$64 -> 0 | H16: =' החברה לפיתוח 2019 פרקים'!J$113+'שאיפה 2019 פרקים'!J$44+'תבל 2019 פרקים'!J$64 -> 2988269 | I16: =' החברה לפיתוח 2019 פרקים'!K$113+'שאיפה 2019 פרקים'!K$44+'תבל 2019 פרקים'!K$64 -> 2988269 | ... X16: =' החברה לפיתוח 2019 פרקים'!Z$113+'שאיפה 2019 פרקים'!Z$44+'תבל 2019 פרקים'!Z$64 -> 0
A17: תרבות הדיור (764) | B17: ='שאיפה 2019 פרקים'!D$48 -> 88000000 | C17: ='שאיפה 2019 פרקים'!E$48 -> 88000000 | D17: ='שאיפה 2019 פרקים'!F$48 -> 0 | E17: ='שאיפה 2019 פרקים'!G$48 -> 65250000 | F17: ='שאיפה 2019 פרקים'!H$48 -> 65137184 | G17: ='שאיפה 2019 פרקים'!I$48 -> 0 | H17: ='שאיפה 2019 פרקים'!J$48 -> 1 | I17: ='שאיפה 2019 פרקים'!K$48 -> 1 | ... X17: ='שאיפה 2019 פרקים'!Z$48 -> 16350000
A18: נכסים (93) | B18: =' החברה לפיתוח 2019 פרקים'!D$122+'תבל 2019 פרקים'!D$80+'תנוס 2019 פרקים'!D$17+'נכסים 2019 פרקים'!D$23 -> 288694365 | C18: =' החברה לפיתוח 2019 פרקים'!E$122+'תבל 2019 פרקים'!E$80+'תנוס 2019 פרקים'!E$17+'נכסים 2019 פרקים'!E$23 -> 294640065 | D18: =' החברה לפיתוח 2019 פרקים'!F$122+'תבל 2019 פרקים'!F$80+'תנוס 2019 פרקים'!F$17+'נכסים 2019 פרקים'!F$23 -> -5945700 | E18: =' החברה לפיתוח 2019 פרקים'!G$122+'תבל 2019 פרקים'!G$80+'תנוס 2019 פרקים'!G$17+'נכסים 2019 פרקים'!G$23 -> 208592890 | F18: =' החברה לפיתוח 2019 פרקים'!H$122+'תבל 2019 פרקים'!H$80+'תנוס 2019 פרקים'!H$17+'נכסים 2019 פרקים'!H$23 -> 1.7816943e+08 | G18: =' החברה לפיתוח 2019 פרקים'!I$122+'תבל 2019 פרקים'!I$80+'תנוס 2019 פרקים'!I$17+'נכסים 2019 פרקים'!I$23 -> 0 | H18: =' החברה לפיתוח 2019 פרקים'!J$122+'תבל 2019 פרקים'!J$80+'תנוס 2019 פרקים'!J$17+'נכסים 2019 פרקים'!J$23 -> 8921251.6 | I18: =' החברה לפיתוח 2019 פרקים'!K$122+'תבל 2019 פרקים'!K$80+'תנוס 2019 פרקים'!K$17+'נכסים 2019 פרקים'!K$23 -> 8921251.6 | ... X18: =' החברה לפיתוח 2019 פרקים'!Z$122+'תבל 2019 פרקים'!Z$80+'תנוס 2019 פרקים'!Z$17+'נכסים 2019 פרקים'!Z$23 -> 0
A19: תשלומים בלתי רגילים (99) | B19: ='מינהל כללי 2019 פרקים'!D$20 -> 15133000 | C19: ='מינהל כללי 2019 פרקים'!E$20 -> 15133000 | D19: ='מינהל כללי 2019 פרקים'!F$20 -> 0 | E19: ='מינהל כללי 2019 פרקים'!G$20 -> 15133000 | F19: ='מינהל כללי 2019 פרקים'!H$20 -> 15133000 | G19: ='מינהל כללי 2019 פרקים'!I$20 -> 0 | H19: ='מינהל כללי 2019 פרקים'!J$20 -> 0 | I19: ='מינהל כללי 2019 פרקים'!K$20 -> 0 | ... X19: ='מינהל כללי 2019 פרקים'!Z$20 -> 0
A20: סה"כ | B20: =SUM(B6:B19) -> 4.6726115e+09 | C20: =SUM(C6:C19) -> 4056067441 | D20: =SUM(D6:D19) -> 6.1654406e+08 | E20: =SUM(E6:E19) -> 2199798425 | F20: =SUM(F6:F19) -> 1.7425244e+09 | G20: =SUM(G6:G19) -> 49646384 | H20: =SUM(H6:H19) -> 1.7317185e+08 | I20: =SUM(I6:I19) -> 2.2281823e+08 | ... X20: =SUM(X6:X19) -> 120645189
J22: =I20+F20 -> 1.9653427e+09 | K22: =N22+Q20-R20 -> 3.5028223e+08 | N22: =E20-J20 -> 2.3445576e+08 | S22: =L20-R20 -> 4.8940785e+08
S23: סה"כ | T23: קע"פ | U23: קרן עודפי ת.ר. | V23: קרן רכוש | W23: קרן ייעודית | X23: אחרים
M24: יתרת מקורות מימון | O24: יתרת מקורות מימון | S24: =SUM(T24:X24) -> 489407846 | T24: ='תקציב 2019 קרנות הרשות'!C21*1000 -> 290040000 | U24: ='תקציב 2019 קרנות הרשות'!D21*1000 -> 44000000 | V24: ='תקציב 2019 מקורות '!F10*1000 -> 0 | W24: ='תקציב 2019 מקורות '!F11*1000 -> 34722657 | X24: ='פרוט מקורות אחרים'!O16 -> 120645189
M25: הפרש עודף (חוסר) | O25: הפרש עודף (חוסר) | S25: =S20-S24 -> 0.19398665 | T25: =T20-T24 -> 0 | U25: =U20-U24 -> 0.19398665 | V25: =V20-V24 -> 0 | W25: =W20-W24 -> 0 | X25: =X20-X24 -> 0
J27: =I20+F20 -> 1.9653427e+09 | K27: =N20+Q20-R20 -> 3.5028223e+08 | N27: =E20-J20 -> 2.3445576e+08 | S27: =L20-R20 -> 4.8940785e+08

Sheet פרוט מקורות אחרים
B1: מקורות מימון אחרים - פרוט
B3: אגף/מחלקה | C3: רשות מקרקעי ישראל | D3: המשרד להגנת הסביבה | E3: משרד החינוך | F3: משרד התשתיות והאנרגיה | G3: הקרן לשמירה על שטחים פתוחים | H3: מפעל הפייס | I3: משרד המדע | J3: משרד הבינוי והשיכון | K3: אחרים | L3: משרד הפנים | M3: משרד התחבורה | N3: הכנסות בעד עבודות | O3: סה"כ
B4: אגף הנדסה | J4: ='תקציב הנדסה 2019'!Z68+'תקציב הנדסה 2019'!Z46+'תקציב הנדסה 2019'!Z47 -> 1579577 | M4: ='תקציב הנדסה 2019'!Z12+'תקציב הנדסה 2019'!Z101+'תקציב הנדסה 2019'!Z102+'תקציב הנדסה 2019'!Z103 -> 1295000 | O4: =SUM(C4:N4) -> 2874577
B5: החברה לפיתוח הרצליה | C5: ='תקציב החברה לפיתוח 2019'!Z96+'תקציב החברה לפיתוח 2019'!Z97+'תקציב החברה לפיתוח 2019'!Z108 -> 66237613 | K5: ='תקציב החברה לפיתוח 2019'!Z9+'תקציב החברה לפיתוח 2019'!Z55+'תקציב החברה לפיתוח 2019'!Z88+'תקציב החברה לפיתוח 2019'!Z110 -> 7275000 | M5: ='תקציב החברה לפיתוח 2019'!Z31+'תקציב החברה לפיתוח 2019'!Z29 -> 4672540 | O5: =SUM(C5:N5) -> 78185153
B6: אגף ת.ב.ל | E6: ='תקציב אגף ת.ב.ל 2019'!Z53+'תקציב אגף ת.ב.ל 2019'!Z58+'תקציב אגף ת.ב.ל 2019'!Z62 -> 9221300 | O6: =SUM(C6:N6) -> 9221300
B7: אגף בטחון פיקוח וסדר ציבורי | O7: =SUM(C7:N7) -> 0
B8: אגף החינוך | E8: ='תקציב אגף חינוך 2019'!Z24 -> 78000 | I8: ='תקציב אגף חינוך 2019'!Z28 -> 4800000 | O8: =SUM(C8:N8) -> 4878000
B9: אגף ת.נ.ו.ס | O9: =SUM(C9:N9) -> 0
B10: אגף ש.א.י.פ.ה | D10: ='תקציב אגף שאיפה 2019'!Z23+'תקציב אגף שאיפה 2019'!Z35 -> 1140000 | N10: ='תקציב אגף שאיפה 2019'!Z13 -> 16350000 | O10: =SUM(C10:N10) -> 17490000
B11: רשות החופים | L11: ='תקציב רשות החופים 2019'!Z22+'תקציב רשות החופים 2019'!Z23+'תקציב רשות החופים 2019'!Z24 -> 196159 | O11: =SUM(C11:N11) -> 196159
B12: החברה לפיתוח תיירות | G12: ='תקציב החברה לתירות 2019'!Z10 -> 4800000 | O12: =SUM(C12:N12) -> 4800000
B13: אגף תקשוב ומע. מידע | H13: ='תקציב אגף תקשוב 2019'!Z13 -> 3000000 | O13: =SUM(C13:N13) -> 3000000
B14: אגף נכסים וביטוח | O14: =SUM(C14:N14) -> 0
B15: מינהל כללי | O15: =SUM(C15:N15) -> 0
B16: סה"כ | C16: =SUM(C4:C15) -> 66237613 | D16: =SUM(D4:D15) -> 1140000 | E16: =SUM(E4:E15) -> 9299300 | F16: =SUM(F4:F15) -> 0 | G16: =SUM(G4:G15) -> 4800000 | H16: =SUM(H4:H15) -> 3000000 | I16: =SUM(I4:I15) -> 4800000 | J16: =SUM(J4:J15) -> 1579577 | ... O16: =SUM(O4:O15) -> 120645189
J19: =J16+E16+#REF!+Q16+H16+F16 -> #REF! | K19: =K16+F16+D16+C16+I16+G16 -> 84252613

Sheet תרשים מקורות מימון

Sheet הנדסה 2019
C3: מינהל הנדסה
B5: ü | C5: סך התקציב הנדרש בשנת 2019 ע"י מינהל הנדסה מסתכם ב - | H5: ='תקציב הנדסה 2019'!U104 -> 42416580
B7: ü | C7: מספר הפרויקטים המטופל ע"י אגף הנדסה : | H7: ='תקציב הנדסה 2019'!A104 -> 98
B9: ü | C9: מקורות מימון לפרויקטים :
C11: מקורות מימון | E11: סכום | H11: אחוז
C12: קרן עבודות פיתוח | E12: ='תקציב הנדסה 2019'!V104/1000 -> 39542.003 | H12: =E12/$E$14 -> 0.93222987
C13: אחרים | E13: ='תקציב הנדסה 2019'!Z104/1000 -> 2874.577 | H13: =E13/$E$14 -> 0.067770127
C14: סה"כ | E14: =SUM(E12:E13) -> 42416.58 | H14: =E14/$E$14 -> 1
C16: ü | D16: עדכון שם תב"ר : מסומן (*)
D18: תב"ר 626 : תכנון ועדכון תוכנית אב לשבילי אופניים - תכנון וביצוע תוכנית אב לשבילי אופניים.
D20: תב"ר 1409 : חידוש תוקף תוכנית מתאר - תוכנית המיתאר הכוללנית.
D22: תב"ר 1527 : הר' 2159 התחדשות עירונית יד התשעה - התחדשות עירונית יד התשעה.
D24: תב"ר 1620 : קשר גשר - תכנון חיבוריות בין מזרח ומערב.
D26: תב"ר 1759 : תוכנית אסטרטגית להתייעלות עירונית במרכז העיר - תוכנית אסטרטגית להתייעלות
D27: עירונית במרכז העיר ובשכונות.
D29: תב"ר 1760 : תוכנית אסטרטגית להתייעלות עירונית באיזור התעשייה - תוכנית אסטרטגית באיזור
D30: התעשייה.
D32: תב"ר 1952 : איצטדיון כדורסל - היכל ספורט רב תכליתי.
C34: ü | D34: תאור הפרויקטים מובא בעמודים 36 -28

Sheet הנדסה 2019 (2)
C3: מינהל הנדסה
B5: ü | C5: פרויקטים עיקריים בשנת 2019 :
D7: פרויקט | E7: סכום
D8: החלפת קו ניקוז בדוד המלך | E8: 7500000
D9: פיתוח מתחם המכללות הר' 1920/1 | E9: 6000000
D10: מערכת בקרת רמזורים | E10: 4800000
D11: מתחם הבריגדה מתחם הר' 1960 | E11: 3900000
D12: תוכנית המתאר הכוללנית | E12: 2680000
D13: פינוי בינוי סוקולוב - רח' ירושלים | E13: 2008338
D14: מתחם יהודה המכבי וזוהר טל | E14: 2000000
D15: תכנון חניון מרינה לי | E15: 2000000
D16: תכנון שצ"פים במתחם הר' 1960 | E16: 1200000
D17: פיתוח שצ"פים מורדי הגטאות | E17: 1100000
D19: פרויקט : ז'בוטינסקי אלתרמן הבריגדה
D35: לקראת סיום

Sheet תקציב הנדסה 2019
A2: מינהל הנדסה
A4: מס' סידורי | B4: מס' תב"ר | C4: שם תב"ר | D4: אומדן כולל לפרוקט | E4: אומדן מאושר במועצה | F4: תוספת לאומדן לאישור המועצה | G4: תקציב מאושר | H4: ביצוע בפועל | I4: שריון מערך חוזים | J4: שריון מערך רכש | K4: סה"כ שריון התחייבויות | L4: סה"כ ביצוע | M4: יתרה לביצוע צפוי עד 31.12.2018 | N4: אומדן לביצוע שנת 2019 | O4: אומדן לביצוע שנת 2020 ואילך | P4: יתרת תקציב | Q4: תקציב נוסף נדרש במסגרת תוכנית עבודה 2018 | R4: תקציב נוסף נדרש מעבר לתוכנית עבודה 2018 | S4: סה"כ תקציב נוסף נדרש 2018 | T4: יתרת תקציב פנויה 31.12.2018 | U4: תקציב נדרש 2019 | V4: קרן עבודות פיתוח | W4: קרן עודפי תקציב רגיל | X4: קרן רכוש | Y4: קרן ייעודית | Z4: אחרים | AA4: תאור הפרויקט | AB4: פרק תב"ר
A6: =A5+1 -> 1 | B6: 179 | C6: יעודי קרקע -מפת בסיס | D6: =3200000-200000 -> 3000000 | E6: 3000000 | F6: =D6-E6 -> 0 | G6: 2870250 | H6: 2782107 | J6: 65735 | K6: =SUM(I6:J6) -> 65735 | L6: =H6+K6 -> 2847842 | M6: =P6+S6 -> 22408 | N6: =150000-50000 -> 100000 | O6: =D6-L6-M6-N6 -> 29750 | P6: =G6-L6 -> 22408 | S6: =SUM(Q6:R6) -> 0 | T6: =P6-M6+S6 -> 0 | U6: =N6-T6 -> 100000 | V6: =U6-Z6-W6-Y6 -> 100000 | AA6: עדכון מע. מידע הנדסי כתוצאה משינוי ייעודי קרקע עקב החלטות ועדות התכנון. | AB6: 732000
A7: =A6+1 -> 2 | B7: 304 | C7: פיתוח פארק הבאסה | D7: =54950000-20000 -> 54930000 | E7: 54950000 | F7: =D7-E7 -> -20000 | G7: 54950000 | H7: 54780523 | I7: 149074.13 | K7: =SUM(I7:J7) -> 149074.13 | L7: =H7+K7 -> 54929597 | M7: =P7+S7-20000 -> 403.26 | O7: =D7-L7-M7-N7 -> 0 | P7: =G7-L7 -> 20403.26 | S7: =SUM(Q7:R7) -> 0 | T7: =P7-M7+S7 -> 20000 | U7: =N7-T7 -> -20000 | V7: =U7-Z7-W7-Y7 -> -20000 | AB7: 746000
A8: =A7+1 -> 3 | B8: 507 | C8: החלפת מדרכות | D8: 2310000 | E8: 2310000 | F8: =D8-E8 -> 0 | G8: 1765000 | H8: 1653104.2 | K8: =SUM(I8:J8) -> 0 | L8: =H8+K8 -> 1653104.2 | M8: =P8+S8 -> 111895.77 | N8: =100000-50000 -> 50000 | O8: =D8-L8-M8-N8 -> 495000 | P8: =G8-L8 -> 111895.77 | S8: =SUM(Q8:R8) -> 0 | T8: =P8-M8+S8 -> 0 | U8: =N8-T8 -> 50000 | V8: =U8-Z8-W8-Y8 -> 50000 | AA8: ביצוע עבודות מדרכות לאחר השלמת עבודות בניה כתוצאה מהיתרים. | AB8: 742000
A9: =A8+1 -> 4 | B9: 546 | C9: מתחם הגאון מוילנא חתם סופר | D9: =5850000-2930000 -> 2920000 | E9: 5850000 | F9: =D9-E9 -> -2930000 | G9: 2950000 | H9: 2895703.4 | J9: 18053 | K9: =SUM(I9:J9) -> 18053 | L9: =H9+K9 -> 2913756.4 | M9: =P9+S9-30000 -> 6243.6 | O9: =D9-L9-M9-N9 -> 0 | P9: =G9-L9 -> 36243.6 | S9: =SUM(Q9:R9) -> 0 | T9: =P9-M9+S9 -> 30000 | U9: =N9-T9 -> -30000 | V9: =U9-Z9-W9-Y9 -> -30000 | AB9: 742000
A10: =A9+1 -> 5 | B10: 592 | C10: מתחם הבריגדה מתחם הר' 1960 | D10: 54893000 | E10: 54893000 | F10: =D10-E10 -> 0 | G10: =18420000+300000 -> 18720000 | H10: 17302170 | I10: 149113.19 | J10: 14350 | K10: =SUM(I10:J10) -> 163463.19 | L10: =H10+K10 -> 17465634 | M10: =P10+S10 -> 1254366.5 | N10: =3500000+400000 -> 3900000 | O10: =D10-L10-M10-N10 -> 32273000 | P10: =G10-L10 -> 1254366.5 | S10: =SUM(Q10:R10) -> 0 | T10: =P10-M10+S10 -> 0 | U10: =N10-T10 -> 3900000 | V10: =U10-Z10-W10-Y10 -> 3900000 | AA10: ביצוע עבודות סלילה ופיתוח סופי רח' דן שומרון. פיתוח שצ"פ האקליפטוס. תכנון רח' דורי. | AB10: 742000
A11: =A10+1 -> 6 | B11: 608 | C11: עבודות ניקוז בעיר | D11: 8300000 | E11: 8300000 | F11: =D11-E11 -> 0 | G11: 6250000 | H11: 5146280 | J11: 76278 | K11: =SUM(I11:J11) -> 76278 | L11: =H11+K11 -> 5222558 | M11: =P11+S11-650000 -> 377442 | N11: 600000 | O11: =D11-L11-M11-N11 -> 2100000 | P11: =G11-L11 -> 1027442 | S11: =SUM(Q11:R11) -> 0 | T11: =P11-M11+S11 -> 650000 | U11: =N11-T11 -> -50000 | V11: =U11-Z11-W11-Y11 -> -50000 | AA11: סל עבודות ניקוז ברחבי העיר . | AB11: 745000
A12: =A11+1 -> 7 | B12: 626 | C12: תכנון ועדכון וביצוע תוכנית אב לשבילי אופניים (*) עדכון שם | D12: 20025000 | E12: 20025000 | F12: =D12-E12 -> 0 | G12: 14525000 | H12: 13533711 | I12: 151233.86 | J12: 45309 | K12: =SUM(I12:J12) -> 196542.86 | L12: =H12+K12 -> 13730254 | M12: =P12+S12-500000 -> 294746.14 | N12: =3325000-1000000 -> 2325000 | O12: =D12-L12-M12-N12 -> 3675000 | P12: =G12-L12 -> 794746.14 | S12: =SUM(Q12:R12) -> 0 | T12: =P12-M12+S12 -> 500000 | U12: =N12-T12 -> 1825000 | V12: =U12-Z12-W12-Y12 -> 1475000 | Z12: =175000+175000 -> 350000 | AA12: תכנון שבילי אופנים וביצוע ברחבי העיר. מימון מ. התחבורה. | AB12: 732000
A13: =A12+1 -> 8 | B13: 631 | C13: מתחם רחוב משה | D13: =9005000-1946000 -> 7059000 | E13: 9005000 | F13: =D13-E13 -> -1946000 | G13: 7305000 | H13: 7030689.3 | J13: 27554.53 | K13: =SUM(I13:J13) -> 27554.53 | L13: =H13+K13 -> 7058243.9 | M13: =P13+S13-246000 -> 756.15 | O13: =D13-L13-M13-N13 -> 0 | P13: =G13-L13 -> 246756.15 | S13: =SUM(Q13:R13) -> 0 | T13: =P13-M13+S13 -> 246000 | U13: =N13-T13 -> -246000 | V13: =U13-Z13-W13-Y13 -> -246000 | AB13: 742000
A14: =A13+1 -> 9 | B14: 638 | C14: פיתוח מתחם רזיאל מע' תב"ע 1706 | D14: 7000000 | E14: 7000000 | F14: =D14-E14 -> 0 | G14: 4600000 | H14: 3454839 | I14: 74548.7 | J14: 7765.64 | K14: =SUM(I14:J14) -> 82314.34 | L14: =H14+K14 -> 3537153.3 | M14: =P14+S14 -> 1062846.7 | O14: =D14-L14-M14-N14 -> 2400000 | P14: =G14-L14 -> 1062846.7 | S14: =SUM(Q14:R14) -> 0 | T14: =P14-M14+S14 -> 0 | U14: =N14-T14 -> 0 | V14: =U14-Z14-W14-Y14 -> 0 | AA14: פיתוח ברח' העפרוני וזאב במתחם. אומדן ביצוע כולל תאורה וסלילת רחוב משולב . | AB14: 742000
A15: =A14+1 -> 10 | B15: 1018 | C15: מחלף הרב מכר | D15: 31900000 | E15: 31900000 | F15: =D15-E15 -> 0 | G15: 5100000 | H15: 3059586.8 | I15: 84192.99 | J15: 4379.93 | K15: =SUM(I15:J15) -> 88572.92 | L15: =H15+K15 -> 3148159.7 | M15: =P15+S15-1000000-750000 -> 201840.29 | N15: =2000000-250000 -> 1750000 | O15: =D15-L15-M15-N15 -> 26800000 | P15: =G15-L15 -> 1951840.3 | S15: =SUM(Q15:R15) -> 0 | T15: =P15-M15+S15 -> 1750000 | U15: =N15-T15 -> 0 | V15: =U15-Z15-W15-Y15 -> 0 | AA15: פרויקט ממשלתי המתוקצב ע"י המדינה במקביל לרשות. הביצוע העירוני מתעכב עקב בעית פולש. | AB15: 742000
A16: =A15+1 -> 11 | B16: 1100 | C16: תכנון מתחם הר' 2200 | D16: 7000000 | E16: 7000000 | F16: =D16-E16 -> 0 | G16: 5600000 | H16: 2706855.1 | I16: 2159838.6 | J16: 155452.21 | K16: =SUM(I16:J16) -> 2315290.8 | L16: =H16+K16 -> 5022145.9 | M16: =P16+S16 -> 577854.06 | N16: 300000 | O16: =D16-L16-M16-N16 -> 1100000 | P16: =G16-L16 -> 577854.06 | S16: =SUM(Q16:R16) -> 0 | T16: =P16-M16+S16 -> 0 | U16: =N16-T16 -> 300000 | V16: =U16-Z16-W16-Y16 -> 300000 | AA16: תכנון מתחם חוף התכלת. יש עתירה של בעלי הקרקע הפרטיים על השתהות בקידום התוכנית . לו"ז מאי 2019. | AB16: 732000
A17: =A16+1 -> 12 | B17: 1129 | C17: עבודות פיתוח ותשתיות קטנות | D17: 7000000 | E17: 7000000 | F17: =D17-E17 -> 0 | G17: 5991771 | H17: 5044953.6 | J17: 55293.76 | K17: =SUM(I17:J17) -> 55293.76 | L17: =H17+K17 -> 5100247.4 | M17: =P17+S17-750000 -> 141523.61 | N17: 750000 | O17: =D17-L17-M17-N17 -> 1008229 | P17: =G17-L17 -> 891523.61 | S17: =SUM(Q17:R17) -> 0 | T17: =P17-M17+S17 -> 750000 | U17: =N17-T17 -> 0 | V17: =U17-Z17-W17-Y17 -> 0 | AA17: סל עבודות פיתוח קטנות מזדמנות הנדרשות במהלך השנה. | AB17: 742000
A18: =A17+1 -> 13 | B18: 1220 | C18: תכנונים כלליים | D18: 7000000 | E18: 7000000 | F18: =D18-E18 -> 0 | G18: 5600000 | H18: 4415045 | I18: 45396 | J18: 548104 | K18: =SUM(I18:J18) -> 593500 | L18: =H18+K18 -> 5008545 | M18: =P18+S18 -> 591455 | N18: =400000+300000 -> 700000 | O18: =D18-L18-M18-N18 -> 700000 | P18: =G18-L18 -> 591455 | S18: =SUM(Q18:R18) -> 0 | T18: =P18-M18+S18 -> 0 | U18: =N18-T18 -> 700000 | V18: =U18-Z18-W18-Y18 -> 700000 | AA18: סל תכנון של תוכניות ופרויקטים, מדידות ותכנון ראשוני. | AB18: 732000
A19: =A18+1 -> 14 | B19: 1314 | C19: רח' גבעת החלומות פיתוח | D19: =3500000-300000 -> 3200000 | E19: 3200000 | F19: =D19-E19 -> 0 | G19: 400000 | H19: 359314.49 | K19: =SUM(I19:J19) -> 0 | L19: =H19+K19 -> 359314.49 | M19: =P19+S19 -> 40685.51 | N19: =100000+150000 -> 250000 | O19: =D19-L19-M19-N19 -> 2550000 | P19: =G19-L19 -> 40685.51 | S19: =SUM(Q19:R19) -> 0 | T19: =P19-M19+S19 -> 0 | U19: =N19-T19 -> 250000 | V19: =U19-Z19-W19-Y19 -> 250000 | AA19: פיתוח רחוב גבעת החלומות לרבות עבודות ניקוז ותאורה. | AB19: 742000
A20: =A19+1 -> 15 | B20: 1320 | C20: פארק הבאסה שלב ב' | D20: 23500000 | E20: 23500000 | F20: =D20-E20 -> 0 | G20: 21550000 | H20: 21339439 | I20: 204226.2 | K20: =SUM(I20:J20) -> 204226.2 | L20: =H20+K20 -> 21543665 | M20: =P20+S20 -> 6334.72 | N20: =1800000-1800000 -> 0 | O20: =D20-L20-M20-N20 -> 1950000 | P20: =G20-L20 -> 6334.72 | S20: =SUM(Q20:R20) -> 0 | T20: =P20-M20+S20 -> 0 | U20: =N20-T20 -> 0 | V20: =U20-Z20-W20-Y20 -> 0 | AB20: 746000
A21: =A20+1 -> 16 | B21: 1322 | C21: מתחם נוף ים פיתוח | D21: 18500000 | E21: 18500000 | F21: =D21-E21 -> 0 | G21: =11400000-350000 -> 11050000 | H21: 9625168.6 | I21: 92414.99 | K21: =SUM(I21:J21) -> 92414.99 | L21: =H21+K21 -> 9717583.6 | M21: =P21+S21-1200000 -> 132416.42 | N21: =4000000-3000000 -> 1000000 | O21: =D21-L21-M21-N21 -> 7650000 | P21: =G21-L21 -> 1332416.4 | S21: =SUM(Q21:R21) -> 0 | T21: =P21-M21+S21 -> 1200000 | U21: =N21-T21 -> -200000 | V21: =U21-Z21-W21-Y21 -> -200000 | AA21: פיתוח הרחובות משער הים צפונה - תשתיות תאורה וגינון, הנשיא והתאנה. | AB21: 742000
A22: =A21+1 -> 17 | B22: 1324 | C22: שצ"פ אל על והמינהרה | D22: 180000 | E22: 180000 | F22: =D22-E22 -> 0 | G22: 180000 | H22: 120629.48 | J22: 56544 | K22: =SUM(I22:J22) -> 56544 | L22: =H22+K22 -> 177173.48 | M22: =P22+S22 -> 2826.52 | O22: =D22-L22-M22-N22 -> 0 | P22: =G22-L22 -> 2826.52 | S22: =SUM(Q22:R22) -> 0 | T22: =P22-M22+S22 -> 0 | U22: =N22-T22 -> 0 | V22: =U22-Z22-W22-Y22 -> 0 | AB22: 742000
A23: =A22+1 -> 18 | B23: 1357 | C23: ספורטק שלב ג' | D23: 25000000 | E23: 25000000 | F23: =D23-E23 -> 0 | G23: 12612000 | H23: 12420746 | I23: 118498.13 | K23: =SUM(I23:J23) -> 118498.13 | L23: =H23+K23 -> 12539244 | M23: =P23+S23 -> 72755.73 | N23: =6500000-6500000 -> 0 | O23: =D23-L23-M23-N23 -> 12388000 | P23: =G23-L23 -> 72755.73 | S23: =SUM(Q23:R23) -> 0 | T23: =P23-M23+S23 -> 0 | U23: =N23-T23 -> 0 | V23: =U23-Z23-W23-Y23 -> 0 | AB23: 829000
A24: =A23+1 -> 19 | B24: 1363 | C24: מתחם יהודה המכבי וזוהר טל | D24: 15500000 | E24: 15500000 | F24: =D24-E24 -> 0 | G24: 6050000 | H24: 898457 | I24: 91890.9 | J24: 402974 | K24: =SUM(I24:J24) -> 494864.9 | L24: =H24+K24 -> 1393321.9 | M24: =P24+S24-4000000 -> 656678.1 | N24: 6000000 | O24: =D24-L24-M24-N24 -> 7450000 | P24: =G24-L24 -> 4656678.1 | S24: =SUM(Q24:R24) -> 0 | T24: =P24-M24+S24 -> 4000000 | U24: =N24-T24 -> 2000000 | V24: =U24-Z24-W24-Y24 -> 2000000 | AA24: פיתוח מתחם הרחובות יהודה המכבי, זוהר טל, האצל, הגבורה. תכנון ותחילת ביצוע. | AB24: 742000
A25: =A24+1 -> 20 | B25: 1366 | C25: ליווי תשתיות לאומיות | D25: 1500000 | E25: 1500000 | F25: =D25-E25 -> 0 | G25: 916000 | H25: 738983 | J25: 7821 | K25: =SUM(I25:J25) -> 7821 | L25: =H25+K25 -> 746804 | M25: =P25+S25-70000 -> 99196 | O25: =D25-L25-M25-N25 -> 654000 | P25: =G25-L25 -> 169196 | S25: =SUM(Q25:R25) -> 0 | T25: =P25-M25+S25 -> 70000 | U25: =N25-T25 -> -70000 | V25: =U25-Z25-W25-Y25 -> -70000 | AA25: ליווי יועצי תנועה, איכות הסביבה, במסגרת סלילת כביש 531 וכביש 20. | AB25: 742000
A26: =A25+1 -> 21 | B26: 1406 | C26: שימור אתרים | D26: =1400000+250000-350000 -> 1300000 | E26: 1300000 | F26: =D26-E26 -> 0 | G26: =1000000+300000 -> 1300000 | H26: 694328 | I26: 126373 | J26: 12432.48 | K26: =SUM(I26:J26) -> 138805.48 | L26: =H26+K26 -> 833133.48 | M26: =P26+S26 -> 466866.52 | O26: =D26-L26-M26-N26 -> 0 | P26: =G26-L26 -> 466866.52 | S26: =SUM(Q26:R26) -> 0 | T26: =P26-M26+S26 -> 0 | U26: =N26-T26 -> 0 | V26: =U26-Z26-W26-Y26 -> 0 | AA26: הכנת תב"עות לשימור אתרים. | AB26: 732000
A27: =A26+1 -> 22 | B27: 1407 | C27: תב"עות קטנות | D27: =6395000-1500000 -> 4895000 | E27: 4895000 | F27: =D27-E27 -> 0 | G27: 3495000 | H27: 2371902 | I27: 111224.98 | J27: 773210 | K27: =SUM(I27:J27) -> 884434.98 | L27: =H27+K27 -> 3256337 | M27: =P27+S27 -> 438663.02 | N27: =1000000-500000 -> 500000 | O27: =D27-L27-M27-N27 -> 700000 | P27: =G27-L27 -> 238663.02 | Q27: 200000 | S27: =SUM(Q27:R27) -> 200000 | T27: =P27-M27+S27 -> 0 | U27: =N27-T27 -> 500000 | V27: =U27-Z27-W27-Y27 -> 500000 | AA27: סל תכנון של תב"עות הנדרשות במהלך השנה. | AB27: 732000
A28: =A27+1 -> 23 | B28: 1408 | C28: תב"ע שיקום חופי הרצליה | D28: 1000000 | E28: 1000000 | F28: =D28-E28 -> 0 | G28: 100000 | H28: 0 | K28: =SUM(I28:J28) -> 0 | L28: =H28+K28 -> 0 | M28: =P28+S28 -> 200000 | N28: =300000-300000 -> 0 | O28: =D28-L28-M28-N28 -> 800000 | P28: =G28-L28 -> 100000 | Q28: 100000 | S28: =SUM(Q28:R28) -> 100000 | T28: =P28-M28+S28 -> 0 | U28: =N28-T28 -> 0 | V28: =U28-Z28-W28-Y28 -> 0 | AA28: טיפול תכנוני בהגנה על המצוקים מפני התמוטטות. | AB28: 732000
A29: =A28+1 -> 24 | B29: 1409 | C29: חידוש תוקף תכנית המתאר תוכנית המתאר הכוללנית (*) עדכון שם | D29: 7680000 | E29: 7300000 | F29: =D29-E29 -> 380000 | G29: =4000000+1000000 -> 5000000 | H29: 2980349 | I29: 558899.5 | J29: 324383 | K29: =SUM(I29:J29) -> 883282.5 | L29: =H29+K29 -> 3863631.5 | M29: =P29+S29-1000000 -> 136368.5 | N29: =3300000+380000 -> 3680000 | O29: =D29-L29-M29-N29 -> 0 | P29: =G29-L29 -> 1136368.5 | S29: =SUM(Q29:R29) -> 0 | T29: =P29-M29+S29 -> 1000000 | U29: =N29-T29 -> 2680000 | V29: =U29-Z29-W29-Y29 -> 2680000 | AA29: הכנת תוכנית מתאר כוללנית על מנת לאפשר לעיריה לתכנן תוכניות בסמכות וועדה מקומית. | AB29: 732000
A30: =A29+1 -> 25 | B30: 1457 | C30: ליווי "מהיר" לעיר | D30: 1100000 | E30: 1100000 | F30: =D30-E30 -> 0 | G30: 430000 | H30: 157316 | J30: 44257 | K30: =SUM(I30:J30) -> 44257 | L30: =H30+K30 -> 201573 | M30: =P30+S30 -> 228427 | N30: =670000-170000-500000 -> 0 | O30: =D30-L30-M30-N30 -> 670000 | P30: =G30-L30 -> 228427 | S30: =SUM(Q30:R30) -> 0 | T30: =P30-M30+S30 -> 0 | U30: =N30-T30 -> 0 | V30: =U30-Z30-W30-Y30 -> 0 | AA30: העסקת צוות יועצים שילווה את התכנון והביצוע של הפרויקט. | AB30: 742000
A31: =A30+1 -> 26 | B31: 1466 | C31: תמ"א 38 | D31: 2200000 | E31: 2200000 | F31: =D31-E31 -> 0 | G31: 1500000 | H31: 1161644 | J31: 110168 | K31: =SUM(I31:J31) -> 110168 | L31: =H31+K31 -> 1271812 | M31: =P31+S31-100000 -> 128188 | N31: =200000+50000 -> 250000 | O31: =D31-L31-M31-N31 -> 550000 | P31: =G31-L31 -> 228188 | S31: =SUM(Q31:R31) -> 0 | T31: =P31-M31+S31 -> 100000 | U31: =N31-T31 -> 150000 | V31: =U31-Z31-W31-Y31 -> 150000 | AA31: העצמת הזכויות הנוספות לבנינים לצורך הגברת הכדאיות של ביצוע חיזוק מבנים. | AB31: 732000
A32: =A31+1 -> 27 | B32: 1511 | C32: פתוח קטעי רח' דרך ירושלים גולומב | D32: 960000 | E32: 960000 | F32: =D32-E32 -> 0 | G32: 100000 | H32: 17284 | K32: =SUM(I32:J32) -> 0 | L32: =H32+K32 -> 17284 | M32: =P32+S32 -> 82716 | O32: =D32-L32-M32-N32 -> 860000 | P32: =G32-L32 -> 82716 | S32: =SUM(Q32:R32) -> 0 | T32: =P32-M32+S32 -> 0 | U32: =N32-T32 -> 0 | V32: =U32-Z32-W32-Y32 -> 0 | AA32: הקמת חניות והסדרים גיאומטרים ליד מבנה לזכר השואה שיוקם ע"י היזם (ליאור דינור ואחרים). מימון היזם מובטח בערבות. | AB32: 742000
A33: =A32+1 -> 28 | B33: 1527 | C33: הר' 2159 התחדשות עירונית יד התשעה (*) עדכון שם | D33: 3000000 | E33: 3000000 | F33: =D33-E33 -> 0 | G33: 1500000 | H33: 821144.02 | J33: 1431 | K33: =SUM(I33:J33) -> 1431 | L33: =H33+K33 -> 822575.02 | M33: =P33+S33-650000 -> 27424.98 | N33: =1000000-1000000 -> 0 | O33: =D33-L33-M33-N33 -> 2150000 | P33: =G33-L33 -> 677424.98 | S33: =SUM(Q33:R33) -> 0 | T33: =P33-M33+S33 -> 650000 | U33: =N33-T33 -> -650000 | V33: =U33-Z33-W33-Y33 -> -650000 | AA33: תכנון התחדשות עירונית ביד התשעה. | AB33: 732000
A34: =A33+1 -> 29 | B34: 1529 | C34: הוצאות בקשר עם תביעות סעיף 197 | D34: =350000+50000 -> 400000 | E34: 350000 | F34: =D34-E34 -> 50000 | G34: =200000+100000+50000 -> 350000 | H34: 183866.55 | K34: =SUM(I34:J34) -> 0 | L34: =H34+K34 -> 183866.55 | M34: =P34+S34 -> 166133.45 | N34: 50000 | O34: =D34-L34-M34-N34 -> 0 | P34: =G34-L34 -> 166133.45 | S34: =SUM(Q34:R34) -> 0 | T34: =P34-M34+S34 -> 0 | U34: =N34-T34 -> 50000 | V34: =U34-Z34-W34-Y34 -> 50000 | AA34: סל הוצאות בקשר עם תביעות סעיף 197. | AB34: 760000
A35: =A34+1 -> 30 | B35: 1551 | C35: צפון הרצליה הר' 2035 | D35: =1225240-700000 -> 525240 | E35: 225240 | F35: =D35-E35 -> 300000 | G35: 225240 | H35: 204671 | J35: 19855 | K35: =SUM(I35:J35) -> 19855 | L35: =H35+K35 -> 224526 | M35: =P35+S35 -> 714 | N35: =800000-500000 -> 300000 | O35: =D35-L35-M35-N35 -> 0 | P35: =G35-L35 -> 714 | S35: =SUM(Q35:R35) -> 0 | T35: =P35-M35+S35 -> 0 | U35: =N35-T35 -> 300000 | V35: =U35-Z35-W35-Y35 -> 300000 | AA35: הערכות להתנגדות לתוכנית שמקדם מינהל התכנון והועדה המחוזית לכל צפון הרצליה ללא שיתוף העירייה. | AB35: 732000
A36: =A35+1 -> 31 | B36: 1568 | C36: פיתוח פארק שלב ג' | D36: 46375301 | E36: 46375301 | F36: =D36-E36 -> 0 | G36: 28875301 | H36: 27763823 | I36: 822126.24 | J36: 55294 | K36: =SUM(I36:J36) -> 877420.24 | L36: =H36+K36 -> 28641244 | M36: =P36+S36 -> 234057.45 | N36: =17500000-17500000 -> 0 | O36: =D36-L36-M36-N36 -> 17500000 | P36: =G36-L36 -> 234057.45 | S36: =SUM(Q36:R36) -> 0 | T36: =P36-M36+S36 -> 0 | U36: =N36-T36 -> 0 | V36: =U36-Z36-W36-Y36 -> 0 | AB36: 746000
A37: =A36+1 -> 32 | B37: 1576 | C37: הוצאות אכיפה-דירות נופש במרינה | D37: 1000000 | E37: 1000000 | F37: =D37-E37 -> 0 | G37: 450000 | H37: 356478.17 | I37: 42295 | K37: =SUM(I37:J37) -> 42295 | L37: =H37+K37 -> 398773.17 | M37: =P37+S37-30000 -> 21226.83 | O37: =D37-L37-M37-N37 -> 580000 | P37: =G37-L37 -> 51226.83 | S37: =SUM(Q37:R37) -> 0 | T37: =P37-M37+S37 -> 30000 | U37: =N37-T37 -> -30000 | V37: =U37-Z37-W37-Y37 -> -30000 | AA37: עלויות אכיפה צווי בית משפט במרינה. | AB37: 732000
A38: =A37+1 -> 33 | B38: 1587 | C38: פיתוח מתחם המכללות הר' 1920/1 | D38: 34200000 | E38: 34200000 | F38: =D38-E38 -> 0 | G38: 10800000 | H38: 7946383.2 | I38: 512415.18 | J38: 182023 | K38: =SUM(I38:J38) -> 694438.18 | L38: =H38+K38 -> 8640821.3 | M38: =P38+S38 -> 2159178.7 | N38: =12500000-6500000 -> 6000000 | O38: =D38-L38-M38-N38 -> 17400000 | P38: =G38-L38 -> 2159178.7 | S38: =SUM(Q38:R38) -> 0 | T38: =P38-M38+S38 -> 0 | U38: =N38-T38 -> 6000000 | V38: =U38-Z38-W38-Y38 -> 6000000 | AA38: עבודה סלילה, גינון ותאורה במתחם רחובות דליה רביקוביץ, אסתר ראב וסמוכים. | AB38: 742000
A39: =A38+1 -> 34 | B39: 1601 | C39: העתקות פרויקטים שונים | D39: 700000 | E39: 700000 | F39: =D39-E39 -> 0 | G39: 650000 | H39: 484363 | J39: 36804 | K39: =SUM(I39:J39) -> 36804 | L39: =H39+K39 -> 521167 | M39: =P39+S39 -> 128833 | O39: =D39-L39-M39-N39 -> 50000 | P39: =G39-L39 -> 128833 | S39: =SUM(Q39:R39) -> 0 | T39: =P39-M39+S39 -> 0 | U39: =N39-T39 -> 0 | V39: =U39-Z39-W39-Y39 -> 0 | AB39: 742000
A40: =A39+1 -> 35 | B40: 1602 | C40: רח' ז'בוטינסקי אלתרמן הבריגדה | D40: =34500000-5000000 -> 29500000 | E40: 34500000 | F40: =D40-E40 -> -5000000 | G40: 34500000 | H40: 12660981 | I40: 15501950 | J40: 185508.12 | K40: =SUM(I40:J40) -> 15687458 | L40: =H40+K40 -> 28348439 | M40: =P40+S40-5000000 -> 1151560.6 | O40: =D40-L40-M40-N40 -> 0 | P40: =G40-L40 -> 6151560.6 | S40: =SUM(Q40:R40) -> 0 | T40: =P40-M40+S40 -> 5000000 | U40: =N40-T40 -> -5000000 | V40: =U40-Z40-W40-Y40 -> -5000000 | AA40: עבודות פיתוח במתחם הרחובות והרחבתם. | AB40: 742000
A41: =A40+1 -> 36 | B41: 1619 | C41: הסדרת שצ"פ למגורים הר' 2257 | D41: =350000-100000 -> 250000 | E41: 200000 | F41: =D41-E41 -> 50000 | G41: 200000 | H41: 75387 | J41: 25400.9 | K41: =SUM(I41:J41) -> 25400.9 | L41: =H41+K41 -> 100787.9 | M41: =P41+S41 -> 99212.1 | N41: =100000-50000 -> 50000 | O41: =D41-L41-M41-N41 -> 0 | P41: =G41-L41 -> 99212.1 | S41: =SUM(Q41:R41) -> 0 | T41: =P41-M41+S41 -> 0 | U41: =N41-T41 -> 50000 | V41: =U41-Z41-W41-Y41 -> 50000 | AA41: תכנון שינוי תב"ע משצ"פ למגורים בעקבות היתרים קיימים משנות ה - 90 שאינם תואמים למצב הסטטוטורי הקיים. | AB41: 732000
A42: =A41+1 -> 37 | B42: 1620 | C42: קשר גשר תכנון חיבוריות בין מזרח למערב (*) עדכון שם | D42: 1000000 | E42: 1000000 | F42: =D42-E42 -> 0 | G42: 100000 | H42: 0 | K42: =SUM(I42:J42) -> 0 | L42: =H42+K42 -> 0 | M42: =P42+S42 -> 100000 | N42: =300000-100000 -> 200000 | O42: =D42-L42-M42-N42 -> 700000 | P42: =G42-L42 -> 100000 | S42: =SUM(Q42:R42) -> 0 | T42: =P42-M42+S42 -> 0 | U42: =N42-T42 -> 200000 | V42: =U42-Z42-W42-Y42 -> 200000 | AA42: תכנון כולל לסוגיית חיזוק הקשר בין מזרח העיר למערבה באמצעות תוספות של גשרים להולכי רגל ורכב דו גלגלי. | AB42: 732000
A43: =A42+1 -> 38 | B43: 1660 | C43: תכנון פרויקטים פינוי בינוי | D43: 2000000 | E43: 2000000 | F43: =D43-E43 -> 0 | G43: 350000 | H43: 91264 | J43: 16666.65 | K43: =SUM(I43:J43) -> 16666.65 | L43: =H43+K43 -> 107930.65 | M43: =P43+S43-150000 -> 92069.35 | N43: =500000-100000 -> 400000 | O43: =D43-L43-M43-N43 -> 1400000 | P43: =G43-L43 -> 242069.35 | S43: =SUM(Q43:R43) -> 0 | T43: =P43-M43+S43 -> 150000 | U43: =N43-T43 -> 250000 | V43: =U43-Z43-W43-Y43 -> 250000 | AA43: תכנון פרויקטים להתחדשות עירונית ופינוי בינוי. | AB43: 732000
A44: =A43+1 -> 39 | B44: 1670 | C44: פתוח מתחם הר' 1972 תחנה מרכזית | D44: 12500000 | E44: 12500000 | F44: =D44-E44 -> 0 | G44: 3800000 | H44: 168571 | I44: 195569.65 | J44: =968112-918635 -> 49477 | K44: =SUM(I44:J44) -> 245046.65 | L44: =H44+K44 -> 413617.65 | M44: =P44+S44-2450000-900000 -> 36382.35 | N44: =2450000-2050000 -> 400000 | O44: =D44-L44-M44-N44 -> 11650000 | P44: =G44-L44 -> 3386382.4 | S44: =SUM(Q44:R44) -> 0 | T44: =P44-M44+S44 -> 3350000 | U44: =N44-T44 -> -2950000 | V44: =U44-Z44-W44-Y44 -> -2950000 | AA44: תכנון פיתוח מתחם התחנה. | AB44: 742000
A45: =A44+1 -> 40 | B45: 1674 | C45: התחדשות עירונית | D45: 2300000 | E45: 2100000 | F45: =D45-E45 -> 200000 | G45: 1800000 | H45: 1346844 | I45: 106408 | J45: 225895 | K45: =SUM(I45:J45) -> 332303 | L45: =H45+K45 -> 1679147 | M45: =P45+S45 -> 120853 | N45: 500000 | O45: =D45-L45-M45-N45 -> 0 | P45: =G45-L45 -> 120853 | S45: =SUM(Q45:R45) -> 0 | T45: =P45-M45+S45 -> 0 | U45: =N45-T45 -> 500000 | V45: =U45-Z45-W45-Y45 -> 500000 | AA45: בדיקת התכנות טרם קביעת ותוך כדי בחינת מתחמי פינוי בינוי. | AB45: 732000
A46: =A45+1 -> 41 | B46: 1692 | C46: פינוי בינוי מעונות שרה | D46: 2450000 | E46: 2450000 | F46: =D46-E46 -> 0 | G46: 1439186 | H46: 552319 | I46: 128716 | J46: 186 | K46: =SUM(I46:J46) -> 128902 | L46: =H46+K46 -> 681221 | M46: =P46+S46 -> 757965 | N46: =332242+370000 -> 702242 | O46: =D46-L46-M46-N46 -> 308572 | P46: =G46-L46 -> 757965 | S46: =SUM(Q46:R46) -> 0 | T46: =P46-M46+S46 -> 0 | U46: =N46-T46 -> 702242 | V46: =U46-Z46-W46-Y46 -> 394919 | Z46: =307323 -> 307323 | AA46: תכנון מתחם מעונות שרה לפינוי ובינוי.מימון משרד הבינוי. | AB46: 732000
A47: =A46+1 -> 42 | B47: 1693 | C47: פינוי בינוי צומת כדורי | D47: 4500000 | E47: 4500000 | F47: =D47-E47 -> 0 | G47: =362478+1873003 -> 2235481 | H47: 312538.53 | I47: 48062.98 | K47: =SUM(I47:J47) -> 48062.98 | L47: =H47+K47 -> 360601.51 | M47: =P47+S47 -> 1874879.5 | N47: =1100000-1100000 -> 0 | O47: =D47-L47-M47-N47 -> 2264519 | P47: =G47-L47 -> 1874879.5 | S47: =SUM(Q47:R47) -> 0 | T47: =P47-M47+S47 -> 0 | U47: =N47-T47 -> 0 | V47: =U47-Z47-W47-Y47 -> -17810 | Z47: 17810 | AA47: תכנון מתחם צומת כדורי לפינוי ובינוי.עדכון מימון מ. הבינוי. | AB47: 732000
A48: =A47+1 -> 43 | B48: 1701 | C48: תב"ע הר' 2394 (לשעבר הר 2159 ) | D48: 1250000 | E48: 1250000 | F48: =D48-E48 -> 0 | G48: 850000 | H48: 108257 | I48: 104008.32 | J48: 169952 | K48: =SUM(I48:J48) -> 273960.32 | L48: =H48+K48 -> 382217.32 | M48: =P48+S48-270000 -> 197782.68 | N48: 270000 | O48: =D48-L48-M48-N48 -> 400000 | P48: =G48-L48 -> 467782.68 | S48: =SUM(Q48:R48) -> 0 | T48: =P48-M48+S48 -> 270000 | U48: =N48-T48 -> 0 | V48: =U48-Z48-W48-Y48 -> 0 | AA48: תכנון תב"ע לשכונה חדשה בהרצליה הצעירה. שטח בגודל של כ - 50 דונם , כ - 300 יח"ד. | AB48: 732000
A49: =A48+1 -> 44 | B49: 1722 | C49: חיבור גשר הולכי רגל כביש 20 | D49: 2400000 | E49: 2400000 | F49: =D49-E49 -> 0 | G49: 400000 | H49: 98067.4 | I49: 67052.7 | J49: 47158.73 | K49: =SUM(I49:J49) -> 114211.43 | L49: =H49+K49 -> 212278.83 | M49: =P49+S49-100000 -> 87721.17 | O49: =D49-L49-M49-N49 -> 2100000 | P49: =G49-L49 -> 187721.17 | S49: =SUM(Q49:R49) -> 0 | T49: =P49-M49+S49 -> 100000 | U49: =N49-T49 -> -100000 | V49: =U49-Z49-W49-Y49 -> -100000 | AA49: חיבור פארק שלב ב' עם שכונת המסילה בגשר הולכי רגל מעל כביש 20. | AB49: 742000
A50: =A49+1 -> 45 | B50: 1725 | C50: צומת סוקולוב בן גוריון | D50: 13520000 | E50: 13520000 | F50: =D50-E50 -> 0 | G50: 13520000 | H50: 13343609 | I50: 48702.71 | J50: 26687.57 | K50: =SUM(I50:J50) -> 75390.28 | L50: =H50+K50 -> 13419000 | M50: =P50+S50-100000 -> 1000.4 | O50: =D50-L50-M50-N50 -> 100000 | P50: =G50-L50 -> 101000.4 | S50: =SUM(Q50:R50) -> 0 | T50: =P50-M50+S50 -> 100000 | U50: =N50-T50 -> -100000 | V50: =U50-Z50-W50-Y50 -> -100000 | AB50: 742000
A51: =A50+1 -> 46 | B51: 1744 | C51: מערכת בקרת רמזורים | D51: 13000000 | E51: 13000000 | F51: =D51-E51 -> 0 | G51: 8200000 | H51: 3125812 | J51: 3820125 | K51: =SUM(I51:J51) -> 3820125 | L51: =H51+K51 -> 6945937 | M51: =P51+S51-700000 -> 554063 | N51: =4800000+700000 -> 5500000 | O51: =D51-L51-M51-N51 -> 0 | P51: =G51-L51 -> 1254063 | S51: =SUM(Q51:R51) -> 0 | T51: =P51-M51+S51 -> 700000 | U51: =N51-T51 -> 4800000 | V51: =U51-Z51-W51-Y51 -> 4800000 | AA51: הקמת מערכת בקרת רמזורים ברחבי העיר. | AB51: 742000
A52: =A51+1 -> 47 | B52: 1746 | C52: תכנון חניון במתחם אגד | D52: 55000000 | E52: 55000000 | F52: =D52-E52 -> 0 | G52: 0 | H52: 0 | K52: =SUM(I52:J52) -> 0 | L52: =H52+K52 -> 0 | M52: =P52+S52 -> 0 | O52: =D52-L52-M52-N52 -> 55000000 | P52: =G52-L52 -> 0 | S52: =SUM(Q52:R52) -> 0 | T52: =P52-M52+S52 -> 0 | U52: =N52-T52 -> 0 | V52: =U52-Z52-W52-Y52 -> 0 | AB52: 742000
A53: =A52+1 -> 48 | B53: 1748 | C53: תכנון בנייה ציבורית | D53: =1120000-1000000 -> 120000 | E53: 120000 | F53: =D53-E53 -> 0 | G53: 120000 | H53: 89830.86 | I53: 29280.55 | K53: =SUM(I53:J53) -> 29280.55 | L53: =H53+K53 -> 119111.41 | M53: =P53+S53 -> 888.59 | N53: =1000000-1000000 -> 0 | O53: =D53-L53-M53-N53 -> 0 | P53: =G53-L53 -> 888.59 | S53: =SUM(Q53:R53) -> 0 | T53: =P53-M53+S53 -> 0 | U53: =N53-T53 -> 0 | V53: =U53-Z53-W53-Y53 -> 0 | AB53: 732000
A54: =A53+1 -> 49 | B54: 1755 | C54: תב"ע חניון שטח מרינה לי 2073 | D54: 200000 | E54: 200000 | F54: =D54-E54 -> 0 | G54: 200000 | H54: 69371.84 | J54: 21992.97 | K54: =SUM(I54:J54) -> 21992.97 | L54: =H54+K54 -> 91364.81 | M54: =P54+S54-100000 -> 8635.19 | O54: =D54-L54-M54-N54 -> 100000 | P54: =G54-L54 -> 108635.19 | S54: =SUM(Q54:R54) -> 0 | T54: =P54-M54+S54 -> 100000 | U54: =N54-T54 -> -100000 | V54: =U54-Z54-W54-Y54 -> -100000 | AA54: הכנת תב"ע לבניית חניון מתחת לשצ"פ במתחם "מרינה לי". | AB54: 732000
A55: =A54+1 -> 50 | B55: 1756 | C55: מסמכי מדיניות להתחדשות עירונית בשכונות | D55: 800000 | E55: 800000 | F55: =D55-E55 -> 0 | G55: 400000 | H55: 239672 | J55: 44604 | K55: =SUM(I55:J55) -> 44604 | L55: =H55+K55 -> 284276 | M55: =P55+S55-100000 -> 15724 | N55: 100000 | O55: =D55-L55-M55-N55 -> 400000 | P55: =G55-L55 -> 115724 | S55: =SUM(Q55:R55) -> 0 | T55: =P55-M55+S55 -> 100000 | U55: =N55-T55 -> 0 | V55: =U55-Z55-W55-Y55 -> 0 | AA55: הכנת מסמכי מדיניות להתחדשות עירונית בשכונות לגיבוש מדיניות לחידוש המרקם הקיים בשכונות. | AB55: 732000
A56: =A55+1 -> 51 | B56: 1757 | C56: תב"ע לדיור בר השגה ברב קוק | D56: 300000 | E56: 300000 | F56: =D56-E56 -> 0 | G56: 110000 | H56: 10908.07 | I56: 908.93 | K56: =SUM(I56:J56) -> 908.93 | L56: =H56+K56 -> 11817 | M56: =P56+S56 -> 98183 | O56: =D56-L56-M56-N56 -> 190000 | P56: =G56-L56 -> 98183 | S56: =SUM(Q56:R56) -> 0 | T56: =P56-M56+S56 -> 0 | U56: =N56-T56 -> 0 | V56: =U56-Z56-W56-Y56 -> 0 | AB56: 732000
A57: =A56+1 -> 52 | B57: 1758 | C57: תב"ע לדיור בר השגה בשמשון הגיבור | D57: 300000 | E57: 300000 | F57: =D57-E57 -> 0 | G57: 120000 | H57: 10908.07 | I57: 4828.43 | K57: =SUM(I57:J57) -> 4828.43 | L57: =H57+K57 -> 15736.5 | M57: =P57+S57-104000 -> 263.5 | O57: =D57-L57-M57-N57 -> 284000 | P57: =G57-L57 -> 104263.5 | S57: =SUM(Q57:R57) -> 0 | T57: =P57-M57+S57 -> 104000 | U57: =N57-T57 -> -104000 | V57: =U57-Z57-W57-Y57 -> -104000 | AB57: 732000
A58: =A57+1 -> 53 | B58: 1759 | C58: תוכנית אסטרטגית להתייעלות עירונית במרכז העיר ובשכונות (*) עדכון שם | D58: 940000 | E58: 600000 | F58: =D58-E58 -> 340000 | G58: 500000 | H58: 478660 | I58: 600 | J58: 17151.75 | K58: =SUM(I58:J58) -> 17751.75 | L58: =H58+K58 -> 496411.75 | M58: =P58+S58 -> 3588.25 | N58: 440000 | O58: =D58-L58-M58-N58 -> 0 | P58: =G58-L58 -> 3588.25 | S58: =SUM(Q58:R58) -> 0 | T58: =P58-M58+S58 -> 0 | U58: =N58-T58 -> 440000 | V58: =U58-Z58-W58-Y58 -> 440000 | AA58: תוכנית לצורך מידע מה וכמה ניתן לבנות בהתאם לתשתיות הקיימות במרכז ותוכנית לבחינת הנדרש לאוכלוסיה בשכונות עפ"י תחזיות גידול האוכלוסיה. | AB58: 732000
A59: =A58+1 -> 54 | B59: 1760 | C59: תוכנית אסטרטגית להתי' עירונית באזהת"ש (*) עדכון שם | D59: =1100000-200000 -> 900000 | E59: 900000 | F59: =D59-E59 -> 0 | G59: 300000 | H59: 38898 | J59: 1228 | K59: =SUM(I59:J59) -> 1228 | L59: =H59+K59 -> 40126 | M59: =P59+S59 -> 259874 | O59: =D59-L59-M59-N59 -> 600000 | P59: =G59-L59 -> 259874 | Q59: =100000-100000 -> 0 | S59: =SUM(Q59:R59) -> 0 | T59: =P59-M59+S59 -> 0 | U59: =N59-T59 -> 0 | V59: =U59-Z59-W59-Y59 -> 0 | AA59: בדיקת התכנות והכנת תב"עות של מתחמים מפוצלים בין מס' בעלים באיזהת"ש החשובים מבחינה ציבורית. | AB59: 732000
A60: =A59+1 -> 55 | B60: 1762 | C60: בקשות להיתר בלתי צפויות | D60: 500000 | E60: 500000 | F60: =D60-E60 -> 0 | G60: 100000 | H60: 11442 | K60: =SUM(I60:J60) -> 0 | L60: =H60+K60 -> 11442 | M60: =P60+S60-30000 -> 58558 | O60: =D60-L60-M60-N60 -> 430000 | P60: =G60-L60 -> 88558 | S60: =SUM(Q60:R60) -> 0 | T60: =P60-M60+S60 -> 30000 | U60: =N60-T60 -> -30000 | V60: =U60-Z60-W60-Y60 -> -30000 | AA60: סל של שעות ייעוץ עבור בקשות פרטניות להיתר לפי צורך. | AB60: 732000
A61: =A60+1 -> 56 | B61: 1799 | C61: תב"ע קרית השחקים | D61: 1000000 | E61: 1000000 | F61: =D61-E61 -> 0 | G61: 350000 | H61: 24106 | J61: 20567.86 | K61: =SUM(I61:J61) -> 20567.86 | L61: =H61+K61 -> 44673.86 | M61: =P61+S61-200000 -> 105326.14 | N61: =100000+200000-100000 -> 200000 | O61: =D61-L61-M61-N61 -> 650000 | P61: =G61-L61 -> 305326.14 | S61: =SUM(Q61:R61) -> 0 | T61: =P61-M61+S61 -> 200000 | U61: =N61-T61 -> 0 | V61: =U61-Z61-W61-Y61 -> 0 | AA61: תכנון איזור תעשיה ושכונת מגורים במשולש התחבורה. מקודם בותמ"ל . | AB61: 732000
A62: =A61+1 -> 57 | B62: 1804 | C62: פית' מדרגות קיר תומך פנחס רוזן | D62: =50000+150000 -> 200000 | E62: 200000 | F62: =D62-E62 -> 0 | G62: 200000 | H62: 0 | J62: 47073.2 | K62: =SUM(I62:J62) -> 47073.2 | L62: =H62+K62 -> 47073.2 | M62: =P62+S62 -> 152926.8 | O62: =D62-L62-M62-N62 -> 0 | P62: =G62-L62 -> 152926.8 | S62: =SUM(Q62:R62) -> 0 | T62: =P62-M62+S62 -> 0 | U62: =N62-T62 -> 0 | V62: =U62-Z62-W62-Y62 -> 0 | AB62: 742000
A63: =A62+1 -> 58 | B63: 1805 | C63: שביל אופניים הרצליה-ת"א הפקעות | D63: 1000000 | E63: 1000000 | F63: =D63-E63 -> 0 | G63: 110000 | H63: 2677 | K63: =SUM(I63:J63) -> 0 | L63: =H63+K63 -> 2677 | M63: =P63+S63-50000 -> 57323 | O63: =D63-L63-M63-N63 -> 940000 | P63: =G63-L63 -> 107323 | S63: =SUM(Q63:R63) -> 0 | T63: =P63-M63+S63 -> 50000 | U63: =N63-T63 -> -50000 | V63: =U63-Z63-W63-Y63 -> -50000 | AA63: טרם הופקעו כל החלקות. | AB63: 742000
A64: =A63+1 -> 59 | B64: 1811 | C64: תכנון דיור בן ציון מיכאלי | D64: 250000 | E64: 250000 | F64: =D64-E64 -> 0 | G64: 250000 | H64: 0 | K64: =SUM(I64:J64) -> 0 | L64: =H64+K64 -> 0 | M64: =P64+S64 -> 250000 | O64: =D64-L64-M64-N64 -> 0 | P64: =G64-L64 -> 250000 | S64: =SUM(Q64:R64) -> 0 | T64: =P64-M64+S64 -> 0 | U64: =N64-T64 -> 0 | V64: =U64-Z64-W64-Y64 -> 0 | AA64: העסקת צוות יועצים לתכנון התב"ע לדיור בר השגה רח' בן ציון. | AB64: 732000
A65: =A64+1 -> 60 | B65: 1826 | C65: פיתוח שצ"פים במורדי הגטאות | D65: 1500000 | E65: 1500000 | F65: =D65-E65 -> 0 | G65: 400000 | H65: 14227 | J65: 11756.75 | K65: =SUM(I65:J65) -> 11756.75 | L65: =H65+K65 -> 25983.75 | M65: =P65+S65 -> 374016.25 | N65: 1100000 | O65: =D65-L65-M65-N65 -> 0 | P65: =G65-L65 -> 374016.25 | S65: =SUM(Q65:R65) -> 0 | T65: =P65-M65+S65 -> 0 | U65: =N65-T65 -> 1100000 | V65: =U65-Z65-W65-Y65 -> 1100000 | AA65: הסדרת דרכי גישה למבני מגורים והסדרת פלישות לשטחי ציבור. המשך תכנון וביצוע השצ"פים כ - 1,300 מ"ר. | AB65: 742000
A66: =A65+1 -> 61 | B66: 1842 | C66: תב"ע תחנה מרכזית חדשה זמנית | D66: 800000 | E66: 800000 | F66: =D66-E66 -> 0 | G66: 200000 | H66: 0 | K66: =SUM(I66:J66) -> 0 | L66: =H66+K66 -> 0 | M66: =P66+S66 -> 200000 | O66: =D66-L66-M66-N66 -> 600000 | P66: =G66-L66 -> 200000 | S66: =SUM(Q66:R66) -> 0 | T66: =P66-M66+S66 -> 0 | U66: =N66-T66 -> 0 | V66: =U66-Z66-W66-Y66 -> 0 | AA66: תכנון תב"ע לשטח התחנה המרכזית החדשה. | AB66: 732000
A67: =A66+1 -> 62 | B67: 1843 | C67: פינוי בינוי מול התחנה | D67: 380000 | E67: 380000 | F67: =D67-E67 -> 0 | G67: 70000 | H67: 0 | I67: 1.17 | K67: =SUM(I67:J67) -> 1.17 | L67: =H67+K67 -> 1.17 | M67: =P67+S67-69000 -> 998.83 | N67: =350000-100000 -> 250000 | O67: =D67-L67-M67-N67 -> 129000 | P67: =G67-L67 -> 69998.83 | S67: =SUM(Q67:R67) -> 0 | T67: =P67-M67+S67 -> 69000 | U67: =N67-T67 -> 181000 | V67: =U67-Z67-W67-Y67 -> 181000 | AA67: הליך התנעה לתכנון מתחם לפינוי בינוי מול התחנה. | AB67: 732000
A68: =A67+1 -> 63 | B68: 1844 | C68: פינוי בינוי סוקולוב רח' ירושלים | D68: 2078338 | E68: 732000 | F68: =D68-E68 -> 1346338 | G68: 70000 | H68: 62477.48 | K68: =SUM(I68:J68) -> 0 | L68: =H68+K68 -> 62477.48 | M68: =P68+S68 -> 7522.52 | N68: =1338338+670000 -> 2008338 | O68: =D68-L68-M68-N68 -> 0 | P68: =G68-L68 -> 7522.52 | S68: =SUM(Q68:R68) -> 0 | T68: =P68-M68+S68 -> 0 | U68: =N68-T68 -> 2008338 | V68: =U68-Z68-W68-Y68 -> 753894 | Z68: 1254444 | AA68: פינוי בינוי סוקולוב רח' ירושלים . מימון מ. הבינוי. | AB68: 732000
A69: =A68+1 -> 64 | B69: 1882 | C69: פיתוח מתחם אולפני הרצליה | D69: 14300000 | E69: 14300000 | F69: =D69-E69 -> 0 | G69: 200000 | H69: 0 | K69: =SUM(I69:J69) -> 0 | L69: =H69+K69 -> 0 | M69: =P69+S69-200000 -> 0 | N69: =200000+250000 -> 450000 | O69: =D69-L69-M69-N69 -> 13850000 | P69: =G69-L69 -> 200000 | S69: =SUM(Q69:R69) -> 0 | T69: =P69-M69+S69 -> 200000 | U69: =N69-T69 -> 250000 | V69: =U69-Z69-W69-Y69 -> 250000 | AA69: פיתוח מתחם אולפני הרצליה תב"ע הר' 2180. | AB69: 742000
A70: =A69+1 -> 65 | B70: 1937 | C70: תב"ע משולש המנהרה הר' 2350 | D70: =1000000+50000-300000 -> 750000 | E70: 700000 | F70: =D70-E70 -> 50000 | G70: 450000 | H70: 39885 | I70: 261133 | J70: 40357.54 | K70: =SUM(I70:J70) -> 301490.54 | L70: =H70+K70 -> 341375.54 | M70: =P70+S70 -> 108624.46 | N70: =400000-100000 -> 300000 | O70: =D70-L70-M70-N70 -> 0 | P70: =G70-L70 -> 108624.46 | S70: =SUM(Q70:R70) -> 0 | T70: =P70-M70+S70 -> 0 | U70: =N70-T70 -> 300000 | V70: =U70-Z70-W70-Y70 -> 300000 | AA70: תוכנית מתארית ומפורטת חלקית לאורך רחוב המנהרה ועד פארק הואדי. התוכנית כוללת מתחם לשימור. יש עתירה לבימ"ש של בעלי קרקע פרטיים. | AB70: 732000
A71: =A70+1 -> 66 | B71: 1943 | C71: מגרש סימולציה לאופניים | D71: 6750000 | E71: 6500000 | F71: =D71-E71 -> 250000 | G71: 6500000 | H71: 3839511 | I71: 208106 | J71: 2351722 | K71: =SUM(I71:J71) -> 2559828 | L71: =H71+K71 -> 6399339 | M71: =P71+S71 -> 100661 | N71: 250000 | O71: =D71-L71-M71-N71 -> 0 | P71: =G71-L71 -> 100661 | S71: =SUM(Q71:R71) -> 0 | T71: =P71-M71+S71 -> 0 | U71: =N71-T71 -> 250000 | V71: =U71-Z71-W71-Y71 -> 250000 | AA71: עבודות השלמה סופיות לרבות מתכננים ופיקוח עקב התארכות תקופת הביצוע של הפרויקט. | AB71: 744000
A72: =A71+1 -> 67 | B72: 1950 | C72: תכנון שינוי גבולות העיר | D72: 500000 | E72: 500000 | F72: =D72-E72 -> 0 | G72: 100000 | H72: 0 | K72: =SUM(I72:J72) -> 0 | L72: =H72+K72 -> 0 | M72: =P72+S72 -> 100000 | N72: 100000 | O72: =D72-L72-M72-N72 -> 300000 | P72: =G72-L72 -> 100000 | S72: =SUM(Q72:R72) -> 0 | T72: =P72-M72+S72 -> 0 | U72: =N72-T72 -> 100000 | V72: =U72-Z72-W72-Y72 -> 100000 | AA72: עלויות לצורך מתן מענה לדיון במשרד הפנים עקב אישורה של תוכנית תמ"ל מס' 1068. | AB72: 732000
A73: =A72+1 -> 68 | B73: 1951 | C73: מתחם דן אכדייה ליווי תכנוני | D73: 300000 | E73: 300000 | F73: =D73-E73 -> 0 | G73: 160000 | H73: 123575 | I73: 35100 | K73: =SUM(I73:J73) -> 35100 | L73: =H73+K73 -> 158675 | M73: =P73+S73 -> 1325 | O73: =D73-L73-M73-N73 -> 140000 | P73: =G73-L73 -> 1325 | S73: =SUM(Q73:R73) -> 0 | T73: =P73-M73+S73 -> 0 | U73: =N73-T73 -> 0 | V73: =U73-Z73-W73-Y73 -> 0 | AB73: 732000
A74: =A73+1 -> 69 | B74: 1952 | C74: איצטדיון כדורסל היכל ספורט רב תכליתי (*) עדכון שם | D74: 200000 | E74: 200000 | F74: =D74-E74 -> 0 | G74: 100000 | H74: 0 | K74: =SUM(I74:J74) -> 0 | L74: =H74+K74 -> 0 | M74: =P74+S74 -> 100000 | N74: =100000-100000 -> 0 | O74: =D74-L74-M74-N74 -> 100000 | P74: =G74-L74 -> 100000 | S74: =SUM(Q74:R74) -> 0 | T74: =P74-M74+S74 -> 0 | U74: =N74-T74 -> 0 | V74: =U74-Z74-W74-Y74 -> 0 | AA74: בדיקה ותכנון איצטדיון ספורט רב תכליתי בעיר. תלוי בקידומה של תוכנית קרית שחקים תב"ר 1799. | AB74: 829000
A75: =A74+1 -> 70 | B75: 2007 | C75: חניון עצמאות | D75: =3000000-1900000 -> 1100000 | E75: 3000000 | F75: =D75-E75 -> -1900000 | G75: =500000+600000 -> 1100000 | H75: 0 | J75: =64313+918635 -> 982948 | K75: =SUM(I75:J75) -> 982948 | L75: =H75+K75 -> 982948 | M75: =P75+S75 -> 117052 | O75: =D75-L75-M75-N75 -> 0 | P75: =G75-L75 -> 117052 | S75: =SUM(Q75:R75) -> 0 | T75: =P75-M75+S75 -> 0 | U75: =N75-T75 -> 0 | V75: =U75-Z75-W75-Y75 -> 0 | AA75: פיתוח חניון זמני במתחם אגד. | AB75: 742000
A76: =A75+1 -> 71 | B76: 2009 | C76: סמטת ניסנוב | D76: 9000000 | E76: 9000000 | F76: =D76-E76 -> 0 | G76: 0 | H76: 0 | K76: =SUM(I76:J76) -> 0 | L76: =H76+K76 -> 0 | M76: =P76+S76 -> 0 | N76: =500000+500000 -> 1000000 | O76: =D76-L76-M76-N76 -> 8000000 | P76: =G76-L76 -> 0 | S76: =SUM(Q76:R76) -> 0 | T76: =P76-M76+S76 -> 0 | U76: =N76-T76 -> 1000000 | V76: =U76-Z76-W76-Y76 -> 1000000 | AA76: פיתוח סימטה שהפכה לדרך במסגרת תב"ע 2029 בנווה עמל. 2019- תכנון. | AB76: 742000
A77: =A76+1 -> 72 | B77: 2010 | C77: יהודה הנשיא רבי עקיבא רזיאל | D77: 8000000 | E77: 8000000 | F77: =D77-E77 -> 0 | G77: 500000 | H77: 0 | K77: =SUM(I77:J77) -> 0 | L77: =H77+K77 -> 0 | M77: =P77+S77-500000 -> 0 | N77: 960000 | O77: =D77-L77-M77-N77 -> 7040000 | P77: =G77-L77 -> 500000 | S77: =SUM(Q77:R77) -> 0 | T77: =P77-M77+S77 -> 500000 | U77: =N77-T77 -> 460000 | V77: =U77-Z77-W77-Y77 -> 460000 | AA77: פיתוח קטע הרחוב מרבי עקיבא עד דוד רזיאל. 2019 - תכנון. | AB77: 742000
A78: =A77+1 -> 73 | B78: 2011 | C78: תכנון חניון מרינה לי | D78: 80000000 | E78: 80000000 | F78: =D78-E78 -> 0 | G78: 0 | H78: 0 | K78: =SUM(I78:J78) -> 0 | L78: =H78+K78 -> 0 | M78: =P78+S78 -> 0 | N78: 2000000 | O78: =D78-L78-M78-N78 -> 78000000 | P78: =G78-L78 -> 0 | S78: =SUM(Q78:R78) -> 0 | T78: =P78-M78+S78 -> 0 | U78: =N78-T78 -> 2000000 | V78: =U78-Z78-W78-Y78 -> 2000000 | AA78: תכנון החניון מתחת לשצ"פ במתחם המרינה לי. | AB78: 742000
A79: =A78+1 -> 74 | B79: 2012 | C79: ציר העדפה | D79: 5000000 | E79: 5000000 | F79: =D79-E79 -> 0 | G79: 0 | H79: 0 | K79: =SUM(I79:J79) -> 0 | L79: =H79+K79 -> 0 | M79: =P79+S79-200000 -> 0 | N79: =1000000-800000 -> 200000 | O79: =D79-L79-M79-N79 -> 4800000 | P79: =G79-L79 -> 0 | Q79: 200000 | S79: =SUM(Q79:R79) -> 200000 | T79: =P79-M79+S79 -> 200000 | U79: =N79-T79 -> 0 | V79: =U79-Z79-W79-Y79 -> 0 | AA79: עבודות עק פרויקט " מהיר לעיר" כולל תוספת חיפוי קיר בטון. | AB79: 742000
A80: =A79+1 -> 75 | B80: 2013 | C80: בדיקות תכנוניות כללי | D80: 1250000 | E80: 1250000 | F80: =D80-E80 -> 0 | G80: 100000 | H80: 0 | J80: 21060 | K80: =SUM(I80:J80) -> 21060 | L80: =H80+K80 -> 21060 | M80: =P80+S80 -> 78940 | N80: 250000 | O80: =D80-L80-M80-N80 -> 900000 | P80: =G80-L80 -> 78940 | S80: =SUM(Q80:R80) -> 0 | T80: =P80-M80+S80 -> 0 | U80: =N80-T80 -> 250000 | V80: =U80-Z80-W80-Y80 -> 250000 | AA80: סל עבודות תכנון , בדיקות, סקרים ודרישות מכח החלטות של ועדות סטטוטוריות בלתי צפויות. | AB80: 732000
A81: =A80+1 -> 76 | B81: 2014 | C81: תכנון אסטרטגי ציר מעפילים | D81: 750000 | E81: 100000 | F81: =D81-E81 -> 650000 | G81: 100000 | H81: 0 | K81: =SUM(I81:J81) -> 0 | L81: =H81+K81 -> 0 | M81: =P81+S81 -> 100000 | N81: 300000 | O81: =D81-L81-M81-N81 -> 350000 | P81: =G81-L81 -> 100000 | S81: =SUM(Q81:R81) -> 0 | T81: =P81-M81+S81 -> 0 | U81: =N81-T81 -> 300000 | V81: =U81-Z81-W81-Y81 -> 300000 | AA81: תכנון ציר המעפילים הכניסה הצפונית לעיר בשיתוף מועצה מקומית כפר שמריהו. | AB81: 732000
A82: =A81+1 -> 77 | B82: 2077 | C82: פיתוח משה דיין | D82: 4000000 | E82: 4000000 | F82: =D82-E82 -> 0 | K82: =SUM(I82:J82) -> 0 | L82: =H82+K82 -> 0 | M82: =P82+S82 -> 0 | N82: =3000000-3000000 -> 0 | O82: =D82-L82-M82-N82 -> 4000000 | P82: =G82-L82 -> 0 | S82: =SUM(Q82:R82) -> 0 | T82: =P82-M82+S82 -> 0 | U82: =N82-T82 -> 0 | V82: =U82-Z82-W82-Y82 -> 0 | AA82: תכנון וביצוע רחוב משה דיין כולל חיבור לכביש 20, הילס, אופני דן. | AB82: 742000
A83: =A82+1 -> 78 | B83: 2078 | C83: נילי - עבודות פיתוח והסדרת תנועה | D83: 2260000 | E83: 2260000 | F83: =D83-E83 -> 0 | G83: 150000 | K83: =SUM(I83:J83) -> 0 | L83: =H83+K83 -> 0 | M83: =P83+S83 -> 150000 | N83: 300000 | O83: =D83-L83-M83-N83 -> 1810000 | P83: =G83-L83 -> 150000 | U83: =N83-T83 -> 300000 | V83: =U83-Z83-W83-Y83 -> 300000 | AA83: לאור החלטת בימ"ש שהעיריה תבצע שינויים גיאומטרים וקיר. | AB83: 742000
A84: =A83+1 -> 79 | B84: 2104 | C84: החלפת קו ניקוז בדוד המלך | D84: 18500000 | F84: =D84-E84 -> 18500000 | K84: =SUM(I84:J84) -> 0 | L84: =H84+K84 -> 0 | M84: =P84+S84 -> 0 | N84: 7500000 | O84: =D84-L84-M84-N84 -> 11000000 | P84: =G84-L84 -> 0 | S84: =SUM(Q84:R84) -> 0 | T84: =P84-M84+S84 -> 0 | U84: =N84-T84 -> 7500000 | V84: =U84-Z84-W84-Y84 -> 7500000 | AA84: הגדלת קו הניקוז ברח' דוד המלך בקטע קרן היסוד - מדינת היהודים בתאום עם עבודות מים וביוב של תאגיד המים. | AB84: 742000
A85: =A84+1 -> 80 | B85: 2105 | C85: הארכת דרך ירושלים והתחברות אליה | D85: 60000000 | F85: =D85-E85 -> 60000000 | K85: =SUM(I85:J85) -> 0 | L85: =H85+K85 -> 0 | M85: =P85+S85 -> 0 | N85: 1000000 | O85: =D85-L85-M85-N85 -> 59000000 | P85: =G85-L85 -> 0 | S85: =SUM(Q85:R85) -> 0 | T85: =P85-M85+S85 -> 0 | U85: =N85-T85 -> 1000000 | V85: =U85-Z85-W85-Y85 -> 1000000 | AA85: הארכת דרך ירושלים עד לרחוב הנגב וחיבור רבי עקיבא, פיתוח רח' יבנה . ב - 2019 : תחילת תכנון. | AB85: 742000
A86: =A85+1 -> 81 | B86: 2106 | C86: אוצר הצמחים ,הראשונים ואבן אודם | D86: 15000000 | F86: =D86-E86 -> 15000000 | K86: =SUM(I86:J86) -> 0 | L86: =H86+K86 -> 0 | M86: =P86+S86 -> 0 | N86: =2500000-2000000 -> 500000 | O86: =D86-L86-M86-N86 -> 14500000 | P86: =G86-L86 -> 0 | S86: =SUM(Q86:R86) -> 0 | T86: =P86-M86+S86 -> 0 | U86: =N86-T86 -> 500000 | V86: =U86-Z86-W86-Y86 -> 500000 | AA86: פיתוח מתחם הרחובות אוצר הצמחים, אבן אודם, הראשונים. ב - 2019 : תכנון. | AB86: 742000
A87: =A86+1 -> 82 | B87: 2107 | C87: פיתוח וביצוע שידרוג ויזואלי מתחם בני בניימין הנדיב | D87: 340000 | F87: =D87-E87 -> 340000 | K87: =SUM(I87:J87) -> 0 | L87: =H87+K87 -> 0 | M87: =P87+S87 -> 0 | N87: 340000 | O87: =D87-L87-M87-N87 -> 0 | P87: =G87-L87 -> 0 | S87: =SUM(Q87:R87) -> 0 | T87: =P87-M87+S87 -> 0 | U87: =N87-T87 -> 340000 | V87: =U87-Z87-W87-Y87 -> 340000 | AA87: הסדרת שבילי גישה רגלית וכניסת כלי רכב לחניות,שביל פינוי אשפה,פיתוח כולל גינון ותאורה | AB87: 742000
A88: =A87+1 -> 83 | B88: 2108 | C88: תכנון שצ"פים במתחם הר' 1960 | D88: =3300000+3200000+2700000+4900000 -> 14100000 | F88: =D88-E88 -> 14100000 | K88: =SUM(I88:J88) -> 0 | L88: =H88+K88 -> 0 | M88: =P88+S88 -> 0 | N88: 1200000 | O88: =D88-L88-M88-N88 -> 12900000 | P88: =G88-L88 -> 0 | S88: =SUM(Q88:R88) -> 0 | T88: =P88-M88+S88 -> 0 | U88: =N88-T88 -> 1200000 | V88: =U88-Z88-W88-Y88 -> 1200000 | AA88: תכנון שצ"פים במתחם הר' 1960 : קורן,דן שומרון ,דורי ומשה שמיר. | AB88: 746000
A89: =A88+1 -> 84 | B89: 2109 | C89: רחוב הפרטיזנים | D89: 2000000 | F89: =D89-E89 -> 2000000 | K89: =SUM(I89:J89) -> 0 | L89: =H89+K89 -> 0 | M89: =P89+S89 -> 0 | N89: 500000 | O89: =D89-L89-M89-N89 -> 1500000 | P89: =G89-L89 -> 0 | S89: =SUM(Q89:R89) -> 0 | T89: =P89-M89+S89 -> 0 | U89: =N89-T89 -> 500000 | V89: =U89-Z89-W89-Y89 -> 500000 | AA89: תכנון פיתוח רחוב הפרטיזנים. | AB89: 742000
A90: =A89+1 -> 85 | B90: 2110 | C90: שיכון דרום הר' 2312 | D90: 16000000 | F90: =D90-E90 -> 16000000 | K90: =SUM(I90:J90) -> 0 | L90: =H90+K90 -> 0 | M90: =P90+S90 -> 0 | N90: =1200000-700000 -> 500000 | O90: =D90-L90-M90-N90 -> 15500000 | P90: =G90-L90 -> 0 | S90: =SUM(Q90:R90) -> 0 | T90: =P90-M90+S90 -> 0 | U90: =N90-T90 -> 500000 | V90: =U90-Z90-W90-Y90 -> 500000 | AA90: תכנון פיתוח מתחם שיכון דרום. | AB90: 742000
A91: =A90+1 -> 86 | B91: 2111 | C91: הר מירון בר כוכבא הר' 2266 | D91: 10240000 | F91: =D91-E91 -> 10240000 | K91: =SUM(I91:J91) -> 0 | L91: =H91+K91 -> 0 | M91: =P91+S91 -> 0 | N91: =1000000-500000 -> 500000 | O91: =D91-L91-M91-N91 -> 9740000 | P91: =G91-L91 -> 0 | S91: =SUM(Q91:R91) -> 0 | T91: =P91-M91+S91 -> 0 | U91: =N91-T91 -> 500000 | V91: =U91-Z91-W91-Y91 -> 500000 | AA91: תכנון פיתוח הרחובות הר מירון בר כוכבא בעקבות אישור תוכנית התחדשות עירונית. | AB91: 742000
A92: =A91+1 -> 87 | B92: 2112 | C92: סקר חריגות בניה ברחבי העיר | D92: 7650000 | F92: =D92-E92 -> 7650000 | K92: =SUM(I92:J92) -> 0 | L92: =H92+K92 -> 0 | M92: =P92+S92 -> 0 | N92: =3160000-3000000 -> 160000 | O92: =D92-L92-M92-N92 -> 7490000 | P92: =G92-L92 -> 0 | S92: =SUM(Q92:R92) -> 0 | T92: =P92-M92+S92 -> 0 | U92: =N92-T92 -> 160000 | V92: =U92-Z92-W92-Y92 -> 160000 | AA92: עפ"י תיקון לחוק הרשויות, נדרש לבצע סקר חריגות בניה. | AB92: 732000
A93: =A92+1 -> 88 | B93: 2113 | C93: ביצוע הריסות עפ"י צווים | D93: 2550000 | F93: =D93-E93 -> 2550000 | K93: =SUM(I93:J93) -> 0 | L93: =H93+K93 -> 0 | M93: =P93+S93 -> 0 | N93: 1000000 | O93: =D93-L93-M93-N93 -> 1550000 | P93: =G93-L93 -> 0 | S93: =SUM(Q93:R93) -> 0 | T93: =P93-M93+S93 -> 0 | U93: =N93-T93 -> 1000000 | V93: =U93-Z93-W93-Y93 -> 1000000 | AA93: בהמשך לסקר חריגות בניה, הרשות נדרשת לבצע צווים שיפוטיים ולבצע הריסות במקרים בהם לא בוצעו. | AB93: 732000
A94: =A93+1 -> 89 | B94: 2114 | C94: תב"ע תוכנית שיקום המסילה המתפנה הר '2435 | D94: 1450000 | F94: =D94-E94 -> 1450000 | K94: =SUM(I94:J94) -> 0 | L94: =H94+K94 -> 0 | M94: =P94+S94 -> 0 | N94: 700000 | O94: =D94-L94-M94-N94 -> 750000 | P94: =G94-L94 -> 0 | S94: =SUM(Q94:R94) -> 0 | T94: =P94-M94+S94 -> 0 | U94: =N94-T94 -> 700000 | V94: =U94-Z94-W94-Y94 -> 700000 | AA94: הכנת תב"ע בשיתוף מועצת כפר שמריהו לתכנון קישוריות שביל אופניים ופארק בתחום המסילה המתפנה ואפשרות לבחינת חיבור תחבורתי נוסף להרצליה ב'. | AB94: 732000
A95: =A94+1 -> 90 | B95: 2115 | C95: תוכנית מתאר איזור התעסוקה הר/2440 | D95: 3100000 | F95: =D95-E95 -> 3100000 | N95: =1200000-700000 -> 500000 | O95: =D95-L95-M95-N95 -> 2600000 | P95: =G95-L95 -> 0 | S95: =SUM(Q95:R95) -> 0 | T95: =P95-M95+S95 -> 0 | U95: =N95-T95 -> 500000 | V95: =U95-Z95-W95-Y95 -> 500000 | AA95: הפיכת תוכנית אסטרטגית לתוכנית סטטוטורית, לתוכנית מתאר בועדה המחוזית בהתאם ליו"ר הועדה המחוזית. | AB95: 732000
A96: =A95+1 -> 91 | B96: 2116 | C96: תב"ע מעברת רשף - מערב נוף ים | D96: 1700000 | F96: =D96-E96 -> 1700000 | N96: =650000-150000 -> 500000 | O96: =D96-L96-M96-N96 -> 1200000 | P96: =G96-L96 -> 0 | S96: =SUM(Q96:R96) -> 0 | T96: =P96-M96+S96 -> 0 | U96: =N96-T96 -> 500000 | V96: =U96-Z96-W96-Y96 -> 500000 | AA96: תוכנית לשיקום מעברת רשף והקמת שכונת מגורים חדשה בשילוב שטחי ציבור , שטחים פתוחים ותיירות. | AB96: 732000
A97: =A96+1 -> 92 | B97: 2117 | C97: שינוי תוכנית גליל ים א' ב' | D97: 600000 | F97: =D97-E97 -> 600000 | N97: 300000 | O97: =D97-L97-M97-N97 -> 300000 | P97: =G97-L97 -> 0 | S97: =SUM(Q97:R97) -> 0 | T97: =P97-M97+S97 -> 0 | U97: =N97-T97 -> 300000 | V97: =U97-Z97-W97-Y97 -> 300000 | AA97: שינוי לתוכנית הר' 1985 ב' עקב ריבוי י"ד והצורך לספק שטחים ציבוריים בגינם. | AB97: 732000
A98: =A97+1 -> 93 | B98: 2118 | C98: שצ"פ דליה רביקוביץ בשכונת אלתרמן (הר/1920) | D98: 1800000 | F98: =D98-E98 -> 1800000 | N98: 200000 | O98: =D98-L98-M98-N98 -> 1600000 | P98: =G98-L98 -> 0 | S98: =SUM(Q98:R98) -> 0 | T98: =P98-M98+S98 -> 0 | U98: =N98-T98 -> 200000 | V98: =U98-Z98-W98-Y98 -> 200000 | AA98: ביצוע שצ"פ בקטע הנביאים בני בנימין. ב - 2019 : תכנון בלבד. | AB98: 746000
A99: =A98+1 -> 94 | B99: 2119 | C99: שביל מתחם העצמאות הרב גורן הבנים | D99: 1400000 | F99: =D99-E99 -> 1400000 | N99: 150000 | O99: =D99-L99-M99-N99 -> 1250000 | P99: =G99-L99 -> 0 | S99: =SUM(Q99:R99) -> 0 | T99: =P99-M99+S99 -> 0 | U99: =N99-T99 -> 150000 | V99: =U99-Z99-W99-Y99 -> 150000 | AA99: עבודות פיתוח מערך שבילים בין הרחובות העצמאות הרב גורן ורחוב הבנים. | AB99: 742000
A100: =A99+1 -> 95 | B100: 2120 | C100: הכנת פרוגרמות עירוניות עפ"י הנדרש | D100: 1000000 | F100: =D100-E100 -> 1000000 | N100: 1000000 | O100: =D100-L100-M100-N100 -> 0 | P100: =G100-L100 -> 0 | S100: =SUM(Q100:R100) -> 0 | T100: =P100-M100+S100 -> 0 | U100: =N100-T100 -> 1000000 | V100: =U100-Z100-W100-Y100 -> 1000000 | AA100: הכנת פרוגרמות עירוניות : שטחים מבונים,איזור תעשיה, מרחב ציבורי,תוכניות תמ"א 38, סוקולוב. | AB100: 732000
A101: =A100+1 -> 96 | B101: 2121 | C101: צומת הבריגדה היהודית -מנחם בגין- בטיחות | D101: 300000 | F101: =D101-E101 -> 300000 | N101: 300000 | O101: =D101-L101-M101-N101 -> 0 | P101: =G101-L101 -> 0 | S101: =SUM(Q101:R101) -> 0 | T101: =P101-M101+S101 -> 0 | U101: =N101-T101 -> 300000 | V101: =U101-Z101-W101-Y101 -> 90000 | Z101: 210000 | AA101: תכנון צומת הבריגדה היהודית -מנחם בגין עקב ריבוי תאונות דרכים עפ"י נתוני הרלב"ד. מימון מ. התחבורה. | AB101: 742000
A102: =A101+1 -> 97 | B102: 2122 | C102: צומת הרב גורן מוהליבר - בטיחות | D102: 300000 | F102: =D102-E102 -> 300000 | N102: 300000 | O102: =D102-L102-M102-N102 -> 0 | P102: =G102-L102 -> 0 | S102: =SUM(Q102:R102) -> 0 | T102: =P102-M102+S102 -> 0 | U102: =N102-T102 -> 300000 | V102: =U102-Z102-W102-Y102 -> 90000 | Z102: 210000 | AA102: תכנון צומת הרב גורן מוהליבר עקב ריבוי תאונות דרכים עפ"י נתוני הרלב"ד. מימון מ. התחבורה. | AB102: 742000
A103: =A102+1 -> 98 | B103: 2123 | C103: צומת השרון בר אילן -בטיחות | D103: 750000 | F103: =D103-E103 -> 750000 | N103: 750000 | O103: =D103-L103-M103-N103 -> 0 | P103: =G103-L103 -> 0 | S103: =SUM(Q103:R103) -> 0 | T103: =P103-M103+S103 -> 0 | U103: =N103-T103 -> 750000 | V103: =U103-Z103-W103-Y103 -> 225000 | Z103: 525000 | AA103: תכנון צומת השרון בר אילן עקב ריבוי תאונות דרכים עפ"י נתוני הרלב"ד. מימון מ. התחבורה. | AB103: 742000
...

Sheet הנדסה 2019 פרקים
A2: מינהל הנדסה
A4: מס' סידורי | B4: מס' תב"ר | C4: שם תב"ר | D4: אומדן כולל לפרוקט | E4: אומדן מאושר במועצה | F4: תוספת לאומדן לאישור המועצה | G4: תקציב מאושר | H4: ביצוע בפועל | I4: שריון מערך חוזים | J4: שריון מערך רכש | K4: סה"כ שריון התחייבויות | L4: סה"כ ביצוע | M4: יתרה לביצוע צפוי עד 31.12.2018 | N4: אומדן לביצוע שנת 2019 | O4: אומדן לביצוע שנת 2020 ואילך | P4: יתרת תקציב | Q4: תקציב נוסף נדרש במסגרת תוכנית עבודה 2018 | R4: תקציב נוסף נדרש מעבר לתוכנית עבודה 2018 | S4: סה"כ תקציב נוסף נדרש 2018 | T4: יתרת תקציב פנויה 31.12.2018 | U4: תקציב נדרש 2019 | V4: קרן עבודות פיתוח | W4: קרן עודפי תקציב רגיל | X4: קרן רכוש | Y4: קרן ייעודית | Z4: אחרים | AA4: תאור הפרויקט | AB4: פרק תב"ר
A6: =A5+1 -> 1 | B6: 179 | C6: יעודי קרקע -מפת בסיס | D6: ='תקציב הנדסה 2019'!D6 -> 3000000 | E6: ='תקציב הנדסה 2019'!E6 -> 3000000 | F6: ='תקציב הנדסה 2019'!F6 -> 0 | G6: ='תקציב הנדסה 2019'!G6 -> 2870250 | H6: ='תקציב הנדסה 2019'!H6 -> 2782107 | I6: ='תקציב הנדסה 2019'!I6 -> 0 | J6: ='תקציב הנדסה 2019'!J6 -> 65735 | K6: ='תקציב הנדסה 2019'!K6 -> 65735 | ... Z6: ='תקציב הנדסה 2019'!Z6 -> 0 | AA6: עדכון מע. מידע הנדסי כתוצאה משינוי ייעודי קרקע עקב החלטות ועדות התכנון. | AB6: ='תקציב הנדסה 2019'!AB6 -> 732000
A7: =A6+1 -> 2 | B7: 626 | C7: תכנון ועדכון וביצוע תוכנית אב לשבילי אופניים (*) עדכון שם | D7: ='תקציב הנדסה 2019'!D12 -> 20025000 | E7: ='תקציב הנדסה 2019'!E12 -> 20025000 | F7: ='תקציב הנדסה 2019'!F12 -> 0 | G7: ='תקציב הנדסה 2019'!G12 -> 14525000 | H7: ='תקציב הנדסה 2019'!H12 -> 13533711 | I7: ='תקציב הנדסה 2019'!I12 -> 151233.86 | J7: ='תקציב הנדסה 2019'!J12 -> 45309 | K7: ='תקציב הנדסה 2019'!K12 -> 196542.86 | ... Z7: ='תקציב הנדסה 2019'!Z12 -> 350000 | AA7: תכנון שבילי אופנים וביצוע ברחבי העיר. מימון מ. התחבורה. | AB7: ='תקציב הנדסה 2019'!AB12 -> 732000
A8: =A7+1 -> 3 | B8: 1100 | C8: תכנון מתחם הר' 2200 | D8: ='תקציב הנדסה 2019'!D16 -> 7000000 | E8: ='תקציב הנדסה 2019'!E16 -> 7000000 | F8: ='תקציב הנדסה 2019'!F16 -> 0 | G8: ='תקציב הנדסה 2019'!G16 -> 5600000 | H8: ='תקציב הנדסה 2019'!H16 -> 2706855.1 | I8: ='תקציב הנדסה 2019'!I16 -> 2159838.6 | J8: ='תקציב הנדסה 2019'!J16 -> 155452.21 | K8: ='תקציב הנדסה 2019'!K16 -> 2315290.8 | ... Z8: ='תקציב הנדסה 2019'!Z16 -> 0 | AA8: תכנון מתחם חוף התכלת. יש עתירה של בעלי הקרקע הפרטיים על השתהות בקידום התוכנית . לו"ז מאי 2019. | AB8: ='תקציב הנדסה 2019'!AB16 -> 732000
A9: =A8+1 -> 4 | B9: 1220 | C9: תכנונים כלליים | D9: ='תקציב הנדסה 2019'!D18 -> 7000000 | E9: ='תקציב הנדסה 2019'!E18 -> 7000000 | F9: ='תקציב הנדסה 2019'!F18 -> 0 | G9: ='תקציב הנדסה 2019'!G18 -> 5600000 | H9: ='תקציב הנדסה 2019'!H18 -> 4415045 | I9: ='תקציב הנדסה 2019'!I18 -> 45396 | J9: ='תקציב הנדסה 2019'!J18 -> 548104 | K9: ='תקציב הנדסה 2019'!K18 -> 593500 | ... Z9: ='תקציב הנדסה 2019'!Z18 -> 0 | AA9: סל תכנון של תוכניות ופרויקטים, מדידות ותכנון ראשוני. | AB9: ='תקציב הנדסה 2019'!AB18 -> 732000
A10: =A9+1 -> 5 | B10: 1406 | C10: שימור אתרים | D10: ='תקציב הנדסה 2019'!D26 -> 1300000 | E10: ='תקציב הנדסה 2019'!E26 -> 1300000 | F10: ='תקציב הנדסה 2019'!F26 -> 0 | G10: ='תקציב הנדסה 2019'!G26 -> 1300000 | H10: ='תקציב הנדסה 2019'!H26 -> 694328 | I10: ='תקציב הנדסה 2019'!I26 -> 126373 | J10: ='תקציב הנדסה 2019'!J26 -> 12432.48 | K10: ='תקציב הנדסה 2019'!K26 -> 138805.48 | ... Z10: ='תקציב הנדסה 2019'!Z26 -> 0 | AA10: הכנת תב"עות לשימור אתרים. | AB10: ='תקציב הנדסה 2019'!AB26 -> 732000
A11: =A10+1 -> 6 | B11: 1407 | C11: תב"עות קטנות | D11: ='תקציב הנדסה 2019'!D27 -> 4895000 | E11: ='תקציב הנדסה 2019'!E27 -> 4895000 | F11: ='תקציב הנדסה 2019'!F27 -> 0 | G11: ='תקציב הנדסה 2019'!G27 -> 3495000 | H11: ='תקציב הנדסה 2019'!H27 -> 2371902 | I11: ='תקציב הנדסה 2019'!I27 -> 111224.98 | J11: ='תקציב הנדסה 2019'!J27 -> 773210 | K11: ='תקציב הנדסה 2019'!K27 -> 884434.98 | ... Z11: ='תקציב הנדסה 2019'!Z27 -> 0 | AA11: סל תכנון של תב"עות הנדרשות במהלך השנה. | AB11: ='תקציב הנדסה 2019'!AB27 -> 732000
A12: =A11+1 -> 7 | B12: 1408 | C12: תב"ע שיקום חופי הרצליה | D12: ='תקציב הנדסה 2019'!D28 -> 1000000 | E12: ='תקציב הנדסה 2019'!E28 -> 1000000 | F12: ='תקציב הנדסה 2019'!F28 -> 0 | G12: ='תקציב הנדסה 2019'!G28 -> 100000 | H12: ='תקציב הנדסה 2019'!H28 -> 0 | I12: ='תקציב הנדסה 2019'!I28 -> 0 | J12: ='תקציב הנדסה 2019'!J28 -> 0 | K12: ='תקציב הנדסה 2019'!K28 -> 0 | ... Z12: ='תקציב הנדסה 2019'!Z28 -> 0 | AA12: טיפול תכנוני בהגנה על המצוקים מפני התמוטטות. | AB12: ='תקציב הנדסה 2019'!AB28 -> 732000
A13: =A12+1 -> 8 | B13: 1409 | C13: חידוש תוקף תכנית המתאר תוכנית המתאר הכוללנית (*) שינוי שם | D13: ='תקציב הנדסה 2019'!D29 -> 7680000 | E13: ='תקציב הנדסה 2019'!E29 -> 7300000 | F13: ='תקציב הנדסה 2019'!F29 -> 380000 | G13: ='תקציב הנדסה 2019'!G29 -> 5000000 | H13: ='תקציב הנדסה 2019'!H29 -> 2980349 | I13: ='תקציב הנדסה 2019'!I29 -> 558899.5 | J13: ='תקציב הנדסה 2019'!J29 -> 324383 | K13: ='תקציב הנדסה 2019'!K29 -> 883282.5 | ... Z13: ='תקציב הנדסה 2019'!Z29 -> 0 | AA13: הכנת תוכנית מתאר כוללנית על מנת לאפשר לעיריה לתכנן תוכניות בסמכות וועדה מקומית. | AB13: ='תקציב הנדסה 2019'!AB29 -> 732000
A14: =A13+1 -> 9 | B14: 1466 | C14: תמ"א 38 | D14: ='תקציב הנדסה 2019'!D31 -> 2200000 | E14: ='תקציב הנדסה 2019'!E31 -> 2200000 | F14: ='תקציב הנדסה 2019'!F31 -> 0 | G14: ='תקציב הנדסה 2019'!G31 -> 1500000 | H14: ='תקציב הנדסה 2019'!H31 -> 1161644 | I14: ='תקציב הנדסה 2019'!I31 -> 0 | J14: ='תקציב הנדסה 2019'!J31 -> 110168 | K14: ='תקציב הנדסה 2019'!K31 -> 110168 | ... Z14: ='תקציב הנדסה 2019'!Z31 -> 0 | AA14: העצמת הזכויות הנוספות לבנינים לצורך הגברת הכדאיות של ביצוע חיזוק מבנים. | AB14: ='תקציב הנדסה 2019'!AB31 -> 732000
A15: =A14+1 -> 10 | B15: 1527 | C15: הר' 2159 התחדשות עירונית יד התשעה (*) שינוי שם | D15: ='תקציב הנדסה 2019'!D33 -> 3000000 | E15: ='תקציב הנדסה 2019'!E33 -> 3000000 | F15: ='תקציב הנדסה 2019'!F33 -> 0 | G15: ='תקציב הנדסה 2019'!G33 -> 1500000 | H15: ='תקציב הנדסה 2019'!H33 -> 821144.02 | I15: ='תקציב הנדסה 2019'!I33 -> 0 | J15: ='תקציב הנדסה 2019'!J33 -> 1431 | K15: ='תקציב הנדסה 2019'!K33 -> 1431 | ... Z15: ='תקציב הנדסה 2019'!Z33 -> 0 | AA15: תכנון התחדשות עירונית ביד התשעה. | AB15: ='תקציב הנדסה 2019'!AB33 -> 732000
A16: =A15+1 -> 11 | B16: 1551 | C16: צפון הרצליה הר' 2035 | D16: ='תקציב הנדסה 2019'!D35 -> 525240 | E16: ='תקציב הנדסה 2019'!E35 -> 225240 | F16: ='תקציב הנדסה 2019'!F35 -> 300000 | G16: ='תקציב הנדסה 2019'!G35 -> 225240 | H16: ='תקציב הנדסה 2019'!H35 -> 204671 | I16: ='תקציב הנדסה 2019'!I35 -> 0 | J16: ='תקציב הנדסה 2019'!J35 -> 19855 | K16: ='תקציב הנדסה 2019'!K35 -> 19855 | ... Z16: ='תקציב הנדסה 2019'!Z35 -> 0 | AA16: הערכות להתנגדות לתוכנית שמקדם מינהל התכנון והועדה המחוזית לכל צפון הרצליה ללא שיתוף העירייה. | AB16: ='תקציב הנדסה 2019'!AB35 -> 732000
A17: =A16+1 -> 12 | B17: 1576 | C17: הוצאות אכיפה-דירות נופש במרינה | D17: ='תקציב הנדסה 2019'!D37 -> 1000000 | E17: ='תקציב הנדסה 2019'!E37 -> 1000000 | F17: ='תקציב הנדסה 2019'!F37 -> 0 | G17: ='תקציב הנדסה 2019'!G37 -> 450000 | H17: ='תקציב הנדסה 2019'!H37 -> 356478.17 | I17: ='תקציב הנדסה 2019'!I37 -> 42295 | J17: ='תקציב הנדסה 2019'!J37 -> 0 | K17: ='תקציב הנדסה 2019'!K37 -> 42295 | ... Z17: ='תקציב הנדסה 2019'!Z37 -> 0 | AA17: עלויות אכיפה צווי בית משפט במרינה. | AB17: ='תקציב הנדסה 2019'!AB37 -> 732000
A18: =A17+1 -> 13 | B18: 1619 | C18: הסדרת שצ"פ למגורים הר' 2257 | D18: ='תקציב הנדסה 2019'!D41 -> 250000 | E18: ='תקציב הנדסה 2019'!E41 -> 200000 | F18: ='תקציב הנדסה 2019'!F41 -> 50000 | G18: ='תקציב הנדסה 2019'!G41 -> 200000 | H18: ='תקציב הנדסה 2019'!H41 -> 75387 | I18: ='תקציב הנדסה 2019'!I41 -> 0 | J18: ='תקציב הנדסה 2019'!J41 -> 25400.9 | K18: ='תקציב הנדסה 2019'!K41 -> 25400.9 | ... Z18: ='תקציב הנדסה 2019'!Z41 -> 0 | AA18: תכנון שינוי תב"ע משצ"פ למגורים בעקבות היתרים קיימים משנות ה - 90 שאינם תואמים למצב הסטטוטורי הקיים. | AB18: ='תקציב הנדסה 2019'!AB41 -> 732000
A19: =A18+1 -> 14 | B19: 1620 | C19: קשר גשר תכנון חיבוריות בין מזרח למערב (*) שינוי שם | D19: ='תקציב הנדסה 2019'!D42 -> 1000000 | E19: ='תקציב הנדסה 2019'!E42 -> 1000000 | F19: ='תקציב הנדסה 2019'!F42 -> 0 | G19: ='תקציב הנדסה 2019'!G42 -> 100000 | H19: ='תקציב הנדסה 2019'!H42 -> 0 | I19: ='תקציב הנדסה 2019'!I42 -> 0 | J19: ='תקציב הנדסה 2019'!J42 -> 0 | K19: ='תקציב הנדסה 2019'!K42 -> 0 | ... Z19: ='תקציב הנדסה 2019'!Z42 -> 0 | AA19: תכנון כולל לסוגית חיזוק הקשר בין מזרח העיר למערב העיר באמצעות תוספות של גשרים להולכי רגל ורכב דו גלגלי. | AB19: ='תקציב הנדסה 2019'!AB42 -> 732000
A20: =A19+1 -> 15 | B20: 1660 | C20: תכנון פרויקטים פינוי בינוי | D20: ='תקציב הנדסה 2019'!D43 -> 2000000 | E20: ='תקציב הנדסה 2019'!E43 -> 2000000 | F20: ='תקציב הנדסה 2019'!F43 -> 0 | G20: ='תקציב הנדסה 2019'!G43 -> 350000 | H20: ='תקציב הנדסה 2019'!H43 -> 91264 | I20: ='תקציב הנדסה 2019'!I43 -> 0 | J20: ='תקציב הנדסה 2019'!J43 -> 16666.65 | K20: ='תקציב הנדסה 2019'!K43 -> 16666.65 | ... Z20: ='תקציב הנדסה 2019'!Z43 -> 0 | AA20: תכנון פרויקטים להתחדשות עירונית ופינוי בינוי. | AB20: ='תקציב הנדסה 2019'!AB43 -> 732000
A21: =A20+1 -> 16 | B21: 1674 | C21: התחדשות עירונית | D21: ='תקציב הנדסה 2019'!D45 -> 2300000 | E21: ='תקציב הנדסה 2019'!E45 -> 2100000 | F21: ='תקציב הנדסה 2019'!F45 -> 200000 | G21: ='תקציב הנדסה 2019'!G45 -> 1800000 | H21: ='תקציב הנדסה 2019'!H45 -> 1346844 | I21: ='תקציב הנדסה 2019'!I45 -> 106408 | J21: ='תקציב הנדסה 2019'!J45 -> 225895 | K21: ='תקציב הנדסה 2019'!K45 -> 332303 | ... Z21: ='תקציב הנדסה 2019'!Z45 -> 0 | AA21: בדיקת התכנות טרם קביעת ותוך כדי בחינת מתחמי פינוי בינוי. | AB21: ='תקציב הנדסה 2019'!AB45 -> 732000
A22: =A21+1 -> 17 | B22: 1692 | C22: פינוי בינוי מעונות שרה | D22: ='תקציב הנדסה 2019'!D46 -> 2450000 | E22: ='תקציב הנדסה 2019'!E46 -> 2450000 | F22: ='תקציב הנדסה 2019'!F46 -> 0 | G22: ='תקציב הנדסה 2019'!G46 -> 1439186 | H22: ='תקציב הנדסה 2019'!H46 -> 552319 | I22: ='תקציב הנדסה 2019'!I46 -> 128716 | J22: ='תקציב הנדסה 2019'!J46 -> 186 | K22: ='תקציב הנדסה 2019'!K46 -> 128902 | ... Z22: ='תקציב הנדסה 2019'!Z46 -> 307323 | AA22: תכנון מתחם מעונות שרה לפינוי ובינוי.מימון משרד הבינוי. | AB22: ='תקציב הנדסה 2019'!AB46 -> 732000
A23: =A22+1 -> 18 | B23: 1693 | C23: פינוי בינוי צומת כדורי | D23: ='תקציב הנדסה 2019'!D47 -> 4500000 | E23: ='תקציב הנדסה 2019'!E47 -> 4500000 | F23: ='תקציב הנדסה 2019'!F47 -> 0 | G23: ='תקציב הנדסה 2019'!G47 -> 2235481 | H23: ='תקציב הנדסה 2019'!H47 -> 312538.53 | I23: ='תקציב הנדסה 2019'!I47 -> 48062.98 | J23: ='תקציב הנדסה 2019'!J47 -> 0 | K23: ='תקציב הנדסה 2019'!K47 -> 48062.98 | ... Z23: ='תקציב הנדסה 2019'!Z47 -> 17810 | AA23: תכנון מתחם צומת כדורי לפינוי ובינוי.מימון משרד הבינוי. | AB23: ='תקציב הנדסה 2019'!AB47 -> 732000
A24: =A23+1 -> 19 | B24: 1701 | C24: תב"ע הר' 2394 (לשעבר הר 2159 ) | D24: ='תקציב הנדסה 2019'!D48 -> 1250000 | E24: ='תקציב הנדסה 2019'!E48 -> 1250000 | F24: ='תקציב הנדסה 2019'!F48 -> 0 | G24: ='תקציב הנדסה 2019'!G48 -> 850000 | H24: ='תקציב הנדסה 2019'!H48 -> 108257 | I24: ='תקציב הנדסה 2019'!I48 -> 104008.32 | J24: ='תקציב הנדסה 2019'!J48 -> 169952 | K24: ='תקציב הנדסה 2019'!K48 -> 273960.32 | ... Z24: ='תקציב הנדסה 2019'!Z48 -> 0 | AA24: תכנון תב"ע לשכונה חדשה בהרצליה הצעירה. שטח בגודל של כ - 50 דונם וכ - 300 יח"ד. | AB24: ='תקציב הנדסה 2019'!AB48 -> 732000
A25: =A24+1 -> 20 | B25: 1748 | C25: תכנון בנייה ציבורית | D25: ='תקציב הנדסה 2019'!D53 -> 120000 | E25: ='תקציב הנדסה 2019'!E53 -> 120000 | F25: ='תקציב הנדסה 2019'!F53 -> 0 | G25: ='תקציב הנדסה 2019'!G53 -> 120000 | H25: ='תקציב הנדסה 2019'!H53 -> 89830.86 | I25: ='תקציב הנדסה 2019'!I53 -> 29280.55 | J25: ='תקציב הנדסה 2019'!J53 -> 0 | K25: ='תקציב הנדסה 2019'!K53 -> 29280.55 | ... Z25: ='תקציב הנדסה 2019'!Z53 -> 0 | AB25: ='תקציב הנדסה 2019'!AB53 -> 732000
A26: =A25+1 -> 21 | B26: 1755 | C26: תב"ע חניון שטח מרינה לי 2073 | D26: ='תקציב הנדסה 2019'!D54 -> 200000 | E26: ='תקציב הנדסה 2019'!E54 -> 200000 | F26: ='תקציב הנדסה 2019'!F54 -> 0 | G26: ='תקציב הנדסה 2019'!G54 -> 200000 | H26: ='תקציב הנדסה 2019'!H54 -> 69371.84 | I26: ='תקציב הנדסה 2019'!I54 -> 0 | J26: ='תקציב הנדסה 2019'!J54 -> 21992.97 | K26: ='תקציב הנדסה 2019'!K54 -> 21992.97 | ... Z26: ='תקציב הנדסה 2019'!Z54 -> 0 | AA26: הכנת תב"ע לבניית חניון מתחת לשצ"פ במתחם "מרינה לי". | AB26: ='תקציב הנדסה 2019'!AB54 -> 732000
A27: =A26+1 -> 22 | B27: 1756 | C27: מסמכי מדיניות להתחדשות עירונית בשכונות | D27: ='תקציב הנדסה 2019'!D55 -> 800000 | E27: ='תקציב הנדסה 2019'!E55 -> 800000 | F27: ='תקציב הנדסה 2019'!F55 -> 0 | G27: ='תקציב הנדסה 2019'!G55 -> 400000 | H27: ='תקציב הנדסה 2019'!H55 -> 239672 | I27: ='תקציב הנדסה 2019'!I55 -> 0 | J27: ='תקציב הנדסה 2019'!J55 -> 44604 | K27: ='תקציב הנדסה 2019'!K55 -> 44604 | ... Z27: ='תקציב הנדסה 2019'!Z55 -> 0 | AA27: הכנת מסמכי מדיניות להתחדשות עירונית בשכונות לגיבוש מדיניות לחידוש המרקם הקיים בשכונות. | AB27: ='תקציב הנדסה 2019'!AB55 -> 732000
A28: =A27+1 -> 23 | B28: 1757 | C28: תב"ע לדיור בר השגה ברב קוק | D28: ='תקציב הנדסה 2019'!D56 -> 300000 | E28: ='תקציב הנדסה 2019'!E56 -> 300000 | F28: ='תקציב הנדסה 2019'!F56 -> 0 | G28: ='תקציב הנדסה 2019'!G56 -> 110000 | H28: ='תקציב הנדסה 2019'!H56 -> 10908.07 | I28: ='תקציב הנדסה 2019'!I56 -> 908.93 | J28: ='תקציב הנדסה 2019'!J56 -> 0 | K28: ='תקציב הנדסה 2019'!K56 -> 908.93 | ... Z28: ='תקציב הנדסה 2019'!Z56 -> 0 | AB28: ='תקציב הנדסה 2019'!AB56 -> 732000
A29: =A28+1 -> 24 | B29: 1758 | C29: תב"ע לדיור בר השגה בשמשון הגיבור | D29: ='תקציב הנדסה 2019'!D57 -> 300000 | E29: ='תקציב הנדסה 2019'!E57 -> 300000 | F29: ='תקציב הנדסה 2019'!F57 -> 0 | G29: ='תקציב הנדסה 2019'!G57 -> 120000 | H29: ='תקציב הנדסה 2019'!H57 -> 10908.07 | I29: ='תקציב הנדסה 2019'!I57 -> 4828.43 | J29: ='תקציב הנדסה 2019'!J57 -> 0 | K29: ='תקציב הנדסה 2019'!K57 -> 4828.43 | ... Z29: ='תקציב הנדסה 2019'!Z57 -> 0 | AB29: ='תקציב הנדסה 2019'!AB57 -> 732000
A30: =A29+1 -> 25 | B30: 1759 | C30: תוכנית אסטרטגית להתי' עירונית במרכז העיר ובשכונות (*) עדכון שם | D30: ='תקציב הנדסה 2019'!D58 -> 940000 | E30: ='תקציב הנדסה 2019'!E58 -> 600000 | F30: ='תקציב הנדסה 2019'!F58 -> 340000 | G30: ='תקציב הנדסה 2019'!G58 -> 500000 | H30: ='תקציב הנדסה 2019'!H58 -> 478660 | I30: ='תקציב הנדסה 2019'!I58 -> 600 | J30: ='תקציב הנדסה 2019'!J58 -> 17151.75 | K30: ='תקציב הנדסה 2019'!K58 -> 17751.75 | ... Z30: ='תקציב הנדסה 2019'!Z58 -> 0 | AA30: להשלים תאור העבודות ואומדן. | AB30: ='תקציב הנדסה 2019'!AB58 -> 732000
A31: =A30+1 -> 26 | B31: 1760 | C31: תוכנית אסטרטגית להתי' עירונית באזהת"ש (*) שינוי שם | D31: ='תקציב הנדסה 2019'!D59 -> 900000 | E31: ='תקציב הנדסה 2019'!E59 -> 900000 | F31: ='תקציב הנדסה 2019'!F59 -> 0 | G31: ='תקציב הנדסה 2019'!G59 -> 300000 | H31: ='תקציב הנדסה 2019'!H59 -> 38898 | I31: ='תקציב הנדסה 2019'!I59 -> 0 | J31: ='תקציב הנדסה 2019'!J59 -> 1228 | K31: ='תקציב הנדסה 2019'!K59 -> 1228 | ... Z31: ='תקציב הנדסה 2019'!Z59 -> 0 | AA31: להשלים תאור העבודות. | AB31: ='תקציב הנדסה 2019'!AB59 -> 732000
A32: =A31+1 -> 27 | B32: 1762 | C32: בקשות להיתר בלתי צפויות | D32: ='תקציב הנדסה 2019'!D60 -> 500000 | E32: ='תקציב הנדסה 2019'!E60 -> 500000 | F32: ='תקציב הנדסה 2019'!F60 -> 0 | G32: ='תקציב הנדסה 2019'!G60 -> 100000 | H32: ='תקציב הנדסה 2019'!H60 -> 11442 | I32: ='תקציב הנדסה 2019'!I60 -> 0 | J32: ='תקציב הנדסה 2019'!J60 -> 0 | K32: ='תקציב הנדסה 2019'!K60 -> 0 | ... Z32: ='תקציב הנדסה 2019'!Z60 -> 0 | AA32: סל של שעות ייעוץ עבור בקשות פרטניות להיתר לפי צורך. | AB32: ='תקציב הנדסה 2019'!AB60 -> 732000
A33: =A32+1 -> 28 | B33: 1799 | C33: תב"ע קרית השחקים | D33: ='תקציב הנדסה 2019'!D61 -> 1000000 | E33: ='תקציב הנדסה 2019'!E61 -> 1000000 | F33: ='תקציב הנדסה 2019'!F61 -> 0 | G33: ='תקציב הנדסה 2019'!G61 -> 350000 | H33: ='תקציב הנדסה 2019'!H61 -> 24106 | I33: ='תקציב הנדסה 2019'!I61 -> 0 | J33: ='תקציב הנדסה 2019'!J61 -> 20567.86 | K33: ='תקציב הנדסה 2019'!K61 -> 20567.86 | ... Z33: ='תקציב הנדסה 2019'!Z61 -> 0 | AA33: תכנון איזור תעשיה ושכונת מגורים במשולש התחבורה. מקודם בותמ"ל . התקציב להכנת התנגדות העיריה. | AB33: ='תקציב הנדסה 2019'!AB61 -> 732000
A34: =A33+1 -> 29 | B34: 1811 | C34: תכנון דיור בן ציון מיכאלי | D34: ='תקציב הנדסה 2019'!D64 -> 250000 | E34: ='תקציב הנדסה 2019'!E64 -> 250000 | F34: ='תקציב הנדסה 2019'!F64 -> 0 | G34: ='תקציב הנדסה 2019'!G64 -> 250000 | H34: ='תקציב הנדסה 2019'!H64 -> 0 | I34: ='תקציב הנדסה 2019'!I64 -> 0 | J34: ='תקציב הנדסה 2019'!J64 -> 0 | K34: ='תקציב הנדסה 2019'!K64 -> 0 | ... Z34: ='תקציב הנדסה 2019'!Z64 -> 0 | AA34: להשלים תאור הפרויקט. | AB34: ='תקציב הנדסה 2019'!AB64 -> 732000
A35: =A34+1 -> 30 | B35: 1842 | C35: תב"ע תחנה מרכזית חדשה זמנית | D35: ='תקציב הנדסה 2019'!D66 -> 800000 | E35: ='תקציב הנדסה 2019'!E66 -> 800000 | F35: ='תקציב הנדסה 2019'!F66 -> 0 | G35: ='תקציב הנדסה 2019'!G66 -> 200000 | H35: ='תקציב הנדסה 2019'!H66 -> 0 | I35: ='תקציב הנדסה 2019'!I66 -> 0 | J35: ='תקציב הנדסה 2019'!J66 -> 0 | K35: ='תקציב הנדסה 2019'!K66 -> 0 | ... Z35: ='תקציב הנדסה 2019'!Z66 -> 0 | AA35: תכנון תב"ע לשטח התחנה המרכזית החדשה. | AB35: ='תקציב הנדסה 2019'!AB66 -> 732000
A36: =A35+1 -> 31 | B36: 1843 | C36: פינוי בינוי מול התחנה | D36: ='תקציב הנדסה 2019'!D67 -> 380000 | E36: ='תקציב הנדסה 2019'!E67 -> 380000 | F36: ='תקציב הנדסה 2019'!F67 -> 0 | G36: ='תקציב הנדסה 2019'!G67 -> 70000 | H36: ='תקציב הנדסה 2019'!H67 -> 0 | I36: ='תקציב הנדסה 2019'!I67 -> 1.17 | J36: ='תקציב הנדסה 2019'!J67 -> 0 | K36: ='תקציב הנדסה 2019'!K67 -> 1.17 | ... Z36: ='תקציב הנדסה 2019'!Z67 -> 0 | AA36: הליך התנעה לתכנון מתחם לפינוי בינוי מול התחנה. | AB36: ='תקציב הנדסה 2019'!AB67 -> 732000
A37: =A36+1 -> 32 | B37: 1844 | C37: פינוי בינוי סוקולוב שד ירושלים | D37: ='תקציב הנדסה 2019'!D68 -> 2078338 | E37: ='תקציב הנדסה 2019'!E68 -> 732000 | F37: ='תקציב הנדסה 2019'!F68 -> 1346338 | G37: ='תקציב הנדסה 2019'!G68 -> 70000 | H37: ='תקציב הנדסה 2019'!H68 -> 62477.48 | I37: ='תקציב הנדסה 2019'!I68 -> 0 | J37: ='תקציב הנדסה 2019'!J68 -> 0 | K37: ='תקציב הנדסה 2019'!K68 -> 0 | ... Z37: ='תקציב הנדסה 2019'!Z68 -> 1254444 | AA37: פינוי בינוי סוקולוב שד' ירושלים במימון מ. הבינוי. | AB37: ='תקציב הנדסה 2019'!AB68 -> 732000
A38: =A37+1 -> 33 | B38: 1937 | C38: תבע משולש המנהרה הר' 2350 | D38: ='תקציב הנדסה 2019'!D70 -> 750000 | E38: ='תקציב הנדסה 2019'!E70 -> 700000 | F38: ='תקציב הנדסה 2019'!F70 -> 50000 | G38: ='תקציב הנדסה 2019'!G70 -> 450000 | H38: ='תקציב הנדסה 2019'!H70 -> 39885 | I38: ='תקציב הנדסה 2019'!I70 -> 261133 | J38: ='תקציב הנדסה 2019'!J70 -> 40357.54 | K38: ='תקציב הנדסה 2019'!K70 -> 301490.54 | ... Z38: ='תקציב הנדסה 2019'!Z70 -> 0 | AA38: תוכנית מתארית ומפורטת חלקית לאורך רחוב המנהרה ועד פארק הואדי. התוכנית כוללת מתחם לשימור. קיימת עתירה לבימ"ש של בעלי קרקע פרטיים. | AB38: ='תקציב הנדסה 2019'!AB70 -> 732000
A39: =A38+1 -> 34 | B39: 1950 | C39: תכנון שינוי גבולות העיר | D39: ='תקציב הנדסה 2019'!D72 -> 500000 | E39: ='תקציב הנדסה 2019'!E72 -> 500000 | F39: ='תקציב הנדסה 2019'!F72 -> 0 | G39: ='תקציב הנדסה 2019'!G72 -> 100000 | H39: ='תקציב הנדסה 2019'!H72 -> 0 | I39: ='תקציב הנדסה 2019'!I72 -> 0 | J39: ='תקציב הנדסה 2019'!J72 -> 0 | K39: ='תקציב הנדסה 2019'!K72 -> 0 | ... Z39: ='תקציב הנדסה 2019'!Z72 -> 0 | AA39: עלויות לצורך מתן מענה לדיון במשרד הפנים עקב אישורה של תוכנית תמ"ל מס' 1068. | AB39: ='תקציב הנדסה 2019'!AB72 -> 732000
A40: =A39+1 -> 35 | B40: 1951 | C40: מתחם דן אכדייה ליווי תכנוני | D40: ='תקציב הנדסה 2019'!D73 -> 300000 | E40: ='תקציב הנדסה 2019'!E73 -> 300000 | F40: ='תקציב הנדסה 2019'!F73 -> 0 | G40: ='תקציב הנדסה 2019'!G73 -> 160000 | H40: ='תקציב הנדסה 2019'!H73 -> 123575 | I40: ='תקציב הנדסה 2019'!I73 -> 35100 | J40: ='תקציב הנדסה 2019'!J73 -> 0 | K40: ='תקציב הנדסה 2019'!K73 -> 35100 | ... Z40: ='תקציב הנדסה 2019'!Z73 -> 0 | AB40: ='תקציב הנדסה 2019'!AB73 -> 732000
A41: =A40+1 -> 36 | B41: 2013 | C41: בדיקות תכנוניות כללי | D41: ='תקציב הנדסה 2019'!D80 -> 1250000 | E41: ='תקציב הנדסה 2019'!E80 -> 1250000 | F41: ='תקציב הנדסה 2019'!F80 -> 0 | G41: ='תקציב הנדסה 2019'!G80 -> 100000 | H41: ='תקציב הנדסה 2019'!H80 -> 0 | I41: ='תקציב הנדסה 2019'!I80 -> 0 | J41: ='תקציב הנדסה 2019'!J80 -> 21060 | K41: ='תקציב הנדסה 2019'!K80 -> 21060 | ... Z41: ='תקציב הנדסה 2019'!Z80 -> 0 | AA41: סל של עבודות תכנון , בדיקות, סקרים ודרישות מכח החלטות של ועדות סטטוטוריות בלתי צפויות. | AB41: ='תקציב הנדסה 2019'!AB80 -> 732000
A42: =A41+1 -> 37 | B42: 2014 | C42: תכנון אסטרטגי ציר מעפילים | D42: ='תקציב הנדסה 2019'!D81 -> 750000 | E42: ='תקציב הנדסה 2019'!E81 -> 100000 | F42: ='תקציב הנדסה 2019'!F81 -> 650000 | G42: ='תקציב הנדסה 2019'!G81 -> 100000 | H42: ='תקציב הנדסה 2019'!H81 -> 0 | I42: ='תקציב הנדסה 2019'!I81 -> 0 | J42: ='תקציב הנדסה 2019'!J81 -> 0 | K42: ='תקציב הנדסה 2019'!K81 -> 0 | ... Z42: ='תקציב הנדסה 2019'!Z81 -> 0 | AA42: תכנון ציר המעפילים הכניסה הצפונית לעיר בשיתוף מועצה מקומית כפר שמריהו. | AB42: ='תקציב הנדסה 2019'!AB81 -> 732000
A43: =1+A42 -> 38 | B43: ='תקציב הנדסה 2019'!B92 -> 2112 | C43: סקר עבירות בניה ברחבי העיר | D43: ='תקציב הנדסה 2019'!D92 -> 7650000 | E43: ='תקציב הנדסה 2019'!E92 -> 0 | F43: ='תקציב הנדסה 2019'!F92 -> 7650000 | G43: ='תקציב הנדסה 2019'!G92 -> 0 | H43: ='תקציב הנדסה 2019'!H92 -> 0 | I43: ='תקציב הנדסה 2019'!I92 -> 0 | J43: ='תקציב הנדסה 2019'!J92 -> 0 | K43: ='תקציב הנדסה 2019'!K92 -> 0 | ... Z43: ='תקציב הנדסה 2019'!Z92 -> 0 | AA43: לדיון נוסף. | AB43: ='תקציב הנדסה 2019'!AB92 -> 732000
A44: =1+A43 -> 39 | B44: ='תקציב הנדסה 2019'!B93 -> 2113 | C44: ביצוע הריסות עפ"י צווים | D44: ='תקציב הנדסה 2019'!D93 -> 2550000 | E44: ='תקציב הנדסה 2019'!E93 -> 0 | F44: ='תקציב הנדסה 2019'!F93 -> 2550000 | G44: ='תקציב הנדסה 2019'!G93 -> 0 | H44: ='תקציב הנדסה 2019'!H93 -> 0 | I44: ='תקציב הנדסה 2019'!I93 -> 0 | J44: ='תקציב הנדסה 2019'!J93 -> 0 | K44: ='תקציב הנדסה 2019'!K93 -> 0 | ... Z44: ='תקציב הנדסה 2019'!Z93 -> 0 | AA44: להשלים תאור ואמדן. | AB44: ='תקציב הנדסה 2019'!AB93 -> 732000
A45: =1+A44 -> 40 | B45: ='תקציב הנדסה 2019'!B94 -> 2114 | C45: תב"ע תוכנית שיקום המסילה המתפנה הר '2435 | D45: ='תקציב הנדסה 2019'!D94 -> 1450000 | E45: ='תקציב הנדסה 2019'!E94 -> 0 | F45: ='תקציב הנדסה 2019'!F94 -> 1450000 | G45: ='תקציב הנדסה 2019'!G94 -> 0 | H45: ='תקציב הנדסה 2019'!H94 -> 0 | I45: ='תקציב הנדסה 2019'!I94 -> 0 | J45: ='תקציב הנדסה 2019'!J94 -> 0 | K45: ='תקציב הנדסה 2019'!K94 -> 0 | ... Z45: ='תקציב הנדסה 2019'!Z94 -> 0 | AA45: הכנת תב"ע בשיתוף מועצת כפר שמריהו לתכנון קישוריות שביל אופניים ופארק בתחום המסילה המתפנה ואפשרות לבחינת חיבור תחבורתי נוסף להרצליה ב'. | AB45: ='תקציב הנדסה 2019'!AB94 -> 732000
A46: =1+A45 -> 41 | B46: ='תקציב הנדסה 2019'!B95 -> 2115 | C46: תוכנית מתאר איזור התעסוקה הר/2440 | D46: ='תקציב הנדסה 2019'!D95 -> 3100000 | E46: ='תקציב הנדסה 2019'!E95 -> 0 | F46: ='תקציב הנדסה 2019'!F95 -> 3100000 | G46: ='תקציב הנדסה 2019'!G95 -> 0 | H46: ='תקציב הנדסה 2019'!H95 -> 0 | I46: ='תקציב הנדסה 2019'!I95 -> 0 | J46: ='תקציב הנדסה 2019'!J95 -> 0 | K46: ='תקציב הנדסה 2019'!K95 -> 0 | ... Z46: ='תקציב הנדסה 2019'!Z95 -> 0 | AA46: הפיכת תוכנית אסטרטגית לתוכנית סטטוטורית, לתוכנית מתאר בועדה המחוזית בהתאם ליו"ר הועדה המחוזית. לדיון נוסף. | AB46: ='תקציב הנדסה 2019'!AB95 -> 732000
A47: =1+A46 -> 42 | B47: ='תקציב הנדסה 2019'!B96 -> 2116 | C47: תב"ע מעברת רשף - מערב נוף ים | D47: ='תקציב הנדסה 2019'!D96 -> 1700000 | E47: ='תקציב הנדסה 2019'!E96 -> 0 | F47: ='תקציב הנדסה 2019'!F96 -> 1700000 | G47: ='תקציב הנדסה 2019'!G96 -> 0 | H47: ='תקציב הנדסה 2019'!H96 -> 0 | I47: ='תקציב הנדסה 2019'!I96 -> 0 | J47: ='תקציב הנדסה 2019'!J96 -> 0 | K47: ='תקציב הנדסה 2019'!K96 -> 0 | ... Z47: ='תקציב הנדסה 2019'!Z96 -> 0 | AA47: תוכנית לשיקום מעברת רשף והקמת שכונת מגורים חדשה בשילוב שטחי ציבור , שטחים פתוחים ותיירות. | AB47: ='תקציב הנדסה 2019'!AB96 -> 732000
A48: =1+A47 -> 43 | B48: ='תקציב הנדסה 2019'!B97 -> 2117 | C48: שינוי תוכנית גליל ים א' ב' | D48: ='תקציב הנדסה 2019'!D97 -> 600000 | E48: ='תקציב הנדסה 2019'!E97 -> 0 | F48: ='תקציב הנדסה 2019'!F97 -> 600000 | G48: ='תקציב הנדסה 2019'!G97 -> 0 | H48: ='תקציב הנדסה 2019'!H97 -> 0 | I48: ='תקציב הנדסה 2019'!I97 -> 0 | J48: ='תקציב הנדסה 2019'!J97 -> 0 | K48: ='תקציב הנדסה 2019'!K97 -> 0 | ... Z48: ='תקציב הנדסה 2019'!Z97 -> 0 | AA48: להשלים תאור ואמדן. | AB48: ='תקציב הנדסה 2019'!AB97 -> 732000
A49: =1+A48 -> 44 | B49: ='תקציב הנדסה 2019'!B100 -> 2120 | C49: הכנת פרוגרמות עירוניות עפ"י הנדרש | D49: ='תקציב הנדסה 2019'!D100 -> 1000000 | E49: ='תקציב הנדסה 2019'!E100 -> 0 | F49: ='תקציב הנדסה 2019'!F100 -> 1000000 | G49: ='תקציב הנדסה 2019'!G100 -> 0 | H49: ='תקציב הנדסה 2019'!H100 -> 0 | I49: ='תקציב הנדסה 2019'!I100 -> 0 | J49: ='תקציב הנדסה 2019'!J100 -> 0 | K49: ='תקציב הנדסה 2019'!K100 -> 0 | ... Z49: ='תקציב הנדסה 2019'!Z100 -> 0 | AA49: הכנת פרוגרמות עירוניות : שטחים מבונים,איזור תעשיה, מרחב ציבורי,תוכניות תמ"א 38, סוקולוב. | AB49: ='תקציב הנדסה 2019'!AB100 -> 732000
C50: פרק 73 | D50: =SUM(D6:D49) -> 102543578 | E50: =SUM(E6:E49) -> 81177240 | F50: =SUM(F6:F49) -> 21366338 | G50: =SUM(G6:G49) -> 52840157 | H50: =SUM(H6:H49) -> 35714578 | I50: =SUM(I6:I49) -> 3914308.3 | J50: =SUM(J6:J49) -> 2661142.4 | K50: =SUM(K6:K49) -> 6575450.7 | ... Z50: =SUM(Z6:Z49) -> 1929577
A51: =A49+1 -> 45 | B51: 507 | C51: החלפת מדרכות | D51: ='תקציב הנדסה 2019'!D8 -> 2310000 | E51: ='תקציב הנדסה 2019'!E8 -> 2310000 | F51: ='תקציב הנדסה 2019'!F8 -> 0 | G51: ='תקציב הנדסה 2019'!G8 -> 1765000 | H51: ='תקציב הנדסה 2019'!H8 -> 1653104.2 | I51: ='תקציב הנדסה 2019'!I8 -> 0 | J51: ='תקציב הנדסה 2019'!J8 -> 0 | K51: ='תקציב הנדסה 2019'!K8 -> 0 | ... Z51: ='תקציב הנדסה 2019'!Z8 -> 0 | AA51: ביצוע עבודות מדרכות לאחר השלמת עבודות בניה כתוצאה מהיתרים. | AB51: ='תקציב הנדסה 2019'!AB8 -> 742000
A52: =A51+1 -> 46 | B52: 546 | C52: מתחם הגאון מוילנא חתם סופר | D52: ='תקציב הנדסה 2019'!D9 -> 2920000 | E52: ='תקציב הנדסה 2019'!E9 -> 5850000 | F52: ='תקציב הנדסה 2019'!F9 -> -2930000 | G52: ='תקציב הנדסה 2019'!G9 -> 2950000 | H52: ='תקציב הנדסה 2019'!H9 -> 2895703.4 | I52: ='תקציב הנדסה 2019'!I9 -> 0 | J52: ='תקציב הנדסה 2019'!J9 -> 18053 | K52: ='תקציב הנדסה 2019'!K9 -> 18053 | ... Z52: ='תקציב הנדסה 2019'!Z9 -> 0 | AB52: ='תקציב הנדסה 2019'!AB9 -> 742000
A53: =A52+1 -> 47 | B53: 592 | C53: מתחם הבריגדה מתחם הר' 1960 | D53: ='תקציב הנדסה 2019'!D10 -> 54893000 | E53: ='תקציב הנדסה 2019'!E10 -> 54893000 | F53: ='תקציב הנדסה 2019'!F10 -> 0 | G53: ='תקציב הנדסה 2019'!G10 -> 18720000 | H53: ='תקציב הנדסה 2019'!H10 -> 17302170 | I53: ='תקציב הנדסה 2019'!I10 -> 149113.19 | J53: ='תקציב הנדסה 2019'!J10 -> 14350 | K53: ='תקציב הנדסה 2019'!K10 -> 163463.19 | ... Z53: ='תקציב הנדסה 2019'!Z10 -> 0 | AA53: עבור שצ"פ האקליפטוס 3.5 מיליון ₪ ו - 400 אלפי ₪ תכנון רח' דורי.יתרת תקציב לביצוע עבודות סלילה ופיתוח סופי בדן שומרון. | AB53: ='תקציב הנדסה 2019'!AB10 -> 742000
A54: =A53+1 -> 48 | B54: 631 | C54: מתחם רחוב משה | D54: ='תקציב הנדסה 2019'!D13 -> 7059000 | E54: ='תקציב הנדסה 2019'!E13 -> 9005000 | F54: ='תקציב הנדסה 2019'!F13 -> -1946000 | G54: ='תקציב הנדסה 2019'!G13 -> 7305000 | H54: ='תקציב הנדסה 2019'!H13 -> 7030689.3 | I54: ='תקציב הנדסה 2019'!I13 -> 0 | J54: ='תקציב הנדסה 2019'!J13 -> 27554.53 | K54: ='תקציב הנדסה 2019'!K13 -> 27554.53 | ... Z54: ='תקציב הנדסה 2019'!Z13 -> 0 | AB54: ='תקציב הנדסה 2019'!AB13 -> 742000
A55: =A54+1 -> 49 | B55: 638 | C55: פ.מתחם רזיאל מע' תב"ע 1706 | D55: ='תקציב הנדסה 2019'!D14 -> 7000000 | E55: ='תקציב הנדסה 2019'!E14 -> 7000000 | F55: ='תקציב הנדסה 2019'!F14 -> 0 | G55: ='תקציב הנדסה 2019'!G14 -> 4600000 | H55: ='תקציב הנדסה 2019'!H14 -> 3454839 | I55: ='תקציב הנדסה 2019'!I14 -> 74548.7 | J55: ='תקציב הנדסה 2019'!J14 -> 7765.64 | K55: ='תקציב הנדסה 2019'!K14 -> 82314.34 | ... Z55: ='תקציב הנדסה 2019'!Z14 -> 0 | AA55: פיתוח ברח' העפרוני וזאב במתחם. אומדן ביצוע כולל תאורה וסלילת רחוב משולב . | AB55: ='תקציב הנדסה 2019'!AB14 -> 742000
A56: =A55+1 -> 50 | B56: 1018 | C56: מחלף הרב מכר | D56: ='תקציב הנדסה 2019'!D15 -> 31900000 | E56: ='תקציב הנדסה 2019'!E15 -> 31900000 | F56: ='תקציב הנדסה 2019'!F15 -> 0 | G56: ='תקציב הנדסה 2019'!G15 -> 5100000 | H56: ='תקציב הנדסה 2019'!H15 -> 3059586.8 | I56: ='תקציב הנדסה 2019'!I15 -> 84192.99 | J56: ='תקציב הנדסה 2019'!J15 -> 4379.93 | K56: ='תקציב הנדסה 2019'!K15 -> 88572.92 | ... Z56: ='תקציב הנדסה 2019'!Z15 -> 0 | AA56: פרויקט ממשלתי המתוקצב ע"י המדינה במקביל לרשות. הביצוע העירוני מתעכב עקב בעית פולש. | AB56: ='תקציב הנדסה 2019'!AB15 -> 742000
A57: =A56+1 -> 51 | B57: 1129 | C57: עבודות פיתוח ותשתיות קטנות | D57: ='תקציב הנדסה 2019'!D17 -> 7000000 | E57: ='תקציב הנדסה 2019'!E17 -> 7000000 | F57: ='תקציב הנדסה 2019'!F17 -> 0 | G57: ='תקציב הנדסה 2019'!G17 -> 5991771 | H57: ='תקציב הנדסה 2019'!H17 -> 5044953.6 | I57: ='תקציב הנדסה 2019'!I17 -> 0 | J57: ='תקציב הנדסה 2019'!J17 -> 55293.76 | K57: ='תקציב הנדסה 2019'!K17 -> 55293.76 | ... Z57: ='תקציב הנדסה 2019'!Z17 -> 0 | AA57: סל עבודות פיתוח קטנות מזדמנות הנדרשות במהלך השנה. | AB57: ='תקציב הנדסה 2019'!AB17 -> 742000
A58: =A57+1 -> 52 | B58: 1314 | C58: רח' גבעת החלומות פיתוח | D58: ='תקציב הנדסה 2019'!D19 -> 3200000 | E58: ='תקציב הנדסה 2019'!E19 -> 3200000 | F58: ='תקציב הנדסה 2019'!F19 -> 0 | G58: ='תקציב הנדסה 2019'!G19 -> 400000 | H58: ='תקציב הנדסה 2019'!H19 -> 359314.49 | I58: ='תקציב הנדסה 2019'!I19 -> 0 | J58: ='תקציב הנדסה 2019'!J19 -> 0 | K58: ='תקציב הנדסה 2019'!K19 -> 0 | ... Z58: ='תקציב הנדסה 2019'!Z19 -> 0 | AA58: פיתוח רחוב גבעת החלומות לרבות עבודות ניקוז ותאורה. | AB58: ='תקציב הנדסה 2019'!AB19 -> 742000
A59: =A58+1 -> 53 | B59: 1322 | C59: מתחם נוף ים פיתוח | D59: ='תקציב הנדסה 2019'!D21 -> 18500000 | E59: ='תקציב הנדסה 2019'!E21 -> 18500000 | F59: ='תקציב הנדסה 2019'!F21 -> 0 | G59: ='תקציב הנדסה 2019'!G21 -> 11050000 | H59: ='תקציב הנדסה 2019'!H21 -> 9625168.6 | I59: ='תקציב הנדסה 2019'!I21 -> 92414.99 | J59: ='תקציב הנדסה 2019'!J21 -> 0 | K59: ='תקציב הנדסה 2019'!K21 -> 92414.99 | ... Z59: ='תקציב הנדסה 2019'!Z21 -> 0 | AA59: פיתוח הרחובות משער הים צפונה - תשתיות תאורה וגינון, הנשיא והתאנה. | AB59: ='תקציב הנדסה 2019'!AB21 -> 742000
A60: =A59+1 -> 54 | B60: 1324 | C60: שצ"פ אל על והמינהרה | D60: ='תקציב הנדסה 2019'!D22 -> 180000 | E60: ='תקציב הנדסה 2019'!E22 -> 180000 | F60: ='תקציב הנדסה 2019'!F22 -> 0 | G60: ='תקציב הנדסה 2019'!G22 -> 180000 | H60: ='תקציב הנדסה 2019'!H22 -> 120629.48 | I60: ='תקציב הנדסה 2019'!I22 -> 0 | J60: ='תקציב הנדסה 2019'!J22 -> 56544 | K60: ='תקציב הנדסה 2019'!K22 -> 56544 | ... Z60: ='תקציב הנדסה 2019'!Z22 -> 0 | AB60: ='תקציב הנדסה 2019'!AB22 -> 742000
A61: =A60+1 -> 55 | B61: 1363 | C61: מתחם יהודה המכבי וזוהר טל | D61: ='תקציב הנדסה 2019'!D24 -> 15500000 | E61: ='תקציב הנדסה 2019'!E24 -> 15500000 | F61: ='תקציב הנדסה 2019'!F24 -> 0 | G61: ='תקציב הנדסה 2019'!G24 -> 6050000 | H61: ='תקציב הנדסה 2019'!H24 -> 898457 | I61: ='תקציב הנדסה 2019'!I24 -> 91890.9 | J61: ='תקציב הנדסה 2019'!J24 -> 402974 | K61: ='תקציב הנדסה 2019'!K24 -> 494864.9 | ... Z61: ='תקציב הנדסה 2019'!Z24 -> 0 | AA61: פיתוח מתחם הרחובות יהודה המכבי, זוהר טל, האצל, הגבורה. תכנון ותחילת ביצוע. | AB61: ='תקציב הנדסה 2019'!AB24 -> 742000
A62: =A61+1 -> 56 | B62: 1366 | C62: ליווי תשתיות לאומיות | D62: ='תקציב הנדסה 2019'!D25 -> 1500000 | E62: ='תקציב הנדסה 2019'!E25 -> 1500000 | F62: ='תקציב הנדסה 2019'!F25 -> 0 | G62: ='תקציב הנדסה 2019'!G25 -> 916000 | H62: ='תקציב הנדסה 2019'!H25 -> 738983 | I62: ='תקציב הנדסה 2019'!I25 -> 0 | J62: ='תקציב הנדסה 2019'!J25 -> 7821 | K62: ='תקציב הנדסה 2019'!K25 -> 7821 | ... Z62: ='תקציב הנדסה 2019'!Z25 -> 0 | AA62: ליווי יועצי תנועה, איכות הסביבה, במסגרת סלילת כביש 531 וכביש 20. | AB62: ='תקציב הנדסה 2019'!AB25 -> 742000
A63: =A62+1 -> 57 | B63: 1457 | C63: ליווי "מהיר" לעיר | D63: ='תקציב הנדסה 2019'!D30 -> 1100000 | E63: ='תקציב הנדסה 2019'!E30 -> 1100000 | F63: ='תקציב הנדסה 2019'!F30 -> 0 | G63: ='תקציב הנדסה 2019'!G30 -> 430000 | H63: ='תקציב הנדסה 2019'!H30 -> 157316 | I63: ='תקציב הנדסה 2019'!I30 -> 0 | J63: ='תקציב הנדסה 2019'!J30 -> 44257 | K63: ='תקציב הנדסה 2019'!K30 -> 44257 | ... Z63: ='תקציב הנדסה 2019'!Z30 -> 0 | AA63: העסקת צוות יועצים שילווה את התכנון והביצוע של הפרויקט. | AB63: ='תקציב הנדסה 2019'!AB30 -> 742000
A64: =A63+1 -> 58 | B64: 1511 | C64: פתוח קטעי רח' דרך ירושלים גולומב | D64: ='תקציב הנדסה 2019'!D32 -> 960000 | E64: ='תקציב הנדסה 2019'!E32 -> 960000 | F64: ='תקציב הנדסה 2019'!F32 -> 0 | G64: ='תקציב הנדסה 2019'!G32 -> 100000 | H64: ='תקציב הנדסה 2019'!H32 -> 17284 | I64: ='תקציב הנדסה 2019'!I32 -> 0 | J64: ='תקציב הנדסה 2019'!J32 -> 0 | K64: ='תקציב הנדסה 2019'!K32 -> 0 | ... Z64: ='תקציב הנדסה 2019'!Z32 -> 0 | AA64: הקמת חניות והסדרים גיאומטרים ליד מבנה לזכר השואה שיוקם ע"י היזם (ליאור דינור ואחרים). מימון היזם מובטח בערבות. | AB64: ='תקציב הנדסה 2019'!AB32 -> 742000
A65: =A64+1 -> 59 | B65: 1587 | C65: פיתוח מתחם המכללות הר' 1920/1 | D65: ='תקציב הנדסה 2019'!D38 -> 34200000 | E65: ='תקציב הנדסה 2019'!E38 -> 34200000 | F65: ='תקציב הנדסה 2019'!F38 -> 0 | G65: ='תקציב הנדסה 2019'!G38 -> 10800000 | H65: ='תקציב הנדסה 2019'!H38 -> 7946383.2 | I65: ='תקציב הנדסה 2019'!I38 -> 512415.18 | J65: ='תקציב הנדסה 2019'!J38 -> 182023 | K65: ='תקציב הנדסה 2019'!K38 -> 694438.18 | ... Z65: ='תקציב הנדסה 2019'!Z38 -> 0 | AA65: עבודה סלילה, גינון ותאורה במתחם רחובות דליה רביקוביץ, אסתר ראב וסמוכים. | AB65: ='תקציב הנדסה 2019'!AB38 -> 742000
A66: =A65+1 -> 60 | B66: 1601 | C66: העתקות פרויקטים שונים | D66: ='תקציב הנדסה 2019'!D39 -> 700000 | E66: ='תקציב הנדסה 2019'!E39 -> 700000 | F66: ='תקציב הנדסה 2019'!F39 -> 0 | G66: ='תקציב הנדסה 2019'!G39 -> 650000 | H66: ='תקציב הנדסה 2019'!H39 -> 484363 | I66: ='תקציב הנדסה 2019'!I39 -> 0 | J66: ='תקציב הנדסה 2019'!J39 -> 36804 | K66: ='תקציב הנדסה 2019'!K39 -> 36804 | ... Z66: ='תקציב הנדסה 2019'!Z39 -> 0 | AB66: ='תקציב הנדסה 2019'!AB39 -> 742000
A67: =A66+1 -> 61 | B67: 1602 | C67: רח' ז'בוטינסקי אלתרמן הבריגדה | D67: ='תקציב הנדסה 2019'!D40 -> 29500000 | E67: ='תקציב הנדסה 2019'!E40 -> 34500000 | F67: ='תקציב הנדסה 2019'!F40 -> -5000000 | G67: ='תקציב הנדסה 2019'!G40 -> 34500000 | H67: ='תקציב הנדסה 2019'!H40 -> 12660981 | I67: ='תקציב הנדסה 2019'!I40 -> 15501950 | J67: ='תקציב הנדסה 2019'!J40 -> 185508.12 | K67: ='תקציב הנדסה 2019'!K40 -> 15687458 | ... Z67: ='תקציב הנדסה 2019'!Z40 -> 0 | AA67: עבודות פיתוח במתחם הרחובות והרחבתם. | AB67: ='תקציב הנדסה 2019'!AB40 -> 742000
A68: =A67+1 -> 62 | B68: 1670 | C68: פתוח מתחם הר' 1972 תחנה מרכזית | D68: ='תקציב הנדסה 2019'!D44 -> 12500000 | E68: ='תקציב הנדסה 2019'!E44 -> 12500000 | F68: ='תקציב הנדסה 2019'!F44 -> 0 | G68: ='תקציב הנדסה 2019'!G44 -> 3800000 | H68: ='תקציב הנדסה 2019'!H44 -> 168571 | I68: ='תקציב הנדסה 2019'!I44 -> 195569.65 | J68: ='תקציב הנדסה 2019'!J44 -> 49477 | K68: ='תקציב הנדסה 2019'!K44 -> 245046.65 | ... Z68: ='תקציב הנדסה 2019'!Z44 -> 0 | AA68: תכנון פיתוח מתחם התחנה. | AB68: ='תקציב הנדסה 2019'!AB44 -> 742000
A69: =A68+1 -> 63 | B69: 1722 | C69: חיבור גשר הולכי רגל כביש 20 | D69: ='תקציב הנדסה 2019'!D49 -> 2400000 | E69: ='תקציב הנדסה 2019'!E49 -> 2400000 | F69: ='תקציב הנדסה 2019'!F49 -> 0 | G69: ='תקציב הנדסה 2019'!G49 -> 400000 | H69: ='תקציב הנדסה 2019'!H49 -> 98067.4 | I69: ='תקציב הנדסה 2019'!I49 -> 67052.7 | J69: ='תקציב הנדסה 2019'!J49 -> 47158.73 | K69: ='תקציב הנדסה 2019'!K49 -> 114211.43 | ... Z69: ='תקציב הנדסה 2019'!Z49 -> 0 | AA69: חיבור פארק שלב ב' עם שכונת המסילה בגשר הולכי רגל מעל כביש 20. | AB69: ='תקציב הנדסה 2019'!AB49 -> 742000
A70: =A69+1 -> 64 | B70: 1725 | C70: צומת סוקולוב בן גוריון | D70: ='תקציב הנדסה 2019'!D50 -> 13520000 | E70: ='תקציב הנדסה 2019'!E50 -> 13520000 | F70: ='תקציב הנדסה 2019'!F50 -> 0 | G70: ='תקציב הנדסה 2019'!G50 -> 13520000 | H70: ='תקציב הנדסה 2019'!H50 -> 13343609 | I70: ='תקציב הנדסה 2019'!I50 -> 48702.71 | J70: ='תקציב הנדסה 2019'!J50 -> 26687.57 | K70: ='תקציב הנדסה 2019'!K50 -> 75390.28 | ... Z70: ='תקציב הנדסה 2019'!Z50 -> 0 | AB70: ='תקציב הנדסה 2019'!AB50 -> 742000
A71: =A70+1 -> 65 | B71: 1744 | C71: מערכת בקרת רמזורים | D71: ='תקציב הנדסה 2019'!D51 -> 13000000 | E71: ='תקציב הנדסה 2019'!E51 -> 13000000 | F71: ='תקציב הנדסה 2019'!F51 -> 0 | G71: ='תקציב הנדסה 2019'!G51 -> 8200000 | H71: ='תקציב הנדסה 2019'!H51 -> 3125812 | I71: ='תקציב הנדסה 2019'!I51 -> 0 | J71: ='תקציב הנדסה 2019'!J51 -> 3820125 | K71: ='תקציב הנדסה 2019'!K51 -> 3820125 | ... Z71: ='תקציב הנדסה 2019'!Z51 -> 0 | AA71: הקמת מערכת בקרת רמזורים ברחבי העיר. | AB71: ='תקציב הנדסה 2019'!AB51 -> 742000
A72: =A71+1 -> 66 | B72: 1746 | C72: תכנון חניון במתחם אגד | D72: ='תקציב הנדסה 2019'!D52 -> 55000000 | E72: ='תקציב הנדסה 2019'!E52 -> 55000000 | F72: ='תקציב הנדסה 2019'!F52 -> 0 | G72: ='תקציב הנדסה 2019'!G52 -> 0 | H72: ='תקציב הנדסה 2019'!H52 -> 0 | I72: ='תקציב הנדסה 2019'!I52 -> 0 | J72: ='תקציב הנדסה 2019'!J52 -> 0 | K72: ='תקציב הנדסה 2019'!K52 -> 0 | ... Z72: ='תקציב הנדסה 2019'!Z52 -> 0 | AB72: ='תקציב הנדסה 2019'!AB52 -> 742000
A73: =A72+1 -> 67 | B73: 1804 | C73: פית' מדרגות קיר תומך פנחס רוזן | D73: ='תקציב הנדסה 2019'!D62 -> 200000 | E73: ='תקציב הנדסה 2019'!E62 -> 200000 | F73: ='תקציב הנדסה 2019'!F62 -> 0 | G73: ='תקציב הנדסה 2019'!G62 -> 200000 | H73: ='תקציב הנדסה 2019'!H62 -> 0 | I73: ='תקציב הנדסה 2019'!I62 -> 0 | J73: ='תקציב הנדסה 2019'!J62 -> 47073.2 | K73: ='תקציב הנדסה 2019'!K62 -> 47073.2 | ... Z73: ='תקציב הנדסה 2019'!Z62 -> 0 | AB73: ='תקציב הנדסה 2019'!AB62 -> 742000
A74: =A73+1 -> 68 | B74: 1805 | C74: שביל אופניים הרצליה-ת"א הפקעות | D74: ='תקציב הנדסה 2019'!D63 -> 1000000 | E74: ='תקציב הנדסה 2019'!E63 -> 1000000 | F74: ='תקציב הנדסה 2019'!F63 -> 0 | G74: ='תקציב הנדסה 2019'!G63 -> 110000 | H74: ='תקציב הנדסה 2019'!H63 -> 2677 | I74: ='תקציב הנדסה 2019'!I63 -> 0 | J74: ='תקציב הנדסה 2019'!J63 -> 0 | K74: ='תקציב הנדסה 2019'!K63 -> 0 | ... Z74: ='תקציב הנדסה 2019'!Z63 -> 0 | AA74: טרם הופקעו כל החלקות. | AB74: ='תקציב הנדסה 2019'!AB63 -> 742000
A75: =A74+1 -> 69 | B75: 1826 | C75: פיתוח שצ"פים במורדי הגטאות | D75: ='תקציב הנדסה 2019'!D65 -> 1500000 | E75: ='תקציב הנדסה 2019'!E65 -> 1500000 | F75: ='תקציב הנדסה 2019'!F65 -> 0 | G75: ='תקציב הנדסה 2019'!G65 -> 400000 | H75: ='תקציב הנדסה 2019'!H65 -> 14227 | I75: ='תקציב הנדסה 2019'!I65 -> 0 | J75: ='תקציב הנדסה 2019'!J65 -> 11756.75 | K75: ='תקציב הנדסה 2019'!K65 -> 11756.75 | ... Z75: ='תקציב הנדסה 2019'!Z65 -> 0 | AA75: הסדרת דרכי גישה למבני מגורים והסדרת פלישות לשטחי ציבור. המשך תכנון וביצוע השצ"פים כ - 1,300 מ"ר. | AB75: ='תקציב הנדסה 2019'!AB65 -> 742000
A76: =A75+1 -> 70 | B76: 1882 | C76: פיתוח מתחם אולפני הרצליה | D76: ='תקציב הנדסה 2019'!D69 -> 14300000 | E76: ='תקציב הנדסה 2019'!E69 -> 14300000 | F76: ='תקציב הנדסה 2019'!F69 -> 0 | G76: ='תקציב הנדסה 2019'!G69 -> 200000 | H76: ='תקציב הנדסה 2019'!H69 -> 0 | I76: ='תקציב הנדסה 2019'!I69 -> 0 | J76: ='תקציב הנדסה 2019'!J69 -> 0 | K76: ='תקציב הנדסה 2019'!K69 -> 0 | ... Z76: ='תקציב הנדסה 2019'!Z69 -> 0 | AA76: פיתוח מתחם אולפני הרצליה תב"ע הר' 2180. לקבל אומדן ל - 450 אלשח. | AB76: ='תקציב הנדסה 2019'!AB69 -> 742000
A77: =A76+1 -> 71 | B77: 2007 | C77: חניון עצמאות | D77: ='תקציב הנדסה 2019'!D75 -> 1100000 | E77: ='תקציב הנדסה 2019'!E75 -> 3000000 | F77: ='תקציב הנדסה 2019'!F75 -> -1900000 | G77: ='תקציב הנדסה 2019'!G75 -> 1100000 | H77: ='תקציב הנדסה 2019'!H75 -> 0 | I77: ='תקציב הנדסה 2019'!I75 -> 0 | J77: ='תקציב הנדסה 2019'!J75 -> 982948 | K77: ='תקציב הנדסה 2019'!K75 -> 982948 | ... Z77: ='תקציב הנדסה 2019'!Z75 -> 0 | AA77: פיתוח חניון זמני במתחם אגד. | AB77: ='תקציב הנדסה 2019'!AB75 -> 742000
A78: =A77+1 -> 72 | B78: 2009 | C78: סמטת ניסנוב | D78: ='תקציב הנדסה 2019'!D76 -> 9000000 | E78: ='תקציב הנדסה 2019'!E76 -> 9000000 | F78: ='תקציב הנדסה 2019'!F76 -> 0 | G78: ='תקציב הנדסה 2019'!G76 -> 0 | H78: ='תקציב הנדסה 2019'!H76 -> 0 | I78: ='תקציב הנדסה 2019'!I76 -> 0 | J78: ='תקציב הנדסה 2019'!J76 -> 0 | K78: ='תקציב הנדסה 2019'!K76 -> 0 | ... Z78: ='תקציב הנדסה 2019'!Z76 -> 0 | AA78: פיתוח סימטה שהפכה לדרך במסגרת תב"ע 2029 בנווה עמל. 2019- תכנון. | AB78: ='תקציב הנדסה 2019'!AB76 -> 742000
A79: =A78+1 -> 73 | B79: 2010 | C79: יהודה הנשיא רבי עקיבא רזיאל | D79: ='תקציב הנדסה 2019'!D77 -> 8000000 | E79: ='תקציב הנדסה 2019'!E77 -> 8000000 | F79: ='תקציב הנדסה 2019'!F77 -> 0 | G79: ='תקציב הנדסה 2019'!G77 -> 500000 | H79: ='תקציב הנדסה 2019'!H77 -> 0 | I79: ='תקציב הנדסה 2019'!I77 -> 0 | J79: ='תקציב הנדסה 2019'!J77 -> 0 | K79: ='תקציב הנדסה 2019'!K77 -> 0 | ... Z79: ='תקציב הנדסה 2019'!Z77 -> 0 | AA79: פיתוח קטע הרחוב מרבי עקיבא עד דוד רזיאל. 2019 - תכנון. לקבל תאור עבודות ואומדן. | AB79: ='תקציב הנדסה 2019'!AB77 -> 742000
A80: =A79+1 -> 74 | B80: 2011 | C80: תכנון חניון מרינה לי | D80: ='תקציב הנדסה 2019'!D78 -> 80000000 | E80: ='תקציב הנדסה 2019'!E78 -> 80000000 | F80: ='תקציב הנדסה 2019'!F78 -> 0 | G80: ='תקציב הנדסה 2019'!G78 -> 0 | H80: ='תקציב הנדסה 2019'!H78 -> 0 | I80: ='תקציב הנדסה 2019'!I78 -> 0 | J80: ='תקציב הנדסה 2019'!J78 -> 0 | K80: ='תקציב הנדסה 2019'!K78 -> 0 | ... Z80: ='תקציב הנדסה 2019'!Z78 -> 0 | AA80: להשלים תאור הפרויקט ואומדן.2019-תכנון. | AB80: ='תקציב הנדסה 2019'!AB78 -> 742000
A81: =A80+1 -> 75 | B81: 2012 | C81: ציר העדפה | D81: ='תקציב הנדסה 2019'!D79 -> 5000000 | E81: ='תקציב הנדסה 2019'!E79 -> 5000000 | F81: ='תקציב הנדסה 2019'!F79 -> 0 | G81: ='תקציב הנדסה 2019'!G79 -> 0 | H81: ='תקציב הנדסה 2019'!H79 -> 0 | I81: ='תקציב הנדסה 2019'!I79 -> 0 | J81: ='תקציב הנדסה 2019'!J79 -> 0 | K81: ='תקציב הנדסה 2019'!K79 -> 0 | ... Z81: ='תקציב הנדסה 2019'!Z79 -> 0 | AA81: עבודות הנדרשות בשל הכניסה לעבודות " מהיר לעיר" וכולל תוספת חיפוי קיר בטון - 150 אלשח. | AB81: ='תקציב הנדסה 2019'!AB79 -> 742000
A82: =A81+1 -> 76 | B82: 2077 | C82: פיתוח משה דיין | D82: ='תקציב הנדסה 2019'!D82 -> 4000000 | E82: ='תקציב הנדסה 2019'!E82 -> 4000000 | F82: ='תקציב הנדסה 2019'!F82 -> 0 | G82: ='תקציב הנדסה 2019'!G82 -> 0 | H82: ='תקציב הנדסה 2019'!H82 -> 0 | I82: ='תקציב הנדסה 2019'!I82 -> 0 | J82: ='תקציב הנדסה 2019'!J82 -> 0 | K82: ='תקציב הנדסה 2019'!K82 -> 0 | ... Z82: ='תקציב הנדסה 2019'!Z82 -> 0 | AA82: תכנון וביצוע רחוב משה דיין כולל חיבור לכביש 20, הילס, אופני דן. | AB82: ='תקציב הנדסה 2019'!AB82 -> 742000
A83: =A81+1 -> 76 | B83: 2078 | C83: נילי - עבודות פיתוח והסדרת תנועה | D83: ='תקציב הנדסה 2019'!D83 -> 2260000 | E83: ='תקציב הנדסה 2019'!E83 -> 2260000 | F83: ='תקציב הנדסה 2019'!F83 -> 0 | G83: ='תקציב הנדסה 2019'!G83 -> 150000 | H83: ='תקציב הנדסה 2019'!H83 -> 0 | I83: ='תקציב הנדסה 2019'!I83 -> 0 | J83: ='תקציב הנדסה 2019'!J83 -> 0 | K83: ='תקציב הנדסה 2019'!K83 -> 0 | ... Z83: ='תקציב הנדסה 2019'!Z83 -> 0 | AA83: לאור החלטת בית המשפט שהעיריה תבצע שינויים גיאומטרים וקיר. | AB83: ='תקציב הנדסה 2019'!AB83 -> 742000
A84: =A83+1 -> 77 | B84: ='תקציב הנדסה 2019'!B84 -> 2104 | C84: החלפת קו ניקוז בדוד המלך | D84: ='תקציב הנדסה 2019'!D84 -> 18500000 | E84: ='תקציב הנדסה 2019'!E84 -> 0 | F84: ='תקציב הנדסה 2019'!F84 -> 18500000 | G84: ='תקציב הנדסה 2019'!G84 -> 0 | H84: ='תקציב הנדסה 2019'!H84 -> 0 | I84: ='תקציב הנדסה 2019'!I84 -> 0 | J84: ='תקציב הנדסה 2019'!J84 -> 0 | K84: ='תקציב הנדסה 2019'!K84 -> 0 | ... Z84: ='תקציב הנדסה 2019'!Z84 -> 0 | AA84: להשלים תאור ואמדן. | AB84: ='תקציב הנדסה 2019'!AB84 -> 742000
A85: =A84+1 -> 78 | B85: ='תקציב הנדסה 2019'!B85 -> 2105 | C85: הארכת דרך ירושלים והתחברות אליה | D85: ='תקציב הנדסה 2019'!D85 -> 60000000 | E85: ='תקציב הנדסה 2019'!E85 -> 0 | F85: ='תקציב הנדסה 2019'!F85 -> 60000000 | G85: ='תקציב הנדסה 2019'!G85 -> 0 | H85: ='תקציב הנדסה 2019'!H85 -> 0 | I85: ='תקציב הנדסה 2019'!I85 -> 0 | J85: ='תקציב הנדסה 2019'!J85 -> 0 | K85: ='תקציב הנדסה 2019'!K85 -> 0 | ... Z85: ='תקציב הנדסה 2019'!Z85 -> 0 | AA85: הארכת דרך ירושלים עד לרחוב הנגב ויחיבור רבי עקיבא, פיתוח רח' יבנה . ב - 2019 : תחילת תכנון. | AB85: ='תקציב הנדסה 2019'!AB85 -> 742000
A86: =A85+1 -> 79 | B86: ='תקציב הנדסה 2019'!B86 -> 2106 | C86: אוצר הצמחים והראשונים ואבן אודם | D86: ='תקציב הנדסה 2019'!D86 -> 15000000 | E86: ='תקציב הנדסה 2019'!E86 -> 0 | F86: ='תקציב הנדסה 2019'!F86 -> 15000000 | G86: ='תקציב הנדסה 2019'!G86 -> 0 | H86: ='תקציב הנדסה 2019'!H86 -> 0 | I86: ='תקציב הנדסה 2019'!I86 -> 0 | J86: ='תקציב הנדסה 2019'!J86 -> 0 | K86: ='תקציב הנדסה 2019'!K86 -> 0 | ... Z86: ='תקציב הנדסה 2019'!Z86 -> 0 | AA86: פיתוח מתחם הרחובות אוצר הצמחים, אבן אודם, הראשונים. ב - 2019 : תכנון. | AB86: ='תקציב הנדסה 2019'!AB86 -> 742000
A87: =A86+1 -> 80 | B87: ='תקציב הנדסה 2019'!B87 -> 2107 | C87: פיתוח וביצוע שידרוג ויזואלי מתחם בני בניימין הנדיב | D87: ='תקציב הנדסה 2019'!D87 -> 340000 | E87: ='תקציב הנדסה 2019'!E87 -> 0 | F87: ='תקציב הנדסה 2019'!F87 -> 340000 | G87: ='תקציב הנדסה 2019'!G87 -> 0 | H87: ='תקציב הנדסה 2019'!H87 -> 0 | I87: ='תקציב הנדסה 2019'!I87 -> 0 | J87: ='תקציב הנדסה 2019'!J87 -> 0 | K87: ='תקציב הנדסה 2019'!K87 -> 0 | ... Z87: ='תקציב הנדסה 2019'!Z87 -> 0 | AA87: תכנון. להשלים תאור ואומדן. | AB87: ='תקציב הנדסה 2019'!AB87 -> 742000
A88: =1+A87 -> 81 | B88: ='תקציב הנדסה 2019'!B89 -> 2109 | C88: רחוב הפרטיזנים | D88: ='תקציב הנדסה 2019'!D89 -> 2000000 | E88: ='תקציב הנדסה 2019'!E89 -> 0 | F88: ='תקציב הנדסה 2019'!F89 -> 2000000 | G88: ='תקציב הנדסה 2019'!G89 -> 0 | H88: ='תקציב הנדסה 2019'!H89 -> 0 | I88: ='תקציב הנדסה 2019'!I89 -> 0 | J88: ='תקציב הנדסה 2019'!J89 -> 0 | K88: ='תקציב הנדסה 2019'!K89 -> 0 | ... Z88: ='תקציב הנדסה 2019'!Z89 -> 0 | AA88: תכנון. להשלים תאור ואומדן. | AB88: ='תקציב הנדסה 2019'!AB89 -> 742000
A89: =1+A88 -> 82 | B89: ='תקציב הנדסה 2019'!B90 -> 2110 | C89: שיכון דרום הר' 2312 | D89: ='תקציב הנדסה 2019'!D90 -> 16000000 | E89: ='תקציב הנדסה 2019'!E90 -> 0 | F89: ='תקציב הנדסה 2019'!F90 -> 16000000 | G89: ='תקציב הנדסה 2019'!G90 -> 0 | H89: ='תקציב הנדסה 2019'!H90 -> 0 | I89: ='תקציב הנדסה 2019'!I90 -> 0 | J89: ='תקציב הנדסה 2019'!J90 -> 0 | K89: ='תקציב הנדסה 2019'!K90 -> 0 | ... Z89: ='תקציב הנדסה 2019'!Z90 -> 0 | AA89: תכנון. להשלים תאור ואומדן. | AB89: ='תקציב הנדסה 2019'!AB90 -> 742000
A90: =1+A89 -> 83 | B90: ='תקציב הנדסה 2019'!B91 -> 2111 | C90: הר מירון בר כוכבא הר' 2266 | D90: ='תקציב הנדסה 2019'!D91 -> 10240000 | E90: ='תקציב הנדסה 2019'!E91 -> 0 | F90: ='תקציב הנדסה 2019'!F91 -> 10240000 | G90: ='תקציב הנדסה 2019'!G91 -> 0 | H90: ='תקציב הנדסה 2019'!H91 -> 0 | I90: ='תקציב הנדסה 2019'!I91 -> 0 | J90: ='תקציב הנדסה 2019'!J91 -> 0 | K90: ='תקציב הנדסה 2019'!K91 -> 0 | ... Z90: ='תקציב הנדסה 2019'!Z91 -> 0 | AA90: תכנון. להשלים תאור ואומדן. | AB90: ='תקציב הנדסה 2019'!AB91 -> 742000
A91: =1+A90 -> 84 | B91: ='תקציב הנדסה 2019'!B99 -> 2119 | C91: שביל מתחם העצמאות הרב גורן הבנים | D91: ='תקציב הנדסה 2019'!D99 -> 1400000 | E91: ='תקציב הנדסה 2019'!E99 -> 0 | F91: ='תקציב הנדסה 2019'!F99 -> 1400000 | G91: ='תקציב הנדסה 2019'!G99 -> 0 | H91: ='תקציב הנדסה 2019'!H99 -> 0 | I91: ='תקציב הנדסה 2019'!I99 -> 0 | J91: ='תקציב הנדסה 2019'!J99 -> 0 | K91: ='תקציב הנדסה 2019'!K99 -> 0 | ... Z91: ='תקציב הנדסה 2019'!Z99 -> 0 | AA91: עבודות פיתוח מערך שבילים בין הרחובות העצמאות הרב גורן ורחוב הבנים. | AB91: ='תקציב הנדסה 2019'!AB99 -> 742000
A92: =1+A91 -> 85 | B92: ='תקציב הנדסה 2019'!B101 -> 2121 | C92: צומת הבריגדה היהודית -מנחם בגין- בטיחות | D92: ='תקציב הנדסה 2019'!D101 -> 300000 | E92: ='תקציב הנדסה 2019'!E101 -> 0 | F92: ='תקציב הנדסה 2019'!F101 -> 300000 | G92: ='תקציב הנדסה 2019'!G101 -> 0 | H92: ='תקציב הנדסה 2019'!H101 -> 0 | I92: ='תקציב הנדסה 2019'!I101 -> 0 | J92: ='תקציב הנדסה 2019'!J101 -> 0 | K92: ='תקציב הנדסה 2019'!K101 -> 0 | ... Z92: ='תקציב הנדסה 2019'!Z101 -> 210000 | AA92: תכנון צומת הבריגדה היהודית -מנחם בגין עקב ריבוי תאונות דרכים עפ"י נתוני הרלב"ד. מימון מ. התחבורה | AB92: ='תקציב הנדסה 2019'!AB101 -> 742000
A93: =1+A92 -> 86 | B93: ='תקציב הנדסה 2019'!B102 -> 2122 | C93: הרב גורן מוהליבר - בטיחות | D93: ='תקציב הנדסה 2019'!D102 -> 300000 | E93: ='תקציב הנדסה 2019'!E102 -> 0 | F93: ='תקציב הנדסה 2019'!F102 -> 300000 | G93: ='תקציב הנדסה 2019'!G102 -> 0 | H93: ='תקציב הנדסה 2019'!H102 -> 0 | I93: ='תקציב הנדסה 2019'!I102 -> 0 | J93: ='תקציב הנדסה 2019'!J102 -> 0 | K93: ='תקציב הנדסה 2019'!K102 -> 0 | ... Z93: ='תקציב הנדסה 2019'!Z102 -> 210000 | AA93: תכנון צומת הרב גורן מוהליבר עקב ריבוי תאונות דרכים עפ"י נתוני הרלב"ד. מימון מ. התחבורה | AB93: ='תקציב הנדסה 2019'!AB102 -> 742000
A94: =1+A93 -> 87 | B94: ='תקציב הנדסה 2019'!B103 -> 2123 | C94: השרון בר אילן -בטיחות | D94: ='תקציב הנדסה 2019'!D103 -> 750000 | E94: ='תקציב הנדסה 2019'!E103 -> 0 | F94: ='תקציב הנדסה 2019'!F103 -> 750000 | G94: ='תקציב הנדסה 2019'!G103 -> 0 | H94: ='תקציב הנדסה 2019'!H103 -> 0 | I94: ='תקציב הנדסה 2019'!I103 -> 0 | J94: ='תקציב הנדסה 2019'!J103 -> 0 | K94: ='תקציב הנדסה 2019'!K103 -> 0 | ... Z94: ='תקציב הנדסה 2019'!Z103 -> 525000 | AA94: תכנון צומת השרון בר אילן בגין עקב ריבוי תאונות דרכים עפ"י נתוני הרלב"ד. מימון מ. התחבורה | AB94: ='תקציב הנדסה 2019'!AB103 -> 742000
A95: =A94+1 -> 88 | B95: 1943 | C95: מגרש סימולציה לאופניים | D95: ='תקציב הנדסה 2019'!D71 -> 6750000 | E95: ='תקציב הנדסה 2019'!E71 -> 6500000 | F95: ='תקציב הנדסה 2019'!F71 -> 250000 | G95: ='תקציב הנדסה 2019'!G71 -> 6500000 | H95: ='תקציב הנדסה 2019'!H71 -> 3839511 | I95: ='תקציב הנדסה 2019'!I71 -> 208106 | J95: ='תקציב הנדסה 2019'!J71 -> 2351722 | K95: ='תקציב הנדסה 2019'!K71 -> 2559828 | ... Z95: ='תקציב הנדסה 2019'!Z71 -> 0 | AA95: עבור עבודות השלמה סופיות - יועץ חשמל, יועץ כבישים והגדלת חוזה פיקוח עקב התארכות פרויקט. | AB95: ='תקציב הנדסה 2019'!AB71 -> 744000
A96: =A95+1 -> 89 | B96: 608 | C96: עבודות ניקוז בעיר | D96: ='תקציב הנדסה 2019'!D11 -> 8300000 | E96: ='תקציב הנדסה 2019'!E11 -> 8300000 | F96: ='תקציב הנדסה 2019'!F11 -> 0 | G96: ='תקציב הנדסה 2019'!G11 -> 6250000 | H96: ='תקציב הנדסה 2019'!H11 -> 5146280 | I96: ='תקציב הנדסה 2019'!I11 -> 0 | J96: ='תקציב הנדסה 2019'!J11 -> 76278 | K96: ='תקציב הנדסה 2019'!K11 -> 76278 | ... Z96: ='תקציב הנדסה 2019'!Z11 -> 0 | AA96: סל עבודות ניקוז ברחבי העיר . | AB96: ='תקציב הנדסה 2019'!AB11 -> 745000
A97: =A96+1 -> 90 | B97: 304 | C97: פיתוח פארק הבאסה | D97: ='תקציב הנדסה 2019'!D7 -> 54930000 | E97: ='תקציב הנדסה 2019'!E7 -> 54950000 | F97: ='תקציב הנדסה 2019'!F7 -> -20000 | G97: ='תקציב הנדסה 2019'!G7 -> 54950000 | H97: ='תקציב הנדסה 2019'!H7 -> 54780523 | I97: ='תקציב הנדסה 2019'!I7 -> 149074.13 | J97: ='תקציב הנדסה 2019'!J7 -> 0 | K97: ='תקציב הנדסה 2019'!K7 -> 149074.13 | ... Z97: ='תקציב הנדסה 2019'!Z7 -> 0 | AB97: ='תקציב הנדסה 2019'!AB7 -> 746000
A98: =A97+1 -> 91 | B98: 1320 | C98: פארק הבאסה שלב ב' | D98: ='תקציב הנדסה 2019'!D20 -> 23500000 | E98: ='תקציב הנדסה 2019'!E20 -> 23500000 | F98: ='תקציב הנדסה 2019'!F20 -> 0 | G98: ='תקציב הנדסה 2019'!G20 -> 21550000 | H98: ='תקציב הנדסה 2019'!H20 -> 21339439 | I98: ='תקציב הנדסה 2019'!I20 -> 204226.2 | J98: ='תקציב הנדסה 2019'!J20 -> 0 | K98: ='תקציב הנדסה 2019'!K20 -> 204226.2 | ... Z98: ='תקציב הנדסה 2019'!Z20 -> 0 | AB98: ='תקציב הנדסה 2019'!AB20 -> 746000
A99: =A98+1 -> 92 | B99: 1568 | C99: פיתוח פארק שלב ג' | D99: ='תקציב הנדסה 2019'!D36 -> 46375301 | E99: ='תקציב הנדסה 2019'!E36 -> 46375301 | F99: ='תקציב הנדסה 2019'!F36 -> 0 | G99: ='תקציב הנדסה 2019'!G36 -> 28875301 | H99: ='תקציב הנדסה 2019'!H36 -> 27763823 | I99: ='תקציב הנדסה 2019'!I36 -> 822126.24 | J99: ='תקציב הנדסה 2019'!J36 -> 55294 | K99: ='תקציב הנדסה 2019'!K36 -> 877420.24 | ... Z99: ='תקציב הנדסה 2019'!Z36 -> 0 | AB99: ='תקציב הנדסה 2019'!AB36 -> 746000
A100: =A99+1 -> 93 | B100: ='תקציב הנדסה 2019'!B88 -> 2108 | C100: תכנון שצ"פים במתחם הר' 1960 | D100: ='תקציב הנדסה 2019'!D88 -> 14100000 | E100: ='תקציב הנדסה 2019'!E88 -> 0 | F100: ='תקציב הנדסה 2019'!F88 -> 14100000 | G100: ='תקציב הנדסה 2019'!G88 -> 0 | H100: ='תקציב הנדסה 2019'!H88 -> 0 | I100: ='תקציב הנדסה 2019'!I88 -> 0 | J100: ='תקציב הנדסה 2019'!J88 -> 0 | K100: ='תקציב הנדסה 2019'!K88 -> 0 | ... Z100: ='תקציב הנדסה 2019'!Z88 -> 0 | AA100: .תכנון שצ"פים במתחם הר' 1960 רחוב קורן,דן שומרון ,דורי ומשה שמיר. | AB100: ='תקציב הנדסה 2019'!AB88 -> 746000
A101: =1+A100 -> 94 | B101: ='תקציב הנדסה 2019'!B98 -> 2118 | C101: שצ"פ דליה רביקוביץ בשכונת אלתרמן (הר/1920) | D101: ='תקציב הנדסה 2019'!D98 -> 1800000 | E101: ='תקציב הנדסה 2019'!E98 -> 0 | F101: ='תקציב הנדסה 2019'!F98 -> 1800000 | G101: ='תקציב הנדסה 2019'!G98 -> 0 | H101: ='תקציב הנדסה 2019'!H98 -> 0 | I101: ='תקציב הנדסה 2019'!I98 -> 0 | J101: ='תקציב הנדסה 2019'!J98 -> 0 | K101: ='תקציב הנדסה 2019'!K98 -> 0 | ... Z101: ='תקציב הנדסה 2019'!Z98 -> 0 | AA101: ביצוע שצ"פ בקטע הנביאים בני בנימין. ב - 2019 : תכנון בלבד. | AB101: ='תקציב הנדסה 2019'!AB98 -> 746000
C102: פרק 74 | D102: =SUM(D51:D101) -> 721787301 | E102: =SUM(E51:E101) -> 592603301 | F102: =SUM(F51:F101) -> 129184000 | G102: =SUM(G51:G101) -> 258213072 | H102: =SUM(H51:H101) -> 2.0307247e+08 | I102: =SUM(I51:I101) -> 18201384 | J102: =SUM(J51:J101) -> 8511848.2 | K102: =SUM(K51:K101) -> 26713232 | ... Z102: =SUM(Z51:Z101) -> 945000
A103: =A101+1 -> 95 | B103: 1529 | C103: הוצאות בקשר עם תביעות סעיף 197 | D103: ='תקציב הנדסה 2019'!D34 -> 400000 | E103: ='תקציב הנדסה 2019'!E34 -> 350000 | F103: ='תקציב הנדסה 2019'!F34 -> 50000 | G103: ='תקציב הנדסה 2019'!G34 -> 350000 | H103: ='תקציב הנדסה 2019'!H34 -> 183866.55 | I103: ='תקציב הנדסה 2019'!I34 -> 0 | J103: ='תקציב הנדסה 2019'!J34 -> 0 | K103: ='תקציב הנדסה 2019'!K34 -> 0 | ... Z103: ='תקציב הנדסה 2019'!Z34 -> 0 | AA103: סל הוצאות בקשר עם תביעות סעיף 197. | AB103: ='תקציב הנדסה 2019'!AB34 -> 760000
...

Sheet תקציב הנדסה 2019 תאור
A2: מינהל הנדסה : תאור הפרויקטים
A4: מס' סידורי | B4: מס' תב"ר | C4: שם תב"ר | D4: אומדן כולל לפרוקט | E4: אומדן מאושר במועצה | F4: תוספת לאומדן לאישור המועצה | G4: תקציב מאושר | H4: ביצוע בפועל | I4: שריון מערך חוזים | J4: שריון מערך רכש | K4: סה"כ שריון התחייבויות | L4: סה"כ ביצוע | M4: יתרה לביצוע צפוי עד 31.12.2018 | N4: אומדן לביצוע שנת 2019 | O4: אומדן לביצוע שנת 2020 ואילך | P4: יתרת תקציב | Q4: תקציב נוסף נדרש במסגרת תוכנית עבודה 2018 | R4: תקציב נוסף נדרש מעבר לתוכנית עבודה 2018 | S4: סה"כ תקציב נוסף נדרש 2018 | T4: יתרת תקציב פנויה 31.12.2018 | U4: תקציב נדרש 2019 | V4: קרן עבודות פיתוח | W4: קרן עודפי תקציב רגיל | X4: קרן רכוש | Y4: קרן ייעודית | Z4: אחרים | AA4: תאור הפרויקט | AB4: פרק תב"ר
A6: =A5+1 -> 1 | B6: 179 | C6: יעודי קרקע -מפת בסיס | D6: =3200000-200000 -> 3000000 | E6: 3000000 | F6: =D6-E6 -> 0 | G6: 2870250 | H6: 2782107 | J6: 65735 | K6: =SUM(I6:J6) -> 65735 | L6: =H6+K6 -> 2847842 | M6: =P6+S6 -> 22408 | N6: =150000-50000 -> 100000 | O6: =D6-L6-M6-N6 -> 29750 | P6: =G6-L6 -> 22408 | S6: =SUM(Q6:R6) -> 0 | T6: =P6-M6+S6 -> 0 | U6: =N6-T6 -> 100000 | V6: =U6-Z6-W6-Y6 -> 100000 | AA6: עדכון מע. מידע הנדסי כתוצאה משינוי ייעודי קרקע עקב החלטות ועדות התכנון. | AB6: 732000
A7: =A6+1 -> 2 | B7: 304 | C7: פיתוח פארק הבאסה | D7: =54950000-20000 -> 54930000 | E7: 54950000 | F7: =D7-E7 -> -20000 | G7: 54950000 | H7: 54780523 | I7: 149074.13 | K7: =SUM(I7:J7) -> 149074.13 | L7: =H7+K7 -> 54929597 | M7: =P7+S7-20000 -> 403.26 | O7: =D7-L7-M7-N7 -> 0 | P7: =G7-L7 -> 20403.26 | S7: =SUM(Q7:R7) -> 0 | T7: =P7-M7+S7 -> 20000 | U7: =N7-T7 -> -20000 | V7: =U7-Z7-W7-Y7 -> -20000 | AB7: 746000
A8: =A7+1 -> 3 | B8: 507 | C8: החלפת מדרכות | D8: 2310000 | E8: 2310000 | F8: =D8-E8 -> 0 | G8: 1765000 | H8: 1653104.2 | K8: =SUM(I8:J8) -> 0 | L8: =H8+K8 -> 1653104.2 | M8: =P8+S8 -> 111895.77 | N8: =100000-50000 -> 50000 | O8: =D8-L8-M8-N8 -> 495000 | P8: =G8-L8 -> 111895.77 | S8: =SUM(Q8:R8) -> 0 | T8: =P8-M8+S8 -> 0 | U8: =N8-T8 -> 50000 | V8: =U8-Z8-W8-Y8 -> 50000 | AA8: ביצוע עבודות מדרכות לאחר השלמת עבודות בניה כתוצאה מהיתרים. | AB8: 742000
A9: =A8+1 -> 4 | B9: 546 | C9: מתחם הגאון מוילנא חתם סופר | D9: =5850000-2930000 -> 2920000 | E9: 5850000 | F9: =D9-E9 -> -2930000 | G9: 2950000 | H9: 2895703.4 | J9: 18053 | K9: =SUM(I9:J9) -> 18053 | L9: =H9+K9 -> 2913756.4 | M9: =P9+S9-30000 -> 6243.6 | O9: =D9-L9-M9-N9 -> 0 | P9: =G9-L9 -> 36243.6 | S9: =SUM(Q9:R9) -> 0 | T9: =P9-M9+S9 -> 30000 | U9: =N9-T9 -> -30000 | V9: =U9-Z9-W9-Y9 -> -30000 | AB9: 742000
A10: =A9+1 -> 5 | B10: 592 | C10: מתחם הבריגדה מתחם הר' 1960 | D10: 54893000 | E10: 54893000 | F10: =D10-E10 -> 0 | G10: =18420000+300000 -> 18720000 | H10: 17302170 | I10: 149113.19 | J10: 14350 | K10: =SUM(I10:J10) -> 163463.19 | L10: =H10+K10 -> 17465634 | M10: =P10+S10 -> 1254366.5 | N10: =3500000+400000 -> 3900000 | O10: =D10-L10-M10-N10 -> 32273000 | P10: =G10-L10 -> 1254366.5 | S10: =SUM(Q10:R10) -> 0 | T10: =P10-M10+S10 -> 0 | U10: =N10-T10 -> 3900000 | V10: =U10-Z10-W10-Y10 -> 3900000 | AA10: ביצוע עבודות סלילה ופיתוח סופי רח' דן שומרון. פיתוח שצ"פ האקליפטוס. תכנון רח' דורי. | AB10: 742000
A11: =A10+1 -> 6 | B11: 608 | C11: עבודות ניקוז בעיר | D11: 8300000 | E11: 8300000 | F11: =D11-E11 -> 0 | G11: 6250000 | H11: 5146280 | J11: 76278 | K11: =SUM(I11:J11) -> 76278 | L11: =H11+K11 -> 5222558 | M11: =P11+S11-650000 -> 377442 | N11: 600000 | O11: =D11-L11-M11-N11 -> 2100000 | P11: =G11-L11 -> 1027442 | S11: =SUM(Q11:R11) -> 0 | T11: =P11-M11+S11 -> 650000 | U11: =N11-T11 -> -50000 | V11: =U11-Z11-W11-Y11 -> -50000 | AA11: סל עבודות ניקוז ברחבי העיר . | AB11: 745000
A12: =A11+1 -> 7 | B12: 626 | C12: תכנון ועדכון וביצוע תוכנית אב לשבילי אופניים (*) עדכון שם | D12: 20025000 | E12: 20025000 | F12: =D12-E12 -> 0 | G12: 14525000 | H12: 13533711 | I12: 151233.86 | J12: 45309 | K12: =SUM(I12:J12) -> 196542.86 | L12: =H12+K12 -> 13730254 | M12: =P12+S12-500000 -> 294746.14 | N12: =3325000-1000000 -> 2325000 | O12: =D12-L12-M12-N12 -> 3675000 | P12: =G12-L12 -> 794746.14 | S12: =SUM(Q12:R12) -> 0 | T12: =P12-M12+S12 -> 500000 | U12: =N12-T12 -> 1825000 | V12: =U12-Z12-W12-Y12 -> 1475000 | Z12: =175000+175000 -> 350000 | AA12: תכנון שבילי אופנים וביצוע ברחבי העיר. מימון מ. התחבורה. | AB12: 732000
A13: =A12+1 -> 8 | B13: 631 | C13: מתחם רחוב משה | D13: =9005000-1946000 -> 7059000 | E13: 9005000 | F13: =D13-E13 -> -1946000 | G13: 7305000 | H13: 7030689.3 | J13: 27554.53 | K13: =SUM(I13:J13) -> 27554.53 | L13: =H13+K13 -> 7058243.9 | M13: =P13+S13-246000 -> 756.15 | O13: =D13-L13-M13-N13 -> 0 | P13: =G13-L13 -> 246756.15 | S13: =SUM(Q13:R13) -> 0 | T13: =P13-M13+S13 -> 246000 | U13: =N13-T13 -> -246000 | V13: =U13-Z13-W13-Y13 -> -246000 | AB13: 742000
A14: =A13+1 -> 9 | B14: 638 | C14: פיתוח מתחם רזיאל מע' תב"ע 1706 | D14: 7000000 | E14: 7000000 | F14: =D14-E14 -> 0 | G14: 4600000 | H14: 3454839 | I14: 74548.7 | J14: 7765.64 | K14: =SUM(I14:J14) -> 82314.34 | L14: =H14+K14 -> 3537153.3 | M14: =P14+S14 -> 1062846.7 | O14: =D14-L14-M14-N14 -> 2400000 | P14: =G14-L14 -> 1062846.7 | S14: =SUM(Q14:R14) -> 0 | T14: =P14-M14+S14 -> 0 | U14: =N14-T14 -> 0 | V14: =U14-Z14-W14-Y14 -> 0 | AA14: פיתוח ברח' העפרוני וזאב במתחם. אומדן ביצוע כולל תאורה וסלילת רחוב משולב . | AB14: 742000
A15: =A14+1 -> 10 | B15: 1018 | C15: מחלף הרב מכר | D15: 31900000 | E15: 31900000 | F15: =D15-E15 -> 0 | G15: 5100000 | H15: 3059586.8 | I15: 84192.99 | J15: 4379.93 | K15: =SUM(I15:J15) -> 88572.92 | L15: =H15+K15 -> 3148159.7 | M15: =P15+S15-1000000-750000 -> 201840.29 | N15: =2000000-250000 -> 1750000 | O15: =D15-L15-M15-N15 -> 26800000 | P15: =G15-L15 -> 1951840.3 | S15: =SUM(Q15:R15) -> 0 | T15: =P15-M15+S15 -> 1750000 | U15: =N15-T15 -> 0 | V15: =U15-Z15-W15-Y15 -> 0 | AA15: פרויקט ממשלתי המתוקצב ע"י המדינה במקביל לרשות. הביצוע העירוני מתעכב עקב בעית פולש. | AB15: 742000
A16: =A15+1 -> 11 | B16: 1100 | C16: תכנון מתחם הר' 2200 | D16: 7000000 | E16: 7000000 | F16: =D16-E16 -> 0 | G16: 5600000 | H16: 2706855.1 | I16: 2159838.6 | J16: 155452.21 | K16: =SUM(I16:J16) -> 2315290.8 | L16: =H16+K16 -> 5022145.9 | M16: =P16+S16 -> 577854.06 | N16: 300000 | O16: =D16-L16-M16-N16 -> 1100000 | P16: =G16-L16 -> 577854.06 | S16: =SUM(Q16:R16) -> 0 | T16: =P16-M16+S16 -> 0 | U16: =N16-T16 -> 300000 | V16: =U16-Z16-W16-Y16 -> 300000 | AA16: תכנון מתחם חוף התכלת. יש עתירה של בעלי הקרקע הפרטיים על השתהות בקידום התוכנית . לו"ז מאי 2019. | AB16: 732000
A17: =A16+1 -> 12 | B17: 1129 | C17: עבודות פיתוח ותשתיות קטנות | D17: 7000000 | E17: 7000000 | F17: =D17-E17 -> 0 | G17: 5991771 | H17: 5044953.6 | J17: 55293.76 | K17: =SUM(I17:J17) -> 55293.76 | L17: =H17+K17 -> 5100247.4 | M17: =P17+S17-750000 -> 141523.61 | N17: 750000 | O17: =D17-L17-M17-N17 -> 1008229 | P17: =G17-L17 -> 891523.61 | S17: =SUM(Q17:R17) -> 0 | T17: =P17-M17+S17 -> 750000 | U17: =N17-T17 -> 0 | V17: =U17-Z17-W17-Y17 -> 0 | AA17: סל עבודות פיתוח קטנות מזדמנות הנדרשות במהלך השנה. | AB17: 742000
A18: =A17+1 -> 13 | B18: 1220 | C18: תכנונים כלליים | D18: 7000000 | E18: 7000000 | F18: =D18-E18 -> 0 | G18: 5600000 | H18: 4415045 | I18: 45396 | J18: 548104 | K18: =SUM(I18:J18) -> 593500 | L18: =H18+K18 -> 5008545 | M18: =P18+S18 -> 591455 | N18: =400000+300000 -> 700000 | O18: =D18-L18-M18-N18 -> 700000 | P18: =G18-L18 -> 591455 | S18: =SUM(Q18:R18) -> 0 | T18: =P18-M18+S18 -> 0 | U18: =N18-T18 -> 700000 | V18: =U18-Z18-W18-Y18 -> 700000 | AA18: סל תכנון של תוכניות ופרויקטים, מדידות ותכנון ראשוני. | AB18: 732000
A19: =A18+1 -> 14 | B19: 1314 | C19: רח' גבעת החלומות פיתוח | D19: =3500000-300000 -> 3200000 | E19: 3200000 | F19: =D19-E19 -> 0 | G19: 400000 | H19: 359314.49 | K19: =SUM(I19:J19) -> 0 | L19: =H19+K19 -> 359314.49 | M19: =P19+S19 -> 40685.51 | N19: =100000+150000 -> 250000 | O19: =D19-L19-M19-N19 -> 2550000 | P19: =G19-L19 -> 40685.51 | S19: =SUM(Q19:R19) -> 0 | T19: =P19-M19+S19 -> 0 | U19: =N19-T19 -> 250000 | V19: =U19-Z19-W19-Y19 -> 250000 | AA19: פיתוח רחוב גבעת החלומות לרבות עבודות ניקוז ותאורה. | AB19: 742000
A20: =A19+1 -> 15 | B20: 1320 | C20: פארק הבאסה שלב ב' | D20: 23500000 | E20: 23500000 | F20: =D20-E20 -> 0 | G20: 21550000 | H20: 21339439 | I20: 204226.2 | K20: =SUM(I20:J20) -> 204226.2 | L20: =H20+K20 -> 21543665 | M20: =P20+S20 -> 6334.72 | N20: =1800000-1800000 -> 0 | O20: =D20-L20-M20-N20 -> 1950000 | P20: =G20-L20 -> 6334.72 | S20: =SUM(Q20:R20) -> 0 | T20: =P20-M20+S20 -> 0 | U20: =N20-T20 -> 0 | V20: =U20-Z20-W20-Y20 -> 0 | AB20: 746000
A21: =A20+1 -> 16 | B21: 1322 | C21: מתחם נוף ים פיתוח | D21: 18500000 | E21: 18500000 | F21: =D21-E21 -> 0 | G21: =11400000-350000 -> 11050000 | H21: 9625168.6 | I21: 92414.99 | K21: =SUM(I21:J21) -> 92414.99 | L21: =H21+K21 -> 9717583.6 | M21: =P21+S21-1200000 -> 132416.42 | N21: =4000000-3000000 -> 1000000 | O21: =D21-L21-M21-N21 -> 7650000 | P21: =G21-L21 -> 1332416.4 | S21: =SUM(Q21:R21) -> 0 | T21: =P21-M21+S21 -> 1200000 | U21: =N21-T21 -> -200000 | V21: =U21-Z21-W21-Y21 -> -200000 | AA21: פיתוח הרחובות משער הים צפונה - תשתיות תאורה וגינון, הנשיא והתאנה. | AB21: 742000
A22: =A21+1 -> 17 | B22: 1324 | C22: שצ"פ אל על והמינהרה | D22: 180000 | E22: 180000 | F22: =D22-E22 -> 0 | G22: 180000 | H22: 120629.48 | J22: 56544 | K22: =SUM(I22:J22) -> 56544 | L22: =H22+K22 -> 177173.48 | M22: =P22+S22 -> 2826.52 | O22: =D22-L22-M22-N22 -> 0 | P22: =G22-L22 -> 2826.52 | S22: =SUM(Q22:R22) -> 0 | T22: =P22-M22+S22 -> 0 | U22: =N22-T22 -> 0 | V22: =U22-Z22-W22-Y22 -> 0 | AB22: 742000
A23: =A22+1 -> 18 | B23: 1357 | C23: ספורטק שלב ג' | D23: 25000000 | E23: 25000000 | F23: =D23-E23 -> 0 | G23: 12612000 | H23: 12420746 | I23: 118498.13 | K23: =SUM(I23:J23) -> 118498.13 | L23: =H23+K23 -> 12539244 | M23: =P23+S23 -> 72755.73 | N23: =6500000-6500000 -> 0 | O23: =D23-L23-M23-N23 -> 12388000 | P23: =G23-L23 -> 72755.73 | S23: =SUM(Q23:R23) -> 0 | T23: =P23-M23+S23 -> 0 | U23: =N23-T23 -> 0 | V23: =U23-Z23-W23-Y23 -> 0 | AB23: 829000
A24: =A23+1 -> 19 | B24: 1363 | C24: מתחם יהודה המכבי וזוהר טל | D24: 15500000 | E24: 15500000 | F24: =D24-E24 -> 0 | G24: 6050000 | H24: 898457 | I24: 91890.9 | J24: 402974 | K24: =SUM(I24:J24) -> 494864.9 | L24: =H24+K24 -> 1393321.9 | M24: =P24+S24-4000000 -> 656678.1 | N24: 6000000 | O24: =D24-L24-M24-N24 -> 7450000 | P24: =G24-L24 -> 4656678.1 | S24: =SUM(Q24:R24) -> 0 | T24: =P24-M24+S24 -> 4000000 | U24: =N24-T24 -> 2000000 | V24: =U24-Z24-W24-Y24 -> 2000000 | AA24: פיתוח מתחם הרחובות יהודה המכבי, זוהר טל, האצל, הגבורה. תכנון ותחילת ביצוע. | AB24: 742000
A25: =A24+1 -> 20 | B25: 1366 | C25: ליווי תשתיות לאומיות | D25: 1500000 | E25: 1500000 | F25: =D25-E25 -> 0 | G25: 916000 | H25: 738983 | J25: 7821 | K25: =SUM(I25:J25) -> 7821 | L25: =H25+K25 -> 746804 | M25: =P25+S25-70000 -> 99196 | O25: =D25-L25-M25-N25 -> 654000 | P25: =G25-L25 -> 169196 | S25: =SUM(Q25:R25) -> 0 | T25: =P25-M25+S25 -> 70000 | U25: =N25-T25 -> -70000 | V25: =U25-Z25-W25-Y25 -> -70000 | AA25: ליווי יועצי תנועה, איכות הסביבה, במסגרת סלילת כביש 531 וכביש 20. | AB25: 742000
A26: =A25+1 -> 21 | B26: 1406 | C26: שימור אתרים | D26: =1400000+250000-350000 -> 1300000 | E26: 1300000 | F26: =D26-E26 -> 0 | G26: =1000000+300000 -> 1300000 | H26: 694328 | I26: 126373 | J26: 12432.48 | K26: =SUM(I26:J26) -> 138805.48 | L26: =H26+K26 -> 833133.48 | M26: =P26+S26 -> 466866.52 | O26: =D26-L26-M26-N26 -> 0 | P26: =G26-L26 -> 466866.52 | S26: =SUM(Q26:R26) -> 0 | T26: =P26-M26+S26 -> 0 | U26: =N26-T26 -> 0 | V26: =U26-Z26-W26-Y26 -> 0 | AA26: הכנת תב"עות לשימור אתרים. | AB26: 732000
A27: =A26+1 -> 22 | B27: 1407 | C27: תב"עות קטנות | D27: =6395000-1500000 -> 4895000 | E27: 4895000 | F27: =D27-E27 -> 0 | G27: 3495000 | H27: 2371902 | I27: 111224.98 | J27: 773210 | K27: =SUM(I27:J27) -> 884434.98 | L27: =H27+K27 -> 3256337 | M27: =P27+S27 -> 438663.02 | N27: =1000000-500000 -> 500000 | O27: =D27-L27-M27-N27 -> 700000 | P27: =G27-L27 -> 238663.02 | Q27: 200000 | S27: =SUM(Q27:R27) -> 200000 | T27: =P27-M27+S27 -> 0 | U27: =N27-T27 -> 500000 | V27: =U27-Z27-W27-Y27 -> 500000 | AA27: סל תכנון של תב"עות הנדרשות במהלך השנה. | AB27: 732000
A28: =A27+1 -> 23 | B28: 1408 | C28: תב"ע שיקום חופי הרצליה | D28: 1000000 | E28: 1000000 | F28: =D28-E28 -> 0 | G28: 100000 | H28: 0 | K28: =SUM(I28:J28) -> 0 | L28: =H28+K28 -> 0 | M28: =P28+S28 -> 200000 | N28: =300000-300000 -> 0 | O28: =D28-L28-M28-N28 -> 800000 | P28: =G28-L28 -> 100000 | Q28: 100000 | S28: =SUM(Q28:R28) -> 100000 | T28: =P28-M28+S28 -> 0 | U28: =N28-T28 -> 0 | V28: =U28-Z28-W28-Y28 -> 0 | AA28: טיפול תכנוני בהגנה על המצוקים מפני התמוטטות. | AB28: 732000
A29: =A28+1 -> 24 | B29: 1409 | C29: חידוש תוקף תכנית המתאר תוכנית המתאר הכוללנית (*) עדכון שם | D29: 7680000 | E29: 7300000 | F29: =D29-E29 -> 380000 | G29: =4000000+1000000 -> 5000000 | H29: 2980349 | I29: 558899.5 | J29: 324383 | K29: =SUM(I29:J29) -> 883282.5 | L29: =H29+K29 -> 3863631.5 | M29: =P29+S29-1000000 -> 136368.5 | N29: =3300000+380000 -> 3680000 | O29: =D29-L29-M29-N29 -> 0 | P29: =G29-L29 -> 1136368.5 | S29: =SUM(Q29:R29) -> 0 | T29: =P29-M29+S29 -> 1000000 | U29: =N29-T29 -> 2680000 | V29: =U29-Z29-W29-Y29 -> 2680000 | AA29: הכנת תוכנית מתאר כוללנית על מנת לאפשר לעיריה לתכנן תוכניות בסמכות וועדה מקומית. | AB29: 732000
A30: =A29+1 -> 25 | B30: 1457 | C30: ליווי "מהיר" לעיר | D30: 1100000 | E30: 1100000 | F30: =D30-E30 -> 0 | G30: 430000 | H30: 157316 | J30: 44257 | K30: =SUM(I30:J30) -> 44257 | L30: =H30+K30 -> 201573 | M30: =P30+S30 -> 228427 | N30: =670000-170000-500000 -> 0 | O30: =D30-L30-M30-N30 -> 670000 | P30: =G30-L30 -> 228427 | S30: =SUM(Q30:R30) -> 0 | T30: =P30-M30+S30 -> 0 | U30: =N30-T30 -> 0 | V30: =U30-Z30-W30-Y30 -> 0 | AA30: העסקת צוות יועצים שילווה את התכנון והביצוע של הפרויקט. | AB30: 742000
A31: =A30+1 -> 26 | B31: 1466 | C31: תמ"א 38 | D31: 2200000 | E31: 2200000 | F31: =D31-E31 -> 0 | G31: 1500000 | H31: 1161644 | J31: 110168 | K31: =SUM(I31:J31) -> 110168 | L31: =H31+K31 -> 1271812 | M31: =P31+S31-100000 -> 128188 | N31: =200000+50000 -> 250000 | O31: =D31-L31-M31-N31 -> 550000 | P31: =G31-L31 -> 228188 | S31: =SUM(Q31:R31) -> 0 | T31: =P31-M31+S31 -> 100000 | U31: =N31-T31 -> 150000 | V31: =U31-Z31-W31-Y31 -> 150000 | AA31: העצמת הזכויות הנוספות לבנינים לצורך הגברת הכדאיות של ביצוע חיזוק מבנים. | AB31: 732000
A32: =A31+1 -> 27 | B32: 1511 | C32: פתוח קטעי רח' דרך ירושלים גולומב | D32: 960000 | E32: 960000 | F32: =D32-E32 -> 0 | G32: 100000 | H32: 17284 | K32: =SUM(I32:J32) -> 0 | L32: =H32+K32 -> 17284 | M32: =P32+S32 -> 82716 | O32: =D32-L32-M32-N32 -> 860000 | P32: =G32-L32 -> 82716 | S32: =SUM(Q32:R32) -> 0 | T32: =P32-M32+S32 -> 0 | U32: =N32-T32 -> 0 | V32: =U32-Z32-W32-Y32 -> 0 | AA32: הקמת חניות והסדרים גיאומטרים ליד מבנה לזכר השואה שיוקם ע"י היזם (ליאור דינור ואחרים). מימון היזם מובטח בערבות. | AB32: 742000
A33: =A32+1 -> 28 | B33: 1527 | C33: הר' 2159 התחדשות עירונית יד התשעה (*) עדכון שם | D33: 3000000 | E33: 3000000 | F33: =D33-E33 -> 0 | G33: 1500000 | H33: 821144.02 | J33: 1431 | K33: =SUM(I33:J33) -> 1431 | L33: =H33+K33 -> 822575.02 | M33: =P33+S33-650000 -> 27424.98 | N33: =1000000-1000000 -> 0 | O33: =D33-L33-M33-N33 -> 2150000 | P33: =G33-L33 -> 677424.98 | S33: =SUM(Q33:R33) -> 0 | T33: =P33-M33+S33 -> 650000 | U33: =N33-T33 -> -650000 | V33: =U33-Z33-W33-Y33 -> -650000 | AA33: תכנון התחדשות עירונית ביד התשעה. | AB33: 732000
A34: =A33+1 -> 29 | B34: 1529 | C34: הוצאות בקשר עם תביעות סעיף 197 | D34: =350000+50000 -> 400000 | E34: 350000 | F34: =D34-E34 -> 50000 | G34: =200000+100000+50000 -> 350000 | H34: 183866.55 | K34: =SUM(I34:J34) -> 0 | L34: =H34+K34 -> 183866.55 | M34: =P34+S34 -> 166133.45 | N34: 50000 | O34: =D34-L34-M34-N34 -> 0 | P34: =G34-L34 -> 166133.45 | S34: =SUM(Q34:R34) -> 0 | T34: =P34-M34+S34 -> 0 | U34: =N34-T34 -> 50000 | V34: =U34-Z34-W34-Y34 -> 50000 | AA34: סל הוצאות בקשר עם תביעות סעיף 197. | AB34: 760000
A35: =A34+1 -> 30 | B35: 1551 | C35: צפון הרצליה הר' 2035 | D35: =1225240-700000 -> 525240 | E35: 225240 | F35: =D35-E35 -> 300000 | G35: 225240 | H35: 204671 | J35: 19855 | K35: =SUM(I35:J35) -> 19855 | L35: =H35+K35 -> 224526 | M35: =P35+S35 -> 714 | N35: =800000-500000 -> 300000 | O35: =D35-L35-M35-N35 -> 0 | P35: =G35-L35 -> 714 | S35: =SUM(Q35:R35) -> 0 | T35: =P35-M35+S35 -> 0 | U35: =N35-T35 -> 300000 | V35: =U35-Z35-W35-Y35 -> 300000 | AA35: הערכות להתנגדות לתוכנית שמקדם מינהל התכנון והועדה המחוזית לכל צפון הרצליה ללא שיתוף העירייה. | AB35: 732000
A36: =A35+1 -> 31 | B36: 1568 | C36: פיתוח פארק שלב ג' | D36: 46375301 | E36: 46375301 | F36: =D36-E36 -> 0 | G36: 28875301 | H36: 27763823 | I36: 822126.24 | J36: 55294 | K36: =SUM(I36:J36) -> 877420.24 | L36: =H36+K36 -> 28641244 | M36: =P36+S36 -> 234057.45 | N36: =17500000-17500000 -> 0 | O36: =D36-L36-M36-N36 -> 17500000 | P36: =G36-L36 -> 234057.45 | S36: =SUM(Q36:R36) -> 0 | T36: =P36-M36+S36 -> 0 | U36: =N36-T36 -> 0 | V36: =U36-Z36-W36-Y36 -> 0 | AB36: 746000
A37: =A36+1 -> 32 | B37: 1576 | C37: הוצאות אכיפה-דירות נופש במרינה | D37: 1000000 | E37: 1000000 | F37: =D37-E37 -> 0 | G37: 450000 | H37: 356478.17 | I37: 42295 | K37: =SUM(I37:J37) -> 42295 | L37: =H37+K37 -> 398773.17 | M37: =P37+S37-30000 -> 21226.83 | O37: =D37-L37-M37-N37 -> 580000 | P37: =G37-L37 -> 51226.83 | S37: =SUM(Q37:R37) -> 0 | T37: =P37-M37+S37 -> 30000 | U37: =N37-T37 -> -30000 | V37: =U37-Z37-W37-Y37 -> -30000 | AA37: עלויות אכיפה צווי בית משפט במרינה. | AB37: 732000
A38: =A37+1 -> 33 | B38: 1587 | C38: פיתוח מתחם המכללות הר' 1920/1 | D38: 34200000 | E38: 34200000 | F38: =D38-E38 -> 0 | G38: 10800000 | H38: 7946383.2 | I38: 512415.18 | J38: 182023 | K38: =SUM(I38:J38) -> 694438.18 | L38: =H38+K38 -> 8640821.3 | M38: =P38+S38 -> 2159178.7 | N38: =12500000-6500000 -> 6000000 | O38: =D38-L38-M38-N38 -> 17400000 | P38: =G38-L38 -> 2159178.7 | S38: =SUM(Q38:R38) -> 0 | T38: =P38-M38+S38 -> 0 | U38: =N38-T38 -> 6000000 | V38: =U38-Z38-W38-Y38 -> 6000000 | AA38: עבודה סלילה, גינון ותאורה במתחם רחובות דליה רביקוביץ, אסתר ראב וסמוכים. | AB38: 742000
A39: =A38+1 -> 34 | B39: 1601 | C39: העתקות פרויקטים שונים | D39: 700000 | E39: 700000 | F39: =D39-E39 -> 0 | G39: 650000 | H39: 484363 | J39: 36804 | K39: =SUM(I39:J39) -> 36804 | L39: =H39+K39 -> 521167 | M39: =P39+S39 -> 128833 | O39: =D39-L39-M39-N39 -> 50000 | P39: =G39-L39 -> 128833 | S39: =SUM(Q39:R39) -> 0 | T39: =P39-M39+S39 -> 0 | U39: =N39-T39 -> 0 | V39: =U39-Z39-W39-Y39 -> 0 | AB39: 742000
A40: =A39+1 -> 35 | B40: 1602 | C40: רח' ז'בוטינסקי אלתרמן הבריגדה | D40: =34500000-5000000 -> 29500000 | E40: 34500000 | F40: =D40-E40 -> -5000000 | G40: 34500000 | H40: 12660981 | I40: 15501950 | J40: 185508.12 | K40: =SUM(I40:J40) -> 15687458 | L40: =H40+K40 -> 28348439 | M40: =P40+S40-5000000 -> 1151560.6 | O40: =D40-L40-M40-N40 -> 0 | P40: =G40-L40 -> 6151560.6 | S40: =SUM(Q40:R40) -> 0 | T40: =P40-M40+S40 -> 5000000 | U40: =N40-T40 -> -5000000 | V40: =U40-Z40-W40-Y40 -> -5000000 | AA40: עבודות פיתוח במתחם הרחובות והרחבתם. | AB40: 742000
A41: =A40+1 -> 36 | B41: 1619 | C41: הסדרת שצ"פ למגורים הר' 2257 | D41: =350000-100000 -> 250000 | E41: 200000 | F41: =D41-E41 -> 50000 | G41: 200000 | H41: 75387 | J41: 25400.9 | K41: =SUM(I41:J41) -> 25400.9 | L41: =H41+K41 -> 100787.9 | M41: =P41+S41 -> 99212.1 | N41: =100000-50000 -> 50000 | O41: =D41-L41-M41-N41 -> 0 | P41: =G41-L41 -> 99212.1 | S41: =SUM(Q41:R41) -> 0 | T41: =P41-M41+S41 -> 0 | U41: =N41-T41 -> 50000 | V41: =U41-Z41-W41-Y41 -> 50000 | AA41: תכנון שינוי תב"ע משצ"פ למגורים בעקבות היתרים קיימים משנות ה - 90 שאינם תואמים למצב הסטטוטורי הקיים. | AB41: 732000
A42: =A41+1 -> 37 | B42: 1620 | C42: קשר גשר תכנון חיבוריות בין מזרח למערב (*) עדכון שם | D42: 1000000 | E42: 1000000 | F42: =D42-E42 -> 0 | G42: 100000 | H42: 0 | K42: =SUM(I42:J42) -> 0 | L42: =H42+K42 -> 0 | M42: =P42+S42 -> 100000 | N42: =300000-100000 -> 200000 | O42: =D42-L42-M42-N42 -> 700000 | P42: =G42-L42 -> 100000 | S42: =SUM(Q42:R42) -> 0 | T42: =P42-M42+S42 -> 0 | U42: =N42-T42 -> 200000 | V42: =U42-Z42-W42-Y42 -> 200000 | AA42: תכנון כולל לסוגיית חיזוק הקשר בין מזרח העיר למערבה באמצעות תוספות של גשרים להולכי רגל ורכב דו גלגלי. | AB42: 732000
A43: =A42+1 -> 38 | B43: 1660 | C43: תכנון פרויקטים פינוי בינוי | D43: 2000000 | E43: 2000000 | F43: =D43-E43 -> 0 | G43: 350000 | H43: 91264 | J43: 16666.65 | K43: =SUM(I43:J43) -> 16666.65 | L43: =H43+K43 -> 107930.65 | M43: =P43+S43-150000 -> 92069.35 | N43: =500000-100000 -> 400000 | O43: =D43-L43-M43-N43 -> 1400000 | P43: =G43-L43 -> 242069.35 | S43: =SUM(Q43:R43) -> 0 | T43: =P43-M43+S43 -> 150000 | U43: =N43-T43 -> 250000 | V43: =U43-Z43-W43-Y43 -> 250000 | AA43: תכנון פרויקטים להתחדשות עירונית ופינוי בינוי. | AB43: 732000
A44: =A43+1 -> 39 | B44: 1670 | C44: פתוח מתחם הר' 1972 תחנה מרכזית | D44: 12500000 | E44: 12500000 | F44: =D44-E44 -> 0 | G44: 3800000 | H44: 168571 | I44: 195569.65 | J44: =968112-918635 -> 49477 | K44: =SUM(I44:J44) -> 245046.65 | L44: =H44+K44 -> 413617.65 | M44: =P44+S44-2450000-900000 -> 36382.35 | N44: =2450000-2050000 -> 400000 | O44: =D44-L44-M44-N44 -> 11650000 | P44: =G44-L44 -> 3386382.4 | S44: =SUM(Q44:R44) -> 0 | T44: =P44-M44+S44 -> 3350000 | U44: =N44-T44 -> -2950000 | V44: =U44-Z44-W44-Y44 -> -2950000 | AA44: תכנון פיתוח מתחם התחנה. | AB44: 742000
A45: =A44+1 -> 40 | B45: 1674 | C45: התחדשות עירונית | D45: 2300000 | E45: 2100000 | F45: =D45-E45 -> 200000 | G45: 1800000 | H45: 1346844 | I45: 106408 | J45: 225895 | K45: =SUM(I45:J45) -> 332303 | L45: =H45+K45 -> 1679147 | M45: =P45+S45 -> 120853 | N45: 500000 | O45: =D45-L45-M45-N45 -> 0 | P45: =G45-L45 -> 120853 | S45: =SUM(Q45:R45) -> 0 | T45: =P45-M45+S45 -> 0 | U45: =N45-T45 -> 500000 | V45: =U45-Z45-W45-Y45 -> 500000 | AA45: בדיקת התכנות טרם קביעת ותוך כדי בחינת מתחמי פינוי בינוי. | AB45: 732000
A46: =A45+1 -> 41 | B46: 1692 | C46: פינוי בינוי מעונות שרה | D46: 2450000 | E46: 2450000 | F46: =D46-E46 -> 0 | G46: 1439186 | H46: 552319 | I46: 128716 | J46: 186 | K46: =SUM(I46:J46) -> 128902 | L46: =H46+K46 -> 681221 | M46: =P46+S46 -> 757965 | N46: =332242+370000 -> 702242 | O46: =D46-L46-M46-N46 -> 308572 | P46: =G46-L46 -> 757965 | S46: =SUM(Q46:R46) -> 0 | T46: =P46-M46+S46 -> 0 | U46: =N46-T46 -> 702242 | V46: =U46-Z46-W46-Y46 -> 394919 | Z46: =307323 -> 307323 | AA46: תכנון מתחם מעונות שרה לפינוי ובינוי.מימון משרד הבינוי. | AB46: 732000
A47: =A46+1 -> 42 | B47: 1693 | C47: פינוי בינוי צומת כדורי | D47: 4500000 | E47: 4500000 | F47: =D47-E47 -> 0 | G47: =362478+1873003 -> 2235481 | H47: 312538.53 | I47: 48062.98 | K47: =SUM(I47:J47) -> 48062.98 | L47: =H47+K47 -> 360601.51 | M47: =P47+S47 -> 1874879.5 | N47: =1100000-1100000 -> 0 | O47: =D47-L47-M47-N47 -> 2264519 | P47: =G47-L47 -> 1874879.5 | S47: =SUM(Q47:R47) -> 0 | T47: =P47-M47+S47 -> 0 | U47: =N47-T47 -> 0 | V47: =U47-Z47-W47-Y47 -> -17810 | Z47: 17810 | AA47: תכנון מתחם צומת כדורי לפינוי ובינוי.עדכון מימון מ. הבינוי. | AB47: 732000
A48: =A47+1 -> 43 | B48: 1701 | C48: תב"ע הר' 2394 (לשעבר הר 2159 ) | D48: 1250000 | E48: 1250000 | F48: =D48-E48 -> 0 | G48: 850000 | H48: 108257 | I48: 104008.32 | J48: 169952 | K48: =SUM(I48:J48) -> 273960.32 | L48: =H48+K48 -> 382217.32 | M48: =P48+S48-270000 -> 197782.68 | N48: 270000 | O48: =D48-L48-M48-N48 -> 400000 | P48: =G48-L48 -> 467782.68 | S48: =SUM(Q48:R48) -> 0 | T48: =P48-M48+S48 -> 270000 | U48: =N48-T48 -> 0 | V48: =U48-Z48-W48-Y48 -> 0 | AA48: תכנון תב"ע לשכונה חדשה בהרצליה הצעירה. שטח בגודל של כ - 50 דונם , כ - 300 יח"ד. | AB48: 732000
A49: =A48+1 -> 44 | B49: 1722 | C49: חיבור גשר הולכי רגל כביש 20 | D49: 2400000 | E49: 2400000 | F49: =D49-E49 -> 0 | G49: 400000 | H49: 98067.4 | I49: 67052.7 | J49: 47158.73 | K49: =SUM(I49:J49) -> 114211.43 | L49: =H49+K49 -> 212278.83 | M49: =P49+S49-100000 -> 87721.17 | O49: =D49-L49-M49-N49 -> 2100000 | P49: =G49-L49 -> 187721.17 | S49: =SUM(Q49:R49) -> 0 | T49: =P49-M49+S49 -> 100000 | U49: =N49-T49 -> -100000 | V49: =U49-Z49-W49-Y49 -> -100000 | AA49: חיבור פארק שלב ב' עם שכונת המסילה בגשר הולכי רגל מעל כביש 20. | AB49: 742000
A50: =A49+1 -> 45 | B50: 1725 | C50: צומת סוקולוב בן גוריון | D50: 13520000 | E50: 13520000 | F50: =D50-E50 -> 0 | G50: 13520000 | H50: 13343609 | I50: 48702.71 | J50: 26687.57 | K50: =SUM(I50:J50) -> 75390.28 | L50: =H50+K50 -> 13419000 | M50: =P50+S50-100000 -> 1000.4 | O50: =D50-L50-M50-N50 -> 100000 | P50: =G50-L50 -> 101000.4 | S50: =SUM(Q50:R50) -> 0 | T50: =P50-M50+S50 -> 100000 | U50: =N50-T50 -> -100000 | V50: =U50-Z50-W50-Y50 -> -100000 | AB50: 742000
A51: =A50+1 -> 46 | B51: 1744 | C51: מערכת בקרת רמזורים | D51: 13000000 | E51: 13000000 | F51: =D51-E51 -> 0 | G51: 8200000 | H51: 3125812 | J51: 3820125 | K51: =SUM(I51:J51) -> 3820125 | L51: =H51+K51 -> 6945937 | M51: =P51+S51-700000 -> 554063 | N51: =4800000+700000 -> 5500000 | O51: =D51-L51-M51-N51 -> 0 | P51: =G51-L51 -> 1254063 | S51: =SUM(Q51:R51) -> 0 | T51: =P51-M51+S51 -> 700000 | U51: =N51-T51 -> 4800000 | V51: =U51-Z51-W51-Y51 -> 4800000 | AA51: הקמת מערכת בקרת רמזורים ברחבי העיר. | AB51: 742000
A52: =A51+1 -> 47 | B52: 1746 | C52: תכנון חניון במתחם אגד | D52: 55000000 | E52: 55000000 | F52: =D52-E52 -> 0 | G52: 0 | H52: 0 | K52: =SUM(I52:J52) -> 0 | L52: =H52+K52 -> 0 | M52: =P52+S52 -> 0 | O52: =D52-L52-M52-N52 -> 55000000 | P52: =G52-L52 -> 0 | S52: =SUM(Q52:R52) -> 0 | T52: =P52-M52+S52 -> 0 | U52: =N52-T52 -> 0 | V52: =U52-Z52-W52-Y52 -> 0 | AB52: 742000
A53: =A52+1 -> 48 | B53: 1748 | C53: תכנון בנייה ציבורית | D53: =1120000-1000000 -> 120000 | E53: 120000 | F53: =D53-E53 -> 0 | G53: 120000 | H53: 89830.86 | I53: 29280.55 | K53: =SUM(I53:J53) -> 29280.55 | L53: =H53+K53 -> 119111.41 | M53: =P53+S53 -> 888.59 | N53: =1000000-1000000 -> 0 | O53: =D53-L53-M53-N53 -> 0 | P53: =G53-L53 -> 888.59 | S53: =SUM(Q53:R53) -> 0 | T53: =P53-M53+S53 -> 0 | U53: =N53-T53 -> 0 | V53: =U53-Z53-W53-Y53 -> 0 | AB53: 732000
A54: =A53+1 -> 49 | B54: 1755 | C54: תב"ע חניון שטח מרינה לי 2073 | D54: 200000 | E54: 200000 | F54: =D54-E54 -> 0 | G54: 200000 | H54: 69371.84 | J54: 21992.97 | K54: =SUM(I54:J54) -> 21992.97 | L54: =H54+K54 -> 91364.81 | M54: =P54+S54-100000 -> 8635.19 | O54: =D54-L54-M54-N54 -> 100000 | P54: =G54-L54 -> 108635.19 | S54: =SUM(Q54:R54) -> 0 | T54: =P54-M54+S54 -> 100000 | U54: =N54-T54 -> -100000 | V54: =U54-Z54-W54-Y54 -> -100000 | AA54: הכנת תב"ע לבניית חניון מתחת לשצ"פ במתחם "מרינה לי". | AB54: 732000
A55: =A54+1 -> 50 | B55: 1756 | C55: מסמכי מדיניות להתחדשות עירונית בשכונות | D55: 800000 | E55: 800000 | F55: =D55-E55 -> 0 | G55: 400000 | H55: 239672 | J55: 44604 | K55: =SUM(I55:J55) -> 44604 | L55: =H55+K55 -> 284276 | M55: =P55+S55-100000 -> 15724 | N55: 100000 | O55: =D55-L55-M55-N55 -> 400000 | P55: =G55-L55 -> 115724 | S55: =SUM(Q55:R55) -> 0 | T55: =P55-M55+S55 -> 100000 | U55: =N55-T55 -> 0 | V55: =U55-Z55-W55-Y55 -> 0 | AA55: הכנת מסמכי מדיניות להתחדשות עירונית בשכונות לגיבוש מדיניות לחידוש המרקם הקיים בשכונות. | AB55: 732000
A56: =A55+1 -> 51 | B56: 1757 | C56: תב"ע לדיור בר השגה ברב קוק | D56: 300000 | E56: 300000 | F56: =D56-E56 -> 0 | G56: 110000 | H56: 10908.07 | I56: 908.93 | K56: =SUM(I56:J56) -> 908.93 | L56: =H56+K56 -> 11817 | M56: =P56+S56 -> 98183 | O56: =D56-L56-M56-N56 -> 190000 | P56: =G56-L56 -> 98183 | S56: =SUM(Q56:R56) -> 0 | T56: =P56-M56+S56 -> 0 | U56: =N56-T56 -> 0 | V56: =U56-Z56-W56-Y56 -> 0 | AB56: 732000
A57: =A56+1 -> 52 | B57: 1758 | C57: תב"ע לדיור בר השגה בשמשון הגיבור | D57: 300000 | E57: 300000 | F57: =D57-E57 -> 0 | G57: 120000 | H57: 10908.07 | I57: 4828.43 | K57: =SUM(I57:J57) -> 4828.43 | L57: =H57+K57 -> 15736.5 | M57: =P57+S57-104000 -> 263.5 | O57: =D57-L57-M57-N57 -> 284000 | P57: =G57-L57 -> 104263.5 | S57: =SUM(Q57:R57) -> 0 | T57: =P57-M57+S57 -> 104000 | U57: =N57-T57 -> -104000 | V57: =U57-Z57-W57-Y57 -> -104000 | AB57: 732000
A58: =A57+1 -> 53 | B58: 1759 | C58: תוכנית אסטרטגית להתייעלות עירונית במרכז העיר ובשכונות (*) עדכון שם | D58: 940000 | E58: 600000 | F58: =D58-E58 -> 340000 | G58: 500000 | H58: 478660 | I58: 600 | J58: 17151.75 | K58: =SUM(I58:J58) -> 17751.75 | L58: =H58+K58 -> 496411.75 | M58: =P58+S58 -> 3588.25 | N58: 440000 | O58: =D58-L58-M58-N58 -> 0 | P58: =G58-L58 -> 3588.25 | S58: =SUM(Q58:R58) -> 0 | T58: =P58-M58+S58 -> 0 | U58: =N58-T58 -> 440000 | V58: =U58-Z58-W58-Y58 -> 440000 | AA58: תוכנית לצורך מידע מה וכמה ניתן לבנות בהתאם לתשתיות הקיימות במרכז ותוכנית לבחינת הנדרש לאוכלוסיה בשכונות עפ"י תחזיות גידול האוכלוסיה. | AB58: 732000
A59: =A58+1 -> 54 | B59: 1760 | C59: תוכנית אסטרטגית להתי' עירונית באזהת"ש (*) עדכון שם | D59: =1100000-200000 -> 900000 | E59: 900000 | F59: =D59-E59 -> 0 | G59: 300000 | H59: 38898 | J59: 1228 | K59: =SUM(I59:J59) -> 1228 | L59: =H59+K59 -> 40126 | M59: =P59+S59 -> 259874 | O59: =D59-L59-M59-N59 -> 600000 | P59: =G59-L59 -> 259874 | Q59: =100000-100000 -> 0 | S59: =SUM(Q59:R59) -> 0 | T59: =P59-M59+S59 -> 0 | U59: =N59-T59 -> 0 | V59: =U59-Z59-W59-Y59 -> 0 | AA59: בדיקת התכנות והכנת תב"עות של מתחמים מפוצלים בין מס' בעלים באיזהת"ש החשובים מבחינה ציבורית. | AB59: 732000
A60: =A59+1 -> 55 | B60: 1762 | C60: בקשות להיתר בלתי צפויות | D60: 500000 | E60: 500000 | F60: =D60-E60 -> 0 | G60: 100000 | H60: 11442 | K60: =SUM(I60:J60) -> 0 | L60: =H60+K60 -> 11442 | M60: =P60+S60-30000 -> 58558 | O60: =D60-L60-M60-N60 -> 430000 | P60: =G60-L60 -> 88558 | S60: =SUM(Q60:R60) -> 0 | T60: =P60-M60+S60 -> 30000 | U60: =N60-T60 -> -30000 | V60: =U60-Z60-W60-Y60 -> -30000 | AA60: סל של שעות ייעוץ עבור בקשות פרטניות להיתר לפי צורך. | AB60: 732000
A61: =A60+1 -> 56 | B61: 1799 | C61: תב"ע קרית השחקים | D61: 1000000 | E61: 1000000 | F61: =D61-E61 -> 0 | G61: 350000 | H61: 24106 | J61: 20567.86 | K61: =SUM(I61:J61) -> 20567.86 | L61: =H61+K61 -> 44673.86 | M61: =P61+S61-200000 -> 105326.14 | N61: =100000+200000-100000 -> 200000 | O61: =D61-L61-M61-N61 -> 650000 | P61: =G61-L61 -> 305326.14 | S61: =SUM(Q61:R61) -> 0 | T61: =P61-M61+S61 -> 200000 | U61: =N61-T61 -> 0 | V61: =U61-Z61-W61-Y61 -> 0 | AA61: תכנון איזור תעשיה ושכונת מגורים במשולש התחבורה. מקודם בותמ"ל . | AB61: 732000
A62: =A61+1 -> 57 | B62: 1804 | C62: פית' מדרגות קיר תומך פנחס רוזן | D62: =50000+150000 -> 200000 | E62: 200000 | F62: =D62-E62 -> 0 | G62: 200000 | H62: 0 | J62: 47073.2 | K62: =SUM(I62:J62) -> 47073.2 | L62: =H62+K62 -> 47073.2 | M62: =P62+S62 -> 152926.8 | O62: =D62-L62-M62-N62 -> 0 | P62: =G62-L62 -> 152926.8 | S62: =SUM(Q62:R62) -> 0 | T62: =P62-M62+S62 -> 0 | U62: =N62-T62 -> 0 | V62: =U62-Z62-W62-Y62 -> 0 | AB62: 742000
A63: =A62+1 -> 58 | B63: 1805 | C63: שביל אופניים הרצליה-ת"א הפקעות | D63: 1000000 | E63: 1000000 | F63: =D63-E63 -> 0 | G63: 110000 | H63: 2677 | K63: =SUM(I63:J63) -> 0 | L63: =H63+K63 -> 2677 | M63: =P63+S63-50000 -> 57323 | O63: =D63-L63-M63-N63 -> 940000 | P63: =G63-L63 -> 107323 | S63: =SUM(Q63:R63) -> 0 | T63: =P63-M63+S63 -> 50000 | U63: =N63-T63 -> -50000 | V63: =U63-Z63-W63-Y63 -> -50000 | AA63: טרם הופקעו כל החלקות. | AB63: 742000
A64: =A63+1 -> 59 | B64: 1811 | C64: תכנון דיור בן ציון מיכאלי | D64: 250000 | E64: 250000 | F64: =D64-E64 -> 0 | G64: 250000 | H64: 0 | K64: =SUM(I64:J64) -> 0 | L64: =H64+K64 -> 0 | M64: =P64+S64 -> 250000 | O64: =D64-L64-M64-N64 -> 0 | P64: =G64-L64 -> 250000 | S64: =SUM(Q64:R64) -> 0 | T64: =P64-M64+S64 -> 0 | U64: =N64-T64 -> 0 | V64: =U64-Z64-W64-Y64 -> 0 | AA64: העסקת צוות יועצים לתכנון התב"ע לדיור בר השגה רח' בן ציון. | AB64: 732000
A65: =A64+1 -> 60 | B65: 1826 | C65: פיתוח שצ"פים במורדי הגטאות | D65: 1500000 | E65: 1500000 | F65: =D65-E65 -> 0 | G65: 400000 | H65: 14227 | J65: 11756.75 | K65: =SUM(I65:J65) -> 11756.75 | L65: =H65+K65 -> 25983.75 | M65: =P65+S65 -> 374016.25 | N65: 1100000 | O65: =D65-L65-M65-N65 -> 0 | P65: =G65-L65 -> 374016.25 | S65: =SUM(Q65:R65) -> 0 | T65: =P65-M65+S65 -> 0 | U65: =N65-T65 -> 1100000 | V65: =U65-Z65-W65-Y65 -> 1100000 | AA65: הסדרת דרכי גישה למבני מגורים והסדרת פלישות לשטחי ציבור. המשך תכנון וביצוע השצ"פים כ - 1,300 מ"ר. | AB65: 742000
A66: =A65+1 -> 61 | B66: 1842 | C66: תב"ע תחנה מרכזית חדשה זמנית | D66: 800000 | E66: 800000 | F66: =D66-E66 -> 0 | G66: 200000 | H66: 0 | K66: =SUM(I66:J66) -> 0 | L66: =H66+K66 -> 0 | M66: =P66+S66 -> 200000 | O66: =D66-L66-M66-N66 -> 600000 | P66: =G66-L66 -> 200000 | S66: =SUM(Q66:R66) -> 0 | T66: =P66-M66+S66 -> 0 | U66: =N66-T66 -> 0 | V66: =U66-Z66-W66-Y66 -> 0 | AA66: תכנון תב"ע לשטח התחנה המרכזית החדשה. | AB66: 732000
A67: =A66+1 -> 62 | B67: 1843 | C67: פינוי בינוי מול התחנה | D67: 380000 | E67: 380000 | F67: =D67-E67 -> 0 | G67: 70000 | H67: 0 | I67: 1.17 | K67: =SUM(I67:J67) -> 1.17 | L67: =H67+K67 -> 1.17 | M67: =P67+S67-69000 -> 998.83 | N67: =350000-100000 -> 250000 | O67: =D67-L67-M67-N67 -> 129000 | P67: =G67-L67 -> 69998.83 | S67: =SUM(Q67:R67) -> 0 | T67: =P67-M67+S67 -> 69000 | U67: =N67-T67 -> 181000 | V67: =U67-Z67-W67-Y67 -> 181000 | AA67: הליך התנעה לתכנון מתחם לפינוי בינוי מול התחנה. | AB67: 732000
A68: =A67+1 -> 63 | B68: 1844 | C68: פינוי בינוי סוקולוב רח' ירושלים | D68: 2078338 | E68: 732000 | F68: =D68-E68 -> 1346338 | G68: 70000 | H68: 62477.48 | K68: =SUM(I68:J68) -> 0 | L68: =H68+K68 -> 62477.48 | M68: =P68+S68 -> 7522.52 | N68: =1338338+670000 -> 2008338 | O68: =D68-L68-M68-N68 -> 0 | P68: =G68-L68 -> 7522.52 | S68: =SUM(Q68:R68) -> 0 | T68: =P68-M68+S68 -> 0 | U68: =N68-T68 -> 2008338 | V68: =U68-Z68-W68-Y68 -> 753894 | Z68: 1254444 | AA68: פינוי בינוי סוקולוב רח' ירושלים . מימון מ. הבינוי. | AB68: 732000
A69: =A68+1 -> 64 | B69: 1882 | C69: פיתוח מתחם אולפני הרצליה | D69: 14300000 | E69: 14300000 | F69: =D69-E69 -> 0 | G69: 200000 | H69: 0 | K69: =SUM(I69:J69) -> 0 | L69: =H69+K69 -> 0 | M69: =P69+S69-200000 -> 0 | N69: =200000+250000 -> 450000 | O69: =D69-L69-M69-N69 -> 13850000 | P69: =G69-L69 -> 200000 | S69: =SUM(Q69:R69) -> 0 | T69: =P69-M69+S69 -> 200000 | U69: =N69-T69 -> 250000 | V69: =U69-Z69-W69-Y69 -> 250000 | AA69: פיתוח מתחם אולפני הרצליה תב"ע הר' 2180. | AB69: 742000
A70: =A69+1 -> 65 | B70: 1937 | C70: תב"ע משולש המנהרה הר' 2350 | D70: =1000000+50000-300000 -> 750000 | E70: 700000 | F70: =D70-E70 -> 50000 | G70: 450000 | H70: 39885 | I70: 261133 | J70: 40357.54 | K70: =SUM(I70:J70) -> 301490.54 | L70: =H70+K70 -> 341375.54 | M70: =P70+S70 -> 108624.46 | N70: =400000-100000 -> 300000 | O70: =D70-L70-M70-N70 -> 0 | P70: =G70-L70 -> 108624.46 | S70: =SUM(Q70:R70) -> 0 | T70: =P70-M70+S70 -> 0 | U70: =N70-T70 -> 300000 | V70: =U70-Z70-W70-Y70 -> 300000 | AA70: תוכנית מתארית ומפורטת חלקית לאורך רחוב המנהרה ועד פארק הואדי. התוכנית כוללת מתחם לשימור. יש עתירה לבימ"ש של בעלי קרקע פרטיים. | AB70: 732000
A71: =A70+1 -> 66 | B71: 1943 | C71: מגרש סימולציה לאופניים | D71: 6750000 | E71: 6500000 | F71: =D71-E71 -> 250000 | G71: 6500000 | H71: 3839511 | I71: 208106 | J71: 2351722 | K71: =SUM(I71:J71) -> 2559828 | L71: =H71+K71 -> 6399339 | M71: =P71+S71 -> 100661 | N71: 250000 | O71: =D71-L71-M71-N71 -> 0 | P71: =G71-L71 -> 100661 | S71: =SUM(Q71:R71) -> 0 | T71: =P71-M71+S71 -> 0 | U71: =N71-T71 -> 250000 | V71: =U71-Z71-W71-Y71 -> 250000 | AA71: עבודות השלמה סופיות לרבות מתכננים ופיקוח עקב התארכות תקופת הביצוע של הפרויקט. | AB71: 744000
A72: =A71+1 -> 67 | B72: 1950 | C72: תכנון שינוי גבולות העיר | D72: 500000 | E72: 500000 | F72: =D72-E72 -> 0 | G72: 100000 | H72: 0 | K72: =SUM(I72:J72) -> 0 | L72: =H72+K72 -> 0 | M72: =P72+S72 -> 100000 | N72: 100000 | O72: =D72-L72-M72-N72 -> 300000 | P72: =G72-L72 -> 100000 | S72: =SUM(Q72:R72) -> 0 | T72: =P72-M72+S72 -> 0 | U72: =N72-T72 -> 100000 | V72: =U72-Z72-W72-Y72 -> 100000 | AA72: עלויות לצורך מתן מענה לדיון במשרד הפנים עקב אישורה של תוכנית תמ"ל מס' 1068. | AB72: 732000
A73: =A72+1 -> 68 | B73: 1951 | C73: מתחם דן אכדייה ליווי תכנוני | D73: 300000 | E73: 300000 | F73: =D73-E73 -> 0 | G73: 160000 | H73: 123575 | I73: 35100 | K73: =SUM(I73:J73) -> 35100 | L73: =H73+K73 -> 158675 | M73: =P73+S73 -> 1325 | O73: =D73-L73-M73-N73 -> 140000 | P73: =G73-L73 -> 1325 | S73: =SUM(Q73:R73) -> 0 | T73: =P73-M73+S73 -> 0 | U73: =N73-T73 -> 0 | V73: =U73-Z73-W73-Y73 -> 0 | AB73: 732000
A74: =A73+1 -> 69 | B74: 1952 | C74: איצטדיון כדורסל היכל ספורט רב תכליתי (*) עדכון שם | D74: 200000 | E74: 200000 | F74: =D74-E74 -> 0 | G74: 100000 | H74: 0 | K74: =SUM(I74:J74) -> 0 | L74: =H74+K74 -> 0 | M74: =P74+S74 -> 100000 | N74: =100000-100000 -> 0 | O74: =D74-L74-M74-N74 -> 100000 | P74: =G74-L74 -> 100000 | S74: =SUM(Q74:R74) -> 0 | T74: =P74-M74+S74 -> 0 | U74: =N74-T74 -> 0 | V74: =U74-Z74-W74-Y74 -> 0 | AA74: בדיקה ותכנון איצטדיון ספורט רב תכליתי בעיר. תלוי בקידומה של תוכנית קרית שחקים תב"ר 1799. | AB74: 829000
A75: =A74+1 -> 70 | B75: 2007 | C75: חניון עצמאות | D75: =3000000-1900000 -> 1100000 | E75: 3000000 | F75: =D75-E75 -> -1900000 | G75: =500000+600000 -> 1100000 | H75: 0 | J75: =64313+918635 -> 982948 | K75: =SUM(I75:J75) -> 982948 | L75: =H75+K75 -> 982948 | M75: =P75+S75 -> 117052 | O75: =D75-L75-M75-N75 -> 0 | P75: =G75-L75 -> 117052 | S75: =SUM(Q75:R75) -> 0 | T75: =P75-M75+S75 -> 0 | U75: =N75-T75 -> 0 | V75: =U75-Z75-W75-Y75 -> 0 | AA75: פיתוח חניון זמני במתחם אגד. | AB75: 742000
A76: =A75+1 -> 71 | B76: 2009 | C76: סמטת ניסנוב | D76: 9000000 | E76: 9000000 | F76: =D76-E76 -> 0 | G76: 0 | H76: 0 | K76: =SUM(I76:J76) -> 0 | L76: =H76+K76 -> 0 | M76: =P76+S76 -> 0 | N76: =500000+500000 -> 1000000 | O76: =D76-L76-M76-N76 -> 8000000 | P76: =G76-L76 -> 0 | S76: =SUM(Q76:R76) -> 0 | T76: =P76-M76+S76 -> 0 | U76: =N76-T76 -> 1000000 | V76: =U76-Z76-W76-Y76 -> 1000000 | AA76: פיתוח סימטה שהפכה לדרך במסגרת תב"ע 2029 בנווה עמל. 2019- תכנון. | AB76: 742000
A77: =A76+1 -> 72 | B77: 2010 | C77: יהודה הנשיא רבי עקיבא רזיאל | D77: 8000000 | E77: 8000000 | F77: =D77-E77 -> 0 | G77: 500000 | H77: 0 | K77: =SUM(I77:J77) -> 0 | L77: =H77+K77 -> 0 | M77: =P77+S77-500000 -> 0 | N77: 960000 | O77: =D77-L77-M77-N77 -> 7040000 | P77: =G77-L77 -> 500000 | S77: =SUM(Q77:R77) -> 0 | T77: =P77-M77+S77 -> 500000 | U77: =N77-T77 -> 460000 | V77: =U77-Z77-W77-Y77 -> 460000 | AA77: פיתוח קטע הרחוב מרבי עקיבא עד דוד רזיאל. 2019 - תכנון. | AB77: 742000
A78: =A77+1 -> 73 | B78: 2011 | C78: תכנון חניון מרינה לי | D78: 80000000 | E78: 80000000 | F78: =D78-E78 -> 0 | G78: 0 | H78: 0 | K78: =SUM(I78:J78) -> 0 | L78: =H78+K78 -> 0 | M78: =P78+S78 -> 0 | N78: 2000000 | O78: =D78-L78-M78-N78 -> 78000000 | P78: =G78-L78 -> 0 | S78: =SUM(Q78:R78) -> 0 | T78: =P78-M78+S78 -> 0 | U78: =N78-T78 -> 2000000 | V78: =U78-Z78-W78-Y78 -> 2000000 | AA78: תכנון החניון מתחת לשצ"פ במתחם המרינה לי. | AB78: 742000
A79: =A78+1 -> 74 | B79: 2012 | C79: ציר העדפה | D79: 5000000 | E79: 5000000 | F79: =D79-E79 -> 0 | G79: 0 | H79: 0 | K79: =SUM(I79:J79) -> 0 | L79: =H79+K79 -> 0 | M79: =P79+S79-200000 -> 0 | N79: =1000000-800000 -> 200000 | O79: =D79-L79-M79-N79 -> 4800000 | P79: =G79-L79 -> 0 | Q79: 200000 | S79: =SUM(Q79:R79) -> 200000 | T79: =P79-M79+S79 -> 200000 | U79: =N79-T79 -> 0 | V79: =U79-Z79-W79-Y79 -> 0 | AA79: עבודות עק פרויקט " מהיר לעיר" כולל תוספת חיפוי קיר בטון. | AB79: 742000
A80: =A79+1 -> 75 | B80: 2013 | C80: בדיקות תכנוניות כללי | D80: 1250000 | E80: 1250000 | F80: =D80-E80 -> 0 | G80: 100000 | H80: 0 | J80: 21060 | K80: =SUM(I80:J80) -> 21060 | L80: =H80+K80 -> 21060 | M80: =P80+S80 -> 78940 | N80: 250000 | O80: =D80-L80-M80-N80 -> 900000 | P80: =G80-L80 -> 78940 | S80: =SUM(Q80:R80) -> 0 | T80: =P80-M80+S80 -> 0 | U80: =N80-T80 -> 250000 | V80: =U80-Z80-W80-Y80 -> 250000 | AA80: סל עבודות תכנון , בדיקות, סקרים ודרישות מכח החלטות של ועדות סטטוטוריות בלתי צפויות. | AB80: 732000
A81: =A80+1 -> 76 | B81: 2014 | C81: תכנון אסטרטגי ציר מעפילים | D81: 750000 | E81: 100000 | F81: =D81-E81 -> 650000 | G81: 100000 | H81: 0 | K81: =SUM(I81:J81) -> 0 | L81: =H81+K81 -> 0 | M81: =P81+S81 -> 100000 | N81: 300000 | O81: =D81-L81-M81-N81 -> 350000 | P81: =G81-L81 -> 100000 | S81: =SUM(Q81:R81) -> 0 | T81: =P81-M81+S81 -> 0 | U81: =N81-T81 -> 300000 | V81: =U81-Z81-W81-Y81 -> 300000 | AA81: תכנון ציר המעפילים הכניסה הצפונית לעיר בשיתוף מועצה מקומית כפר שמריהו. | AB81: 732000
A82: =A81+1 -> 77 | B82: 2077 | C82: פיתוח משה דיין | D82: 4000000 | E82: 4000000 | F82: =D82-E82 -> 0 | K82: =SUM(I82:J82) -> 0 | L82: =H82+K82 -> 0 | M82: =P82+S82 -> 0 | N82: =3000000-3000000 -> 0 | O82: =D82-L82-M82-N82 -> 4000000 | P82: =G82-L82 -> 0 | S82: =SUM(Q82:R82) -> 0 | T82: =P82-M82+S82 -> 0 | U82: =N82-T82 -> 0 | V82: =U82-Z82-W82-Y82 -> 0 | AA82: תכנון וביצוע רחוב משה דיין כולל חיבור לכביש 20, הילס, אופני דן. | AB82: 742000
A83: =A82+1 -> 78 | B83: 2078 | C83: נילי - עבודות פיתוח והסדרת תנועה | D83: 2260000 | E83: 2260000 | F83: =D83-E83 -> 0 | G83: 150000 | K83: =SUM(I83:J83) -> 0 | L83: =H83+K83 -> 0 | M83: =P83+S83 -> 150000 | N83: 300000 | O83: =D83-L83-M83-N83 -> 1810000 | P83: =G83-L83 -> 150000 | U83: =N83-T83 -> 300000 | V83: =U83-Z83-W83-Y83 -> 300000 | AA83: לאור החלטת בימ"ש שהעיריה תבצע שינויים גיאומטרים וקיר. | AB83: 742000
A84: =A83+1 -> 79 | B84: 2104 | C84: החלפת קו ניקוז בדוד המלך | D84: 18500000 | F84: =D84-E84 -> 18500000 | K84: =SUM(I84:J84) -> 0 | L84: =H84+K84 -> 0 | M84: =P84+S84 -> 0 | N84: 7500000 | O84: =D84-L84-M84-N84 -> 11000000 | P84: =G84-L84 -> 0 | S84: =SUM(Q84:R84) -> 0 | T84: =P84-M84+S84 -> 0 | U84: =N84-T84 -> 7500000 | V84: =U84-Z84-W84-Y84 -> 7500000 | AA84: הגדלת קו הניקוז ברח' דוד המלך בקטע קרן היסוד - מדינת היהודים בתאום עם עבודות מים וביוב של תאגיד המים. | AB84: 742000
A85: =A84+1 -> 80 | B85: 2105 | C85: הארכת דרך ירושלים והתחברות אליה | D85: 60000000 | F85: =D85-E85 -> 60000000 | K85: =SUM(I85:J85) -> 0 | L85: =H85+K85 -> 0 | M85: =P85+S85 -> 0 | N85: 1000000 | O85: =D85-L85-M85-N85 -> 59000000 | P85: =G85-L85 -> 0 | S85: =SUM(Q85:R85) -> 0 | T85: =P85-M85+S85 -> 0 | U85: =N85-T85 -> 1000000 | V85: =U85-Z85-W85-Y85 -> 1000000 | AA85: הארכת דרך ירושלים עד לרחוב הנגב וחיבור רבי עקיבא, פיתוח רח' יבנה . ב - 2019 : תחילת תכנון. | AB85: 742000
A86: =A85+1 -> 81 | B86: 2106 | C86: אוצר הצמחים ,הראשונים ואבן אודם | D86: 15000000 | F86: =D86-E86 -> 15000000 | K86: =SUM(I86:J86) -> 0 | L86: =H86+K86 -> 0 | M86: =P86+S86 -> 0 | N86: =2500000-2000000 -> 500000 | O86: =D86-L86-M86-N86 -> 14500000 | P86: =G86-L86 -> 0 | S86: =SUM(Q86:R86) -> 0 | T86: =P86-M86+S86 -> 0 | U86: =N86-T86 -> 500000 | V86: =U86-Z86-W86-Y86 -> 500000 | AA86: פיתוח מתחם הרחובות אוצר הצמחים, אבן אודם, הראשונים. ב - 2019 : תכנון. | AB86: 742000
A87: =A86+1 -> 82 | B87: 2107 | C87: פיתוח וביצוע שידרוג ויזואלי מתחם בני בניימין הנדיב | D87: 340000 | F87: =D87-E87 -> 340000 | K87: =SUM(I87:J87) -> 0 | L87: =H87+K87 -> 0 | M87: =P87+S87 -> 0 | N87: 340000 | O87: =D87-L87-M87-N87 -> 0 | P87: =G87-L87 -> 0 | S87: =SUM(Q87:R87) -> 0 | T87: =P87-M87+S87 -> 0 | U87: =N87-T87 -> 340000 | V87: =U87-Z87-W87-Y87 -> 340000 | AA87: הסדרת שבילי גישה רגלית וכניסת כלי רכב לחניות,שביל פינוי אשפה,פיתוח כולל גינון ותאורה. | AB87: 742000
A88: =A87+1 -> 83 | B88: 2108 | C88: תכנון שצ"פים במתחם הר' 1960 | D88: =3300000+3200000+2700000+4900000 -> 14100000 | F88: =D88-E88 -> 14100000 | K88: =SUM(I88:J88) -> 0 | L88: =H88+K88 -> 0 | M88: =P88+S88 -> 0 | N88: 1200000 | O88: =D88-L88-M88-N88 -> 12900000 | P88: =G88-L88 -> 0 | S88: =SUM(Q88:R88) -> 0 | T88: =P88-M88+S88 -> 0 | U88: =N88-T88 -> 1200000 | V88: =U88-Z88-W88-Y88 -> 1200000 | AA88: תכנון שצ"פים במתחם הר' 1960 : קורן,דן שומרון ,דורי ומשה שמיר. | AB88: 746000
A89: =A88+1 -> 84 | B89: 2109 | C89: רחוב הפרטיזנים | D89: 2000000 | F89: =D89-E89 -> 2000000 | K89: =SUM(I89:J89) -> 0 | L89: =H89+K89 -> 0 | M89: =P89+S89 -> 0 | N89: 500000 | O89: =D89-L89-M89-N89 -> 1500000 | P89: =G89-L89 -> 0 | S89: =SUM(Q89:R89) -> 0 | T89: =P89-M89+S89 -> 0 | U89: =N89-T89 -> 500000 | V89: =U89-Z89-W89-Y89 -> 500000 | AA89: תכנון פיתוח רחוב הפרטיזנים. | AB89: 742000
A90: =A89+1 -> 85 | B90: 2110 | C90: שיכון דרום הר' 2312 | D90: 16000000 | F90: =D90-E90 -> 16000000 | K90: =SUM(I90:J90) -> 0 | L90: =H90+K90 -> 0 | M90: =P90+S90 -> 0 | N90: =1200000-700000 -> 500000 | O90: =D90-L90-M90-N90 -> 15500000 | P90: =G90-L90 -> 0 | S90: =SUM(Q90:R90) -> 0 | T90: =P90-M90+S90 -> 0 | U90: =N90-T90 -> 500000 | V90: =U90-Z90-W90-Y90 -> 500000 | AA90: תכנון פיתוח מתחם שיכון דרום. | AB90: 742000
A91: =A90+1 -> 86 | B91: 2111 | C91: הר מירון בר כוכבא הר' 2266 | D91: 10240000 | F91: =D91-E91 -> 10240000 | K91: =SUM(I91:J91) -> 0 | L91: =H91+K91 -> 0 | M91: =P91+S91 -> 0 | N91: =1000000-500000 -> 500000 | O91: =D91-L91-M91-N91 -> 9740000 | P91: =G91-L91 -> 0 | S91: =SUM(Q91:R91) -> 0 | T91: =P91-M91+S91 -> 0 | U91: =N91-T91 -> 500000 | V91: =U91-Z91-W91-Y91 -> 500000 | AA91: תכנון פיתוח הרחובות הר מירון בר כוכבא בעקבות אישור תוכנית התחדשות עירונית. | AB91: 742000
A92: =A91+1 -> 87 | B92: 2112 | C92: סקר חריגות בניה ברחבי העיר | D92: 7650000 | F92: =D92-E92 -> 7650000 | K92: =SUM(I92:J92) -> 0 | L92: =H92+K92 -> 0 | M92: =P92+S92 -> 0 | N92: =3160000-3000000 -> 160000 | O92: =D92-L92-M92-N92 -> 7490000 | P92: =G92-L92 -> 0 | S92: =SUM(Q92:R92) -> 0 | T92: =P92-M92+S92 -> 0 | U92: =N92-T92 -> 160000 | V92: =U92-Z92-W92-Y92 -> 160000 | AA92: עפ"י תיקון לחוק הרשויות, נדרש לבצע סקר חריגות בניה. | AB92: 732000
A93: =A92+1 -> 88 | B93: 2113 | C93: ביצוע הריסות עפ"י צווים | D93: 2550000 | F93: =D93-E93 -> 2550000 | K93: =SUM(I93:J93) -> 0 | L93: =H93+K93 -> 0 | M93: =P93+S93 -> 0 | N93: 1000000 | O93: =D93-L93-M93-N93 -> 1550000 | P93: =G93-L93 -> 0 | S93: =SUM(Q93:R93) -> 0 | T93: =P93-M93+S93 -> 0 | U93: =N93-T93 -> 1000000 | V93: =U93-Z93-W93-Y93 -> 1000000 | AA93: בהמשך לסקר חריגות בניה, הרשות נדרשת לבצע צווים שיפוטיים ולבצע הריסות במקרים בהם לא בוצעו. | AB93: 732000
A94: =A93+1 -> 89 | B94: 2114 | C94: תב"ע תוכנית שיקום המסילה המתפנה הר '2435 | D94: 1450000 | F94: =D94-E94 -> 1450000 | K94: =SUM(I94:J94) -> 0 | L94: =H94+K94 -> 0 | M94: =P94+S94 -> 0 | N94: 700000 | O94: =D94-L94-M94-N94 -> 750000 | P94: =G94-L94 -> 0 | S94: =SUM(Q94:R94) -> 0 | T94: =P94-M94+S94 -> 0 | U94: =N94-T94 -> 700000 | V94: =U94-Z94-W94-Y94 -> 700000 | AA94: הכנת תב"ע בשיתוף מועצת כפר שמריהו לתכנון קישוריות שביל אופניים ופארק בתחום המסילה המתפנה ואפשרות לבחינת חיבור תחבורתי נוסף להרצליה ב'. | AB94: 732000
A95: =A94+1 -> 90 | B95: 2115 | C95: תוכנית מתאר איזור התעסוקה הר/2440 | D95: 3100000 | F95: =D95-E95 -> 3100000 | N95: =1200000-700000 -> 500000 | O95: =D95-L95-M95-N95 -> 2600000 | P95: =G95-L95 -> 0 | S95: =SUM(Q95:R95) -> 0 | T95: =P95-M95+S95 -> 0 | U95: =N95-T95 -> 500000 | V95: =U95-Z95-W95-Y95 -> 500000 | AA95: הפיכת תוכנית אסטרטגית לתוכנית סטטוטורית, לתוכנית מתאר בועדה המחוזית בהתאם ליו"ר הועדה המחוזית. | AB95: 732000
A96: =A95+1 -> 91 | B96: 2116 | C96: תב"ע מעברת רשף - מערב נוף ים | D96: 1700000 | F96: =D96-E96 -> 1700000 | N96: =650000-150000 -> 500000 | O96: =D96-L96-M96-N96 -> 1200000 | P96: =G96-L96 -> 0 | S96: =SUM(Q96:R96) -> 0 | T96: =P96-M96+S96 -> 0 | U96: =N96-T96 -> 500000 | V96: =U96-Z96-W96-Y96 -> 500000 | AA96: תוכנית לשיקום מעברת רשף והקמת שכונת מגורים חדשה בשילוב שטחי ציבור , שטחים פתוחים ותיירות. | AB96: 732000
A97: =A96+1 -> 92 | B97: 2117 | C97: שינוי תוכנית גליל ים א' ב' | D97: 600000 | F97: =D97-E97 -> 600000 | N97: 300000 | O97: =D97-L97-M97-N97 -> 300000 | P97: =G97-L97 -> 0 | S97: =SUM(Q97:R97) -> 0 | T97: =P97-M97+S97 -> 0 | U97: =N97-T97 -> 300000 | V97: =U97-Z97-W97-Y97 -> 300000 | AA97: שינוי לתוכנית הר' 1985 ב' עקב ריבוי י"ד והצורך לספק שטחים ציבוריים בגינם. | AB97: 732000
A98: =A97+1 -> 93 | B98: 2118 | C98: שצ"פ דליה רביקוביץ בשכונת אלתרמן (הר/1920) | D98: 1800000 | F98: =D98-E98 -> 1800000 | N98: 200000 | O98: =D98-L98-M98-N98 -> 1600000 | P98: =G98-L98 -> 0 | S98: =SUM(Q98:R98) -> 0 | T98: =P98-M98+S98 -> 0 | U98: =N98-T98 -> 200000 | V98: =U98-Z98-W98-Y98 -> 200000 | AA98: ביצוע שצ"פ בקטע הנביאים בני בנימין. ב - 2019 : תכנון בלבד. | AB98: 746000
A99: =A98+1 -> 94 | B99: 2119 | C99: שביל מתחם העצמאות הרב גורן הבנים | D99: 1400000 | F99: =D99-E99 -> 1400000 | N99: 150000 | O99: =D99-L99-M99-N99 -> 1250000 | P99: =G99-L99 -> 0 | S99: =SUM(Q99:R99) -> 0 | T99: =P99-M99+S99 -> 0 | U99: =N99-T99 -> 150000 | V99: =U99-Z99-W99-Y99 -> 150000 | AA99: עבודות פיתוח מערך שבילים בין הרחובות העצמאות הרב גורן ורחוב הבנים. | AB99: 742000
A100: =A99+1 -> 95 | B100: 2120 | C100: הכנת פרוגרמות עירוניות עפ"י הנדרש | D100: 1000000 | F100: =D100-E100 -> 1000000 | N100: 1000000 | O100: =D100-L100-M100-N100 -> 0 | P100: =G100-L100 -> 0 | S100: =SUM(Q100:R100) -> 0 | T100: =P100-M100+S100 -> 0 | U100: =N100-T100 -> 1000000 | V100: =U100-Z100-W100-Y100 -> 1000000 | AA100: הכנת פרוגרמות עירוניות : שטחים מבונים,איזור תעשיה, מרחב ציבורי,תוכניות תמ"א 38, סוקולוב. | AB100: 732000
A101: =A100+1 -> 96 | B101: 2121 | C101: צומת הבריגדה היהודית -מנחם בגין- בטיחות | D101: 300000 | F101: =D101-E101 -> 300000 | N101: 300000 | O101: =D101-L101-M101-N101 -> 0 | P101: =G101-L101 -> 0 | S101: =SUM(Q101:R101) -> 0 | T101: =P101-M101+S101 -> 0 | U101: =N101-T101 -> 300000 | V101: =U101-Z101-W101-Y101 -> 90000 | Z101: 210000 | AA101: תכנון צומת הבריגדה היהודית -מנחם בגין עקב ריבוי תאונות דרכים עפ"י נתוני הרלב"ד. מימון מ. התחבורה. | AB101: 742000
A102: =A101+1 -> 97 | B102: 2122 | C102: צומת הרב גורן מוהליבר - בטיחות | D102: 300000 | F102: =D102-E102 -> 300000 | N102: 300000 | O102: =D102-L102-M102-N102 -> 0 | P102: =G102-L102 -> 0 | S102: =SUM(Q102:R102) -> 0 | T102: =P102-M102+S102 -> 0 | U102: =N102-T102 -> 300000 | V102: =U102-Z102-W102-Y102 -> 90000 | Z102: 210000 | AA102: תכנון צומת הרב גורן מוהליבר עקב ריבוי תאונות דרכים עפ"י נתוני הרלב"ד. מימון מ. התחבורה. | AB102: 742000
A103: =A102+1 -> 98 | B103: 2123 | C103: צומת השרון בר אילן -בטיחות | D103: 750000 | F103: =D103-E103 -> 750000 | N103: 750000 | O103: =D103-L103-M103-N103 -> 0 | P103: =G103-L103 -> 0 | S103: =SUM(Q103:R103) -> 0 | T103: =P103-M103+S103 -> 0 | U103: =N103-T103 -> 750000 | V103: =U103-Z103-W103-Y103 -> 225000 | Z103: 525000 | AA103: תכנון צומת השרון בר אילן עקב ריבוי תאונות דרכים עפ"י נתוני הרלב"ד. מימון מ. התחבורה. | AB103: 742000
...

Sheet החברה לפיתוח 2019
C3: החברה לפיתוח הרצליה
B5: ü | C5: סך התקציב הנדרש בשנת 2019 ע"י החברה לפיתוח הרצליה מסתכם ב - | F5: ='תקציב החברה לפיתוח 2019'!U117 -> 309252680
B7: ü | C7: מספר הפרויקטים המטופל ע"י החברה לפיתוח בע"מ : | F7: ='תקציב החברה לפיתוח 2019'!A117 -> 105
B9: ü | C9: מקורות מימון לפרויקטים :
D11: מקורות מימון | E11: סכום | F11: אחוז
D12: קרן עבודות פיתוח | E12: ='תקציב החברה לפיתוח 2019'!V117 -> 193844870 | F12: =E12/$E$16 -> 0.62681711
D13: קרן עודפי תקציב רגיל | E13: ='תקציב החברה לפיתוח 2019'!W117 -> 2500000 | F13: =E13/$E$16 -> 0.0080840043
D14: קרן ייעודית גליל ים | E14: ='תקציב החברה לפיתוח 2019'!Y117 -> 34722657 | F14: =E14/$E$16 -> 0.11227924
D15: אחרים | E15: ='תקציב החברה לפיתוח 2019'!Z117 -> 78185153 | F15: =E15/$E$16 -> 0.25281965
D16: סה"כ | E16: =SUM(E12:E15) -> 309252680 | F16: =SUM(F12:F15) -> 1
C19: ü | D19: עדכון שם תב"ר : מסומן (*)
D21: תב"ר 2073 : אולם ספורט ויצמן תכנון - אולם ספורט ויצמן תכנון וביצוע.
D23: תב"ר 1827 : פארק גליל ים שלב א' - פארק גליל ים.
D25: תב"ר 1909 : כיתות גן 5 שטח 408 גליל ים ב' - שטח 408 גליל ים ב' -גנ"י, בי"ס ,ספריה.
D27: תב"ר 1912 : קרית חינוך מגרש 406 - קרית חינוך מגרש 406 ספריה, מרכז קהילתי.
C32: ü | D32: תאור הפרויקטים מובא בעמודים 50-60

Sheet החב. לפיתוח 2019
C2: החברה לפיתוח הרצליה בע"מ
B5: ü | C5: פרויקטים עיקריים בשנת 2019 :
D7: פרויקט | E7: סכום
D8: מתחם גליל ים | E8: ='תקציב החברה לפיתוח 2019'!U115 -> 104360270
D9: פרויקטים שונים | E9: ='תקציב החברה לפיתוח 2019'!U93 -> 204892410
D10: מתוכם העיקריים :
D11: מתנ"ס נווה ישראל | E11: ='תקציב החברה לפיתוח 2019'!U43 -> 28500000
D12: פיתוח מתחם אלוני ים הר' 2030 | E12: ='תקציב החברה לפיתוח 2019'!U24 -> 26000000
D13: הקמת אולם ספורט - הנגיד והנדיב | E13: 18000000
D14: מערכת כבישים ותשתיות אזתע"ש מערבי | E14: ='תקציב החברה לפיתוח 2019'!U7 -> 14500000
D15: מתחם קמפוס יד גיורא | E15: ='תקציב החברה לפיתוח 2019'!U62 -> 14500000
D16: אולם ספורט חטיבת זאב | E16: ='תקציב החברה לפיתוח 2019'!U42 -> 14000000
D17: גן רשל, גנ"י בי"ס אילנות | E17: 8050000
D18: קירוי והצללה מגרשי ספורט עירוניים | E18: ='תקציב החברה לפיתוח 2019'!U53 -> 7600000
D19: פיתוח מתחם הר' 1903 | E19: ='תקציב החברה לפיתוח 2019'!U26 -> 7500000
D20: פיתוח רחוב צ.ה.ל. | E20: ='תקציב החברה לפיתוח 2019'!U40 -> 6800000
D21: מתחם הנוריות | E21: ='תקציב החברה לפיתוח 2019'!U20 -> 6250000
D22: סינמטק בבנין העיריה החדש | E22: 6000000
D24: פרויקט : גליל ים
D35: פרויקט בביצוע

Sheet תקציב החברה לפיתוח 2019
A3: החברה לפיתוח הרצליה
A5: מס' סידורי | B5: מס' תב"ר | C5: שם תב"ר | D5: אומדן כולל לפרוקט | E5: אומדן מאושר במועצה | F5: תוספת לאומדן לאישור המועצה | G5: תקציב מאושר | H5: ביצוע בפועל | I5: שריון מערך חוזים | J5: שריון מערך רכש | K5: סה"כ שריון התחייבויות | L5: סה"כ ביצוע | M5: יתרה לביצוע צפוי עד 31.12.2018 | N5: אומדן לביצוע שנת 2019 | O5: אומדן לביצוע שנת 2020 ואילך | P5: יתרת תקציב | Q5: תקציב נוסף נדרש במסגרת תוכנית עבודה 2018 | R5: תקציב נוסף נדרש מעבר לתוכנית עבודה 2018 | S5: סה"כ תקציב נוסף נדרש 2018 | T5: יתרת תקציב פנויה 31.12.2018 | U5: תקציב נדרש 2019 | V5: קרן עבודות פיתוח | W5: קרן עודפי תקציב רגיל | X5: קרן רכוש | Y5: קרן ייעודית | Z5: אחרים | AA5: תאור הפרויקט | AB5: פרק תב"ר
A7: =A6+1 -> 1 | B7: 382 | C7: מערכת כבישים באזור תעשייה מערבי | D7: =49581930+21799400+1500000 -> 72881330 | E7: 49581930 | F7: =D7-E7 -> 23299400 | G7: =39881330+1500000 -> 41381330 | H7: 39212248 | J7: 2169071.1 | K7: =SUM(I7:J7) -> 2169071.1 | L7: =K7+H7 -> 41381319 | M7: =P7+S7 -> 5500010.7 | N7: =24500000-10000000 -> 14500000 | O7: =D7-L7-M7-N7 -> 11500000 | P7: =G7-L7 -> 10.74 | Q7: =1500000+4000000 -> 5500000 | S7: =SUM(Q7:R7) -> 5500000 | T7: =P7-M7+S7 -> 0 | U7: =N7-T7 -> 14500000 | V7: =U7-Y7-X7-Z7-W7 -> 14500000 | AA7: השלמת רח' משכית, פיתוח החושלים, השלמת שצ"פים . | AB7: 742000
A8: =A7+1 -> 2 | B8: 532 | C8: פיתוח מתחם המסילה ודב הוז | D8: 80090000 | E8: 80090000 | F8: =D8-E8 -> 0 | G8: 75090000 | H8: 67445015 | J8: 3423266.6 | K8: =SUM(I8:J8) -> 3423266.6 | L8: =K8+H8 -> 70868282 | M8: =P8+S8 -> 9221718 | O8: =D8-L8-M8-N8 -> 0 | P8: =G8-L8 -> 4221718 | Q8: 5000000 | S8: =SUM(Q8:R8) -> 5000000 | T8: =P8-M8+S8 -> 0 | U8: =N8-T8 -> 0 | V8: =U8-Y8-X8-Z8-W8 -> 0 | AA8: עבודות בביצוע.כולל גינת כלבים. | AB8: 742000
A9: =A8+1 -> 3 | B9: 576 | C9: בית העלמין החדש | D9: 55113000 | E9: 55113000 | F9: =D9-E9 -> 0 | G9: 43913000 | H9: 42939527 | J9: 476421.91 | K9: =SUM(I9:J9) -> 476421.91 | L9: =K9+H9 -> 43415949 | M9: =P9+S9 -> 10497051 | N9: 1200000 | O9: =D9-L9-M9-N9 -> 0 | P9: =G9-L9 -> 497051.49 | Q9: 10000000 | S9: =SUM(Q9:R9) -> 10000000 | T9: =P9-M9+S9 -> 0 | U9: =N9-T9 -> 1200000 | V9: =U9-Y9-X9-Z9-W9 -> 600000 | Z9: 600000 | AA9: עבודות הרחבת והכשרת חלקות נוספות בבית העלמין החדש. | AB9: 760000
A10: =A9+1 -> 4 | B10: 634 | C10: מתחם המשתלה תב"ע 1874 | D10: 57250000 | E10: 57250000 | F10: =D10-E10 -> 0 | G10: 57250000 | H10: 55114070 | J10: 1188923 | K10: =SUM(I10:J10) -> 1188923 | L10: =K10+H10 -> 56302993 | M10: =P10+S10-900000 -> 47007.11 | O10: =D10-L10-M10-N10 -> 900000 | P10: =G10-L10 -> 947007.11 | S10: =SUM(Q10:R10) -> 0 | T10: =P10-M10+S10 -> 900000 | U10: =N10-T10 -> -900000 | V10: =U10-Y10-X10-Z10-W10 -> -900000 | AA10: השלמת עבודות במתחם. | AB10: 732000
A11: =A10+1 -> 5 | B11: 1067 | C11: עבודות פיתוח קטנות | D11: 3725000 | E11: 3725000 | F11: =D11-E11 -> 0 | G11: 3575000 | H11: 2510465.4 | J11: 108849.76 | K11: =SUM(I11:J11) -> 108849.76 | L11: =K11+H11 -> 2619315.2 | M11: =P11+S11 -> 1105684.8 | O11: =D11-L11-M11-N11 -> 0 | P11: =G11-L11 -> 955684.8 | Q11: 150000 | S11: =SUM(Q11:R11) -> 150000 | T11: =P11-M11+S11 -> 0 | U11: =N11-T11 -> 0 | V11: =U11-Y11-X11-Z11-W11 -> 0 | AA11: סל עבודות קטנות עפ"י דרישה. | AB11: 742000
