Workbook

Sheet תקציב 2020

Sheet תוכן ענינים
B2: תוכן | H2: עמודים
B4: מבוא | H4: 3
B5: התקציב הבלתי רגיל לשנת 2019 – ביצוע | H5: 4
B6: הצעת התקציב הבלתי רגיל לשנת 2020
B7: ריכוזים ודברי הסבר | H7: 5-16
B8: מינהל הנדסה | H8: 17-30
B9: החברה לפיתוח הרצליה | H9: 31-51
B10: אגף ת.ב.ל | H10: 52-63
B11: אגף בטחון פיקוח וסדר ציבורי | H11: 64-65
B12: אגף חינוך | H12: 66-68
B13: אגף ת.נ.ו.ס | H13: 69-71
B14: אגף ש.א.י.פ.ה | H14: 72-81
B15: רשות החופים | H15: 82-84
B16: החברה לפיתוח התיירות הרצליה | H16: 85-86
B17: אגף תקשוב ומערכות מידע | H17: 87-90
B18: אגף נכסים וביטוח | H18: 91-93
... B21: פרויקטים בביצוע החברה לפיתוח | H21: 131-132

Sheet מבוא
A4: 1. | B4: 1. | C4: מבוא
A6: 1.1 | C6: רקע :
C7: התקציב הבלתי רגיל (תב"ר) מהווה מסגרת תקציבית שנועדה בעיקר לביצוע פרויקטים של עבודות
C8: פיתוח ותשתיות, שיפוץ ובניה , בהיקף תקציבי נכבד המבוצעות במשך תקופה ארוכה ואינם מוגבלים
C9: לתקופה של שנת תקציב.
C11: מקורות המימון לתב"ר הינם :
B12: ü | C12: מענקים ממקורות שלטוניים ובעיקר ממשרדי ממשלה.
B13: ü | C13: מענקים ממוסדות שאינם שלטוניים כגון : מפעל הפייס ,המועצה להסדר הימורים, השתתפויות ועוד.
B14: ü | C14: מקורות עצמיים של הרשות הכוללים היטלי השבחה , היטלי פיתוח , העברות מתקציב רגיל,
C15: תרומות, מימוש נכסים.
B16: ü | C16: הלוואות לזמן ארוך.
A18: 1.2 | C18: אישור התקציב הבלתי רגיל :
C19: על פי הוראות משרד הפנים ,לכל פרויקט יש לקבוע את היקף ההשקעה ומקורות המימון.
C20: ב – 10.2.2014 אושר במליאת הכנסת חוק רשויות איתנות על פיו ניתנו לרשויות איתנות המתנהלות
C21: בהתאם לקריטריונים שנקבעו , הקלות מבחינת האסדרה של משרד הפנים , בין היתר בתחום התקציב.
C22: ב – 16.3.2014 הכריז משרד הפנים על עיריית הרצליה כעל עירייה איתנה.
A24: 1.3 | C24: חברי וועדת הכספים/מועצת העיר מתבקשים לאשר בזאת : | E24: באלפי ₪
B27: ü | C27: תקציב בלתי רגיל לשנת 2020 בהשקעה של | E27: ='ריכוז אגפים'!S19/1000 -> 502826.13
B29: ü | C29: לביצוע פרויקטים בשנת 2020 בסכום של | E29: ='ריכוז אגפים'!L19/1000 -> 566256.2
B31: ü | C31: מתוך אומדן כולל של הפרויקטים בסכום של | E31: ='ריכוז אגפים'!B19/1000 -> 4639177.7
B34: ü | C34: פרויקטים שהיקפם עולה על 14,785 אלפי ₪ בביצוע החברה לפיתוח הרצליה.

Sheet תקציב 2019
A2: 2. | C2: התקציב הבלתי רגיל לשנת 2019
C4: הצעת התקציב הבלתי רגיל לשנת 2019 אושרה במועצת העיר בחודש דצמבר 2018 .
C5: הצעת התקציב הבלתי רגיל לשנת 2019 הסתכמה בסכום של 489,408 אלפי ₪ .
C7: מקורות המימון באלפי ₪ היו כדלקמן -
B9: ü | C9: קרן עבודות פיתוח | D9: 290040
B10: ü | C10: קרן עודפי תקציב רגיל | D10: 44000
B11: ü | C11: קרן מכירת רכוש
B12: ü | C12: קרן ייעודית מתחם גליל ים | D12: 34723
B13: ü | C13: משרדי ממשלה ואחרים | D13: 120645
C14: סה"כ | D14: =SUM(D9:D13) -> 489408
C16: להלן נתוני ביצוע באלפי ₪ של התקציב הבלתי רגיל לשנת 2019 :
C18: סה"כ תקציב | D18: קרן עבודות פיתוח | E18: קרן עודפי תקציב רגיל | F18: קרן רכוש | G18: קרן ייעודית מתחם גליל ים | H18: משרדי ממשלה ואחרים | I18: סה"כ
C19: מסגרת תוכנית פיתוח | D19: =D9 -> 290040 | E19: =D10 -> 44000 | F19: =D11 -> 0 | G19: =D12 -> 34723 | H19: =D13 -> 120645 | I19: =SUM(D19:H19) -> 489408
C20: ביצוע כולל צפי עד 31.12.2019 | D20: ='ריכוז אגפים 2019'!AM$19/1000 -> 220080.89 | E20: ='ריכוז אגפים 2019'!AN$19/1000 -> 39493 | F20: ='ריכוז אגפים 2019'!AO$19/1000 -> 0 | G20: ='ריכוז אגפים 2019'!AP$19/1000 -> 21640.345 | H20: ='ריכוז אגפים 2019'!AQ$19/1000 -> 53850.543 | I20: =SUM(D20:H20) -> 335064.77
C21: אחוז ביצוע | D21: =D20/D19*100 -> 75.879495 | E21: =E20/E19*100 -> 89.756818 | G21: =G20/G19*100 -> 62.322798 | H21: =H20/H19*100 -> 44.635536 | I21: =I20/I19*100 -> 68.463281
C22: תקציב מעבר למסגרת תוכנית הפיתוח כולל צפי עד 31.12.2019 | D22: ='ריכוז תקציב מעבר לתוכנית 2019'!AC92/1000 -> 13693.679 | E22: ='ריכוז תקציב מעבר לתוכנית 2019'!AD92/1000 -> 7945.419 | H22: ='ריכוז תקציב מעבר לתוכנית 2019'!AE92/1000 -> 6687.48 | I22: =SUM(D22:H22) -> 28326.578
C23: סה"כ | D23: =D20+D22 -> 233774.57 | E23: =E20+E22 -> 47438.419 | F23: =F20+F22 -> 0 | G23: =G20+G22 -> 21640.345 | H23: =H20+H22 -> 60538.023 | I23: =SUM(D23:H23) -> 363391.35
C24: אחוז ביצוע | D24: =D23/D19*100 -> 80.600802 | E24: =E23/E19*100 -> 107.81459 | F24: =F23/F19*100 -> #DIV/0! | G24: =G23/G19*100 -> 62.322798 | H24: =H23/H19*100 -> 50.178642 | I24: =I23/I19*100 -> 74.251208
C26: דו"ח מפורט מובא בעמודים 96-130

Sheet תקציב 2020 
A4: 3. | C4: הצעת התקציב הבלתי רגיל לשנת 2020
G5: באלפי ₪
A7: 3.1 | C7: הצעת התקציב הבלתי רגיל מסתכמת בהשקעה של | G7: =מבוא!E27 -> 502826.13
C9: לביצוע פרויקטים בשנת 2020 בסכום של | G9: =מבוא!E29 -> 566256.2
C11: מתוך אומדן כולל של הפרויקטים בסכום של | G11: =מבוא!E31 -> 4639177.7
A15: 3.2 | C15: הפרויקטים הבולטים לשנת 2020 הינם :
B16: ü | C16: עבודות פיתוח תשתיות, פארק, מוסדות חינוך ומבני ציבור במתחם גליל ים.
B17: ü | C17: פיתוח מתחם "מרינה לי".
B18: ü | C18: פיתוח מתחם זרובבל.
B19: ü | C19: תכנון חניון "מרינה לי".
B20: ü | C20: פיתוח מתחם המכללות הר' 1920/1 .
B21: ü | C21: המשך תכנון וביצוע מערך שבילי אופניים ברחבי העיר.
B22: ü | C22: פרויקטים של חסכון והתייעלות אנרגטית במוסדות חינוך ובמבני ציבור.
B23: ü | C23: פרויקט "עיר חכמה" - התקנת מערכות שליטה ובקרה,מצלמות ופריסת תשתיות ברחבי העיר.
B24: ü | C24: פיתוח והקמת מתנ"סים.
B25: ü | C25: פיתוח והקמת אולמות ספורט.
B26: ü | C26: המשך ההשקעות בבניה חדשה כולל שדרוגים של מוסדות חינוך ברחבי העיר.

Sheet תקציב 2020 פרקים
A5: 3.3 | C5: חלוקת העלויות בתקציב באלפי ₪ על פי פרקים עיקריים מפורטת להלן –
C7: שם פרק | E7: מס' פרק | F7: שנת 2020 | G7: שנת 2019
C8: חינוך | E8: 81 | F8: ='ריכוז פרקים'!S11/1000 -> 213194.97 | G8: 83574.3 | I8: =F8/$F$21 -> 0.42399342
C9: נכסים ציבוריים | E9: 74 | F9: ='ריכוז פרקים'!S8/1000 -> 153631.32 | G9: 244597.3 | I9: =F9/$F$21 -> 0.30553567
C10: תרבות וספורט | E10: 82 | F10: ='ריכוז פרקים'!S12/1000 -> 53297.229 | G10: 80246 | I10: =F10/$F$21 -> 0.10599535
C11: תרבות הדיור | E11: 764 | F11: ='ריכוז פרקים'!S17/1000 -> 17500 | G11: 16350 | I11: =F11/$F$21 -> 0.034803283
C12: שרותים עירוניים שונים | E12: 76 | F12: ='ריכוז פרקים'!S10/1000 -> 16600 | G12: 13960 | I12: =F12/$F$21 -> 0.0330134
C13: תכנון בנין עיר | E13: 73 | F13: ='ריכוז פרקים'!S7/1000 -> 16243.338 | G13: 19720 | I13: =F13/$F$21 -> 0.032304085
C14: נכסים | E14: 93 | F14: ='ריכוז פרקים'!S18/1000 -> 12524.3 | G14: 12154 | I14: =F14/$F$21 -> 0.024907815
C15: איכות הסביבה | E15: 87 | F15: ='ריכוז פרקים'!S15/1000 -> 10300 | G15: 3130 | I15: =F15/$F$21 -> 0.020484218
C16: טיפול במרחב ציבורי | E16: 848 | F16: ='ריכוז פרקים'!S16/1000 -> 3600 | G16: 6500 | I16: =F16/$F$21 -> 0.0071595325
C17: רווחה | E17: 84 | F17: ='ריכוז פרקים'!S13/1000 -> 2550 | G17: 50 | I17: =F17/$F$21 -> 0.0050713355
C18: חופים | E18: 747 | F18: ='ריכוז פרקים'!S9/1000 -> 2234.971 | G18: 3416 | I18: =F18/$F$21 -> 0.0044448188
C19: מבני דת ציבוריים | E19: 85 | F19: ='ריכוז פרקים'!S14/1000 -> 1050 | G19: 5425 | I19: =F19/$F$21 -> 0.002088197
C20: מינהל כללי | E20: 61 | F20: ='ריכוז פרקים'!S6/1000 -> 100 | G20: 285 | I20: =F20/$F$21 -> 0.0001988759
C21: סה"כ | F21: =SUM(F8:F20) -> 502826.13 | G21: =SUM(G8:G20) -> 489407.6 | I21: =SUM(I8:I20) -> 1

Sheet תקציב 2020  אגפים 
A5: 3.4 | C5: חלוקת ההשקעה בתקציב באלפי ₪ על פי אגפים/יחידות מפורטת להלן -
C7: שם פרק | F7: שנת 2020 | G7: שנת 2019
C8: מינהל הנדסה | F8: ='ריכוז אגפים'!$S7/1000 -> 32558.338 | G8: 42417 | J8: =F8/$F$22 -> 0.064750689
C9: החברה לפיתוח הרצליה | F9: ='ריכוז אגפים'!$S8/1000 -> 337850.03 | G9: 309253 | J9: =F9/$F$22 -> 0.6719023
C10: אגף ת.ב.ל | F10: ='ריכוז אגפים'!$S9/1000 -> 54061.3 | G10: 49451 | J10: =F10/$F$22 -> 0.1075149
C11: אגף בטחון,פיקוח וסדר ציבורי | F11: ='ריכוז אגפים'!$S10/1000 -> 500 | G11: 1660 | J11: =F11/$F$22 -> 0.00099437952
C12: אגף חינוך | F12: ='ריכוז אגפים'!$S11/1000 -> 4995 | G12: 8412 | J12: =F12/$F$22 -> 0.0099338514
C13: אגף ת.נ.ו.ס | F13: ='ריכוז אגפים'!$S12/1000 -> 3940.229 | G13: 3120 | J13: =F13/$F$22 -> 0.007836166
C14: אגף ש.א.י.פ.ה | F14: ='ריכוז אגפים'!$S13/1000 -> 33192 | G14: 36405 | J14: =F14/$F$22 -> 0.06601089
C15: רשות החופים | F15: ='ריכוז אגפים'!$S14/1000 -> 1934.971 | G15: 1866 | J15: =F15/$F$22 -> 0.0038481911
C16: איכות הסביבה | G16: =3211.058-3211.058 -> 0 | J16: =F16/$F$22 -> 0
C17: החברה לפיתוח התיירות | F17: ='ריכוז אגפים'!$S15/1000 -> 2015 | G17: 7930 | J17: =F17/$F$22 -> 0.0040073495
C18: אגף תקשוב ומערכות מידע | F18: ='ריכוז אגפים'!$S16/1000 -> 13930 | G18: 12925 | J18: =F18/$F$22 -> 0.027703413
C19: אגף נכסים וביטוח | F19: ='ריכוז אגפים'!$S17/1000 -> 8924.3 | G19: 7949 | J19: =F19/$F$22 -> 0.017748282
C20: שיפוץ חזיתות/עמידר | G20: =13750-13750 -> 0 | J20: =F20/$F$22 -> 0
C21: כללי | F21: ='ריכוז אגפים'!$S18/1000 -> 8924.955 | G21: 8020 | J21: =F21/$F$22 -> 0.017749585
C22: סה"כ | F22: =SUM(F8:F21) -> 502826.13 | G22: =SUM(G8:G21) -> 489408 | J22: =SUM(J8:J21) -> 1

Sheet תקציב 2020  מקורות 
A5: 3.5 | C5: אומדן מקורות המימון באלפי ₪ מפורט להלן -
C7: מקור | F7: שנת 2020 | G7: שנת 2019
C8: קרן לעבודות פיתוח | F8: ='תקציב 2020 קרנות הרשות'!C21 -> 206270 | G8: 290040 | J8: =F8/$F$13 -> 0.41022133
C9: קרן עודפי תקציב רגיל | F9: ='תקציב 2020 קרנות הרשות'!D21 -> 59000 | G9: 44000 | J9: =F9/$F$13 -> 0.11733678
C10: קרן רכוש | J10: =F10/$F$13 -> 0
C11: קרן יעודית מתחם גליל ים | F11: =59019+48388-1973.643-5000 -> 100433.36 | G11: 34723 | J11: =F11/$F$13 -> 0.19973775
C12: סה"כ משרדי ממשלה ואחרים | F12: ='תקציב 2020 מקורות אחרים'!F14 -> 137122.77 | G12: 120645 | J12: =F12/$F$13 -> 0.27270415
C13: סה"כ | F13: =SUM(F8:F12) -> 502826.13 | G13: =SUM(G8:G12) -> 489408 | J13: =SUM(J8:J12) -> 1

Sheet תקציב 2020 קרנות הרשות
A3: 3.6 | B3: קרנות הרשות - צפי תנועה באלפי ₪ | J3: =56-41 -> 15
C6: שנת 2020 | F6: שנת 2019
B7: תאור | C7: קרן עבודות פיתוח | D7: קרן עודפי תקציב רגיל | E7: סה"כ | F7: קרן עבודות פיתוח | G7: קרן עודפי תקציב רגיל | H7: סה"כ
B8: מקורות
B9: יתרה צפויה 1.1 | C9: =56000-16000+11700 -> 51700 | D9: =4700-700 -> 4000 | E9: =SUM(C9:D9) -> 55700 | F9: 96000 | G9: 4000 | H9: =SUM(F9:G9) -> 100000
B10: היטלי השבחה ופיתוח שנה שוטפת | C10: =140000+20000+10000 -> 170000 | D10: . | E10: =SUM(C10:D10) -> 170000 | F10: 210000 | H10: =SUM(F10:G10) -> 210000
E11: =SUM(C11:D11) -> 0 | H11: =SUM(F11:G11) -> 0
B12: העברה מתקציב רגיל 2018 | G12: 25000 | H12: =SUM(F12:G12) -> 25000
B13: העברה מתקציב רגיל 2019 | D13: =25000+5000 -> 30000 | E13: =SUM(C13:D13) -> 30000 | H13: =SUM(F13:G13) -> 0 | K13: =140000+31553 -> 171553
B14: העברה מעודפי תקציב רגיל שנים קודמות | D14: =15000+10000 -> 25000 | E14: =SUM(C14:D14) -> 25000 | G14: 15000 | H14: =SUM(F14:G14) -> 15000
E15: =SUM(C15:D15) -> 0 | H15: =SUM(F15:G15) -> 0
B16: העמקת גביה מהיטלי פיתוח שנה שוטפת | C16: 10000 | E16: =SUM(C16:D16) -> 10000 | F16: 10000 | H16: =SUM(F16:G16) -> 10000
B17: סה"כ מקורות | C17: =SUM(C9:C16) -> 231700 | D17: =SUM(D9:D16) -> 59000 | E17: =SUM(C17:D17) -> 290700 | F17: =SUM(F9:F16) -> 316000 | G17: =SUM(G9:G16) -> 44000 | H17: =SUM(H9:H16) -> 360000
B18: שימושים | H18: =SUM(F18:G18) -> 0
B19: השתתפות בפרעון מילוות מים,ביוב ופיתוח | C19: =5300+2350+3250 -> 10900 | E19: =SUM(C19:D19) -> 10900 | F19: 14700 | H19: =SUM(F19:G19) -> 14700 | K19: =C20 -> 14530
B20: השתתפות בשכ"ע הנדסה לפיתוח ותכנון | C20: =9030+3500+2000 -> 14530 | E20: =SUM(C20:D20) -> 14530 | F20: 11260 | H20: =SUM(F20:G20) -> 11260 | K20: עודכן ב - 920 אלפי ₪ עדכון איילת 22.9.16
B21: מימון תקציב בלתי רגיל | C21: =C17-C19-C20 -> 206270 | D21: =D17-D19-D20 -> 59000 | E21: =SUM(C21:D21) -> 265270 | F21: =F17-F19-F20 -> 290040 | G21: =G17-G19-G20 -> 44000 | H21: =SUM(F21:G21) -> 334040
B22: סה"כ שימושים | C22: =C17 -> 231700 | D22: =D17 -> 59000 | E22: =SUM(C22:D22) -> 290700 | F22: =SUM(F19:F21) -> 316000 | G22: =SUM(G19:G21) -> 44000 | H22: =SUM(H19:H21) -> 360000
K23: 31.10.16: | L23: עדכון של איילת: 644 אלפי ₪ משיכה נוספת.

Sheet תקציב 2020 מקורות אחרים
A4: 3.7 | C4: סעיף מימון משרדי ממשלה ואחרים מפורט בטבלה להלן – באלפי ₪ (*)
C6: תאור | F6: שנת 2020 | G6: שנת 2019
C7: משרד התחבורה | F7: ='פרוט מקורות אחרים'!M16/1000 -> 3067.511 | G7: 5968
C8: משרד החינוך | F8: ='פרוט מקורות אחרים'!D16/1000 -> 40189.3 | G8: 9299
C9: משרד הבינוי והשיכון
C10: רשות מינהל מקרקעי ישראל | F10: ='פרוט מקורות אחרים'!B16/1000 -> 47874.676 | G10: 66237.5
C11: משרדי ממשלה ואחרים | F11: =('פרוט מקורות אחרים'!C16+'פרוט מקורות אחרים'!E16+'פרוט מקורות אחרים'!F16+'פרוט מקורות אחרים'!I16+'פרוט מקורות אחרים'!J16+'פרוט מקורות אחרים'!K16+'פרוט מקורות אחרים'!L16)/1000+'פרוט מקורות אחרים'!G16/1000 -> 25911.282 | G11: 19790.5
C12: מפעל הפייס | F12: ='פרוט מקורות אחרים'!H16/1000 -> 2580 | G12: 3000
C13: הכנסות בעד עבודות | F13: ='פרוט מקורות אחרים'!N16/1000 -> 17500 | G13: 16350
C14: סה"כ | F14: =SUM(F7:F13) -> 137122.77 | G14: =SUM(G7:G13) -> 120645
B16: (*) | C16: תקצוב הפרויקטים נשוא מימון משרדי ממשלה ואחרים כמפורט לעיל מותנה בקבלת מסמך
C17: התחייבות כספית חתום על ידי מורשי חתימה של הגורם המממן.
A19: 4. | B19: תב"רים לסגירה בשנת 2016
A21: 4.1 | B21: כללי :
B22: הנחיות משרד הפנים קובעות :
B23: תב"ר שהגיע לסיומו או לא הוחל בביצועו או לא הוצאו בגינו התחייבויות כספיות , עליו להיגרע מקובץ
B24: התב"רים במערכת הכספית של הרשות המקומית.
B25: עודף סופי בחשבון התב"ר יועבר לקרנות הרשות . יש לאשר את סגירת התב"רים במועצת העיר.
A27: 4.2 | B27: במהלך שנת 2016 אושרה במועצת העיר סגירת פרויקטים שהסתיימו/לא נוצלו לשנת 2016 והחזרת
B29: עודפים לקרנות הרשות בסכום של
C30: ראה פרוט נוסף בעמוד 15
A32: 4. | B32: פרויקטים בביצוע החברה לפיתוח
B34: בהתאם לתוספת להסכם מסגרת לביצוע פרויקטים הנדסיים בין העירייה לחברה לפיתוח הרצליה
B35: מיום 10.4.2005, יש לאשר במועצת העיר את ביצוע הפרויקטים שהיקפם עולה על ערך הסף.
B36: ערך הסף נכון להיום עומד על יותר מ - 14,785 אלפי ₪.
B38: פרוט הפרויקטים מובא בעמוד 131-132

Sheet תרשים אגפים

Sheet ריכוז אגפים
A2: ריכוז לפי אגפים/יחידות
B4: מרכיבי העלות | R4: מקורות מימון לפרויקט | Y4: מספר פרויקטים
A5: אגף/יחידה | B5: אומדן כולל לפרויקט | C5: אומדן מאושר במועצה | D5: תוספת לאומדן לאישור מועצה | E5: תקציב מאושר | F5: ביצוע בפועל | G5: שריון מערך הרכש | H5: שריון מערך חוזים | I5: סה"כ שריון התחייבויות | J5: סה"כ ביצוע | K5: יתרה לביצוע צפוי עד 31.12.2019 | L5: אומדן לביצוע שנת 2020 | M5: אומדן לביצוע שנת 2021 ואילך | N5: יתרת תקציב | O5: תקציב נוסף נדרש במסגרת תוכנית עבודה 2019 | P5: תקציב נוסף נדרש מעבר לתוכנית עבודה2019 | Q5: סה"כ תקציב נוסף נדרש 2019 | R5: יתרת תקציב פנויה 31.12.2019 | S5: תקציב נדרש 2020 | T5: קרן עבודות פיתוח | U5: קרן עודפי תקציב רגיל | V5: קרן רכוש | W5: קרן ייעודית | X5: אחרים
A7: מינהל הנדסה | B7: ='תקציב הנדסה 2020 '!D$87 -> 622652129 | C7: ='תקציב הנדסה 2020 '!E$87 -> 607401879 | D7: ='תקציב הנדסה 2020 '!F$87 -> 15250250 | E7: ='תקציב הנדסה 2020 '!G$87 -> 282994229 | F7: ='תקציב הנדסה 2020 '!H$87 -> 2.3183221e+08 | G7: ='תקציב הנדסה 2020 '!I$87 -> 10898105 | H7: ='תקציב הנדסה 2020 '!J$87 -> 11954790 | I7: ='תקציב הנדסה 2020 '!K$87 -> 22852896 | ... X7: ='תקציב הנדסה 2020 '!Z$87 -> 1254444 | Y7: ='תקציב הנדסה 2020 '!A87 -> 81
A8: החברה לפיתוח הרצליה | B8: ='תקציב החברה לפיתוח 2020'!D$126 -> 2883587813 | C8: ='תקציב החברה לפיתוח 2020'!E$126 -> 2584196125 | D8: ='תקציב החברה לפיתוח 2020'!F$126 -> 299391688 | E8: ='תקציב החברה לפיתוח 2020'!G$126 -> 1117399039 | F8: ='תקציב החברה לפיתוח 2020'!H$126 -> 8.831644e+08 | G8: ='תקציב החברה לפיתוח 2020'!I$126 -> 2075146.8 | H8: ='תקציב החברה לפיתוח 2020'!J$126 -> 53985716 | I8: ='תקציב החברה לפיתוח 2020'!K$126 -> 56060862 | ... X8: ='תקציב החברה לפיתוח 2020'!Z$126 -> 101425796 | Y8: ='תקציב החברה לפיתוח 2020'!A126 -> 115
A9: אגף ת.ב.ל | B9: ='תקציב אגף ת.ב.ל 2020 '!D$65 -> 430333105 | C9: ='תקציב אגף ת.ב.ל 2020 '!E$65 -> 391554105 | D9: ='תקציב אגף ת.ב.ל 2020 '!F$65 -> 38779000 | E9: ='תקציב אגף ת.ב.ל 2020 '!G$65 -> 271565901 | F9: ='תקציב אגף ת.ב.ל 2020 '!H$65 -> 1.8965129e+08 | G9: ='תקציב אגף ת.ב.ל 2020 '!I$65 -> 10892095 | H9: ='תקציב אגף ת.ב.ל 2020 '!J$65 -> 33107561 | I9: ='תקציב אגף ת.ב.ל 2020 '!K$65 -> 43999656 | ... X9: ='תקציב אגף ת.ב.ל 2020 '!Z$65 -> 11211300 | Y9: ='תקציב אגף ת.ב.ל 2020 '!A65 -> 59
A10: אגף בטחון פיקוח וסדר ציבורי | B10: ='תקציב אגף בטחון פיקוח סד"צ 2020'!D$9 -> 4720000 | C10: ='תקציב אגף בטחון פיקוח סד"צ 2020'!E$9 -> 4100000 | D10: ='תקציב אגף בטחון פיקוח סד"צ 2020'!F$9 -> 620000 | E10: ='תקציב אגף בטחון פיקוח סד"צ 2020'!G$9 -> 2700000 | F10: ='תקציב אגף בטחון פיקוח סד"צ 2020'!H$9 -> 2051244.5 | G10: ='תקציב אגף בטחון פיקוח סד"צ 2020'!I$9 -> 0 | H10: ='תקציב אגף בטחון פיקוח סד"צ 2020'!J$9 -> 55906.46 | I10: ='תקציב אגף בטחון פיקוח סד"צ 2020'!K$9 -> 55906.46 | ... X10: ='תקציב אגף בטחון פיקוח סד"צ 2020'!Z$9 -> 0 | Y10: ='תקציב אגף בטחון פיקוח סד"צ 2020'!A9 -> 3
A11: אגף חינוך | B11: ='תקציב אגף חינוך 2020'!D$28 -> 41534363 | C11: ='תקציב אגף חינוך 2020'!E$28 -> 17115363 | D11: ='תקציב אגף חינוך 2020'!F$28 -> 24419000 | E11: ='תקציב אגף חינוך 2020'!G$28 -> 15055363 | F11: ='תקציב אגף חינוך 2020'!H$28 -> 5399054.3 | G11: ='תקציב אגף חינוך 2020'!I$28 -> 1200000 | H11: ='תקציב אגף חינוך 2020'!J$28 -> 990427.74 | I11: ='תקציב אגף חינוך 2020'!K$28 -> 2190427.7 | ... X11: ='תקציב אגף חינוך 2020'!Z$28 -> 78000 | Y11: ='תקציב אגף חינוך 2020'!A28 -> 22
A12: אגף ת.נ.ו.ס | B12: ='תקציב אגף תנוס 2020 '!D$17 -> 21059594 | C12: ='תקציב אגף תנוס 2020 '!E$17 -> 14989365 | D12: ='תקציב אגף תנוס 2020 '!F$17 -> 6070229 | E12: ='תקציב אגף תנוס 2020 '!G$17 -> 13819365 | F12: ='תקציב אגף תנוס 2020 '!H$17 -> 8280194 | G12: ='תקציב אגף תנוס 2020 '!I$17 -> 0 | H12: ='תקציב אגף תנוס 2020 '!J$17 -> 2133646 | I12: ='תקציב אגף תנוס 2020 '!K$17 -> 2133646 | ... X12: ='תקציב אגף תנוס 2020 '!Z$17 -> 505229 | Y12: ='תקציב אגף תנוס 2020 '!A17 -> 11
A13: אגף ש.א.י.פ.ה | B13: ='תקציב אגף שאיפה 2020 '!D$48 -> 243509379 | C13: ='תקציב אגף שאיפה 2020 '!E$48 -> 223205059 | D13: ='תקציב אגף שאיפה 2020 '!F$48 -> 20304320 | E13: ='תקציב אגף שאיפה 2020 '!G$48 -> 194120579 | F13: ='תקציב אגף שאיפה 2020 '!H$48 -> 1.7473165e+08 | G13: ='תקציב אגף שאיפה 2020 '!I$48 -> 0 | H13: ='תקציב אגף שאיפה 2020 '!J$48 -> 12537650 | I13: ='תקציב אגף שאיפה 2020 '!K$48 -> 12537650 | ... X13: ='תקציב אגף שאיפה 2020 '!Z$48 -> 17740000 | Y13: ='תקציב אגף שאיפה 2020 '!A48 -> 41
A14: רשות החופים | B14: ='תקציב רשות החופים 2020 '!D$24 -> 6935620 | C14: ='תקציב רשות החופים 2020 '!E$24 -> 5250649 | D14: ='תקציב רשות החופים 2020 '!F$24 -> 1684971 | E14: ='תקציב רשות החופים 2020 '!G$24 -> 4665423 | F14: ='תקציב רשות החופים 2020 '!H$24 -> 3829954.9 | G14: ='תקציב רשות החופים 2020 '!I$24 -> 364325.79 | H14: ='תקציב רשות החופים 2020 '!J$24 -> 191143.78 | I14: ='תקציב רשות החופים 2020 '!K$24 -> 555469.57 | ... X14: ='תקציב רשות החופים 2020 '!Z$24 -> 28000 | Y14: ='תקציב רשות החופים 2020 '!A24 -> 18
A15: החברה לפיתוח התיירות | B15: ='תקציב החברה לתירות 2020 '!D$15 -> 44050000 | C15: ='תקציב החברה לתירות 2020 '!E$15 -> 33243000 | D15: ='תקציב החברה לתירות 2020 '!F$15 -> 10807000 | E15: ='תקציב החברה לתירות 2020 '!G$15 -> 15060000 | F15: ='תקציב החברה לתירות 2020 '!H$15 -> 14222828 | G15: ='תקציב החברה לתירות 2020 '!I$15 -> 0 | H15: ='תקציב החברה לתירות 2020 '!J$15 -> 0 | I15: ='תקציב החברה לתירות 2020 '!K$15 -> 0 | ... X15: ='תקציב החברה לתירות 2020 '!Z$15 -> 800000 | Y15: ='תקציב החברה לתירות 2020 '!A15 -> 9
A16: אגף תקשוב ומערכות מידע | B16: ='תקציב אגף תקשוב 2020 '!D$15 -> 49790000 | C16: ='תקציב אגף תקשוב 2020 '!E$15 -> 49590000 | D16: ='תקציב אגף תקשוב 2020 '!F$15 -> 200000 | E16: ='תקציב אגף תקשוב 2020 '!G$15 -> 24973000 | F16: ='תקציב אגף תקשוב 2020 '!H$15 -> 12137739 | G16: ='תקציב אגף תקשוב 2020 '!I$15 -> 1455428 | H16: ='תקציב אגף תקשוב 2020 '!J$15 -> 5607273.7 | I16: ='תקציב אגף תקשוב 2020 '!K$15 -> 7062701.7 | ... X16: ='תקציב אגף תקשוב 2020 '!Z$15 -> 4080000 | Y16: ='תקציב אגף תקשוב 2020 '!A15 -> 9
A17: אגף נכסים וביטוח | B17: ='תקציב אגף נכסים וביטוח 2020 '!D$23 -> 162104000 | C17: ='תקציב אגף נכסים וביטוח 2020 '!E$23 -> 161399000 | D17: ='תקציב אגף נכסים וביטוח 2020 '!F$23 -> 705000 | E17: ='תקציב אגף נכסים וביטוח 2020 '!G$23 -> 90422525 | F17: ='תקציב אגף נכסים וביטוח 2020 '!H$23 -> 69642076 | G17: ='תקציב אגף נכסים וביטוח 2020 '!I$23 -> 0 | H17: ='תקציב אגף נכסים וביטוח 2020 '!J$23 -> 7195 | I17: ='תקציב אגף נכסים וביטוח 2020 '!K$23 -> 7195 | ... X17: ='תקציב אגף נכסים וביטוח 2020 '!Z$23 -> 0 | Y17: ='תקציב אגף נכסים וביטוח 2020 '!A23 -> 17
A18: מינהל כללי | B18: ='תקציב מינהל כללי 2020 '!D$15 -> 128901682 | C18: ='תקציב מינהל כללי 2020 '!E$15 -> 129976727 | D18: ='תקציב מינהל כללי 2020 '!F$15 -> -1075045 | E18: ='תקציב מינהל כללי 2020 '!G$15 -> 92393621 | F18: ='תקציב מינהל כללי 2020 '!H$15 -> 74996292 | G18: ='תקציב מינהל כללי 2020 '!I$15 -> 68955.83 | H18: ='תקציב מינהל כללי 2020 '!J$15 -> 3600662.9 | I18: ='תקציב מינהל כללי 2020 '!K$15 -> 3669618.7 | ... X18: ='תקציב מינהל כללי 2020 '!Z$15 -> 0 | Y18: ='תקציב מינהל כללי 2020 '!A15 -> 9
A19: סה"כ | B19: =SUM(B7:B18) -> 4639177685 | C19: =SUM(C7:C18) -> 4222021272 | D19: =SUM(D7:D18) -> 417156413 | E19: =SUM(E7:E18) -> 2125169045 | F19: =SUM(F7:F18) -> 1.6699389e+09 | G19: =SUM(G7:G18) -> 26954057 | H19: =SUM(H7:H18) -> 1.2417197e+08 | I19: =SUM(I7:I18) -> 1.5112603e+08 | ... Y19: =SUM(Y7:Y18) -> 394
J20: =I19+F19 -> 1.821065e+09 | K20: =N19+Q19-R19 -> 4.4987882e+08 | N20: =E19-J19 -> 3.0410409e+08 | R20: =N19+Q19-K19 -> 63430074 | S20: =L19-R19 -> 502826126
S22: סה"כ | T22: קע"פ | U22: קרן עודפי ת.ר. | V22: קרן רכוש | W22: קרן ייעודית | X22: אחרים
M23: יתרת מקורות מימון | O23: יתרת מקורות מימון | S23: =SUM(T23:X23) -> 502826126 | T23: ='תקציב 2020 קרנות הרשות'!C21*1000 -> 206270000 | U23: ='תקציב 2020 קרנות הרשות'!D21*1000 -> 59000000 | V23: ='תקציב 2020 מקורות '!F10*1000 -> 0 | W23: ='תקציב 2020 מקורות '!F11*1000 -> 100433357 | X23: ='פרוט מקורות אחרים'!O16 -> 137122769
M24: הפרש עודף (חוסר) | O24: הפרש עודף (חוסר) | S24: =S23-S19 -> 0 | T24: =T23-T19 -> 0 | U24: =U23-U19 -> 0 | V24: =V23-V19 -> 0 | W24: =W23-W19 -> 0 | X24: =X23-X19 -> 0

Sheet תרשים פרקים

Sheet ריכוז פרקים
A2: ריכוז לפי פרקים
B4: מרכיבי העלות | R4: מקורות מימון לפרויקט
A5: פרק | B5: אומדן כולל לפרויקט | C5: אומדן מאושר במועצה | D5: תוספת לאומדן לאישור מועצה | E5: תקציב מאושר | F5: ביצוע בפועל | G5: שריון מערך הרכש | H5: שריון מערך חוזים | I5: סה"כ שריון התחייבויות | J5: סה"כ ביצוע | K5: יתרה לביצוע צפוי עד 31.12.2019 | L5: אומדן לביצוע שנת 2020 | M5: אומדן לביצוע שנת 2021 ואילך | N5: יתרת תקציב | O5: תקציב נוסף נדרש במסגרת תוכנית עבודה2019 | P5: תקציב נוסף נדרש מעבר לתוכנית עבודה2019 | Q5: סה"כ תקציב נוסף נדרש 2019 | R5: יתרת תקציב פנויה 31.12.2019 | S5: תקציב נדרש 2020 | T5: קרן עבודות פיתוח | U5: קרן עודפי תקציב רגיל | V5: קרן רכוש | W5: קרן ייעודית | X5: אחרים
A6: מינהל כללי (61) | B6: ='אגף ת.ב.ל 2020 פרקים'!D$7+' תקשוב 2020 פרקים'!D$7 -> 8980000 | C6: ='אגף ת.ב.ל 2020 פרקים'!E$7+' תקשוב 2020 פרקים'!E$7 -> 8980000 | D6: ='אגף ת.ב.ל 2020 פרקים'!F$7+' תקשוב 2020 פרקים'!F$7 -> 0 | E6: ='אגף ת.ב.ל 2020 פרקים'!G$7+' תקשוב 2020 פרקים'!G$7 -> 3083000 | F6: ='אגף ת.ב.ל 2020 פרקים'!H$7+' תקשוב 2020 פרקים'!H$7 -> 2615479.5 | G6: ='אגף ת.ב.ל 2020 פרקים'!I$7+' תקשוב 2020 פרקים'!I$7 -> 136200 | H6: ='אגף ת.ב.ל 2020 פרקים'!J$7+' תקשוב 2020 פרקים'!J$7 -> 79693.94 | I6: ='אגף ת.ב.ל 2020 פרקים'!K$7+' תקשוב 2020 פרקים'!K$7 -> 215893.94 | ... X6: ='אגף ת.ב.ל 2020 פרקים'!Z$7+' תקשוב 2020 פרקים'!Z$7 -> 0
A7: תכנון ובנין עיר (73) | B7: ='הנדסה 2020 פרקים'!D$49+'החברה לפיתוח 2020 פרקים'!D$14+'אגף ת.ב.ל 2020 פרקים'!D$13+' שאיפה 2020 פרקים'!D$8+'החברה לתירות 2020 פרקים'!D$12+' מינהל כללי 2020 פרקים'!D$7 -> 245816123 | C7: ='הנדסה 2020 פרקים'!E$49+'החברה לפיתוח 2020 פרקים'!E$14+'אגף ת.ב.ל 2020 פרקים'!E$13+' שאיפה 2020 פרקים'!E$8+'החברה לתירות 2020 פרקים'!E$12+' מינהל כללי 2020 פרקים'!E$7 -> 235008873 | D7: ='הנדסה 2020 פרקים'!F$49+'החברה לפיתוח 2020 פרקים'!F$14+'אגף ת.ב.ל 2020 פרקים'!F$13+' שאיפה 2020 פרקים'!F$8+'החברה לתירות 2020 פרקים'!F$12+' מינהל כללי 2020 פרקים'!F$7 -> 10807250 | E7: ='הנדסה 2020 פרקים'!G$49+'החברה לפיתוח 2020 פרקים'!G$14+'אגף ת.ב.ל 2020 פרקים'!G$13+' שאיפה 2020 פרקים'!G$8+'החברה לתירות 2020 פרקים'!G$12+' מינהל כללי 2020 פרקים'!G$7 -> 155013117 | F7: ='הנדסה 2020 פרקים'!H$49+'החברה לפיתוח 2020 פרקים'!H$14+'אגף ת.ב.ל 2020 פרקים'!H$13+' שאיפה 2020 פרקים'!H$8+'החברה לתירות 2020 פרקים'!H$12+' מינהל כללי 2020 פרקים'!H$7 -> 1.135899e+08 | G7: ='הנדסה 2020 פרקים'!I$49+'החברה לפיתוח 2020 פרקים'!I$14+'אגף ת.ב.ל 2020 פרקים'!I$13+' שאיפה 2020 פרקים'!I$8+'החברה לתירות 2020 פרקים'!I$12+' מינהל כללי 2020 פרקים'!I$7 -> 5634568.3 | H7: ='הנדסה 2020 פרקים'!J$49+'החברה לפיתוח 2020 פרקים'!J$14+'אגף ת.ב.ל 2020 פרקים'!J$13+' שאיפה 2020 פרקים'!J$8+'החברה לתירות 2020 פרקים'!J$12+' מינהל כללי 2020 פרקים'!J$7 -> 3121167.7 | I7: ='הנדסה 2020 פרקים'!K$49+'החברה לפיתוח 2020 פרקים'!K$14+'אגף ת.ב.ל 2020 פרקים'!K$13+' שאיפה 2020 פרקים'!K$8+'החברה לתירות 2020 פרקים'!K$12+' מינהל כללי 2020 פרקים'!K$7 -> 8755736 | ... X7: ='הנדסה 2020 פרקים'!Z$49+'החברה לפיתוח 2020 פרקים'!Z$14+'אגף ת.ב.ל 2020 פרקים'!Z$13+' שאיפה 2020 פרקים'!Z$8+'החברה לתירות 2020 פרקים'!Z$12+' מינהל כללי 2020 פרקים'!Z$7 -> 1254444
A8: נכסים ציבוריים (74) | B8: ='הנדסה 2020 פרקים'!D$87+'החברה לפיתוח 2020 פרקים'!D$67+'החברה לפיתוח 2020 פרקים'!D$72+'אגף ת.ב.ל 2020 פרקים'!D$23+' שאיפה 2020 פרקים'!D$32+'החברה לתירות 2020 פרקים'!D$16+' מינהל כללי 2020 פרקים'!D$12 -> 2156362313 | C8: ='הנדסה 2020 פרקים'!E$87+'החברה לפיתוח 2020 פרקים'!E$67+'החברה לפיתוח 2020 פרקים'!E$72+'אגף ת.ב.ל 2020 פרקים'!E$23+' שאיפה 2020 פרקים'!E$32+'החברה לתירות 2020 פרקים'!E$16+' מינהל כללי 2020 פרקים'!E$12 -> 2004862358 | D8: ='הנדסה 2020 פרקים'!F$87+'החברה לפיתוח 2020 פרקים'!F$67+'החברה לפיתוח 2020 פרקים'!F$72+'אגף ת.ב.ל 2020 פרקים'!F$23+' שאיפה 2020 פרקים'!F$32+'החברה לתירות 2020 פרקים'!F$16+' מינהל כללי 2020 פרקים'!F$12 -> 151499955 | E8: ='הנדסה 2020 פרקים'!G$87+'החברה לפיתוח 2020 פרקים'!G$67+'החברה לפיתוח 2020 פרקים'!G$72+'אגף ת.ב.ל 2020 פרקים'!G$23+' שאיפה 2020 פרקים'!G$32+'החברה לתירות 2020 פרקים'!G$16+' מינהל כללי 2020 פרקים'!G$12 -> 1080044388 | F8: ='הנדסה 2020 פרקים'!H$87+'החברה לפיתוח 2020 פרקים'!H$67+'החברה לפיתוח 2020 פרקים'!H$72+'אגף ת.ב.ל 2020 פרקים'!H$23+' שאיפה 2020 פרקים'!H$32+'החברה לתירות 2020 פרקים'!H$16+' מינהל כללי 2020 פרקים'!H$12 -> 8.7520883e+08 | G8: ='הנדסה 2020 פרקים'!I$87+'החברה לפיתוח 2020 פרקים'!I$67+'החברה לפיתוח 2020 פרקים'!I$72+'אגף ת.ב.ל 2020 פרקים'!I$23+' שאיפה 2020 פרקים'!I$32+'החברה לתירות 2020 פרקים'!I$16+' מינהל כללי 2020 פרקים'!I$12 -> 7465640.4 | H8: ='הנדסה 2020 פרקים'!J$87+'החברה לפיתוח 2020 פרקים'!J$67+'החברה לפיתוח 2020 פרקים'!J$72+'אגף ת.ב.ל 2020 פרקים'!J$23+' שאיפה 2020 פרקים'!J$32+'החברה לתירות 2020 פרקים'!J$16+' מינהל כללי 2020 פרקים'!J$12 -> 65534731 | I8: ='הנדסה 2020 פרקים'!K$87+'החברה לפיתוח 2020 פרקים'!K$67+'החברה לפיתוח 2020 פרקים'!K$72+'אגף ת.ב.ל 2020 פרקים'!K$23+' שאיפה 2020 פרקים'!K$32+'החברה לתירות 2020 פרקים'!K$16+' מינהל כללי 2020 פרקים'!K$12 -> 73000371 | ... X8: ='הנדסה 2020 פרקים'!Z$87+'החברה לפיתוח 2020 פרקים'!Z$67+'החברה לפיתוח 2020 פרקים'!Z$72+'אגף ת.ב.ל 2020 פרקים'!Z$23+' שאיפה 2020 פרקים'!Z$32+'החברה לתירות 2020 פרקים'!Z$16+' מינהל כללי 2020 פרקים'!Z$12 -> 51742187
A9: חופים (747) | B9: ='החברה לפיתוח 2020 פרקים'!D$70+' שאיפה 2020 פרקים'!D$34+'רשות החופים 2020 פרקים'!D$24 -> 50718620 | C9: ='החברה לפיתוח 2020 פרקים'!E$70+' שאיפה 2020 פרקים'!E$34+'רשות החופים 2020 פרקים'!E$24 -> 48683649 | D9: ='החברה לפיתוח 2020 פרקים'!F$70+' שאיפה 2020 פרקים'!F$34+'רשות החופים 2020 פרקים'!F$24 -> 2034971 | E9: ='החברה לפיתוח 2020 פרקים'!G$70+' שאיפה 2020 פרקים'!G$34+'רשות החופים 2020 פרקים'!G$24 -> 37448423 | F9: ='החברה לפיתוח 2020 פרקים'!H$70+' שאיפה 2020 פרקים'!H$34+'רשות החופים 2020 פרקים'!H$24 -> 33901296 | G9: ='החברה לפיתוח 2020 פרקים'!I$70+' שאיפה 2020 פרקים'!I$34+'רשות החופים 2020 פרקים'!I$24 -> 364325.79 | H9: ='החברה לפיתוח 2020 פרקים'!J$70+' שאיפה 2020 פרקים'!J$34+'רשות החופים 2020 פרקים'!J$24 -> 834456.33 | I9: ='החברה לפיתוח 2020 פרקים'!K$70+' שאיפה 2020 פרקים'!K$34+'רשות החופים 2020 פרקים'!K$24 -> 1198782.1 | ... X9: ='החברה לפיתוח 2020 פרקים'!Z$70+' שאיפה 2020 פרקים'!Z$34+'רשות החופים 2020 פרקים'!Z$24 -> 28000
A10: שרותים עירוניים שונים (76) | B10: ='הנדסה 2020 פרקים'!D$89+'החברה לפיתוח 2020 פרקים'!D$74+' שאיפה 2020 פרקים'!D$36+' תקשוב 2020 פרקים'!D$15+' מינהל כללי 2020 פרקים'!D$15+'אגף ת.ב.ל 2020 פרקים'!D$11+'בטחון פיקוח סד"צ 2020 פרקים'!D$9+' תקשוב 2020 פרקים'!D$9 -> 111398000 | C10: ='הנדסה 2020 פרקים'!E$89+'החברה לפיתוח 2020 פרקים'!E$74+' שאיפה 2020 פרקים'!E$36+' תקשוב 2020 פרקים'!E$15+' מינהל כללי 2020 פרקים'!E$15+'אגף ת.ב.ל 2020 פרקים'!E$11+'בטחון פיקוח סד"צ 2020 פרקים'!E$9+' תקשוב 2020 פרקים'!E$9 -> 105878000 | D10: ='הנדסה 2020 פרקים'!F$89+'החברה לפיתוח 2020 פרקים'!F$74+' שאיפה 2020 פרקים'!F$36+' תקשוב 2020 פרקים'!F$15+' מינהל כללי 2020 פרקים'!F$15+'אגף ת.ב.ל 2020 פרקים'!F$11+'בטחון פיקוח סד"צ 2020 פרקים'!F$9+' תקשוב 2020 פרקים'!F$9 -> 5520000 | E10: ='הנדסה 2020 פרקים'!G$89+'החברה לפיתוח 2020 פרקים'!G$74+' שאיפה 2020 פרקים'!G$36+' תקשוב 2020 פרקים'!G$15+' מינהל כללי 2020 פרקים'!G$15+'אגף ת.ב.ל 2020 פרקים'!G$11+'בטחון פיקוח סד"צ 2020 פרקים'!G$9+' תקשוב 2020 פרקים'!G$9 -> 86538000 | F10: ='הנדסה 2020 פרקים'!H$89+'החברה לפיתוח 2020 פרקים'!H$74+' שאיפה 2020 פרקים'!H$36+' תקשוב 2020 פרקים'!H$15+' מינהל כללי 2020 פרקים'!H$15+'אגף ת.ב.ל 2020 פרקים'!H$11+'בטחון פיקוח סד"צ 2020 פרקים'!H$9+' תקשוב 2020 פרקים'!H$9 -> 66850289 | G10: ='הנדסה 2020 פרקים'!I$89+'החברה לפיתוח 2020 פרקים'!I$74+' שאיפה 2020 פרקים'!I$36+' תקשוב 2020 פרקים'!I$15+' מינהל כללי 2020 פרקים'!I$15+'אגף ת.ב.ל 2020 פרקים'!I$11+'בטחון פיקוח סד"צ 2020 פרקים'!I$9+' תקשוב 2020 פרקים'!I$9 -> 1319228 | H10: ='הנדסה 2020 פרקים'!J$89+'החברה לפיתוח 2020 פרקים'!J$74+' שאיפה 2020 פרקים'!J$36+' תקשוב 2020 פרקים'!J$15+' מינהל כללי 2020 פרקים'!J$15+'אגף ת.ב.ל 2020 פרקים'!J$11+'בטחון פיקוח סד"צ 2020 פרקים'!J$9+' תקשוב 2020 פרקים'!J$9 -> 8636947.2 | I10: ='הנדסה 2020 פרקים'!K$89+'החברה לפיתוח 2020 פרקים'!K$74+' שאיפה 2020 פרקים'!K$36+' תקשוב 2020 פרקים'!K$15+' מינהל כללי 2020 פרקים'!K$15+'אגף ת.ב.ל 2020 פרקים'!K$11+'בטחון פיקוח סד"צ 2020 פרקים'!K$9+' תקשוב 2020 פרקים'!K$9 -> 9956175.2 | ... X10: ='הנדסה 2020 פרקים'!Z$89+'החברה לפיתוח 2020 פרקים'!Z$74+' שאיפה 2020 פרקים'!Z$36+' תקשוב 2020 פרקים'!Z$15+' מינהל כללי 2020 פרקים'!Z$15+'אגף ת.ב.ל 2020 פרקים'!Z$11+'בטחון פיקוח סד"צ 2020 פרקים'!Z$9+' תקשוב 2020 פרקים'!Z$9 -> 1500000
A11: חינוך (81) | B11: ='החברה לפיתוח 2020 פרקים'!D$98+'אגף ת.ב.ל 2020 פרקים'!D$48+' חינוך 2020 פרקים'!D$28+' שאיפה 2020 פרקים'!D$43+' תקשוב 2020 פרקים'!D$18 -> 1206057156 | C11: ='החברה לפיתוח 2020 פרקים'!E$98+'אגף ת.ב.ל 2020 פרקים'!E$48+' חינוך 2020 פרקים'!E$28+' שאיפה 2020 פרקים'!E$43+' תקשוב 2020 פרקים'!E$18 -> 1027671468 | D11: ='החברה לפיתוח 2020 פרקים'!F$98+'אגף ת.ב.ל 2020 פרקים'!F$48+' חינוך 2020 פרקים'!F$28+' שאיפה 2020 פרקים'!F$43+' תקשוב 2020 פרקים'!F$18 -> 178385688 | E11: ='החברה לפיתוח 2020 פרקים'!G$98+'אגף ת.ב.ל 2020 פרקים'!G$48+' חינוך 2020 פרקים'!G$28+' שאיפה 2020 פרקים'!G$43+' תקשוב 2020 פרקים'!G$18 -> 312718348 | F11: ='החברה לפיתוח 2020 פרקים'!H$98+'אגף ת.ב.ל 2020 פרקים'!H$48+' חינוך 2020 פרקים'!H$28+' שאיפה 2020 פרקים'!H$43+' תקשוב 2020 פרקים'!H$18 -> 2.0284423e+08 | G11: ='החברה לפיתוח 2020 פרקים'!I$98+'אגף ת.ב.ל 2020 פרקים'!I$48+' חינוך 2020 פרקים'!I$28+' שאיפה 2020 פרקים'!I$43+' תקשוב 2020 פרקים'!I$18 -> 11804103 | H11: ='החברה לפיתוח 2020 פרקים'!J$98+'אגף ת.ב.ל 2020 פרקים'!J$48+' חינוך 2020 פרקים'!J$28+' שאיפה 2020 פרקים'!J$43+' תקשוב 2020 פרקים'!J$18 -> 26160106 | I11: ='החברה לפיתוח 2020 פרקים'!K$98+'אגף ת.ב.ל 2020 פרקים'!K$48+' חינוך 2020 פרקים'!K$28+' שאיפה 2020 פרקים'!K$43+' תקשוב 2020 פרקים'!K$18 -> 37964210 | ... X11: ='החברה לפיתוח 2020 פרקים'!Z$98+'אגף ת.ב.ל 2020 פרקים'!Z$48+' חינוך 2020 פרקים'!Z$28+' שאיפה 2020 פרקים'!Z$43+' תקשוב 2020 פרקים'!Z$18 -> 59721300
A12: ספורט (82) | B12: ='החברה לפיתוח 2020 פרקים'!D$117+'אגף ת.ב.ל 2020 פרקים'!D$54+'תנוס 2020פרקים'!D$16+' שאיפה 2020 פרקים'!D$45 -> 355710229 | C12: ='החברה לפיתוח 2020 פרקים'!E$117+'אגף ת.ב.ל 2020 פרקים'!E$54+'תנוס 2020פרקים'!E$16+' שאיפה 2020 פרקים'!E$45 -> 310356000 | D12: ='החברה לפיתוח 2020 פרקים'!F$117+'אגף ת.ב.ל 2020 פרקים'!F$54+'תנוס 2020פרקים'!F$16+' שאיפה 2020 פרקים'!F$45 -> 45354229 | E12: ='החברה לפיתוח 2020 פרקים'!G$117+'אגף ת.ב.ל 2020 פרקים'!G$54+'תנוס 2020פרקים'!G$16+' שאיפה 2020 פרקים'!G$45 -> 96419000 | F12: ='החברה לפיתוח 2020 פרקים'!H$117+'אגף ת.ב.ל 2020 פרקים'!H$54+'תנוס 2020פרקים'!H$16+' שאיפה 2020 פרקים'!H$45 -> 72010284 | G12: ='החברה לפיתוח 2020 פרקים'!I$117+'אגף ת.ב.ל 2020 פרקים'!I$54+'תנוס 2020פרקים'!I$16+' שאיפה 2020 פרקים'!I$45 -> 5148 | H12: ='החברה לפיתוח 2020 פרקים'!J$117+'אגף ת.ב.ל 2020 פרקים'!J$54+'תנוס 2020פרקים'!J$16+' שאיפה 2020 פרקים'!J$45 -> 8772570.7 | I12: ='החברה לפיתוח 2020 פרקים'!K$117+'אגף ת.ב.ל 2020 פרקים'!K$54+'תנוס 2020פרקים'!K$16+' שאיפה 2020 פרקים'!K$45 -> 8777718.7 | ... X12: ='החברה לפיתוח 2020 פרקים'!Z$117+'אגף ת.ב.ל 2020 פרקים'!Z$54+'תנוס 2020פרקים'!Z$16+' שאיפה 2020 פרקים'!Z$45 -> 3168838
A13: רווחה (84) | B13: ='החברה לפיתוח 2020 פרקים'!D$120+'אגף ת.ב.ל 2020 פרקים'!D$56+' מינהל כללי 2020 פרקים'!D$17 -> 13674000 | C13: ='החברה לפיתוח 2020 פרקים'!E$120+'אגף ת.ב.ל 2020 פרקים'!E$56+' מינהל כללי 2020 פרקים'!E$17 -> 11624000 | D13: ='החברה לפיתוח 2020 פרקים'!F$120+'אגף ת.ב.ל 2020 פרקים'!F$56+' מינהל כללי 2020 פרקים'!F$17 -> 2050000 | E13: ='החברה לפיתוח 2020 פרקים'!G$120+'אגף ת.ב.ל 2020 פרקים'!G$56+' מינהל כללי 2020 פרקים'!G$17 -> 1774000 | F13: ='החברה לפיתוח 2020 פרקים'!H$120+'אגף ת.ב.ל 2020 פרקים'!H$56+' מינהל כללי 2020 פרקים'!H$17 -> 539856.77 | G13: ='החברה לפיתוח 2020 פרקים'!I$120+'אגף ת.ב.ל 2020 פרקים'!I$56+' מינהל כללי 2020 פרקים'!I$17 -> 0 | H13: ='החברה לפיתוח 2020 פרקים'!J$120+'אגף ת.ב.ל 2020 פרקים'!J$56+' מינהל כללי 2020 פרקים'!J$17 -> 958233.69 | I13: ='החברה לפיתוח 2020 פרקים'!K$120+'אגף ת.ב.ל 2020 פרקים'!K$56+' מינהל כללי 2020 פרקים'!K$17 -> 958233.69 | ... X13: ='החברה לפיתוח 2020 פרקים'!Z$120+'אגף ת.ב.ל 2020 פרקים'!Z$56+' מינהל כללי 2020 פרקים'!Z$17 -> 0
A14: מבני דת ציבוריים (85) | B14: ='החברה לפיתוח 2020 פרקים'!D$126+'אגף ת.ב.ל 2020 פרקים'!D$64 -> 23210000 | C14: ='החברה לפיתוח 2020 פרקים'!E$126+'אגף ת.ב.ל 2020 פרקים'!E$64 -> 22710000 | D14: ='החברה לפיתוח 2020 פרקים'!F$126+'אגף ת.ב.ל 2020 פרקים'!F$64 -> 500000 | E14: ='החברה לפיתוח 2020 פרקים'!G$126+'אגף ת.ב.ל 2020 פרקים'!G$64 -> 13260000 | F14: ='החברה לפיתוח 2020 פרקים'!H$126+'אגף ת.ב.ל 2020 פרקים'!H$64 -> 9225475.4 | G14: ='החברה לפיתוח 2020 פרקים'!I$126+'אגף ת.ב.ל 2020 פרקים'!I$64 -> 224843.06 | H14: ='החברה לפיתוח 2020 פרקים'!J$126+'אגף ת.ב.ל 2020 פרקים'!J$64 -> 498902.09 | I14: ='החברה לפיתוח 2020 פרקים'!K$126+'אגף ת.ב.ל 2020 פרקים'!K$64 -> 723745.15 | ... X14: ='החברה לפיתוח 2020 פרקים'!Z$126+'אגף ת.ב.ל 2020 פרקים'!Z$64 -> 0
A15: איכות הסביבה (87) | B15: ='החברה לפיתוח 2020 פרקים'!D$128+'אגף ת.ב.ל 2020 פרקים'!D$69+' שאיפה 2020 פרקים'!D$56 -> 34324559 | C15: ='החברה לפיתוח 2020 פרקים'!E$128+'אגף ת.ב.ל 2020 פרקים'!E$69+' שאיפה 2020 פרקים'!E$56 -> 23419559 | D15: ='החברה לפיתוח 2020 פרקים'!F$128+'אגף ת.ב.ל 2020 פרקים'!F$69+' שאיפה 2020 פרקים'!F$56 -> 10905000 | E15: ='החברה לפיתוח 2020 פרקים'!G$128+'אגף ת.ב.ל 2020 פרקים'!G$69+' שאיפה 2020 פרקים'!G$56 -> 10410559 | F15: ='החברה לפיתוח 2020 פרקים'!H$128+'אגף ת.ב.ל 2020 פרקים'!H$69+' שאיפה 2020 פרקים'!H$56 -> 2205650.1 | G15: ='החברה לפיתוח 2020 פרקים'!I$128+'אגף ת.ב.ל 2020 פרקים'!I$69+' שאיפה 2020 פרקים'!I$56 -> 0 | H15: ='החברה לפיתוח 2020 פרקים'!J$128+'אגף ת.ב.ל 2020 פרקים'!J$69+' שאיפה 2020 פרקים'!J$56 -> 1418691.1 | I15: ='החברה לפיתוח 2020 פרקים'!K$128+'אגף ת.ב.ל 2020 פרקים'!K$69+' שאיפה 2020 פרקים'!K$56 -> 1418691.1 | ... X15: ='החברה לפיתוח 2020 פרקים'!Z$128+'אגף ת.ב.ל 2020 פרקים'!Z$69+' שאיפה 2020 פרקים'!Z$56 -> 2208000
A16: טיפול במרחב ציבורי (848) | B16: ='החברה לפיתוח 2020 פרקים'!D$122+'אגף ת.ב.ל 2020 פרקים'!D$58+' שאיפה 2020 פרקים'!D$47 -> 35724320 | C16: ='החברה לפיתוח 2020 פרקים'!E$122+'אגף ת.ב.ל 2020 פרקים'!E$58+' שאיפה 2020 פרקים'!E$47 -> 31450000 | D16: ='החברה לפיתוח 2020 פרקים'!F$122+'אגף ת.ב.ל 2020 פרקים'!F$58+' שאיפה 2020 פרקים'!F$47 -> 4274320 | E16: ='החברה לפיתוח 2020 פרקים'!G$122+'אגף ת.ב.ל 2020 פרקים'!G$58+' שאיפה 2020 פרקים'!G$47 -> 27774320 | F16: ='החברה לפיתוח 2020 פרקים'!H$122+'אגף ת.ב.ל 2020 פרקים'!H$58+' שאיפה 2020 פרקים'!H$47 -> 24199080 | G16: ='החברה לפיתוח 2020 פרקים'!I$122+'אגף ת.ב.ל 2020 פרקים'!I$58+' שאיפה 2020 פרקים'!I$47 -> 0 | H16: ='החברה לפיתוח 2020 פרקים'!J$122+'אגף ת.ב.ל 2020 פרקים'!J$58+' שאיפה 2020 פרקים'!J$47 -> 2398326.7 | I16: ='החברה לפיתוח 2020 פרקים'!K$122+'אגף ת.ב.ל 2020 פרקים'!K$58+' שאיפה 2020 פרקים'!K$47 -> 2398326.7 | ... X16: ='החברה לפיתוח 2020 פרקים'!Z$122+'אגף ת.ב.ל 2020 פרקים'!Z$58+' שאיפה 2020 פרקים'!Z$47 -> 0
A17: תרבות הדיור (764) | B17: =' שאיפה 2020 פרקים'!D$38 -> 89650000 | C17: =' שאיפה 2020 פרקים'!E$38 -> 88000000 | D17: =' שאיפה 2020 פרקים'!F$38 -> 1650000 | E17: =' שאיפה 2020 פרקים'!G$38 -> 71450000 | F17: =' שאיפה 2020 פרקים'!H$38 -> 69535503 | G17: =' שאיפה 2020 פרקים'!I$38 -> 0 | H17: =' שאיפה 2020 פרקים'!J$38 -> 185655 | I17: =' שאיפה 2020 פרקים'!K$38 -> 185655 | ... X17: =' שאיפה 2020 פרקים'!Z$38 -> 17500000
A18: נכסים (93) | B18: ='החברה לפיתוח 2020 פרקים'!D$132+'אגף ת.ב.ל 2020 פרקים'!D$76+'תנוס 2020פרקים'!D$18+'נכסים וביטוח 2020 פרקים'!D$23 -> 292419365 | C18: ='החברה לפיתוח 2020 פרקים'!E$132+'אגף ת.ב.ל 2020 פרקים'!E$76+'תנוס 2020פרקים'!E$18+'נכסים וביטוח 2020 פרקים'!E$23 -> 288244365 | D18: ='החברה לפיתוח 2020 פרקים'!F$132+'אגף ת.ב.ל 2020 פרקים'!F$76+'תנוס 2020פרקים'!F$18+'נכסים וביטוח 2020 פרקים'!F$23 -> 4175000 | E18: ='החברה לפיתוח 2020 פרקים'!G$132+'אגף ת.ב.ל 2020 פרקים'!G$76+'תנוס 2020פרקים'!G$18+'נכסים וביטוח 2020 פרקים'!G$23 -> 214102890 | F18: ='החברה לפיתוח 2020 פרקים'!H$132+'אגף ת.ב.ל 2020 פרקים'!H$76+'תנוס 2020פרקים'!H$18+'נכסים וביטוח 2020 פרקים'!H$23 -> 1.8208004e+08 | G18: ='החברה לפיתוח 2020 פרקים'!I$132+'אגף ת.ב.ל 2020 פרקים'!I$76+'תנוס 2020פרקים'!I$18+'נכסים וביטוח 2020 פרקים'!I$23 -> 0 | H18: ='החברה לפיתוח 2020 פרקים'!J$132+'אגף ת.ב.ל 2020 פרקים'!J$76+'תנוס 2020פרקים'!J$18+'נכסים וביטוח 2020 פרקים'!J$23 -> 5572491 | I18: ='החברה לפיתוח 2020 פרקים'!K$132+'אגף ת.ב.ל 2020 פרקים'!K$76+'תנוס 2020פרקים'!K$18+'נכסים וביטוח 2020 פרקים'!K$23 -> 5572491 | ... X18: ='החברה לפיתוח 2020 פרקים'!Z$132+'אגף ת.ב.ל 2020 פרקים'!Z$76+'תנוס 2020פרקים'!Z$18+'נכסים וביטוח 2020 פרקים'!Z$23 -> 0
A19: תשלומים בלתי רגילים (99) | B19: =' מינהל כללי 2020 פרקים'!D$19 -> 15133000 | C19: =' מינהל כללי 2020 פרקים'!E$19 -> 15133000 | D19: =' מינהל כללי 2020 פרקים'!F$19 -> 0 | E19: =' מינהל כללי 2020 פרקים'!G$19 -> 15133000 | F19: =' מינהל כללי 2020 פרקים'!H$19 -> 15133000 | G19: =' מינהל כללי 2020 פרקים'!I$19 -> 0 | H19: =' מינהל כללי 2020 פרקים'!J$19 -> 0 | I19: =' מינהל כללי 2020 פרקים'!K$19 -> 0 | ... X19: =' מינהל כללי 2020 פרקים'!Z$19 -> 0
A20: סה"כ | B20: =SUM(B6:B19) -> 4639177685 | C20: =SUM(C6:C19) -> 4222021272 | D20: =SUM(D6:D19) -> 417156413 | E20: =SUM(E6:E19) -> 2125169045 | F20: =SUM(F6:F19) -> 1.6699389e+09 | G20: =SUM(G6:G19) -> 26954057 | H20: =SUM(H6:H19) -> 1.2417197e+08 | I20: =SUM(I6:I19) -> 1.5112603e+08 | ... X20: =SUM(X6:X19) -> 137122769
J22: =I20+F20 -> 1.821065e+09 | K22: =N22+Q20-R20 -> 4.4987882e+08 | N22: =E20-J20 -> 3.0410409e+08 | S22: =L20-R20 -> 502826126
S23: סה"כ | T23: קע"פ | U23: קרן עודפי ת.ר. | V23: קרן רכוש | W23: קרן ייעודית | X23: אחרים
M24: יתרת מקורות מימון | O24: יתרת מקורות מימון | S24: =SUM(T24:X24) -> 502826126 | T24: ='תקציב 2020 קרנות הרשות'!C21*1000 -> 206270000 | U24: ='תקציב 2020 קרנות הרשות'!D21*1000 -> 59000000 | V24: ='תקציב 2020 מקורות '!F10*1000 -> 0 | W24: ='תקציב 2020 מקורות '!F11*1000 -> 100433357 | X24: ='פרוט מקורות אחרים'!O16 -> 137122769
M25: הפרש עודף (חוסר) | O25: הפרש עודף (חוסר) | S25: =S24-S20 -> 0 | T25: =T24-T20 -> 0 | U25: =U24-U20 -> 0 | V25: =V24-V20 -> 0 | W25: =W24-W20 -> 0 | X25: =X24-X20 -> 0
N27: =E20-J20 -> 3.0410409e+08
M28: תקציב קודם | S28: 502765897
M30: תנוס תבר 2060 אחרים | S30: =S24-S28 -> 60229

Sheet פרוט מקורות אחרים
A1: מקורות מימון אחרים - פרוט
A3: אגף/מחלקה | B3: רשות מקרקעי ישראל | C3: המשרד להגנת הסביבה | D3: משרד החינוך | E3: משרד התשתיות והאנרגיה | F3: הקרן לשמירה על שטחים פתוחים | G3: המשרד לשיוויון חברתי | H3: מפעל הפייס | I3: משרד תרבות והספורט | J3: משרד הבינוי והשיכון | K3: אחרים | L3: משרד לבטחון הפנים | M3: משרד התחבורה | N3: הכנסות בעד עבודות | O3: סה"כ
A4: מינהל הנדסה | J4: ='תקציב הנדסה 2020 '!Z59 -> 1254444 | O4: =SUM(B4:N4) -> 1254444 | Q4: ='ריכוז אגפים'!X7 -> 1254444 | R4: =Q4-O4 -> 0
A5: החברה לפיתוח הרצליה | B5: ='תקציב החברה לפיתוח 2020'!Z109+'תקציב החברה לפיתוח 2020'!Z110+'תקציב החברה לפיתוח 2020'!Z119 -> 47874676 | D5: ='תקציב החברה לפיתוח 2020'!Z114+'תקציב החברה לפיתוח 2020'!Z115+'תקציב החברה לפיתוח 2020'!Z117+2100000 -> 31000000 | I5: ='תקציב החברה לפיתוח 2020'!Z37+'תקציב החברה לפיתוח 2020'!Z49 -> 2663609 | K5: ='תקציב החברה לפיתוח 2020'!Z120-2100000 -> 16820000 | M5: ='תקציב החברה לפיתוח 2020'!Z29+'תקציב החברה לפיתוח 2020'!Z35+'תקציב החברה לפיתוח 2020'!Z96 -> 3067511 | O5: =SUM(B5:N5) -> 101425796 | Q5: ='ריכוז אגפים'!X8 -> 101425796 | R5: =Q5-O5 -> 0
A6: אגף ת.ב.ל | D6: ='תקציב אגף ת.ב.ל 2020 '!Z37+'תקציב אגף ת.ב.ל 2020 '!Z40+'תקציב אגף ת.ב.ל 2020 '!Z64 -> 9111300 | E6: ='תקציב אגף ת.ב.ל 2020 '!Z60 -> 2100000 | O6: =SUM(B6:N6) -> 11211300 | Q6: ='ריכוז אגפים'!X9 -> 11211300 | R6: =Q6-O6 -> 0
A7: אגף בטחון פיקוח וסדר ציבורי | O7: =SUM(B7:N7) -> 0 | Q7: ='ריכוז אגפים'!X10 -> 0 | R7: =Q7-O7 -> 0
A8: אגף החינוך | D8: ='תקציב אגף חינוך 2020'!Z19 -> 78000 | O8: =SUM(B8:N8) -> 78000 | Q8: ='ריכוז אגפים'!X11 -> 78000 | R8: =Q8-O8 -> 0
A9: אגף ת.נ.ו.ס | I9: ='תקציב אגף תנוס 2020 '!Z10+'תקציב אגף תנוס 2020 '!Z13 -> 240229 | L9: ='תקציב אגף תנוס 2020 '!Z16 -> 265000 | O9: =SUM(B9:N9) -> 505229 | Q9: ='ריכוז אגפים'!X12 -> 505229 | R9: =Q9-O9 -> 0
A10: אגף ש.א.י.פ.ה | C10: ='תקציב אגף שאיפה 2020 '!Z20 -> 108000 | K10: ='תקציב אגף שאיפה 2020 '!Z23 -> 132000 | N10: ='תקציב אגף שאיפה 2020 '!Z11 -> 17500000 | O10: =SUM(B10:N10) -> 17740000 | Q10: ='ריכוז אגפים'!X13 -> 17740000 | R10: =Q10-O10 -> 0
A11: רשות החופים | C11: ='תקציב רשות החופים 2020 '!Z6 -> -72000 | L11: ='תקציב רשות החופים 2020 '!Z20+'תקציב רשות החופים 2020 '!Z21+'תקציב רשות החופים 2020 '!Z22+'תקציב רשות החופים 2020 '!Z23 -> 100000 | O11: =SUM(B11:N11) -> 28000 | Q11: ='ריכוז אגפים'!X14 -> 28000 | R11: =Q11-O11 -> 0
A12: החברה לפיתוח תיירות | B12: ='תקציב החברה לתירות 2020 '!Z6 -> 0 | F12: ='תקציב החברה לתירות 2020 '!Z10 -> 800000 | O12: =SUM(B12:N12) -> 800000 | Q12: ='ריכוז אגפים'!X15 -> 800000 | R12: =Q12-O12 -> 0
A13: אגף תקשוב ומע. מידע | G13: ='תקציב אגף תקשוב 2020 '!Z10 -> 1500000 | H13: ='תקציב אגף תקשוב 2020 '!Z13 -> 2580000 | O13: =SUM(B13:N13) -> 4080000 | Q13: ='ריכוז אגפים'!X16 -> 4080000 | R13: =Q13-O13 -> 0
A14: אגף נכסים וביטוח | O14: =SUM(B14:N14) -> 0 | Q14: ='ריכוז אגפים'!X17 -> 0 | R14: =Q14-O14 -> 0
A15: מינהל כללי | O15: =SUM(B15:N15) -> 0 | Q15: ='ריכוז אגפים'!X18 -> 0 | R15: =Q15-O15 -> 0
A16: סה"כ | B16: =SUM(B4:B15) -> 47874676 | C16: =SUM(C4:C15) -> 36000 | D16: =SUM(D4:D15) -> 40189300 | E16: =SUM(E4:E15) -> 2100000 | F16: =SUM(F4:F15) -> 800000 | G16: =SUM(G4:G15) -> 1500000 | H16: =SUM(H4:H15) -> 2580000 | I16: =SUM(I4:I15) -> 2903838 | ... O16: =SUM(O4:O15) -> 137122769 | Q16: =SUM(Q4:Q15) -> 137122769 | R16: =SUM(R4:R15) -> 0
J19: =J16+D16+#REF!+Q16+H16+E16 -> #REF! | K19: =K16+E16+C16+B16+I16+F16 -> 70666514

Sheet תרשים מקורות מימון

Sheet הנדסה 2020
C3: מינהל הנדסה
B5: ü | C5: סך התקציב הנדרש בשנת 2020 ע"י מינהל הנדסה מסתכם ב - | H5: ='תקציב הנדסה 2020 '!U87 -> 32558338
B7: ü | C7: מספר הפרויקטים המטופל ע"י אגף הנדסה : | H7: ='תקציב הנדסה 2020 '!A87 -> 81
B9: ü | C9: מקורות מימון לפרויקטים :
C11: מקורות מימון | E11: סכום | H11: אחוז
C12: קרן עבודות פיתוח | E12: ='תקציב הנדסה 2020 '!V87 -> 31303894 | H12: =E12/$E$14 -> 0.96147088
C13: אחרים | E13: ='תקציב הנדסה 2020 '!Z87 -> 1254444 | H13: =E13/$E$14 -> 0.038529117
C14: סה"כ | E14: =SUM(E12:E13) -> 32558338 | H14: =E14/$E$14 -> 1
C16: ü | D16: עדכון שם תב"ר : מסומן (*) מס' 44
D18: תב"ר 1756 : מסמכי מדיניות להתחדשות עירונית בשכונות - מסמכי מדיניות ותוכניות אסטרטגיות
D19: להתחדשות עירונית בשכונות.
C26: ü | D26: תאור הפרויקטים מובא בעמודים 30 -25

Sheet הנדסה 2020 (2)
C3: מינהל הנדסה
B5: ü | C5: פרויקטים עיקריים בשנת 2020 :
D7: פרויקט | E7: סכום
D8: מערכת בקרת רמזורים | E8: 4800000
D9: סמטת ניסנוב | E9: 4200000
D10: פיתוח מתחם המכללות הר' 1920/1 | E10: 4000000
D11: תכנון וביצוע תוכנית אב לשבילי אופניים | E11: 3000000
D12: פיתוח רח' הארז והחרוב | E12: 2400000
D13: סקר חריגות בניה | E13: 2160000
D14: פינוי בינוי סוקולוב - רח' ירושלים | E14: 1958338
D15: שביל מתחם העצמאות הרב גורן הבנים | E15: 1100000
D17: פרויקט : ז'בוטינסקי
D38: פרויקט שהסתיים

Sheet תקציב הנדסה 2020 
A2: מינהל הנדסה
A4: מס' סידורי | B4: מס' תב"ר | C4: שם תב"ר | D4: אומדן כולל לפרויקט | E4: אומדן מאושר במועצה | F4: תוספת לאומדן לאישור המועצה | G4: תקציב מאושר | H4: ביצוע בפועל | I4: שריון מערך חוזים | J4: שריון מערך רכש | K4: סה"כ שריון התחייבויות | L4: סה"כ ביצוע | M4: יתרה לביצוע צפוי עד 31.12.2019 | N4: אומדן לביצוע שנת 2020 | O4: אומדן לביצוע שנת 2021 ואילך | P4: יתרת תקציב | Q4: תקציב נוסף נדרש במסגרת תוכנית עבודה 2019 | R4: תקציב נוסף נדרש מעבר לתוכנית עבודה 2019 | S4: סה"כ תקציב נוסף נדרש 2019 | T4: יתרת תקציב פנויה 31.12.2019 | U4: תקציב נדרש 2020 | V4: קרן עבודות פיתוח | W4: קרן עודפי תקציב רגיל | X4: קרן רכוש | Y4: קרן ייעודית | Z4: אחרים | AA4: תאור הפרויקט | AB4: פרק תב"ר
A6: =A5+1 -> 1 | B6: 179 | C6: יעודי קרקע -מפת בסיס | D6: =3000000+220250-150000+100000 -> 3170250 | E6: 3000000 | F6: =D6-E6 -> 170250 | G6: 2970250 | H6: 2858878.7 | J6: 27296.1 | K6: 27296.1 | L6: =H6+K6 -> 2886174.8 | M6: =P6+S6 -> 84075.21 | N6: =250000-150000+100000 -> 200000 | O6: =D6-L6-M6-N6 -> 0 | P6: =G6-L6 -> 84075.21 | S6: =SUM(Q6:R6) -> 0 | T6: =P6-M6+S6 -> 0 | U6: =N6-T6 -> 200000 | V6: =U6-Z6-W6-Y6 -> 200000 | AA6: עדכון מע. מידע הנדסי כתוצאה משינוי ייעודי קרקע עקב החלטות ועדות התכנון. | AB6: 732000
A7: =A6+1 -> 2 | B7: 304 | C7: פיתוח פארק הבאסה | D7: 54930000 | E7: 54930000 | F7: =D7-E7 -> 0 | G7: 54930000 | H7: 54780523 | I7: 149074.13 | K7: 149074.13 | L7: =H7+K7 -> 54929597 | M7: =P7+S7 -> 403.26 | O7: =D7-L7-M7-N7 -> 0 | P7: =G7-L7 -> 403.26 | S7: =SUM(Q7:R7) -> 0 | T7: =P7-M7+S7 -> 0 | U7: =N7-T7 -> 0 | V7: =U7-Z7-W7-Y7 -> 0 | AB7: 746000
A8: =A7+1 -> 3 | B8: 507 | C8: החלפת מדרכות | D8: 2310000 | E8: 2310000 | F8: =D8-E8 -> 0 | G8: 1765000 | H8: 1653104.2 | K8: 0 | L8: =H8+K8 -> 1653104.2 | M8: =P8+S8 -> 161895.77 | N8: =300000-150000 -> 150000 | O8: =D8-L8-M8-N8 -> 345000 | P8: =G8-L8 -> 111895.77 | Q8: 50000 | S8: =SUM(Q8:R8) -> 50000 | T8: =P8-M8+S8 -> 0 | U8: =N8-T8 -> 150000 | V8: =U8-Z8-W8-Y8 -> 150000 | AA8: מסגרת ביצוע עבודות מדרכות לאחר השלמת עבודות בניה כתוצאה מהיתרים. | AB8: 742000
A9: =A8+1 -> 4 | B9: 546 | C9: מתחם הגאון מוילנא חתם סופר | D9: =2920000+1300000-1300000 -> 2920000 | E9: 2920000 | F9: =D9-E9 -> 0 | G9: 2920000 | H9: 2895703.4 | J9: 18052.75 | K9: 18052.75 | L9: =H9+K9 -> 2913756.1 | M9: =P9+S9 -> 6243.85 | O9: =D9-L9-M9-N9 -> 0 | P9: =G9-L9 -> 6243.85 | S9: =SUM(Q9:R9) -> 0 | T9: =P9-M9+S9 -> 0 | U9: =N9-T9 -> 0 | V9: =U9-Z9-W9-Y9 -> 0 | AB9: 742000
A10: =A9+1 -> 5 | B10: 592 | C10: מתחם הבריגדה מתחם הר' 1960 | D10: 54893000 | E10: 54893000 | F10: =D10-E10 -> 0 | G10: =18720000+2000000 -> 20720000 | H10: 17898437 | I10: 149113.19 | J10: 2319961.1 | K10: 2469074.3 | L10: =H10+K10 -> 20367511 | M10: =P10+S10 -> 352488.67 | N10: 1300000 | O10: =D10-L10-M10-N10 -> 32873000 | P10: =G10-L10 -> 352488.67 | S10: =SUM(Q10:R10) -> 0 | T10: =P10-M10+S10 -> 0 | U10: =N10-T10 -> 1300000 | V10: =U10-Z10-W10-Y10 -> 1300000 | AA10: ביצוע עבודות סלילה ופיתוח סופי רח' דן שומרון. תכנון רח' דורי. | AB10: 742000
A11: =A10+1 -> 6 | B11: 608 | C11: עבודות ניקוז בעיר | D11: 8300000 | E11: 8300000 | F11: =D11-E11 -> 0 | G11: 6200000 | H11: 5233021.7 | J11: 366573.76 | K11: 366573.76 | L11: =H11+K11 -> 5599595.4 | M11: =P11+S11-200000 -> 400404.57 | N11: 200000 | O11: =D11-L11-M11-N11 -> 2100000 | P11: =G11-L11 -> 600404.57 | S11: =SUM(Q11:R11) -> 0 | T11: =P11-M11+S11 -> 200000 | U11: =N11-T11 -> 0 | V11: =U11-Z11-W11-Y11 -> 0 | AA11: סל עבודות ניקוז ברחבי העיר . | AB11: 745000
A12: =A11+1 -> 7 | B12: 626 | C12: תכנון וביצוע תוכנית אב לשבילי אופניים | D12: =20025000+5170000 -> 25195000 | E12: 20025000 | F12: =D12-E12 -> 5170000 | G12: =14525000+250000 -> 14775000 | H12: 13572560 | I12: 277593.86 | J12: 64255.41 | K12: 341849.27 | L12: =H12+K12 -> 13914410 | M12: =P12+S12 -> 860590.31 | N12: =10420000-7420000 -> 3000000 | O12: =D12-L12-M12-N12 -> 7420000 | P12: =G12-L12 -> 860590.31 | S12: =SUM(Q12:R12) -> 0 | T12: =P12-M12+S12 -> 0 | U12: =N12-T12 -> 3000000 | V12: =U12-Z12-W12-Y12 -> 3000000 | AA12: תכנון וביצוע שבילי אופנים וביצוע ברחבי העיר . ב - 2020 : תכנון: רח' הבנים, גן רשל, ארלוזרוב,הדר ,לפקין שחק. | AB12: 732000
A13: =A12+1 -> 8 | B13: 638 | C13: פיתוח מתחם רזיאל מע' תב"ע 1706 | D13: 7000000 | E13: 7000000 | F13: =D13-E13 -> 0 | G13: 4600000 | H13: 3454839 | J13: 480319.16 | K13: 480319.16 | L13: =H13+K13 -> 3935158.1 | M13: =P13+S13 -> 664841.88 | O13: =D13-L13-M13-N13 -> 2400000 | P13: =G13-L13 -> 664841.88 | S13: =SUM(Q13:R13) -> 0 | T13: =P13-M13+S13 -> 0 | U13: =N13-T13 -> 0 | V13: =U13-Z13-W13-Y13 -> 0 | AA13: פיתוח ברח' העפרוני וזאב במתחם. הביצוע כולל תאורה וסלילת רחוב משולב . | AB13: 742000
A14: =A13+1 -> 9 | B14: 1018 | C14: מחלף הרב מכר | D14: 31900000 | E14: 31900000 | F14: =D14-E14 -> 0 | G14: 5100000 | H14: 3059670.8 | I14: 84192.99 | K14: 84192.99 | L14: =H14+K14 -> 3143863.8 | M14: =P14+S14-1400000 -> 556136.22 | O14: =D14-L14-M14-N14 -> 28200000 | P14: =G14-L14 -> 1956136.2 | S14: =SUM(Q14:R14) -> 0 | T14: =P14-M14+S14 -> 1400000 | U14: =N14-T14 -> -1400000 | V14: =U14-Z14-W14-Y14 -> -1400000 | AA14: פרויקט ממשלתי המתוקצב ע"י המדינה במקביל לרשות. הביצוע העירוני מתעכב עקב בעית פולש והמינהל. | AB14: 742000
A15: =A14+1 -> 10 | B15: 1100 | C15: תכנון מתחם הר' 2200 | D15: 7000000 | E15: 7000000 | F15: =D15-E15 -> 0 | G15: =5750000+150000 -> 5900000 | H15: 3232572.1 | I15: 1951485.8 | J15: 142466.79 | K15: 2093952.6 | L15: =H15+K15 -> 5326524.7 | M15: =P15+S15 -> 573475.33 | N15: 400000 | O15: =D15-L15-M15-N15 -> 700000 | P15: =G15-L15 -> 573475.33 | S15: =SUM(Q15:R15) -> 0 | T15: =P15-M15+S15 -> 0 | U15: =N15-T15 -> 400000 | V15: =U15-Z15-W15-Y15 -> 400000 | AA15: תכנון מתחם חוף התכלת. עתירה של בעלי הקרקע הפרטיים על השתהות בקידום התוכנית . | AB15: 732000
A16: =A15+1 -> 11 | B16: 1129 | C16: עבודות פיתוח ותשתיות קטנות | D16: 7000000 | E16: 7000000 | F16: =D16-E16 -> 0 | G16: 5991771 | H16: 5064670.5 | J16: 229476.89 | K16: 229476.89 | L16: =H16+K16 -> 5294147.4 | M16: =P16+S16-500000 -> 197623.64 | N16: 500000 | O16: =D16-L16-M16-N16 -> 1008229 | P16: =G16-L16 -> 697623.64 | S16: =SUM(Q16:R16) -> 0 | T16: =P16-M16+S16 -> 500000 | U16: =N16-T16 -> 0 | V16: =U16-Z16-W16-Y16 -> 0 | AA16: סל עבודות פיתוח קטנות מזדמנות הנדרשות במהלך השנה. | AB16: 742000
A17: =A16+1 -> 12 | B17: 1220 | C17: תכנונים כלליים | D17: 7000000 | E17: 7000000 | F17: =D17-E17 -> 0 | G17: 5600000 | H17: 4582039.1 | I17: 104327.73 | J17: 313039.26 | K17: 417366.99 | L17: =H17+K17 -> 4999406.1 | M17: =P17+S17 -> 600593.94 | N17: 700000 | O17: =D17-L17-M17-N17 -> 700000 | P17: =G17-L17 -> 600593.94 | S17: =SUM(Q17:R17) -> 0 | T17: =P17-M17+S17 -> 0 | U17: =N17-T17 -> 700000 | V17: =U17-Z17-W17-Y17 -> 700000 | AA17: סל תכנון של תוכניות ופרויקטים, מדידות ותכנון ראשוני. | AB17: 732000
A18: =A17+1 -> 13 | B18: 1320 | C18: פארק הבאסה שלב ב' | D18: 23500000 | E18: 23500000 | F18: =D18-E18 -> 0 | G18: 21550000 | H18: 21339439 | I18: 204226.2 | K18: 204226.2 | L18: =H18+K18 -> 21543665 | M18: =P18+S18 -> 6334.72 | O18: =D18-L18-M18-N18 -> 1950000 | P18: =G18-L18 -> 6334.72 | S18: =SUM(Q18:R18) -> 0 | T18: =P18-M18+S18 -> 0 | U18: =N18-T18 -> 0 | V18: =U18-Z18-W18-Y18 -> 0 | AB18: 746000
A19: =A18+1 -> 14 | B19: 1324 | C19: שצ"פ אל על והמינהרה | D19: 180000 | E19: 180000 | F19: =D19-E19 -> 0 | G19: 180000 | H19: 120629.48 | J19: 38760 | K19: 38760 | L19: =H19+K19 -> 159389.48 | M19: =P19+S19 -> 20610.52 | O19: =D19-L19-M19-N19 -> 0 | P19: =G19-L19 -> 20610.52 | S19: =SUM(Q19:R19) -> 0 | T19: =P19-M19+S19 -> 0 | U19: =N19-T19 -> 0 | V19: =U19-Z19-W19-Y19 -> 0 | AB19: 742000
A20: =A19+1 -> 15 | B20: 1363 | C20: מתחם יהודה המכבי וזוהר טל | D20: 15500000 | E20: 15500000 | F20: =D20-E20 -> 0 | G20: 6050000 | H20: 934884.96 | I20: 72509.9 | J20: 283872.08 | K20: 356381.98 | L20: =H20+K20 -> 1291266.9 | M20: =P20+S20 -> 6758733.1 | O20: =D20-L20-M20-N20 -> 7450000 | P20: =G20-L20 -> 4758733.1 | Q20: 2000000 | S20: =SUM(Q20:R20) -> 2000000 | T20: =P20-M20+S20 -> 0 | U20: =N20-T20 -> 0 | V20: =U20-Z20-W20-Y20 -> 0 | AA20: פיתוח מתחם הרחובות יהודה המכבי, זוהר טל, האצל, הגבורה. תכנון ותחילת ביצוע. | AB20: 742000
A21: =A20+1 -> 16 | B21: 1366 | C21: ליווי תשתיות לאומיות | D21: 1500000 | E21: 1500000 | F21: =D21-E21 -> 0 | G21: 846000 | H21: 740835.72 | J21: 1755.22 | K21: 1755.22 | L21: =H21+K21 -> 742590.94 | M21: =P21+S21 -> 103409.06 | O21: =D21-L21-M21-N21 -> 654000 | P21: =G21-L21 -> 103409.06 | S21: =SUM(Q21:R21) -> 0 | T21: =P21-M21+S21 -> 0 | U21: =N21-T21 -> 0 | V21: =U21-Z21-W21-Y21 -> 0 | AA21: ליווי יועצי תנועה, איכות הסביבה, במסגרת סלילת כביש 531 וכביש 20. | AB21: 742000
A22: =A21+1 -> 17 | B22: 1406 | C22: שימור אתרים | D22: =1300000+100000 -> 1400000 | E22: 1300000 | F22: =D22-E22 -> 100000 | G22: 1300000 | H22: 833530.52 | I22: 33785.1 | J22: 15530.64 | K22: 49315.74 | L22: =H22+K22 -> 882846.26 | M22: =P22+S22 -> 417153.74 | N22: 100000 | O22: =D22-L22-M22-N22 -> 0 | P22: =G22-L22 -> 417153.74 | S22: =SUM(Q22:R22) -> 0 | T22: =P22-M22+S22 -> 0 | U22: =N22-T22 -> 100000 | V22: =U22-Z22-W22-Y22 -> 100000 | AA22: הכנת תב"עות לשימור אתרים. | AB22: 732000
A23: =A22+1 -> 18 | B23: 1407 | C23: תב"עות קטנות | D23: 4895000 | E23: 4895000 | F23: =D23-E23 -> 0 | G23: 3795000 | H23: 2554334.2 | I23: 107604.98 | J23: 699067.14 | K23: 806672.12 | L23: =H23+K23 -> 3361006.3 | M23: =P23+S23 -> 433993.7 | N23: =500000-200000+400000+400000-300000 -> 800000 | O23: =D23-L23-M23-N23 -> 300000 | P23: =G23-L23 -> 433993.7 | S23: =SUM(Q23:R23) -> 0 | T23: =P23-M23+S23 -> 0 | U23: =N23-T23 -> 800000 | V23: =U23-Z23-W23-Y23 -> 800000 | AA23: סל תכנון של תב"עות הנדרשות במהלך השנה. | AB23: 732000
A24: =A23+1 -> 19 | B24: 1409 | C24: תוכנית המתאר הכוללנית | D24: 7680000 | E24: 7680000 | F24: =D24-E24 -> 0 | G24: 7680000 | H24: 3947924.4 | I24: 2279160 | J24: 8716.5 | K24: 2287876.5 | L24: =H24+K24 -> 6235800.8 | M24: =P24+S24 -> 1444199.2 | O24: =D24-L24-M24-N24 -> 0 | P24: =G24-L24 -> 1444199.2 | S24: =SUM(Q24:R24) -> 0 | T24: =P24-M24+S24 -> 0 | U24: =N24-T24 -> 0 | V24: =U24-Z24-W24-Y24 -> 0 | AA24: הכנת תוכנית מתאר כוללנית על מנת לאפשר לעיריה לתכנן תוכניות בסמכות וועדה מקומית. | AB24: 732000
A25: =A24+1 -> 20 | B25: 1457 | C25: ליווי "מהיר" לעיר | D25: 1100000 | E25: 1100000 | F25: =D25-E25 -> 0 | G25: 430000 | H25: 163760.09 | J25: 12899.24 | K25: 12899.24 | L25: =H25+K25 -> 176659.33 | M25: =P25+S25-200000 -> 53340.67 | N25: =500000-300000 -> 200000 | O25: =D25-L25-M25-N25 -> 670000 | P25: =G25-L25 -> 253340.67 | S25: =SUM(Q25:R25) -> 0 | T25: =P25-M25+S25 -> 200000 | U25: =N25-T25 -> 0 | V25: =U25-Z25-W25-Y25 -> 0 | AA25: העסקת צוות יועצים שילווה את התכנון והביצוע של הפרויקט. | AB25: 742000
A26: =A25+1 -> 21 | B26: 1466 | C26: תמ"א 38 | D26: 2200000 | E26: 2200000 | F26: =D26-E26 -> 0 | G26: 1500000 | H26: 1218739.9 | J26: 25974 | K26: 25974 | L26: =H26+K26 -> 1244713.9 | M26: =P26+S26-100000 -> 155286.11 | N26: 100000 | O26: =D26-L26-M26-N26 -> 700000 | P26: =G26-L26 -> 255286.11 | S26: =SUM(Q26:R26) -> 0 | T26: =P26-M26+S26 -> 100000 | U26: =N26-T26 -> 0 | V26: =U26-Z26-W26-Y26 -> 0 | AA26: העצמת הזכויות הנוספות לבנינים לצורך הגברת הכדאיות של ביצוע חיזוק מבנים. | AB26: 732000
A27: =A26+1 -> 22 | B27: 1511 | C27: פתוח קטעי רח' דרך ירושלים גולומב | D27: 960000 | E27: 960000 | F27: =D27-E27 -> 0 | G27: 100000 | H27: 17284 | K27: 0 | L27: =H27+K27 -> 17284 | M27: =P27+S27 -> 82716 | O27: =D27-L27-M27-N27 -> 860000 | P27: =G27-L27 -> 82716 | S27: =SUM(Q27:R27) -> 0 | T27: =P27-M27+S27 -> 0 | U27: =N27-T27 -> 0 | V27: =U27-Z27-W27-Y27 -> 0 | AA27: הקמת חניות והסדרים גיאומטרים ליד מבנה לזכר השואה שיוקם ע"י היזם (ליאור דינור ואחרים). מימון היזם מובטח בערבות. | AB27: 742000
A28: =A27+1 -> 23 | B28: 1527 | C28: התחדשות עירונית יד התשעה | D28: 3000000 | E28: 3000000 | F28: =D28-E28 -> 0 | G28: 850000 | H28: 821144.02 | J28: 526.5 | K28: 526.5 | L28: =H28+K28 -> 821670.52 | M28: =P28+S28 -> 28329.48 | N28: =100000+250000 -> 350000 | O28: =D28-L28-M28-N28 -> 1800000 | P28: =G28-L28 -> 28329.48 | S28: =SUM(Q28:R28) -> 0 | T28: =P28-M28+S28 -> 0 | U28: =N28-T28 -> 350000 | V28: =U28-Z28-W28-Y28 -> 350000 | AA28: תכנון התחדשות עירונית ביד התשעה במסגרת תוכנית כללית/תוכניות מתחמיות. | AB28: 732000
A29: =A28+1 -> 24 | B29: 1529 | C29: הוצאות בקשר עם תביעות סעיף 197 | D29: 500000 | E29: 400000 | F29: =D29-E29 -> 100000 | G29: 400000 | H29: 346975.05 | J29: 25400.7 | K29: 25400.7 | L29: =H29+K29 -> 372375.75 | M29: =P29+S29 -> 27624.25 | N29: 100000 | O29: =D29-L29-M29-N29 -> 0 | P29: =G29-L29 -> 27624.25 | S29: =SUM(Q29:R29) -> 0 | T29: =P29-M29+S29 -> 0 | U29: =N29-T29 -> 100000 | V29: =U29-Z29-W29-Y29 -> 100000 | AA29: סל הוצאות בקשר עם תביעות סעיף 197. | AB29: 760000
A30: =A29+1 -> 25 | B30: 1551 | C30: צפון הרצליה הר' 2035 | D30: 525240 | E30: 525240 | F30: =D30-E30 -> 0 | G30: 375240 | H30: 204671 | J30: 19855 | K30: 19855 | L30: =H30+K30 -> 224526 | M30: =P30+S30 -> 150714 | N30: 150000 | O30: =D30-L30-M30-N30 -> 0 | P30: =G30-L30 -> 150714 | S30: =SUM(Q30:R30) -> 0 | T30: =P30-M30+S30 -> 0 | U30: =N30-T30 -> 150000 | V30: =U30-Z30-W30-Y30 -> 150000 | AA30: הערכות להתנגדות לתוכנית שמקדם מינהל התכנון והועדה המחוזית לכל צפון הרצליה ללא שיתוף העירייה. | AB30: 732000
A31: =A30+1 -> 26 | B31: 1568 | C31: פיתוח פארק שלב ג' | D31: 46375301 | E31: 46375301 | F31: =D31-E31 -> 0 | G31: 28875301 | H31: 27763907 | I31: 822126.24 | J31: 55293.26 | K31: 877419.5 | L31: =H31+K31 -> 28641327 | M31: =P31+S31 -> 233974.19 | O31: =D31-L31-M31-N31 -> 17500000 | P31: =G31-L31 -> 233974.19 | S31: =SUM(Q31:R31) -> 0 | T31: =P31-M31+S31 -> 0 | U31: =N31-T31 -> 0 | V31: =U31-Z31-W31-Y31 -> 0 | AB31: 746000
A32: =A31+1 -> 27 | B32: 1576 | C32: הוצאות אכיפה-דירות נופש במרינה | D32: 1000000 | E32: 1000000 | F32: =D32-E32 -> 0 | G32: 420000 | H32: 363674.17 | I32: 35099 | K32: 35099 | L32: =H32+K32 -> 398773.17 | M32: =P32+S32 -> 21226.83 | N32: 30000 | O32: =D32-L32-M32-N32 -> 550000 | P32: =G32-L32 -> 21226.83 | S32: =SUM(Q32:R32) -> 0 | T32: =P32-M32+S32 -> 0 | U32: =N32-T32 -> 30000 | V32: =U32-Z32-W32-Y32 -> 30000 | AA32: עלויות אכיפה צווי בית משפט במרינה. | AB32: 732000
A33: =A32+1 -> 28 | B33: 1587 | C33: פיתוח מתחם המכללות הר' 1920/1 | D33: 34200000 | E33: 34200000 | F33: =D33-E33 -> 0 | G33: 11550000 | H33: 8929257.2 | I33: 799141.59 | J33: 1096116.3 | K33: 1895257.9 | L33: =H33+K33 -> 10824515 | M33: =P33+S33 -> 725484.88 | N33: =11300000-4300000-3000000 -> 4000000 | O33: =D33-L33-M33-N33 -> 18650000 | P33: =G33-L33 -> 725484.88 | S33: =SUM(Q33:R33) -> 0 | T33: =P33-M33+S33 -> 0 | U33: =N33-T33 -> 4000000 | V33: =U33-Z33-W33-Y33 -> 4000000 | AA33: עבודה סלילה, גינון ותאורה במתחם. | AB33: 742000
A34: =A33+1 -> 29 | B34: 1601 | C34: העתקות פרויקטים שונים | D34: 700000 | E34: 700000 | F34: =D34-E34 -> 0 | G34: 650000 | H34: 512755.34 | J34: 20613.2 | K34: 20613.2 | L34: =H34+K34 -> 533368.54 | M34: =P34+S34 -> 116631.46 | O34: =D34-L34-M34-N34 -> 50000 | P34: =G34-L34 -> 116631.46 | S34: =SUM(Q34:R34) -> 0 | T34: =P34-M34+S34 -> 0 | U34: =N34-T34 -> 0 | V34: =U34-Z34-W34-Y34 -> 0 | AB34: 742000
A35: =A34+1 -> 30 | B35: 1602 | C35: רח' ז'בוטינסקי אלתרמן הבריגדה | D35: =29500000+3000000 -> 32500000 | E35: 29500000 | F35: =D35-E35 -> 3000000 | G35: 32500000 | H35: 29008286 | I35: 2652256.2 | J35: 150108.25 | K35: 2802364.5 | L35: =H35+K35 -> 31810651 | M35: =P35+S35 -> 689349.07 | O35: =D35-L35-M35-N35 -> 0 | P35: =G35-L35 -> 689349.07 | S35: =SUM(Q35:R35) -> 0 | T35: =P35-M35+S35 -> 0 | U35: =N35-T35 -> 0 | V35: =U35-Z35-W35-Y35 -> 0 | AA35: עבודות פיתוח במתחם הרחובות והרחבתם.סיום. חן סופיים. | AB35: 742000
A36: =A35+1 -> 31 | B36: 1619 | C36: הסדרת שצ"פ למגורים הר' 2257 | D36: 250000 | E36: 250000 | F36: =D36-E36 -> 0 | G36: 200000 | H36: 90207 | J36: 10580.9 | K36: 10580.9 | L36: =H36+K36 -> 100787.9 | M36: =P36+S36 -> 99212.1 | O36: =D36-L36-M36-N36 -> 50000 | P36: =G36-L36 -> 99212.1 | S36: =SUM(Q36:R36) -> 0 | T36: =P36-M36+S36 -> 0 | U36: =N36-T36 -> 0 | V36: =U36-Z36-W36-Y36 -> 0 | AA36: תכנון שינוי תב"ע משצ"פ למגורים בעקבות היתרים קיימים משנות ה - 90 שאינם תואמים למצב הסטטוטורי הקיים. | AB36: 732000
