Workbook

Sheet תקציב 2020

Sheet תוכן ענינים
B2: תוכן | H2: עמודים
B4: מבוא | H4: 3
B5: התקציב הבלתי רגיל לשנת 2019 – ביצוע | H5: 4
B6: הצעת התקציב הבלתי רגיל לשנת 2020
B7: ריכוזים ודברי הסבר | H7: 5-16
B8: מינהל הנדסה | H8: 17-30
B9: החברה לפיתוח הרצליה | H9: 31-51
B10: אגף ת.ב.ל | H10: 52-63
B11: אגף בטחון פיקוח וסדר ציבורי | H11: 64-65
B12: אגף חינוך | H12: 66-68
B13: אגף ת.נ.ו.ס | H13: 69-71
B14: אגף ש.א.י.פ.ה | H14: 72-81
B15: רשות החופים | H15: 82-84
B16: החברה לפיתוח התיירות הרצליה | H16: 85-86
B17: אגף תקשוב ומערכות מידע | H17: 87-90
B18: אגף נכסים וביטוח | H18: 91-93
... B21: פרויקטים בביצוע החברה לפיתוח | H21: 131-132

Sheet מבוא
A4: 1. | B4: 1. | C4: מבוא
A6: 1.1 | C6: רקע :
C7: התקציב הבלתי רגיל (תב"ר) מהווה מסגרת תקציבית שנועדה בעיקר לביצוע פרויקטים של עבודות
C8: פיתוח ותשתיות, שיפוץ ובניה , בהיקף תקציבי נכבד המבוצעות במשך תקופה ארוכה ואינם מוגבלים
C9: לתקופה של שנת תקציב.
C11: מקורות המימון לתב"ר הינם :
B12: ü | C12: מענקים ממקורות שלטוניים ובעיקר ממשרדי ממשלה.
B13: ü | C13: מענקים ממוסדות שאינם שלטוניים כגון : מפעל הפייס ,המועצה להסדר הימורים, השתתפויות ועוד.
B14: ü | C14: מקורות עצמיים של הרשות הכוללים היטלי השבחה , היטלי פיתוח , העברות מתקציב רגיל,
C15: תרומות, מימוש נכסים.
B16: ü | C16: הלוואות לזמן ארוך.
A18: 1.2 | C18: אישור התקציב הבלתי רגיל :
C19: על פי הוראות משרד הפנים ,לכל פרויקט יש לקבוע את היקף ההשקעה ומקורות המימון.
C20: ב – 10.2.2014 אושר במליאת הכנסת חוק רשויות איתנות על פיו ניתנו לרשויות איתנות המתנהלות
C21: בהתאם לקריטריונים שנקבעו , הקלות מבחינת האסדרה של משרד הפנים , בין היתר בתחום התקציב.
C22: ב – 16.3.2014 הכריז משרד הפנים על עיריית הרצליה כעל עירייה איתנה.
A24: 1.3 | C24: חברי וועדת הכספים/מועצת העיר מתבקשים לאשר בזאת : | E24: באלפי ₪
B27: ü | C27: תקציב בלתי רגיל לשנת 2020 בהשקעה של | E27: ='ריכוז אגפים'!S19/1000 -> 502826.13
B29: ü | C29: לביצוע פרויקטים בשנת 2020 בסכום של | E29: ='ריכוז אגפים'!L19/1000 -> 566256.2
B31: ü | C31: מתוך אומדן כולל של הפרויקטים בסכום של | E31: ='ריכוז אגפים'!B19/1000 -> 4639177.7
B34: ü | C34: פרויקטים שהיקפם עולה על 14,785 אלפי ₪ בביצוע החברה לפיתוח הרצליה.

Sheet תקציב 2019
A2: 2. | C2: התקציב הבלתי רגיל לשנת 2019
C4: הצעת התקציב הבלתי רגיל לשנת 2019 אושרה במועצת העיר בחודש דצמבר 2018 .
C5: הצעת התקציב הבלתי רגיל לשנת 2019 הסתכמה בסכום של 489,408 אלפי ₪ .
C7: מקורות המימון באלפי ₪ היו כדלקמן -
B9: ü | C9: קרן עבודות פיתוח | D9: 290040
B10: ü | C10: קרן עודפי תקציב רגיל | D10: 44000
B11: ü | C11: קרן מכירת רכוש
B12: ü | C12: קרן ייעודית מתחם גליל ים | D12: 34723
B13: ü | C13: משרדי ממשלה ואחרים | D13: 120645
C14: סה"כ | D14: =SUM(D9:D13) -> 489408
C16: להלן נתוני ביצוע באלפי ₪ של התקציב הבלתי רגיל לשנת 2019 :
C18: סה"כ תקציב | D18: קרן עבודות פיתוח | E18: קרן עודפי תקציב רגיל | F18: קרן רכוש | G18: קרן ייעודית מתחם גליל ים | H18: משרדי ממשלה ואחרים | I18: סה"כ
C19: מסגרת תוכנית פיתוח | D19: =D9 -> 290040 | E19: =D10 -> 44000 | F19: =D11 -> 0 | G19: =D12 -> 34723 | H19: =D13 -> 120645 | I19: =SUM(D19:H19) -> 489408
C20: ביצוע כולל צפי עד 31.12.2019 | D20: ='ריכוז אגפים 2019'!AM$19/1000 -> 220080.89 | E20: ='ריכוז אגפים 2019'!AN$19/1000 -> 39493 | F20: ='ריכוז אגפים 2019'!AO$19/1000 -> 0 | G20: ='ריכוז אגפים 2019'!AP$19/1000 -> 21640.345 | H20: ='ריכוז אגפים 2019'!AQ$19/1000 -> 53850.543 | I20: =SUM(D20:H20) -> 335064.77
C21: אחוז ביצוע | D21: =D20/D19*100 -> 75.879495 | E21: =E20/E19*100 -> 89.756818 | G21: =G20/G19*100 -> 62.322798 | H21: =H20/H19*100 -> 44.635536 | I21: =I20/I19*100 -> 68.463281
C22: תקציב מעבר למסגרת תוכנית הפיתוח כולל צפי עד 31.12.2019 | D22: ='ריכוז תקציב מעבר לתוכנית 2019'!AC92/1000 -> 13693.679 | E22: ='ריכוז תקציב מעבר לתוכנית 2019'!AD92/1000 -> 7945.419 | H22: ='ריכוז תקציב מעבר לתוכנית 2019'!AE92/1000 -> 6687.48 | I22: =SUM(D22:H22) -> 28326.578
C23: סה"כ | D23: =D20+D22 -> 233774.57 | E23: =E20+E22 -> 47438.419 | F23: =F20+F22 -> 0 | G23: =G20+G22 -> 21640.345 | H23: =H20+H22 -> 60538.023 | I23: =SUM(D23:H23) -> 363391.35
C24: אחוז ביצוע | D24: =D23/D19*100 -> 80.600802 | E24: =E23/E19*100 -> 107.81459 | F24: =F23/F19*100 -> #DIV/0! | G24: =G23/G19*100 -> 62.322798 | H24: =H23/H19*100 -> 50.178642 | I24: =I23/I19*100 -> 74.251208
C26: דו"ח מפורט מובא בעמודים 96-130

Sheet תקציב 2020 
A4: 3. | C4: הצעת התקציב הבלתי רגיל לשנת 2020
G5: באלפי ₪
A7: 3.1 | C7: הצעת התקציב הבלתי רגיל מסתכמת בהשקעה של | G7: =מבוא!E27 -> 502826.13
C9: לביצוע פרויקטים בשנת 2020 בסכום של | G9: =מבוא!E29 -> 566256.2
C11: מתוך אומדן כולל של הפרויקטים בסכום של | G11: =מבוא!E31 -> 4639177.7
A15: 3.2 | C15: הפרויקטים הבולטים לשנת 2020 הינם :
B16: ü | C16: עבודות פיתוח תשתיות, פארק, מוסדות חינוך ומבני ציבור במתחם גליל ים.
B17: ü | C17: פיתוח מתחם "מרינה לי".
B18: ü | C18: פיתוח מתחם זרובבל.
B19: ü | C19: תכנון חניון "מרינה לי".
B20: ü | C20: פיתוח מתחם המכללות הר' 1920/1 .
B21: ü | C21: המשך תכנון וביצוע מערך שבילי אופניים ברחבי העיר.
B22: ü | C22: פרויקטים של חסכון והתייעלות אנרגטית במוסדות חינוך ובמבני ציבור.
B23: ü | C23: פרויקט "עיר חכמה" - התקנת מערכות שליטה ובקרה,מצלמות ופריסת תשתיות ברחבי העיר.
B24: ü | C24: פיתוח והקמת מתנ"סים.
B25: ü | C25: פיתוח והקמת אולמות ספורט.
B26: ü | C26: המשך ההשקעות בבניה חדשה כולל שדרוגים של מוסדות חינוך ברחבי העיר.

Sheet תקציב 2020 פרקים
A5: 3.3 | C5: חלוקת העלויות בתקציב באלפי ₪ על פי פרקים עיקריים מפורטת להלן –
C7: שם פרק | E7: מס' פרק | F7: שנת 2020 | G7: שנת 2019
C8: חינוך | E8: 81 | F8: ='ריכוז פרקים'!S11/1000 -> 213194.97 | G8: 83574.3 | I8: =F8/$F$21 -> 0.42399342
C9: נכסים ציבוריים | E9: 74 | F9: ='ריכוז פרקים'!S8/1000 -> 153631.32 | G9: 244597.3 | I9: =F9/$F$21 -> 0.30553567
C10: תרבות וספורט | E10: 82 | F10: ='ריכוז פרקים'!S12/1000 -> 53297.229 | G10: 80246 | I10: =F10/$F$21 -> 0.10599535
C11: תרבות הדיור | E11: 764 | F11: ='ריכוז פרקים'!S17/1000 -> 17500 | G11: 16350 | I11: =F11/$F$21 -> 0.034803283
C12: שרותים עירוניים שונים | E12: 76 | F12: ='ריכוז פרקים'!S10/1000 -> 16600 | G12: 13960 | I12: =F12/$F$21 -> 0.0330134
C13: תכנון בנין עיר | E13: 73 | F13: ='ריכוז פרקים'!S7/1000 -> 16243.338 | G13: 19720 | I13: =F13/$F$21 -> 0.032304085
C14: נכסים | E14: 93 | F14: ='ריכוז פרקים'!S18/1000 -> 12524.3 | G14: 12154 | I14: =F14/$F$21 -> 0.024907815
C15: איכות הסביבה | E15: 87 | F15: ='ריכוז פרקים'!S15/1000 -> 10300 | G15: 3130 | I15: =F15/$F$21 -> 0.020484218
C16: טיפול במרחב ציבורי | E16: 848 | F16: ='ריכוז פרקים'!S16/1000 -> 3600 | G16: 6500 | I16: =F16/$F$21 -> 0.0071595325
C17: רווחה | E17: 84 | F17: ='ריכוז פרקים'!S13/1000 -> 2550 | G17: 50 | I17: =F17/$F$21 -> 0.0050713355
C18: חופים | E18: 747 | F18: ='ריכוז פרקים'!S9/1000 -> 2234.971 | G18: 3416 | I18: =F18/$F$21 -> 0.0044448188
C19: מבני דת ציבוריים | E19: 85 | F19: ='ריכוז פרקים'!S14/1000 -> 1050 | G19: 5425 | I19: =F19/$F$21 -> 0.002088197
C20: מינהל כללי | E20: 61 | F20: ='ריכוז פרקים'!S6/1000 -> 100 | G20: 285 | I20: =F20/$F$21 -> 0.0001988759
C21: סה"כ | F21: =SUM(F8:F20) -> 502826.13 | G21: =SUM(G8:G20) -> 489407.6 | I21: =SUM(I8:I20) -> 1

Sheet תקציב 2020  אגפים 
A5: 3.4 | C5: חלוקת ההשקעה בתקציב באלפי ₪ על פי אגפים/יחידות מפורטת להלן -
C7: שם פרק | F7: שנת 2020 | G7: שנת 2019
C8: מינהל הנדסה | F8: ='ריכוז אגפים'!$S7/1000 -> 32558.338 | G8: 42417 | J8: =F8/$F$22 -> 0.064750689
C9: החברה לפיתוח הרצליה | F9: ='ריכוז אגפים'!$S8/1000 -> 337850.03 | G9: 309253 | J9: =F9/$F$22 -> 0.6719023
C10: אגף ת.ב.ל | F10: ='ריכוז אגפים'!$S9/1000 -> 54061.3 | G10: 49451 | J10: =F10/$F$22 -> 0.1075149
C11: אגף בטחון,פיקוח וסדר ציבורי | F11: ='ריכוז אגפים'!$S10/1000 -> 500 | G11: 1660 | J11: =F11/$F$22 -> 0.00099437952
C12: אגף חינוך | F12: ='ריכוז אגפים'!$S11/1000 -> 4995 | G12: 8412 | J12: =F12/$F$22 -> 0.0099338514
C13: אגף ת.נ.ו.ס | F13: ='ריכוז אגפים'!$S12/1000 -> 3940.229 | G13: 3120 | J13: =F13/$F$22 -> 0.007836166
C14: אגף ש.א.י.פ.ה | F14: ='ריכוז אגפים'!$S13/1000 -> 33192 | G14: 36405 | J14: =F14/$F$22 -> 0.06601089
C15: רשות החופים | F15: ='ריכוז אגפים'!$S14/1000 -> 1934.971 | G15: 1866 | J15: =F15/$F$22 -> 0.0038481911
C16: איכות הסביבה | G16: =3211.058-3211.058 -> 0 | J16: =F16/$F$22 -> 0
C17: החברה לפיתוח התיירות | F17: ='ריכוז אגפים'!$S15/1000 -> 2015 | G17: 7930 | J17: =F17/$F$22 -> 0.0040073495
C18: אגף תקשוב ומערכות מידע | F18: ='ריכוז אגפים'!$S16/1000 -> 13930 | G18: 12925 | J18: =F18/$F$22 -> 0.027703413
C19: אגף נכסים וביטוח | F19: ='ריכוז אגפים'!$S17/1000 -> 8924.3 | G19: 7949 | J19: =F19/$F$22 -> 0.017748282
C20: שיפוץ חזיתות/עמידר | G20: =13750-13750 -> 0 | J20: =F20/$F$22 -> 0
C21: כללי | F21: ='ריכוז אגפים'!$S18/1000 -> 8924.955 | G21: 8020 | J21: =F21/$F$22 -> 0.017749585
C22: סה"כ | F22: =SUM(F8:F21) -> 502826.13 | G22: =SUM(G8:G21) -> 489408 | J22: =SUM(J8:J21) -> 1

Sheet תקציב 2020  מקורות 
A5: 3.5 | C5: אומדן מקורות המימון באלפי ₪ מפורט להלן -
C7: מקור | F7: שנת 2020 | G7: שנת 2019
C8: קרן לעבודות פיתוח | F8: ='תקציב 2020 קרנות הרשות'!C21 -> 206270 | G8: 290040 | J8: =F8/$F$13 -> 0.41022133
C9: קרן עודפי תקציב רגיל | F9: ='תקציב 2020 קרנות הרשות'!D21 -> 59000 | G9: 44000 | J9: =F9/$F$13 -> 0.11733678
C10: קרן רכוש | J10: =F10/$F$13 -> 0
C11: קרן יעודית מתחם גליל ים | F11: =59019+48388-1973.643-5000 -> 100433.36 | G11: 34723 | J11: =F11/$F$13 -> 0.19973775
C12: סה"כ משרדי ממשלה ואחרים | F12: ='תקציב 2020 מקורות אחרים'!F14 -> 137122.77 | G12: 120645 | J12: =F12/$F$13 -> 0.27270415
C13: סה"כ | F13: =SUM(F8:F12) -> 502826.13 | G13: =SUM(G8:G12) -> 489408 | J13: =SUM(J8:J12) -> 1

Sheet תקציב 2020 קרנות הרשות
A3: 3.6 | B3: קרנות הרשות - צפי תנועה באלפי ₪ | J3: =56-41 -> 15
C6: שנת 2020 | F6: שנת 2019
B7: תאור | C7: קרן עבודות פיתוח | D7: קרן עודפי תקציב רגיל | E7: סה"כ | F7: קרן עבודות פיתוח | G7: קרן עודפי תקציב רגיל | H7: סה"כ
B8: מקורות
B9: יתרה צפויה 1.1 | C9: =56000-16000+11700 -> 51700 | D9: =4700-700 -> 4000 | E9: =SUM(C9:D9) -> 55700 | F9: 96000 | G9: 4000 | H9: =SUM(F9:G9) -> 100000
B10: היטלי השבחה ופיתוח שנה שוטפת | C10: =140000+20000+10000 -> 170000 | D10: . | E10: =SUM(C10:D10) -> 170000 | F10: 210000 | H10: =SUM(F10:G10) -> 210000
E11: =SUM(C11:D11) -> 0 | H11: =SUM(F11:G11) -> 0
B12: העברה מתקציב רגיל 2018 | G12: 25000 | H12: =SUM(F12:G12) -> 25000
B13: העברה מתקציב רגיל 2019 | D13: =25000+5000 -> 30000 | E13: =SUM(C13:D13) -> 30000 | H13: =SUM(F13:G13) -> 0 | K13: =140000+31553 -> 171553
B14: העברה מעודפי תקציב רגיל שנים קודמות | D14: =15000+10000 -> 25000 | E14: =SUM(C14:D14) -> 25000 | G14: 15000 | H14: =SUM(F14:G14) -> 15000
E15: =SUM(C15:D15) -> 0 | H15: =SUM(F15:G15) -> 0
B16: העמקת גביה מהיטלי פיתוח שנה שוטפת | C16: 10000 | E16: =SUM(C16:D16) -> 10000 | F16: 10000 | H16: =SUM(F16:G16) -> 10000
B17: סה"כ מקורות | C17: =SUM(C9:C16) -> 231700 | D17: =SUM(D9:D16) -> 59000 | E17: =SUM(C17:D17) -> 290700 | F17: =SUM(F9:F16) -> 316000 | G17: =SUM(G9:G16) -> 44000 | H17: =SUM(H9:H16) -> 360000
B18: שימושים | H18: =SUM(F18:G18) -> 0
B19: השתתפות בפרעון מילוות מים,ביוב ופיתוח | C19: =5300+2350+3250 -> 10900 | E19: =SUM(C19:D19) -> 10900 | F19: 14700 | H19: =SUM(F19:G19) -> 14700 | K19: =C20 -> 14530
B20: השתתפות בשכ"ע הנדסה לפיתוח ותכנון | C20: =9030+3500+2000 -> 14530 | E20: =SUM(C20:D20) -> 14530 | F20: 11260 | H20: =SUM(F20:G20) -> 11260 | K20: עודכן ב - 920 אלפי ₪ עדכון איילת 22.9.16
B21: מימון תקציב בלתי רגיל | C21: =C17-C19-C20 -> 206270 | D21: =D17-D19-D20 -> 59000 | E21: =SUM(C21:D21) -> 265270 | F21: =F17-F19-F20 -> 290040 | G21: =G17-G19-G20 -> 44000 | H21: =SUM(F21:G21) -> 334040
B22: סה"כ שימושים | C22: =C17 -> 231700 | D22: =D17 -> 59000 | E22: =SUM(C22:D22) -> 290700 | F22: =SUM(F19:F21) -> 316000 | G22: =SUM(G19:G21) -> 44000 | H22: =SUM(H19:H21) -> 360000
K23: 31.10.16: | L23: עדכון של איילת: 644 אלפי ₪ משיכה נוספת.

Sheet תקציב 2020 מקורות אחרים
A4: 3.7 | C4: סעיף מימון משרדי ממשלה ואחרים מפורט בטבלה להלן – באלפי ₪ (*)
C6: תאור | F6: שנת 2020 | G6: שנת 2019
C7: משרד התחבורה | F7: ='פרוט מקורות אחרים'!M16/1000 -> 3067.511 | G7: 5968
C8: משרד החינוך | F8: ='פרוט מקורות אחרים'!D16/1000 -> 40189.3 | G8: 9299
C9: משרד הבינוי והשיכון
C10: רשות מינהל מקרקעי ישראל | F10: ='פרוט מקורות אחרים'!B16/1000 -> 47874.676 | G10: 66237.5
C11: משרדי ממשלה ואחרים | F11: =('פרוט מקורות אחרים'!C16+'פרוט מקורות אחרים'!E16+'פרוט מקורות אחרים'!F16+'פרוט מקורות אחרים'!I16+'פרוט מקורות אחרים'!J16+'פרוט מקורות אחרים'!K16+'פרוט מקורות אחרים'!L16)/1000+'פרוט מקורות אחרים'!G16/1000 -> 25911.282 | G11: 19790.5
C12: מפעל הפייס | F12: ='פרוט מקורות אחרים'!H16/1000 -> 2580 | G12: 3000
C13: הכנסות בעד עבודות | F13: ='פרוט מקורות אחרים'!N16/1000 -> 17500 | G13: 16350
C14: סה"כ | F14: =SUM(F7:F13) -> 137122.77 | G14: =SUM(G7:G13) -> 120645
B16: (*) | C16: תקצוב הפרויקטים נשוא מימון משרדי ממשלה ואחרים כמפורט לעיל מותנה בקבלת מסמך
C17: התחייבות כספית חתום על ידי מורשי חתימה של הגורם המממן.
A19: 4. | B19: תב"רים לסגירה בשנת 2016
A21: 4.1 | B21: כללי :
B22: הנחיות משרד הפנים קובעות :
B23: תב"ר שהגיע לסיומו או לא הוחל בביצועו או לא הוצאו בגינו התחייבויות כספיות , עליו להיגרע מקובץ
B24: התב"רים במערכת הכספית של הרשות המקומית.
B25: עודף סופי בחשבון התב"ר יועבר לקרנות הרשות . יש לאשר את סגירת התב"רים במועצת העיר.
A27: 4.2 | B27: במהלך שנת 2016 אושרה במועצת העיר סגירת פרויקטים שהסתיימו/לא נוצלו לשנת 2016 והחזרת
B29: עודפים לקרנות הרשות בסכום של
C30: ראה פרוט נוסף בעמוד 15
A32: 4. | B32: פרויקטים בביצוע החברה לפיתוח
B34: בהתאם לתוספת להסכם מסגרת לביצוע פרויקטים הנדסיים בין העירייה לחברה לפיתוח הרצליה
B35: מיום 10.4.2005, יש לאשר במועצת העיר את ביצוע הפרויקטים שהיקפם עולה על ערך הסף.
B36: ערך הסף נכון להיום עומד על יותר מ - 14,785 אלפי ₪.
B38: פרוט הפרויקטים מובא בעמוד 131-132

Sheet תרשים אגפים

Sheet ריכוז אגפים
A2: ריכוז לפי אגפים/יחידות
B4: מרכיבי העלות | R4: מקורות מימון לפרויקט | Y4: מספר פרויקטים
A5: אגף/יחידה | B5: אומדן כולל לפרויקט | C5: אומדן מאושר במועצה | D5: תוספת לאומדן לאישור מועצה | E5: תקציב מאושר | F5: ביצוע בפועל | G5: שריון מערך הרכש | H5: שריון מערך חוזים | I5: סה"כ שריון התחייבויות | J5: סה"כ ביצוע | K5: יתרה לביצוע צפוי עד 31.12.2019 | L5: אומדן לביצוע שנת 2020 | M5: אומדן לביצוע שנת 2021 ואילך | N5: יתרת תקציב | O5: תקציב נוסף נדרש במסגרת תוכנית עבודה 2019 | P5: תקציב נוסף נדרש מעבר לתוכנית עבודה2019 | Q5: סה"כ תקציב נוסף נדרש 2019 | R5: יתרת תקציב פנויה 31.12.2019 | S5: תקציב נדרש 2020 | T5: קרן עבודות פיתוח | U5: קרן עודפי תקציב רגיל | V5: קרן רכוש | W5: קרן ייעודית | X5: אחרים
A7: מינהל הנדסה | B7: ='תקציב הנדסה 2020 '!D$87 -> 622652129 | C7: ='תקציב הנדסה 2020 '!E$87 -> 607401879 | D7: ='תקציב הנדסה 2020 '!F$87 -> 15250250 | E7: ='תקציב הנדסה 2020 '!G$87 -> 282994229 | F7: ='תקציב הנדסה 2020 '!H$87 -> 2.3183221e+08 | G7: ='תקציב הנדסה 2020 '!I$87 -> 10898105 | H7: ='תקציב הנדסה 2020 '!J$87 -> 11954790 | I7: ='תקציב הנדסה 2020 '!K$87 -> 22852896 | ... X7: ='תקציב הנדסה 2020 '!Z$87 -> 1254444 | Y7: ='תקציב הנדסה 2020 '!A87 -> 81
A8: החברה לפיתוח הרצליה | B8: ='תקציב החברה לפיתוח 2020'!D$126 -> 2883587813 | C8: ='תקציב החברה לפיתוח 2020'!E$126 -> 2584196125 | D8: ='תקציב החברה לפיתוח 2020'!F$126 -> 299391688 | E8: ='תקציב החברה לפיתוח 2020'!G$126 -> 1117399039 | F8: ='תקציב החברה לפיתוח 2020'!H$126 -> 8.831644e+08 | G8: ='תקציב החברה לפיתוח 2020'!I$126 -> 2075146.8 | H8: ='תקציב החברה לפיתוח 2020'!J$126 -> 53985716 | I8: ='תקציב החברה לפיתוח 2020'!K$126 -> 56060862 | ... X8: ='תקציב החברה לפיתוח 2020'!Z$126 -> 101425796 | Y8: ='תקציב החברה לפיתוח 2020'!A126 -> 115
A9: אגף ת.ב.ל | B9: ='תקציב אגף ת.ב.ל 2020 '!D$65 -> 430333105 | C9: ='תקציב אגף ת.ב.ל 2020 '!E$65 -> 391554105 | D9: ='תקציב אגף ת.ב.ל 2020 '!F$65 -> 38779000 | E9: ='תקציב אגף ת.ב.ל 2020 '!G$65 -> 271565901 | F9: ='תקציב אגף ת.ב.ל 2020 '!H$65 -> 1.8965129e+08 | G9: ='תקציב אגף ת.ב.ל 2020 '!I$65 -> 10892095 | H9: ='תקציב אגף ת.ב.ל 2020 '!J$65 -> 33107561 | I9: ='תקציב אגף ת.ב.ל 2020 '!K$65 -> 43999656 | ... X9: ='תקציב אגף ת.ב.ל 2020 '!Z$65 -> 11211300 | Y9: ='תקציב אגף ת.ב.ל 2020 '!A65 -> 59
A10: אגף בטחון פיקוח וסדר ציבורי | B10: ='תקציב אגף בטחון פיקוח סד"צ 2020'!D$9 -> 4720000 | C10: ='תקציב אגף בטחון פיקוח סד"צ 2020'!E$9 -> 4100000 | D10: ='תקציב אגף בטחון פיקוח סד"צ 2020'!F$9 -> 620000 | E10: ='תקציב אגף בטחון פיקוח סד"צ 2020'!G$9 -> 2700000 | F10: ='תקציב אגף בטחון פיקוח סד"צ 2020'!H$9 -> 2051244.5 | G10: ='תקציב אגף בטחון פיקוח סד"צ 2020'!I$9 -> 0 | H10: ='תקציב אגף בטחון פיקוח סד"צ 2020'!J$9 -> 55906.46 | I10: ='תקציב אגף בטחון פיקוח סד"צ 2020'!K$9 -> 55906.46 | ... X10: ='תקציב אגף בטחון פיקוח סד"צ 2020'!Z$9 -> 0 | Y10: ='תקציב אגף בטחון פיקוח סד"צ 2020'!A9 -> 3
A11: אגף חינוך | B11: ='תקציב אגף חינוך 2020'!D$28 -> 41534363 | C11: ='תקציב אגף חינוך 2020'!E$28 -> 17115363 | D11: ='תקציב אגף חינוך 2020'!F$28 -> 24419000 | E11: ='תקציב אגף חינוך 2020'!G$28 -> 15055363 | F11: ='תקציב אגף חינוך 2020'!H$28 -> 5399054.3 | G11: ='תקציב אגף חינוך 2020'!I$28 -> 1200000 | H11: ='תקציב אגף חינוך 2020'!J$28 -> 990427.74 | I11: ='תקציב אגף חינוך 2020'!K$28 -> 2190427.7 | ... X11: ='תקציב אגף חינוך 2020'!Z$28 -> 78000 | Y11: ='תקציב אגף חינוך 2020'!A28 -> 22
A12: אגף ת.נ.ו.ס | B12: ='תקציב אגף תנוס 2020 '!D$17 -> 21059594 | C12: ='תקציב אגף תנוס 2020 '!E$17 -> 14989365 | D12: ='תקציב אגף תנוס 2020 '!F$17 -> 6070229 | E12: ='תקציב אגף תנוס 2020 '!G$17 -> 13819365 | F12: ='תקציב אגף תנוס 2020 '!H$17 -> 8280194 | G12: ='תקציב אגף תנוס 2020 '!I$17 -> 0 | H12: ='תקציב אגף תנוס 2020 '!J$17 -> 2133646 | I12: ='תקציב אגף תנוס 2020 '!K$17 -> 2133646 | ... X12: ='תקציב אגף תנוס 2020 '!Z$17 -> 505229 | Y12: ='תקציב אגף תנוס 2020 '!A17 -> 11
A13: אגף ש.א.י.פ.ה | B13: ='תקציב אגף שאיפה 2020 '!D$48 -> 243509379 | C13: ='תקציב אגף שאיפה 2020 '!E$48 -> 223205059 | D13: ='תקציב אגף שאיפה 2020 '!F$48 -> 20304320 | E13: ='תקציב אגף שאיפה 2020 '!G$48 -> 194120579 | F13: ='תקציב אגף שאיפה 2020 '!H$48 -> 1.7473165e+08 | G13: ='תקציב אגף שאיפה 2020 '!I$48 -> 0 | H13: ='תקציב אגף שאיפה 2020 '!J$48 -> 12537650 | I13: ='תקציב אגף שאיפה 2020 '!K$48 -> 12537650 | ... X13: ='תקציב אגף שאיפה 2020 '!Z$48 -> 17740000 | Y13: ='תקציב אגף שאיפה 2020 '!A48 -> 41
A14: רשות החופים | B14: ='תקציב רשות החופים 2020 '!D$24 -> 6935620 | C14: ='תקציב רשות החופים 2020 '!E$24 -> 5250649 | D14: ='תקציב רשות החופים 2020 '!F$24 -> 1684971 | E14: ='תקציב רשות החופים 2020 '!G$24 -> 4665423 | F14: ='תקציב רשות החופים 2020 '!H$24 -> 3829954.9 | G14: ='תקציב רשות החופים 2020 '!I$24 -> 364325.79 | H14: ='תקציב רשות החופים 2020 '!J$24 -> 191143.78 | I14: ='תקציב רשות החופים 2020 '!K$24 -> 555469.57 | ... X14: ='תקציב רשות החופים 2020 '!Z$24 -> 28000 | Y14: ='תקציב רשות החופים 2020 '!A24 -> 18
A15: החברה לפיתוח התיירות | B15: ='תקציב החברה לתירות 2020 '!D$15 -> 44050000 | C15: ='תקציב החברה לתירות 2020 '!E$15 -> 33243000 | D15: ='תקציב החברה לתירות 2020 '!F$15 -> 10807000 | E15: ='תקציב החברה לתירות 2020 '!G$15 -> 15060000 | F15: ='תקציב החברה לתירות 2020 '!H$15 -> 14222828 | G15: ='תקציב החברה לתירות 2020 '!I$15 -> 0 | H15: ='תקציב החברה לתירות 2020 '!J$15 -> 0 | I15: ='תקציב החברה לתירות 2020 '!K$15 -> 0 | ... X15: ='תקציב החברה לתירות 2020 '!Z$15 -> 800000 | Y15: ='תקציב החברה לתירות 2020 '!A15 -> 9
A16: אגף תקשוב ומערכות מידע | B16: ='תקציב אגף תקשוב 2020 '!D$15 -> 49790000 | C16: ='תקציב אגף תקשוב 2020 '!E$15 -> 49590000 | D16: ='תקציב אגף תקשוב 2020 '!F$15 -> 200000 | E16: ='תקציב אגף תקשוב 2020 '!G$15 -> 24973000 | F16: ='תקציב אגף תקשוב 2020 '!H$15 -> 12137739 | G16: ='תקציב אגף תקשוב 2020 '!I$15 -> 1455428 | H16: ='תקציב אגף תקשוב 2020 '!J$15 -> 5607273.7 | I16: ='תקציב אגף תקשוב 2020 '!K$15 -> 7062701.7 | ... X16: ='תקציב אגף תקשוב 2020 '!Z$15 -> 4080000 | Y16: ='תקציב אגף תקשוב 2020 '!A15 -> 9
A17: אגף נכסים וביטוח | B17: ='תקציב אגף נכסים וביטוח 2020 '!D$23 -> 162104000 | C17: ='תקציב אגף נכסים וביטוח 2020 '!E$23 -> 161399000 | D17: ='תקציב אגף נכסים וביטוח 2020 '!F$23 -> 705000 | E17: ='תקציב אגף נכסים וביטוח 2020 '!G$23 -> 90422525 | F17: ='תקציב אגף נכסים וביטוח 2020 '!H$23 -> 69642076 | G17: ='תקציב אגף נכסים וביטוח 2020 '!I$23 -> 0 | H17: ='תקציב אגף נכסים וביטוח 2020 '!J$23 -> 7195 | I17: ='תקציב אגף נכסים וביטוח 2020 '!K$23 -> 7195 | ... X17: ='תקציב אגף נכסים וביטוח 2020 '!Z$23 -> 0 | Y17: ='תקציב אגף נכסים וביטוח 2020 '!A23 -> 17
A18: מינהל כללי | B18: ='תקציב מינהל כללי 2020 '!D$15 -> 128901682 | C18: ='תקציב מינהל כללי 2020 '!E$15 -> 129976727 | D18: ='תקציב מינהל כללי 2020 '!F$15 -> -1075045 | E18: ='תקציב מינהל כללי 2020 '!G$15 -> 92393621 | F18: ='תקציב מינהל כללי 2020 '!H$15 -> 74996292 | G18: ='תקציב מינהל כללי 2020 '!I$15 -> 68955.83 | H18: ='תקציב מינהל כללי 2020 '!J$15 -> 3600662.9 | I18: ='תקציב מינהל כללי 2020 '!K$15 -> 3669618.7 | ... X18: ='תקציב מינהל כללי 2020 '!Z$15 -> 0 | Y18: ='תקציב מינהל כללי 2020 '!A15 -> 9
A19: סה"כ | B19: =SUM(B7:B18) -> 4639177685 | C19: =SUM(C7:C18) -> 4222021272 | D19: =SUM(D7:D18) -> 417156413 | E19: =SUM(E7:E18) -> 2125169045 | F19: =SUM(F7:F18) -> 1.6699389e+09 | G19: =SUM(G7:G18) -> 26954057 | H19: =SUM(H7:H18) -> 1.2417197e+08 | I19: =SUM(I7:I18) -> 1.5112603e+08 | ... Y19: =SUM(Y7:Y18) -> 394
J20: =I19+F19 -> 1.821065e+09 | K20: =N19+Q19-R19 -> 4.4987882e+08 | N20: =E19-J19 -> 3.0410409e+08 | R20: =N19+Q19-K19 -> 63430074 | S20: =L19-R19 -> 502826126
S22: סה"כ | T22: קע"פ | U22: קרן עודפי ת.ר. | V22: קרן רכוש | W22: קרן ייעודית | X22: אחרים
M23: יתרת מקורות מימון | O23: יתרת מקורות מימון | S23: =SUM(T23:X23) -> 502826126 | T23: ='תקציב 2020 קרנות הרשות'!C21*1000 -> 206270000 | U23: ='תקציב 2020 קרנות הרשות'!D21*1000 -> 59000000 | V23: ='תקציב 2020 מקורות '!F10*1000 -> 0 | W23: ='תקציב 2020 מקורות '!F11*1000 -> 100433357 | X23: ='פרוט מקורות אחרים'!O16 -> 137122769
M24: הפרש עודף (חוסר) | O24: הפרש עודף (חוסר) | S24: =S23-S19 -> 0 | T24: =T23-T19 -> 0 | U24: =U23-U19 -> 0 | V24: =V23-V19 -> 0 | W24: =W23-W19 -> 0 | X24: =X23-X19 -> 0

Sheet תרשים פרקים

Sheet ריכוז פרקים
A2: ריכוז לפי פרקים
B4: מרכיבי העלות | R4: מקורות מימון לפרויקט
A5: פרק | B5: אומדן כולל לפרויקט | C5: אומדן מאושר במועצה | D5: תוספת לאומדן לאישור מועצה | E5: תקציב מאושר | F5: ביצוע בפועל | G5: שריון מערך הרכש | H5: שריון מערך חוזים | I5: סה"כ שריון התחייבויות | J5: סה"כ ביצוע | K5: יתרה לביצוע צפוי עד 31.12.2019 | L5: אומדן לביצוע שנת 2020 | M5: אומדן לביצוע שנת 2021 ואילך | N5: יתרת תקציב | O5: תקציב נוסף נדרש במסגרת תוכנית עבודה2019 | P5: תקציב נוסף נדרש מעבר לתוכנית עבודה2019 | Q5: סה"כ תקציב נוסף נדרש 2019 | R5: יתרת תקציב פנויה 31.12.2019 | S5: תקציב נדרש 2020 | T5: קרן עבודות פיתוח | U5: קרן עודפי תקציב רגיל | V5: קרן רכוש | W5: קרן ייעודית | X5: אחרים
A6: מינהל כללי (61) | B6: ='אגף ת.ב.ל 2020 פרקים'!D$7+' תקשוב 2020 פרקים'!D$7 -> 8980000 | C6: ='אגף ת.ב.ל 2020 פרקים'!E$7+' תקשוב 2020 פרקים'!E$7 -> 8980000 | D6: ='אגף ת.ב.ל 2020 פרקים'!F$7+' תקשוב 2020 פרקים'!F$7 -> 0 | E6: ='אגף ת.ב.ל 2020 פרקים'!G$7+' תקשוב 2020 פרקים'!G$7 -> 3083000 | F6: ='אגף ת.ב.ל 2020 פרקים'!H$7+' תקשוב 2020 פרקים'!H$7 -> 2615479.5 | G6: ='אגף ת.ב.ל 2020 פרקים'!I$7+' תקשוב 2020 פרקים'!I$7 -> 136200 | H6: ='אגף ת.ב.ל 2020 פרקים'!J$7+' תקשוב 2020 פרקים'!J$7 -> 79693.94 | I6: ='אגף ת.ב.ל 2020 פרקים'!K$7+' תקשוב 2020 פרקים'!K$7 -> 215893.94 | ... X6: ='אגף ת.ב.ל 2020 פרקים'!Z$7+' תקשוב 2020 פרקים'!Z$7 -> 0
A7: תכנון ובנין עיר (73) | B7: ='הנדסה 2020 פרקים'!D$49+'החברה לפיתוח 2020 פרקים'!D$14+'אגף ת.ב.ל 2020 פרקים'!D$13+' שאיפה 2020 פרקים'!D$8+'החברה לתירות 2020 פרקים'!D$12+' מינהל כללי 2020 פרקים'!D$7 -> 245816123 | C7: ='הנדסה 2020 פרקים'!E$49+'החברה לפיתוח 2020 פרקים'!E$14+'אגף ת.ב.ל 2020 פרקים'!E$13+' שאיפה 2020 פרקים'!E$8+'החברה לתירות 2020 פרקים'!E$12+' מינהל כללי 2020 פרקים'!E$7 -> 235008873 | D7: ='הנדסה 2020 פרקים'!F$49+'החברה לפיתוח 2020 פרקים'!F$14+'אגף ת.ב.ל 2020 פרקים'!F$13+' שאיפה 2020 פרקים'!F$8+'החברה לתירות 2020 פרקים'!F$12+' מינהל כללי 2020 פרקים'!F$7 -> 10807250 | E7: ='הנדסה 2020 פרקים'!G$49+'החברה לפיתוח 2020 פרקים'!G$14+'אגף ת.ב.ל 2020 פרקים'!G$13+' שאיפה 2020 פרקים'!G$8+'החברה לתירות 2020 פרקים'!G$12+' מינהל כללי 2020 פרקים'!G$7 -> 155013117 | F7: ='הנדסה 2020 פרקים'!H$49+'החברה לפיתוח 2020 פרקים'!H$14+'אגף ת.ב.ל 2020 פרקים'!H$13+' שאיפה 2020 פרקים'!H$8+'החברה לתירות 2020 פרקים'!H$12+' מינהל כללי 2020 פרקים'!H$7 -> 1.135899e+08 | G7: ='הנדסה 2020 פרקים'!I$49+'החברה לפיתוח 2020 פרקים'!I$14+'אגף ת.ב.ל 2020 פרקים'!I$13+' שאיפה 2020 פרקים'!I$8+'החברה לתירות 2020 פרקים'!I$12+' מינהל כללי 2020 פרקים'!I$7 -> 5634568.3 | H7: ='הנדסה 2020 פרקים'!J$49+'החברה לפיתוח 2020 פרקים'!J$14+'אגף ת.ב.ל 2020 פרקים'!J$13+' שאיפה 2020 פרקים'!J$8+'החברה לתירות 2020 פרקים'!J$12+' מינהל כללי 2020 פרקים'!J$7 -> 3121167.7 | I7: ='הנדסה 2020 פרקים'!K$49+'החברה לפיתוח 2020 פרקים'!K$14+'אגף ת.ב.ל 2020 פרקים'!K$13+' שאיפה 2020 פרקים'!K$8+'החברה לתירות 2020 פרקים'!K$12+' מינהל כללי 2020 פרקים'!K$7 -> 8755736 | ... X7: ='הנדסה 2020 פרקים'!Z$49+'החברה לפיתוח 2020 פרקים'!Z$14+'אגף ת.ב.ל 2020 פרקים'!Z$13+' שאיפה 2020 פרקים'!Z$8+'החברה לתירות 2020 פרקים'!Z$12+' מינהל כללי 2020 פרקים'!Z$7 -> 1254444
A8: נכסים ציבוריים (74) | B8: ='הנדסה 2020 פרקים'!D$87+'החברה לפיתוח 2020 פרקים'!D$67+'החברה לפיתוח 2020 פרקים'!D$72+'אגף ת.ב.ל 2020 פרקים'!D$23+' שאיפה 2020 פרקים'!D$32+'החברה לתירות 2020 פרקים'!D$16+' מינהל כללי 2020 פרקים'!D$12 -> 2156362313 | C8: ='הנדסה 2020 פרקים'!E$87+'החברה לפיתוח 2020 פרקים'!E$67+'החברה לפיתוח 2020 פרקים'!E$72+'אגף ת.ב.ל 2020 פרקים'!E$23+' שאיפה 2020 פרקים'!E$32+'החברה לתירות 2020 פרקים'!E$16+' מינהל כללי 2020 פרקים'!E$12 -> 2004862358 | D8: ='הנדסה 2020 פרקים'!F$87+'החברה לפיתוח 2020 פרקים'!F$67+'החברה לפיתוח 2020 פרקים'!F$72+'אגף ת.ב.ל 2020 פרקים'!F$23+' שאיפה 2020 פרקים'!F$32+'החברה לתירות 2020 פרקים'!F$16+' מינהל כללי 2020 פרקים'!F$12 -> 151499955 | E8: ='הנדסה 2020 פרקים'!G$87+'החברה לפיתוח 2020 פרקים'!G$67+'החברה לפיתוח 2020 פרקים'!G$72+'אגף ת.ב.ל 2020 פרקים'!G$23+' שאיפה 2020 פרקים'!G$32+'החברה לתירות 2020 פרקים'!G$16+' מינהל כללי 2020 פרקים'!G$12 -> 1080044388 | F8: ='הנדסה 2020 פרקים'!H$87+'החברה לפיתוח 2020 פרקים'!H$67+'החברה לפיתוח 2020 פרקים'!H$72+'אגף ת.ב.ל 2020 פרקים'!H$23+' שאיפה 2020 פרקים'!H$32+'החברה לתירות 2020 פרקים'!H$16+' מינהל כללי 2020 פרקים'!H$12 -> 8.7520883e+08 | G8: ='הנדסה 2020 פרקים'!I$87+'החברה לפיתוח 2020 פרקים'!I$67+'החברה לפיתוח 2020 פרקים'!I$72+'אגף ת.ב.ל 2020 פרקים'!I$23+' שאיפה 2020 פרקים'!I$32+'החברה לתירות 2020 פרקים'!I$16+' מינהל כללי 2020 פרקים'!I$12 -> 7465640.4 | H8: ='הנדסה 2020 פרקים'!J$87+'החברה לפיתוח 2020 פרקים'!J$67+'החברה לפיתוח 2020 פרקים'!J$72+'אגף ת.ב.ל 2020 פרקים'!J$23+' שאיפה 2020 פרקים'!J$32+'החברה לתירות 2020 פרקים'!J$16+' מינהל כללי 2020 פרקים'!J$12 -> 65534731 | I8: ='הנדסה 2020 פרקים'!K$87+'החברה לפיתוח 2020 פרקים'!K$67+'החברה לפיתוח 2020 פרקים'!K$72+'אגף ת.ב.ל 2020 פרקים'!K$23+' שאיפה 2020 פרקים'!K$32+'החברה לתירות 2020 פרקים'!K$16+' מינהל כללי 2020 פרקים'!K$12 -> 73000371 | ... X8: ='הנדסה 2020 פרקים'!Z$87+'החברה לפיתוח 2020 פרקים'!Z$67+'החברה לפיתוח 2020 פרקים'!Z$72+'אגף ת.ב.ל 2020 פרקים'!Z$23+' שאיפה 2020 פרקים'!Z$32+'החברה לתירות 2020 פרקים'!Z$16+' מינהל כללי 2020 פרקים'!Z$12 -> 51742187
A9: חופים (747) | B9: ='החברה לפיתוח 2020 פרקים'!D$70+' שאיפה 2020 פרקים'!D$34+'רשות החופים 2020 פרקים'!D$24 -> 50718620 | C9: ='החברה לפיתוח 2020 פרקים'!E$70+' שאיפה 2020 פרקים'!E$34+'רשות החופים 2020 פרקים'!E$24 -> 48683649 | D9: ='החברה לפיתוח 2020 פרקים'!F$70+' שאיפה 2020 פרקים'!F$34+'רשות החופים 2020 פרקים'!F$24 -> 2034971 | E9: ='החברה לפיתוח 2020 פרקים'!G$70+' שאיפה 2020 פרקים'!G$34+'רשות החופים 2020 פרקים'!G$24 -> 37448423 | F9: ='החברה לפיתוח 2020 פרקים'!H$70+' שאיפה 2020 פרקים'!H$34+'רשות החופים 2020 פרקים'!H$24 -> 33901296 | G9: ='החברה לפיתוח 2020 פרקים'!I$70+' שאיפה 2020 פרקים'!I$34+'רשות החופים 2020 פרקים'!I$24 -> 364325.79 | H9: ='החברה לפיתוח 2020 פרקים'!J$70+' שאיפה 2020 פרקים'!J$34+'רשות החופים 2020 פרקים'!J$24 -> 834456.33 | I9: ='החברה לפיתוח 2020 פרקים'!K$70+' שאיפה 2020 פרקים'!K$34+'רשות החופים 2020 פרקים'!K$24 -> 1198782.1 | ... X9: ='החברה לפיתוח 2020 פרקים'!Z$70+' שאיפה 2020 פרקים'!Z$34+'רשות החופים 2020 פרקים'!Z$24 -> 28000
A10: שרותים עירוניים שונים (76) | B10: ='הנדסה 2020 פרקים'!D$89+'החברה לפיתוח 2020 פרקים'!D$74+' שאיפה 2020 פרקים'!D$36+' תקשוב 2020 פרקים'!D$15+' מינהל כללי 2020 פרקים'!D$15+'אגף ת.ב.ל 2020 פרקים'!D$11+'בטחון פיקוח סד"צ 2020 פרקים'!D$9+' תקשוב 2020 פרקים'!D$9 -> 111398000 | C10: ='הנדסה 2020 פרקים'!E$89+'החברה לפיתוח 2020 פרקים'!E$74+' שאיפה 2020 פרקים'!E$36+' תקשוב 2020 פרקים'!E$15+' מינהל כללי 2020 פרקים'!E$15+'אגף ת.ב.ל 2020 פרקים'!E$11+'בטחון פיקוח סד"צ 2020 פרקים'!E$9+' תקשוב 2020 פרקים'!E$9 -> 105878000 | D10: ='הנדסה 2020 פרקים'!F$89+'החברה לפיתוח 2020 פרקים'!F$74+' שאיפה 2020 פרקים'!F$36+' תקשוב 2020 פרקים'!F$15+' מינהל כללי 2020 פרקים'!F$15+'אגף ת.ב.ל 2020 פרקים'!F$11+'בטחון פיקוח סד"צ 2020 פרקים'!F$9+' תקשוב 2020 פרקים'!F$9 -> 5520000 | E10: ='הנדסה 2020 פרקים'!G$89+'החברה לפיתוח 2020 פרקים'!G$74+' שאיפה 2020 פרקים'!G$36+' תקשוב 2020 פרקים'!G$15+' מינהל כללי 2020 פרקים'!G$15+'אגף ת.ב.ל 2020 פרקים'!G$11+'בטחון פיקוח סד"צ 2020 פרקים'!G$9+' תקשוב 2020 פרקים'!G$9 -> 86538000 | F10: ='הנדסה 2020 פרקים'!H$89+'החברה לפיתוח 2020 פרקים'!H$74+' שאיפה 2020 פרקים'!H$36+' תקשוב 2020 פרקים'!H$15+' מינהל כללי 2020 פרקים'!H$15+'אגף ת.ב.ל 2020 פרקים'!H$11+'בטחון פיקוח סד"צ 2020 פרקים'!H$9+' תקשוב 2020 פרקים'!H$9 -> 66850289 | G10: ='הנדסה 2020 פרקים'!I$89+'החברה לפיתוח 2020 פרקים'!I$74+' שאיפה 2020 פרקים'!I$36+' תקשוב 2020 פרקים'!I$15+' מינהל כללי 2020 פרקים'!I$15+'אגף ת.ב.ל 2020 פרקים'!I$11+'בטחון פיקוח סד"צ 2020 פרקים'!I$9+' תקשוב 2020 פרקים'!I$9 -> 1319228 | H10: ='הנדסה 2020 פרקים'!J$89+'החברה לפיתוח 2020 פרקים'!J$74+' שאיפה 2020 פרקים'!J$36+' תקשוב 2020 פרקים'!J$15+' מינהל כללי 2020 פרקים'!J$15+'אגף ת.ב.ל 2020 פרקים'!J$11+'בטחון פיקוח סד"צ 2020 פרקים'!J$9+' תקשוב 2020 פרקים'!J$9 -> 8636947.2 | I10: ='הנדסה 2020 פרקים'!K$89+'החברה לפיתוח 2020 פרקים'!K$74+' שאיפה 2020 פרקים'!K$36+' תקשוב 2020 פרקים'!K$15+' מינהל כללי 2020 פרקים'!K$15+'אגף ת.ב.ל 2020 פרקים'!K$11+'בטחון פיקוח סד"צ 2020 פרקים'!K$9+' תקשוב 2020 פרקים'!K$9 -> 9956175.2 | ... X10: ='הנדסה 2020 פרקים'!Z$89+'החברה לפיתוח 2020 פרקים'!Z$74+' שאיפה 2020 פרקים'!Z$36+' תקשוב 2020 פרקים'!Z$15+' מינהל כללי 2020 פרקים'!Z$15+'אגף ת.ב.ל 2020 פרקים'!Z$11+'בטחון פיקוח סד"צ 2020 פרקים'!Z$9+' תקשוב 2020 פרקים'!Z$9 -> 1500000
A11: חינוך (81) | B11: ='החברה לפיתוח 2020 פרקים'!D$98+'אגף ת.ב.ל 2020 פרקים'!D$48+' חינוך 2020 פרקים'!D$28+' שאיפה 2020 פרקים'!D$43+' תקשוב 2020 פרקים'!D$18 -> 1206057156 | C11: ='החברה לפיתוח 2020 פרקים'!E$98+'אגף ת.ב.ל 2020 פרקים'!E$48+' חינוך 2020 פרקים'!E$28+' שאיפה 2020 פרקים'!E$43+' תקשוב 2020 פרקים'!E$18 -> 1027671468 | D11: ='החברה לפיתוח 2020 פרקים'!F$98+'אגף ת.ב.ל 2020 פרקים'!F$48+' חינוך 2020 פרקים'!F$28+' שאיפה 2020 פרקים'!F$43+' תקשוב 2020 פרקים'!F$18 -> 178385688 | E11: ='החברה לפיתוח 2020 פרקים'!G$98+'אגף ת.ב.ל 2020 פרקים'!G$48+' חינוך 2020 פרקים'!G$28+' שאיפה 2020 פרקים'!G$43+' תקשוב 2020 פרקים'!G$18 -> 312718348 | F11: ='החברה לפיתוח 2020 פרקים'!H$98+'אגף ת.ב.ל 2020 פרקים'!H$48+' חינוך 2020 פרקים'!H$28+' שאיפה 2020 פרקים'!H$43+' תקשוב 2020 פרקים'!H$18 -> 2.0284423e+08 | G11: ='החברה לפיתוח 2020 פרקים'!I$98+'אגף ת.ב.ל 2020 פרקים'!I$48+' חינוך 2020 פרקים'!I$28+' שאיפה 2020 פרקים'!I$43+' תקשוב 2020 פרקים'!I$18 -> 11804103 | H11: ='החברה לפיתוח 2020 פרקים'!J$98+'אגף ת.ב.ל 2020 פרקים'!J$48+' חינוך 2020 פרקים'!J$28+' שאיפה 2020 פרקים'!J$43+' תקשוב 2020 פרקים'!J$18 -> 26160106 | I11: ='החברה לפיתוח 2020 פרקים'!K$98+'אגף ת.ב.ל 2020 פרקים'!K$48+' חינוך 2020 פרקים'!K$28+' שאיפה 2020 פרקים'!K$43+' תקשוב 2020 פרקים'!K$18 -> 37964210 | ... X11: ='החברה לפיתוח 2020 פרקים'!Z$98+'אגף ת.ב.ל 2020 פרקים'!Z$48+' חינוך 2020 פרקים'!Z$28+' שאיפה 2020 פרקים'!Z$43+' תקשוב 2020 פרקים'!Z$18 -> 59721300
A12: ספורט (82) | B12: ='החברה לפיתוח 2020 פרקים'!D$117+'אגף ת.ב.ל 2020 פרקים'!D$54+'תנוס 2020פרקים'!D$16+' שאיפה 2020 פרקים'!D$45 -> 355710229 | C12: ='החברה לפיתוח 2020 פרקים'!E$117+'אגף ת.ב.ל 2020 פרקים'!E$54+'תנוס 2020פרקים'!E$16+' שאיפה 2020 פרקים'!E$45 -> 310356000 | D12: ='החברה לפיתוח 2020 פרקים'!F$117+'אגף ת.ב.ל 2020 פרקים'!F$54+'תנוס 2020פרקים'!F$16+' שאיפה 2020 פרקים'!F$45 -> 45354229 | E12: ='החברה לפיתוח 2020 פרקים'!G$117+'אגף ת.ב.ל 2020 פרקים'!G$54+'תנוס 2020פרקים'!G$16+' שאיפה 2020 פרקים'!G$45 -> 96419000 | F12: ='החברה לפיתוח 2020 פרקים'!H$117+'אגף ת.ב.ל 2020 פרקים'!H$54+'תנוס 2020פרקים'!H$16+' שאיפה 2020 פרקים'!H$45 -> 72010284 | G12: ='החברה לפיתוח 2020 פרקים'!I$117+'אגף ת.ב.ל 2020 פרקים'!I$54+'תנוס 2020פרקים'!I$16+' שאיפה 2020 פרקים'!I$45 -> 5148 | H12: ='החברה לפיתוח 2020 פרקים'!J$117+'אגף ת.ב.ל 2020 פרקים'!J$54+'תנוס 2020פרקים'!J$16+' שאיפה 2020 פרקים'!J$45 -> 8772570.7 | I12: ='החברה לפיתוח 2020 פרקים'!K$117+'אגף ת.ב.ל 2020 פרקים'!K$54+'תנוס 2020פרקים'!K$16+' שאיפה 2020 פרקים'!K$45 -> 8777718.7 | ... X12: ='החברה לפיתוח 2020 פרקים'!Z$117+'אגף ת.ב.ל 2020 פרקים'!Z$54+'תנוס 2020פרקים'!Z$16+' שאיפה 2020 פרקים'!Z$45 -> 3168838
A13: רווחה (84) | B13: ='החברה לפיתוח 2020 פרקים'!D$120+'אגף ת.ב.ל 2020 פרקים'!D$56+' מינהל כללי 2020 פרקים'!D$17 -> 13674000 | C13: ='החברה לפיתוח 2020 פרקים'!E$120+'אגף ת.ב.ל 2020 פרקים'!E$56+' מינהל כללי 2020 פרקים'!E$17 -> 11624000 | D13: ='החברה לפיתוח 2020 פרקים'!F$120+'אגף ת.ב.ל 2020 פרקים'!F$56+' מינהל כללי 2020 פרקים'!F$17 -> 2050000 | E13: ='החברה לפיתוח 2020 פרקים'!G$120+'אגף ת.ב.ל 2020 פרקים'!G$56+' מינהל כללי 2020 פרקים'!G$17 -> 1774000 | F13: ='החברה לפיתוח 2020 פרקים'!H$120+'אגף ת.ב.ל 2020 פרקים'!H$56+' מינהל כללי 2020 פרקים'!H$17 -> 539856.77 | G13: ='החברה לפיתוח 2020 פרקים'!I$120+'אגף ת.ב.ל 2020 פרקים'!I$56+' מינהל כללי 2020 פרקים'!I$17 -> 0 | H13: ='החברה לפיתוח 2020 פרקים'!J$120+'אגף ת.ב.ל 2020 פרקים'!J$56+' מינהל כללי 2020 פרקים'!J$17 -> 958233.69 | I13: ='החברה לפיתוח 2020 פרקים'!K$120+'אגף ת.ב.ל 2020 פרקים'!K$56+' מינהל כללי 2020 פרקים'!K$17 -> 958233.69 | ... X13: ='החברה לפיתוח 2020 פרקים'!Z$120+'אגף ת.ב.ל 2020 פרקים'!Z$56+' מינהל כללי 2020 פרקים'!Z$17 -> 0
A14: מבני דת ציבוריים (85) | B14: ='החברה לפיתוח 2020 פרקים'!D$126+'אגף ת.ב.ל 2020 פרקים'!D$64 -> 23210000 | C14: ='החברה לפיתוח 2020 פרקים'!E$126+'אגף ת.ב.ל 2020 פרקים'!E$64 -> 22710000 | D14: ='החברה לפיתוח 2020 פרקים'!F$126+'אגף ת.ב.ל 2020 פרקים'!F$64 -> 500000 | E14: ='החברה לפיתוח 2020 פרקים'!G$126+'אגף ת.ב.ל 2020 פרקים'!G$64 -> 13260000 | F14: ='החברה לפיתוח 2020 פרקים'!H$126+'אגף ת.ב.ל 2020 פרקים'!H$64 -> 9225475.4 | G14: ='החברה לפיתוח 2020 פרקים'!I$126+'אגף ת.ב.ל 2020 פרקים'!I$64 -> 224843.06 | H14: ='החברה לפיתוח 2020 פרקים'!J$126+'אגף ת.ב.ל 2020 פרקים'!J$64 -> 498902.09 | I14: ='החברה לפיתוח 2020 פרקים'!K$126+'אגף ת.ב.ל 2020 פרקים'!K$64 -> 723745.15 | ... X14: ='החברה לפיתוח 2020 פרקים'!Z$126+'אגף ת.ב.ל 2020 פרקים'!Z$64 -> 0
A15: איכות הסביבה (87) | B15: ='החברה לפיתוח 2020 פרקים'!D$128+'אגף ת.ב.ל 2020 פרקים'!D$69+' שאיפה 2020 פרקים'!D$56 -> 34324559 | C15: ='החברה לפיתוח 2020 פרקים'!E$128+'אגף ת.ב.ל 2020 פרקים'!E$69+' שאיפה 2020 פרקים'!E$56 -> 23419559 | D15: ='החברה לפיתוח 2020 פרקים'!F$128+'אגף ת.ב.ל 2020 פרקים'!F$69+' שאיפה 2020 פרקים'!F$56 -> 10905000 | E15: ='החברה לפיתוח 2020 פרקים'!G$128+'אגף ת.ב.ל 2020 פרקים'!G$69+' שאיפה 2020 פרקים'!G$56 -> 10410559 | F15: ='החברה לפיתוח 2020 פרקים'!H$128+'אגף ת.ב.ל 2020 פרקים'!H$69+' שאיפה 2020 פרקים'!H$56 -> 2205650.1 | G15: ='החברה לפיתוח 2020 פרקים'!I$128+'אגף ת.ב.ל 2020 פרקים'!I$69+' שאיפה 2020 פרקים'!I$56 -> 0 | H15: ='החברה לפיתוח 2020 פרקים'!J$128+'אגף ת.ב.ל 2020 פרקים'!J$69+' שאיפה 2020 פרקים'!J$56 -> 1418691.1 | I15: ='החברה לפיתוח 2020 פרקים'!K$128+'אגף ת.ב.ל 2020 פרקים'!K$69+' שאיפה 2020 פרקים'!K$56 -> 1418691.1 | ... X15: ='החברה לפיתוח 2020 פרקים'!Z$128+'אגף ת.ב.ל 2020 פרקים'!Z$69+' שאיפה 2020 פרקים'!Z$56 -> 2208000
A16: טיפול במרחב ציבורי (848) | B16: ='החברה לפיתוח 2020 פרקים'!D$122+'אגף ת.ב.ל 2020 פרקים'!D$58+' שאיפה 2020 פרקים'!D$47 -> 35724320 | C16: ='החברה לפיתוח 2020 פרקים'!E$122+'אגף ת.ב.ל 2020 פרקים'!E$58+' שאיפה 2020 פרקים'!E$47 -> 31450000 | D16: ='החברה לפיתוח 2020 פרקים'!F$122+'אגף ת.ב.ל 2020 פרקים'!F$58+' שאיפה 2020 פרקים'!F$47 -> 4274320 | E16: ='החברה לפיתוח 2020 פרקים'!G$122+'אגף ת.ב.ל 2020 פרקים'!G$58+' שאיפה 2020 פרקים'!G$47 -> 27774320 | F16: ='החברה לפיתוח 2020 פרקים'!H$122+'אגף ת.ב.ל 2020 פרקים'!H$58+' שאיפה 2020 פרקים'!H$47 -> 24199080 | G16: ='החברה לפיתוח 2020 פרקים'!I$122+'אגף ת.ב.ל 2020 פרקים'!I$58+' שאיפה 2020 פרקים'!I$47 -> 0 | H16: ='החברה לפיתוח 2020 פרקים'!J$122+'אגף ת.ב.ל 2020 פרקים'!J$58+' שאיפה 2020 פרקים'!J$47 -> 2398326.7 | I16: ='החברה לפיתוח 2020 פרקים'!K$122+'אגף ת.ב.ל 2020 פרקים'!K$58+' שאיפה 2020 פרקים'!K$47 -> 2398326.7 | ... X16: ='החברה לפיתוח 2020 פרקים'!Z$122+'אגף ת.ב.ל 2020 פרקים'!Z$58+' שאיפה 2020 פרקים'!Z$47 -> 0
A17: תרבות הדיור (764) | B17: =' שאיפה 2020 פרקים'!D$38 -> 89650000 | C17: =' שאיפה 2020 פרקים'!E$38 -> 88000000 | D17: =' שאיפה 2020 פרקים'!F$38 -> 1650000 | E17: =' שאיפה 2020 פרקים'!G$38 -> 71450000 | F17: =' שאיפה 2020 פרקים'!H$38 -> 69535503 | G17: =' שאיפה 2020 פרקים'!I$38 -> 0 | H17: =' שאיפה 2020 פרקים'!J$38 -> 185655 | I17: =' שאיפה 2020 פרקים'!K$38 -> 185655 | ... X17: =' שאיפה 2020 פרקים'!Z$38 -> 17500000
A18: נכסים (93) | B18: ='החברה לפיתוח 2020 פרקים'!D$132+'אגף ת.ב.ל 2020 פרקים'!D$76+'תנוס 2020פרקים'!D$18+'נכסים וביטוח 2020 פרקים'!D$23 -> 292419365 | C18: ='החברה לפיתוח 2020 פרקים'!E$132+'אגף ת.ב.ל 2020 פרקים'!E$76+'תנוס 2020פרקים'!E$18+'נכסים וביטוח 2020 פרקים'!E$23 -> 288244365 | D18: ='החברה לפיתוח 2020 פרקים'!F$132+'אגף ת.ב.ל 2020 פרקים'!F$76+'תנוס 2020פרקים'!F$18+'נכסים וביטוח 2020 פרקים'!F$23 -> 4175000 | E18: ='החברה לפיתוח 2020 פרקים'!G$132+'אגף ת.ב.ל 2020 פרקים'!G$76+'תנוס 2020פרקים'!G$18+'נכסים וביטוח 2020 פרקים'!G$23 -> 214102890 | F18: ='החברה לפיתוח 2020 פרקים'!H$132+'אגף ת.ב.ל 2020 פרקים'!H$76+'תנוס 2020פרקים'!H$18+'נכסים וביטוח 2020 פרקים'!H$23 -> 1.8208004e+08 | G18: ='החברה לפיתוח 2020 פרקים'!I$132+'אגף ת.ב.ל 2020 פרקים'!I$76+'תנוס 2020פרקים'!I$18+'נכסים וביטוח 2020 פרקים'!I$23 -> 0 | H18: ='החברה לפיתוח 2020 פרקים'!J$132+'אגף ת.ב.ל 2020 פרקים'!J$76+'תנוס 2020פרקים'!J$18+'נכסים וביטוח 2020 פרקים'!J$23 -> 5572491 | I18: ='החברה לפיתוח 2020 פרקים'!K$132+'אגף ת.ב.ל 2020 פרקים'!K$76+'תנוס 2020פרקים'!K$18+'נכסים וביטוח 2020 פרקים'!K$23 -> 5572491 | ... X18: ='החברה לפיתוח 2020 פרקים'!Z$132+'אגף ת.ב.ל 2020 פרקים'!Z$76+'תנוס 2020פרקים'!Z$18+'נכסים וביטוח 2020 פרקים'!Z$23 -> 0
A19: תשלומים בלתי רגילים (99) | B19: =' מינהל כללי 2020 פרקים'!D$19 -> 15133000 | C19: =' מינהל כללי 2020 פרקים'!E$19 -> 15133000 | D19: =' מינהל כללי 2020 פרקים'!F$19 -> 0 | E19: =' מינהל כללי 2020 פרקים'!G$19 -> 15133000 | F19: =' מינהל כללי 2020 פרקים'!H$19 -> 15133000 | G19: =' מינהל כללי 2020 פרקים'!I$19 -> 0 | H19: =' מינהל כללי 2020 פרקים'!J$19 -> 0 | I19: =' מינהל כללי 2020 פרקים'!K$19 -> 0 | ... X19: =' מינהל כללי 2020 פרקים'!Z$19 -> 0
A20: סה"כ | B20: =SUM(B6:B19) -> 4639177685 | C20: =SUM(C6:C19) -> 4222021272 | D20: =SUM(D6:D19) -> 417156413 | E20: =SUM(E6:E19) -> 2125169045 | F20: =SUM(F6:F19) -> 1.6699389e+09 | G20: =SUM(G6:G19) -> 26954057 | H20: =SUM(H6:H19) -> 1.2417197e+08 | I20: =SUM(I6:I19) -> 1.5112603e+08 | ... X20: =SUM(X6:X19) -> 137122769
J22: =I20+F20 -> 1.821065e+09 | K22: =N22+Q20-R20 -> 4.4987882e+08 | N22: =E20-J20 -> 3.0410409e+08 | S22: =L20-R20 -> 502826126
S23: סה"כ | T23: קע"פ | U23: קרן עודפי ת.ר. | V23: קרן רכוש | W23: קרן ייעודית | X23: אחרים
M24: יתרת מקורות מימון | O24: יתרת מקורות מימון | S24: =SUM(T24:X24) -> 502826126 | T24: ='תקציב 2020 קרנות הרשות'!C21*1000 -> 206270000 | U24: ='תקציב 2020 קרנות הרשות'!D21*1000 -> 59000000 | V24: ='תקציב 2020 מקורות '!F10*1000 -> 0 | W24: ='תקציב 2020 מקורות '!F11*1000 -> 100433357 | X24: ='פרוט מקורות אחרים'!O16 -> 137122769
M25: הפרש עודף (חוסר) | O25: הפרש עודף (חוסר) | S25: =S24-S20 -> 0 | T25: =T24-T20 -> 0 | U25: =U24-U20 -> 0 | V25: =V24-V20 -> 0 | W25: =W24-W20 -> 0 | X25: =X24-X20 -> 0
N27: =E20-J20 -> 3.0410409e+08
M28: תקציב קודם | S28: 502765897
M30: תנוס תבר 2060 אחרים | S30: =S24-S28 -> 60229

Sheet פרוט מקורות אחרים
A1: מקורות מימון אחרים - פרוט
A3: אגף/מחלקה | B3: רשות מקרקעי ישראל | C3: המשרד להגנת הסביבה | D3: משרד החינוך | E3: משרד התשתיות והאנרגיה | F3: הקרן לשמירה על שטחים פתוחים | G3: המשרד לשיוויון חברתי | H3: מפעל הפייס | I3: משרד תרבות והספורט | J3: משרד הבינוי והשיכון | K3: אחרים | L3: משרד לבטחון הפנים | M3: משרד התחבורה | N3: הכנסות בעד עבודות | O3: סה"כ
A4: מינהל הנדסה | J4: ='תקציב הנדסה 2020 '!Z59 -> 1254444 | O4: =SUM(B4:N4) -> 1254444 | Q4: ='ריכוז אגפים'!X7 -> 1254444 | R4: =Q4-O4 -> 0
A5: החברה לפיתוח הרצליה | B5: ='תקציב החברה לפיתוח 2020'!Z109+'תקציב החברה לפיתוח 2020'!Z110+'תקציב החברה לפיתוח 2020'!Z119 -> 47874676 | D5: ='תקציב החברה לפיתוח 2020'!Z114+'תקציב החברה לפיתוח 2020'!Z115+'תקציב החברה לפיתוח 2020'!Z117+2100000 -> 31000000 | I5: ='תקציב החברה לפיתוח 2020'!Z37+'תקציב החברה לפיתוח 2020'!Z49 -> 2663609 | K5: ='תקציב החברה לפיתוח 2020'!Z120-2100000 -> 16820000 | M5: ='תקציב החברה לפיתוח 2020'!Z29+'תקציב החברה לפיתוח 2020'!Z35+'תקציב החברה לפיתוח 2020'!Z96 -> 3067511 | O5: =SUM(B5:N5) -> 101425796 | Q5: ='ריכוז אגפים'!X8 -> 101425796 | R5: =Q5-O5 -> 0
A6: אגף ת.ב.ל | D6: ='תקציב אגף ת.ב.ל 2020 '!Z37+'תקציב אגף ת.ב.ל 2020 '!Z40+'תקציב אגף ת.ב.ל 2020 '!Z64 -> 9111300 | E6: ='תקציב אגף ת.ב.ל 2020 '!Z60 -> 2100000 | O6: =SUM(B6:N6) -> 11211300 | Q6: ='ריכוז אגפים'!X9 -> 11211300 | R6: =Q6-O6 -> 0
A7: אגף בטחון פיקוח וסדר ציבורי | O7: =SUM(B7:N7) -> 0 | Q7: ='ריכוז אגפים'!X10 -> 0 | R7: =Q7-O7 -> 0
A8: אגף החינוך | D8: ='תקציב אגף חינוך 2020'!Z19 -> 78000 | O8: =SUM(B8:N8) -> 78000 | Q8: ='ריכוז אגפים'!X11 -> 78000 | R8: =Q8-O8 -> 0
A9: אגף ת.נ.ו.ס | I9: ='תקציב אגף תנוס 2020 '!Z10+'תקציב אגף תנוס 2020 '!Z13 -> 240229 | L9: ='תקציב אגף תנוס 2020 '!Z16 -> 265000 | O9: =SUM(B9:N9) -> 505229 | Q9: ='ריכוז אגפים'!X12 -> 505229 | R9: =Q9-O9 -> 0
A10: אגף ש.א.י.פ.ה | C10: ='תקציב אגף שאיפה 2020 '!Z20 -> 108000 | K10: ='תקציב אגף שאיפה 2020 '!Z23 -> 132000 | N10: ='תקציב אגף שאיפה 2020 '!Z11 -> 17500000 | O10: =SUM(B10:N10) -> 17740000 | Q10: ='ריכוז אגפים'!X13 -> 17740000 | R10: =Q10-O10 -> 0
A11: רשות החופים | C11: ='תקציב רשות החופים 2020 '!Z6 -> -72000 | L11: ='תקציב רשות החופים 2020 '!Z20+'תקציב רשות החופים 2020 '!Z21+'תקציב רשות החופים 2020 '!Z22+'תקציב רשות החופים 2020 '!Z23 -> 100000 | O11: =SUM(B11:N11) -> 28000 | Q11: ='ריכוז אגפים'!X14 -> 28000 | R11: =Q11-O11 -> 0
A12: החברה לפיתוח תיירות | B12: ='תקציב החברה לתירות 2020 '!Z6 -> 0 | F12: ='תקציב החברה לתירות 2020 '!Z10 -> 800000 | O12: =SUM(B12:N12) -> 800000 | Q12: ='ריכוז אגפים'!X15 -> 800000 | R12: =Q12-O12 -> 0
A13: אגף תקשוב ומע. מידע | G13: ='תקציב אגף תקשוב 2020 '!Z10 -> 1500000 | H13: ='תקציב אגף תקשוב 2020 '!Z13 -> 2580000 | O13: =SUM(B13:N13) -> 4080000 | Q13: ='ריכוז אגפים'!X16 -> 4080000 | R13: =Q13-O13 -> 0
A14: אגף נכסים וביטוח | O14: =SUM(B14:N14) -> 0 | Q14: ='ריכוז אגפים'!X17 -> 0 | R14: =Q14-O14 -> 0
A15: מינהל כללי | O15: =SUM(B15:N15) -> 0 | Q15: ='ריכוז אגפים'!X18 -> 0 | R15: =Q15-O15 -> 0
A16: סה"כ | B16: =SUM(B4:B15) -> 47874676 | C16: =SUM(C4:C15) -> 36000 | D16: =SUM(D4:D15) -> 40189300 | E16: =SUM(E4:E15) -> 2100000 | F16: =SUM(F4:F15) -> 800000 | G16: =SUM(G4:G15) -> 1500000 | H16: =SUM(H4:H15) -> 2580000 | I16: =SUM(I4:I15) -> 2903838 | ... O16: =SUM(O4:O15) -> 137122769 | Q16: =SUM(Q4:Q15) -> 137122769 | R16: =SUM(R4:R15) -> 0
J19: =J16+D16+#REF!+Q16+H16+E16 -> #REF! | K19: =K16+E16+C16+B16+I16+F16 -> 70666514

Sheet תרשים מקורות מימון

Sheet הנדסה 2020
C3: מינהל הנדסה
B5: ü | C5: סך התקציב הנדרש בשנת 2020 ע"י מינהל הנדסה מסתכם ב - | H5: ='תקציב הנדסה 2020 '!U87 -> 32558338
B7: ü | C7: מספר הפרויקטים המטופל ע"י אגף הנדסה : | H7: ='תקציב הנדסה 2020 '!A87 -> 81
B9: ü | C9: מקורות מימון לפרויקטים :
C11: מקורות מימון | E11: סכום | H11: אחוז
C12: קרן עבודות פיתוח | E12: ='תקציב הנדסה 2020 '!V87 -> 31303894 | H12: =E12/$E$14 -> 0.96147088
C13: אחרים | E13: ='תקציב הנדסה 2020 '!Z87 -> 1254444 | H13: =E13/$E$14 -> 0.038529117
C14: סה"כ | E14: =SUM(E12:E13) -> 32558338 | H14: =E14/$E$14 -> 1
C16: ü | D16: עדכון שם תב"ר : מסומן (*) מס' 44
D18: תב"ר 1756 : מסמכי מדיניות להתחדשות עירונית בשכונות - מסמכי מדיניות ותוכניות אסטרטגיות
D19: להתחדשות עירונית בשכונות.
C26: ü | D26: תאור הפרויקטים מובא בעמודים 30 -25

Sheet הנדסה 2020 (2)
C3: מינהל הנדסה
B5: ü | C5: פרויקטים עיקריים בשנת 2020 :
D7: פרויקט | E7: סכום
D8: מערכת בקרת רמזורים | E8: 4800000
D9: סמטת ניסנוב | E9: 4200000
D10: פיתוח מתחם המכללות הר' 1920/1 | E10: 4000000
D11: תכנון וביצוע תוכנית אב לשבילי אופניים | E11: 3000000
D12: פיתוח רח' הארז והחרוב | E12: 2400000
D13: סקר חריגות בניה | E13: 2160000
D14: פינוי בינוי סוקולוב - רח' ירושלים | E14: 1958338
D15: שביל מתחם העצמאות הרב גורן הבנים | E15: 1100000
D17: פרויקט : ז'בוטינסקי
D38: פרויקט שהסתיים

Sheet תקציב הנדסה 2020 
A2: מינהל הנדסה
A4: מס' סידורי | B4: מס' תב"ר | C4: שם תב"ר | D4: אומדן כולל לפרויקט | E4: אומדן מאושר במועצה | F4: תוספת לאומדן לאישור המועצה | G4: תקציב מאושר | H4: ביצוע בפועל | I4: שריון מערך חוזים | J4: שריון מערך רכש | K4: סה"כ שריון התחייבויות | L4: סה"כ ביצוע | M4: יתרה לביצוע צפוי עד 31.12.2019 | N4: אומדן לביצוע שנת 2020 | O4: אומדן לביצוע שנת 2021 ואילך | P4: יתרת תקציב | Q4: תקציב נוסף נדרש במסגרת תוכנית עבודה 2019 | R4: תקציב נוסף נדרש מעבר לתוכנית עבודה 2019 | S4: סה"כ תקציב נוסף נדרש 2019 | T4: יתרת תקציב פנויה 31.12.2019 | U4: תקציב נדרש 2020 | V4: קרן עבודות פיתוח | W4: קרן עודפי תקציב רגיל | X4: קרן רכוש | Y4: קרן ייעודית | Z4: אחרים | AA4: תאור הפרויקט | AB4: פרק תב"ר
A6: =A5+1 -> 1 | B6: 179 | C6: יעודי קרקע -מפת בסיס | D6: =3000000+220250-150000+100000 -> 3170250 | E6: 3000000 | F6: =D6-E6 -> 170250 | G6: 2970250 | H6: 2858878.7 | J6: 27296.1 | K6: 27296.1 | L6: =H6+K6 -> 2886174.8 | M6: =P6+S6 -> 84075.21 | N6: =250000-150000+100000 -> 200000 | O6: =D6-L6-M6-N6 -> 0 | P6: =G6-L6 -> 84075.21 | S6: =SUM(Q6:R6) -> 0 | T6: =P6-M6+S6 -> 0 | U6: =N6-T6 -> 200000 | V6: =U6-Z6-W6-Y6 -> 200000 | AA6: עדכון מע. מידע הנדסי כתוצאה משינוי ייעודי קרקע עקב החלטות ועדות התכנון. | AB6: 732000
A7: =A6+1 -> 2 | B7: 304 | C7: פיתוח פארק הבאסה | D7: 54930000 | E7: 54930000 | F7: =D7-E7 -> 0 | G7: 54930000 | H7: 54780523 | I7: 149074.13 | K7: 149074.13 | L7: =H7+K7 -> 54929597 | M7: =P7+S7 -> 403.26 | O7: =D7-L7-M7-N7 -> 0 | P7: =G7-L7 -> 403.26 | S7: =SUM(Q7:R7) -> 0 | T7: =P7-M7+S7 -> 0 | U7: =N7-T7 -> 0 | V7: =U7-Z7-W7-Y7 -> 0 | AB7: 746000
A8: =A7+1 -> 3 | B8: 507 | C8: החלפת מדרכות | D8: 2310000 | E8: 2310000 | F8: =D8-E8 -> 0 | G8: 1765000 | H8: 1653104.2 | K8: 0 | L8: =H8+K8 -> 1653104.2 | M8: =P8+S8 -> 161895.77 | N8: =300000-150000 -> 150000 | O8: =D8-L8-M8-N8 -> 345000 | P8: =G8-L8 -> 111895.77 | Q8: 50000 | S8: =SUM(Q8:R8) -> 50000 | T8: =P8-M8+S8 -> 0 | U8: =N8-T8 -> 150000 | V8: =U8-Z8-W8-Y8 -> 150000 | AA8: מסגרת ביצוע עבודות מדרכות לאחר השלמת עבודות בניה כתוצאה מהיתרים. | AB8: 742000
A9: =A8+1 -> 4 | B9: 546 | C9: מתחם הגאון מוילנא חתם סופר | D9: =2920000+1300000-1300000 -> 2920000 | E9: 2920000 | F9: =D9-E9 -> 0 | G9: 2920000 | H9: 2895703.4 | J9: 18052.75 | K9: 18052.75 | L9: =H9+K9 -> 2913756.1 | M9: =P9+S9 -> 6243.85 | O9: =D9-L9-M9-N9 -> 0 | P9: =G9-L9 -> 6243.85 | S9: =SUM(Q9:R9) -> 0 | T9: =P9-M9+S9 -> 0 | U9: =N9-T9 -> 0 | V9: =U9-Z9-W9-Y9 -> 0 | AB9: 742000
A10: =A9+1 -> 5 | B10: 592 | C10: מתחם הבריגדה מתחם הר' 1960 | D10: 54893000 | E10: 54893000 | F10: =D10-E10 -> 0 | G10: =18720000+2000000 -> 20720000 | H10: 17898437 | I10: 149113.19 | J10: 2319961.1 | K10: 2469074.3 | L10: =H10+K10 -> 20367511 | M10: =P10+S10 -> 352488.67 | N10: 1300000 | O10: =D10-L10-M10-N10 -> 32873000 | P10: =G10-L10 -> 352488.67 | S10: =SUM(Q10:R10) -> 0 | T10: =P10-M10+S10 -> 0 | U10: =N10-T10 -> 1300000 | V10: =U10-Z10-W10-Y10 -> 1300000 | AA10: ביצוע עבודות סלילה ופיתוח סופי רח' דן שומרון. תכנון רח' דורי. | AB10: 742000
A11: =A10+1 -> 6 | B11: 608 | C11: עבודות ניקוז בעיר | D11: 8300000 | E11: 8300000 | F11: =D11-E11 -> 0 | G11: 6200000 | H11: 5233021.7 | J11: 366573.76 | K11: 366573.76 | L11: =H11+K11 -> 5599595.4 | M11: =P11+S11-200000 -> 400404.57 | N11: 200000 | O11: =D11-L11-M11-N11 -> 2100000 | P11: =G11-L11 -> 600404.57 | S11: =SUM(Q11:R11) -> 0 | T11: =P11-M11+S11 -> 200000 | U11: =N11-T11 -> 0 | V11: =U11-Z11-W11-Y11 -> 0 | AA11: סל עבודות ניקוז ברחבי העיר . | AB11: 745000
A12: =A11+1 -> 7 | B12: 626 | C12: תכנון וביצוע תוכנית אב לשבילי אופניים | D12: =20025000+5170000 -> 25195000 | E12: 20025000 | F12: =D12-E12 -> 5170000 | G12: =14525000+250000 -> 14775000 | H12: 13572560 | I12: 277593.86 | J12: 64255.41 | K12: 341849.27 | L12: =H12+K12 -> 13914410 | M12: =P12+S12 -> 860590.31 | N12: =10420000-7420000 -> 3000000 | O12: =D12-L12-M12-N12 -> 7420000 | P12: =G12-L12 -> 860590.31 | S12: =SUM(Q12:R12) -> 0 | T12: =P12-M12+S12 -> 0 | U12: =N12-T12 -> 3000000 | V12: =U12-Z12-W12-Y12 -> 3000000 | AA12: תכנון וביצוע שבילי אופנים וביצוע ברחבי העיר . ב - 2020 : תכנון: רח' הבנים, גן רשל, ארלוזרוב,הדר ,לפקין שחק. | AB12: 732000
A13: =A12+1 -> 8 | B13: 638 | C13: פיתוח מתחם רזיאל מע' תב"ע 1706 | D13: 7000000 | E13: 7000000 | F13: =D13-E13 -> 0 | G13: 4600000 | H13: 3454839 | J13: 480319.16 | K13: 480319.16 | L13: =H13+K13 -> 3935158.1 | M13: =P13+S13 -> 664841.88 | O13: =D13-L13-M13-N13 -> 2400000 | P13: =G13-L13 -> 664841.88 | S13: =SUM(Q13:R13) -> 0 | T13: =P13-M13+S13 -> 0 | U13: =N13-T13 -> 0 | V13: =U13-Z13-W13-Y13 -> 0 | AA13: פיתוח ברח' העפרוני וזאב במתחם. הביצוע כולל תאורה וסלילת רחוב משולב . | AB13: 742000
A14: =A13+1 -> 9 | B14: 1018 | C14: מחלף הרב מכר | D14: 31900000 | E14: 31900000 | F14: =D14-E14 -> 0 | G14: 5100000 | H14: 3059670.8 | I14: 84192.99 | K14: 84192.99 | L14: =H14+K14 -> 3143863.8 | M14: =P14+S14-1400000 -> 556136.22 | O14: =D14-L14-M14-N14 -> 28200000 | P14: =G14-L14 -> 1956136.2 | S14: =SUM(Q14:R14) -> 0 | T14: =P14-M14+S14 -> 1400000 | U14: =N14-T14 -> -1400000 | V14: =U14-Z14-W14-Y14 -> -1400000 | AA14: פרויקט ממשלתי המתוקצב ע"י המדינה במקביל לרשות. הביצוע העירוני מתעכב עקב בעית פולש והמינהל. | AB14: 742000
A15: =A14+1 -> 10 | B15: 1100 | C15: תכנון מתחם הר' 2200 | D15: 7000000 | E15: 7000000 | F15: =D15-E15 -> 0 | G15: =5750000+150000 -> 5900000 | H15: 3232572.1 | I15: 1951485.8 | J15: 142466.79 | K15: 2093952.6 | L15: =H15+K15 -> 5326524.7 | M15: =P15+S15 -> 573475.33 | N15: 400000 | O15: =D15-L15-M15-N15 -> 700000 | P15: =G15-L15 -> 573475.33 | S15: =SUM(Q15:R15) -> 0 | T15: =P15-M15+S15 -> 0 | U15: =N15-T15 -> 400000 | V15: =U15-Z15-W15-Y15 -> 400000 | AA15: תכנון מתחם חוף התכלת. עתירה של בעלי הקרקע הפרטיים על השתהות בקידום התוכנית . | AB15: 732000
A16: =A15+1 -> 11 | B16: 1129 | C16: עבודות פיתוח ותשתיות קטנות | D16: 7000000 | E16: 7000000 | F16: =D16-E16 -> 0 | G16: 5991771 | H16: 5064670.5 | J16: 229476.89 | K16: 229476.89 | L16: =H16+K16 -> 5294147.4 | M16: =P16+S16-500000 -> 197623.64 | N16: 500000 | O16: =D16-L16-M16-N16 -> 1008229 | P16: =G16-L16 -> 697623.64 | S16: =SUM(Q16:R16) -> 0 | T16: =P16-M16+S16 -> 500000 | U16: =N16-T16 -> 0 | V16: =U16-Z16-W16-Y16 -> 0 | AA16: סל עבודות פיתוח קטנות מזדמנות הנדרשות במהלך השנה. | AB16: 742000
A17: =A16+1 -> 12 | B17: 1220 | C17: תכנונים כלליים | D17: 7000000 | E17: 7000000 | F17: =D17-E17 -> 0 | G17: 5600000 | H17: 4582039.1 | I17: 104327.73 | J17: 313039.26 | K17: 417366.99 | L17: =H17+K17 -> 4999406.1 | M17: =P17+S17 -> 600593.94 | N17: 700000 | O17: =D17-L17-M17-N17 -> 700000 | P17: =G17-L17 -> 600593.94 | S17: =SUM(Q17:R17) -> 0 | T17: =P17-M17+S17 -> 0 | U17: =N17-T17 -> 700000 | V17: =U17-Z17-W17-Y17 -> 700000 | AA17: סל תכנון של תוכניות ופרויקטים, מדידות ותכנון ראשוני. | AB17: 732000
A18: =A17+1 -> 13 | B18: 1320 | C18: פארק הבאסה שלב ב' | D18: 23500000 | E18: 23500000 | F18: =D18-E18 -> 0 | G18: 21550000 | H18: 21339439 | I18: 204226.2 | K18: 204226.2 | L18: =H18+K18 -> 21543665 | M18: =P18+S18 -> 6334.72 | O18: =D18-L18-M18-N18 -> 1950000 | P18: =G18-L18 -> 6334.72 | S18: =SUM(Q18:R18) -> 0 | T18: =P18-M18+S18 -> 0 | U18: =N18-T18 -> 0 | V18: =U18-Z18-W18-Y18 -> 0 | AB18: 746000
A19: =A18+1 -> 14 | B19: 1324 | C19: שצ"פ אל על והמינהרה | D19: 180000 | E19: 180000 | F19: =D19-E19 -> 0 | G19: 180000 | H19: 120629.48 | J19: 38760 | K19: 38760 | L19: =H19+K19 -> 159389.48 | M19: =P19+S19 -> 20610.52 | O19: =D19-L19-M19-N19 -> 0 | P19: =G19-L19 -> 20610.52 | S19: =SUM(Q19:R19) -> 0 | T19: =P19-M19+S19 -> 0 | U19: =N19-T19 -> 0 | V19: =U19-Z19-W19-Y19 -> 0 | AB19: 742000
A20: =A19+1 -> 15 | B20: 1363 | C20: מתחם יהודה המכבי וזוהר טל | D20: 15500000 | E20: 15500000 | F20: =D20-E20 -> 0 | G20: 6050000 | H20: 934884.96 | I20: 72509.9 | J20: 283872.08 | K20: 356381.98 | L20: =H20+K20 -> 1291266.9 | M20: =P20+S20 -> 6758733.1 | O20: =D20-L20-M20-N20 -> 7450000 | P20: =G20-L20 -> 4758733.1 | Q20: 2000000 | S20: =SUM(Q20:R20) -> 2000000 | T20: =P20-M20+S20 -> 0 | U20: =N20-T20 -> 0 | V20: =U20-Z20-W20-Y20 -> 0 | AA20: פיתוח מתחם הרחובות יהודה המכבי, זוהר טל, האצל, הגבורה. תכנון ותחילת ביצוע. | AB20: 742000
A21: =A20+1 -> 16 | B21: 1366 | C21: ליווי תשתיות לאומיות | D21: 1500000 | E21: 1500000 | F21: =D21-E21 -> 0 | G21: 846000 | H21: 740835.72 | J21: 1755.22 | K21: 1755.22 | L21: =H21+K21 -> 742590.94 | M21: =P21+S21 -> 103409.06 | O21: =D21-L21-M21-N21 -> 654000 | P21: =G21-L21 -> 103409.06 | S21: =SUM(Q21:R21) -> 0 | T21: =P21-M21+S21 -> 0 | U21: =N21-T21 -> 0 | V21: =U21-Z21-W21-Y21 -> 0 | AA21: ליווי יועצי תנועה, איכות הסביבה, במסגרת סלילת כביש 531 וכביש 20. | AB21: 742000
A22: =A21+1 -> 17 | B22: 1406 | C22: שימור אתרים | D22: =1300000+100000 -> 1400000 | E22: 1300000 | F22: =D22-E22 -> 100000 | G22: 1300000 | H22: 833530.52 | I22: 33785.1 | J22: 15530.64 | K22: 49315.74 | L22: =H22+K22 -> 882846.26 | M22: =P22+S22 -> 417153.74 | N22: 100000 | O22: =D22-L22-M22-N22 -> 0 | P22: =G22-L22 -> 417153.74 | S22: =SUM(Q22:R22) -> 0 | T22: =P22-M22+S22 -> 0 | U22: =N22-T22 -> 100000 | V22: =U22-Z22-W22-Y22 -> 100000 | AA22: הכנת תב"עות לשימור אתרים. | AB22: 732000
A23: =A22+1 -> 18 | B23: 1407 | C23: תב"עות קטנות | D23: 4895000 | E23: 4895000 | F23: =D23-E23 -> 0 | G23: 3795000 | H23: 2554334.2 | I23: 107604.98 | J23: 699067.14 | K23: 806672.12 | L23: =H23+K23 -> 3361006.3 | M23: =P23+S23 -> 433993.7 | N23: =500000-200000+400000+400000-300000 -> 800000 | O23: =D23-L23-M23-N23 -> 300000 | P23: =G23-L23 -> 433993.7 | S23: =SUM(Q23:R23) -> 0 | T23: =P23-M23+S23 -> 0 | U23: =N23-T23 -> 800000 | V23: =U23-Z23-W23-Y23 -> 800000 | AA23: סל תכנון של תב"עות הנדרשות במהלך השנה. | AB23: 732000
A24: =A23+1 -> 19 | B24: 1409 | C24: תוכנית המתאר הכוללנית | D24: 7680000 | E24: 7680000 | F24: =D24-E24 -> 0 | G24: 7680000 | H24: 3947924.4 | I24: 2279160 | J24: 8716.5 | K24: 2287876.5 | L24: =H24+K24 -> 6235800.8 | M24: =P24+S24 -> 1444199.2 | O24: =D24-L24-M24-N24 -> 0 | P24: =G24-L24 -> 1444199.2 | S24: =SUM(Q24:R24) -> 0 | T24: =P24-M24+S24 -> 0 | U24: =N24-T24 -> 0 | V24: =U24-Z24-W24-Y24 -> 0 | AA24: הכנת תוכנית מתאר כוללנית על מנת לאפשר לעיריה לתכנן תוכניות בסמכות וועדה מקומית. | AB24: 732000
A25: =A24+1 -> 20 | B25: 1457 | C25: ליווי "מהיר" לעיר | D25: 1100000 | E25: 1100000 | F25: =D25-E25 -> 0 | G25: 430000 | H25: 163760.09 | J25: 12899.24 | K25: 12899.24 | L25: =H25+K25 -> 176659.33 | M25: =P25+S25-200000 -> 53340.67 | N25: =500000-300000 -> 200000 | O25: =D25-L25-M25-N25 -> 670000 | P25: =G25-L25 -> 253340.67 | S25: =SUM(Q25:R25) -> 0 | T25: =P25-M25+S25 -> 200000 | U25: =N25-T25 -> 0 | V25: =U25-Z25-W25-Y25 -> 0 | AA25: העסקת צוות יועצים שילווה את התכנון והביצוע של הפרויקט. | AB25: 742000
A26: =A25+1 -> 21 | B26: 1466 | C26: תמ"א 38 | D26: 2200000 | E26: 2200000 | F26: =D26-E26 -> 0 | G26: 1500000 | H26: 1218739.9 | J26: 25974 | K26: 25974 | L26: =H26+K26 -> 1244713.9 | M26: =P26+S26-100000 -> 155286.11 | N26: 100000 | O26: =D26-L26-M26-N26 -> 700000 | P26: =G26-L26 -> 255286.11 | S26: =SUM(Q26:R26) -> 0 | T26: =P26-M26+S26 -> 100000 | U26: =N26-T26 -> 0 | V26: =U26-Z26-W26-Y26 -> 0 | AA26: העצמת הזכויות הנוספות לבנינים לצורך הגברת הכדאיות של ביצוע חיזוק מבנים. | AB26: 732000
A27: =A26+1 -> 22 | B27: 1511 | C27: פתוח קטעי רח' דרך ירושלים גולומב | D27: 960000 | E27: 960000 | F27: =D27-E27 -> 0 | G27: 100000 | H27: 17284 | K27: 0 | L27: =H27+K27 -> 17284 | M27: =P27+S27 -> 82716 | O27: =D27-L27-M27-N27 -> 860000 | P27: =G27-L27 -> 82716 | S27: =SUM(Q27:R27) -> 0 | T27: =P27-M27+S27 -> 0 | U27: =N27-T27 -> 0 | V27: =U27-Z27-W27-Y27 -> 0 | AA27: הקמת חניות והסדרים גיאומטרים ליד מבנה לזכר השואה שיוקם ע"י היזם (ליאור דינור ואחרים). מימון היזם מובטח בערבות. | AB27: 742000
A28: =A27+1 -> 23 | B28: 1527 | C28: התחדשות עירונית יד התשעה | D28: 3000000 | E28: 3000000 | F28: =D28-E28 -> 0 | G28: 850000 | H28: 821144.02 | J28: 526.5 | K28: 526.5 | L28: =H28+K28 -> 821670.52 | M28: =P28+S28 -> 28329.48 | N28: =100000+250000 -> 350000 | O28: =D28-L28-M28-N28 -> 1800000 | P28: =G28-L28 -> 28329.48 | S28: =SUM(Q28:R28) -> 0 | T28: =P28-M28+S28 -> 0 | U28: =N28-T28 -> 350000 | V28: =U28-Z28-W28-Y28 -> 350000 | AA28: תכנון התחדשות עירונית ביד התשעה במסגרת תוכנית כללית/תוכניות מתחמיות. | AB28: 732000
A29: =A28+1 -> 24 | B29: 1529 | C29: הוצאות בקשר עם תביעות סעיף 197 | D29: 500000 | E29: 400000 | F29: =D29-E29 -> 100000 | G29: 400000 | H29: 346975.05 | J29: 25400.7 | K29: 25400.7 | L29: =H29+K29 -> 372375.75 | M29: =P29+S29 -> 27624.25 | N29: 100000 | O29: =D29-L29-M29-N29 -> 0 | P29: =G29-L29 -> 27624.25 | S29: =SUM(Q29:R29) -> 0 | T29: =P29-M29+S29 -> 0 | U29: =N29-T29 -> 100000 | V29: =U29-Z29-W29-Y29 -> 100000 | AA29: סל הוצאות בקשר עם תביעות סעיף 197. | AB29: 760000
A30: =A29+1 -> 25 | B30: 1551 | C30: צפון הרצליה הר' 2035 | D30: 525240 | E30: 525240 | F30: =D30-E30 -> 0 | G30: 375240 | H30: 204671 | J30: 19855 | K30: 19855 | L30: =H30+K30 -> 224526 | M30: =P30+S30 -> 150714 | N30: 150000 | O30: =D30-L30-M30-N30 -> 0 | P30: =G30-L30 -> 150714 | S30: =SUM(Q30:R30) -> 0 | T30: =P30-M30+S30 -> 0 | U30: =N30-T30 -> 150000 | V30: =U30-Z30-W30-Y30 -> 150000 | AA30: הערכות להתנגדות לתוכנית שמקדם מינהל התכנון והועדה המחוזית לכל צפון הרצליה ללא שיתוף העירייה. | AB30: 732000
A31: =A30+1 -> 26 | B31: 1568 | C31: פיתוח פארק שלב ג' | D31: 46375301 | E31: 46375301 | F31: =D31-E31 -> 0 | G31: 28875301 | H31: 27763907 | I31: 822126.24 | J31: 55293.26 | K31: 877419.5 | L31: =H31+K31 -> 28641327 | M31: =P31+S31 -> 233974.19 | O31: =D31-L31-M31-N31 -> 17500000 | P31: =G31-L31 -> 233974.19 | S31: =SUM(Q31:R31) -> 0 | T31: =P31-M31+S31 -> 0 | U31: =N31-T31 -> 0 | V31: =U31-Z31-W31-Y31 -> 0 | AB31: 746000
A32: =A31+1 -> 27 | B32: 1576 | C32: הוצאות אכיפה-דירות נופש במרינה | D32: 1000000 | E32: 1000000 | F32: =D32-E32 -> 0 | G32: 420000 | H32: 363674.17 | I32: 35099 | K32: 35099 | L32: =H32+K32 -> 398773.17 | M32: =P32+S32 -> 21226.83 | N32: 30000 | O32: =D32-L32-M32-N32 -> 550000 | P32: =G32-L32 -> 21226.83 | S32: =SUM(Q32:R32) -> 0 | T32: =P32-M32+S32 -> 0 | U32: =N32-T32 -> 30000 | V32: =U32-Z32-W32-Y32 -> 30000 | AA32: עלויות אכיפה צווי בית משפט במרינה. | AB32: 732000
A33: =A32+1 -> 28 | B33: 1587 | C33: פיתוח מתחם המכללות הר' 1920/1 | D33: 34200000 | E33: 34200000 | F33: =D33-E33 -> 0 | G33: 11550000 | H33: 8929257.2 | I33: 799141.59 | J33: 1096116.3 | K33: 1895257.9 | L33: =H33+K33 -> 10824515 | M33: =P33+S33 -> 725484.88 | N33: =11300000-4300000-3000000 -> 4000000 | O33: =D33-L33-M33-N33 -> 18650000 | P33: =G33-L33 -> 725484.88 | S33: =SUM(Q33:R33) -> 0 | T33: =P33-M33+S33 -> 0 | U33: =N33-T33 -> 4000000 | V33: =U33-Z33-W33-Y33 -> 4000000 | AA33: עבודה סלילה, גינון ותאורה במתחם. | AB33: 742000
A34: =A33+1 -> 29 | B34: 1601 | C34: העתקות פרויקטים שונים | D34: 700000 | E34: 700000 | F34: =D34-E34 -> 0 | G34: 650000 | H34: 512755.34 | J34: 20613.2 | K34: 20613.2 | L34: =H34+K34 -> 533368.54 | M34: =P34+S34 -> 116631.46 | O34: =D34-L34-M34-N34 -> 50000 | P34: =G34-L34 -> 116631.46 | S34: =SUM(Q34:R34) -> 0 | T34: =P34-M34+S34 -> 0 | U34: =N34-T34 -> 0 | V34: =U34-Z34-W34-Y34 -> 0 | AB34: 742000
A35: =A34+1 -> 30 | B35: 1602 | C35: רח' ז'בוטינסקי אלתרמן הבריגדה | D35: =29500000+3000000 -> 32500000 | E35: 29500000 | F35: =D35-E35 -> 3000000 | G35: 32500000 | H35: 29008286 | I35: 2652256.2 | J35: 150108.25 | K35: 2802364.5 | L35: =H35+K35 -> 31810651 | M35: =P35+S35 -> 689349.07 | O35: =D35-L35-M35-N35 -> 0 | P35: =G35-L35 -> 689349.07 | S35: =SUM(Q35:R35) -> 0 | T35: =P35-M35+S35 -> 0 | U35: =N35-T35 -> 0 | V35: =U35-Z35-W35-Y35 -> 0 | AA35: עבודות פיתוח במתחם הרחובות והרחבתם.סיום. חן סופיים. | AB35: 742000
A36: =A35+1 -> 31 | B36: 1619 | C36: הסדרת שצ"פ למגורים הר' 2257 | D36: 250000 | E36: 250000 | F36: =D36-E36 -> 0 | G36: 200000 | H36: 90207 | J36: 10580.9 | K36: 10580.9 | L36: =H36+K36 -> 100787.9 | M36: =P36+S36 -> 99212.1 | O36: =D36-L36-M36-N36 -> 50000 | P36: =G36-L36 -> 99212.1 | S36: =SUM(Q36:R36) -> 0 | T36: =P36-M36+S36 -> 0 | U36: =N36-T36 -> 0 | V36: =U36-Z36-W36-Y36 -> 0 | AA36: תכנון שינוי תב"ע משצ"פ למגורים בעקבות היתרים קיימים משנות ה - 90 שאינם תואמים למצב הסטטוטורי הקיים. | AB36: 732000
A37: =A36+1 -> 32 | B37: 1620 | C37: תכנון חיבוריות בין מזרח למערב | D37: 1000000 | E37: 1000000 | F37: =D37-E37 -> 0 | G37: 300000 | H37: 0 | K37: 0 | L37: =H37+K37 -> 0 | M37: =P37+S37-300000 -> 0 | N37: 300000 | O37: =D37-L37-M37-N37 -> 700000 | P37: =G37-L37 -> 300000 | S37: =SUM(Q37:R37) -> 0 | T37: =P37-M37+S37 -> 300000 | U37: =N37-T37 -> 0 | V37: =U37-Z37-W37-Y37 -> 0 | AA37: תכנון כולל לסוגיית חיזוק הקשר בין מזרח העיר למערבה באמצעות תוספות של גשרים להולכי רגל ורכב דו גלגלי. | AB37: 732000
A38: =A37+1 -> 33 | B38: 1660 | C38: תכנון פרויקטים פינוי בינוי | D38: 2000000 | E38: 2000000 | F38: =D38-E38 -> 0 | G38: 600000 | H38: 120082.5 | J38: 16103.59 | K38: 16103.59 | L38: =H38+K38 -> 136186.09 | M38: =P38+S38 -> 463813.91 | N38: =500000+500000-500000 -> 500000 | O38: =D38-L38-M38-N38 -> 900000 | P38: =G38-L38 -> 463813.91 | S38: =SUM(Q38:R38) -> 0 | T38: =P38-M38+S38 -> 0 | U38: =N38-T38 -> 500000 | V38: =U38-Z38-W38-Y38 -> 500000 | AA38: בדיקת התכנות של מתחמי פינוי בינוי ותכנון פרויקטים להתחדשות עירונית ופינוי בינוי. איחוד עם תב"ר 1674. | AB38: 732000
A39: =A38+1 -> 34 | B39: 1670 | C39: פתוח מתחם הר' 1972 תחנה מרכזית | D39: 12500000 | E39: 12500000 | F39: =D39-E39 -> 0 | G39: 850000 | H39: 168571 | I39: 195569.65 | J39: 43446.1 | K39: 239015.75 | L39: =H39+K39 -> 407586.75 | M39: =P39+S39 -> 442413.25 | N39: =1000000-300000 -> 700000 | O39: =D39-L39-M39-N39 -> 10950000 | P39: =G39-L39 -> 442413.25 | S39: =SUM(Q39:R39) -> 0 | T39: =P39-M39+S39 -> 0 | U39: =N39-T39 -> 700000 | V39: =U39-Z39-W39-Y39 -> 700000 | AA39: תכנון פיתוח מתחם התחנה. | AB39: 742000
A40: =A39+1 -> 35 | B40: 1674 | C40: התחדשות עירונית | D40: =2700000+100000-500000-500000 -> 1800000 | E40: 2300000 | F40: =D40-E40 -> -500000 | G40: =2200000+100000 -> 2300000 | H40: 1414819.7 | I40: 300189.64 | J40: 13969.8 | K40: 314159.44 | L40: =H40+K40 -> 1728979.1 | M40: =P40+S40-500000 -> 71020.87 | N40: =500000-500000 -> 0 | O40: =D40-L40-M40-N40 -> 0 | P40: =G40-L40 -> 571020.87 | S40: =SUM(Q40:R40) -> 0 | T40: =P40-M40+S40 -> 500000 | U40: =N40-T40 -> -500000 | V40: =U40-Z40-W40-Y40 -> -500000 | AA40: בדיקת התכנות טרם קביעת ותוך כדי בחינת מתחמי פינוי בינוי. ראה תב"ר 1660. | AB40: 732000
A41: =A40+1 -> 36 | B41: 1692 | C41: פינוי בינוי מעונות שרה | D41: 2450000 | E41: 2450000 | F41: =D41-E41 -> 0 | G41: 1439186 | H41: 578670.81 | I41: 128716.16 | J41: 186.56 | K41: 128902.72 | L41: =H41+K41 -> 707573.53 | M41: =P41+S41 -> 1038935.5 | O41: =D41-L41-M41-N41 -> 703491 | P41: =G41-L41 -> 731612.47 | Q41: 307323 | S41: =SUM(Q41:R41) -> 307323 | T41: =P41-M41+S41 -> 0 | U41: =N41-T41 -> 0 | V41: =U41-Z41-W41-Y41 -> 0 | AA41: תכנון מתחם מעונות שרה לפינוי ובינוי.מימון משרד הבינוי. | AB41: 732000
A42: =A41+1 -> 37 | B42: 1693 | C42: פינוי בינוי צומת כדורי | D42: 4500000 | E42: 4500000 | F42: =D42-E42 -> 0 | G42: 2235481 | H42: 312538.53 | I42: 48062.98 | K42: 48062.98 | L42: =H42+K42 -> 360601.51 | M42: =P42+S42 -> 1874879.5 | O42: =D42-L42-M42-N42 -> 2264519 | P42: =G42-L42 -> 1874879.5 | S42: =SUM(Q42:R42) -> 0 | T42: =P42-M42+S42 -> 0 | U42: =N42-T42 -> 0 | V42: =U42-Z42-W42-Y42 -> 0 | AA42: תכנון מתחם צומת כדורי לפינוי ובינוי.מימון מ. הבינוי. | AB42: 732000
A43: =A42+1 -> 38 | B43: 1701 | C43: תב"ע הר' 2394 (לשעבר הר 2159 ) | D43: 1250000 | E43: 1250000 | F43: =D43-E43 -> 0 | G43: 850000 | H43: 137148 | I43: 75117.32 | J43: 150530.28 | K43: 225647.6 | L43: =H43+K43 -> 362795.6 | M43: =P43+S43 -> 487204.4 | N43: =200000+200000-200000+200000 -> 400000 | O43: =D43-L43-M43-N43 -> 0 | P43: =G43-L43 -> 487204.4 | S43: =SUM(Q43:R43) -> 0 | T43: =P43-M43+S43 -> 0 | U43: =N43-T43 -> 400000 | V43: =U43-Z43-W43-Y43 -> 400000 | AA43: תכנון תב"ע לשכונה חדשה בהרצליה הצעירה. שטח בגודל של כ - 50 דונם , כ - 300 יח"ד. | AB43: 732000
A44: =A43+1 -> 39 | B44: 1722 | C44: חיבור גשר הולכי רגל כביש 20 | D44: 2400000 | E44: 2400000 | F44: =D44-E44 -> 0 | G44: 300000 | H44: 98067.4 | I44: 67052.7 | J44: 45473.93 | K44: 112526.63 | L44: =H44+K44 -> 210594.03 | M44: =P44+S44 -> 89405.97 | O44: =D44-L44-M44-N44 -> 2100000 | P44: =G44-L44 -> 89405.97 | S44: =SUM(Q44:R44) -> 0 | T44: =P44-M44+S44 -> 0 | U44: =N44-T44 -> 0 | V44: =U44-Z44-W44-Y44 -> 0 | AA44: חיבור פארק שלב ב' עם שכונת המסילה בגשר הולכי רגל מעל כביש 20. | AB44: 742000
A45: =A44+1 -> 40 | B45: 1744 | C45: מערכת בקרת רמזורים | D45: 13000000 | E45: 13000000 | F45: =D45-E45 -> 0 | G45: 8200000 | H45: 4928998.9 | J45: 2338045.6 | K45: 2338045.6 | L45: =H45+K45 -> 7267044.5 | M45: =P45+S45 -> 932955.51 | N45: 4800000 | O45: =D45-L45-M45-N45 -> 0 | P45: =G45-L45 -> 932955.51 | S45: =SUM(Q45:R45) -> 0 | T45: =P45-M45+S45 -> 0 | U45: =N45-T45 -> 4800000 | V45: =U45-Z45-W45-Y45 -> 4800000 | AA45: הקמת מערכת בקרת רמזורים ברחבי העיר. | AB45: 742000
A46: =A45+1 -> 41 | B46: 1746 | C46: תכנון חניון במתחם אגד | D46: 55000000 | E46: 55000000 | F46: =D46-E46 -> 0 | G46: 0 | H46: 0 | K46: 0 | L46: =H46+K46 -> 0 | M46: =P46+S46 -> 0 | N46: =3000000-3000000 -> 0 | O46: =D46-L46-M46-N46 -> 55000000 | P46: =G46-L46 -> 0 | S46: =SUM(Q46:R46) -> 0 | T46: =P46-M46+S46 -> 0 | U46: =N46-T46 -> 0 | V46: =U46-Z46-W46-Y46 -> 0 | AA46: תכנון חניון תת קרקעי במתחם התחנה המרכזית הישנה. | AB46: 742000
A47: =A46+1 -> 42 | B47: 1748 | C47: תכנון בנייה ציבורית | D47: 120000 | E47: 120000 | F47: =D47-E47 -> 0 | G47: 120000 | H47: 89830.86 | I47: 29280.55 | K47: 29280.55 | L47: =H47+K47 -> 119111.41 | M47: =P47+S47 -> 888.59 | O47: =D47-L47-M47-N47 -> 0 | P47: =G47-L47 -> 888.59 | S47: =SUM(Q47:R47) -> 0 | T47: =P47-M47+S47 -> 0 | U47: =N47-T47 -> 0 | V47: =U47-Z47-W47-Y47 -> 0 | AB47: 732000
A48: =A47+1 -> 43 | B48: 1755 | C48: תב"ע חניון שטח מרינה לי 2073 | D48: 200000 | E48: 200000 | F48: =D48-E48 -> 0 | G48: 100000 | H48: 69371.84 | J48: 10700.37 | K48: 10700.37 | L48: =H48+K48 -> 80072.21 | M48: =P48+S48 -> 19927.79 | O48: =D48-L48-M48-N48 -> 100000 | P48: =G48-L48 -> 19927.79 | S48: =SUM(Q48:R48) -> 0 | T48: =P48-M48+S48 -> 0 | U48: =N48-T48 -> 0 | V48: =U48-Z48-W48-Y48 -> 0 | AA48: הכנת תב"ע לבניית חניון מתחת לשצ"פ במתחם "מרינה לי". | AB48: 732000
A49: =A48+1 -> 44 | B49: 1756 | C49: מסמכי מדיניות ותוכניות אסטרטגיות להתחדשות עירונית בשכונות (*) עדכון שם | D49: 1400000 | E49: 800000 | F49: =D49-E49 -> 600000 | G49: 400000 | H49: 239672 | J49: 44604 | K49: 44604 | L49: =H49+K49 -> 284276 | M49: =P49+S49 -> 115724 | N49: 1000000 | O49: =D49-L49-M49-N49 -> 0 | P49: =G49-L49 -> 115724 | S49: =SUM(Q49:R49) -> 0 | T49: =P49-M49+S49 -> 0 | U49: =N49-T49 -> 1000000 | V49: =U49-Z49-W49-Y49 -> 1000000 | AA49: הכנת מסמכי מדיניות להתחדשות עירונית בשכונות לגיבוש מדיניות לחידוש המרקם הקיים בשכונות. איחוד עם תב"ר 1759. | AB49: 732000
A50: =A49+1 -> 45 | B50: 1757 | C50: תב"ע לדיור בר השגה ברב קוק | D50: 300000 | E50: 300000 | F50: =D50-E50 -> 0 | G50: 110000 | H50: 10908.07 | I50: 908.93 | K50: 908.93 | L50: =H50+K50 -> 11817 | M50: =P50+S50 -> 98183 | O50: =D50-L50-M50-N50 -> 190000 | P50: =G50-L50 -> 98183 | S50: =SUM(Q50:R50) -> 0 | T50: =P50-M50+S50 -> 0 | U50: =N50-T50 -> 0 | V50: =U50-Z50-W50-Y50 -> 0 | AB50: 732000
A51: =A50+1 -> 46 | B51: 1758 | C51: תב"ע לדיור בר השגה בשמשון הגיבור | D51: 300000 | E51: 300000 | F51: =D51-E51 -> 0 | G51: 16000 | H51: 10908.07 | I51: 4828.43 | K51: 4828.43 | L51: =H51+K51 -> 15736.5 | M51: =P51+S51 -> 263.5 | O51: =D51-L51-M51-N51 -> 284000 | P51: =G51-L51 -> 263.5 | S51: =SUM(Q51:R51) -> 0 | T51: =P51-M51+S51 -> 0 | U51: =N51-T51 -> 0 | V51: =U51-Z51-W51-Y51 -> 0 | AB51: 732000
A52: =A51+1 -> 47 | B52: 1759 | C52: תוכנית אסטרטגית להתייעלות עירונית במרכז העיר ובשכונות | D52: 940000 | E52: 940000 | F52: =D52-E52 -> 0 | G52: 940000 | H52: 478660 | I52: 600 | J52: 17151.75 | K52: 17751.75 | L52: =H52+K52 -> 496411.75 | M52: =P52+S52-400000 -> 43588.25 | O52: =D52-L52-M52-N52 -> 400000 | P52: =G52-L52 -> 443588.25 | S52: =SUM(Q52:R52) -> 0 | T52: =P52-M52+S52 -> 400000 | U52: =N52-T52 -> -400000 | V52: =U52-Z52-W52-Y52 -> -400000 | AA52: תוכנית לצורך מידע מה וכמה ניתן לבנות בהתאם לתשתיות הקיימות במרכז ותוכנית לבחינת הנדרש לאוכלוסיה בשכונות עפ"י תחזיות גידול האוכלוסיה. ראה תב"ר 1756. | AB52: 732000
A53: =A52+1 -> 48 | B53: 1760 | C53: תוכנית אסטרטגית באזהת"ש | D53: 900000 | E53: 900000 | F53: =D53-E53 -> 0 | G53: 300000 | H53: 38898 | J53: 1228 | K53: 1228 | L53: =H53+K53 -> 40126 | M53: =P53+S53-150000 -> 109874 | N53: 150000 | O53: =D53-L53-M53-N53 -> 600000 | P53: =G53-L53 -> 259874 | Q53: =100000-100000 -> 0 | S53: =SUM(Q53:R53) -> 0 | T53: =P53-M53+S53 -> 150000 | U53: =N53-T53 -> 0 | V53: =U53-Z53-W53-Y53 -> 0 | AA53: בדיקת התכנות והכנת תב"עות של מתחמים מפוצלים בין מס' בעלים באיזהת"ש החשובים מבחינה ציבורית. | AB53: 732000
A54: =A53+1 -> 49 | B54: 1799 | C54: תב"ע קרית השחקים | D54: 1000000 | E54: 1000000 | F54: =D54-E54 -> 0 | G54: 350000 | H54: 28515 | J54: 6407.86 | K54: 6407.86 | L54: =H54+K54 -> 34922.86 | M54: =P54+S54-200000 -> 115077.14 | N54: =200000-200000 -> 0 | O54: =D54-L54-M54-N54 -> 850000 | P54: =G54-L54 -> 315077.14 | S54: =SUM(Q54:R54) -> 0 | T54: =P54-M54+S54 -> 200000 | U54: =N54-T54 -> -200000 | V54: =U54-Z54-W54-Y54 -> -200000 | AA54: תכנון איזור תעשיה ושכונת מגורים במשולש התחבורה. מקודם בותמ"ל . | AB54: 732000
A55: =A54+1 -> 50 | B55: 1805 | C55: שביל אופניים הרצליה-ת"א הפקעות | D55: 1000000 | E55: 1000000 | F55: =D55-E55 -> 0 | G55: 60000 | H55: 2677 | K55: 0 | L55: =H55+K55 -> 2677 | M55: =P55+S55 -> 57323 | N55: 940000 | O55: =D55-L55-M55-N55 -> 0 | P55: =G55-L55 -> 57323 | S55: =SUM(Q55:R55) -> 0 | T55: =P55-M55+S55 -> 0 | U55: =N55-T55 -> 940000 | V55: =U55-Z55-W55-Y55 -> 940000 | AA55: תשלומי פיצויים להפקעות לביצוע שביל אופניים זמני ע"י משרד התחבורה. | AB55: 742000
A56: =A55+1 -> 51 | B56: 1811 | C56: תכנון דיור בן ציון מיכאלי | D56: 250000 | E56: 250000 | F56: =D56-E56 -> 0 | G56: 250000 | H56: 0 | K56: 0 | L56: =H56+K56 -> 0 | M56: =P56+S56 -> 250000 | O56: =D56-L56-M56-N56 -> 0 | P56: =G56-L56 -> 250000 | S56: =SUM(Q56:R56) -> 0 | T56: =P56-M56+S56 -> 0 | U56: =N56-T56 -> 0 | V56: =U56-Z56-W56-Y56 -> 0 | AA56: העסקת צוות יועצים לתכנון התב"ע לדיור בר השגה רח' בן ציון. | AB56: 732000
A57: =A56+1 -> 52 | B57: 1826 | C57: פיתוח שצ"פים במורדי הגטאות | D57: 1500000 | E57: 1500000 | F57: =D57-E57 -> 0 | G57: 400000 | H57: 14227 | K57: 0 | L57: =H57+K57 -> 14227 | M57: =P57+S57 -> 385773 | O57: =D57-L57-M57-N57 -> 1100000 | P57: =G57-L57 -> 385773 | S57: =SUM(Q57:R57) -> 0 | T57: =P57-M57+S57 -> 0 | U57: =N57-T57 -> 0 | V57: =U57-Z57-W57-Y57 -> 0 | AA57: הסדרת דרכי גישה למבני מגורים והסדרת פלישות לשטחי ציבור. המשך תכנון השצ"פים כ - 1,300 מ"ר. | AB57: 742000
A58: =A57+1 -> 53 | B58: 1843 | C58: פינוי בינוי מול התחנה | D58: 380000 | E58: 380000 | F58: =D58-E58 -> 0 | G58: 70000 | H58: 0 | I58: 1.17 | K58: 1.17 | L58: =H58+K58 -> 1.17 | M58: =P58+S58 -> 69998.83 | O58: =D58-L58-M58-N58 -> 310000 | P58: =G58-L58 -> 69998.83 | S58: =SUM(Q58:R58) -> 0 | T58: =P58-M58+S58 -> 0 | U58: =N58-T58 -> 0 | V58: =U58-Z58-W58-Y58 -> 0 | AA58: הליך התנעה לתכנון מתחם לפינוי בינוי מול התחנה. | AB58: 732000
A59: =A58+1 -> 54 | B59: 1844 | C59: פינוי בינוי סוקולוב רח' ירושלים | D59: 2078338 | E59: 2078338 | F59: =D59-E59 -> 0 | G59: 120000 | H59: 62477.48 | K59: 0 | L59: =H59+K59 -> 62477.48 | M59: =P59+S59 -> 57522.52 | N59: 1958338 | O59: =D59-L59-M59-N59 -> 0 | P59: =G59-L59 -> 57522.52 | S59: =SUM(Q59:R59) -> 0 | T59: =P59-M59+S59 -> 0 | U59: =N59-T59 -> 1958338 | V59: =U59-Z59-W59-Y59 -> 703894 | Z59: 1254444 | AA59: פינוי בינוי סוקולוב רח' ירושלים . מימון מ. הבינוי. | AB59: 732000
A60: =A59+1 -> 55 | B60: 1882 | C60: פיתוח מתחם אולפני הרצליה | D60: =15000000-700000 -> 14300000 | E60: 14300000 | F60: =D60-E60 -> 0 | G60: 200000 | H60: 0 | K60: 0 | L60: =H60+K60 -> 0 | M60: =P60+S60 -> 200000 | N60: =1400000-1400000 -> 0 | O60: =D60-L60-M60-N60 -> 14100000 | P60: =G60-L60 -> 200000 | S60: =SUM(Q60:R60) -> 0 | T60: =P60-M60+S60 -> 0 | U60: =N60-T60 -> 0 | V60: =U60-Z60-W60-Y60 -> 0 | AA60: פיתוח מתחם אולפני הרצליה תב"ע הר' 2180. תכנון. | AB60: 742000
A61: =A60+1 -> 56 | B61: 1937 | C61: תב"ע משולש המנהרה הר' 2350 | D61: =750000+300000 -> 1050000 | E61: 750000 | F61: =D61-E61 -> 300000 | G61: 750000 | H61: 56082 | I61: 244936 | J61: 40357.54 | K61: 285293.54 | L61: =H61+K61 -> 341375.54 | M61: =P61+S61 -> 408624.46 | N61: 300000 | O61: =D61-L61-M61-N61 -> 0 | P61: =G61-L61 -> 408624.46 | S61: =SUM(Q61:R61) -> 0 | T61: =P61-M61+S61 -> 0 | U61: =N61-T61 -> 300000 | V61: =U61-Z61-W61-Y61 -> 300000 | AA61: תוכנית מתארית ומפורטת חלקית לאורך רחוב המנהרה ועד פארק הואדי. התוכנית כוללת מתחם לשימור. יש עתירה לבימ"ש של בעלי קרקע פרטיים. | AB61: 732000
A62: =A61+1 -> 57 | B62: 1943 | C62: מגרש סימולציה לאופניים | D62: 6750000 | E62: 6750000 | F62: =D62-E62 -> 0 | G62: 6750000 | H62: 4531769.9 | I62: 68274.94 | J62: 1900030.9 | K62: 1968305.8 | L62: =H62+K62 -> 6500075.7 | M62: =P62+S62 -> 249924.29 | O62: =D62-L62-M62-N62 -> 0 | P62: =G62-L62 -> 249924.29 | S62: =SUM(Q62:R62) -> 0 | T62: =P62-M62+S62 -> 0 | U62: =N62-T62 -> 0 | V62: =U62-Z62-W62-Y62 -> 0 | AA62: עבודות השלמה סופיות לרבות מתכננים ופיקוח עקב התארכות תקופת הביצוע של הפרויקט. | AB62: 744000
A63: =A62+1 -> 58 | B63: 1950 | C63: תכנון שינוי גבולות העיר | D63: 500000 | E63: 500000 | F63: =D63-E63 -> 0 | G63: 100000 | H63: 0 | K63: 0 | L63: =H63+K63 -> 0 | M63: =P63+S63 -> 100000 | O63: =D63-L63-M63-N63 -> 400000 | P63: =G63-L63 -> 100000 | S63: =SUM(Q63:R63) -> 0 | T63: =P63-M63+S63 -> 0 | U63: =N63-T63 -> 0 | V63: =U63-Z63-W63-Y63 -> 0 | AA63: עלויות לצורך מתן מענה לדיון במשרד הפנים עקב אישורה של תוכנית תמ"ל מס' 1068. | AB63: 732000
A64: =A63+1 -> 59 | B64: 1951 | C64: מתחם דן אכדייה ליווי תכנוני | D64: 300000 | E64: 300000 | F64: =D64-E64 -> 0 | G64: 160000 | H64: 145805 | I64: 12870 | K64: 12870 | L64: =H64+K64 -> 158675 | M64: =P64+S64 -> 1325 | O64: =D64-L64-M64-N64 -> 140000 | P64: =G64-L64 -> 1325 | S64: =SUM(Q64:R64) -> 0 | T64: =P64-M64+S64 -> 0 | U64: =N64-T64 -> 0 | V64: =U64-Z64-W64-Y64 -> 0 | AB64: 732000
A65: =A64+1 -> 60 | B65: 2007 | C65: חניון עצמאות | D65: 1100000 | E65: 1100000 | F65: =D65-E65 -> 0 | G65: 1100000 | H65: 95247.31 | J65: 869179.37 | K65: 869179.37 | L65: =H65+K65 -> 964426.68 | M65: =P65+S65 -> 135573.32 | O65: =D65-L65-M65-N65 -> 0 | P65: =G65-L65 -> 135573.32 | S65: =SUM(Q65:R65) -> 0 | T65: =P65-M65+S65 -> 0 | U65: =N65-T65 -> 0 | V65: =U65-Z65-W65-Y65 -> 0 | AA65: פיתוח חניון זמני במתחם אגד. סיום.חן סופיים. | AB65: 742000
A66: =A65+1 -> 61 | B66: 2009 | C66: סמטת ניסנוב | D66: 9000000 | E66: 9000000 | F66: =D66-E66 -> 0 | G66: =1000000 -> 1000000 | H66: 0 | K66: 0 | L66: =H66+K66 -> 0 | M66: =P66+S66 -> 1000000 | N66: =8000000-3000000-800000 -> 4200000 | O66: =D66-L66-M66-N66 -> 3800000 | P66: =G66-L66 -> 1000000 | S66: =SUM(Q66:R66) -> 0 | T66: =P66-M66+S66 -> 0 | U66: =N66-T66 -> 4200000 | V66: =U66-Z66-W66-Y66 -> 4200000 | AA66: פיתוח סימטה שהפכה לדרך במסגרת תב"ע 2029 בנווה עמל. | AB66: 742000
A67: =A66+1 -> 62 | B67: 2012 | C67: ציר העדפה | D67: 5000000 | E67: 5000000 | F67: =D67-E67 -> 0 | G67: 200000 | H67: 0 | K67: 0 | L67: =H67+K67 -> 0 | M67: =P67+S67-200000 -> 0 | N67: 200000 | O67: =D67-L67-M67-N67 -> 4800000 | P67: =G67-L67 -> 200000 | S67: =SUM(Q67:R67) -> 0 | T67: =P67-M67+S67 -> 200000 | U67: =N67-T67 -> 0 | V67: =U67-Z67-W67-Y67 -> 0 | AA67: עבודות עקב פרויקט " מהיר לעיר" כולל תוספת חיפוי קיר בטון. | AB67: 742000
A68: =A67+1 -> 63 | B68: 2014 | C68: תכנון אסטרטגי ציר מעפילים | D68: 750000 | E68: 750000 | F68: =D68-E68 -> 0 | G68: 100000 | H68: 0 | K68: 0 | L68: =H68+K68 -> 0 | M68: =P68+S68 -> 100000 | N68: =350000-50000-300000 -> 0 | O68: =D68-L68-M68-N68 -> 650000 | P68: =G68-L68 -> 100000 | S68: =SUM(Q68:R68) -> 0 | T68: =P68-M68+S68 -> 0 | U68: =N68-T68 -> 0 | V68: =U68-Z68-W68-Y68 -> 0 | AA68: תכנון ציר המעפילים הכניסה הצפונית לעיר בשיתוף מועצה מקומית כפר שמריהו. | AB68: 732000
A69: =A68+1 -> 64 | B69: 2077 | C69: פיתוח משה דיין | D69: 4000000 | E69: 4000000 | F69: =D69-E69 -> 0 | G69: 0 | H69: 0 | K69: 0 | L69: =H69+K69 -> 0 | M69: =P69+S69 -> 0 | N69: =4000000-4000000 -> 0 | O69: =D69-L69-M69-N69 -> 4000000 | P69: =G69-L69 -> 0 | S69: =SUM(Q69:R69) -> 0 | T69: =P69-M69+S69 -> 0 | U69: =N69-T69 -> 0 | V69: =U69-Z69-W69-Y69 -> 0 | AA69: תכנון וביצוע רחוב משה דיין כולל חיבור לכביש 20, הילס, אופני דן. | AB69: 742000
A70: =A69+1 -> 65 | B70: 2105 | C70: הארכת דרך ירושלים והתחברות אליה | D70: 60000000 | E70: 60000000 | F70: =D70-E70 -> 0 | G70: 0 | H70: 0 | K70: 0 | L70: =H70+K70 -> 0 | M70: =P70+S70 -> 0 | N70: =5000000-1000000-4000000 -> 0 | O70: =D70-L70-M70-N70 -> 60000000 | P70: =G70-L70 -> 0 | S70: =SUM(Q70:R70) -> 0 | T70: =P70-M70+S70 -> 0 | U70: =N70-T70 -> 0 | V70: =U70-Z70-W70-Y70 -> 0 | AA70: הארכת דרך ירושלים מרחוב סוקולוב עד ליפקין שחק כול דרך ושביל אופניים . | AB70: 742000
A71: =A70+1 -> 66 | B71: 2107 | C71: פיתוח וביצוע שידרוג ויזואלי מתחם בני בניימין הנדיב | D71: 340000 | E71: 340000 | F71: =D71-E71 -> 0 | G71: 0 | H71: 0 | K71: 0 | L71: =H71+K71 -> 0 | M71: =P71+S71 -> 0 | N71: 340000 | O71: =D71-L71-M71-N71 -> 0 | P71: =G71-L71 -> 0 | S71: =SUM(Q71:R71) -> 0 | T71: =P71-M71+S71 -> 0 | U71: =N71-T71 -> 340000 | V71: =U71-Z71-W71-Y71 -> 340000 | AA71: הסדרת שבילי גישה רגלית וכניסת כלי רכב לחניות,שביל פינוי אשפה,פיתוח כולל גינון ותאורה.ב-2020 מתוכנן מרכז "מייקרים" בשיתוף אדריכלית השימור. | AB71: 742000
A72: =A71+1 -> 67 | B72: 2112 | C72: סקר חריגות בניה ברחבי העיר | D72: 7650000 | E72: 7650000 | F72: =D72-E72 -> 0 | G72: 0 | H72: 0 | K72: 0 | L72: =H72+K72 -> 0 | M72: =P72+S72 -> 0 | N72: =3160000-1000000 -> 2160000 | O72: =D72-L72-M72-N72 -> 5490000 | P72: =G72-L72 -> 0 | S72: =SUM(Q72:R72) -> 0 | T72: =P72-M72+S72 -> 0 | U72: =N72-T72 -> 2160000 | V72: =U72-Z72-W72-Y72 -> 2160000 | AA72: נדרש ביצוע סקר חריגות בנייה עפ"י תיקון לחוק הרשויות. | AB72: 732000
A73: =A72+1 -> 68 | B73: 2113 | C73: ביצוע הריסות עפ"י צווים | D73: 2550000 | E73: 2550000 | F73: =D73-E73 -> 0 | G73: 0 | H73: 0 | K73: 0 | L73: =H73+K73 -> 0 | M73: =P73+S73 -> 0 | N73: 200000 | O73: =D73-L73-M73-N73 -> 2350000 | P73: =G73-L73 -> 0 | S73: =SUM(Q73:R73) -> 0 | T73: =P73-M73+S73 -> 0 | U73: =N73-T73 -> 200000 | V73: =U73-Z73-W73-Y73 -> 200000 | AA73: בהמשך לסקר חריגות בניה, נדרש לבצע צווים שיפוטיים ולבצע הריסות במקרים בהם לא בוצעו. | AB73: 732000
A74: =A73+1 -> 69 | B74: 2114 | C74: תב"ע תוכנית שיקום המסילה המתפנה הר '2435 | D74: =1450000+350000-350000 -> 1450000 | E74: 1450000 | F74: =D74-E74 -> 0 | G74: =500000+200000 -> 700000 | H74: 0 | K74: 0 | L74: =H74+K74 -> 0 | M74: =P74+S74 -> 700000 | N74: 500000 | O74: =D74-L74-M74-N74 -> 250000 | P74: =G74-L74 -> 700000 | S74: =SUM(Q74:R74) -> 0 | T74: =P74-M74+S74 -> 0 | U74: =N74-T74 -> 500000 | V74: =U74-Z74-W74-Y74 -> 500000 | AA74: הכנת תב"ע בשיתוף מועצת כפר שמריהו לתכנון קישוריות שביל אופניים ופארק בתחום המסילה המתפנה ואפשרות לבחינת חיבור תחבורתי נוסף להרצליה ב'. | AB74: 732000
A75: =A74+1 -> 70 | B75: 2116 | C75: תב"ע מעברת רשף - מערב נוף ים | D75: 1700000 | E75: 1700000 | F75: =D75-E75 -> 0 | G75: 300000 | H75: 0 | K75: 0 | L75: =H75+K75 -> 0 | M75: =P75+S75 -> 300000 | N75: =300000-300000 -> 0 | O75: =D75-L75-M75-N75 -> 1400000 | P75: =G75-L75 -> 300000 | S75: =SUM(Q75:R75) -> 0 | T75: =P75-M75+S75 -> 0 | U75: =N75-T75 -> 0 | V75: =U75-Z75-W75-Y75 -> 0 | AA75: תוכנית לשיקום מעברת רשף והקמת שכונת מגורים חדשה בשילוב שטחי ציבור , שטחים פתוחים ותיירות. | AB75: 732000
A76: =A75+1 -> 71 | B76: 2117 | C76: שינוי תוכנית גליל ים א' ב' | D76: 600000 | E76: 600000 | F76: =D76-E76 -> 0 | G76: 300000 | H76: 0 | K76: 0 | L76: =H76+K76 -> 0 | M76: =P76+S76-300000 -> 0 | N76: =300000+300000 -> 600000 | O76: =D76-L76-M76-N76 -> 0 | P76: =G76-L76 -> 300000 | S76: =SUM(Q76:R76) -> 0 | T76: =P76-M76+S76 -> 300000 | U76: =N76-T76 -> 300000 | V76: =U76-Z76-W76-Y76 -> 300000 | AA76: שינוי לתוכנית הר' 1985 ב' עקב ריבוי יח"ד והצורך לספק שטחים ציבוריים בגינם. | AB76: 732000
A77: =A76+1 -> 72 | B77: 2119 | C77: שביל מתחם העצמאות הרב גורן הבנים | D77: 1400000 | E77: 1400000 | F77: =D77-E77 -> 0 | G77: 0 | H77: 0 | K77: 0 | L77: =H77+K77 -> 0 | M77: =P77+S77 -> 0 | N77: =1400000-300000 -> 1100000 | O77: =D77-L77-M77-N77 -> 300000 | P77: =G77-L77 -> 0 | S77: =SUM(Q77:R77) -> 0 | T77: =P77-M77+S77 -> 0 | U77: =N77-T77 -> 1100000 | V77: =U77-Z77-W77-Y77 -> 1100000 | AA77: עבודות פיתוח מערך שבילים בין הרחובות העצמאות הרב גורן ורחוב הבנים. | AB77: 742000
A78: =A77+1 -> 73 | B78: 2120 | C78: הכנת פרוגרמות עירוניות עפ"י הנדרש | D78: 1000000 | E78: 1000000 | F78: =D78-E78 -> 0 | G78: 0 | H78: 0 | K78: 0 | L78: =H78+K78 -> 0 | M78: =P78+S78 -> 0 | N78: =1000000-1000000 -> 0 | O78: =D78-L78-M78-N78 -> 1000000 | P78: =G78-L78 -> 0 | S78: =SUM(Q78:R78) -> 0 | T78: =P78-M78+S78 -> 0 | U78: =N78-T78 -> 0 | V78: =U78-Z78-W78-Y78 -> 0 | AA78: הכנת פרוגרמות עירוניות : שטחים מבונים,איזור תעשיה, מרחב ציבורי,תוכניות תמ"א 38, סוקולוב. | AB78: 732000
A79: =A78+1 -> 74 | B79: 2121 | C79: צומת הבריגדה היהודית -מנחם בגין- בטיחות | D79: 300000 | E79: 300000 | F79: =D79-E79 -> 0 | G79: 300000 | H79: 0 | J79: 30864.6 | K79: 30864.6 | L79: =H79+K79 -> 30864.6 | M79: =P79+S79 -> 269135.4 | O79: =D79-L79-M79-N79 -> 0 | P79: =G79-L79 -> 269135.4 | S79: =SUM(Q79:R79) -> 0 | T79: =P79-M79+S79 -> 0 | U79: =N79-T79 -> 0 | V79: =U79-Z79-W79-Y79 -> 0 | AA79: תכנון צומת הבריגדה היהודית -מנחם בגין עקב ריבוי תאונות דרכים עפ"י נתוני הרלב"ד. מימון מ. התחבורה. | AB79: 742000
A80: =A79+1 -> 75 | B80: 2123 | C80: צומת השרון בר אילן -בטיחות | D80: 750000 | E80: 750000 | F80: =D80-E80 -> 0 | G80: 0 | H80: 0 | K80: 0 | L80: =H80+K80 -> 0 | M80: =P80+S80-700000 -> 50000 | N80: 700000 | O80: =D80-L80-M80-N80 -> 0 | P80: =G80-L80 -> 0 | Q80: 750000 | S80: =SUM(Q80:R80) -> 750000 | T80: =P80-M80+S80 -> 700000 | U80: =N80-T80 -> 0 | V80: =U80-Z80-W80-Y80 -> 0 | AA80: תכנון צומת השרון בר אילן עקב ריבוי תאונות דרכים עפ"י נתוני הרלב"ד. מימון מ. התחבורה. | AB80: 742000
A81: =A80+1 -> 76 | B81: 2141 | C81: תכנית פיתוח של המרחב הציבורי תל מיכל | D81: 640000 | F81: =D81-E81 -> 640000 | G81: 0 | H81: 0 | K81: =SUM(I81:J81) -> 0 | L81: =H81+K81 -> 0 | M81: =P81+S81 -> 0 | N81: 350000 | O81: =D81-L81-M81-N81 -> 290000 | P81: =G81-L81 -> 0 | S81: =SUM(Q81:R81) -> 0 | T81: =P81-M81+S81 -> 0 | U81: =N81-T81 -> 350000 | V81: =U81-Z81-W81-Y81 -> 350000 | AA81: תוכנית לבחינת הקשר בין השביל הירוק המטרופולוני לאורך רחוב אבא אבן תל מיכל והמרחב הציבורי של המרינה לחיזוק הקישוריות העיר אל המרינה וחוף הים. נדרש בעקבות דיון בוולחו"ף. | AB81: 732000
A82: =A81+1 -> 77 | B82: 2142 | C82: פיתוח רח' הארז והחרוב | D82: 2400000 | F82: =D82-E82 -> 2400000 | G82: 0 | H82: 0 | K82: =SUM(I82:J82) -> 0 | L82: =H82+K82 -> 0 | M82: =P82+S82 -> 0 | N82: 2400000 | O82: =D82-L82-M82-N82 -> 0 | P82: =G82-L82 -> 0 | S82: =SUM(Q82:R82) -> 0 | T82: =P82-M82+S82 -> 0 | U82: =N82-T82 -> 2400000 | V82: =U82-Z82-W82-Y82 -> 2400000 | AA82: פיתוח רחובות הארז והחרוב. תכנון וביצוע. | AB82: 742000
A83: =A82+1 -> 78 | B83: 2143 | C83: סקר תשתיות קיימות | D83: 500000 | F83: =D83-E83 -> 500000 | G83: 0 | H83: 0 | K83: =SUM(I83:J83) -> 0 | L83: =H83+K83 -> 0 | M83: =P83+S83 -> 0 | N83: 500000 | O83: =D83-L83-M83-N83 -> 0 | P83: =G83-L83 -> 0 | S83: =SUM(Q83:R83) -> 0 | T83: =P83-M83+S83 -> 0 | U83: =N83-T83 -> 500000 | V83: =U83-Z83-W83-Y83 -> 500000 | AA83: מיחשוב כלל התשתיות הקיימות במרחב הציבורי. | AB83: 732000
A84: =A83+1 -> 79 | B84: 2144 | C84: תוכנת ניהול ותאום תשתיות | D84: 500000 | F84: =D84-E84 -> 500000 | G84: 0 | H84: 0 | K84: =SUM(I84:J84) -> 0 | L84: =H84+K84 -> 0 | M84: =P84+S84 -> 0 | N84: 500000 | O84: =D84-L84-M84-N84 -> 0 | P84: =G84-L84 -> 0 | S84: =SUM(Q84:R84) -> 0 | T84: =P84-M84+S84 -> 0 | U84: =N84-T84 -> 500000 | V84: =U84-Z84-W84-Y84 -> 500000 | AA84: בניית אתר הנדסי לתשתיות וסנכרון בין עבודות התשתית השונות ברחבי העיר. | AB84: 732000
A85: =A84+1 -> 80 | B85: 2145 | C85: ציר ירושלים יבנה/הנגב | D85: 2050000 | F85: =D85-E85 -> 2050000 | G85: 0 | H85: 0 | K85: =SUM(I85:J85) -> 0 | L85: =H85+K85 -> 0 | M85: =P85+S85 -> 0 | N85: =900000-400000 -> 500000 | O85: =D85-L85-M85-N85 -> 1550000 | P85: =G85-L85 -> 0 | S85: =SUM(Q85:R85) -> 0 | T85: =P85-M85+S85 -> 0 | U85: =N85-T85 -> 500000 | V85: =U85-Z85-W85-Y85 -> 500000 | AA85: תכנון ציר הרחובות ירושלים יבנה/הנגב המסתמן להיות אחד מעורקי התחבורה הראשיים בעיר. | AB85: 742000
A86: =A85+1 -> 81 | B86: 2146 | C86: תוכנית שבילי אופניים בשצ"פים עירוניים | D86: 220000 | F86: =D86-E86 -> 220000 | G86: 0 | H86: 0 | K86: =SUM(I86:J86) -> 0 | L86: =H86+K86 -> 0 | M86: =P86+S86 -> 0 | N86: 130000 | O86: =D86-L86-M86-N86 -> 90000 | P86: =G86-L86 -> 0 | S86: =SUM(Q86:R86) -> 0 | T86: =P86-M86+S86 -> 0 | U86: =N86-T86 -> 130000 | V86: =U86-Z86-W86-Y86 -> 130000 | AA86: הכנת תוכנית לניצול יעיל לשצ"פים ברחבי העיר לשימושי שבילי אופניים והתקנת מצללות. | AB86: 732000
A87: =A86 -> 81 | C87: סה"כ מינהל הנדסה | D87: =SUM(D6:D86) -> 622652129 | E87: =SUM(E6:E86) -> 607401879 | F87: =SUM(F6:F86) -> 15250250 | G87: =SUM(G6:G86) -> 282994229 | H87: =SUM(H6:H86) -> 2.3183221e+08 | I87: =SUM(I6:I86) -> 10898105 | J87: =SUM(J6:J86) -> 11954790 | K87: =SUM(K6:K86) -> 22852896 | ... Z87: =SUM(Z6:Z86) -> 1254444
L88: =K87+H87 -> 2.546851e+08 | M88: =P88+S87-T87 -> 26266451 | P88: =G87-L88 -> 28309128 | U88: =N87-T87 -> 32558338

Sheet תקציב הנדסה 2020 טיוטה תאור
A2: מינהל הנדסה
A4: מס' סידורי | B4: מס' תב"ר | C4: שם תב"ר | D4: אומדן כולל לפרויקט | E4: אומדן מאושר במועצה | F4: תוספת לאומדן לאישור המועצה | G4: תקציב מאושר | H4: ביצוע בפועל | I4: שריון מערך חוזים | J4: שריון מערך רכש | K4: סה"כ שריון התחייבויות | L4: סה"כ ביצוע | M4: יתרה לביצוע צפוי עד 31.12.2019 | N4: אומדן לביצוע שנת 2020 | O4: אומדן לביצוע שנת 2021 ואילך | P4: יתרת תקציב | Q4: תקציב נוסף נדרש במסגרת תוכנית עבודה 2019 | R4: תקציב נוסף נדרש מעבר לתוכנית עבודה 2019 | S4: סה"כ תקציב נוסף נדרש 2019 | T4: יתרת תקציב פנויה 31.12.2019 | U4: תקציב נדרש 2020 | V4: קרן עבודות פיתוח | W4: קרן עודפי תקציב רגיל | X4: קרן רכוש | Y4: קרן ייעודית | Z4: אחרים | AA4: תאור הפרויקט | AB4: פרק תב"ר
A6: =A5+1 -> 1 | B6: ='תקציב הנדסה 2020 '!B6 -> 179 | C6: ='תקציב הנדסה 2020 '!C6 -> יעודי קרקע -מפת בסיס | D6: ='תקציב הנדסה 2020 '!D6 -> 3170250 | E6: ='תקציב הנדסה 2020 '!E6 -> 3000000 | F6: ='תקציב הנדסה 2020 '!F6 -> 170250 | G6: ='תקציב הנדסה 2020 '!G6 -> 2970250 | H6: ='תקציב הנדסה 2020 '!H6 -> 2858878.7 | I6: ='תקציב הנדסה 2020 '!I6 -> 0 | ... AB6: ='תקציב הנדסה 2020 '!AB6 -> 732000
A7: =A6+1 -> 2 | B7: ='תקציב הנדסה 2020 '!B7 -> 304 | C7: ='תקציב הנדסה 2020 '!C7 -> פיתוח פארק הבאסה | D7: ='תקציב הנדסה 2020 '!D7 -> 54930000 | E7: ='תקציב הנדסה 2020 '!E7 -> 54930000 | F7: ='תקציב הנדסה 2020 '!F7 -> 0 | G7: ='תקציב הנדסה 2020 '!G7 -> 54930000 | H7: ='תקציב הנדסה 2020 '!H7 -> 54780523 | I7: ='תקציב הנדסה 2020 '!I7 -> 149074.13 | ... AB7: ='תקציב הנדסה 2020 '!AB7 -> 746000
A8: =A7+1 -> 3 | B8: ='תקציב הנדסה 2020 '!B8 -> 507 | C8: ='תקציב הנדסה 2020 '!C8 -> החלפת מדרכות | D8: ='תקציב הנדסה 2020 '!D8 -> 2310000 | E8: ='תקציב הנדסה 2020 '!E8 -> 2310000 | F8: ='תקציב הנדסה 2020 '!F8 -> 0 | G8: ='תקציב הנדסה 2020 '!G8 -> 1765000 | H8: ='תקציב הנדסה 2020 '!H8 -> 1653104.2 | I8: ='תקציב הנדסה 2020 '!I8 -> 0 | ... AB8: ='תקציב הנדסה 2020 '!AB8 -> 742000
A9: =A8+1 -> 4 | B9: ='תקציב הנדסה 2020 '!B9 -> 546 | C9: ='תקציב הנדסה 2020 '!C9 -> מתחם הגאון מוילנא חתם סופר | D9: ='תקציב הנדסה 2020 '!D9 -> 2920000 | E9: ='תקציב הנדסה 2020 '!E9 -> 2920000 | F9: ='תקציב הנדסה 2020 '!F9 -> 0 | G9: ='תקציב הנדסה 2020 '!G9 -> 2920000 | H9: ='תקציב הנדסה 2020 '!H9 -> 2895703.4 | I9: ='תקציב הנדסה 2020 '!I9 -> 0 | ... AB9: ='תקציב הנדסה 2020 '!AB9 -> 742000
A10: =A9+1 -> 5 | B10: ='תקציב הנדסה 2020 '!B10 -> 592 | C10: ='תקציב הנדסה 2020 '!C10 -> מתחם הבריגדה מתחם הר' 1960 | D10: ='תקציב הנדסה 2020 '!D10 -> 54893000 | E10: ='תקציב הנדסה 2020 '!E10 -> 54893000 | F10: ='תקציב הנדסה 2020 '!F10 -> 0 | G10: ='תקציב הנדסה 2020 '!G10 -> 20720000 | H10: ='תקציב הנדסה 2020 '!H10 -> 17898437 | I10: ='תקציב הנדסה 2020 '!I10 -> 149113.19 | ... AB10: ='תקציב הנדסה 2020 '!AB10 -> 742000
A11: =A10+1 -> 6 | B11: ='תקציב הנדסה 2020 '!B11 -> 608 | C11: ='תקציב הנדסה 2020 '!C11 -> עבודות ניקוז בעיר | D11: ='תקציב הנדסה 2020 '!D11 -> 8300000 | E11: ='תקציב הנדסה 2020 '!E11 -> 8300000 | F11: ='תקציב הנדסה 2020 '!F11 -> 0 | G11: ='תקציב הנדסה 2020 '!G11 -> 6200000 | H11: ='תקציב הנדסה 2020 '!H11 -> 5233021.7 | I11: ='תקציב הנדסה 2020 '!I11 -> 0 | ... AB11: ='תקציב הנדסה 2020 '!AB11 -> 745000
A12: =A11+1 -> 7 | B12: ='תקציב הנדסה 2020 '!B12 -> 626 | C12: ='תקציב הנדסה 2020 '!C12 -> תכנון וביצוע תוכנית אב לשבילי אופניים | D12: ='תקציב הנדסה 2020 '!D12 -> 25195000 | E12: ='תקציב הנדסה 2020 '!E12 -> 20025000 | F12: ='תקציב הנדסה 2020 '!F12 -> 5170000 | G12: ='תקציב הנדסה 2020 '!G12 -> 14775000 | H12: ='תקציב הנדסה 2020 '!H12 -> 13572560 | I12: ='תקציב הנדסה 2020 '!I12 -> 277593.86 | ... AB12: ='תקציב הנדסה 2020 '!AB12 -> 732000
A13: =A12+1 -> 8 | B13: ='תקציב הנדסה 2020 '!B13 -> 638 | C13: ='תקציב הנדסה 2020 '!C13 -> פיתוח מתחם רזיאל מע' תב"ע 1706 | D13: ='תקציב הנדסה 2020 '!D13 -> 7000000 | E13: ='תקציב הנדסה 2020 '!E13 -> 7000000 | F13: ='תקציב הנדסה 2020 '!F13 -> 0 | G13: ='תקציב הנדסה 2020 '!G13 -> 4600000 | H13: ='תקציב הנדסה 2020 '!H13 -> 3454839 | I13: ='תקציב הנדסה 2020 '!I13 -> 0 | ... AB13: ='תקציב הנדסה 2020 '!AB13 -> 742000
A14: =A13+1 -> 9 | B14: ='תקציב הנדסה 2020 '!B14 -> 1018 | C14: ='תקציב הנדסה 2020 '!C14 -> מחלף הרב מכר | D14: ='תקציב הנדסה 2020 '!D14 -> 31900000 | E14: ='תקציב הנדסה 2020 '!E14 -> 31900000 | F14: ='תקציב הנדסה 2020 '!F14 -> 0 | G14: ='תקציב הנדסה 2020 '!G14 -> 5100000 | H14: ='תקציב הנדסה 2020 '!H14 -> 3059670.8 | I14: ='תקציב הנדסה 2020 '!I14 -> 84192.99 | ... AB14: ='תקציב הנדסה 2020 '!AB14 -> 742000
A15: =A14+1 -> 10 | B15: ='תקציב הנדסה 2020 '!B15 -> 1100 | C15: ='תקציב הנדסה 2020 '!C15 -> תכנון מתחם הר' 2200 | D15: ='תקציב הנדסה 2020 '!D15 -> 7000000 | E15: ='תקציב הנדסה 2020 '!E15 -> 7000000 | F15: ='תקציב הנדסה 2020 '!F15 -> 0 | G15: ='תקציב הנדסה 2020 '!G15 -> 5900000 | H15: ='תקציב הנדסה 2020 '!H15 -> 3232572.1 | I15: ='תקציב הנדסה 2020 '!I15 -> 1951485.8 | ... AB15: ='תקציב הנדסה 2020 '!AB15 -> 732000
A16: =A15+1 -> 11 | B16: ='תקציב הנדסה 2020 '!B16 -> 1129 | C16: ='תקציב הנדסה 2020 '!C16 -> עבודות פיתוח ותשתיות קטנות | D16: ='תקציב הנדסה 2020 '!D16 -> 7000000 | E16: ='תקציב הנדסה 2020 '!E16 -> 7000000 | F16: ='תקציב הנדסה 2020 '!F16 -> 0 | G16: ='תקציב הנדסה 2020 '!G16 -> 5991771 | H16: ='תקציב הנדסה 2020 '!H16 -> 5064670.5 | I16: ='תקציב הנדסה 2020 '!I16 -> 0 | ... AB16: ='תקציב הנדסה 2020 '!AB16 -> 742000
A17: =A16+1 -> 12 | B17: ='תקציב הנדסה 2020 '!B17 -> 1220 | C17: ='תקציב הנדסה 2020 '!C17 -> תכנונים כלליים | D17: ='תקציב הנדסה 2020 '!D17 -> 7000000 | E17: ='תקציב הנדסה 2020 '!E17 -> 7000000 | F17: ='תקציב הנדסה 2020 '!F17 -> 0 | G17: ='תקציב הנדסה 2020 '!G17 -> 5600000 | H17: ='תקציב הנדסה 2020 '!H17 -> 4582039.1 | I17: ='תקציב הנדסה 2020 '!I17 -> 104327.73 | ... AB17: ='תקציב הנדסה 2020 '!AB17 -> 732000
... A86: =A85+1 -> 81 | B86: ='תקציב הנדסה 2020 '!B86 -> 2146 | C86: ='תקציב הנדסה 2020 '!C86 -> תוכנית שבילי אופניים בשצ"פים עירוניים | D86: ='תקציב הנדסה 2020 '!D86 -> 220000 | E86: ='תקציב הנדסה 2020 '!E86 -> 0 | F86: ='תקציב הנדסה 2020 '!F86 -> 220000 | G86: ='תקציב הנדסה 2020 '!G86 -> 0 | H86: ='תקציב הנדסה 2020 '!H86 -> 0 | I86: ='תקציב הנדסה 2020 '!I86 -> 0 | ... AB86: ='תקציב הנדסה 2020 '!AB86 -> 732000
A87: =A86 -> 81 | C87: סה"כ מינהל הנדסה | D87: =SUM(D6:D86) -> 622652129 | E87: =SUM(E6:E86) -> 607401879 | F87: =SUM(F6:F86) -> 15250250 | G87: =SUM(G6:G86) -> 282994229 | H87: =SUM(H6:H86) -> 2.3183221e+08 | I87: =SUM(I6:I86) -> 10898105 | J87: =SUM(J6:J86) -> 11954790 | K87: =SUM(K6:K86) -> 22852896 | ... Z87: =SUM(Z6:Z86) -> 1254444
L88: =K87+H87 -> 2.546851e+08 | M88: =P88+S87-T87 -> 26266451 | P88: =G87-L88 -> 28309128 | U88: =N87-T87 -> 32558338

Sheet הנדסה 2020 פרקים
A2: מינהל הנדסה
A4: מס' סידורי | B4: מס' תב"ר | C4: שם תב"ר | D4: אומדן כולל לפרויקט | E4: אומדן מאושר במועצה | F4: תוספת לאומדן לאישור המועצה | G4: תקציב מאושר | H4: ביצוע בפועל | I4: שריון מערך חוזים | J4: שריון מערך רכש | K4: סה"כ שריון התחייבויות | L4: סה"כ ביצוע | M4: יתרה לביצוע צפוי עד 31.12.2019 | N4: אומדן לביצוע שנת 2020 | O4: אומדן לביצוע שנת 2021 ואילך | P4: יתרת תקציב | Q4: תקציב נוסף נדרש במסגרת תוכנית עבודה 2019 | R4: תקציב נוסף נדרש מעבר לתוכנית עבודה 2019 | S4: סה"כ תקציב נוסף נדרש 2019 | T4: יתרת תקציב פנויה 31.12.2019 | U4: תקציב נדרש 2020 | V4: קרן עבודות פיתוח | W4: קרן עודפי תקציב רגיל | X4: קרן רכוש | Y4: קרן ייעודית | Z4: אחרים | AA4: תאור הפרויקט | AB4: פרק תב"ר
A6: =A5+1 -> 1 | B6: ='תקציב הנדסה 2020 '!B6 -> 179 | C6: ='תקציב הנדסה 2020 '!C6 -> יעודי קרקע -מפת בסיס | D6: ='תקציב הנדסה 2020 '!D6 -> 3170250 | E6: ='תקציב הנדסה 2020 '!E6 -> 3000000 | F6: ='תקציב הנדסה 2020 '!F6 -> 170250 | G6: ='תקציב הנדסה 2020 '!G6 -> 2970250 | H6: ='תקציב הנדסה 2020 '!H6 -> 2858878.7 | I6: ='תקציב הנדסה 2020 '!I6 -> 0 | ... AB6: ='תקציב הנדסה 2020 '!AB6 -> 732000
A7: =A6+1 -> 2 | B7: ='תקציב הנדסה 2020 '!B12 -> 626 | C7: ='תקציב הנדסה 2020 '!C12 -> תכנון וביצוע תוכנית אב לשבילי אופניים | D7: ='תקציב הנדסה 2020 '!D12 -> 25195000 | E7: ='תקציב הנדסה 2020 '!E12 -> 20025000 | F7: ='תקציב הנדסה 2020 '!F12 -> 5170000 | G7: ='תקציב הנדסה 2020 '!G12 -> 14775000 | H7: ='תקציב הנדסה 2020 '!H12 -> 13572560 | I7: ='תקציב הנדסה 2020 '!I12 -> 277593.86 | ... AB7: ='תקציב הנדסה 2020 '!AB12 -> 732000
A8: =A7+1 -> 3 | B8: ='תקציב הנדסה 2020 '!B15 -> 1100 | C8: ='תקציב הנדסה 2020 '!C15 -> תכנון מתחם הר' 2200 | D8: ='תקציב הנדסה 2020 '!D15 -> 7000000 | E8: ='תקציב הנדסה 2020 '!E15 -> 7000000 | F8: ='תקציב הנדסה 2020 '!F15 -> 0 | G8: ='תקציב הנדסה 2020 '!G15 -> 5900000 | H8: ='תקציב הנדסה 2020 '!H15 -> 3232572.1 | I8: ='תקציב הנדסה 2020 '!I15 -> 1951485.8 | ... AB8: ='תקציב הנדסה 2020 '!AB15 -> 732000
A9: =A8+1 -> 4 | B9: ='תקציב הנדסה 2020 '!B17 -> 1220 | C9: ='תקציב הנדסה 2020 '!C17 -> תכנונים כלליים | D9: ='תקציב הנדסה 2020 '!D17 -> 7000000 | E9: ='תקציב הנדסה 2020 '!E17 -> 7000000 | F9: ='תקציב הנדסה 2020 '!F17 -> 0 | G9: ='תקציב הנדסה 2020 '!G17 -> 5600000 | H9: ='תקציב הנדסה 2020 '!H17 -> 4582039.1 | I9: ='תקציב הנדסה 2020 '!I17 -> 104327.73 | ... AB9: ='תקציב הנדסה 2020 '!AB17 -> 732000
A10: =A9+1 -> 5 | B10: ='תקציב הנדסה 2020 '!B22 -> 1406 | C10: ='תקציב הנדסה 2020 '!C22 -> שימור אתרים | D10: ='תקציב הנדסה 2020 '!D22 -> 1400000 | E10: ='תקציב הנדסה 2020 '!E22 -> 1300000 | F10: ='תקציב הנדסה 2020 '!F22 -> 100000 | G10: ='תקציב הנדסה 2020 '!G22 -> 1300000 | H10: ='תקציב הנדסה 2020 '!H22 -> 833530.52 | I10: ='תקציב הנדסה 2020 '!I22 -> 33785.1 | ... AB10: ='תקציב הנדסה 2020 '!AB22 -> 732000
A11: =A10+1 -> 6 | B11: ='תקציב הנדסה 2020 '!B23 -> 1407 | C11: ='תקציב הנדסה 2020 '!C23 -> תב"עות קטנות | D11: ='תקציב הנדסה 2020 '!D23 -> 4895000 | E11: ='תקציב הנדסה 2020 '!E23 -> 4895000 | F11: ='תקציב הנדסה 2020 '!F23 -> 0 | G11: ='תקציב הנדסה 2020 '!G23 -> 3795000 | H11: ='תקציב הנדסה 2020 '!H23 -> 2554334.2 | I11: ='תקציב הנדסה 2020 '!I23 -> 107604.98 | ... AB11: ='תקציב הנדסה 2020 '!AB23 -> 732000
A12: =A11+1 -> 7 | B12: ='תקציב הנדסה 2020 '!B24 -> 1409 | C12: ='תקציב הנדסה 2020 '!C24 -> תוכנית המתאר הכוללנית | D12: ='תקציב הנדסה 2020 '!D24 -> 7680000 | E12: ='תקציב הנדסה 2020 '!E24 -> 7680000 | F12: ='תקציב הנדסה 2020 '!F24 -> 0 | G12: ='תקציב הנדסה 2020 '!G24 -> 7680000 | H12: ='תקציב הנדסה 2020 '!H24 -> 3947924.4 | I12: ='תקציב הנדסה 2020 '!I24 -> 2279160 | ... AB12: ='תקציב הנדסה 2020 '!AB24 -> 732000
A13: =A12+1 -> 8 | B13: ='תקציב הנדסה 2020 '!B26 -> 1466 | C13: ='תקציב הנדסה 2020 '!C26 -> תמ"א 38 | D13: ='תקציב הנדסה 2020 '!D26 -> 2200000 | E13: ='תקציב הנדסה 2020 '!E26 -> 2200000 | F13: ='תקציב הנדסה 2020 '!F26 -> 0 | G13: ='תקציב הנדסה 2020 '!G26 -> 1500000 | H13: ='תקציב הנדסה 2020 '!H26 -> 1218739.9 | I13: ='תקציב הנדסה 2020 '!I26 -> 0 | ... AB13: ='תקציב הנדסה 2020 '!AB26 -> 732000
A14: =A13+1 -> 9 | B14: ='תקציב הנדסה 2020 '!B28 -> 1527 | C14: ='תקציב הנדסה 2020 '!C28 -> התחדשות עירונית יד התשעה | D14: ='תקציב הנדסה 2020 '!D28 -> 3000000 | E14: ='תקציב הנדסה 2020 '!E28 -> 3000000 | F14: ='תקציב הנדסה 2020 '!F28 -> 0 | G14: ='תקציב הנדסה 2020 '!G28 -> 850000 | H14: ='תקציב הנדסה 2020 '!H28 -> 821144.02 | I14: ='תקציב הנדסה 2020 '!I28 -> 0 | ... AB14: ='תקציב הנדסה 2020 '!AB28 -> 732000
A15: =A14+1 -> 10 | B15: ='תקציב הנדסה 2020 '!B30 -> 1551 | C15: ='תקציב הנדסה 2020 '!C30 -> צפון הרצליה הר' 2035 | D15: ='תקציב הנדסה 2020 '!D30 -> 525240 | E15: ='תקציב הנדסה 2020 '!E30 -> 525240 | F15: ='תקציב הנדסה 2020 '!F30 -> 0 | G15: ='תקציב הנדסה 2020 '!G30 -> 375240 | H15: ='תקציב הנדסה 2020 '!H30 -> 204671 | I15: ='תקציב הנדסה 2020 '!I30 -> 0 | ... AB15: ='תקציב הנדסה 2020 '!AB30 -> 732000
A16: =A15+1 -> 11 | B16: ='תקציב הנדסה 2020 '!B32 -> 1576 | C16: ='תקציב הנדסה 2020 '!C32 -> הוצאות אכיפה-דירות נופש במרינה | D16: ='תקציב הנדסה 2020 '!D32 -> 1000000 | E16: ='תקציב הנדסה 2020 '!E32 -> 1000000 | F16: ='תקציב הנדסה 2020 '!F32 -> 0 | G16: ='תקציב הנדסה 2020 '!G32 -> 420000 | H16: ='תקציב הנדסה 2020 '!H32 -> 363674.17 | I16: ='תקציב הנדסה 2020 '!I32 -> 35099 | ... AB16: ='תקציב הנדסה 2020 '!AB32 -> 732000
A17: =A16+1 -> 12 | B17: ='תקציב הנדסה 2020 '!B36 -> 1619 | C17: ='תקציב הנדסה 2020 '!C36 -> הסדרת שצ"פ למגורים הר' 2257 | D17: ='תקציב הנדסה 2020 '!D36 -> 250000 | E17: ='תקציב הנדסה 2020 '!E36 -> 250000 | F17: ='תקציב הנדסה 2020 '!F36 -> 0 | G17: ='תקציב הנדסה 2020 '!G36 -> 200000 | H17: ='תקציב הנדסה 2020 '!H36 -> 90207 | I17: ='תקציב הנדסה 2020 '!I36 -> 0 | ... AB17: ='תקציב הנדסה 2020 '!AB36 -> 732000
A18: =A17+1 -> 13 | B18: ='תקציב הנדסה 2020 '!B37 -> 1620 | C18: ='תקציב הנדסה 2020 '!C37 -> תכנון חיבוריות בין מזרח למערב | D18: ='תקציב הנדסה 2020 '!D37 -> 1000000 | E18: ='תקציב הנדסה 2020 '!E37 -> 1000000 | F18: ='תקציב הנדסה 2020 '!F37 -> 0 | G18: ='תקציב הנדסה 2020 '!G37 -> 300000 | H18: ='תקציב הנדסה 2020 '!H37 -> 0 | I18: ='תקציב הנדסה 2020 '!I37 -> 0 | ... AB18: ='תקציב הנדסה 2020 '!AB37 -> 732000
A19: =A18+1 -> 14 | B19: ='תקציב הנדסה 2020 '!B38 -> 1660 | C19: ='תקציב הנדסה 2020 '!C38 -> תכנון פרויקטים פינוי בינוי | D19: ='תקציב הנדסה 2020 '!D38 -> 2000000 | E19: ='תקציב הנדסה 2020 '!E38 -> 2000000 | F19: ='תקציב הנדסה 2020 '!F38 -> 0 | G19: ='תקציב הנדסה 2020 '!G38 -> 600000 | H19: ='תקציב הנדסה 2020 '!H38 -> 120082.5 | I19: ='תקציב הנדסה 2020 '!I38 -> 0 | ... AB19: ='תקציב הנדסה 2020 '!AB38 -> 732000
A20: =A19+1 -> 15 | B20: ='תקציב הנדסה 2020 '!B40 -> 1674 | C20: ='תקציב הנדסה 2020 '!C40 -> התחדשות עירונית | D20: ='תקציב הנדסה 2020 '!D40 -> 1800000 | E20: ='תקציב הנדסה 2020 '!E40 -> 2300000 | F20: ='תקציב הנדסה 2020 '!F40 -> -500000 | G20: ='תקציב הנדסה 2020 '!G40 -> 2300000 | H20: ='תקציב הנדסה 2020 '!H40 -> 1414819.7 | I20: ='תקציב הנדסה 2020 '!I40 -> 300189.64 | ... AB20: ='תקציב הנדסה 2020 '!AB40 -> 732000
A21: =A20+1 -> 16 | B21: ='תקציב הנדסה 2020 '!B41 -> 1692 | C21: ='תקציב הנדסה 2020 '!C41 -> פינוי בינוי מעונות שרה | D21: ='תקציב הנדסה 2020 '!D41 -> 2450000 | E21: ='תקציב הנדסה 2020 '!E41 -> 2450000 | F21: ='תקציב הנדסה 2020 '!F41 -> 0 | G21: ='תקציב הנדסה 2020 '!G41 -> 1439186 | H21: ='תקציב הנדסה 2020 '!H41 -> 578670.81 | I21: ='תקציב הנדסה 2020 '!I41 -> 128716.16 | ... AB21: ='תקציב הנדסה 2020 '!AB41 -> 732000
A22: =A21+1 -> 17 | B22: ='תקציב הנדסה 2020 '!B42 -> 1693 | C22: ='תקציב הנדסה 2020 '!C42 -> פינוי בינוי צומת כדורי | D22: ='תקציב הנדסה 2020 '!D42 -> 4500000 | E22: ='תקציב הנדסה 2020 '!E42 -> 4500000 | F22: ='תקציב הנדסה 2020 '!F42 -> 0 | G22: ='תקציב הנדסה 2020 '!G42 -> 2235481 | H22: ='תקציב הנדסה 2020 '!H42 -> 312538.53 | I22: ='תקציב הנדסה 2020 '!I42 -> 48062.98 | ... AB22: ='תקציב הנדסה 2020 '!AB42 -> 732000
A23: =A22+1 -> 18 | B23: ='תקציב הנדסה 2020 '!B43 -> 1701 | C23: ='תקציב הנדסה 2020 '!C43 -> תב"ע הר' 2394 (לשעבר הר 2159 ) | D23: ='תקציב הנדסה 2020 '!D43 -> 1250000 | E23: ='תקציב הנדסה 2020 '!E43 -> 1250000 | F23: ='תקציב הנדסה 2020 '!F43 -> 0 | G23: ='תקציב הנדסה 2020 '!G43 -> 850000 | H23: ='תקציב הנדסה 2020 '!H43 -> 137148 | I23: ='תקציב הנדסה 2020 '!I43 -> 75117.32 | ... AB23: ='תקציב הנדסה 2020 '!AB43 -> 732000
A24: =A23+1 -> 19 | B24: ='תקציב הנדסה 2020 '!B47 -> 1748 | C24: ='תקציב הנדסה 2020 '!C47 -> תכנון בנייה ציבורית | D24: ='תקציב הנדסה 2020 '!D47 -> 120000 | E24: ='תקציב הנדסה 2020 '!E47 -> 120000 | F24: ='תקציב הנדסה 2020 '!F47 -> 0 | G24: ='תקציב הנדסה 2020 '!G47 -> 120000 | H24: ='תקציב הנדסה 2020 '!H47 -> 89830.86 | I24: ='תקציב הנדסה 2020 '!I47 -> 29280.55 | ... AB24: ='תקציב הנדסה 2020 '!AB47 -> 732000
A25: =A24+1 -> 20 | B25: ='תקציב הנדסה 2020 '!B48 -> 1755 | C25: ='תקציב הנדסה 2020 '!C48 -> תב"ע חניון שטח מרינה לי 2073 | D25: ='תקציב הנדסה 2020 '!D48 -> 200000 | E25: ='תקציב הנדסה 2020 '!E48 -> 200000 | F25: ='תקציב הנדסה 2020 '!F48 -> 0 | G25: ='תקציב הנדסה 2020 '!G48 -> 100000 | H25: ='תקציב הנדסה 2020 '!H48 -> 69371.84 | I25: ='תקציב הנדסה 2020 '!I48 -> 0 | ... AB25: ='תקציב הנדסה 2020 '!AB48 -> 732000
A26: =A25+1 -> 21 | B26: ='תקציב הנדסה 2020 '!B49 -> 1756 | C26: ='תקציב הנדסה 2020 '!C49 -> מסמכי מדיניות ותוכניות אסטרטגיות להתחדשות עירונית בשכונות (*) עדכון שם | D26: ='תקציב הנדסה 2020 '!D49 -> 1400000 | E26: ='תקציב הנדסה 2020 '!E49 -> 800000 | F26: ='תקציב הנדסה 2020 '!F49 -> 600000 | G26: ='תקציב הנדסה 2020 '!G49 -> 400000 | H26: ='תקציב הנדסה 2020 '!H49 -> 239672 | I26: ='תקציב הנדסה 2020 '!I49 -> 0 | ... AB26: ='תקציב הנדסה 2020 '!AB49 -> 732000
A27: =A26+1 -> 22 | B27: ='תקציב הנדסה 2020 '!B50 -> 1757 | C27: ='תקציב הנדסה 2020 '!C50 -> תב"ע לדיור בר השגה ברב קוק | D27: ='תקציב הנדסה 2020 '!D50 -> 300000 | E27: ='תקציב הנדסה 2020 '!E50 -> 300000 | F27: ='תקציב הנדסה 2020 '!F50 -> 0 | G27: ='תקציב הנדסה 2020 '!G50 -> 110000 | H27: ='תקציב הנדסה 2020 '!H50 -> 10908.07 | I27: ='תקציב הנדסה 2020 '!I50 -> 908.93 | ... AB27: ='תקציב הנדסה 2020 '!AB50 -> 732000
A28: =A27+1 -> 23 | B28: ='תקציב הנדסה 2020 '!B51 -> 1758 | C28: ='תקציב הנדסה 2020 '!C51 -> תב"ע לדיור בר השגה בשמשון הגיבור | D28: ='תקציב הנדסה 2020 '!D51 -> 300000 | E28: ='תקציב הנדסה 2020 '!E51 -> 300000 | F28: ='תקציב הנדסה 2020 '!F51 -> 0 | G28: ='תקציב הנדסה 2020 '!G51 -> 16000 | H28: ='תקציב הנדסה 2020 '!H51 -> 10908.07 | I28: ='תקציב הנדסה 2020 '!I51 -> 4828.43 | ... AB28: ='תקציב הנדסה 2020 '!AB51 -> 732000
A29: =A28+1 -> 24 | B29: ='תקציב הנדסה 2020 '!B52 -> 1759 | C29: ='תקציב הנדסה 2020 '!C52 -> תוכנית אסטרטגית להתייעלות עירונית במרכז העיר ובשכונות | D29: ='תקציב הנדסה 2020 '!D52 -> 940000 | E29: ='תקציב הנדסה 2020 '!E52 -> 940000 | F29: ='תקציב הנדסה 2020 '!F52 -> 0 | G29: ='תקציב הנדסה 2020 '!G52 -> 940000 | H29: ='תקציב הנדסה 2020 '!H52 -> 478660 | I29: ='תקציב הנדסה 2020 '!I52 -> 600 | ... AB29: ='תקציב הנדסה 2020 '!AB52 -> 732000
A30: =A29+1 -> 25 | B30: ='תקציב הנדסה 2020 '!B53 -> 1760 | C30: ='תקציב הנדסה 2020 '!C53 -> תוכנית אסטרטגית באזהת"ש | D30: ='תקציב הנדסה 2020 '!D53 -> 900000 | E30: ='תקציב הנדסה 2020 '!E53 -> 900000 | F30: ='תקציב הנדסה 2020 '!F53 -> 0 | G30: ='תקציב הנדסה 2020 '!G53 -> 300000 | H30: ='תקציב הנדסה 2020 '!H53 -> 38898 | I30: ='תקציב הנדסה 2020 '!I53 -> 0 | ... AB30: ='תקציב הנדסה 2020 '!AB53 -> 732000
A31: =A30+1 -> 26 | B31: ='תקציב הנדסה 2020 '!B54 -> 1799 | C31: ='תקציב הנדסה 2020 '!C54 -> תב"ע קרית השחקים | D31: ='תקציב הנדסה 2020 '!D54 -> 1000000 | E31: ='תקציב הנדסה 2020 '!E54 -> 1000000 | F31: ='תקציב הנדסה 2020 '!F54 -> 0 | G31: ='תקציב הנדסה 2020 '!G54 -> 350000 | H31: ='תקציב הנדסה 2020 '!H54 -> 28515 | I31: ='תקציב הנדסה 2020 '!I54 -> 0 | ... AB31: ='תקציב הנדסה 2020 '!AB54 -> 732000
A32: =A31+1 -> 27 | B32: ='תקציב הנדסה 2020 '!B56 -> 1811 | C32: ='תקציב הנדסה 2020 '!C56 -> תכנון דיור בן ציון מיכאלי | D32: ='תקציב הנדסה 2020 '!D56 -> 250000 | E32: ='תקציב הנדסה 2020 '!E56 -> 250000 | F32: ='תקציב הנדסה 2020 '!F56 -> 0 | G32: ='תקציב הנדסה 2020 '!G56 -> 250000 | H32: ='תקציב הנדסה 2020 '!H56 -> 0 | I32: ='תקציב הנדסה 2020 '!I56 -> 0 | ... AB32: ='תקציב הנדסה 2020 '!AB56 -> 732000
A33: =A32+1 -> 28 | B33: ='תקציב הנדסה 2020 '!B58 -> 1843 | C33: ='תקציב הנדסה 2020 '!C58 -> פינוי בינוי מול התחנה | D33: ='תקציב הנדסה 2020 '!D58 -> 380000 | E33: ='תקציב הנדסה 2020 '!E58 -> 380000 | F33: ='תקציב הנדסה 2020 '!F58 -> 0 | G33: ='תקציב הנדסה 2020 '!G58 -> 70000 | H33: ='תקציב הנדסה 2020 '!H58 -> 0 | I33: ='תקציב הנדסה 2020 '!I58 -> 1.17 | ... AB33: ='תקציב הנדסה 2020 '!AB58 -> 732000
A34: =A33+1 -> 29 | B34: ='תקציב הנדסה 2020 '!B59 -> 1844 | C34: ='תקציב הנדסה 2020 '!C59 -> פינוי בינוי סוקולוב רח' ירושלים | D34: ='תקציב הנדסה 2020 '!D59 -> 2078338 | E34: ='תקציב הנדסה 2020 '!E59 -> 2078338 | F34: ='תקציב הנדסה 2020 '!F59 -> 0 | G34: ='תקציב הנדסה 2020 '!G59 -> 120000 | H34: ='תקציב הנדסה 2020 '!H59 -> 62477.48 | I34: ='תקציב הנדסה 2020 '!I59 -> 0 | ... AB34: ='תקציב הנדסה 2020 '!AB59 -> 732000
A35: =A34+1 -> 30 | B35: ='תקציב הנדסה 2020 '!B61 -> 1937 | C35: ='תקציב הנדסה 2020 '!C61 -> תב"ע משולש המנהרה הר' 2350 | D35: ='תקציב הנדסה 2020 '!D61 -> 1050000 | E35: ='תקציב הנדסה 2020 '!E61 -> 750000 | F35: ='תקציב הנדסה 2020 '!F61 -> 300000 | G35: ='תקציב הנדסה 2020 '!G61 -> 750000 | H35: ='תקציב הנדסה 2020 '!H61 -> 56082 | I35: ='תקציב הנדסה 2020 '!I61 -> 244936 | ... AB35: ='תקציב הנדסה 2020 '!AB61 -> 732000
A36: =A35+1 -> 31 | B36: ='תקציב הנדסה 2020 '!B63 -> 1950 | C36: ='תקציב הנדסה 2020 '!C63 -> תכנון שינוי גבולות העיר | D36: ='תקציב הנדסה 2020 '!D63 -> 500000 | E36: ='תקציב הנדסה 2020 '!E63 -> 500000 | F36: ='תקציב הנדסה 2020 '!F63 -> 0 | G36: ='תקציב הנדסה 2020 '!G63 -> 100000 | H36: ='תקציב הנדסה 2020 '!H63 -> 0 | I36: ='תקציב הנדסה 2020 '!I63 -> 0 | ... AB36: ='תקציב הנדסה 2020 '!AB63 -> 732000
A37: =A36+1 -> 32 | B37: ='תקציב הנדסה 2020 '!B64 -> 1951 | C37: ='תקציב הנדסה 2020 '!C64 -> מתחם דן אכדייה ליווי תכנוני | D37: ='תקציב הנדסה 2020 '!D64 -> 300000 | E37: ='תקציב הנדסה 2020 '!E64 -> 300000 | F37: ='תקציב הנדסה 2020 '!F64 -> 0 | G37: ='תקציב הנדסה 2020 '!G64 -> 160000 | H37: ='תקציב הנדסה 2020 '!H64 -> 145805 | I37: ='תקציב הנדסה 2020 '!I64 -> 12870 | ... AB37: ='תקציב הנדסה 2020 '!AB64 -> 732000
A38: =A37+1 -> 33 | B38: ='תקציב הנדסה 2020 '!B68 -> 2014 | C38: ='תקציב הנדסה 2020 '!C68 -> תכנון אסטרטגי ציר מעפילים | D38: ='תקציב הנדסה 2020 '!D68 -> 750000 | E38: ='תקציב הנדסה 2020 '!E68 -> 750000 | F38: ='תקציב הנדסה 2020 '!F68 -> 0 | G38: ='תקציב הנדסה 2020 '!G68 -> 100000 | H38: ='תקציב הנדסה 2020 '!H68 -> 0 | I38: ='תקציב הנדסה 2020 '!I68 -> 0 | ... AB38: ='תקציב הנדסה 2020 '!AB68 -> 732000
A39: =A38+1 -> 34 | B39: ='תקציב הנדסה 2020 '!B72 -> 2112 | C39: ='תקציב הנדסה 2020 '!C72 -> סקר חריגות בניה ברחבי העיר | D39: ='תקציב הנדסה 2020 '!D72 -> 7650000 | E39: ='תקציב הנדסה 2020 '!E72 -> 7650000 | F39: ='תקציב הנדסה 2020 '!F72 -> 0 | G39: ='תקציב הנדסה 2020 '!G72 -> 0 | H39: ='תקציב הנדסה 2020 '!H72 -> 0 | I39: ='תקציב הנדסה 2020 '!I72 -> 0 | ... AB39: ='תקציב הנדסה 2020 '!AB72 -> 732000
A40: =A39+1 -> 35 | B40: ='תקציב הנדסה 2020 '!B73 -> 2113 | C40: ='תקציב הנדסה 2020 '!C73 -> ביצוע הריסות עפ"י צווים | D40: ='תקציב הנדסה 2020 '!D73 -> 2550000 | E40: ='תקציב הנדסה 2020 '!E73 -> 2550000 | F40: ='תקציב הנדסה 2020 '!F73 -> 0 | G40: ='תקציב הנדסה 2020 '!G73 -> 0 | H40: ='תקציב הנדסה 2020 '!H73 -> 0 | I40: ='תקציב הנדסה 2020 '!I73 -> 0 | ... AB40: ='תקציב הנדסה 2020 '!AB73 -> 732000
A41: =A40+1 -> 36 | B41: ='תקציב הנדסה 2020 '!B74 -> 2114 | C41: ='תקציב הנדסה 2020 '!C74 -> תב"ע תוכנית שיקום המסילה המתפנה הר '2435 | D41: ='תקציב הנדסה 2020 '!D74 -> 1450000 | E41: ='תקציב הנדסה 2020 '!E74 -> 1450000 | F41: ='תקציב הנדסה 2020 '!F74 -> 0 | G41: ='תקציב הנדסה 2020 '!G74 -> 700000 | H41: ='תקציב הנדסה 2020 '!H74 -> 0 | I41: ='תקציב הנדסה 2020 '!I74 -> 0 | ... AB41: ='תקציב הנדסה 2020 '!AB74 -> 732000
A42: =A41+1 -> 37 | B42: ='תקציב הנדסה 2020 '!B75 -> 2116 | C42: ='תקציב הנדסה 2020 '!C75 -> תב"ע מעברת רשף - מערב נוף ים | D42: ='תקציב הנדסה 2020 '!D75 -> 1700000 | E42: ='תקציב הנדסה 2020 '!E75 -> 1700000 | F42: ='תקציב הנדסה 2020 '!F75 -> 0 | G42: ='תקציב הנדסה 2020 '!G75 -> 300000 | H42: ='תקציב הנדסה 2020 '!H75 -> 0 | I42: ='תקציב הנדסה 2020 '!I75 -> 0 | ... AB42: ='תקציב הנדסה 2020 '!AB75 -> 732000
A43: =A42+1 -> 38 | B43: ='תקציב הנדסה 2020 '!B76 -> 2117 | C43: ='תקציב הנדסה 2020 '!C76 -> שינוי תוכנית גליל ים א' ב' | D43: ='תקציב הנדסה 2020 '!D76 -> 600000 | E43: ='תקציב הנדסה 2020 '!E76 -> 600000 | F43: ='תקציב הנדסה 2020 '!F76 -> 0 | G43: ='תקציב הנדסה 2020 '!G76 -> 300000 | H43: ='תקציב הנדסה 2020 '!H76 -> 0 | I43: ='תקציב הנדסה 2020 '!I76 -> 0 | ... AB43: ='תקציב הנדסה 2020 '!AB76 -> 732000
A44: =A43+1 -> 39 | B44: ='תקציב הנדסה 2020 '!B78 -> 2120 | C44: ='תקציב הנדסה 2020 '!C78 -> הכנת פרוגרמות עירוניות עפ"י הנדרש | D44: ='תקציב הנדסה 2020 '!D78 -> 1000000 | E44: ='תקציב הנדסה 2020 '!E78 -> 1000000 | F44: ='תקציב הנדסה 2020 '!F78 -> 0 | G44: ='תקציב הנדסה 2020 '!G78 -> 0 | H44: ='תקציב הנדסה 2020 '!H78 -> 0 | I44: ='תקציב הנדסה 2020 '!I78 -> 0 | ... AB44: ='תקציב הנדסה 2020 '!AB78 -> 732000
A45: =A44+1 -> 40 | B45: ='תקציב הנדסה 2020 '!B81 -> 2141 | C45: ='תקציב הנדסה 2020 '!C81 -> תכנית פיתוח של המרחב הציבורי תל מיכל | D45: ='תקציב הנדסה 2020 '!D81 -> 640000 | E45: ='תקציב הנדסה 2020 '!E81 -> 0 | F45: ='תקציב הנדסה 2020 '!F81 -> 640000 | G45: ='תקציב הנדסה 2020 '!G81 -> 0 | H45: ='תקציב הנדסה 2020 '!H81 -> 0 | I45: ='תקציב הנדסה 2020 '!I81 -> 0 | ... AB45: ='תקציב הנדסה 2020 '!AB81 -> 732000
A46: =A45+1 -> 41 | B46: ='תקציב הנדסה 2020 '!B83 -> 2143 | C46: ='תקציב הנדסה 2020 '!C83 -> סקר תשתיות קיימות | D46: ='תקציב הנדסה 2020 '!D83 -> 500000 | E46: ='תקציב הנדסה 2020 '!E83 -> 0 | F46: ='תקציב הנדסה 2020 '!F83 -> 500000 | G46: ='תקציב הנדסה 2020 '!G83 -> 0 | H46: ='תקציב הנדסה 2020 '!H83 -> 0 | I46: ='תקציב הנדסה 2020 '!I83 -> 0 | ... AB46: ='תקציב הנדסה 2020 '!AB83 -> 732000
A47: =A46+1 -> 42 | B47: ='תקציב הנדסה 2020 '!B84 -> 2144 | C47: ='תקציב הנדסה 2020 '!C84 -> תוכנת ניהול ותאום תשתיות | D47: ='תקציב הנדסה 2020 '!D84 -> 500000 | E47: ='תקציב הנדסה 2020 '!E84 -> 0 | F47: ='תקציב הנדסה 2020 '!F84 -> 500000 | G47: ='תקציב הנדסה 2020 '!G84 -> 0 | H47: ='תקציב הנדסה 2020 '!H84 -> 0 | I47: ='תקציב הנדסה 2020 '!I84 -> 0 | ... AB47: ='תקציב הנדסה 2020 '!AB84 -> 732000
A48: =A47+1 -> 43 | B48: ='תקציב הנדסה 2020 '!B86 -> 2146 | C48: ='תקציב הנדסה 2020 '!C86 -> תוכנית שבילי אופניים בשצ"פים עירוניים | D48: ='תקציב הנדסה 2020 '!D86 -> 220000 | E48: ='תקציב הנדסה 2020 '!E86 -> 0 | F48: ='תקציב הנדסה 2020 '!F86 -> 220000 | G48: ='תקציב הנדסה 2020 '!G86 -> 0 | H48: ='תקציב הנדסה 2020 '!H86 -> 0 | I48: ='תקציב הנדסה 2020 '!I86 -> 0 | ... AB48: ='תקציב הנדסה 2020 '!AB86 -> 732000
C49: פרק 73 | D49: =SUM(D6:D48) -> 103593828 | E49: =SUM(E6:E48) -> 95893578 | F49: =SUM(F6:F48) -> 7700250 | G49: =SUM(G6:G48) -> 58276157 | H49: =SUM(H6:H48) -> 38074663 | I49: =SUM(I6:I48) -> 5634567.6 | J49: =SUM(J6:J48) -> 1628548 | K49: =SUM(K6:K48) -> 7263115.6 | ... Z49: =SUM(Z6:Z48) -> 1254444
A50: =A48+1 -> 44 | B50: ='תקציב הנדסה 2020 '!B8 -> 507 | C50: ='תקציב הנדסה 2020 '!C8 -> החלפת מדרכות | D50: ='תקציב הנדסה 2020 '!D8 -> 2310000 | E50: ='תקציב הנדסה 2020 '!E8 -> 2310000 | F50: ='תקציב הנדסה 2020 '!F8 -> 0 | G50: ='תקציב הנדסה 2020 '!G8 -> 1765000 | H50: ='תקציב הנדסה 2020 '!H8 -> 1653104.2 | I50: ='תקציב הנדסה 2020 '!I8 -> 0 | ... AB50: ='תקציב הנדסה 2020 '!AB8 -> 742000
A51: =A50+1 -> 45 | B51: ='תקציב הנדסה 2020 '!B9 -> 546 | C51: ='תקציב הנדסה 2020 '!C9 -> מתחם הגאון מוילנא חתם סופר | D51: ='תקציב הנדסה 2020 '!D9 -> 2920000 | E51: ='תקציב הנדסה 2020 '!E9 -> 2920000 | F51: ='תקציב הנדסה 2020 '!F9 -> 0 | G51: ='תקציב הנדסה 2020 '!G9 -> 2920000 | H51: ='תקציב הנדסה 2020 '!H9 -> 2895703.4 | I51: ='תקציב הנדסה 2020 '!I9 -> 0 | ... AB51: ='תקציב הנדסה 2020 '!AB9 -> 742000
A52: =A51+1 -> 46 | B52: ='תקציב הנדסה 2020 '!B10 -> 592 | C52: ='תקציב הנדסה 2020 '!C10 -> מתחם הבריגדה מתחם הר' 1960 | D52: ='תקציב הנדסה 2020 '!D10 -> 54893000 | E52: ='תקציב הנדסה 2020 '!E10 -> 54893000 | F52: ='תקציב הנדסה 2020 '!F10 -> 0 | G52: ='תקציב הנדסה 2020 '!G10 -> 20720000 | H52: ='תקציב הנדסה 2020 '!H10 -> 17898437 | I52: ='תקציב הנדסה 2020 '!I10 -> 149113.19 | ... AB52: ='תקציב הנדסה 2020 '!AB10 -> 742000
A53: =A52+1 -> 47 | B53: ='תקציב הנדסה 2020 '!B13 -> 638 | C53: ='תקציב הנדסה 2020 '!C13 -> פיתוח מתחם רזיאל מע' תב"ע 1706 | D53: ='תקציב הנדסה 2020 '!D13 -> 7000000 | E53: ='תקציב הנדסה 2020 '!E13 -> 7000000 | F53: ='תקציב הנדסה 2020 '!F13 -> 0 | G53: ='תקציב הנדסה 2020 '!G13 -> 4600000 | H53: ='תקציב הנדסה 2020 '!H13 -> 3454839 | I53: ='תקציב הנדסה 2020 '!I13 -> 0 | ... AB53: ='תקציב הנדסה 2020 '!AB13 -> 742000
A54: =A53+1 -> 48 | B54: ='תקציב הנדסה 2020 '!B14 -> 1018 | C54: ='תקציב הנדסה 2020 '!C14 -> מחלף הרב מכר | D54: ='תקציב הנדסה 2020 '!D14 -> 31900000 | E54: ='תקציב הנדסה 2020 '!E14 -> 31900000 | F54: ='תקציב הנדסה 2020 '!F14 -> 0 | G54: ='תקציב הנדסה 2020 '!G14 -> 5100000 | H54: ='תקציב הנדסה 2020 '!H14 -> 3059670.8 | I54: ='תקציב הנדסה 2020 '!I14 -> 84192.99 | ... AB54: ='תקציב הנדסה 2020 '!AB14 -> 742000
A55: =A54+1 -> 49 | B55: ='תקציב הנדסה 2020 '!B16 -> 1129 | C55: ='תקציב הנדסה 2020 '!C16 -> עבודות פיתוח ותשתיות קטנות | D55: ='תקציב הנדסה 2020 '!D16 -> 7000000 | E55: ='תקציב הנדסה 2020 '!E16 -> 7000000 | F55: ='תקציב הנדסה 2020 '!F16 -> 0 | G55: ='תקציב הנדסה 2020 '!G16 -> 5991771 | H55: ='תקציב הנדסה 2020 '!H16 -> 5064670.5 | I55: ='תקציב הנדסה 2020 '!I16 -> 0 | ... AB55: ='תקציב הנדסה 2020 '!AB16 -> 742000
A56: =A55+1 -> 50 | B56: ='תקציב הנדסה 2020 '!B19 -> 1324 | C56: ='תקציב הנדסה 2020 '!C19 -> שצ"פ אל על והמינהרה | D56: ='תקציב הנדסה 2020 '!D19 -> 180000 | E56: ='תקציב הנדסה 2020 '!E19 -> 180000 | F56: ='תקציב הנדסה 2020 '!F19 -> 0 | G56: ='תקציב הנדסה 2020 '!G19 -> 180000 | H56: ='תקציב הנדסה 2020 '!H19 -> 120629.48 | I56: ='תקציב הנדסה 2020 '!I19 -> 0 | ... AB56: ='תקציב הנדסה 2020 '!AB19 -> 742000
A57: =A56+1 -> 51 | B57: ='תקציב הנדסה 2020 '!B20 -> 1363 | C57: ='תקציב הנדסה 2020 '!C20 -> מתחם יהודה המכבי וזוהר טל | D57: ='תקציב הנדסה 2020 '!D20 -> 15500000 | E57: ='תקציב הנדסה 2020 '!E20 -> 15500000 | F57: ='תקציב הנדסה 2020 '!F20 -> 0 | G57: ='תקציב הנדסה 2020 '!G20 -> 6050000 | H57: ='תקציב הנדסה 2020 '!H20 -> 934884.96 | I57: ='תקציב הנדסה 2020 '!I20 -> 72509.9 | ... AB57: ='תקציב הנדסה 2020 '!AB20 -> 742000
A58: =A57+1 -> 52 | B58: ='תקציב הנדסה 2020 '!B21 -> 1366 | C58: ='תקציב הנדסה 2020 '!C21 -> ליווי תשתיות לאומיות | D58: ='תקציב הנדסה 2020 '!D21 -> 1500000 | E58: ='תקציב הנדסה 2020 '!E21 -> 1500000 | F58: ='תקציב הנדסה 2020 '!F21 -> 0 | G58: ='תקציב הנדסה 2020 '!G21 -> 846000 | H58: ='תקציב הנדסה 2020 '!H21 -> 740835.72 | I58: ='תקציב הנדסה 2020 '!I21 -> 0 | ... AB58: ='תקציב הנדסה 2020 '!AB21 -> 742000
A59: =A58+1 -> 53 | B59: ='תקציב הנדסה 2020 '!B25 -> 1457 | C59: ='תקציב הנדסה 2020 '!C25 -> ליווי "מהיר" לעיר | D59: ='תקציב הנדסה 2020 '!D25 -> 1100000 | E59: ='תקציב הנדסה 2020 '!E25 -> 1100000 | F59: ='תקציב הנדסה 2020 '!F25 -> 0 | G59: ='תקציב הנדסה 2020 '!G25 -> 430000 | H59: ='תקציב הנדסה 2020 '!H25 -> 163760.09 | I59: ='תקציב הנדסה 2020 '!I25 -> 0 | ... AB59: ='תקציב הנדסה 2020 '!AB25 -> 742000
A60: =A59+1 -> 54 | B60: ='תקציב הנדסה 2020 '!B27 -> 1511 | C60: ='תקציב הנדסה 2020 '!C27 -> פתוח קטעי רח' דרך ירושלים גולומב | D60: ='תקציב הנדסה 2020 '!D27 -> 960000 | E60: ='תקציב הנדסה 2020 '!E27 -> 960000 | F60: ='תקציב הנדסה 2020 '!F27 -> 0 | G60: ='תקציב הנדסה 2020 '!G27 -> 100000 | H60: ='תקציב הנדסה 2020 '!H27 -> 17284 | I60: ='תקציב הנדסה 2020 '!I27 -> 0 | ... AB60: ='תקציב הנדסה 2020 '!AB27 -> 742000
A61: =A60+1 -> 55 | B61: ='תקציב הנדסה 2020 '!B33 -> 1587 | C61: ='תקציב הנדסה 2020 '!C33 -> פיתוח מתחם המכללות הר' 1920/1 | D61: ='תקציב הנדסה 2020 '!D33 -> 34200000 | E61: ='תקציב הנדסה 2020 '!E33 -> 34200000 | F61: ='תקציב הנדסה 2020 '!F33 -> 0 | G61: ='תקציב הנדסה 2020 '!G33 -> 11550000 | H61: ='תקציב הנדסה 2020 '!H33 -> 8929257.2 | I61: ='תקציב הנדסה 2020 '!I33 -> 799141.59 | ... AB61: ='תקציב הנדסה 2020 '!AB33 -> 742000
A62: =A61+1 -> 56 | B62: ='תקציב הנדסה 2020 '!B34 -> 1601 | C62: ='תקציב הנדסה 2020 '!C34 -> העתקות פרויקטים שונים | D62: ='תקציב הנדסה 2020 '!D34 -> 700000 | E62: ='תקציב הנדסה 2020 '!E34 -> 700000 | F62: ='תקציב הנדסה 2020 '!F34 -> 0 | G62: ='תקציב הנדסה 2020 '!G34 -> 650000 | H62: ='תקציב הנדסה 2020 '!H34 -> 512755.34 | I62: ='תקציב הנדסה 2020 '!I34 -> 0 | ... AB62: ='תקציב הנדסה 2020 '!AB34 -> 742000
A63: =A62+1 -> 57 | B63: ='תקציב הנדסה 2020 '!B35 -> 1602 | C63: ='תקציב הנדסה 2020 '!C35 -> רח' ז'בוטינסקי אלתרמן הבריגדה | D63: ='תקציב הנדסה 2020 '!D35 -> 32500000 | E63: ='תקציב הנדסה 2020 '!E35 -> 29500000 | F63: ='תקציב הנדסה 2020 '!F35 -> 3000000 | G63: ='תקציב הנדסה 2020 '!G35 -> 32500000 | H63: ='תקציב הנדסה 2020 '!H35 -> 29008286 | I63: ='תקציב הנדסה 2020 '!I35 -> 2652256.2 | ... AB63: ='תקציב הנדסה 2020 '!AB35 -> 742000
A64: =A63+1 -> 58 | B64: ='תקציב הנדסה 2020 '!B39 -> 1670 | C64: ='תקציב הנדסה 2020 '!C39 -> פתוח מתחם הר' 1972 תחנה מרכזית | D64: ='תקציב הנדסה 2020 '!D39 -> 12500000 | E64: ='תקציב הנדסה 2020 '!E39 -> 12500000 | F64: ='תקציב הנדסה 2020 '!F39 -> 0 | G64: ='תקציב הנדסה 2020 '!G39 -> 850000 | H64: ='תקציב הנדסה 2020 '!H39 -> 168571 | I64: ='תקציב הנדסה 2020 '!I39 -> 195569.65 | ... AB64: ='תקציב הנדסה 2020 '!AB39 -> 742000
A65: =A64+1 -> 59 | B65: ='תקציב הנדסה 2020 '!B44 -> 1722 | C65: ='תקציב הנדסה 2020 '!C44 -> חיבור גשר הולכי רגל כביש 20 | D65: ='תקציב הנדסה 2020 '!D44 -> 2400000 | E65: ='תקציב הנדסה 2020 '!E44 -> 2400000 | F65: ='תקציב הנדסה 2020 '!F44 -> 0 | G65: ='תקציב הנדסה 2020 '!G44 -> 300000 | H65: ='תקציב הנדסה 2020 '!H44 -> 98067.4 | I65: ='תקציב הנדסה 2020 '!I44 -> 67052.7 | ... AB65: ='תקציב הנדסה 2020 '!AB44 -> 742000
A66: =A65+1 -> 60 | B66: ='תקציב הנדסה 2020 '!B45 -> 1744 | C66: ='תקציב הנדסה 2020 '!C45 -> מערכת בקרת רמזורים | D66: ='תקציב הנדסה 2020 '!D45 -> 13000000 | E66: ='תקציב הנדסה 2020 '!E45 -> 13000000 | F66: ='תקציב הנדסה 2020 '!F45 -> 0 | G66: ='תקציב הנדסה 2020 '!G45 -> 8200000 | H66: ='תקציב הנדסה 2020 '!H45 -> 4928998.9 | I66: ='תקציב הנדסה 2020 '!I45 -> 0 | ... AB66: ='תקציב הנדסה 2020 '!AB45 -> 742000
A67: =A66+1 -> 61 | B67: ='תקציב הנדסה 2020 '!B46 -> 1746 | C67: ='תקציב הנדסה 2020 '!C46 -> תכנון חניון במתחם אגד | D67: ='תקציב הנדסה 2020 '!D46 -> 55000000 | E67: ='תקציב הנדסה 2020 '!E46 -> 55000000 | F67: ='תקציב הנדסה 2020 '!F46 -> 0 | G67: ='תקציב הנדסה 2020 '!G46 -> 0 | H67: ='תקציב הנדסה 2020 '!H46 -> 0 | I67: ='תקציב הנדסה 2020 '!I46 -> 0 | ... AB67: ='תקציב הנדסה 2020 '!AB46 -> 742000
A68: =A67+1 -> 62 | B68: ='תקציב הנדסה 2020 '!B55 -> 1805 | C68: ='תקציב הנדסה 2020 '!C55 -> שביל אופניים הרצליה-ת"א הפקעות | D68: ='תקציב הנדסה 2020 '!D55 -> 1000000 | E68: ='תקציב הנדסה 2020 '!E55 -> 1000000 | F68: ='תקציב הנדסה 2020 '!F55 -> 0 | G68: ='תקציב הנדסה 2020 '!G55 -> 60000 | H68: ='תקציב הנדסה 2020 '!H55 -> 2677 | I68: ='תקציב הנדסה 2020 '!I55 -> 0 | ... AB68: ='תקציב הנדסה 2020 '!AB55 -> 742000
A69: =A68+1 -> 63 | B69: ='תקציב הנדסה 2020 '!B57 -> 1826 | C69: ='תקציב הנדסה 2020 '!C57 -> פיתוח שצ"פים במורדי הגטאות | D69: ='תקציב הנדסה 2020 '!D57 -> 1500000 | E69: ='תקציב הנדסה 2020 '!E57 -> 1500000 | F69: ='תקציב הנדסה 2020 '!F57 -> 0 | G69: ='תקציב הנדסה 2020 '!G57 -> 400000 | H69: ='תקציב הנדסה 2020 '!H57 -> 14227 | I69: ='תקציב הנדסה 2020 '!I57 -> 0 | ... AB69: ='תקציב הנדסה 2020 '!AB57 -> 742000
A70: =A69+1 -> 64 | B70: ='תקציב הנדסה 2020 '!B60 -> 1882 | C70: ='תקציב הנדסה 2020 '!C60 -> פיתוח מתחם אולפני הרצליה | D70: ='תקציב הנדסה 2020 '!D60 -> 14300000 | E70: ='תקציב הנדסה 2020 '!E60 -> 14300000 | F70: ='תקציב הנדסה 2020 '!F60 -> 0 | G70: ='תקציב הנדסה 2020 '!G60 -> 200000 | H70: ='תקציב הנדסה 2020 '!H60 -> 0 | I70: ='תקציב הנדסה 2020 '!I60 -> 0 | ... AB70: ='תקציב הנדסה 2020 '!AB60 -> 742000
A71: =A70+1 -> 65 | B71: ='תקציב הנדסה 2020 '!B65 -> 2007 | C71: ='תקציב הנדסה 2020 '!C65 -> חניון עצמאות | D71: ='תקציב הנדסה 2020 '!D65 -> 1100000 | E71: ='תקציב הנדסה 2020 '!E65 -> 1100000 | F71: ='תקציב הנדסה 2020 '!F65 -> 0 | G71: ='תקציב הנדסה 2020 '!G65 -> 1100000 | H71: ='תקציב הנדסה 2020 '!H65 -> 95247.31 | I71: ='תקציב הנדסה 2020 '!I65 -> 0 | ... AB71: ='תקציב הנדסה 2020 '!AB65 -> 742000
A72: =A71+1 -> 66 | B72: ='תקציב הנדסה 2020 '!B66 -> 2009 | C72: ='תקציב הנדסה 2020 '!C66 -> סמטת ניסנוב | D72: ='תקציב הנדסה 2020 '!D66 -> 9000000 | E72: ='תקציב הנדסה 2020 '!E66 -> 9000000 | F72: ='תקציב הנדסה 2020 '!F66 -> 0 | G72: ='תקציב הנדסה 2020 '!G66 -> 1000000 | H72: ='תקציב הנדסה 2020 '!H66 -> 0 | I72: ='תקציב הנדסה 2020 '!I66 -> 0 | ... AB72: ='תקציב הנדסה 2020 '!AB66 -> 742000
A73: =A72+1 -> 67 | B73: ='תקציב הנדסה 2020 '!B67 -> 2012 | C73: ='תקציב הנדסה 2020 '!C67 -> ציר העדפה | D73: ='תקציב הנדסה 2020 '!D67 -> 5000000 | E73: ='תקציב הנדסה 2020 '!E67 -> 5000000 | F73: ='תקציב הנדסה 2020 '!F67 -> 0 | G73: ='תקציב הנדסה 2020 '!G67 -> 200000 | H73: ='תקציב הנדסה 2020 '!H67 -> 0 | I73: ='תקציב הנדסה 2020 '!I67 -> 0 | ... AB73: ='תקציב הנדסה 2020 '!AB67 -> 742000
A74: =A73+1 -> 68 | B74: ='תקציב הנדסה 2020 '!B69 -> 2077 | C74: ='תקציב הנדסה 2020 '!C69 -> פיתוח משה דיין | D74: ='תקציב הנדסה 2020 '!D69 -> 4000000 | E74: ='תקציב הנדסה 2020 '!E69 -> 4000000 | F74: ='תקציב הנדסה 2020 '!F69 -> 0 | G74: ='תקציב הנדסה 2020 '!G69 -> 0 | H74: ='תקציב הנדסה 2020 '!H69 -> 0 | I74: ='תקציב הנדסה 2020 '!I69 -> 0 | ... AB74: ='תקציב הנדסה 2020 '!AB69 -> 742000
A75: =A74+1 -> 69 | B75: ='תקציב הנדסה 2020 '!B70 -> 2105 | C75: ='תקציב הנדסה 2020 '!C70 -> הארכת דרך ירושלים והתחברות אליה | D75: ='תקציב הנדסה 2020 '!D70 -> 60000000 | E75: ='תקציב הנדסה 2020 '!E70 -> 60000000 | F75: ='תקציב הנדסה 2020 '!F70 -> 0 | G75: ='תקציב הנדסה 2020 '!G70 -> 0 | H75: ='תקציב הנדסה 2020 '!H70 -> 0 | I75: ='תקציב הנדסה 2020 '!I70 -> 0 | ... AB75: ='תקציב הנדסה 2020 '!AB70 -> 742000
A76: =A75+1 -> 70 | B76: ='תקציב הנדסה 2020 '!B71 -> 2107 | C76: ='תקציב הנדסה 2020 '!C71 -> פיתוח וביצוע שידרוג ויזואלי מתחם בני בניימין הנדיב | D76: ='תקציב הנדסה 2020 '!D71 -> 340000 | E76: ='תקציב הנדסה 2020 '!E71 -> 340000 | F76: ='תקציב הנדסה 2020 '!F71 -> 0 | G76: ='תקציב הנדסה 2020 '!G71 -> 0 | H76: ='תקציב הנדסה 2020 '!H71 -> 0 | I76: ='תקציב הנדסה 2020 '!I71 -> 0 | ... AB76: ='תקציב הנדסה 2020 '!AB71 -> 742000
A77: =A76+1 -> 71 | B77: ='תקציב הנדסה 2020 '!B77 -> 2119 | C77: ='תקציב הנדסה 2020 '!C77 -> שביל מתחם העצמאות הרב גורן הבנים | D77: ='תקציב הנדסה 2020 '!D77 -> 1400000 | E77: ='תקציב הנדסה 2020 '!E77 -> 1400000 | F77: ='תקציב הנדסה 2020 '!F77 -> 0 | G77: ='תקציב הנדסה 2020 '!G77 -> 0 | H77: ='תקציב הנדסה 2020 '!H77 -> 0 | I77: ='תקציב הנדסה 2020 '!I77 -> 0 | ... AB77: ='תקציב הנדסה 2020 '!AB77 -> 742000
A78: =A77+1 -> 72 | B78: ='תקציב הנדסה 2020 '!B79 -> 2121 | C78: ='תקציב הנדסה 2020 '!C79 -> צומת הבריגדה היהודית -מנחם בגין- בטיחות | D78: ='תקציב הנדסה 2020 '!D79 -> 300000 | E78: ='תקציב הנדסה 2020 '!E79 -> 300000 | F78: ='תקציב הנדסה 2020 '!F79 -> 0 | G78: ='תקציב הנדסה 2020 '!G79 -> 300000 | H78: ='תקציב הנדסה 2020 '!H79 -> 0 | I78: ='תקציב הנדסה 2020 '!I79 -> 0 | ... AB78: ='תקציב הנדסה 2020 '!AB79 -> 742000
A79: =A78+1 -> 73 | B79: ='תקציב הנדסה 2020 '!B80 -> 2123 | C79: ='תקציב הנדסה 2020 '!C80 -> צומת השרון בר אילן -בטיחות | D79: ='תקציב הנדסה 2020 '!D80 -> 750000 | E79: ='תקציב הנדסה 2020 '!E80 -> 750000 | F79: ='תקציב הנדסה 2020 '!F80 -> 0 | G79: ='תקציב הנדסה 2020 '!G80 -> 0 | H79: ='תקציב הנדסה 2020 '!H80 -> 0 | I79: ='תקציב הנדסה 2020 '!I80 -> 0 | ... AB79: ='תקציב הנדסה 2020 '!AB80 -> 742000
A80: =A79+1 -> 74 | B80: ='תקציב הנדסה 2020 '!B82 -> 2142 | C80: ='תקציב הנדסה 2020 '!C82 -> פיתוח רח' הארז והחרוב | D80: ='תקציב הנדסה 2020 '!D82 -> 2400000 | E80: ='תקציב הנדסה 2020 '!E82 -> 0 | F80: ='תקציב הנדסה 2020 '!F82 -> 2400000 | G80: ='תקציב הנדסה 2020 '!G82 -> 0 | H80: ='תקציב הנדסה 2020 '!H82 -> 0 | I80: ='תקציב הנדסה 2020 '!I82 -> 0 | ... AB80: ='תקציב הנדסה 2020 '!AB82 -> 742000
A81: =A80+1 -> 75 | B81: ='תקציב הנדסה 2020 '!B85 -> 2145 | C81: ='תקציב הנדסה 2020 '!C85 -> ציר ירושלים יבנה/הנגב | D81: ='תקציב הנדסה 2020 '!D85 -> 2050000 | E81: ='תקציב הנדסה 2020 '!E85 -> 0 | F81: ='תקציב הנדסה 2020 '!F85 -> 2050000 | G81: ='תקציב הנדסה 2020 '!G85 -> 0 | H81: ='תקציב הנדסה 2020 '!H85 -> 0 | I81: ='תקציב הנדסה 2020 '!I85 -> 0 | ... AB81: ='תקציב הנדסה 2020 '!AB85 -> 742000
A82: =A81+1 -> 76 | B82: ='תקציב הנדסה 2020 '!B62 -> 1943 | C82: ='תקציב הנדסה 2020 '!C62 -> מגרש סימולציה לאופניים | D82: ='תקציב הנדסה 2020 '!D62 -> 6750000 | E82: ='תקציב הנדסה 2020 '!E62 -> 6750000 | F82: ='תקציב הנדסה 2020 '!F62 -> 0 | G82: ='תקציב הנדסה 2020 '!G62 -> 6750000 | H82: ='תקציב הנדסה 2020 '!H62 -> 4531769.9 | I82: ='תקציב הנדסה 2020 '!I62 -> 68274.94 | ... AB82: ='תקציב הנדסה 2020 '!AB62 -> 744000
A83: =A82+1 -> 77 | B83: ='תקציב הנדסה 2020 '!B11 -> 608 | C83: ='תקציב הנדסה 2020 '!C11 -> עבודות ניקוז בעיר | D83: ='תקציב הנדסה 2020 '!D11 -> 8300000 | E83: ='תקציב הנדסה 2020 '!E11 -> 8300000 | F83: ='תקציב הנדסה 2020 '!F11 -> 0 | G83: ='תקציב הנדסה 2020 '!G11 -> 6200000 | H83: ='תקציב הנדסה 2020 '!H11 -> 5233021.7 | I83: ='תקציב הנדסה 2020 '!I11 -> 0 | ... AB83: ='תקציב הנדסה 2020 '!AB11 -> 745000
A84: =A83+1 -> 78 | B84: ='תקציב הנדסה 2020 '!B7 -> 304 | C84: ='תקציב הנדסה 2020 '!C7 -> פיתוח פארק הבאסה | D84: ='תקציב הנדסה 2020 '!D7 -> 54930000 | E84: ='תקציב הנדסה 2020 '!E7 -> 54930000 | F84: ='תקציב הנדסה 2020 '!F7 -> 0 | G84: ='תקציב הנדסה 2020 '!G7 -> 54930000 | H84: ='תקציב הנדסה 2020 '!H7 -> 54780523 | I84: ='תקציב הנדסה 2020 '!I7 -> 149074.13 | ... AB84: ='תקציב הנדסה 2020 '!AB7 -> 746000
A85: =A84+1 -> 79 | B85: ='תקציב הנדסה 2020 '!B18 -> 1320 | C85: ='תקציב הנדסה 2020 '!C18 -> פארק הבאסה שלב ב' | D85: ='תקציב הנדסה 2020 '!D18 -> 23500000 | E85: ='תקציב הנדסה 2020 '!E18 -> 23500000 | F85: ='תקציב הנדסה 2020 '!F18 -> 0 | G85: ='תקציב הנדסה 2020 '!G18 -> 21550000 | H85: ='תקציב הנדסה 2020 '!H18 -> 21339439 | I85: ='תקציב הנדסה 2020 '!I18 -> 204226.2 | ... AB85: ='תקציב הנדסה 2020 '!AB18 -> 746000
A86: =A85+1 -> 80 | B86: ='תקציב הנדסה 2020 '!B31 -> 1568 | C86: ='תקציב הנדסה 2020 '!C31 -> פיתוח פארק שלב ג' | D86: ='תקציב הנדסה 2020 '!D31 -> 46375301 | E86: ='תקציב הנדסה 2020 '!E31 -> 46375301 | F86: ='תקציב הנדסה 2020 '!F31 -> 0 | G86: ='תקציב הנדסה 2020 '!G31 -> 28875301 | H86: ='תקציב הנדסה 2020 '!H31 -> 27763907 | I86: ='תקציב הנדסה 2020 '!I31 -> 822126.24 | ... AB86: ='תקציב הנדסה 2020 '!AB31 -> 746000
C87: פרק 74 | D87: =SUM(D50:D86) -> 518558301 | E87: =SUM(E50:E86) -> 511108301 | F87: =SUM(F50:F86) -> 7450000 | G87: =SUM(G50:G86) -> 224318072 | H87: =SUM(H50:H86) -> 1.9341057e+08 | I87: =SUM(I50:I86) -> 5263537.7 | J87: =SUM(J50:J86) -> 10300842 | K87: =SUM(K50:K86) -> 15564379 | ... Z87: =SUM(Z50:Z86) -> 0
A88: =A86+1 -> 81 | B88: ='תקציב הנדסה 2020 '!B29 -> 1529 | C88: ='תקציב הנדסה 2020 '!C29 -> הוצאות בקשר עם תביעות סעיף 197 | D88: ='תקציב הנדסה 2020 '!D29 -> 500000 | E88: ='תקציב הנדסה 2020 '!E29 -> 400000 | F88: ='תקציב הנדסה 2020 '!F29 -> 100000 | G88: ='תקציב הנדסה 2020 '!G29 -> 400000 | H88: ='תקציב הנדסה 2020 '!H29 -> 346975.05 | I88: ='תקציב הנדסה 2020 '!I29 -> 0 | ... AB88: ='תקציב הנדסה 2020 '!AB29 -> 760000
C89: פרק 76 | D89: =SUM(D88) -> 500000 | E89: =SUM(E88) -> 400000 | F89: =SUM(F88) -> 100000 | G89: =SUM(G88) -> 400000 | H89: =SUM(H88) -> 346975.05 | I89: =SUM(I88) -> 0 | J89: =SUM(J88) -> 25400.7 | K89: =SUM(K88) -> 25400.7 | ... Z89: =SUM(Z88) -> 0
A90: =A88 -> 81 | C90: סה"כ מינהל הנדסה | D90: =D89+D87+D49 -> 622652129 | E90: =E89+E87+E49 -> 607401879 | F90: =F89+F87+F49 -> 15250250 | G90: =G89+G87+G49 -> 282994229 | H90: =H89+H87+H49 -> 2.3183221e+08 | I90: =I89+I87+I49 -> 10898105 | J90: =J89+J87+J49 -> 11954790 | K90: =K89+K87+K49 -> 22852896 | ... Z90: =Z89+Z87+Z49 -> 1254444
L91: =K90+H90 -> 2.546851e+08 | M91: =P91+S90-T90 -> 26266451 | P91: =G90-L91 -> 28309128 | U91: =N90-T90 -> 32558338

Sheet החברה לפיתוח 2020
C3: החברה לפיתוח הרצליה
B5: ü | C5: סך התקציב הנדרש בשנת 2020 ע"י החברה לפיתוח הרצליה מסתכם ב - | F5: ='תקציב החברה לפיתוח 2020'!U127 -> 337850033
B7: ü | C7: מספר הפרויקטים המטופל ע"י החברה לפיתוח בע"מ : | F7: ='תקציב החברה לפיתוח 2020'!A126 -> 115
B9: ü | C9: מקורות מימון לפרויקטים :
D11: מקורות מימון | E11: סכום | F11: אחוז
D12: קרן עבודות פיתוח | E12: ='תקציב החברה לפיתוח 2020'!V126 -> 135490880 | F12: =E12/$E$17 -> 0.40103853
D13: קרן עודפי תקציב רגיל | E13: ='תקציב החברה לפיתוח 2020'!W126 -> 500000 | F13: =E13/$E$17 -> 0.0014799466
D14: קרן רכוש | E14: ='תקציב החברה לפיתוח 2020'!X126 -> 0 | F14: =E14/$E$17 -> 0
D15: קרן ייעודית גליל ים | E15: ='תקציב החברה לפיתוח 2020'!Y126 -> 100433357 | F15: =E15/$E$17 -> 0.29727201
D16: אחרים | E16: ='תקציב החברה לפיתוח 2020'!Z126 -> 101425796 | F16: =E16/$E$17 -> 0.30020952
D17: סה"כ | E17: =SUM(E12:E16) -> 337850033 | F17: =SUM(F12:F16) -> 1
C19: ü | D19: עדכון שם תב"ר : מסומן (*) מס' 79
D21: תב"ר 2101 : מעון לאנשים עם מוגבלויות גליל ים - מעון לאנשים עם מוגבלויות ביד התשעה.
D23: פרויקט : גליל ים א'
D33: פרויקט בביצוע
C38: ü | D38: תאור הפרויקטים מובא בעמודים 42-51

Sheet החב. לפיתוח 2020
C2: החברה לפיתוח הרצליה בע"מ
B5: ü | C5: פרויקטים עיקריים בשנת 2020 :
D7: פרויקט | E7: סכום
D8: מתחם גליל ים | E8: ='תקציב החברה לפיתוח 2020'!U124 -> 199128033
D9: פרויקטים שונים | E9: ='תקציב החברה לפיתוח 2020'!U106 -> 138722000
D10: מתוכם העיקריים :
D11: פיתוח מתחם מתנ"ס נווה עמל ומגרשי טניס | E11: 18000000
D12: פיתוח מתחם "מרינה לי" | E12: 16300000
D13: אולם ספורט ויצמן תכנון וביצוע | E13: 10500000
D14: גנ"י מדעיים (3) באלתרמן | E14: 9500000
D15: גנ"י מרכז ויצמן תמר ותאנה | E15: 6640000
D16: אולם ספורט חטיבת זאב | E16: 7000000
D17: שיפוץ אולם ספורט היובל | E17: 5417000
D18: מתחם זרובבל | E18: 5000000
D19: ספורטק שלב ג' | E19: 5000000
D20: תכנון חניון "מרינה לי" | E20: 5000000
D21: בי"ס בן גוריון | E21: 5000000
D23: פרויקט : פיתוח מתחם הר' 1903 - הרצליה הילס

Sheet תקציב החברה לפיתוח 2020
A2: החברה לפיתוח הרצליה
A4: מס' סידורי | B4: מס' תב"ר | C4: שם תב"ר | D4: אומדן כולל לפרוקט | E4: אומדן מאושר במועצה | F4: תוספת לאומדן לאישור המועצה | G4: תקציב מאושר | H4: ביצוע בפועל | I4: שריון מערך חוזים | J4: שריון מערך רכש | K4: סה"כ שריון התחייבויות | L4: סה"כ ביצוע | M4: יתרה לביצוע צפוי עד 31.12.2019 | N4: אומדן לביצוע שנת 2020 | O4: אומדן לביצוע שנת 2021 ואילך | P4: יתרת תקציב | Q4: תקציב נוסף נדרש במסגרת תוכנית עבודה 2019 | R4: תקציב נוסף נדרש מעבר לתוכנית עבודה 2019 | S4: סה"כ תקציב נוסף נדרש 2019 | T4: יתרת תקציב פנויה 31.12.2019 | U4: תקציב נדרש 2020 | V4: קרן עבודות פיתוח | W4: קרן עודפי תקציב רגיל | X4: קרן רכוש | Y4: קרן ייעודית | Z4: אחרים | AA4: תאור הפרויקט | AB4: פרק תב"ר
A6: =A5+1 -> 1 | B6: 382 | C6: מערכת כבישים באזור תעשייה מערבי | D6: 72881330 | E6: 72881330 | F6: =D6-E6 -> 0 | G6: 49881330 | H6: 46168828 | J6: 2174894.4 | K6: =SUM(I6:J6) -> 2174894.4 | L6: =K6+H6 -> 48343723 | M6: =P6+S6 -> 13037607 | N6: 1000000 | O6: =D6-L6-M6-N6 -> 10500000 | P6: =G6-L6 -> 1537607.4 | Q6: 11500000 | S6: =SUM(Q6:R6) -> 11500000 | T6: =P6-M6+S6 -> 0 | U6: =N6-T6 -> 1000000 | V6: =U6-Y6-X6-Z6-W6 -> 1000000 | AA6: השלמת רח' משכית, פיתוח החושלים, השלמת שצ"פים והשלמת תכנון רח' שנקר. | AB6: 742000
A7: =A6+1 -> 2 | B7: 532 | C7: פיתוח מתחם המסילה ודב הוז | D7: 80090000 | E7: 80090000 | F7: =D7-E7 -> 0 | G7: 80090000 | H7: 73098365 | J7: 767419.44 | K7: =SUM(I7:J7) -> 767419.44 | L7: =K7+H7 -> 73865785 | M7: =P7+S7 -> 6224215.4 | O7: =D7-L7-M7-N7 -> 0 | P7: =G7-L7 -> 6224215.4 | S7: =SUM(Q7:R7) -> 0 | T7: =P7-M7+S7 -> 0 | U7: =N7-T7 -> 0 | V7: =U7-Y7-X7-Z7-W7 -> 0 | AA7: עבודות בביצוע.כולל גינת כלבים והשלמת שצ"פים. | AB7: 742000
A8: =A7+1 -> 3 | B8: 576 | C8: בית העלמין החדש | D8: =55113000+3000000 -> 58113000 | E8: 55113000 | F8: =D8-E8 -> 3000000 | G8: 55113000 | H8: 47204086 | J8: 2886324.4 | K8: =SUM(I8:J8) -> 2886324.4 | L8: =K8+H8 -> 50090410 | M8: =P8+S8 -> 5022590 | N8: 3000000 | O8: =D8-L8-M8-N8 -> 0 | P8: =G8-L8 -> 5022590 | S8: =SUM(Q8:R8) -> 0 | T8: =P8-M8+S8 -> 0 | U8: =N8-T8 -> 3000000 | V8: =U8-Y8-X8-Z8-W8 -> 3000000 | AA8: עבודות הרחבת והכשרת חלקות נוספות בבית העלמין החדש. | AB8: 760000
A9: =A8+1 -> 4 | B9: 634 | C9: מתחם המשתלה תב"ע 1874 | D9: =57250000-900000 -> 56350000 | E9: 57250000 | F9: =D9-E9 -> -900000 | G9: 56350000 | H9: 55240944 | J9: 1109051.8 | K9: =SUM(I9:J9) -> 1109051.8 | L9: =K9+H9 -> 56349996 | M9: =P9+S9 -> 4.37 | O9: =D9-L9-M9-N9 -> 0 | P9: =G9-L9 -> 4.37 | S9: =SUM(Q9:R9) -> 0 | T9: =P9-M9+S9 -> 0 | U9: =N9-T9 -> 0 | V9: =U9-Y9-X9-Z9-W9 -> 0 | AA9: השלמת עבודות גינון ותיקונים במתחם. לקראת סגירת תב"ר. | AB9: 732000
A10: =A9+1 -> 5 | B10: 1067 | C10: עבודות פיתוח קטנות | D10: =3725000+250000 -> 3975000 | E10: 3725000 | F10: =D10-E10 -> 250000 | G10: 3725000 | H10: 2800272.4 | J10: 924353.38 | K10: =SUM(I10:J10) -> 924353.38 | L10: =K10+H10 -> 3724625.8 | M10: =P10+S10 -> 374.18 | N10: 250000 | O10: =D10-L10-M10-N10 -> 0 | P10: =G10-L10 -> 374.18 | S10: =SUM(Q10:R10) -> 0 | T10: =P10-M10+S10 -> 0 | U10: =N10-T10 -> 250000 | V10: =U10-Y10-X10-Z10-W10 -> 250000 | AA10: סל עבודות קטנות עפ"י דרישה. | AB10: 742000
A11: =A10+1 -> 6 | B11: 1207 | C11: מתחם זרובבל | D11: 50650000 | E11: 50650000 | F11: =D11-E11 -> 0 | G11: 35650000 | H11: 20936336 | J11: 713609.87 | K11: =SUM(I11:J11) -> 713609.87 | L11: =K11+H11 -> 21649946 | M11: =P11+S11 -> 19000054 | N11: =10000000-5000000 -> 5000000 | O11: =D11-L11-M11-N11 -> 5000000 | P11: =G11-L11 -> 14000054 | Q11: 5000000 | S11: =SUM(Q11:R11) -> 5000000 | T11: =P11-M11+S11 -> 0 | U11: =N11-T11 -> 5000000 | V11: =U11-Y11-X11-Z11-W11 -> 5000000 | AA11: המשך עבודות פיתוח במתחם. פיתוח השצ"פ. | AB11: 742000
A12: =A11+1 -> 7 | B12: 1238 | C12: כצלנסון-פיתוח | D12: 32940000 | E12: 32940000 | F12: =D12-E12 -> 0 | G12: 26440000 | H12: 25492352 | J12: 254641.37 | K12: =SUM(I12:J12) -> 254641.37 | L12: =K12+H12 -> 25746994 | M12: =P12+S12 -> 693006.43 | O12: =D12-L12-M12-N12 -> 6500000 | P12: =G12-L12 -> 693006.43 | S12: =SUM(Q12:R12) -> 0 | T12: =P12-M12+S12 -> 0 | U12: =N12-T12 -> 0 | V12: =U12-Y12-X12-Z12-W12 -> 0 | AA12: ביצוע והשלמת תכנון פארק צפון. | AB12: 742000
A13: =A12+1 -> 8 | B13: 1298 | C13: תכנונים כלליים | D13: 4600000 | E13: 4600000 | F13: =D13-E13 -> 0 | G13: 4100000 | H13: 3769560.9 | J13: 311421.5 | K13: =SUM(I13:J13) -> 311421.5 | L13: =K13+H13 -> 4080982.4 | M13: =P13+S13 -> 519017.63 | O13: =D13-L13-M13-N13 -> 0 | P13: =G13-L13 -> 19017.63 | Q13: 500000 | S13: =SUM(Q13:R13) -> 500000 | T13: =P13-M13+S13 -> 0 | U13: =N13-T13 -> 0 | V13: =U13-Y13-X13-Z13-W13 -> 0 | AA13: סל עבודות תכנון עפ"י דרישה. | AB13: 742000
A14: =A13+1 -> 9 | B14: 1312 | C14: השלמת מבנה העיריה החדש | D14: 109500000 | E14: 109500000 | F14: =D14-E14 -> 0 | G14: 109500000 | H14: 1.0314408e+08 | J14: 4833910.7 | K14: =SUM(I14:J14) -> 4833910.7 | L14: =K14+H14 -> 1.0797799e+08 | M14: =P14+S14 -> 1522012.3 | O14: =D14-L14-M14-N14 -> 0 | P14: =G14-L14 -> 1522012.3 | S14: =SUM(Q14:R14) -> 0 | T14: =P14-M14+S14 -> 0 | U14: =N14-T14 -> 0 | V14: =U14-Y14-X14-Z14-W14 -> 0 | AA14: יתרת עבודות השלמה שינויים קומה 0 ו - 3. לקראת סיום. | AB14: 930000
A15: =A14+1 -> 10 | B15: 1314 | C15: רח' גבעת החלומות פיתוח | D15: 3200000 | E15: 3200000 | F15: =D15-E15 -> 0 | G15: 400000 | H15: 359314.49 | K15: =SUM(I15:J15) -> 0 | L15: =K15+H15 -> 359314.49 | M15: =P15+S15 -> 40685.51 | N15: 2800000 | O15: =D15-L15-M15-N15 -> 0 | P15: =G15-L15 -> 40685.51 | S15: =SUM(Q15:R15) -> 0 | T15: =P15-M15+S15 -> 0 | U15: =N15-T15 -> 2800000 | V15: =U15-Z15-W15-Y15 -> 2800000 | AA15: פיתוח רחוב גבעת החלומות לרבות עבודות ניקוז ותאורה. עדכון תכנון וביצוע . | AB15: 742000
A16: =A15+1 -> 11 | B16: 1322 | C16: מתחם נוף ים פיתוח | D16: 18500000 | E16: 18500000 | F16: =D16-E16 -> 0 | G16: 10850000 | H16: 9625168.6 | I16: 92414.99 | K16: =SUM(I16:J16) -> 92414.99 | L16: =K16+H16 -> 9717583.6 | M16: =P16+S16 -> 1132416.4 | N16: =4000000-2000000 -> 2000000 | O16: =D16-L16-M16-N16 -> 5650000 | P16: =G16-L16 -> 1132416.4 | S16: =SUM(Q16:R16) -> 0 | T16: =P16-M16+S16 -> 0 | U16: =N16-T16 -> 2000000 | V16: =U16-Z16-W16-Y16 -> 2000000 | AA16: פיתוח הרחובות משער הים צפונה - תשתיות תאורה וגינון, הנשיא והתאנה. | AB16: 742000
A17: =A16+1 -> 12 | B17: 1357 | C17: ספורטק שלב ג' | D17: 25000000 | E17: 25000000 | F17: =D17-E17 -> 0 | G17: 12612000 | H17: 12420746 | J17: 162998.55 | K17: =SUM(I17:J17) -> 162998.55 | L17: =K17+H17 -> 12583745 | M17: =P17+S17 -> 28255.31 | N17: 5000000 | O17: =D17-L17-M17-N17 -> 7388000 | P17: =G17-L17 -> 28255.31 | S17: =SUM(Q17:R17) -> 0 | T17: =P17-M17+S17 -> 0 | U17: =N17-T17 -> 5000000 | V17: =U17-Z17-W17-Y17 -> 5000000 | AA17: עבודות מבנה קט רגל והשלמת פיתוח בשטחים "ריקים" הגובלים בפטנק ומגרשי קטרגל. | AB17: 829000
A18: =A17+1 -> 13 | B18: 1375 | C18: הקמת בריכה ומרכז לאומנויות לחימה | D18: 40150000 | E18: 40150000 | F18: =D18-E18 -> 0 | G18: 29500000 | H18: 27491254 | J18: 73394.25 | K18: =SUM(I18:J18) -> 73394.25 | L18: =K18+H18 -> 27564648 | M18: =P18+S18 -> 2585352 | O18: =D18-L18-M18-N18 -> 10000000 | P18: =G18-L18 -> 1935352 | Q18: 650000 | S18: =SUM(Q18:R18) -> 650000 | T18: =P18-M18+S18 -> 0 | U18: =N18-T18 -> 0 | V18: =U18-Y18-X18-Z18-W18 -> 0 | AA18: המשך עבודות הקמת חדרי פעילויות, בית קפה לרבות תוספת שרותים. | AB18: 747000
A19: =A18+1 -> 14 | B19: 1403 | C19: מרכז פיס לתרבות מוסיקה קהילה | D19: =31750000+4500000 -> 36250000 | E19: =31750000+4500000 -> 36250000 | F19: =D19-E19 -> 0 | G19: 36250000 | H19: 35249254 | J19: 1000738.7 | K19: =SUM(I19:J19) -> 1000738.7 | L19: =K19+H19 -> 36249993 | M19: =P19+S19 -> 6.82 | O19: =D19-L19-M19-N19 -> 0 | P19: =G19-L19 -> 6.82 | S19: =SUM(Q19:R19) -> 0 | T19: =P19-M19+S19 -> 0 | U19: =N19-T19 -> 0 | V19: =U19-Y19-X19-Z19-W19 -> 0 | AA19: הקמת מבנה תרבות כולל חדרי מחול וקונסבטוריון . מימון מפעל הפייס. לקראת סיום. | AB19: 826000
A20: =A19+1 -> 15 | B20: 1443 | C20: עבודות פינוי ומיחזור הר' 1903 | D20: 78500000 | E20: 78500000 | F20: =D20-E20 -> 0 | G20: 50840000 | H20: 50824299 | K20: =SUM(I20:J20) -> 0 | L20: =K20+H20 -> 50824299 | M20: =P20+S20 -> 15701 | O20: =D20-L20-M20-N20 -> 27660000 | P20: =G20-L20 -> 15701 | S20: =SUM(Q20:R20) -> 0 | T20: =P20-M20+S20 -> 0 | U20: =N20-T20 -> 0 | V20: =U20-Y20-X20-Z20-W20 -> 0 | AB20: 749000
A21: =A20+1 -> 16 | B21: 1446 | C21: מתחם נוריות | D21: 14250000 | E21: 14250000 | F21: =D21-E21 -> 0 | G21: 8000000 | H21: 3219669.5 | J21: 323514.64 | K21: =SUM(I21:J21) -> 323514.64 | L21: =K21+H21 -> 3543184.1 | M21: =P21+S21 -> 10706816 | O21: =D21-L21-M21-N21 -> 0 | P21: =G21-L21 -> 4456815.9 | Q21: 6250000 | S21: =SUM(Q21:R21) -> 6250000 | T21: =P21-M21+S21 -> 0 | U21: =N21-T21 -> 0 | V21: =U21-Y21-X21-Z21-W21 -> 0 | AA21: המשך עבודות פיתוח במתחם הרחובות הנוריות, אנצו סירני , דב גרונר , שלמה בן יוסף , חביבה רייך. | AB21: 742000
A22: =A21+1 -> 17 | B22: 1455 | C22: רחובות תדהר קורן ואנה פרנק | D22: 4500000 | E22: 4500000 | F22: =D22-E22 -> 0 | G22: 4500000 | H22: 3313902.7 | J22: 414522.88 | K22: =SUM(I22:J22) -> 414522.88 | L22: =K22+H22 -> 3728425.6 | M22: =P22+S22 -> 771574.42 | O22: =D22-L22-M22-N22 -> 0 | P22: =G22-L22 -> 771574.42 | S22: =SUM(Q22:R22) -> 0 | T22: =P22-M22+S22 -> 0 | U22: =N22-T22 -> 0 | V22: =U22-Y22-X22-Z22-W22 -> 0 | AA22: ממתין לחן סופי. | AB22: 742000
A23: =A22+1 -> 18 | B23: 1462 | C23: שביל צמרות ישראל (שביל האינטגרציה) | D23: 7500000 | E23: 7500000 | F23: =D23-E23 -> 0 | G23: 7500000 | H23: 3539289.7 | J23: 837250.43 | K23: =SUM(I23:J23) -> 837250.43 | L23: =K23+H23 -> 4376540.1 | M23: =P23+S23 -> 3123459.9 | O23: =D23-L23-M23-N23 -> 0 | P23: =G23-L23 -> 3123459.9 | S23: =SUM(Q23:R23) -> 0 | T23: =P23-M23+S23 -> 0 | U23: =N23-T23 -> 0 | V23: =U23-Y23-X23-Z23-W23 -> 0 | AA23: פיתוח שביל כניסה והסדרת גישה לבתים. ממתין לחן סופי. | AB23: 742000
A24: =A23+1 -> 19 | B24: 1539 | C24: רחוב בר כוכבא | D24: 16300000 | E24: 16300000 | F24: =D24-E24 -> 0 | G24: 16300000 | H24: 13561458 | I24: 54264.4 | J24: 1161823.9 | K24: =SUM(I24:J24) -> 1216088.3 | L24: =K24+H24 -> 14777546 | M24: =P24+S24 -> 1522453.8 | O24: =D24-L24-M24-N24 -> 0 | P24: =G24-L24 -> 1522453.8 | S24: =SUM(Q24:R24) -> 0 | T24: =P24-M24+S24 -> 0 | U24: =N24-T24 -> 0 | V24: =U24-Y24-X24-Z24-W24 -> 0 | AA24: פיתוח תשתיות. בשלבי סיום. | AB24: 742000
A25: =A24+1 -> 20 | B25: 1588 | C25: פיתוח מתחם אלוני ים הר' 2030 | D25: 50500000 | E25: 50500000 | F25: =D25-E25 -> 0 | G25: 32500000 | H25: 27393015 | I25: 682147.41 | J25: 1712018.5 | K25: =SUM(I25:J25) -> 2394165.9 | L25: =K25+H25 -> 29787181 | M25: =P25+S25 -> 15712819 | O25: =D25-L25-M25-N25 -> 5000000 | P25: =G25-L25 -> 2712819.3 | Q25: 13000000 | S25: =SUM(Q25:R25) -> 13000000 | T25: =P25-M25+S25 -> 0 | U25: =N25-T25 -> 0 | V25: =U25-Y25-X25-Z25-W25 -> 0 | AA25: המשך עבודות פיתוח במתחם אלוני ים הר' 2030. | AB25: 742000
A26: =A25+1 -> 21 | B26: 1614 | C26: שצ"פ רבי עקיבא דרומה (השביל הירוק) | D26: 7200000 | E26: 7200000 | F26: =D26-E26 -> 0 | G26: 7200000 | H26: 4760817.5 | J26: 915188.54 | K26: =SUM(I26:J26) -> 915188.54 | L26: =K26+H26 -> 5676006 | M26: =P26+S26 -> 1523994 | O26: =D26-L26-M26-N26 -> 0 | P26: =G26-L26 -> 1523994 | S26: =SUM(Q26:R26) -> 0 | T26: =P26-M26+S26 -> 0 | U26: =N26-T26 -> 0 | V26: =U26-Y26-X26-Z26-W26 -> 0 | AA26: המשך עבודות פיתוח שצ"פ בשכונת צמרות. ממתין לחן סופי. | AB26: 742000
A27: =A26+1 -> 22 | B27: 1615 | C27: פיתוח מתחם הר' 1903 | D27: 27700000 | E27: 27700000 | F27: =D27-E27 -> 0 | G27: 20200000 | H27: 13404494 | J27: 1724902.7 | K27: =SUM(I27:J27) -> 1724902.7 | L27: =K27+H27 -> 15129396 | M27: =P27+S27 -> 5070603.6 | N27: =7500000-3000000-500000 -> 4000000 | O27: =D27-L27-M27-N27 -> 3500000 | P27: =G27-L27 -> 5070603.6 | Q27: =7500000-7500000 -> 0 | S27: =SUM(Q27:R27) -> 0 | T27: =P27-M27+S27 -> 0 | U27: =N27-T27 -> 4000000 | V27: =U27-Y27-X27-Z27-W27 -> 4000000 | AA27: המשך עבודות פיתוח במתחם הר' 1903 הרצליה הילס. פיתוח שצ"פ מערבי. | AB27: 742000
A28: =A27+1 -> 23 | B28: 1656 | C28: פיתוח רח' אבוקה מולדת | D28: 9400000 | E28: 9400000 | F28: =D28-E28 -> 0 | G28: 9400000 | H28: 6217998.1 | J28: 220821.15 | K28: =SUM(I28:J28) -> 220821.15 | L28: =K28+H28 -> 6438819.2 | M28: =P28+S28-2700000 -> 261180.75 | O28: =D28-L28-M28-N28 -> 2700000 | P28: =G28-L28 -> 2961180.8 | S28: =SUM(Q28:R28) -> 0 | T28: =P28-M28+S28 -> 2700000 | U28: =N28-T28 -> -2700000 | V28: =U28-Y28-X28-Z28-W28 -> -2700000 | AB28: 742000
A29: =A28+1 -> 24 | B29: 1657 | C29: פיתוח מתחם "מרינה לי" | D29: 60000000 | E29: 60000000 | F29: =D29-E29 -> 0 | G29: 13700000 | H29: 5296985.9 | I29: 167189.14 | J29: 360232.04 | K29: =SUM(I29:J29) -> 527421.18 | L29: =K29+H29 -> 5824407.1 | M29: =P29+S29 -> 7875592.9 | N29: =46300000-20000000-10000000 -> 16300000 | O29: =D29-L29-M29-N29 -> 30000000 | P29: =G29-L29 -> 7875592.9 | S29: =SUM(Q29:R29) -> 0 | T29: =P29-M29+S29 -> 0 | U29: =N29-T29 -> 16300000 | V29: =U29-Y29-X29-Z29-W29 -> 14588734 | Z29: =210000+1501266 -> 1711266 | AA29: ביצוע פיתוח ותשתית במתחם "מרינה לי". מימון מ. התחבורה. | AB29: 742000
A30: =A29+1 -> 25 | B30: 1723 | C30: מרכז תחבורה חדש | D30: 17500000 | E30: 17500000 | F30: =D30-E30 -> 0 | G30: 12212460 | H30: 1426802 | J30: 40053.84 | K30: =SUM(I30:J30) -> 40053.84 | L30: =K30+H30 -> 1466855.8 | M30: =P30+S30 -> 10745604 | O30: =D30-L30-M30-N30 -> 5287540 | P30: =G30-L30 -> 10745604 | S30: =SUM(Q30:R30) -> 0 | T30: =P30-M30+S30 -> 0 | U30: =N30-T30 -> 0 | V30: =U30-Y30-X30-Z30-W30 -> 0 | AA30: הקמת מסוף תחבורה חדש , חניון ל -60 אוטובוסים , הסדרת ציר תנועה רחוב בן ציון מיכאלי. מימון מ.התחבורה.הביצוע עובר לנת"י. | AB30: 732000
A31: =A30+1 -> 26 | B31: 1751 | C31: תכנון מבנה מעונות הסטודנטים | D31: 4800000 | E31: 4800000 | F31: =D31-E31 -> 0 | G31: 4800000 | H31: 2455646 | J31: 68843.38 | K31: =SUM(I31:J31) -> 68843.38 | L31: =K31+H31 -> 2524489.4 | M31: =P31+S31 -> 2275510.6 | O31: =D31-L31-M31-N31 -> 0 | P31: =G31-L31 -> 2275510.6 | S31: =SUM(Q31:R31) -> 0 | T31: =P31-M31+S31 -> 0 | U31: =N31-T31 -> 0 | V31: =U31-Y31-X31-Z31-W31 -> 0 | AA31: תכנון מבנה מעונות לסטודנטים ברח' בן שפרוט.חשבונות סופיים.יש היתר. | AB31: 810000
A32: =A31+1 -> 27 | B32: 1765 | C32: רחוב החרש | D32: 2800000 | E32: 2800000 | F32: =D32-E32 -> 0 | G32: 2800000 | H32: 2241815.4 | J32: 79517.86 | K32: =SUM(I32:J32) -> 79517.86 | L32: =K32+H32 -> 2321333.2 | M32: =P32+S32-250000 -> 228666.78 | O32: =D32-L32-M32-N32 -> 250000 | P32: =G32-L32 -> 478666.78 | S32: =SUM(Q32:R32) -> 0 | T32: =P32-M32+S32 -> 250000 | U32: =N32-T32 -> -250000 | V32: =U32-Y32-X32-Z32-W32 -> -250000 | AA32: השלמת חיבור כניסה מכביש 2 לרח' החרש. ממתין לחן סופי. | AB32: 742000
A33: =A32+1 -> 28 | B33: 1798 | C33: מועדון פטנג בספורטק | D33: =1600000+700000 -> 2300000 | E33: 1600000 | F33: =D33-E33 -> 700000 | G33: 1600000 | H33: 1483649 | J33: 111425.85 | K33: =SUM(I33:J33) -> 111425.85 | L33: =K33+H33 -> 1595074.9 | M33: =P33+S33 -> 4925.15 | N33: 700000 | O33: =D33-L33-M33-N33 -> 0 | P33: =G33-L33 -> 4925.15 | S33: =SUM(Q33:R33) -> 0 | T33: =P33-M33+S33 -> 0 | U33: =N33-T33 -> 700000 | V33: =U33-Y33-X33-Z33-W33 -> 700000 | AA33: הקמת מבנה מועדון במגרשי הפטנג. | AB33: 829000
A34: =A33+1 -> 29 | B34: 1806 | C34: תכנון רכבת עילית איזור תעשיה | D34: 500000 | E34: 500000 | F34: =D34-E34 -> 0 | G34: 350000 | H34: 162931 | J34: 172184.22 | K34: =SUM(I34:J34) -> 172184.22 | L34: =K34+H34 -> 335115.22 | M34: =P34+S34 -> 164884.78 | O34: =D34-L34-M34-N34 -> 0 | P34: =G34-L34 -> 14884.78 | Q34: 150000 | S34: =SUM(Q34:R34) -> 150000 | T34: =P34-M34+S34 -> 0 | U34: =N34-T34 -> 0 | V34: =U34-Y34-X34-Z34-W34 -> 0 | AA34: תכנון להקמת רכבת עילית מתחנת הרכבת לאיזור התעשיה. | AB34: 732000
A35: =A34+1 -> 30 | B35: 1819 | C35: פיתוח רח' צ.ה.ל | D35: 18000000 | E35: 18000000 | F35: =D35-E35 -> 0 | G35: 9200000 | H35: 1611879.1 | J35: 153377.19 | K35: =SUM(I35:J35) -> 153377.19 | L35: =K35+H35 -> 1765256.3 | M35: =P35+S35 -> 10434744 | N35: 3800000 | O35: =D35-L35-M35-N35 -> 2000000 | P35: =G35-L35 -> 7434743.7 | Q35: =6800000-3800000 -> 3000000 | S35: =SUM(Q35:R35) -> 3000000 | T35: =P35-M35+S35 -> 0 | U35: =N35-T35 -> 3800000 | V35: =U35-Y35-X35-Z35-W35 -> 3345000 | Z35: 455000 | AA35: המשך פיתוח רחוב צ.ה.ל כולל סובה הורדת/העלאת תלמידים ליד ביה"ס. מימון מ. התחבורה. | AB35: 742000
A36: =A35+1 -> 31 | B36: 1825 | C36: בי"ס חדש "יצחק נבון" מתחם אלתרמן | D36: 39000000 | E36: 39000000 | F36: =D36-E36 -> 0 | G36: 39000000 | H36: 36409869 | J36: 2583458.1 | K36: =SUM(I36:J36) -> 2583458.1 | L36: =K36+H36 -> 38993327 | M36: =P36+S36 -> 6672.89 | O36: =D36-L36-M36-N36 -> 0 | P36: =G36-L36 -> 6672.89 | S36: =SUM(Q36:R36) -> 0 | T36: =P36-M36+S36 -> 0 | U36: =N36-T36 -> 0 | V36: =U36-Y36-X36-Z36-W36 -> 0 | AA36: המשך עבודות בניית בי"ס חדש ברחוב אלתרמן. ח-ן סופיים. | AB36: 810000
A37: =A36+1 -> 32 | B37: 1833 | C37: אולם ספורט חטיבת זאב | D37: 29000000 | E37: 29000000 | F37: =D37-E37 -> 0 | G37: 1150000 | H37: 932146 | J37: 64341.11 | K37: =SUM(I37:J37) -> 64341.11 | L37: =K37+H37 -> 996487.11 | M37: =P37+S37 -> 14003513 | N37: =14000000-7000000 -> 7000000 | O37: =D37-L37-M37-N37 -> 7000000 | P37: =G37-L37 -> 153512.89 | Q37: 13850000 | S37: =SUM(Q37:R37) -> 13850000 | T37: =P37-M37+S37 -> 0 | U37: =N37-T37 -> 7000000 | V37: =U37-Y37-X37-Z37-W37 -> 3768840 | Z37: 3231160 | AA37: בניית אולם ספורט חדש בחטיבה. בקשת מימון מ. התרבות והספורט. | AB37: 829000
A38: =A37+1 -> 33 | B38: 1834 | C38: מתנ"ס נווה ישראל | D38: 60000000 | E38: 60000000 | F38: =D38-E38 -> 0 | G38: 5100000 | H38: 1930349 | J38: 164386.35 | K38: =SUM(I38:J38) -> 164386.35 | L38: =K38+H38 -> 2094735.4 | M38: =P38+S38-18000000 -> 13505265 | N38: =18000000-2000000 -> 16000000 | O38: =D38-L38-M38-N38 -> 28400000 | P38: =G38-L38 -> 3005264.6 | Q38: 28500000 | R38: =-3000000+3000000 -> 0 | S38: =SUM(Q38:R38) -> 28500000 | T38: =P38-M38+S38 -> 18000000 | U38: =N38-T38 -> -2000000 | V38: =U38-Y38-X38-Z38-W38 -> -2000000 | AA38: בניית מתנ"ס חדש בשכונה. | AB38: 824000
A39: =A38+1 -> 34 | B39: 1835 | C39: פיתוח מתחם מתנ"ס נווה עמל ומגרשי טניס | D39: =58000000+12000000 -> 70000000 | E39: 58000000 | F39: =D39-E39 -> 12000000 | G39: 11900000 | H39: 8964400 | J39: 2333325.8 | K39: =SUM(I39:J39) -> 2333325.8 | L39: =K39+H39 -> 11297726 | M39: =P39+S39 -> 602274.19 | N39: =30000000-10000000-2000000 -> 18000000 | O39: =D39-L39-M39-N39 -> 40100000 | P39: =G39-L39 -> 602274.19 | S39: =SUM(Q39:R39) -> 0 | T39: =P39-M39+S39 -> 0 | U39: =N39-T39 -> 18000000 | V39: =U39-Y39-X39-Z39-W39 -> 18000000 | AA39: תכנון וביצוע בניית מתנ"ס חדש בשכונת נווה עמל כולל הקמת מגרש טניס ושדרוג המתחם. | AB39: 824000
A40: =A39+1 -> 35 | B40: 1836 | C40: רחבת בנין עיריה חדש | D40: 500000 | E40: 500000 | F40: =D40-E40 -> 0 | G40: 500000 | H40: 425414 | K40: =SUM(I40:J40) -> 0 | L40: =K40+H40 -> 425414 | M40: =P40+S40 -> 74586 | O40: =D40-L40-M40-N40 -> 0 | P40: =G40-L40 -> 74586 | S40: =SUM(Q40:R40) -> 0 | T40: =P40-M40+S40 -> 0 | U40: =N40-T40 -> 0 | V40: =U40-Y40-X40-Z40-W40 -> 0 | AA40: ממתין לחן סופי. | AB40: 930000
A41: =A40+1 -> 36 | B41: 1837 | C41: בית כנסת "אור זרוע"-תוס.קומה | D41: =3200000+260000 -> 3460000 | E41: =3200000+260000 -> 3460000 | F41: =D41-E41 -> 0 | G41: 3460000 | H41: 3083128 | J41: 115008.16 | K41: =SUM(I41:J41) -> 115008.16 | L41: =K41+H41 -> 3198136.2 | M41: =P41+S41 -> 261863.84 | O41: =D41-L41-M41-N41 -> 0 | P41: =G41-L41 -> 261863.84 | S41: =SUM(Q41:R41) -> 0 | T41: =P41-M41+S41 -> 0 | U41: =N41-T41 -> 0 | V41: =U41-Y41-X41-Z41-W41 -> 0 | AA41: תוספת קומה בביכנ"ס אור זרוע ברח' אבן עזרא. לקראת סיום. | AB41: 850000
A42: =A41+1 -> 37 | B42: 1845 | C42: חניונים הר'1900 -שינוי תב"ע | D42: =1500000+4500000 -> 6000000 | E42: 1500000 | F42: =D42-E42 -> 4500000 | G42: 750000 | H42: 556996 | J42: 31930.3 | K42: =SUM(I42:J42) -> 31930.3 | L42: =K42+H42 -> 588926.3 | M42: =P42+S42 -> 911073.7 | N42: =4500000-2000000 -> 2500000 | O42: =D42-L42-M42-N42 -> 2000000 | P42: =G42-L42 -> 161073.7 | Q42: 750000 | S42: =SUM(Q42:R42) -> 750000 | T42: =P42-M42+S42 -> 0 | U42: =N42-T42 -> 2500000 | V42: =U42-Y42-X42-Z42-W42 -> 2500000 | AA42: תכנון במסגרת שינוי תב"ע חניונים הר' 1900. חניונים: משכית (השלמה לתכנון מפורט), גלגלי הפלדה. | AB42: 742000
A43: =A42+1 -> 38 | B43: 1846 | C43: דיור בר השגה | D43: 500000 | E43: 500000 | F43: =D43-E43 -> 0 | G43: 500000 | H43: 328739 | K43: =SUM(I43:J43) -> 0 | L43: =K43+H43 -> 328739 | M43: =P43+S43 -> 171261 | O43: =D43-L43-M43-N43 -> 0 | P43: =G43-L43 -> 171261 | S43: =SUM(Q43:R43) -> 0 | T43: =P43-M43+S43 -> 0 | U43: =N43-T43 -> 0 | V43: =U43-Y43-X43-Z43-W43 -> 0 | AB43: 732000
A44: =A43+1 -> 39 | B44: 1872 | C44: הסדרת צומת ברנר בר כוכבא בן גוריון | D44: 1160000 | E44: 1160000 | F44: =D44-E44 -> 0 | G44: 1160000 | H44: 480996 | J44: 678998.24 | K44: =SUM(I44:J44) -> 678998.24 | L44: =K44+H44 -> 1159994.2 | M44: =P44+S44 -> 5.76 | O44: =D44-L44-M44-N44 -> 0 | P44: =G44-L44 -> 5.76 | S44: =SUM(Q44:R44) -> 0 | T44: =P44-M44+S44 -> 0 | U44: =N44-T44 -> 0 | V44: =U44-Z44-W44-Y44 -> 0 | AA44: הסדרת ניקוז בצומת הרחובות. מימון מ. התחבורה. חן סופיים. | AB44: 742000
A45: =A44+1 -> 40 | B45: 1894 | C45: בנית 3 גני ילדים (המסילה) | D45: 7100000 | E45: 7100000 | F45: =D45-E45 -> 0 | G45: 7100000 | H45: 6269033 | J45: 823004.96 | K45: =SUM(I45:J45) -> 823004.96 | L45: =K45+H45 -> 7092038 | M45: =P45+S45 -> 7962.04 | O45: =D45-L45-M45-N45 -> 0 | P45: =G45-L45 -> 7962.04 | S45: =SUM(Q45:R45) -> 0 | T45: =P45-M45+S45 -> 0 | U45: =N45-T45 -> 0 | V45: =U45-Y45-X45-Z45-W45 -> 0 | AA45: חן סופיים. | AB45: 810000
A46: =A45+1 -> 41 | B46: 1896 | C46: קירוי והצללה מגרשי ספורט עירוניים | D46: 18560000 | E46: 18560000 | F46: =D46-E46 -> 0 | G46: 4000000 | H46: 881105 | J46: 754536.83 | K46: =SUM(I46:J46) -> 754536.83 | L46: =K46+H46 -> 1635641.8 | M46: =P46+S46 -> 9964358.2 | N46: 3500000 | O46: =D46-L46-M46-N46 -> 3460000 | P46: =G46-L46 -> 2364358.2 | Q46: 7600000 | S46: =SUM(Q46:R46) -> 7600000 | T46: =P46-M46+S46 -> 0 | U46: =N46-T46 -> 3500000 | V46: =U46-Y46-X46-Z46-W46 -> 3500000 | AA46: התקנת קירוי קשיח במגרשי ספורט 2020/2021: דור, תיכון חדש, גורדון,לב טוב,נבון. | AB46: 829000
A47: =A46+1 -> 42 | B47: 1903 | C47: שיפוץ חניון לב העיר | D47: 1700000 | E47: 1700000 | F47: =D47-E47 -> 0 | G47: 1700000 | H47: 1626667 | J47: 64998.18 | K47: =SUM(I47:J47) -> 64998.18 | L47: =K47+H47 -> 1691665.2 | M47: =P47+S47 -> 8334.82 | O47: =D47-L47-M47-N47 -> 0 | P47: =G47-L47 -> 8334.82 | S47: =SUM(Q47:R47) -> 0 | T47: =P47-M47+S47 -> 0 | U47: =N47-T47 -> 0 | V47: =U47-Y47-X47-Z47-W47 -> 0 | AA47: חן סופיים. | AB47: 930000
A48: =A47+1 -> 43 | B48: 1904 | C48: קו ניקוז שער הים | D48: 5700000 | E48: 5700000 | F48: =D48-E48 -> 0 | G48: 3000000 | H48: 753917 | J48: 1804833.8 | K48: =SUM(I48:J48) -> 1804833.8 | L48: =K48+H48 -> 2558750.8 | M48: =P48+S48 -> 3141249.2 | O48: =D48-L48-M48-N48 -> 0 | P48: =G48-L48 -> 441249.23 | Q48: =3700000-1000000 -> 2700000 | S48: =SUM(Q48:R48) -> 2700000 | T48: =P48-M48+S48 -> 0 | U48: =N48-T48 -> 0 | V48: =U48-Y48-X48-Z48-W48 -> 0 | AA48: עבודות פיתוח כולל קו ניקוז רחוב שער הים. מימון תאגיד המים. | AB48: 742000
A49: =A48+1 -> 44 | B49: 1921 | C49: עבודות הרחבה התאמה איצטדיון | D49: =9276000+300000+140000 -> 9716000 | E49: 9276000 | F49: =D49-E49 -> 440000 | G49: 6820000 | H49: 3737579.5 | J49: 294083.35 | K49: =SUM(I49:J49) -> 294083.35 | L49: =K49+H49 -> 4031662.8 | M49: =P49+S49 -> 5244337.2 | N49: =300000+140000 -> 440000 | O49: =D49-L49-M49-N49 -> 0 | P49: =G49-L49 -> 2788337.2 | Q49: 2456000 | S49: =SUM(Q49:R49) -> 2456000 | T49: =P49-M49+S49 -> 0 | U49: =N49-T49 -> 440000 | V49: =U49-Y49-X49-Z49-W49 -> 1007551 | Z49: -567551 | AA49: העבודות:מבנים יבילים,הקמת טריבונות, ארונות שחקנים, עבודות בטיחות. שינוי מימון מ. הספורט בגין אי ביצוע מלתחות. | AB49: 829000
A50: =A49+1 -> 45 | B50: 1936 | C50: תכנון מתחם אפולוניה | D50: 6082795 | E50: 6082795 | F50: =D50-E50 -> 0 | G50: 700000 | H50: 313933 | K50: =SUM(I50:J50) -> 0 | L50: =K50+H50 -> 313933 | M50: =P50+S50 -> 386067 | O50: =D50-L50-M50-N50 -> 5382795 | P50: =G50-L50 -> 386067 | S50: =SUM(Q50:R50) -> 0 | T50: =P50-M50+S50 -> 0 | U50: =N50-T50 -> 0 | V50: =U50-Y50-X50-Z50-W50 -> 0 | AA50: מימון רמ"י. | AB50: 732000
A51: =A50+1 -> 46 | B51: 1953 | C51: השקעה בתשתיות והרחבת חניונים | D51: 5300000 | E51: 5300000 | F51: =D51-E51 -> 0 | G51: 5300000 | H51: 2899791 | J51: 468927.57 | K51: =SUM(I51:J51) -> 468927.57 | L51: =K51+H51 -> 3368718.6 | M51: =P51+S51 -> 1931281.4 | O51: =D51-L51-M51-N51 -> 0 | P51: =G51-L51 -> 1931281.4 | S51: =SUM(Q51:R51) -> 0 | T51: =P51-M51+S51 -> 0 | U51: =N51-T51 -> 0 | V51: =U51-Y51-X51-Z51-W51 -> 0 | AA51: השקעה בתשתיות ובמערכות מיכון בחניונים ברחבי העיר. | AB51: 742000
A52: =A51+1 -> 47 | B52: 1954 | C52: חניון המוסכים-תכנון | D52: 2000000 | E52: 2000000 | F52: =D52-E52 -> 0 | G52: 2000000 | H52: 495628 | J52: 1388926.8 | K52: =SUM(I52:J52) -> 1388926.8 | L52: =K52+H52 -> 1884554.8 | M52: =P52+S52 -> 115445.22 | O52: =D52-L52-M52-N52 -> 0 | P52: =G52-L52 -> 115445.22 | S52: =SUM(Q52:R52) -> 0 | T52: =P52-M52+S52 -> 0 | U52: =N52-T52 -> 0 | V52: =U52-Y52-X52-Z52-W52 -> 0 | AA52: המשך תכנון חניון ברח' מדינת היהודים. | AB52: 742000
A53: =A52+1 -> 48 | B53: 1955 | C53: חניון המדע תכנון | D53: 250000 | E53: 250000 | F53: =D53-E53 -> 0 | G53: 250000 | H53: 9922 | J53: 95495.4 | K53: =SUM(I53:J53) -> 95495.4 | L53: =K53+H53 -> 105417.4 | M53: =P53+S53 -> 144582.6 | O53: =D53-L53-M53-N53 -> 0 | P53: =G53-L53 -> 144582.6 | S53: =SUM(Q53:R53) -> 0 | T53: =P53-M53+S53 -> 0 | U53: =N53-T53 -> 0 | V53: =U53-Y53-X53-Z53-W53 -> 0 | AA53: המשך תכנון חניון ברח' המדע. | AB53: 742000
A54: =A53+1 -> 49 | B54: 1957 | C54: מתחם קמפוס הרצליה (יד גיורא) | D54: 60000000 | E54: 60000000 | F54: =D54-E54 -> 0 | G54: 16500000 | H54: 2599801 | J54: 1784381.5 | K54: =SUM(I54:J54) -> 1784381.5 | L54: =K54+H54 -> 4384182.5 | M54: =P54+S54-16000000 -> 10615818 | N54: =16000000-2000000 -> 14000000 | O54: =D54-L54-M54-N54 -> 31000000 | P54: =G54-L54 -> 12115818 | Q54: 14500000 | S54: =SUM(Q54:R54) -> 14500000 | T54: =P54-M54+S54 -> 16000000 | U54: =N54-T54 -> -2000000 | V54: =U54-Y54-X54-Z54-W54 -> -2000000 | AA54: הקמה של קמפוס המדעים:בי"ס להנדסאים ותיכון חדש. | AB54: 810000
A55: =A54+1 -> 50 | B55: 1972 | C55: פיתוח חורשת הפרחים | D55: 4470000 | E55: 4470000 | F55: =D55-E55 -> 0 | G55: 2470000 | H55: 997007.92 | J55: 1385901.5 | K55: =SUM(I55:J55) -> 1385901.5 | L55: =K55+H55 -> 2382909.4 | M55: =P55+S55 -> 2087090.6 | O55: =D55-L55-M55-N55 -> 0 | P55: =G55-L55 -> 87090.61 | Q55: 2000000 | S55: =SUM(Q55:R55) -> 2000000 | T55: =P55-M55+S55 -> 0 | U55: =N55-T55 -> 0 | V55: =U55-Y55-X55-Z55-W55 -> 0 | AA55: פיתוח שצ"פ בגבעת הפרחים כולל הנגשה. | AB55: 746000
A56: =A55+1 -> 51 | B56: 1991 | C56: שיפוץ הספריה נורדאו | D56: 2000000 | E56: 2000000 | F56: =D56-E56 -> 0 | G56: 100000 | H56: 86295 | J56: 13703.04 | K56: =SUM(I56:J56) -> 13703.04 | L56: =K56+H56 -> 99998.04 | M56: =P56+S56 -> 1.96 | O56: =D56-L56-M56-N56 -> 1900000 | P56: =G56-L56 -> 1.96 | S56: =SUM(Q56:R56) -> 0 | T56: =P56-M56+S56 -> 0 | U56: =N56-T56 -> 0 | V56: =U56-Y56-X56-Z56-W56 -> 0 | AB56: 823000
A57: =A56+1 -> 52 | B57: 1998 | C57: פרויקט השכרת אופניים | D57: 4630000 | E57: 4630000 | F57: =D57-E57 -> 0 | G57: 500000 | H57: 12799 | J57: 137199.82 | K57: =SUM(I57:J57) -> 137199.82 | L57: =K57+H57 -> 149998.82 | M57: =P57+S57 -> 1850001.2 | N57: 2630000 | O57: =D57-L57-M57-N57 -> 0 | P57: =G57-L57 -> 350001.18 | Q57: 1500000 | S57: =SUM(Q57:R57) -> 1500000 | T57: =P57-M57+S57 -> 0 | U57: =N57-T57 -> 2630000 | V57: =U57-Y57-X57-Z57-W57 -> 2630000 | AA57: הקמת מע.השכרת אופניים ברחבי העיר ובאיזור התעסוקה,חלק מתוכנית אב להפחתת פליטות גזי חממה.מימון מ.להגנת הסביבה. | AB57: 870000
A58: =A57+1 -> 53 | B58: 2002 | C58: הכשרת חניון העוגן | D58: 1500000 | E58: 1500000 | F58: =D58-E58 -> 0 | G58: 865000 | H58: 131418 | J58: 559648.74 | K58: =SUM(I58:J58) -> 559648.74 | L58: =K58+H58 -> 691066.74 | M58: =P58+S58 -> 808933.26 | O58: =D58-L58-M58-N58 -> 0 | P58: =G58-L58 -> 173933.26 | Q58: 635000 | S58: =SUM(Q58:R58) -> 635000 | T58: =P58-M58+S58 -> 0 | U58: =N58-T58 -> 0 | V58: =U58-Y58-X58-Z58-W58 -> 0 | AA58: הכשרת חניון העוגן במרינה לחניון בתשלום. ממתין להיתר. | AB58: 742000
A59: =A58+1 -> 54 | B59: 2008 | C59: שדרות ה - 93 הבאר | D59: 2500000 | E59: 2500000 | F59: =D59-E59 -> 0 | G59: 0 | H59: 0 | K59: =SUM(I59:J59) -> 0 | L59: =K59+H59 -> 0 | M59: =P59+S59 -> 0 | N59: =2500000-2500000 -> 0 | O59: =D59-L59-M59-N59 -> 2500000 | P59: =G59-L59 -> 0 | S59: =SUM(Q59:R59) -> 0 | T59: =P59-M59+S59 -> 0 | U59: =N59-T59 -> 0 | V59: =U59-Y59-X59-Z59-W59 -> 0 | AB59: 742000
A60: =A59+1 -> 55 | B60: 2010 | C60: יהודה הנשיא רבי עקיבא רזיאל | D60: =8000000+4900000-4900000 -> 8000000 | E60: 8000000 | F60: =D60-E60 -> 0 | G60: 500000 | H60: 0 | K60: =SUM(I60:J60) -> 0 | L60: =K60+H60 -> 0 | M60: =P60+S60 -> 500000 | N60: =12400000-12400000 -> 0 | O60: =D60-L60-M60-N60 -> 7500000 | P60: =G60-L60 -> 500000 | S60: =SUM(Q60:R60) -> 0 | T60: =P60-M60+S60 -> 0 | U60: =N60-T60 -> 0 | V60: =U60-Z60-W60-Y60 -> 0 | AA60: השלמת תכנון וביצוע פיתוח קטע הרחוב מרבי עקיבא עד דוד רזיאל. | AB60: 742000
A61: =A60+1 -> 56 | B61: 2011 | C61: תכנון חניון מרינה לי | D61: 80000000 | E61: 80000000 | F61: =D61-E61 -> 0 | G61: 0 | H61: 0 | K61: =SUM(I61:J61) -> 0 | L61: =K61+H61 -> 0 | M61: =P61+S61 -> 0 | N61: 5000000 | O61: =D61-L61-M61-N61 -> 75000000 | P61: =G61-L61 -> 0 | S61: =SUM(Q61:R61) -> 0 | T61: =P61-M61+S61 -> 0 | U61: =N61-T61 -> 5000000 | V61: =U61-Z61-W61-Y61 -> 5000000 | AA61: תכנון החניון מתחת לשצ"פ במתחם המרינה לי. | AB61: 742000
A62: =A61+1 -> 57 | B62: 2015 | C62: (3) גנ"י מדעיים באלתרמן | D62: =22500000+2500000 -> 25000000 | E62: 10500000 | F62: =D62-E62 -> 14500000 | G62: 5500000 | H62: 307009 | J62: 192991.08 | K62: =SUM(I62:J62) -> 192991.08 | L62: =K62+H62 -> 500000.08 | M62: =P62+S62-5000000 -> 4999999.9 | N62: =17000000+2500000-5000000 -> 14500000 | O62: =D62-L62-M62-N62 -> 5000000 | P62: =G62-L62 -> 4999999.9 | Q62: 5000000 | S62: =SUM(Q62:R62) -> 5000000 | T62: =P62-M62+S62 -> 5000000 | U62: =N62-T62 -> 9500000 | V62: =U62-Y62-X62-Z62-W62 -> 9500000 | AA62: עבודות בניה ופיתוח גנ"י מדעיים באלתרמן. מבנה 3 קומות ופיתוח. | AB62: 810000
A63: =A62+1 -> 58 | B63: 2016 | C63: (3) גנ"י במתחם אלתרמן | D63: 7340000 | E63: 7340000 | F63: =D63-E63 -> 0 | G63: 7340000 | H63: 6978013 | J63: 335053.92 | K63: =SUM(I63:J63) -> 335053.92 | L63: =K63+H63 -> 7313066.9 | M63: =P63+S63 -> 26933.08 | O63: =D63-L63-M63-N63 -> 0 | P63: =G63-L63 -> 26933.08 | S63: =SUM(Q63:R63) -> 0 | T63: =P63-M63+S63 -> 0 | U63: =N63-T63 -> 0 | V63: =U63-Y63-X63-Z63-W63 -> 0 | AA63: ממתין לחן סופי ותקבול מימון מ. החינוך. | AB63: 810000
A64: =A63+1 -> 59 | B64: 2017 | C64: תכנון מתנ"ס רחוב המסילה | D64: 30000000 | E64: 2000000 | F64: =D64-E64 -> 28000000 | G64: 1000000 | H64: 414448 | J64: 75628.35 | K64: =SUM(I64:J64) -> 75628.35 | L64: =K64+H64 -> 490076.35 | M64: =P64+S64 -> 1509923.6 | O64: =D64-L64-M64-N64 -> 28000000 | P64: =G64-L64 -> 509923.65 | Q64: 1000000 | S64: =SUM(Q64:R64) -> 1000000 | T64: =P64-M64+S64 -> 0 | U64: =N64-T64 -> 0 | V64: =U64-Y64-X64-Z64-W64 -> 0 | AA64: תכנון מתנ"ס ברחוב המסילה. | AB64: 824000
A65: =A64+1 -> 60 | B65: 2018 | C65: החלפת עמודי תאורה באיזור תעשיה | D65: 10000000 | E65: 10000000 | F65: =D65-E65 -> 0 | G65: 3300000 | H65: 238402 | J65: 1047120.3 | K65: =SUM(I65:J65) -> 1047120.3 | L65: =K65+H65 -> 1285522.3 | M65: =P65+S65 -> 3314477.7 | N65: =5400000-3400000 -> 2000000 | O65: =D65-L65-M65-N65 -> 3400000 | P65: =G65-L65 -> 2014477.7 | Q65: 1300000 | S65: =SUM(Q65:R65) -> 1300000 | T65: =P65-M65+S65 -> 0 | U65: =N65-T65 -> 2000000 | V65: =U65-Y65-X65-Z65-W65 -> 2000000 | AA65: מסגרת עבודות של החלפת עמודי תאורה באיזור התעשיה. | AB65: 742000
A66: =A65+1 -> 61 | B66: 2019 | C66: החלפת עמודי מחסום איזור תעשיה | D66: 1200000 | E66: 1200000 | F66: =D66-E66 -> 0 | G66: 1200000 | H66: 586398 | J66: 613598.77 | K66: =SUM(I66:J66) -> 613598.77 | L66: =K66+H66 -> 1199996.8 | M66: =P66+S66 -> 3.23 | O66: =D66-L66-M66-N66 -> 0 | P66: =G66-L66 -> 3.23 | S66: =SUM(Q66:R66) -> 0 | T66: =P66-M66+S66 -> 0 | U66: =N66-T66 -> 0 | V66: =U66-Y66-X66-Z66-W66 -> 0 | AA66: מסגרת עבודות של החלפת עמודי מחסום באיזור התעשיה. חן סופיים. | AB66: 742000
A67: =A66+1 -> 62 | B67: 2021 | C67: ביכנ"ס מקדש מלך | D67: 8200000 | E67: 8200000 | F67: =D67-E67 -> 0 | G67: 500000 | H67: 40865 | J67: 109135.4 | K67: =SUM(I67:J67) -> 109135.4 | L67: =K67+H67 -> 150000.4 | M67: =P67+S67 -> 349999.6 | O67: =D67-L67-M67-N67 -> 7700000 | P67: =G67-L67 -> 349999.6 | Q67: =2500000-2500000 -> 0 | S67: =SUM(Q67:R67) -> 0 | T67: =P67-M67+S67 -> 0 | U67: =N67-T67 -> 0 | V67: =U67-Y67-X67-Z67-W67 -> 0 | AA67: בניית ביכנ"ס ברח' מקדש מלך. תכנון. | AB67: 850000
A68: =A67+1 -> 63 | B68: 2022 | C68: הקמת אולם ספורט הנגיד הנדיב | D68: 20000000 | E68: 20000000 | F68: =D68-E68 -> 0 | G68: 2000000 | H68: 0 | J68: 97045.65 | K68: =SUM(I68:J68) -> 97045.65 | L68: =K68+H68 -> 97045.65 | M68: =P68+S68 -> 19902954 | O68: =D68-L68-M68-N68 -> 0 | P68: =G68-L68 -> 1902954.4 | Q68: 18000000 | S68: =SUM(Q68:R68) -> 18000000 | T68: =P68-M68+S68 -> 0 | U68: =N68-T68 -> 0 | V68: =U68-Y68-X68-Z68-W68 -> 0 | AA68: עבודות הקמת אולם ספורט בנגיד ובנדיב כולל הריסת אולמות ומקלט קיימים. | AB68: 829000
A69: =A68+1 -> 64 | B69: 2023 | C69: גנ"י נווה עמל ציפורן מוריה | D69: 7340000 | E69: 7340000 | F69: =D69-E69 -> 0 | G69: 3000000 | H69: 123926 | J69: 101216.5 | K69: =SUM(I69:J69) -> 101216.5 | L69: =K69+H69 -> 225142.5 | M69: =P69+S69-2660000 -> 114857.5 | O69: =D69-L69-M69-N69 -> 7000000 | P69: =G69-L69 -> 2774857.5 | Q69: =4340000-4340000 -> 0 | S69: =SUM(Q69:R69) -> 0 | T69: =P69-M69+S69 -> 2660000 | U69: =N69-T69 -> -2660000 | V69: =U69-Y69-X69-Z69-W69 -> -2660000 | AA69: בניית גנ"י בנווה עמל. חלקות בבעלות רמ"י. נדחה עד הכרת מ. החינוך והסכם חכירה רמ"י. | AB69: 810000
A70: =A69+1 -> 65 | B70: 2024 | C70: גנ"י מרכז ויצמן תמר תאנה | D70: 7340000 | E70: 7340000 | F70: =D70-E70 -> 0 | G70: 700000 | H70: 125012 | J70: 117459.94 | K70: =SUM(I70:J70) -> 117459.94 | L70: =K70+H70 -> 242471.94 | M70: =P70+S70 -> 457528.06 | N70: 6640000 | O70: =D70-L70-M70-N70 -> 0 | P70: =G70-L70 -> 457528.06 | S70: =SUM(Q70:R70) -> 0 | T70: =P70-M70+S70 -> 0 | U70: =N70-T70 -> 6640000 | V70: =U70-Y70-X70-Z70-W70 -> 6640000 | AA70: בניית גנ"י בויצמן. פינסקר פינת מנדלבלט. | AB70: 810000
A71: =A70+1 -> 66 | B71: 2025 | C71: גן ילדים מתחם זרובבל | D71: 2600000 | E71: 2600000 | F71: =D71-E71 -> 0 | G71: 1600000 | H71: 102209 | J71: 43328.59 | K71: =SUM(I71:J71) -> 43328.59 | L71: =K71+H71 -> 145537.59 | M71: =P71+S71 -> 2454462.4 | O71: =D71-L71-M71-N71 -> 0 | P71: =G71-L71 -> 1454462.4 | Q71: 1000000 | S71: =SUM(Q71:R71) -> 1000000 | T71: =P71-M71+S71 -> 0 | U71: =N71-T71 -> 0 | V71: =U71-Y71-X71-Z71-W71 -> 0 | AA71: בניית גן ילדים במתחם זרובבל. | AB71: 810000
A72: =A71+1 -> 67 | B72: 2026 | C72: גן רשל, גנ"י בבי"ס אילנות | D72: 8200000 | E72: 8200000 | F72: =D72-E72 -> 0 | G72: 4700000 | H72: 1894216 | J72: 1769986.1 | K72: =SUM(I72:J72) -> 1769986.1 | L72: =K72+H72 -> 3664202.1 | M72: =P72+S72 -> 4535797.9 | O72: =D72-L72-M72-N72 -> 0 | P72: =G72-L72 -> 1035797.9 | Q72: 3500000 | S72: =SUM(Q72:R72) -> 3500000 | T72: =P72-M72+S72 -> 0 | U72: =N72-T72 -> 0 | V72: =U72-Y72-X72-Z72-W72 -> 0 | AA72: בניית גנ"י - גן רשל ובב"ס אילנות. | AB72: 810000
A73: =A72+1 -> 68 | B73: 2051 | C73: חורשת אקליפטוסים נחלת עדה | D73: 2600000 | E73: 2600000 | F73: =D73-E73 -> 0 | G73: 400000 | H73: 64727.01 | I73: 26325 | J73: 36365.06 | K73: =SUM(I73:J73) -> 62690.06 | L73: =H73+K73 -> 127417.07 | M73: =P73+S73 -> 272582.93 | N73: =2200000-2200000 -> 0 | O73: =D73-L73-M73-N73 -> 2200000 | P73: =G73-L73 -> 272582.93 | S73: =SUM(Q73:R73) -> 0 | T73: =P73-M73+S73 -> 0 | U73: =N73-T73 -> 0 | V73: =U73-Z73-W73-Y73 -> 0 | AA73: עבר משאיפה/איכות הסביבה. | AB73: 746000
A74: =A73+1 -> 69 | B74: 2058 | C74: תוספת גלריה אולם היכל אומ.הבמה | D74: 2330000 | E74: 2330000 | F74: =D74-E74 -> 0 | G74: 130000 | H74: 21083 | J74: 103715.82 | K74: =SUM(I74:J74) -> 103715.82 | L74: =K74+H74 -> 124798.82 | M74: =P74+S74 -> 5201.18 | O74: =D74-L74-M74-N74 -> 2200000 | P74: =G74-L74 -> 5201.18 | S74: =SUM(Q74:R74) -> 0 | T74: =P74-M74+S74 -> 0 | U74: =N74-T74 -> 0 | V74: =U74-Y74-X74-Z74-W74 -> 0 | AA74: תוספת גלריה בהיכל אומנויות הבמה. בשלבי תכנון והיתר. הביצוע מתוכנן ב - 2021. | AB74: 826000
A75: =A74+1 -> 70 | B75: 2059 | C75: פיתוח מתחם מבנה משכן אומנים | D75: 2610000 | E75: 2610000 | F75: =D75-E75 -> 0 | G75: 350000 | H75: 34343 | J75: 312012.25 | K75: =SUM(I75:J75) -> 312012.25 | L75: =K75+H75 -> 346355.25 | M75: =P75+S75 -> 3644.75 | N75: 500000 | O75: =D75-L75-M75-N75 -> 1760000 | P75: =G75-L75 -> 3644.75 | S75: =SUM(Q75:R75) -> 0 | T75: =P75-M75+S75 -> 0 | U75: =N75-T75 -> 500000 | V75: =U75-Y75-X75-Z75-W75 -> 500000 | AA75: פיתוח מתחם ומבנה משכן האומנים. | AB75: 826000
A76: =A75+1 -> 71 | B76: 2064 | C76: שיפוץ אולם ספורט היובל | D76: =6417000-136000 -> 6281000 | E76: 6417000 | F76: =D76-E76 -> -136000 | G76: 864000 | H76: 804306 | J76: 21262.06 | K76: =SUM(I76:J76) -> 21262.06 | L76: =K76+H76 -> 825568.06 | M76: =P76+S76 -> 38431.94 | N76: 5417000 | O76: =D76-L76-M76-N76 -> 0 | P76: =G76-L76 -> 38431.94 | S76: =SUM(Q76:R76) -> 0 | T76: =P76-M76+S76 -> 0 | U76: =N76-T76 -> 5417000 | V76: =U76-Y76-X76-Z76-W76 -> 5417000 | AA76: שיפוץ אולם ספורט היובל כולל פיתוח המבואה והמתחם. | AB76: 829000
A77: =A76+1 -> 72 | B77: 2073 | C77: אולם ספורט ויצמן תכנון וביצוע | D77: 11350000 | E77: 11350000 | F77: =D77-E77 -> 0 | G77: 350000 | H77: 23564 | J77: 93436.2 | K77: =SUM(I77:J77) -> 93436.2 | L77: =K77+H77 -> 117000.2 | M77: =P77+S77 -> 732999.8 | N77: 10500000 | O77: =D77-L77-M77-N77 -> 0 | P77: =G77-L77 -> 232999.8 | Q77: 500000 | S77: =SUM(Q77:R77) -> 500000 | T77: =P77-M77+S77 -> 0 | U77: =N77-T77 -> 10500000 | V77: =U77-Y77-X77-Z77-W77 -> 10500000 | AA77: בניית אולם ספורט בבי"ס ויצמן. ב - 2020: ביצוע. | AB77: 829000
A78: =A77+1 -> 73 | B78: 2076 | C78: עבודות פיתוח בכנ"ס אברהם אבינו | D78: 1450000 | E78: 1450000 | F78: =D78-E78 -> 0 | G78: 250000 | H78: 10108 | J78: 239890.95 | K78: =SUM(I78:J78) -> 239890.95 | L78: =K78+H78 -> 249998.95 | M78: =P78+S78 -> 1200001.1 | O78: =D78-L78-M78-N78 -> 0 | P78: =G78-L78 -> 1.05 | Q78: 1200000 | S78: =SUM(Q78:R78) -> 1200000 | T78: =P78-M78+S78 -> 0 | U78: =N78-T78 -> 0 | V78: =U78-Y78-X78-Z78-W78 -> 0 | AA78: עבודות פיתוח ביכנ"ס "אברהם אבינו" בשכונת יד התשעה. | AB78: 850000
A79: =A78+1 -> 74 | B79: 2078 | C79: נילי - עבודות פיתוח והסדרת תנועה | D79: =2260000+1940000 -> 4200000 | E79: =2260000+1940000 -> 4200000 | F79: =D79-E79 -> 0 | G79: 150000 | H79: 0 | K79: =SUM(I79:J79) -> 0 | L79: =K79+H79 -> 0 | M79: =P79+S79 -> 1960000 | O79: =D79-L79-M79-N79 -> 2240000 | P79: =G79-L79 -> 150000 | R79: 1810000 | S79: =SUM(Q79:R79) -> 1810000 | U79: =N79-T79 -> 0 | V79: =U79-Z79-W79-Y79 -> 0 | AA79: לאור החלטת בימ"ש שהעיריה תבצע שינויים גיאומטרים וקיר. | AB79: 742000
A80: =A79+1 -> 75 | B80: 2079 | C80: שיפוץ בית הורים | D80: =500000+2000000 -> 2500000 | E80: 500000 | F80: =D80-E80 -> 2000000 | G80: 500000 | H80: 27936 | J80: 472062.82 | K80: =SUM(I80:J80) -> 472062.82 | L80: =K80+H80 -> 499998.82 | M80: =P80+S80 -> 1.18 | N80: =2000000-1000000 -> 1000000 | O80: =D80-L80-M80-N80 -> 1000000 | P80: =G80-L80 -> 1.18 | S80: =SUM(Q80:R80) -> 0 | T80: =P80-M80+S80 -> 0 | U80: =N80-T80 -> 1000000 | V80: =U80-Y80-X80-Z80-W80 -> 1000000 | AA80: תכנון עבודות שיפוץ בית ההורים ברחוב אנה פרנק. בשנת 2020 עבודות שדרוג ושיפוץ כללי. | AB80: 840000
A81: =A80+1 -> 76 | B81: 2080 | C81: הכשרת החוף הנפרד | D81: =2050000+350000 -> 2400000 | E81: 2050000 | F81: =D81-E81 -> 350000 | G81: 2050000 | H81: 1430935 | J81: 569918.3 | K81: =SUM(I81:J81) -> 569918.3 | L81: =K81+H81 -> 2000853.3 | M81: =P81+S81 -> 49146.7 | N81: 350000 | O81: =D81-L81-M81-N81 -> 0 | P81: =G81-L81 -> 49146.7 | S81: =SUM(Q81:R81) -> 0 | T81: =P81-M81+S81 -> 0 | U81: =N81-T81 -> 350000 | V81: =U81-Y81-X81-Z81-W81 -> 350000 | AA81: עבודות הכשרת החוף הנפרד, מעברים ושיפוץ כולל גשר מעבר. | AB81: 747000
A82: =A81+1 -> 77 | B82: 2097 | C82: בית ספר בן גוריון | D82: 79000000 | E82: 41000000 | F82: =D82-E82 -> 38000000 | G82: 400000 | H82: 223459 | J82: 176539.19 | K82: =SUM(I82:J82) -> 176539.19 | L82: =K82+H82 -> 399998.19 | M82: =P82+S82 -> 600001.81 | N82: =10000000-5000000 -> 5000000 | O82: =D82-L82-M82-N82 -> 73000000 | P82: =G82-L82 -> 1.81 | Q82: 600000 | S82: =SUM(Q82:R82) -> 600000 | T82: =P82-M82+S82 -> 0 | U82: =N82-T82 -> 5000000 | V82: =U82-Y82-X82-Z82-W82 -> 5000000 | AA82: תכנון שיפוץ/הריסה ובניה מחדש של בי"ס. ב - 2020: המשך תכנון. | AB82: 810000
A83: =A82+1 -> 78 | B83: 2099 | C83: סינמטק בבנין עיריה חדש | D83: 12000000 | E83: 12000000 | F83: =D83-E83 -> 0 | G83: 500000 | H83: 152277 | J83: 295121.33 | K83: =SUM(I83:J83) -> 295121.33 | L83: =K83+H83 -> 447398.33 | M83: =P83+S83-3000000 -> 2552601.7 | N83: 3000000 | O83: =D83-L83-M83-N83 -> 6000000 | P83: =G83-L83 -> 52601.67 | Q83: 5500000 | S83: =SUM(Q83:R83) -> 5500000 | T83: =P83-M83+S83 -> 3000000 | U83: =N83-T83 -> 0 | V83: =U83-Y83-X83-Z83-W83 -> 0 | AA83: הכשרת סינמטק בבניין העיריה החדש. | AB83: 826000
A84: =A83+1 -> 79 | B84: 2101 | C84: מעון לאנשים עם מוגבלויות - גליל ים ביד התשעה (*) עדכון שם | D84: 9850000 | E84: 9850000 | F84: =D84-E84 -> 0 | G84: 0 | H84: 0 | K84: =SUM(I84:J84) -> 0 | L84: =K84+H84 -> 0 | M84: =P84+S84 -> 0 | N84: 1500000 | O84: =D84-L84-M84-N84 -> 8350000 | P84: =G84-L84 -> 0 | S84: =SUM(Q84:R84) -> 0 | U84: =N84-T84 -> 1500000 | V84: =U84-Y84-X84-Z84-W84 -> 1500000 | AA84: תכנון ראשוני הקמת מעון לאנשים עם מוגבלויות ביד התשעה. | AB84: 840000
A85: =A84+1 -> 80 | B85: 2102 | C85: מועדון טלוויזיה קהילתית בשכונת צמרות | D85: 1750000 | E85: 1750000 | F85: =D85-E85 -> 0 | G85: 150000 | H85: 15453 | J85: 124222.29 | K85: =SUM(I85:J85) -> 124222.29 | L85: =K85+H85 -> 139675.29 | M85: =P85+S85 -> 1610324.7 | O85: =D85-L85-M85-N85 -> 0 | P85: =G85-L85 -> 10324.71 | Q85: 1600000 | S85: =SUM(Q85:R85) -> 1600000 | U85: =N85-T85 -> 0 | V85: =U85-Y85-X85-Z85-W85 -> 0 | AA85: הקמת מועדון טלויזיה קהילתית במרכז יום לקשיש בצמרות. | AB85: 820000
A86: =A85+1 -> 81 | B86: 2103 | C86: שדרוג המרחב הציבורי באיזור התעשיה | D86: 2500000 | E86: 2500000 | F86: =D86-E86 -> 0 | G86: 350000 | H86: 0 | K86: =SUM(I86:J86) -> 0 | L86: =K86+H86 -> 0 | M86: =P86+S86 -> 1000000 | N86: =1850000-350000-1000000 -> 500000 | O86: =D86-L86-M86-N86 -> 1000000 | P86: =G86-L86 -> 350000 | Q86: =2150000-1500000 -> 650000 | S86: =SUM(Q86:R86) -> 650000 | U86: =N86-T86 -> 500000 | W86: =U86-V86 -> 500000 | AA86: סל עבודות לשדרוג במרחב הציבורי כולל ריהוט רחוב באיזור התעשיה. | AB86: 848000
A87: =A86+1 -> 82 | B87: 2104 | C87: החלפת קו ניקוז בדוד המלך | D87: 3500000 | E87: 18500000 | F87: =D87-E87 -> -15000000 | G87: 0 | H87: 0 | K87: =SUM(I87:J87) -> 0 | L87: =K87+H87 -> 0 | M87: =P87+S87 -> 0 | N87: =3500000-1000000 -> 2500000 | O87: =D87-L87-M87-N87 -> 1000000 | P87: =G87-L87 -> 0 | S87: =SUM(Q87:R87) -> 0 | T87: =P87-M87+S87 -> 0 | U87: =N87-T87 -> 2500000 | V87: =U87-Z87-W87-Y87 -> 2500000 | AA87: הגדלת קו הניקוז ברח' דוד המלך בקטע קרן היסוד - מדינת היהודים בתאום עם עבודות מים וביוב של תאגיד המים. | AB87: 742000
A88: =A87+1 -> 83 | B88: 2106 | C88: אוצר הצמחים ,הראשונים ואבן אודם | D88: 15000000 | E88: 15000000 | F88: =D88-E88 -> 0 | G88: 0 | H88: 0 | K88: =SUM(I88:J88) -> 0 | L88: =K88+H88 -> 0 | M88: =P88+S88 -> 0 | N88: =7500000-7500000 -> 0 | O88: =D88-L88-M88-N88 -> 15000000 | P88: =G88-L88 -> 0 | S88: =SUM(Q88:R88) -> 0 | T88: =P88-M88+S88 -> 0 | U88: =N88-T88 -> 0 | V88: =U88-Z88-W88-Y88 -> 0 | AA88: פיתוח מתחם הרחובות אוצר הצמחים, אבן אודם, הראשונים. | AB88: 742000
A89: =A88+1 -> 84 | B89: 2108 | C89: תכנון שצ"פים במתחם הר' 1960 | D89: 14100000 | E89: 14100000 | F89: =D89-E89 -> 0 | G89: 0 | H89: 0 | K89: 0 | L89: =H89+K89 -> 0 | M89: =P89+S89 -> 0 | N89: 1200000 | O89: =D89-L89-M89-N89 -> 12900000 | P89: =G89-L89 -> 0 | S89: =SUM(Q89:R89) -> 0 | T89: =P89-M89+S89 -> 0 | U89: 1200000 | V89: =U89-Z89-W89-Y89 -> 1200000 | AA89: תכנון שצ"פים במתחם הר' 1960 : קורן,דן שומרון ,דורי ומשה שמיר. עבר מהנדסה. | AB89: 746000
A90: =A89+1 -> 85 | B90: 2109 | C90: רחוב הפרטיזנים | D90: 2000000 | E90: 2000000 | F90: =D90-E90 -> 0 | G90: 0 | H90: 0 | K90: 0 | L90: =H90+K90 -> 0 | M90: =P90+S90 -> 0 | O90: =D90-L90-M90-N90 -> 2000000 | P90: =G90-L90 -> 0 | S90: =SUM(Q90:R90) -> 0 | T90: =P90-M90+S90 -> 0 | U90: =N90-T90 -> 0 | V90: =U90-Z90-W90-Y90 -> 0 | AA90: תכנון פיתוח רחוב הפרטיזנים. עבר מהנדסה. | AB90: 742000
A91: =A90+1 -> 86 | B91: 2110 | C91: שיכון דרום הר' 2312 | D91: 16000000 | E91: 16000000 | F91: =D91-E91 -> 0 | G91: 0 | H91: 0 | K91: =SUM(I91:J91) -> 0 | L91: =K91+H91 -> 0 | M91: =P91+S91 -> 0 | O91: =D91-L91-M91-N91 -> 16000000 | P91: =G91-L91 -> 0 | S91: =SUM(Q91:R91) -> 0 | T91: =P91-M91+S91 -> 0 | U91: =N91-T91 -> 0 | V91: =U91-Z91-W91-Y91 -> 0 | AA91: תכנון פיתוח מתחם שיכון דרום. | AB91: 742000
A92: =A91+1 -> 87 | B92: 2111 | C92: הר מירון בר כוכבא הר' 2266 | D92: 10240000 | E92: 10240000 | F92: =D92-E92 -> 0 | G92: 0 | H92: 0 | K92: 0 | L92: =H92+K92 -> 0 | M92: =P92+S92 -> 0 | O92: =D92-L92-M92-N92 -> 10240000 | P92: =G92-L92 -> 0 | S92: =SUM(Q92:R92) -> 0 | T92: =P92-M92+S92 -> 0 | U92: =N92-T92 -> 0 | V92: =U92-Z92-W92-Y92 -> 0 | AA92: תכנון פיתוח הרחובות הר מירון בר כוכבא בעקבות אישור תוכנית התחדשות עירונית. עבר מהנדסה. | AB92: 742000
A93: =A92+1 -> 88 | B93: 2115 | C93: תוכנית מתאר איזור התעסוקה הר/2440 | D93: 3100000 | E93: 3100000 | F93: =D93-E93 -> 0 | G93: 500000 | H93: 0 | K93: =SUM(I93:J93) -> 0 | L93: =K93+H93 -> 0 | M93: =P93+S93 -> 500000 | N93: =2600000-1100000 -> 1500000 | O93: =D93-L93-M93-N93 -> 1100000 | P93: =G93-L93 -> 500000 | S93: =SUM(Q93:R93) -> 0 | T93: =P93-M93+S93 -> 0 | U93: =N93-T93 -> 1500000 | V93: =U93-Z93-W93-Y93 -> 1500000 | AA93: הפיכת תוכנית אסטרטגית לתוכנית סטטוטורית, לתוכנית מתאר בועדה המחוזית בהתאם ליו"ר הועדה המחוזית. | AB93: 732000
A94: =A93+1 -> 89 | B94: 2118 | C94: שצ"פ דליה רביקוביץ בשכונת אלתרמן (הר/1920) | D94: 1800000 | E94: 1800000 | F94: =D94-E94 -> 0 | G94: 100000 | H94: 0 | K94: =SUM(I94:J94) -> 0 | L94: =H94+K94 -> 0 | M94: =P94+S94 -> 100000 | N94: 1700000 | O94: =D94-L94-M94-N94 -> 0 | P94: =G94-L94 -> 100000 | S94: =SUM(Q94:R94) -> 0 | T94: =P94-M94+S94 -> 0 | U94: =N94-T94 -> 1700000 | V94: =U94-Z94-W94-Y94 -> 1700000 | AA94: ביצוע שצ"פ בקטע רח' דליה רביקוביץ פינת אסתר רהב. עבר מהנדסה. | AB94: 746000
A95: =A94+1 -> 90 | B95: 2122 | C95: צומת הרב גורן מוהליבר - בטיחות | D95: 300000 | E95: 300000 | F95: =D95-E95 -> 0 | G95: 300000 | H95: 0 | K95: =SUM(I95:J95) -> 0 | L95: =H95+K95 -> 0 | M95: =P95+S95 -> 300000 | O95: =D95-L95-M95-N95 -> 0 | P95: =G95-L95 -> 300000 | U95: =N95-T95 -> 0 | V95: =U95-Z95-W95-Y95 -> 0 | AA95: תכנון צומת הרב גורן מוהליבר עקב ריבוי תאונות דרכים עפ"י נתוני הרלב"ד. מימון מ. התחבורה. עבר מהנדסה. | AB95: 742000
A96: =A95+1 -> 91 | B96: 2126 | C96: כיכר העוגן השונית | D96: 1375000 | E96: 1375000 | F96: =D96-E96 -> 0 | G96: 0 | H96: 0 | K96: =SUM(I96:J96) -> 0 | L96: =H96+K96 -> 0 | M96: =P96+S96 -> 0 | N96: 1375000 | O96: =D96-L96-M96-N96 -> 0 | P96: =G96-L96 -> 0 | S96: =SUM(Q96:R96) -> 0 | T96: =P96-M96+S96 -> 0 | U96: =N96-T96 -> 1375000 | V96: =U96-Z96-W96-Y96 -> 473755 | Z96: 901245 | AA96: מימון מ. התחבורה. עבר מהנדסה. | AB96: 742000
A97: =A96+1 -> 92 | B97: 2127 | C97: הגנה על מצוקי הים | D97: 1000000 | E97: 1000000 | F97: =D97-E97 -> 0 | G97: 250000 | H97: 0 | K97: =SUM(I97:J97) -> 0 | L97: =K97+H97 -> 0 | M97: =P97+S97 -> 1000000 | O97: =D97-L97-M97-N97 -> 0 | P97: =G97-L97 -> 250000 | R97: 750000 | S97: =SUM(Q97:R97) -> 750000 | T97: =P97-M97+S97 -> 0 | U97: =N97-T97 -> 0 | V97: =U97-Z97-W97-Y97 -> 0 | AA97: גיבוש תוכנית פעולות לעבודות הגנה על מצוקי חופי הים . ב - 2020 תכנון. בהמשך הביצוע במימון חלקי של מ. הפנים. | AB97: 732000
A98: =A97+1 -> 93 | B98: 2130 | C98: עיצוב חצר לימודית בי"ס גורדון | D98: 500000 | E98: 500000 | F98: =D98-E98 -> 0 | G98: 0 | H98: 0 | K98: =SUM(I98:J98) -> 0 | L98: =K98+H98 -> 0 | M98: =P98+S98 -> 500000 | O98: =D98-L98-M98-N98 -> 0 | P98: =G98-L98 -> 0 | R98: 500000 | S98: =SUM(Q98:R98) -> 500000 | T98: =P98-M98+S98 -> 0 | U98: =N98-T98 -> 0 | V98: =U98-Z98-W98-Y98 -> 0 | AA98: עיצוב חצר לימודית בי"ס גורדון. מימון חלקי מ. החינוך. | AB98: 732000
A99: =A98+1 -> 94 | B99: 2147 | C99: השלמת 6 כיתות בנבון | D99: 5030000 | F99: =D99-E99 -> 5030000 | N99: =5030000-1000000 -> 4030000 | O99: =D99-L99-M99-N99 -> 1000000 | U99: =N99-T99 -> 4030000 | V99: =U99-Z99-W99-Y99 -> 4030000 | AA99: הוספת 6 כיתות כולל מיקלוט במתחם בי"ס נבון. הצטיידות בחינוך. | AB99: 810000
A100: =A99+1 -> 95 | B100: 2148 | C100: מתקן חניה עילי בספיר | D100: 1200000 | F100: =D100-E100 -> 1200000 | N100: 1200000 | O100: =D100-L100-M100-N100 -> 0 | U100: =N100-T100 -> 1200000 | V100: =U100-Z100-W100-Y100 -> 1200000 | AA100: הקמת מתקן חניה עילי בחניון ספיר. | AB100: 742000
A101: =A100+1 -> 96 | B101: 2149 | C101: גנ"י חדשים | D101: 30000000 | F101: =D101-E101 -> 30000000 | N101: 2000000 | O101: =D101-L101-M101-N101 -> 28000000 | U101: =N101-T101 -> 2000000 | V101: =U101-Z101-W101-Y101 -> 2000000 | AA101: מתחמים (2) בשז"ר ומתחמים (2) באיזור לב טוב. כל מתחם 3 גנ"י. לפי אומדן של 7.5 מלשח למתחם. ב - 2020 תכנון. | AB101: 810000
A102: =A101+1 -> 97 | B102: 2150 | C102: חורשת האקליפטוסים במתחם הר 1960 | D102: 3500000 | F102: =D102-E102 -> 3500000 | N102: 3500000 | O102: =D102-L102-M102-N102 -> 0 | U102: =N102-T102 -> 3500000 | V102: =U102-Z102-W102-Y102 -> 3500000 | AA102: ביצוע שצ"פ מלכי יהודה (האקליפטוס) תב"ע 1960. עבר מהנדסה. | AB102: 746000
A103: =A102+1 -> 98 | B103: 2151 | C103: מתחם בזק | D103: 2000000 | F103: =D103-E103 -> 2000000 | N103: 2000000 | O103: =D103-L103-M103-N103 -> 0 | U103: =N103-T103 -> 2000000 | V103: =U103-Z103-W103-Y103 -> 2000000 | AA103: תכנון ראשוני של פיתוח מתחם "בזק". | AB103: 742000
...

Sheet תקציב החברה לפיתוח 2020 תאור
A2: החברה לפיתוח הרצליה
A4: מס' סידורי | B4: מס' תב"ר | C4: שם תב"ר | D4: אומדן כולל לפרוקט | E4: אומדן מאושר במועצה | F4: תוספת לאומדן לאישור המועצה | G4: תקציב מאושר | H4: ביצוע בפועל | I4: שריון מערך חוזים | J4: שריון מערך רכש | K4: סה"כ שריון התחייבויות | L4: סה"כ ביצוע | M4: יתרה לביצוע צפוי עד 31.12.2019 | N4: אומדן לביצוע שנת 2020 | O4: אומדן לביצוע שנת 2021 ואילך | P4: יתרת תקציב | Q4: תקציב נוסף נדרש במסגרת תוכנית עבודה 2019 | R4: תקציב נוסף נדרש מעבר לתוכנית עבודה 2019 | S4: סה"כ תקציב נוסף נדרש 2019 | T4: יתרת תקציב פנויה 31.12.2019 | U4: תקציב נדרש 2020 | V4: קרן עבודות פיתוח | W4: קרן עודפי תקציב רגיל | X4: קרן רכוש | Y4: קרן ייעודית | Z4: אחרים | AA4: תאור הפרויקט | AB4: פרק תב"ר
A6: =A5+1 -> 1 | B6: ='תקציב החברה לפיתוח 2020'!B6 -> 382 | C6: ='תקציב החברה לפיתוח 2020'!C6 -> מערכת כבישים באזור תעשייה מערבי | D6: ='תקציב החברה לפיתוח 2020'!D6 -> 72881330 | E6: ='תקציב החברה לפיתוח 2020'!E6 -> 72881330 | F6: ='תקציב החברה לפיתוח 2020'!F6 -> 0 | G6: ='תקציב החברה לפיתוח 2020'!G6 -> 49881330 | H6: ='תקציב החברה לפיתוח 2020'!H6 -> 46168828 | I6: ='תקציב החברה לפיתוח 2020'!I6 -> 0 | ... AB6: ='תקציב החברה לפיתוח 2020'!AB6 -> 742000
A7: =A6+1 -> 2 | B7: ='תקציב החברה לפיתוח 2020'!B7 -> 532 | C7: ='תקציב החברה לפיתוח 2020'!C7 -> פיתוח מתחם המסילה ודב הוז | D7: ='תקציב החברה לפיתוח 2020'!D7 -> 80090000 | E7: ='תקציב החברה לפיתוח 2020'!E7 -> 80090000 | F7: ='תקציב החברה לפיתוח 2020'!F7 -> 0 | G7: ='תקציב החברה לפיתוח 2020'!G7 -> 80090000 | H7: ='תקציב החברה לפיתוח 2020'!H7 -> 73098365 | I7: ='תקציב החברה לפיתוח 2020'!I7 -> 0 | ... AB7: ='תקציב החברה לפיתוח 2020'!AB7 -> 742000
A8: =A7+1 -> 3 | B8: ='תקציב החברה לפיתוח 2020'!B8 -> 576 | C8: ='תקציב החברה לפיתוח 2020'!C8 -> בית העלמין החדש | D8: ='תקציב החברה לפיתוח 2020'!D8 -> 58113000 | E8: ='תקציב החברה לפיתוח 2020'!E8 -> 55113000 | F8: ='תקציב החברה לפיתוח 2020'!F8 -> 3000000 | G8: ='תקציב החברה לפיתוח 2020'!G8 -> 55113000 | H8: ='תקציב החברה לפיתוח 2020'!H8 -> 47204086 | I8: ='תקציב החברה לפיתוח 2020'!I8 -> 0 | ... AB8: ='תקציב החברה לפיתוח 2020'!AB8 -> 760000
A9: =A8+1 -> 4 | B9: ='תקציב החברה לפיתוח 2020'!B9 -> 634 | C9: ='תקציב החברה לפיתוח 2020'!C9 -> מתחם המשתלה תב"ע 1874 | D9: ='תקציב החברה לפיתוח 2020'!D9 -> 56350000 | E9: ='תקציב החברה לפיתוח 2020'!E9 -> 57250000 | F9: ='תקציב החברה לפיתוח 2020'!F9 -> -900000 | G9: ='תקציב החברה לפיתוח 2020'!G9 -> 56350000 | H9: ='תקציב החברה לפיתוח 2020'!H9 -> 55240944 | I9: ='תקציב החברה לפיתוח 2020'!I9 -> 0 | ... AB9: ='תקציב החברה לפיתוח 2020'!AB9 -> 732000
A10: =A9+1 -> 5 | B10: ='תקציב החברה לפיתוח 2020'!B10 -> 1067 | C10: ='תקציב החברה לפיתוח 2020'!C10 -> עבודות פיתוח קטנות | D10: ='תקציב החברה לפיתוח 2020'!D10 -> 3975000 | E10: ='תקציב החברה לפיתוח 2020'!E10 -> 3725000 | F10: ='תקציב החברה לפיתוח 2020'!F10 -> 250000 | G10: ='תקציב החברה לפיתוח 2020'!G10 -> 3725000 | H10: ='תקציב החברה לפיתוח 2020'!H10 -> 2800272.4 | I10: ='תקציב החברה לפיתוח 2020'!I10 -> 0 | ... AB10: ='תקציב החברה לפיתוח 2020'!AB10 -> 742000
A11: =A10+1 -> 6 | B11: ='תקציב החברה לפיתוח 2020'!B11 -> 1207 | C11: ='תקציב החברה לפיתוח 2020'!C11 -> מתחם זרובבל | D11: ='תקציב החברה לפיתוח 2020'!D11 -> 50650000 | E11: ='תקציב החברה לפיתוח 2020'!E11 -> 50650000 | F11: ='תקציב החברה לפיתוח 2020'!F11 -> 0 | G11: ='תקציב החברה לפיתוח 2020'!G11 -> 35650000 | H11: ='תקציב החברה לפיתוח 2020'!H11 -> 20936336 | I11: ='תקציב החברה לפיתוח 2020'!I11 -> 0 | ... AB11: ='תקציב החברה לפיתוח 2020'!AB11 -> 742000
A12: =A11+1 -> 7 | B12: ='תקציב החברה לפיתוח 2020'!B12 -> 1238 | C12: ='תקציב החברה לפיתוח 2020'!C12 -> כצלנסון-פיתוח | D12: ='תקציב החברה לפיתוח 2020'!D12 -> 32940000 | E12: ='תקציב החברה לפיתוח 2020'!E12 -> 32940000 | F12: ='תקציב החברה לפיתוח 2020'!F12 -> 0 | G12: ='תקציב החברה לפיתוח 2020'!G12 -> 26440000 | H12: ='תקציב החברה לפיתוח 2020'!H12 -> 25492352 | I12: ='תקציב החברה לפיתוח 2020'!I12 -> 0 | ... AB12: ='תקציב החברה לפיתוח 2020'!AB12 -> 742000
A13: =A12+1 -> 8 | B13: ='תקציב החברה לפיתוח 2020'!B13 -> 1298 | C13: ='תקציב החברה לפיתוח 2020'!C13 -> תכנונים כלליים | D13: ='תקציב החברה לפיתוח 2020'!D13 -> 4600000 | E13: ='תקציב החברה לפיתוח 2020'!E13 -> 4600000 | F13: ='תקציב החברה לפיתוח 2020'!F13 -> 0 | G13: ='תקציב החברה לפיתוח 2020'!G13 -> 4100000 | H13: ='תקציב החברה לפיתוח 2020'!H13 -> 3769560.9 | I13: ='תקציב החברה לפיתוח 2020'!I13 -> 0 | ... AB13: ='תקציב החברה לפיתוח 2020'!AB13 -> 742000
A14: =A13+1 -> 9 | B14: ='תקציב החברה לפיתוח 2020'!B14 -> 1312 | C14: ='תקציב החברה לפיתוח 2020'!C14 -> השלמת מבנה העיריה החדש | D14: ='תקציב החברה לפיתוח 2020'!D14 -> 109500000 | E14: ='תקציב החברה לפיתוח 2020'!E14 -> 109500000 | F14: ='תקציב החברה לפיתוח 2020'!F14 -> 0 | G14: ='תקציב החברה לפיתוח 2020'!G14 -> 109500000 | H14: ='תקציב החברה לפיתוח 2020'!H14 -> 1.0314408e+08 | I14: ='תקציב החברה לפיתוח 2020'!I14 -> 0 | ... AB14: ='תקציב החברה לפיתוח 2020'!AB14 -> 930000
A15: =A14+1 -> 10 | B15: ='תקציב החברה לפיתוח 2020'!B15 -> 1314 | C15: ='תקציב החברה לפיתוח 2020'!C15 -> רח' גבעת החלומות פיתוח | D15: ='תקציב החברה לפיתוח 2020'!D15 -> 3200000 | E15: ='תקציב החברה לפיתוח 2020'!E15 -> 3200000 | F15: ='תקציב החברה לפיתוח 2020'!F15 -> 0 | G15: ='תקציב החברה לפיתוח 2020'!G15 -> 400000 | H15: ='תקציב החברה לפיתוח 2020'!H15 -> 359314.49 | I15: ='תקציב החברה לפיתוח 2020'!I15 -> 0 | ... AB15: ='תקציב החברה לפיתוח 2020'!AB15 -> 742000
A16: =A15+1 -> 11 | B16: ='תקציב החברה לפיתוח 2020'!B16 -> 1322 | C16: ='תקציב החברה לפיתוח 2020'!C16 -> מתחם נוף ים פיתוח | D16: ='תקציב החברה לפיתוח 2020'!D16 -> 18500000 | E16: ='תקציב החברה לפיתוח 2020'!E16 -> 18500000 | F16: ='תקציב החברה לפיתוח 2020'!F16 -> 0 | G16: ='תקציב החברה לפיתוח 2020'!G16 -> 10850000 | H16: ='תקציב החברה לפיתוח 2020'!H16 -> 9625168.6 | I16: ='תקציב החברה לפיתוח 2020'!I16 -> 92414.99 | ... AB16: ='תקציב החברה לפיתוח 2020'!AB16 -> 742000
A17: =A16+1 -> 12 | B17: ='תקציב החברה לפיתוח 2020'!B17 -> 1357 | C17: ='תקציב החברה לפיתוח 2020'!C17 -> ספורטק שלב ג' | D17: ='תקציב החברה לפיתוח 2020'!D17 -> 25000000 | E17: ='תקציב החברה לפיתוח 2020'!E17 -> 25000000 | F17: ='תקציב החברה לפיתוח 2020'!F17 -> 0 | G17: ='תקציב החברה לפיתוח 2020'!G17 -> 12612000 | H17: ='תקציב החברה לפיתוח 2020'!H17 -> 12420746 | I17: ='תקציב החברה לפיתוח 2020'!I17 -> 0 | ... AB17: ='תקציב החברה לפיתוח 2020'!AB17 -> 829000
... A83: =A82+1 -> 78 | B83: ='תקציב החברה לפיתוח 2020'!B83 -> 2099 | C83: ='תקציב החברה לפיתוח 2020'!C83 -> סינמטק בבנין עיריה חדש | D83: ='תקציב החברה לפיתוח 2020'!D83 -> 12000000 | E83: ='תקציב החברה לפיתוח 2020'!E83 -> 12000000 | F83: ='תקציב החברה לפיתוח 2020'!F83 -> 0 | G83: ='תקציב החברה לפיתוח 2020'!G83 -> 500000 | H83: ='תקציב החברה לפיתוח 2020'!H83 -> 152277 | I83: ='תקציב החברה לפיתוח 2020'!I83 -> 0 | ... AB83: ='תקציב החברה לפיתוח 2020'!AB83 -> 826000
A84: =A83+1 -> 79 | B84: ='תקציב החברה לפיתוח 2020'!B84 -> 2101 | C84: מעון לאנשים עם מוגבלויות - גליל ים ביד התשעה (*) עדכון שם | D84: ='תקציב החברה לפיתוח 2020'!D84 -> 9850000 | E84: ='תקציב החברה לפיתוח 2020'!E84 -> 9850000 | F84: ='תקציב החברה לפיתוח 2020'!F84 -> 0 | G84: ='תקציב החברה לפיתוח 2020'!G84 -> 0 | H84: ='תקציב החברה לפיתוח 2020'!H84 -> 0 | I84: ='תקציב החברה לפיתוח 2020'!I84 -> 0 | J84: ='תקציב החברה לפיתוח 2020'!J84 -> 0 | K84: ='תקציב החברה לפיתוח 2020'!K84 -> 0 | ... AB84: ='תקציב החברה לפיתוח 2020'!AB84 -> 840000
A85: =A84+1 -> 80 | B85: ='תקציב החברה לפיתוח 2020'!B85 -> 2102 | C85: ='תקציב החברה לפיתוח 2020'!C85 -> מועדון טלוויזיה קהילתית בשכונת צמרות | D85: ='תקציב החברה לפיתוח 2020'!D85 -> 1750000 | E85: ='תקציב החברה לפיתוח 2020'!E85 -> 1750000 | F85: ='תקציב החברה לפיתוח 2020'!F85 -> 0 | G85: ='תקציב החברה לפיתוח 2020'!G85 -> 150000 | H85: ='תקציב החברה לפיתוח 2020'!H85 -> 15453 | I85: ='תקציב החברה לפיתוח 2020'!I85 -> 0 | ... AB85: ='תקציב החברה לפיתוח 2020'!AB85 -> 820000
A86: =A85+1 -> 81 | B86: ='תקציב החברה לפיתוח 2020'!B86 -> 2103 | C86: ='תקציב החברה לפיתוח 2020'!C86 -> שדרוג המרחב הציבורי באיזור התעשיה | D86: ='תקציב החברה לפיתוח 2020'!D86 -> 2500000 | E86: ='תקציב החברה לפיתוח 2020'!E86 -> 2500000 | F86: ='תקציב החברה לפיתוח 2020'!F86 -> 0 | G86: ='תקציב החברה לפיתוח 2020'!G86 -> 350000 | H86: ='תקציב החברה לפיתוח 2020'!H86 -> 0 | I86: ='תקציב החברה לפיתוח 2020'!I86 -> 0 | ... AB86: ='תקציב החברה לפיתוח 2020'!AB86 -> 848000
A87: =A86+1 -> 82 | B87: ='תקציב החברה לפיתוח 2020'!B87 -> 2104 | C87: ='תקציב החברה לפיתוח 2020'!C87 -> החלפת קו ניקוז בדוד המלך | D87: ='תקציב החברה לפיתוח 2020'!D87 -> 3500000 | E87: ='תקציב החברה לפיתוח 2020'!E87 -> 18500000 | F87: ='תקציב החברה לפיתוח 2020'!F87 -> -15000000 | G87: ='תקציב החברה לפיתוח 2020'!G87 -> 0 | H87: ='תקציב החברה לפיתוח 2020'!H87 -> 0 | I87: ='תקציב החברה לפיתוח 2020'!I87 -> 0 | ... AB87: ='תקציב החברה לפיתוח 2020'!AB87 -> 742000
A88: =A87+1 -> 83 | B88: ='תקציב החברה לפיתוח 2020'!B88 -> 2106 | C88: ='תקציב החברה לפיתוח 2020'!C88 -> אוצר הצמחים ,הראשונים ואבן אודם | D88: ='תקציב החברה לפיתוח 2020'!D88 -> 15000000 | E88: ='תקציב החברה לפיתוח 2020'!E88 -> 15000000 | F88: ='תקציב החברה לפיתוח 2020'!F88 -> 0 | G88: ='תקציב החברה לפיתוח 2020'!G88 -> 0 | H88: ='תקציב החברה לפיתוח 2020'!H88 -> 0 | I88: ='תקציב החברה לפיתוח 2020'!I88 -> 0 | ... AB88: ='תקציב החברה לפיתוח 2020'!AB88 -> 742000
A89: =A88+1 -> 84 | B89: ='תקציב החברה לפיתוח 2020'!B89 -> 2108 | C89: ='תקציב החברה לפיתוח 2020'!C89 -> תכנון שצ"פים במתחם הר' 1960 | D89: ='תקציב החברה לפיתוח 2020'!D89 -> 14100000 | E89: ='תקציב החברה לפיתוח 2020'!E89 -> 14100000 | F89: ='תקציב החברה לפיתוח 2020'!F89 -> 0 | G89: ='תקציב החברה לפיתוח 2020'!G89 -> 0 | H89: ='תקציב החברה לפיתוח 2020'!H89 -> 0 | I89: ='תקציב החברה לפיתוח 2020'!I89 -> 0 | ... AB89: ='תקציב החברה לפיתוח 2020'!AB89 -> 746000
A90: =A89+1 -> 85 | B90: ='תקציב החברה לפיתוח 2020'!B90 -> 2109 | C90: ='תקציב החברה לפיתוח 2020'!C90 -> רחוב הפרטיזנים | D90: ='תקציב החברה לפיתוח 2020'!D90 -> 2000000 | E90: ='תקציב החברה לפיתוח 2020'!E90 -> 2000000 | F90: ='תקציב החברה לפיתוח 2020'!F90 -> 0 | G90: ='תקציב החברה לפיתוח 2020'!G90 -> 0 | H90: ='תקציב החברה לפיתוח 2020'!H90 -> 0 | I90: ='תקציב החברה לפיתוח 2020'!I90 -> 0 | ... AB90: ='תקציב החברה לפיתוח 2020'!AB90 -> 742000
A91: =A90+1 -> 86 | B91: ='תקציב החברה לפיתוח 2020'!B91 -> 2110 | C91: ='תקציב החברה לפיתוח 2020'!C91 -> שיכון דרום הר' 2312 | D91: ='תקציב החברה לפיתוח 2020'!D91 -> 16000000 | E91: ='תקציב החברה לפיתוח 2020'!E91 -> 16000000 | F91: ='תקציב החברה לפיתוח 2020'!F91 -> 0 | G91: ='תקציב החברה לפיתוח 2020'!G91 -> 0 | H91: ='תקציב החברה לפיתוח 2020'!H91 -> 0 | I91: ='תקציב החברה לפיתוח 2020'!I91 -> 0 | ... AB91: ='תקציב החברה לפיתוח 2020'!AB91 -> 742000
A92: =A91+1 -> 87 | B92: ='תקציב החברה לפיתוח 2020'!B92 -> 2111 | C92: ='תקציב החברה לפיתוח 2020'!C92 -> הר מירון בר כוכבא הר' 2266 | D92: ='תקציב החברה לפיתוח 2020'!D92 -> 10240000 | E92: ='תקציב החברה לפיתוח 2020'!E92 -> 10240000 | F92: ='תקציב החברה לפיתוח 2020'!F92 -> 0 | G92: ='תקציב החברה לפיתוח 2020'!G92 -> 0 | H92: ='תקציב החברה לפיתוח 2020'!H92 -> 0 | I92: ='תקציב החברה לפיתוח 2020'!I92 -> 0 | ... AB92: ='תקציב החברה לפיתוח 2020'!AB92 -> 742000
A93: =A92+1 -> 88 | B93: ='תקציב החברה לפיתוח 2020'!B93 -> 2115 | C93: ='תקציב החברה לפיתוח 2020'!C93 -> תוכנית מתאר איזור התעסוקה הר/2440 | D93: ='תקציב החברה לפיתוח 2020'!D93 -> 3100000 | E93: ='תקציב החברה לפיתוח 2020'!E93 -> 3100000 | F93: ='תקציב החברה לפיתוח 2020'!F93 -> 0 | G93: ='תקציב החברה לפיתוח 2020'!G93 -> 500000 | H93: ='תקציב החברה לפיתוח 2020'!H93 -> 0 | I93: ='תקציב החברה לפיתוח 2020'!I93 -> 0 | ... AB93: ='תקציב החברה לפיתוח 2020'!AB93 -> 732000
A94: =A93+1 -> 89 | B94: ='תקציב החברה לפיתוח 2020'!B94 -> 2118 | C94: ='תקציב החברה לפיתוח 2020'!C94 -> שצ"פ דליה רביקוביץ בשכונת אלתרמן (הר/1920) | D94: ='תקציב החברה לפיתוח 2020'!D94 -> 1800000 | E94: ='תקציב החברה לפיתוח 2020'!E94 -> 1800000 | F94: ='תקציב החברה לפיתוח 2020'!F94 -> 0 | G94: ='תקציב החברה לפיתוח 2020'!G94 -> 100000 | H94: ='תקציב החברה לפיתוח 2020'!H94 -> 0 | I94: ='תקציב החברה לפיתוח 2020'!I94 -> 0 | ... AB94: ='תקציב החברה לפיתוח 2020'!AB94 -> 746000
A95: =A94+1 -> 90 | B95: ='תקציב החברה לפיתוח 2020'!B95 -> 2122 | C95: ='תקציב החברה לפיתוח 2020'!C95 -> צומת הרב גורן מוהליבר - בטיחות | D95: ='תקציב החברה לפיתוח 2020'!D95 -> 300000 | E95: ='תקציב החברה לפיתוח 2020'!E95 -> 300000 | F95: ='תקציב החברה לפיתוח 2020'!F95 -> 0 | G95: ='תקציב החברה לפיתוח 2020'!G95 -> 300000 | H95: ='תקציב החברה לפיתוח 2020'!H95 -> 0 | I95: ='תקציב החברה לפיתוח 2020'!I95 -> 0 | ... AB95: ='תקציב החברה לפיתוח 2020'!AB95 -> 742000
A96: =A95+1 -> 91 | B96: ='תקציב החברה לפיתוח 2020'!B96 -> 2126 | C96: ='תקציב החברה לפיתוח 2020'!C96 -> כיכר העוגן השונית | D96: ='תקציב החברה לפיתוח 2020'!D96 -> 1375000 | E96: ='תקציב החברה לפיתוח 2020'!E96 -> 1375000 | F96: ='תקציב החברה לפיתוח 2020'!F96 -> 0 | G96: ='תקציב החברה לפיתוח 2020'!G96 -> 0 | H96: ='תקציב החברה לפיתוח 2020'!H96 -> 0 | I96: ='תקציב החברה לפיתוח 2020'!I96 -> 0 | ... AB96: ='תקציב החברה לפיתוח 2020'!AB96 -> 742000
... A105: =A104+1 -> 100 | B105: ='תקציב החברה לפיתוח 2020'!B105 -> 2153 | C105: ='תקציב החברה לפיתוח 2020'!C105 -> הקמת ארנה | D105: ='תקציב החברה לפיתוח 2020'!D105 -> 1000000 | E105: ='תקציב החברה לפיתוח 2020'!E105 -> 0 | F105: ='תקציב החברה לפיתוח 2020'!F105 -> 1000000 | G105: ='תקציב החברה לפיתוח 2020'!G105 -> 0 | H105: ='תקציב החברה לפיתוח 2020'!H105 -> 0 | I105: ='תקציב החברה לפיתוח 2020'!I105 -> 0 | ... AB105: ='תקציב החברה לפיתוח 2020'!AB105 -> 829000
C106: סה"כ | D106: =SUM(D6:D105) -> 1723264125 | E106: =SUM(E6:E105) -> 1592330125 | F106: =SUM(F6:F105) -> 130934000 | G106: =SUM(G6:G105) -> 865322790 | H106: =SUM(H6:H105) -> 6.9146083e+08 | I106: =SUM(I6:I105) -> 1022340.9 | J106: =SUM(J6:J105) -> 46002636 | K106: =SUM(K6:K105) -> 47024977 | ... Z106: =SUM(Z6:Z105) -> 5731120 | AA106: =SUM(AA6:AA78) -> 0
C108: מתחם גליל ים
A109: =A105+1 -> 101 | B109: ='תקציב החברה לפיתוח 2020'!B109 -> 1547 | C109: ='תקציב החברה לפיתוח 2020'!C109 -> פיתוח מתחם גליל ים הר' 1985 א' | D109: ='תקציב החברה לפיתוח 2020'!D109 -> 144000000 | E109: ='תקציב החברה לפיתוח 2020'!E109 -> 144000000 | F109: ='תקציב החברה לפיתוח 2020'!F109 -> 0 | G109: ='תקציב החברה לפיתוח 2020'!G109 -> 102500000 | H109: ='תקציב החברה לפיתוח 2020'!H109 -> 89461542 | I109: ='תקציב החברה לפיתוח 2020'!I109 -> 1052805.9 | ... AB109: ='תקציב החברה לפיתוח 2020'!AB109 -> 742000
A110: =1+A109 -> 102 | B110: ='תקציב החברה לפיתוח 2020'!B110 -> 1827 | C110: ='תקציב החברה לפיתוח 2020'!C110 -> פארק גליל ים | D110: ='תקציב החברה לפיתוח 2020'!D110 -> 100000000 | E110: 100000000 | F110: =D110-E110 -> 0 | G110: 55268638 | H110: 50987035 | J110: 984074.35 | K110: =SUM(I110:J110) -> 984074.35 | L110: ='תקציב החברה לפיתוח 2020'!L110 -> 51971109 | M110: ='תקציב החברה לפיתוח 2020'!M110 -> 11297529 | N110: ='תקציב החברה לפיתוח 2020'!N110 -> 36731362 | O110: ='תקציב החברה לפיתוח 2020'!O110 -> 0 | P110: ='תקציב החברה לפיתוח 2020'!P110 -> 3297528.6 | Q110: ='תקציב החברה לפיתוח 2020'!Q110 -> 8000000 | R110: ='תקציב החברה לפיתוח 2020'!R110 -> 0 | S110: ='תקציב החברה לפיתוח 2020'!S110 -> 8000000 | ... AB110: ='תקציב החברה לפיתוח 2020'!AB110 -> 746000
A111: =1+A110 -> 103 | B111: ='תקציב החברה לפיתוח 2020'!B111 -> 1905 | C111: ='תקציב החברה לפיתוח 2020'!C111 -> שצ"פ מערב קיר אקוסטי גליל ים ב' | D111: ='תקציב החברה לפיתוח 2020'!D111 -> 3366000 | E111: 3366000 | F111: =D111-E111 -> 0 | G111: 3366000 | H111: 0 | K111: =SUM(I111:J111) -> 0 | L111: ='תקציב החברה לפיתוח 2020'!L111 -> 0 | M111: ='תקציב החברה לפיתוח 2020'!M111 -> 3366000 | N111: ='תקציב החברה לפיתוח 2020'!N111 -> 0 | O111: ='תקציב החברה לפיתוח 2020'!O111 -> 0 | P111: ='תקציב החברה לפיתוח 2020'!P111 -> 3366000 | Q111: ='תקציב החברה לפיתוח 2020'!Q111 -> 0 | R111: ='תקציב החברה לפיתוח 2020'!R111 -> 0 | S111: ='תקציב החברה לפיתוח 2020'!S111 -> 0 | ... AB111: ='תקציב החברה לפיתוח 2020'!AB111 -> 746000
A112: =1+A111 -> 104 | B112: ='תקציב החברה לפיתוח 2020'!B112 -> 1906 | C112: ='תקציב החברה לפיתוח 2020'!C112 -> כיתות גן 4 שטח 301 גליל ים א' | D112: ='תקציב החברה לפיתוח 2020'!D112 -> 9708844 | E112: 10000000 | F112: =D112-E112 -> -291156 | G112: 9708844 | H112: 9224905.8 | J112: 422602.59 | K112: =SUM(I112:J112) -> 422602.59 | L112: ='תקציב החברה לפיתוח 2020'!L112 -> 9647508.4 | M112: ='תקציב החברה לפיתוח 2020'!M112 -> 61335.63 | N112: ='תקציב החברה לפיתוח 2020'!N112 -> 0 | O112: ='תקציב החברה לפיתוח 2020'!O112 -> 0 | P112: ='תקציב החברה לפיתוח 2020'!P112 -> 61335.63 | Q112: ='תקציב החברה לפיתוח 2020'!Q112 -> 0 | R112: ='תקציב החברה לפיתוח 2020'!R112 -> 0 | S112: ='תקציב החברה לפיתוח 2020'!S112 -> 0 | ... AB112: ='תקציב החברה לפיתוח 2020'!AB112 -> 810000
A113: =1+A112 -> 105 | B113: ='תקציב החברה לפיתוח 2020'!B113 -> 1907 | C113: ='תקציב החברה לפיתוח 2020'!C113 -> כיתות גן 4 שטח 302 גליל ים א' | D113: ='תקציב החברה לפיתוח 2020'!D113 -> 9708844 | E113: 10000000 | F113: =D113-E113 -> -291156 | G113: 9708844 | H113: 8237288.5 | J113: 1303229.2 | K113: =SUM(I113:J113) -> 1303229.2 | L113: ='תקציב החברה לפיתוח 2020'!L113 -> 9540517.7 | M113: ='תקציב החברה לפיתוח 2020'!M113 -> 168326.27 | N113: ='תקציב החברה לפיתוח 2020'!N113 -> 0 | O113: ='תקציב החברה לפיתוח 2020'!O113 -> 0 | P113: ='תקציב החברה לפיתוח 2020'!P113 -> 168326.27 | Q113: ='תקציב החברה לפיתוח 2020'!Q113 -> 0 | R113: ='תקציב החברה לפיתוח 2020'!R113 -> 0 | S113: ='תקציב החברה לפיתוח 2020'!S113 -> 0 | ... AB113: ='תקציב החברה לפיתוח 2020'!AB113 -> 810000
A114: =1+A113 -> 106 | B114: ='תקציב החברה לפיתוח 2020'!B114 -> 1908 | C114: ='תקציב החברה לפיתוח 2020'!C114 -> כיתות מעון וגן שטח 303 גליל ים א' | D114: ='תקציב החברה לפיתוח 2020'!D114 -> 19080000 | E114: 16900000 | F114: =D114-E114 -> 2180000 | G114: 10943329 | H114: 307961 | J114: 95657.37 | K114: =SUM(I114:J114) -> 95657.37 | L114: ='תקציב החברה לפיתוח 2020'!L114 -> 403618.37 | M114: ='תקציב החברה לפיתוח 2020'!M114 -> 10539711 | N114: ='תקציב החברה לפיתוח 2020'!N114 -> 8136671 | O114: ='תקציב החברה לפיתוח 2020'!O114 -> 0 | P114: ='תקציב החברה לפיתוח 2020'!P114 -> 10539711 | Q114: ='תקציב החברה לפיתוח 2020'!Q114 -> 0 | R114: ='תקציב החברה לפיתוח 2020'!R114 -> 0 | S114: ='תקציב החברה לפיתוח 2020'!S114 -> 0 | ... AB114: ='תקציב החברה לפיתוח 2020'!AB114 -> 810000
A115: =1+A114 -> 107 | B115: ='תקציב החברה לפיתוח 2020'!B115 -> 1909 | C115: ='תקציב החברה לפיתוח 2020'!C115 -> שטח 408 גליל ים ב'-גנ"י, בי"ס, ספריה | D115: ='תקציב החברה לפיתוח 2020'!D115 -> 184500000 | E115: 147000000 | F115: =D115-E115 -> 37500000 | G115: 1650000 | H115: 1083363 | J115: 566633.36 | K115: =SUM(I115:J115) -> 566633.36 | L115: ='תקציב החברה לפיתוח 2020'!L115 -> 1649996.4 | M115: ='תקציב החברה לפיתוח 2020'!M115 -> 3.64 | N115: ='תקציב החברה לפיתוח 2020'!N115 -> 55500000 | O115: ='תקציב החברה לפיתוח 2020'!O115 -> 127350000 | P115: ='תקציב החברה לפיתוח 2020'!P115 -> 3.64 | Q115: ='תקציב החברה לפיתוח 2020'!Q115 -> 0 | R115: ='תקציב החברה לפיתוח 2020'!R115 -> 0 | S115: ='תקציב החברה לפיתוח 2020'!S115 -> 0 | ... AB115: ='תקציב החברה לפיתוח 2020'!AB115 -> 810000
A116: =1+A115 -> 108 | B116: ='תקציב החברה לפיתוח 2020'!B116 -> 1911 | C116: ='תקציב החברה לפיתוח 2020'!C116 -> כיתות מעון 5 יום 5 כיתות גן-. 404 גליל ים ב' | D116: ='תקציב החברה לפיתוח 2020'!D116 -> 29050000 | E116: 27500000 | F116: =D116-E116 -> 1550000 | G116: 9182067 | H116: 319718 | J116: 819544.96 | K116: =SUM(I116:J116) -> 819544.96 | L116: ='תקציב החברה לפיתוח 2020'!L116 -> 1139263 | M116: ='תקציב החברה לפיתוח 2020'!M116 -> 8042804 | N116: ='תקציב החברה לפיתוח 2020'!N116 -> 0 | O116: ='תקציב החברה לפיתוח 2020'!O116 -> 19867933 | P116: ='תקציב החברה לפיתוח 2020'!P116 -> 8042804 | Q116: ='תקציב החברה לפיתוח 2020'!Q116 -> 0 | R116: ='תקציב החברה לפיתוח 2020'!R116 -> 0 | S116: ='תקציב החברה לפיתוח 2020'!S116 -> 0 | ... AB116: ='תקציב החברה לפיתוח 2020'!AB116 -> 810000
A117: =1+A116 -> 109 | B117: ='תקציב החברה לפיתוח 2020'!B117 -> 1912 | C117: ='תקציב החברה לפיתוח 2020'!C117 -> קיריית החינוך ( מגרש 406)-ספריה, מרכז קהילתי | D117: ='תקציב החברה לפיתוח 2020'!D117 -> 310000000 | E117: 310000000 | F117: =D117-E117 -> 0 | G117: 5000000 | H117: 1698890 | J117: 749796.72 | K117: =SUM(I117:J117) -> 749796.72 | L117: ='תקציב החברה לפיתוח 2020'!L117 -> 2448686.7 | M117: ='תקציב החברה לפיתוח 2020'!M117 -> 2551313.3 | N117: ='תקציב החברה לפיתוח 2020'!N117 -> 50500000 | O117: ='תקציב החברה לפיתוח 2020'!O117 -> 254500000 | P117: ='תקציב החברה לפיתוח 2020'!P117 -> 2551313.3 | Q117: ='תקציב החברה לפיתוח 2020'!Q117 -> 0 | R117: ='תקציב החברה לפיתוח 2020'!R117 -> 0 | S117: ='תקציב החברה לפיתוח 2020'!S117 -> 0 | ... AB117: ='תקציב החברה לפיתוח 2020'!AB117 -> 810000
A118: =1+A117 -> 110 | B118: ='תקציב החברה לפיתוח 2020'!B118 -> 1914 | C118: ='תקציב החברה לפיתוח 2020'!C118 -> גן 3 כיתות 401 גליל ים ב' | D118: ='תקציב החברה לפיתוח 2020'!D118 -> 8100000 | E118: 7700000 | F118: =D118-E118 -> 400000 | G118: 1300000 | H118: 164878 | J118: 33558.85 | K118: =SUM(I118:J118) -> 33558.85 | L118: ='תקציב החברה לפיתוח 2020'!L118 -> 198436.85 | M118: ='תקציב החברה לפיתוח 2020'!M118 -> 1101563.1 | N118: ='תקציב החברה לפיתוח 2020'!N118 -> 6800000 | O118: ='תקציב החברה לפיתוח 2020'!O118 -> 0 | P118: ='תקציב החברה לפיתוח 2020'!P118 -> 1101563.1 | Q118: ='תקציב החברה לפיתוח 2020'!Q118 -> 0 | R118: ='תקציב החברה לפיתוח 2020'!R118 -> 0 | S118: ='תקציב החברה לפיתוח 2020'!S118 -> 0 | ... AB118: ='תקציב החברה לפיתוח 2020'!AB118 -> 810000
A119: =1+A118 -> 111 | B119: ='תקציב החברה לפיתוח 2020'!B119 -> 1919 | C119: ='תקציב החברה לפיתוח 2020'!C119 -> פיתוח גליל ים ב' | D119: ='תקציב החברה לפיתוח 2020'!D119 -> 135100000 | E119: 135100000 | F119: =D119-E119 -> 0 | G119: 40098527 | H119: 29982471 | J119: 1356715.8 | K119: =SUM(I119:J119) -> 1356715.8 | L119: ='תקציב החברה לפיתוח 2020'!L119 -> 31339186 | M119: ='תקציב החברה לפיתוח 2020'!M119 -> 9265591.6 | N119: ='תקציב החברה לפיתוח 2020'!N119 -> 0 | O119: ='תקציב החברה לפיתוח 2020'!O119 -> 94495222 | P119: ='תקציב החברה לפיתוח 2020'!P119 -> 8759340.6 | Q119: ='תקציב החברה לפיתוח 2020'!Q119 -> 506251 | R119: ='תקציב החברה לפיתוח 2020'!R119 -> 0 | S119: ='תקציב החברה לפיתוח 2020'!S119 -> 506251 | ... AB119: ='תקציב החברה לפיתוח 2020'!AB119 -> 742000
