Workbook

Sheet סיכום (1)
A1: תקציב עיריית חדרה לשנת 2023
A3: סעיף | B3: תקציב 2022 | C3: אומדן 2022 | D3: תקציב 2023 | E3: שיעור גידול מתקציב 2022 | F3: שיעור גידול מביצוע 2021
A4: הוצאות שכר שוטף | B4: ='נספח 1 - התקציב הרגיל (2)'!B28+'נספח 1 - התקציב הרגיל (2)'!B32+'נספח 1 - התקציב הרגיל (2)'!B35 -> 304489567 | C4: ='נספח 1 - התקציב הרגיל (2)'!C28+'נספח 1 - התקציב הרגיל (2)'!C32+'נספח 1 - התקציב הרגיל (2)'!C35 -> 300071700 | D4: ='נספח 1 - התקציב הרגיל (2)'!D28+'נספח 1 - התקציב הרגיל (2)'!D32+'נספח 1 - התקציב הרגיל (2)'!D35 -> 3.25778e+08 | E4: =+(D4-B4)/B4 -> 0.069915149 | F4: =+(D4-C4)/C4 -> 0.085667194
A5: הוצאות לפעילות | B5: ='נספח 1 - התקציב הרגיל (2)'!B48-'סיכום (1)'!B4 -> 4.8864243e+08 | C5: ='נספח 1 - התקציב הרגיל (2)'!C48-'סיכום (1)'!C4 -> 489832000 | D5: ='נספח 1 - התקציב הרגיל (2)'!D48-'סיכום (1)'!D4+1 -> 5.12282e+08 | E5: =+(D5-B5)/B5 -> 0.048378049 | F5: =+(D5-C5)/C5 -> 0.045832042
A6: סה"כ הוצאות | B6: ='נספח 1 - התקציב הרגיל (2)'!B48 -> 7.93132e+08 | C6: ='נספח 1 - התקציב הרגיל (2)'!C48 -> 789903700 | D6: ='נספח 1 - התקציב הרגיל (2)'!D48 -> 8.3806e+08 | E6: =+(D6-B6)/B6 -> 0.056646308 | F6: =+(D6-C6)/C6 -> 0.060964773
A7: סה"כ הכנסות | B7: ='נספח 1 - התקציב הרגיל (2)'!B25 -> 7.93132e+08 | C7: ='נספח 1 - התקציב הרגיל (2)'!C25 -> 788707000 | D7: ='נספח 1 - התקציב הרגיל (2)'!D25 -> 8.3806e+08 | E7: =+(D7-B7)/B7 -> 0.056646309 | F7: =+(D7-C7)/C7 -> 0.062574568
A8: הפרש בין הכנסות להוצאות | B8: =+B7-B6 -> -0.38500011 | C8: =+C7-C6 -> -1196700 | D8: =+D7-D6 -> 0.16845298

Sheet נספח 1 - התקציב הרגיל (2)
A1: התקציב הרגיל של הרשות לשנת 2023
A2: דו"ח הכנסות והוצאות
A4: הסעיף התקציבי | B4: תקציב 2022 | C4: אומדן 2022 | D4: תקציב 2023
A6: ארנונה כללית | B6: ='תקציב 2022'!J7-3085000 -> 402739000 | C6: ='ריכוז תקבולים ותשלומים 2022 3'!J7 -> 417945000 | D6: ='ריכוז תקבולים ותשלומים 2023 4'!I7-8000000 -> 420700000
A7: מפעל המים | B7: ='תקציב 2022'!J39 -> 10000 | C7: ='ריכוז תקבולים ותשלומים 2022 3'!J39 -> 11000 | D7: ='ריכוז תקבולים ותשלומים 2023 4'!I39 -> 10000
A8: עצמיות חינוך | B8: ='תקציב 2022'!I29 -> 9723000 | C8: ='ריכוז תקבולים ותשלומים 2022 3'!I29 -> 9251000 | D8: ='ריכוז תקבולים ותשלומים 2023 4'!I29 -> 10088000
A9: עצמיות רווחה | B9: ='תקציב 2022'!I32 -> 2139000 | C9: ='ריכוז תקבולים ותשלומים 2022 3'!I32 -> 2225000 | D9: ='ריכוז תקבולים ותשלומים 2023 4'!I32 -> 2284000
A10: עצמיות אחר | B10: ='תקציב 2022'!I9+'תקציב 2022'!I11+'תקציב 2022'!I16+'תקציב 2022'!I17+'תקציב 2022'!I18+'תקציב 2022'!I23+'תקציב 2022'!I24+'תקציב 2022'!I28+'תקציב 2022'!I30+'תקציב 2022'!I34+'תקציב 2022'!I35+'תקציב 2022'!I41+'תקציב 2022'!I42+'תקציב 2022'!I44+'תקציב 2022'!I50 -> 82491732 | C10: ='ריכוז תקבולים ותשלומים 2022 3'!I9+'ריכוז תקבולים ותשלומים 2022 3'!I11+'ריכוז תקבולים ותשלומים 2022 3'!I25+'ריכוז תקבולים ותשלומים 2022 3'!I28+'ריכוז תקבולים ותשלומים 2022 3'!I30+'ריכוז תקבולים ותשלומים 2022 3'!I34+'ריכוז תקבולים ותשלומים 2022 3'!I35+'ריכוז תקבולים ותשלומים 2022 3'!I41+'ריכוז תקבולים ותשלומים 2022 3'!I42+'ריכוז תקבולים ותשלומים 2022 3'!I43+'ריכוז תקבולים ותשלומים 2022 3'!I48+'ריכוז תקבולים ותשלומים 2022 3'!I49 -> 74825000 | D10: =+'ריכוז תקבולים ותשלומים 2023 4'!I9+'ריכוז תקבולים ותשלומים 2023 4'!I11+'ריכוז תקבולים ותשלומים 2023 4'!I16+'ריכוז תקבולים ותשלומים 2023 4'!I17+'ריכוז תקבולים ותשלומים 2023 4'!I18+'ריכוז תקבולים ותשלומים 2023 4'!I19+'ריכוז תקבולים ותשלומים 2023 4'!I21+'ריכוז תקבולים ותשלומים 2023 4'!I23+'ריכוז תקבולים ותשלומים 2023 4'!I24+'ריכוז תקבולים ותשלומים 2023 4'!I28+'ריכוז תקבולים ותשלומים 2023 4'!I30+'ריכוז תקבולים ותשלומים 2023 4'!I34+'ריכוז תקבולים ותשלומים 2023 4'!I35+'ריכוז תקבולים ותשלומים 2023 4'!I41+'ריכוז תקבולים ותשלומים 2023 4'!I42+'ריכוז תקבולים ותשלומים 2023 4'!I44+'ריכוז תקבולים ותשלומים 2023 4'!I49+'ריכוז תקבולים ותשלומים 2023 4'!I50 -> 87930160
A11: סה"כ הכנסות עצמיות | B11: =SUBTOTAL(109,B5:B10) -> 497102732 | C11: =SUM(C6:C10) -> 504257000 | D11: =SUM(D6:D10) -> 5.2101216e+08
A12: תקבולים ממשרד החינוך | B12: ='תקציב 2022'!H29 -> 118385000 | C12: ='ריכוז תקבולים ותשלומים 2022 3'!H29 -> 119178000 | D12: ='ריכוז תקבולים ותשלומים 2023 4'!H29 -> 132803840
A13: תקבולים ממשרד הרווחה | B13: ='תקציב 2022'!H32 -> 96758785 | C13: ='ריכוז תקבולים ותשלומים 2022 3'!H32 -> 93675000 | D13: ='ריכוז תקבולים ותשלומים 2023 4'!H32 -> 1.01524e+08
A14: תקבולים ממשלתיים אחרים | B14: ='תקציב 2022'!H16+'תקציב 2022'!H17+'תקציב 2022'!H19+'תקציב 2022'!H30+'תקציב 2022'!H34 -> 10800483 | C14: ='ריכוז תקבולים ותשלומים 2022 3'!H16+'ריכוז תקבולים ותשלומים 2022 3'!H17+'ריכוז תקבולים ותשלומים 2022 3'!H19+'ריכוז תקבולים ותשלומים 2022 3'!H30+'ריכוז תקבולים ותשלומים 2022 3'!H34+3000 -> 9998000 | D14: ='ריכוז תקבולים ותשלומים 2023 4'!H13+'ריכוז תקבולים ותשלומים 2023 4'!H25+'ריכוז תקבולים ותשלומים 2023 4'!H30+'ריכוז תקבולים ותשלומים 2023 4'!H34+'ריכוז תקבולים ותשלומים 2023 4'!H45 -> 10070000
A15: הלוואה לאיזון | B15: 0 | C15: 0 | D15: 0
A16: מענקים אחרים ממשרד הפנים | B16: ='תקציב 2022'!H50 -> 6000000 | C16: ='ריכוז תקבולים ותשלומים 2022 3'!H49 -> 599000 | D16: ='ריכוז תקבולים ותשלומים 2023 4'!H50 -> 650000
A17: סה"כ תקבולי ממשלה | B17: =SUM(B12:B16) -> 2.3194427e+08 | C17: =SUM(C12:C16) -> 223450000 | D17: =SUM(D12:D16) -> 2.4504784e+08
A18: תקבולים אחרים | B18: 0 | C18: 0 | D18: 0
A19: הכנסות ח"פ ובגין שנים קודמות
A20: סה"כ הכנסות לפני הנחות בארנונה וכיסוי גרעון נצבר | B20: =B17+B11 -> 7.29047e+08 | C20: =+C11+C17+C18 -> 727707000 | D20: =+D11+D17+D18 -> 7.6606e+08
A21: הנחות בארנונה | B21: ='תקציב 2022'!J8 -> 61000000 | C21: ='ריכוז תקבולים ותשלומים 2022 3'!I8 -> 61000000 | D21: ='ריכוז תקבולים ותשלומים 2023 4'!I8 -> 64000000
A22: הכנסה לכיסוי גרעון נצבר
A23: סה"כ הכנסות ללא מותנה | B23: =B20+B21 -> 7.90047e+08 | C23: =+C20+C21 -> 788707000 | D23: =+D20+D21-0.2 -> 8.3006e+08
A24: הכנסה מותנה | B24: 3085000 | C24: 0 | D24: 8000000
A25: סה"כ הכנסות כולל מותנה | B25: =B23+B24 -> 7.93132e+08 | C25: =+C23+C24 -> 788707000 | D25: =+D23+D24 -> 8.3806e+08
A27: הוצאות
A28: שכר כללי | B28: ='תקציב 2022'!C13+'תקציב 2022'!C25+'תקציב 2022'!C28+'תקציב 2022'!C30+'תקציב 2022'!C34+'תקציב 2022'!C35+'תקציב 2022'!C45+'תקציב 2022'!C51 -> 157260000 | C28: ='ריכוז תקבולים ותשלומים 2022 3'!C13+'ריכוז תקבולים ותשלומים 2022 3'!C25+'ריכוז תקבולים ותשלומים 2022 3'!C28+'ריכוז תקבולים ותשלומים 2022 3'!C30+'ריכוז תקבולים ותשלומים 2022 3'!C34+'ריכוז תקבולים ותשלומים 2022 3'!C35+'ריכוז תקבולים ותשלומים 2022 3'!C42+'ריכוז תקבולים ותשלומים 2022 3'!C47 -> 153734700 | D28: ='ריכוז תקבולים ותשלומים 2023 4'!C13+'ריכוז תקבולים ותשלומים 2023 4'!C25+'ריכוז תקבולים ותשלומים 2023 4'!C28+'ריכוז תקבולים ותשלומים 2023 4'!C30+'ריכוז תקבולים ותשלומים 2023 4'!C34+'ריכוז תקבולים ותשלומים 2023 4'!C35+'ריכוז תקבולים ותשלומים 2023 4'!C42+'ריכוז תקבולים ותשלומים 2023 4'!C48 -> 1.61949e+08
A29: פעולות כלליות | B29: ='תקציב 2022'!D7+'תקציב 2022'!D9+'תקציב 2022'!D25+'תקציב 2022'!D28+'תקציב 2022'!D30+'תקציב 2022'!D31+'תקציב 2022'!D33+'תקציב 2022'!D34+'תקציב 2022'!D35+'תקציב 2022'!D41+'תקציב 2022'!D42 -> 1.860876e+08 | C29: ='ריכוז תקבולים ותשלומים 2022 3'!D7+'ריכוז תקבולים ותשלומים 2022 3'!D9+'ריכוז תקבולים ותשלומים 2022 3'!D25+'ריכוז תקבולים ותשלומים 2022 3'!D30+'ריכוז תקבולים ותשלומים 2022 3'!D31+'ריכוז תקבולים ותשלומים 2022 3'!D33+'ריכוז תקבולים ותשלומים 2022 3'!D34+'ריכוז תקבולים ותשלומים 2022 3'!D35+'ריכוז תקבולים ותשלומים 2022 3'!D44+'ריכוז תקבולים ותשלומים 2022 3'!D28 -> 187929000 | D29: ='ריכוז תקבולים ותשלומים 2023 4'!D7+'ריכוז תקבולים ותשלומים 2023 4'!D9+'ריכוז תקבולים ותשלומים 2023 4'!D25+'ריכוז תקבולים ותשלומים 2023 4'!D28+'ריכוז תקבולים ותשלומים 2023 4'!D30+'ריכוז תקבולים ותשלומים 2023 4'!D31+'ריכוז תקבולים ותשלומים 2023 4'!D33+'ריכוז תקבולים ותשלומים 2023 4'!D34+'ריכוז תקבולים ותשלומים 2023 4'!D35+'ריכוז תקבולים ותשלומים 2023 4'!D45-2085000 -> 1.93975e+08
A30: מפעל המים | B30: 0 | C30: 0 | D30: 0
A31: סה"כ הוצאות כלליות | B31: =B28+B29+B30 -> 3.433476e+08 | C31: =SUM(C28:C30) -> 341663700 | D31: =SUM(D28:D30) -> 3.55924e+08
A32: שכר עובדי חינוך | B32: ='תקציב 2022'!C29 -> 113796000 | C32: ='ריכוז תקבולים ותשלומים 2022 3'!C29 -> 114282000 | D32: ='ריכוז תקבולים ותשלומים 2023 4'!C29 -> 126798000
A33: פעולות חינוך | B33: ='תקציב 2022'!D29 -> 1.07542e+08 | C33: ='ריכוז תקבולים ותשלומים 2022 3'!D29 -> 107826000 | D33: ='ריכוז תקבולים ותשלומים 2023 4'!D29-1000000 -> 112528000
A34: סה"כ חינוך | B34: =SUM(B32:B33) -> 2.21338e+08 | C34: =SUM(C32:C33) -> 222108000 | D34: =SUM(D32:D33) -> 239326000
A35: שכר עובדי רווחה | B35: ='תקציב 2022'!C32 -> 33433567 | C35: ='ריכוז תקבולים ותשלומים 2022 3'!C32 -> 32055000 | D35: ='ריכוז תקבולים ותשלומים 2023 4'!C32 -> 37031000
A36: פעולות רווחה | B36: ='תקציב 2022'!D32+2 -> 1.0248983e+08 | C36: ='ריכוז תקבולים ותשלומים 2022 3'!D32 -> 99839000 | D36: ='ריכוז תקבולים ותשלומים 2023 4'!D32 -> 105467000
A37: סה"כ רווחה | B37: =SUM(B35:B36) -> 1.359234e+08 | C37: =SUM(C35:C36) -> 131894000 | D37: =SUM(D35:D36) -> 142498000
A38: פרעון-מלוות מים וביוב | B38: 0 | C38: 0 | D38: 0
A39: פרעון-מלוות אחר | B39: ='תקציב 2022'!E11 -> 29623000 | C39: ='ריכוז תקבולים ותשלומים 2022 3'!D11 -> 31077000 | D39: ='ריכוז תקבולים ותשלומים 2023 4'!D11+0.8 -> 31177000
A40: סה"כ פרעון-מלוות | B40: =SUM(B38:B39) -> 29623000 | C40: =SUM(C38:C39) -> 31077000 | D40: =SUM(D38:D39) -> 31177000
A41: הוצאות מימון | B41: ='תקציב 2022'!E10 -> 1650000 | C41: ='ריכוז תקבולים ותשלומים 2022 3'!D10 -> 1911000 | D41: ='ריכוז תקבולים ותשלומים 2023 4'!D10 -> 1800000
A42: הוצאות ח"פ ובגין שנים קודמות | B42: ='תקציב 2022'!E50 -> 250000 | C42: ='ריכוז תקבולים ותשלומים 2022 3'!D49 -> 250000 | D42: ='ריכוז תקבולים ותשלומים 2023 4'!D50 -> 250000.4
A43: סה"כ הוצאות לפני הנחות בארנונה וכיסוי גרעון נצבר | B43: =+B41+B42+B31+B34+B37+B40 -> 7.32132e+08 | C43: =+C41+C42+C31+C34+C37+C40 -> 728903700 | D43: =+D41+D42+D31+D34+D37+D40 -> 7.70975e+08
A44: הנחות בארנונה | B44: ='תקציב 2022'!E49 -> 61000000 | C44: ='ריכוז תקבולים ותשלומים 2022 3'!D48 -> 61000000 | D44: ='ריכוז תקבולים ותשלומים 2023 4'!D49 -> 64000000
A45: הוצאה לכיסוי גרעון נצבר | B45: 0 | C45: 0 | D45: 0
A46: סה"כ הוצאות ללא מותנה | B46: =+B44+B43 -> 7.93132e+08 | C46: =+C44+C43 -> 789903700 | D46: =+D44+D43 -> 8.34975e+08
A47: הוצאה מותנה | B47: 0 | C47: 0 | D47: 3085000
A48: סה"כ הוצאות כולל מותנה | B48: =+B46+B47 -> 7.93132e+08 | C48: =+C46+C47 -> 789903700 | D48: =+D46+D47 -> 8.3806e+08
A49: עודף (גרעון) | B49: 0 | C49: =+C25-C48 -> -1196700 | D49: =+D25-D48 -> 0.16845298

Sheet ריכוז תקבולים ותשלומים 2022 3
A1: ריכוז תקבולים ותשלומים לפי פרקי תקציב לשנת 2022- לפי אומדן
A3: תשלומים | F3: תקבולים
A4: מס פרק | B4: שם הפרק | C4: שכר | D4: פעולות | E4: סה"כ | F4: מס' פרק | G4: שם הפרק | H4: ממשלה | I4: עצמיות | J4: סה"כ
A5: 6 הנהלה וכלליות | F5: 1 מיסים ומענקים | L5: תוויות שורה | M5: סכום של תקציב 2022
L6: 61 | M6: 18265000
A7: 61 | B7: מנהל כללי | C7: ='הוצאות '!H3+'הוצאות '!H9+'הוצאות '!H28+'הוצאות '!H34+'הוצאות '!H45+'הוצאות '!H52+'הוצאות '!H61+'הוצאות '!H63+'הוצאות '!H67+'הוצאות '!H76+'הוצאות '!G64 -> 18519000 | D7: =+E7-C7 -> 15895000 | E7: ='הוצאות '!H8+'הוצאות '!H27+'הוצאות '!H33+'הוצאות '!H44+'הוצאות '!H51+'הוצאות '!H62+'הוצאות '!H66+'הוצאות '!H75+'הוצאות '!H82 -> 34414000 | F7: 11 | G7: ארנונות | H7: 0 | I7: =J7-H7 -> 417945000 | J7: ='הכנסות '!H7-'הכנסות '!H5 -> 417945000 | L7: 62 | M7: 9348000
D8: =+E8-C8 -> 0 | F8: 11 | G8: הנחות ארנונה | H8: 0 | I8: =J8-H8 -> 61000000 | J8: ='הכנסות '!H5 -> 61000000 | L8: 71 | M8: 9936000
A9: 62 | B9: מנהל כספי | C9: ='הוצאות '!H86+'הוצאות '!H92+'הוצאות '!H98 -> 9344000 | D9: =+E9-C9 -> 5181000 | E9: ='הוצאות '!H91+'הוצאות '!H97+'הוצאות '!H104 -> 14525000 | F9: 12 | G9: אגרות | H9: 0 | I9: =J9-H9 -> 8238000 | J9: =+'הכנסות '!H10 -> 8238000 | L9: 72 | M9: 5092000
A10: 63 | B10: הוצאות מימון | D10: =+E10-C10 -> 1911000 | E10: ='הוצאות '!H108 -> 1911000 | F10: 13 | G10: היטלים | H10: 0 | I10: =J10-H10 -> 0 | J10: 0 | L10: 73 | M10: 14623000
A11: 64 | B11: פרעון מלוות | D11: =+E11-C11 -> 31077000 | E11: ='הוצאות '!H113 -> 31077000 | F11: 18 | G11: מכירת שירותים | H11: 0 | I11: =J11-H11 -> 115000 | J11: =+'הכנסות '!H12 -> 115000 | L11: 74 | M11: 18661000
F12: 19 | G12: מענקים כללים | H12: 0 | I12: =J12-H12 -> 0 | J12: 0 | L12: 75 | M12: 8001000
A13: סה"כ 6 | C13: =SUM(C7:C11) -> 27863000 | D13: =SUM(D7:D11) -> 54064000 | E13: =SUM(E7:E11) -> 81927000 | F13: סה"כ 1 | H13: =SUM(H7:H12) -> 0 | I13: =SUM(I7:I12) -> 487298000 | J13: =SUM(J7:J12) -> 487298000 | L13: 76 | M13: 2797000
A14: 7 שירותים מקומיים | F14: 2 שירותים מקומיים | L14: 77 | M14: 1368000
L15: 78 | M15: 7519000
A16: 71 | B16: תברואה | C16: ='הוצאות '!H114+'הוצאות '!H122+'הוצאות '!H131+'הוצאות '!H136 -> 9521000 | D16: =+E16-C16 -> 75168000 | E16: ='הוצאות '!H121+'הוצאות '!H125+'הוצאות '!H127+'הוצאות '!H130+'הוצאות '!H135+'הוצאות '!H143+'הוצאות '!H145 -> 84689000 | F16: 21 | G16: תברואה | H16: ='הכנסות '!H16 -> 485000 | I16: =J16-H16 -> 1191000 | J16: ='הכנסות '!H17 -> 1676000 | L16: 79 | M16: 340000
A17: 72 | B17: שמירה ובטחון | C17: ='הוצאות '!H146+'הוצאות '!H155+'הוצאות '!H160+'הוצאות '!H162 -> 4843000 | D17: =+E17-C17 -> 1251000 | E17: ='הוצאות '!H150+'הוצאות '!H154+'הוצאות '!H159+'הוצאות '!H161+'הוצאות '!H166 -> 6094000 | F17: 22 | G17: שמירה ובטחון | H17: ='הכנסות '!H19+'הכנסות '!H20 -> 4289000 | I17: =J17-H17 -> 6861000 | J17: ='הכנסות '!H22 -> 11150000 | L17: 80 | M17: 3621000
A18: 73 | B18: תכנון בניין עיר | C18: ='הוצאות '!H167+'הוצאות '!H176+'הוצאות '!H180+'הוצאות '!H183+'הוצאות '!H188 -> 13272000 | D18: =+E18-C18 -> 3138000 | E18: ='הוצאות '!H175+'הוצאות '!H179+'הוצאות '!H182+'הוצאות '!H187+'הוצאות '!H190 -> 16410000 | F18: 23 | G18: תכנון בניין עיר | H18: 0 | I18: =J18-H18 -> 5607000 | J18: ='הכנסות '!H25 -> 5607000 | L18: 81 | M18: 113796000
A19: 74 | B19: נכסים ציבוריים | C19: ='הוצאות '!H191+'הוצאות '!H196+'הוצאות '!H204+'הוצאות '!H207+'הוצאות '!H218+'הוצאות '!H227 -> 18743000 | D19: =+E19-C19 -> 27263000 | E19: ='הוצאות '!H195+'הוצאות '!H203+'הוצאות '!H206+'הוצאות '!H217+'הוצאות '!H226+'הוצאות '!H238 -> 46006000 | F19: 24 | G19: נכסים ציבוריים | H19: ='הכנסות '!H27+'הכנסות '!H28 -> 560000 | I19: =J19-H19 -> 157000 | J19: ='הכנסות '!H29 -> 717000 | L19: 82 | M19: 10951000
A20: 75 | B20: חגיגות ואירועים | C20: ='הוצאות '!H239 -> 7934000 | D20: =+E20-C20 -> 2544000 | E20: ='הוצאות '!H246 -> 10478000 | F20: 25 | G20: חגיגות וארועים | H20: 0 | I20: =J20-H20 -> 0 | J20: 0 | L20: 84 | M20: 33433567
A21: 76 | B21: שרותים שונים | C21: ='הוצאות '!H247+'הוצאות '!H252+'הוצאות '!H262 -> 2728000 | D21: =+E21-C21 -> 7665000 | E21: ='הוצאות '!H251+'הוצאות '!H255+'הוצאות '!H261+'הוצאות '!H264 -> 10393000 | F21: 26 | G21: שרותים שונים | H21: 0 | I21: =J21-H21 -> 0 | J21: 0 | L21: 86 | M21: 730000
A22: 77 | B22: פיתוח כלכלי | C22: ='הוצאות '!H270 -> 1219000 | D22: =+E22-C22 -> 3998000 | E22: ='הוצאות '!H269+'הוצאות '!H273 -> 5217000 | F22: 27 | G22: פיתוח תעשיה ומלאכה | H22: 0 | I22: =J22-H22 -> 0 | J22: 0 | L22: 87 | M22: 590000
A23: 78 | B23: פיקוח עירוני | C23: ='הוצאות '!H274+'הוצאות '!H281+'הוצאות '!H288+'הוצאות '!H294 -> 7219000 | D23: =+E23-C23 -> 4159000 | E23: ='הוצאות '!H280+'הוצאות '!H287+'הוצאות '!H293+'הוצאות '!H296 -> 11378000 | F23: 28 | G23: פיקוח עירוני | H23: 0 | I23: =J23-H23 -> 10807000 | J23: ='הכנסות '!H36 -> 10807000 | L23: 94 | M23: 618000
A24: 79 | B24: שירותים חקלאיים | C24: ='הוצאות '!H313 -> 392000 | D24: =+E24-C24 -> 106000 | E24: ='הוצאות '!H317 -> 498000 | F24: 29 | G24: רישוי עסקים | H24: 0 | I24: =J24-H24 -> 70000 | J24: ='הכנסות '!H38 -> 70000 | L24: 98 | M24: 44500000
A25: סה"כ 7 | C25: =SUM(C16:C24) -> 65871000 | D25: =SUM(D16:D24) -> 125292000 | E25: =SUM(E16:E24) -> 191163000 | F25: סה"כ 2 | H25: =SUM(H16:H24) -> 5334000 | I25: =SUM(I16:I24) -> 24693000 | J25: =SUM(J16:J24) -> 30027000 | L25: (ריק)
A26: 8 שרותים ממלכתיים | F26: 3 שרותים ממלכתיים | L26: סכום כולל | M26: 304189567
A28: 80 | B28: מינהל חבק"ל | C28: ='הוצאות '!H302 -> 2780000 | D28: =E28-C28 -> 2762000 | E28: ='הוצאות '!H312 -> 5542000 | F28: 30 | G28: מינהל חבק"ל | H28: 0 | I28: =J28-H28 -> 1000000 | J28: ='הכנסות '!H40 -> 1000000
A29: 81 | B29: חינוך | C29: ='הוצאות '!H318+'הוצאות '!H332+'הוצאות '!H333+'הוצאות '!H335+'הוצאות '!H345+'הוצאות '!H352+'הוצאות '!H354+'הוצאות '!H355+'הוצאות '!H366+'הוצאות '!H371+'הוצאות '!H378+'הוצאות '!H381+'הוצאות '!H389+'הוצאות '!H397+'הוצאות '!H403+'הוצאות '!H408 -> 114282000 | D29: =+E29-C29 -> 107826000 | E29: ='הוצאות '!H331+'הוצאות '!H344+'הוצאות '!H353+'הוצאות '!H365+'הוצאות '!H370+'הוצאות '!H375+'הוצאות '!H377+'הוצאות '!H380+'הוצאות '!H384+'הוצאות '!H388+'הוצאות '!H393+'הוצאות '!H396+'הוצאות '!H402+'הוצאות '!H409+'הוצאות '!H412+'הוצאות '!H414+'הוצאות '!H417 -> 222108000 | F29: 31 | G29: חינוך | H29: ='הכנסות '!H44+'הכנסות '!H45+'הכנסות '!H47+'הכנסות '!H48+'הכנסות '!H49+'הכנסות '!H50+'הכנסות '!H55+'הכנסות '!H56+'הכנסות '!H58+'הכנסות '!H59+'הכנסות '!H60+'הכנסות '!H61+'הכנסות '!H62+'הכנסות '!H63+'הכנסות '!H64+'הכנסות '!H66+'הכנסות '!H67+'הכנסות '!H68+'הכנסות '!H69+'הכנסות '!H70+'הכנסות '!H72+'הכנסות '!H73+'הכנסות '!H75+'הכנסות '!H77+'הכנסות '!H78+'הכנסות '!H79+'הכנסות '!H80+'הכנסות '!H81+'הכנסות '!H82+'הכנסות '!H83+'הכנסות '!H84+'הכנסות '!H86+'הכנסות '!H87+'הכנסות '!H88+'הכנסות '!H90+'הכנסות '!H92 -> 119178000 | I29: =J29-H29 -> 9251000 | J29: =+'הכנסות '!H51+'הכנסות '!H74+'הכנסות '!H76+'הכנסות '!H93 -> 128429000
A30: 82 | B30: תרבות | C30: ='הוצאות '!H420+'הוצאות '!H428+'הוצאות '!H438+'הוצאות '!H460+'הוצאות '!H468+'הוצאות '!H473+'הוצאות '!H479+'הוצאות '!H481+'הוצאות '!H485+'הוצאות '!H489 -> 10731700 | D30: =+E30-C30 -> 32307000 | E30: ='הוצאות '!H419+'הוצאות '!H427+'הוצאות '!H433+'הוצאות '!H437+'הוצאות '!H442+'הוצאות '!H449+'הוצאות '!H455+'הוצאות '!H457+'הוצאות '!H459+'הוצאות '!H467+'הוצאות '!H472+'הוצאות '!H478+'הוצאות '!H480+'הוצאות '!H484+'הוצאות '!H488+'הוצאות '!H498 -> 43038700 | F30: 32 | G30: תרבות | H30: ='הכנסות '!H94+'הכנסות '!H96+'הכנסות '!H97+'הכנסות '!H101+'הכנסות '!H106+'הכנסות '!H107+'הכנסות '!H108+'הכנסות '!H111 -> 3999000 | I30: =J30-H30 -> 2803000 | J30: =+'הכנסות '!H112 -> 6802000
A31: 83 | B31: בריאות | D31: =+E31-C31 -> 300000 | E31: ='הוצאות '!H500+'הוצאות '!H502 -> 300000 | F31: 33 | G31: בריאות | H31: 0 | I31: =J31-H31 -> 0 | J31: 0
A32: 84 | B32: רווחה | C32: ='הוצאות '!H503+'הוצאות '!H513+'הוצאות '!H514+'הוצאות '!H520+'הוצאות '!H521+'הוצאות '!H525+'הוצאות '!H526+'הוצאות '!H530+'הוצאות '!H531+'הוצאות '!H536+'הוצאות '!H539+'הוצאות '!H543+'הוצאות '!H576+'הוצאות '!H586+'הוצאות '!H595+'הוצאות '!H602+'הוצאות '!H609+'הוצאות '!H612+'הוצאות '!H620+'הוצאות '!H621+'הוצאות '!H626+'הוצאות '!H630+'הוצאות '!H631+'הוצאות '!H632+'הוצאות '!H633+'הוצאות '!H635+'הוצאות '!H637+'הוצאות '!H639+'הוצאות '!H642 -> 32055000 | D32: =+E32-C32 -> 99839000 | E32: ='הוצאות '!H512+'הוצאות '!H529+'הוצאות '!H547+'הוצאות '!H562+'הוצאות '!H585+'הוצאות '!H611+'הוצאות '!H646+'הוצאות '!H650+'הוצאות '!H653+'הוצאות '!H657 -> 131894000 | F32: 34 | G32: רווחה | H32: =+J32-I32 -> 93675000 | I32: =+'הכנסות '!H113+'הכנסות '!H118+'הכנסות '!H133+'הכנסות '!H142+'הכנסות '!H173 -> 2225000 | J32: =+'הכנסות '!H117+'הכנסות '!H128+'הכנסות '!H141+'הכנסות '!H157+'הכנסות '!H177+'הכנסות '!H200+'הכנסות '!H225+'הכנסות '!H229+'הכנסות '!H232+'הכנסות '!H236 -> 95900000
A33: 85 | B33: דת | D33: =+E33-C33 -> 5110000 | E33: ='הוצאות '!H659 -> 5110000 | F33: 35 | G33: דת | H33: 0 | I33: =J33-H33 -> 0 | J33: 0
A34: 86 | B34: קליטת עליה | C34: ='הוצאות '!H660 -> 951000 | D34: =+E34-C34 -> 712000 | E34: ='הוצאות '!H669 -> 1663000 | F34: 36 | G34: קליטת עליה | H34: ='הכנסות '!H238 -> 662000 | I34: =J34-H34 -> 40000 | J34: =+'הכנסות '!H239 -> 702000
A35: 87 | B35: איכות סביבה | C35: ='הוצאות '!H670 -> 364000 | D35: =+E35-C35 -> 122000 | E35: ='הוצאות '!H674 -> 486000 | F35: 37 | G35: איכות סביבה | H35: 0 | I35: =J35-H35 -> 201000 | J35: ='הכנסות '!H241 -> 201000
A36: סה"כ 8 | C36: =SUM(C28:C35) -> 161163700 | D36: =SUM(D28:D35) -> 248978000 | E36: =SUM(E28:E35) -> 410141700 | F36: סה"כ 3 | H36: =SUM(H28:H35) -> 217514000 | I36: =SUM(I28:I35) -> 15520000 | J36: =SUM(J28:J35) -> 233034000
A37: 9 מפעלים | F37: 4 מפעלים
A39: 91 | B39: מים | D39: 0 | F39: 41 | G39: מים | H39: 0 | I39: =+'הכנסות '!H242 -> 11000 | J39: =+'הכנסות '!H243 -> 11000
A40: 92 | B40: בתי מטבחיים | D40: 0 | F40: 42 | G40: בתי מטבחיים | H40: 0 | I40: 0 | J40: =+H40+I40 -> 0
A41: 93 | B41: נכסים | D41: =+E41-C41 -> 21000 | E41: ='הוצאות '!H677 -> 21000 | F41: 43 | G41: נכסים | H41: 0 | I41: =+'הכנסות '!H244+'הכנסות '!H246 -> 1123000 | J41: ='הכנסות '!H245+'הכנסות '!H247 -> 1123000
A42: 94 | B42: תחבורה | C42: ='הוצאות '!H678 -> 656000 | D42: =+E42-C42 -> 227000 | E42: ='הוצאות '!H681 -> 883000 | F42: 44 | G42: תחבורה | H42: 0 | I42: =+'הכנסות '!H248 -> 7400000 | J42: ='הכנסות '!H249 -> 7400000
A43: 97 | B43: מפעל הביוב | F43: 47 | G43: מפעל ביוב | H43: 0 | I43: =+'הכנסות '!H250 -> 28000 | J43: ='הכנסות '!H251 -> 28000
A44: סה"כ 91-97 | C44: =SUM(C39:C43) -> 656000 | D44: =SUM(D39:D43) -> 248000 | E44: =SUM(E39:E43) -> 904000 | F44: סה"כ 4 | H44: =SUM(H39:H43) -> 0 | I44: =SUM(I39:I43) -> 8562000 | J44: =SUM(J39:J43) -> 8562000
A45: 98-99 תשלומים בלתי רגילים | F45: 5 תקבולים בלתי רגילים
A47: 98 | B47: פנסיה | C47: ='הוצאות '!H684 -> 44518000 | D47: =+E47-C47 -> 0 | E47: ='הוצאות '!H685 -> 44518000 | G47: הלוואות | H47: 0 | I47: 0 | J47: =+I47+H47 -> 0
B48: הנחות ארנונה | D48: =+E48-C48 -> 61000000 | E48: ='הוצאות '!H687 -> 61000000 | G48: קרנות | H48: 0 | I48: 0 | J48: =+I48+H48 -> 0
A49: 99 | B49: הוצאות מיוחדות | D49: =+E49-C49 -> 250000 | E49: ='הוצאות '!H689 -> 250000 | G49: אחרות | H49: ='הכנסות '!H262 -> 599000 | I49: =+'הכנסות '!H252+'הכנסות '!H255+'הכנסות '!H257+'הכנסות '!H258+'הכנסות '!H260 -> 29184000 | J49: =+'הכנסות '!H254+'הכנסות '!H263 -> 29786000
A50: סה"כ 98-99 | C50: =SUM(C47:C49) -> 44518000 | D50: =SUM(D47:D49) -> 61250000 | E50: =SUM(E47:E49) -> 105768000 | F50: סה"כ 5 | H50: =SUM(H47:H49) -> 599000 | I50: =SUM(I47:I49) -> 29184000 | J50: =SUM(J47:J49) -> 29786000
A51: סה"כ תשלומים | C51: =+C13+C25+C36+C44+C50 -> 300071700 | D51: =+D13+D25+D36+D44+D50 -> 489832000 | E51: =+E13+E25+E36+E44+E50 -> 789903700 | F51: סה"כ תקבולים | H51: =+H13+H25+H36+H44+H50 -> 223447000 | I51: =+I13+I25+I36+I44+I50 -> 565257000 | J51: =+J50+J44+J36+J25+J13 -> 788707000
F60: =E51-J51 -> 1196700

Sheet ריכוז תקבולים ותשלומים 2023 4
A1: ריכוז תקבולים ותשלומים לפי פרקי תקציב לשנת 2023
A3: תשלומים | F3: תקבולים
A4: מס פרק | B4: שם הפרק | C4: שכר | D4: פעולות | E4: סה"כ | F4: מס' פרק | G4: שם הפרק | H4: ממשלה | I4: עצמיות | J4: סה"כ
A5: 6 הנהלה וכלליות | F5: 1 מיסים ומענקים
A7: 61 | B7: מנהל כללי | C7: =+'הוצאות '!I3+'הוצאות '!I9+'הוצאות '!I28+'הוצאות '!I34+'הוצאות '!I45+'הוצאות '!I52+'הוצאות '!I61+'הוצאות '!I63+'הוצאות '!I67+'הוצאות '!I76+'הוצאות '!I64+'הוצאות '!I83 -> 20551000 | D7: =+E7-C7 -> 18564000 | E7: =+'הוצאות '!I8+'הוצאות '!I27+'הוצאות '!I33+'הוצאות '!I44+'הוצאות '!I51+'הוצאות '!I62+'הוצאות '!I66+'הוצאות '!I75+'הוצאות '!I82+'הוצאות '!I85 -> 39115000 | F7: 11 | G7: ארנונות | H7: 0 | I7: =J7-H7 -> 428700000 | J7: ='הכנסות '!I7-'הכנסות '!I5 -> 428700000
D8: =+E8-C8 -> 0 | F8: 11 | G8: הנחות ארנונה | H8: 0 | I8: =J8-H8 -> 64000000 | J8: ='הכנסות '!I5 -> 64000000
A9: 62 | B9: מנהל כספי | C9: =+'הוצאות '!I86+'הוצאות '!I92+'הוצאות '!I98 -> 9894000 | D9: =+E9-C9 -> 4411000 | E9: =+'הוצאות '!I91+'הוצאות '!I97+'הוצאות '!I104 -> 14305000 | F9: 12 | G9: אגרות | H9: 0 | I9: =J9-H9 -> 8030000 | J9: =+'הכנסות '!I10 -> 8030000
A10: 63 | B10: הוצאות מימון | D10: =+E10-C10 -> 1800000 | E10: =+'הוצאות '!I108 -> 1800000 | F10: 13 | G10: היטלים | H10: 0 | I10: =J10-H10 -> 0 | J10: 0
A11: 64 | B11: פרעון מלוות | D11: =+E11-C11 -> 31176999 | E11: =+'הוצאות '!I113-1 -> 31176999 | F11: 18 | G11: מכירת שירותים | H11: 0 | I11: =J11-H11 -> 115000 | J11: =+'הכנסות '!I12 -> 115000
F12: 19 | G12: מענקים כללים | H12: 0 | I12: =J12-H12 -> 0 | J12: 0
A13: סה"כ 6 | C13: =SUM(C7:C11) -> 30445000 | D13: =SUM(D7:D11) -> 55951998 | E13: =SUM(E7:E11) -> 86396998 | F13: סה"כ 1 | H13: =SUM(H7:H12) -> 0 | I13: =SUM(I7:I12) -> 500845000 | J13: =SUM(J7:J12) -> 500845000
A14: 7 שירותים מקומיים | F14: 2 שירותים מקומיים
A16: 71 | B16: תברואה | C16: =+'הוצאות '!I114+'הוצאות '!I122+'הוצאות '!I131+'הוצאות '!I136 -> 10470000 | D16: =+E16-C16 -> 74220000 | E16: =+'הוצאות '!I121+'הוצאות '!I125+'הוצאות '!I127+'הוצאות '!I130+'הוצאות '!I135+'הוצאות '!I143+'הוצאות '!I145 -> 84690000 | F16: 21 | G16: תברואה | H16: ='הכנסות '!I16 -> 500000 | I16: =J16-H16 -> 1200000 | J16: =+'הכנסות '!I17 -> 1700000
A17: 72 | B17: שמירה ובטחון | C17: =+'הוצאות '!I146+'הוצאות '!I155+'הוצאות '!I160+'הוצאות '!I162 -> 5691000 | D17: =+E17-C17 -> 1531000 | E17: =+'הוצאות '!I150+'הוצאות '!I154+'הוצאות '!I159+'הוצאות '!I161+'הוצאות '!I166 -> 7222000 | F17: 22 | G17: שמירה ובטחון | H17: ='הכנסות '!I19+'הכנסות '!I20 -> 4992000 | I17: =J17-H17 -> 7090000 | J17: =+'הכנסות '!I22 -> 12082000
A18: 73 | B18: תכנון בניין עיר | C18: =+'הוצאות '!I167+'הוצאות '!I176+'הוצאות '!I180+'הוצאות '!I183+'הוצאות '!I188 -> 15614000 | D18: =+E18-C18 -> 4919813.2 | E18: =+'הוצאות '!I175+'הוצאות '!I179+'הוצאות '!I182+'הוצאות '!I187+'הוצאות '!I190 -> 20533813 | F18: 23 | G18: תכנון בניין עיר | H18: 0 | I18: =J18-H18 -> 6700000 | J18: =+'הכנסות '!I25 -> 6700000
A19: 74 | B19: נכסים ציבוריים | C19: =+'הוצאות '!I191+'הוצאות '!I196+'הוצאות '!I204+'הוצאות '!I207+'הוצאות '!I218+'הוצאות '!I227 -> 19673000 | D19: =+E19-C19 -> 27422000 | E19: =+'הוצאות '!I195+'הוצאות '!I203+'הוצאות '!I206+'הוצאות '!I217+'הוצאות '!I226+'הוצאות '!I238 -> 47095000 | F19: 24 | G19: נכסים ציבוריים | H19: =+'הכנסות '!I27+'הכנסות '!I28 -> 560000 | I19: =J19-H19 -> 50000 | J19: =+'הכנסות '!I29 -> 610000
A20: 75 | B20: חגיגות ואירועים | C20: =+'הוצאות '!I239+'הוצאות '!I240 -> 8649000 | D20: =+E20-C20 -> 2602000 | E20: =+'הוצאות '!I246 -> 11251000 | F20: 25 | G20: חגיגות וארועים | H20: 0 | I20: =J20-H20 -> 0 | J20: 0
A21: 76 | B21: שרותים שונים | C21: =+'הוצאות '!I247+'הוצאות '!I252+'הוצאות '!I262 -> 2770000 | D21: =+E21-C21+0.4 -> 9474000.4 | E21: =+'הוצאות '!I251+'הוצאות '!I255+'הוצאות '!I261+'הוצאות '!I264 -> 12244000 | F21: 26 | G21: שרותים שונים | H21: 0 | I21: 0 | J21: 0
A22: 77 | B22: פיתוח כלכלי | C22: =+'הוצאות '!I270 -> 1402000 | D22: =+E22-C22 -> 1865000 | E22: =+'הוצאות '!I269+'הוצאות '!I273 -> 3267000 | F22: 27 | G22: פיתוח תעשיה ומלאכה | H22: 0 | I22: =J22-H22 -> 0 | J22: 0
A23: 78 | B23: פיקוח עירוני | C23: =+'הוצאות '!I274+'הוצאות '!I281+'הוצאות '!I288+'הוצאות '!I294+'הוצאות '!I297 -> 9947000 | D23: =+E23-C23 -> 4731000 | E23: =+'הוצאות '!I280+'הוצאות '!I287+'הוצאות '!I293+'הוצאות '!I296+'הוצאות '!I301 -> 14678000 | F23: 28 | G23: פיקוח עירוני | H23: 0 | I23: =J23-H23 -> 11380000 | J23: =+'הכנסות '!I36 -> 11380000
A24: 79 | B24: שירותים חקלאיים | C24: =+'הוצאות '!I313 -> 396000 | D24: =+E24-C24 -> 87000 | E24: =+'הוצאות '!I317 -> 483000 | F24: 29 | G24: רישוי עסקים | H24: 0 | I24: =J24-H24 -> 80000 | J24: =+'הכנסות '!I38 -> 80000
A25: סה"כ 7 | C25: =SUM(C16:C24) -> 74612000 | D25: =SUM(D16:D24) -> 1.2685181e+08 | E25: =SUM(E16:E24) -> 2.0146381e+08 | F25: סה"כ 2 | H25: =SUM(H16:H24) -> 6052000 | I25: =SUM(I16:I24) -> 26500000 | J25: =SUM(J16:J24) -> 32552000
A26: 8 שרותים ממלכתיים | F26: 3 שרותים ממלכתיים
A28: 80 | B28: מינהל חבק"ל | C28: 0 | D28: 0 | E28: 0 | F28: 30 | G28: מינהל חבק"ל | H28: 0 | I28: =J28-H28 -> 0 | J28: =+'הכנסות '!I40 -> 0
A29: 81 | B29: חינוך | C29: =+'הוצאות '!I318+'הוצאות '!I332+'הוצאות '!I333+'הוצאות '!I335+'הוצאות '!I345+'הוצאות '!I352+'הוצאות '!I354+'הוצאות '!I355+'הוצאות '!I366+'הוצאות '!I371+'הוצאות '!I378+'הוצאות '!I381+'הוצאות '!I389+'הוצאות '!I397+'הוצאות '!I403+'הוצאות '!I408 -> 126798000 | D29: =+E29-C29 -> 113528000 | E29: =+'הוצאות '!I331+'הוצאות '!I344+'הוצאות '!I353+'הוצאות '!I365+'הוצאות '!I370+'הוצאות '!I375+'הוצאות '!I377+'הוצאות '!I380+'הוצאות '!I384+'הוצאות '!I388+'הוצאות '!I393++'הוצאות '!I396+'הוצאות '!I402+'הוצאות '!I409+'הוצאות '!I412+'הוצאות '!I414+'הוצאות '!I417 -> 240326000 | F29: 31 | G29: חינוך | H29: ='הכנסות '!I42+'הכנסות '!I44+'הכנסות '!I45+'הכנסות '!I47+'הכנסות '!I48+'הכנסות '!I49+'הכנסות '!I55+'הכנסות '!I56+'הכנסות '!I57+'הכנסות '!I58+'הכנסות '!I59+'הכנסות '!I60+'הכנסות '!I61+'הכנסות '!I62+'הכנסות '!I63+'הכנסות '!I64+'הכנסות '!I66+'הכנסות '!I67+'הכנסות '!I68+'הכנסות '!I69+'הכנסות '!I70+'הכנסות '!I72+'הכנסות '!I73+'הכנסות '!I75+'הכנסות '!I77+'הכנסות '!I78+'הכנסות '!I80+'הכנסות '!I81+'הכנסות '!I82+'הכנסות '!I83+'הכנסות '!I84+'הכנסות '!I86+'הכנסות '!I87+'הכנסות '!I88+'הכנסות '!I90+'הכנסות '!I91+'הכנסות '!I92 -> 132803840 | I29: =+J29-H29 -> 10088000 | J29: =+'הכנסות '!I51+'הכנסות '!I74+'הכנסות '!I76+'הכנסות '!I93 -> 142891840
A30: 82 | B30: תרבות | C30: ='הוצאות '!I420+'הוצאות '!I428+'הוצאות '!I438+'הוצאות '!I460+'הוצאות '!I468+'הוצאות '!I473+'הוצאות '!I479+'הוצאות '!I481+'הוצאות '!I485+'הוצאות '!I489 -> 11065000 | D30: =+E30-C30 -> 31157000 | E30: =+'הוצאות '!I419+'הוצאות '!I427+'הוצאות '!I433+'הוצאות '!I437+'הוצאות '!I442+'הוצאות '!I449+'הוצאות '!I455+'הוצאות '!I457+'הוצאות '!I459+'הוצאות '!I467+'הוצאות '!I472+'הוצאות '!I478+'הוצאות '!I480+'הוצאות '!I484+'הוצאות '!I488+'הוצאות '!I498 -> 42222000 | F30: 32 | G30: תרבות | H30: =+'הכנסות '!I94+'הכנסות '!I96+'הכנסות '!I97+'הכנסות '!I101+'הכנסות '!I106+'הכנסות '!I107+'הכנסות '!I108+'הכנסות '!I111 -> 3077000 | I30: =J30-H30 -> 3512000 | J30: =+'הכנסות '!I112 -> 6589000
A31: 83 | B31: בריאות | D31: =+E31-C31 -> 222000 | E31: =+'הוצאות '!I500+'הוצאות '!I502 -> 222000 | F31: 33 | G31: בריאות | H31: 0 | I31: =J31-H31 -> 0 | J31: 0
A32: 84 | B32: רווחה | C32: ='הוצאות '!I503+'הוצאות '!I513+'הוצאות '!I514+'הוצאות '!I520+'הוצאות '!I521+'הוצאות '!I525+'הוצאות '!I526+'הוצאות '!I530+'הוצאות '!I531+'הוצאות '!I536+'הוצאות '!I537+'הוצאות '!I539+'הוצאות '!I543+'הוצאות '!I576+'הוצאות '!I586+'הוצאות '!I595+'הוצאות '!I602+'הוצאות '!I609+'הוצאות '!I612+'הוצאות '!I618+'הוצאות '!I620+'הוצאות '!I621+'הוצאות '!I626+'הוצאות '!I630+'הוצאות '!I631+'הוצאות '!I632+'הוצאות '!I633+'הוצאות '!I635+'הוצאות '!I637+'הוצאות '!I639+'הוצאות '!I642 -> 37031000 | D32: =+E32-C32 -> 105467000 | E32: ='הוצאות '!I512+'הוצאות '!I529+'הוצאות '!I547+'הוצאות '!I562+'הוצאות '!I585+'הוצאות '!I611+'הוצאות '!I646+'הוצאות '!I650+'הוצאות '!I653+'הוצאות '!I657 -> 142498000 | F32: 34 | G32: רווחה | H32: =+J32-I32 -> 1.01524e+08 | I32: ='הכנסות '!I113+'הכנסות '!I118+'הכנסות '!I133+'הכנסות '!I142+'הכנסות '!I173 -> 2284000 | J32: =+'הכנסות '!I117+'הכנסות '!I128+'הכנסות '!I141+'הכנסות '!I157+'הכנסות '!I177+'הכנסות '!I200+'הכנסות '!I225+'הכנסות '!I229+'הכנסות '!I232+'הכנסות '!I236 -> 1.03808e+08
A33: 85 | B33: דת | D33: =+E33-C33 -> 5000000 | E33: =+'הוצאות '!I659 -> 5000000 | F33: 35 | G33: דת | H33: 0 | I33: =J33-H33 -> 0 | J33: 0
A34: 86 | B34: קליטת עליה | C34: =+'הוצאות '!I660 -> 1209000 | D34: =+E34-C34 -> 881000 | E34: =+'הוצאות '!I669 -> 2090000 | F34: 36 | G34: קליטת עליה | H34: =+'הכנסות '!I238 -> 941000 | I34: =J34-H34 -> 40000 | J34: =+'הכנסות '!I239 -> 981000
A35: 87 | B35: איכות סביבה | C35: =+'הוצאות '!I670 -> 736000 | D35: =+E35-C35 -> 240000 | E35: =+'הוצאות '!I674 -> 976000 | F35: 37 | G35: איכות סביבה | H35: 0 | I35: =J35-H35 -> 400000 | J35: =+'הכנסות '!I241 -> 400000
A36: סה"כ 8 | C36: =SUM(C28:C35) -> 176839000 | D36: =SUM(D28:D35) -> 256495000 | E36: =SUM(E28:E35) -> 433334000 | F36: סה"כ 3 | H36: =SUM(H28:H35) -> 2.3834584e+08 | I36: =SUM(I28:I35) -> 16324000 | J36: =SUM(J28:J35) -> 2.5466984e+08
A37: 9 מפעלים | F37: 4 מפעלים
A39: 91 | B39: מים | D39: 0 | F39: 41 | G39: מים | H39: 0 | I39: =+'הכנסות '!I242 -> 10000 | J39: =+'הכנסות '!I243 -> 10000
A40: 92 | B40: בתי מטבחיים | D40: 0 | F40: 42 | G40: בתי מטבחיים | H40: 0 | I40: 0 | J40: =+H40+I40 -> 0
A41: 93 | B41: נכסים | D41: =+E41-C41 -> 46187 | E41: =+'הוצאות '!I677 -> 46187 | F41: 43 | G41: נכסים | H41: 0 | I41: =+'הכנסות '!I244+'הכנסות '!I246 -> 1050000 | J41: =+'הכנסות '!I245+'הכנסות '!I247 -> 1050000
A42: 94 | B42: תחבורה | C42: =+'הוצאות '!I678 -> 682000 | D42: =+E42-C42 -> 317000 | E42: =+'הוצאות '!I681 -> 999000 | F42: 44 | G42: תחבורה | H42: 0 | I42: =+'הכנסות '!I248 -> 7800000 | J42: =+'הכנסות '!I249 -> 7800000
A43: 96 | B43: הוצאות רזרבה | D43: =+E43-C43 -> 8370000 | E43: =+'הוצאות '!I682 -> 8370000
A44: 97 | B44: מפעל הביוב | F44: 47 | G44: מפעל ביוב | H44: 0 | I44: =+'הכנסות '!I250 -> 20000 | J44: =+'הכנסות '!I251 -> 20000
A45: סה"כ 91-97 | C45: =SUM(C39:C44) -> 682000 | D45: =SUM(D39:D44) -> 8733187 | E45: =SUM(E39:E44) -> 9415187 | F45: סה"כ 4 | H45: =SUM(H39:H44) -> 0 | I45: =SUM(I39:I44) -> 8880000 | J45: =SUM(J39:J44) -> 8880000
A46: 98-99 תשלומים בלתי רגילים | F46: 5 תקבולים בלתי רגילים
A48: 98 | B48: פנסיה | C48: =+'הוצאות '!I684 -> 43200000 | D48: =+E48-C48 -> -0.4 | E48: =+'הוצאות '!I685-0.4 -> 43200000 | G48: הלוואות | H48: 0 | I48: 0 | J48: =+I48+H48 -> 0
B49: הנחות ארנונה | D49: =+E49-C49 -> 64000000 | E49: =+'הוצאות '!I687 -> 64000000 | G49: קרנות | H49: 0 | I49: 0 | J49: =+I49+H49 -> 0
A50: 99 | B50: הוצאות מיוחדות | D50: =+E50-C50 -> 250000.4 | E50: =+'הוצאות '!I689 -> 250000.4 | G50: אחרות | H50: =+'הכנסות '!I262 -> 650000 | I50: =+'הכנסות '!I252+'הכנסות '!I253+'הכנסות '!I255+'הכנסות '!I256+'הכנסות '!I257+'הכנסות '!I258+'הכנסות '!I260+'הכנסות '!I259+'הכנסות '!I261 -> 40463160 | J50: =+'הכנסות '!I254+'הכנסות '!I263 -> 41113160
A51: סה"כ 98-99 | C51: =SUM(C48:C50) -> 43200000 | D51: =SUM(D48:D50) -> 64250000 | E51: =SUM(E48:E50) -> 1.0745e+08 | F51: סה"כ 5 | H51: =SUM(H48:H50) -> 650000 | I51: =SUM(I48:I50) -> 40463160 | J51: =SUM(J48:J50) -> 41113160
A52: סה"כ תשלומים | C52: =+C13+C25+C36+C45+C51 -> 3.25778e+08 | D52: =+D13+D25+D36+D45+D51 -> 5.12282e+08 | E52: =+E13+E25+E36+E45+E51+2 -> 8.3806e+08 | F52: סה"כ תקבולים | H52: =+H13+H25+H36+H45+H51 -> 2.4504784e+08 | I52: =+I13+I25+I36+I45+I51 -> 5.9301216e+08 | J52: =+J51+J45+J36+J25+J13 -> 8.3806e+08
J54: =J52-'הכנסות '!I265 -> 0.49999988

Sheet תשלומים לפי אגפים5
A1: תשלומים לפי אגפים
A4: אגף | B4: סעיף | C4: תקציב 2022 | D4: אומדן 2022 | E4: תקציב 2023 | F4: גידול תקציב 2033 תקציב מול 2022 | G4: תקציב 2023 מול אומדן 2022
A5: הנהלה | B5: שכר | C5: =+'הוצאות '!G3+'הוצאות '!G9+'הוצאות '!G28+'הוצאות '!G45+'הוצאות '!G67+'הוצאות '!G76+'הוצאות '!G83+'הוצאות '!G34 -> 14365000 | D5: =+'הוצאות '!H3+'הוצאות '!H9+'הוצאות '!H28+'הוצאות '!H45+'הוצאות '!H67+'הוצאות '!H76+'הוצאות '!H83+'הוצאות '!H34 -> 15053000 | E5: =+'הוצאות '!I3+'הוצאות '!I9+'הוצאות '!I28+'הוצאות '!I45+'הוצאות '!I67+'הוצאות '!I76+'הוצאות '!I83+'הוצאות '!I34 -> 15580000
B6: פעילות | C6: =+C7-C5 -> 12705000 | D6: =+D7-D5 -> 12017000 | E6: =+E7-E5 -> 16804000
B7: סה"כ | C7: =+'הוצאות '!G8+'הוצאות '!G27+'הוצאות '!G33+'הוצאות '!G44+'הוצאות '!G51+'הוצאות '!G75+'הוצאות '!G82+'הוצאות '!G85 -> 27070000 | D7: =+'הוצאות '!H8+'הוצאות '!H27+'הוצאות '!H33+'הוצאות '!H44+'הוצאות '!H51+'הוצאות '!H75+'הוצאות '!H82+'הוצאות '!H85 -> 27070000 | E7: =+'הוצאות '!I8+'הוצאות '!I27+'הוצאות '!I33+'הוצאות '!I44+'הוצאות '!I51+'הוצאות '!I75+'הוצאות '!I82+'הוצאות '!I85 -> 32384000
A8: משאבי אנוש | B8: שכר | C8: =+'הוצאות '!G52+'הוצאות '!G61 -> 3382000 | D8: =+'הוצאות '!H52+'הוצאות '!H61 -> 3399000 | E8: =+'הוצאות '!I52+'הוצאות '!I61 -> 3593000
B9: פעילות | C9: =+C10-C8 -> 3989000 | D9: =+D10-D8 -> 3945000 | E9: =+E10-E8 -> 1560000
B10: סה"כ | C10: =+'הוצאות '!G62 -> 7371000 | D10: =+'הוצאות '!H62+'הוצאות '!H66 -> 7344000 | E10: =+'הוצאות '!I62 -> 5153000
A11: שרות | B11: שכר | C11: =+'הוצאות '!G63+'הוצאות '!G64 -> 518000 | D11: =+'הוצאות '!H63+'הוצאות '!H64 -> 67000 | E11: =+'הוצאות '!I63+'הוצאות '!I64+'הוצאות '!I247 -> 3618000
B12: פעילות | C12: =C13-C11 -> 200000 | D12: =D13-D11 -> 0 | E12: =E13-E11 -> 497000
B13: סה"כ | C13: =+'הוצאות '!G66 -> 718000 | D13: =+'הוצאות '!H66 -> 67000 | E13: =+'הוצאות '!I251+'הוצאות '!I66 -> 4115000
A14: כספים | B14: שכר | C14: =+'הוצאות '!G86+'הוצאות '!G92+'הוצאות '!G98+'הוצאות '!G227+'הוצאות '!G188 -> 12669000 | D14: =+'הוצאות '!H86+'הוצאות '!H92+'הוצאות '!H98+'הוצאות '!H227+'הוצאות '!H188 -> 12377000 | E14: =+'הוצאות '!I86+'הוצאות '!I92+'הוצאות '!I98+'הוצאות '!I227+'הוצאות '!I188 -> 13512000
B15: פעילות | C15: =+C16-C14 -> 11653000 | D15: =+D16-D14 -> 11527000 | E15: =+E16-E14 -> 12759000
B16: סה"כ | C16: =+'הוצאות '!G91+'הוצאות '!G97+'הוצאות '!G104+'הוצאות '!G190+'הוצאות '!G238 -> 24322000 | D16: =+'הוצאות '!H91+'הוצאות '!H97+'הוצאות '!H104+'הוצאות '!H190+'הוצאות '!H238 -> 23904000 | E16: =+'הוצאות '!I91+'הוצאות '!I97+'הוצאות '!I104+'הוצאות '!I190+'הוצאות '!I238 -> 26271000
A17: שפ"ע | B17: שכר | C17: =+'הוצאות '!G114+'הוצאות '!G122+'הוצאות '!G131+'הוצאות '!G136+'הוצאות '!G191+'הוצאות '!G196+'הוצאות '!G207+'הוצאות '!G270+'הוצאות '!G678 -> 18632000 | D17: =+'הוצאות '!H114+'הוצאות '!H122+'הוצאות '!H131+'הוצאות '!H136+'הוצאות '!H191+'הוצאות '!H196+'הוצאות '!H207+'הוצאות '!H270+'הוצאות '!H678 -> 17991000 | E17: =+'הוצאות '!I114+'הוצאות '!I122+'הוצאות '!I131+'הוצאות '!I136+'הוצאות '!I191+'הוצאות '!I196+'הוצאות '!I207+'הוצאות '!I270+'הוצאות '!I678 -> 19892000
B18: פעילות | C18: =+C19-C17 -> 88111840 | D18: =+D19-D17 -> 94202000 | E18: =+E19-E17 -> 91223187
B19: סה"כ | C19: =+'הוצאות '!G121+'הוצאות '!G125+'הוצאות '!G127+'הוצאות '!G130+'הוצאות '!G135+'הוצאות '!G143+'הוצאות '!G145+'הוצאות '!G195+'הוצאות '!G203+'הוצאות '!G217+'הוצאות '!G273+'הוצאות '!G681+'הוצאות '!G677 -> 106743840 | D19: =+'הוצאות '!H121+'הוצאות '!H125+'הוצאות '!H127+'הוצאות '!H130+'הוצאות '!H135+'הוצאות '!H143+'הוצאות '!H145+'הוצאות '!H195+'הוצאות '!H203+'הוצאות '!H217+'הוצאות '!H273+'הוצאות '!H681+'הוצאות '!H677 -> 112193000 | E19: =+'הוצאות '!I121+'הוצאות '!I125+'הוצאות '!I127+'הוצאות '!I130+'הוצאות '!I135+'הוצאות '!I143+'הוצאות '!I145+'הוצאות '!I195+'הוצאות '!I203+'הוצאות '!I217+'הוצאות '!I273+'הוצאות '!I681+'הוצאות '!I677 -> 111115187
A20: אכיפה ובטחון | B20: שכר | C20: =+'הוצאות '!G146+'הוצאות '!G155+'הוצאות '!G160+'הוצאות '!G162+'הוצאות '!G274+'הוצאות '!G281+'הוצאות '!G294+'הוצאות '!G670+'הוצאות '!G297+'הוצאות '!G247 -> 14587000 | D20: =+'הוצאות '!H146+'הוצאות '!H155+'הוצאות '!H160+'הוצאות '!H162+'הוצאות '!H274+'הוצאות '!H281+'הוצאות '!H294+'הוצאות '!H670+'הוצאות '!H297+'הוצאות '!H247 -> 13808000 | E20: =+'הוצאות '!I146+'הוצאות '!I155+'הוצאות '!I160+'הוצאות '!I162+'הוצאות '!I274+'הוצאות '!I281+'הוצאות '!I294+'הוצאות '!I670+'הוצאות '!I297 -> 15719000
B21: פעילות | C21: =+C22-C20 -> 6651000 | D21: =+D22-D20 -> 5541000 | E21: =+E22-E20 -> 6081000
B22: סה"כ | C22: =+'הוצאות '!G674+'הוצאות '!G296+'הוצאות '!G287+'הוצאות '!G280+'הוצאות '!G251+'הוצאות '!G166+'הוצאות '!G161+'הוצאות '!G159+'הוצאות '!G154+'הוצאות '!G150 -> 21238000 | D22: =+'הוצאות '!H674+'הוצאות '!H296+'הוצאות '!H287+'הוצאות '!H280+'הוצאות '!H251+'הוצאות '!H166+'הוצאות '!H161+'הוצאות '!H159+'הוצאות '!H154+'הוצאות '!H150 -> 19349000 | E22: =+'הוצאות '!I674+'הוצאות '!I296+'הוצאות '!I287+'הוצאות '!I280+'הוצאות '!I166+'הוצאות '!I161+'הוצאות '!I159+'הוצאות '!I154+'הוצאות '!I150+'הוצאות '!I301 -> 21800000
A23: הנדסה | B23: שכר | C23: =+'הוצאות '!G167+'הוצאות '!G176+'הוצאות '!G180+'הוצאות '!G252+'הוצאות '!G183 -> 13818000 | D23: =+'הוצאות '!H167+'הוצאות '!H176+'הוצאות '!H180+'הוצאות '!H252+'הוצאות '!H183 -> 12726000 | E23: =+'הוצאות '!I167+'הוצאות '!I176+'הוצאות '!I180+'הוצאות '!I252+'הוצאות '!I183 -> 14538000
B24: פעילות | C24: =+C25-C23 -> 4469000 | D24: =+D25-D23 -> 3137000 | E24: =+E25-E23 -> 4924813.2
B25: סה"כ | C25: =+'הוצאות '!G175+'הוצאות '!G179+'הוצאות '!G182+'הוצאות '!G187+'הוצאות '!G255 -> 18287000 | D25: =+'הוצאות '!H175+'הוצאות '!H179+'הוצאות '!H182+'הוצאות '!H187+'הוצאות '!H255 -> 15863000 | E25: =+'הוצאות '!I175+'הוצאות '!I179+'הוצאות '!I182+'הוצאות '!I187+'הוצאות '!I255 -> 19462813
A26: חופים | B26: שכר | C26: =+'הוצאות '!G218 -> 9400000 | D26: =+'הוצאות '!H218 -> 9635000 | E26: =+'הוצאות '!I218 -> 9778000
B27: פעילות | C27: =+C28-C26 -> 2637000 | D27: =+D28-D26 -> 2360000 | E27: =+E28-E26 -> 2587000
B28: סה"כ | C28: =+'הוצאות '!G226 -> 12037000 | D28: =+'הוצאות '!H226 -> 11995000 | E28: =+'הוצאות '!I226 -> 12365000
A29: ארועים ואחזקה | B29: שכר | C29: =+'הוצאות '!G239+'הוצאות '!G240 -> 8001000 | D29: =+'הוצאות '!H239+'הוצאות '!H240 -> 7934000 | E29: =+'הוצאות '!I239+'הוצאות '!I240 -> 8649000
B30: פעילות | C30: =+C31-C29 -> 2052000 | D30: =+D31-D29 -> 2544000 | E30: =+E31-E29 -> 2602000
B31: סה"כ | C31: =+'הוצאות '!G246 -> 10053000 | D31: =+'הוצאות '!H246 -> 10478000 | E31: =+'הוצאות '!I246 -> 11251000
A32: מינהל חברה וקהילה | B32: שכר | C32: =+'הוצאות '!G302 -> 3621000 | D32: =+'הוצאות '!H302 -> 2780000 | E32: 0
B33: פעילות | C33: =+C34-C32 -> 4041215 | D33: =+D34-D32 -> 2762000 | E33: =+E34-E32 -> 0
B34: סה"כ | C34: =++'הוצאות '!G312 -> 7662215 | D34: =++'הוצאות '!H312 -> 5542000 | E34: 0
A35: חינוך | B35: שכר | C35: ='הוצאות '!G204+'הוצאות '!G318+'הוצאות '!G332+'הוצאות '!G333+'הוצאות '!G335+'הוצאות '!G345+'הוצאות '!G352+'הוצאות '!G354+'הוצאות '!G355+'הוצאות '!G366+'הוצאות '!G371+'הוצאות '!G378+'הוצאות '!G381+'הוצאות '!G389+'הוצאות '!G397+'הוצאות '!G403+'הוצאות '!G408 -> 114148000 | D35: ='הוצאות '!H204+'הוצאות '!H318+'הוצאות '!H332+'הוצאות '!H333+'הוצאות '!H335+'הוצאות '!H345+'הוצאות '!H352+'הוצאות '!H354+'הוצאות '!H355+'הוצאות '!H366+'הוצאות '!H371+'הוצאות '!H378+'הוצאות '!H381+'הוצאות '!H389+'הוצאות '!H397+'הוצאות '!H403+'הוצאות '!H408 -> 114655000 | E35: ='הוצאות '!I204+'הוצאות '!I318+'הוצאות '!I332+'הוצאות '!I333+'הוצאות '!I335+'הוצאות '!I345+'הוצאות '!I352+'הוצאות '!I354+'הוצאות '!I355+'הוצאות '!I366+'הוצאות '!I371+'הוצאות '!I378+'הוצאות '!I381+'הוצאות '!I389+'הוצאות '!I397+'הוצאות '!I403+'הוצאות '!I408 -> 127168000
B36: פעילות | C36: =+C37-C35 -> 1.07745e+08 | D36: =+D37-D35 -> 108596000 | E36: =+E37-E35 -> 113820000
B37: סה"כ | C37: =+'הוצאות '!G206+'הוצאות '!G331+'הוצאות '!G344+'הוצאות '!G353+'הוצאות '!G365+'הוצאות '!G370+'הוצאות '!G375+'הוצאות '!G377+'הוצאות '!G380+'הוצאות '!G384+'הוצאות '!G388+'הוצאות '!G393+'הוצאות '!G396+'הוצאות '!G402+'הוצאות '!G409+'הוצאות '!G412+'הוצאות '!G414+'הוצאות '!G417 -> 2.21893e+08 | D37: =+'הוצאות '!H206+'הוצאות '!H331+'הוצאות '!H344+'הוצאות '!H353+'הוצאות '!H365+'הוצאות '!H370+'הוצאות '!H375+'הוצאות '!H377+'הוצאות '!H380+'הוצאות '!H384+'הוצאות '!H388+'הוצאות '!H393+'הוצאות '!H396+'הוצאות '!H402+'הוצאות '!H409+'הוצאות '!H412+'הוצאות '!H414+'הוצאות '!H417+'הוצאות '!H419 -> 223251000 | E37: =+'הוצאות '!I206+'הוצאות '!I331+'הוצאות '!I344+'הוצאות '!I353+'הוצאות '!I365+'הוצאות '!I370+'הוצאות '!I375+'הוצאות '!I377+'הוצאות '!I380+'הוצאות '!I384+'הוצאות '!I388+'הוצאות '!I393+'הוצאות '!I396+'הוצאות '!I402+'הוצאות '!I409+'הוצאות '!I412+'הוצאות '!I414+'הוצאות '!I417 -> 240988000
A38: אתו"ס | B38: שכר | C38: =+'הוצאות '!G428+'הוצאות '!G438+'הוצאות '!G489+'הוצאות '!G660+'הוצאות '!G460 -> 6752000 | D38: =+'הוצאות '!H428+'הוצאות '!H438+'הוצאות '!H489+'הוצאות '!H660+'הוצאות '!H460 -> 6764000 | E38: =+'הוצאות '!I428+'הוצאות '!I438+'הוצאות '!I489+'הוצאות '!I660+'הוצאות '!I485+'הוצאות '!I460 -> 8661000
B39: פעילות | C39: =+C40-C38 -> 15065045 | D39: =+D40-D38 -> 16180000 | E39: =+E40-E38 -> 17257000
B40: סה"כ | C40: =+'הוצאות '!G433+'הוצאות '!G442+'הוצאות '!G449+'הוצאות '!G455+'הוצאות '!G467+'הוצאות '!G498+'הוצאות '!G669 -> 21817045 | D40: =+'הוצאות '!H433+'הוצאות '!H442+'הוצאות '!H449+'הוצאות '!H455+'הוצאות '!H467+'הוצאות '!H498+'הוצאות '!H669 -> 22944000 | E40: =+'הוצאות '!I433+'הוצאות '!I442+'הוצאות '!I449+'הוצאות '!I455+'הוצאות '!I467+'הוצאות '!I498+'הוצאות '!I669+'הוצאות '!I488 -> 25918000
A41: נוצ"ץ | B41: שכר | C41: =+'הוצאות '!G468+'הוצאות '!G473+'הוצאות '!G481+'הוצאות '!G485 -> 2167000 | D41: =+'הוצאות '!H468+'הוצאות '!H473+'הוצאות '!H481+'הוצאות '!H485 -> 2130700 | E41: 0
B42: פעילות | C42: =C43-C41 -> 2642000 | D42: =D43-D41 -> 2812000 | E42: =E43-E41 -> 0
B43: סה"כ | C43: =+'הוצאות '!G472+'הוצאות '!G478+'הוצאות '!G484+'הוצאות '!G488 -> 4809000 | D43: =+'הוצאות '!H472+'הוצאות '!H478+'הוצאות '!H484+'הוצאות '!H488 -> 4942700 | E43: 0
A44: פנאי העיר | B44: שכר | C44: =+'הוצאות '!G420+'הוצאות '!G479 -> 2762000 | D44: =+'הוצאות '!H420+'הוצאות '!H479 -> 2788000 | E44: =+'הוצאות '!I420+'הוצאות '!I479+'הוצאות '!I473+'הוצאות '!I481 -> 3613000
B45: פעילות | C45: =+C46-C44 -> 9496000 | D45: =+D46-D44 -> 9589000 | E45: =+E46-E44 -> 10201000
B46: סה"כ | C46: =+'הוצאות '!G480+'הוצאות '!G427 -> 12258000 | D46: =+'הוצאות '!H480+'הוצאות '!H427 -> 12377000 | E46: =+'הוצאות '!I480+'הוצאות '!I427+'הוצאות '!I478+'הוצאות '!I484 -> 13814000
A47: רווחה | B47: שכר | C47: =+'הוצאות '!G503+'הוצאות '!G513+'הוצאות '!G514+'הוצאות '!G520+'הוצאות '!G521+'הוצאות '!G525+'הוצאות '!G526+'הוצאות '!G530+'הוצאות '!G531+'הוצאות '!G536+'הוצאות '!G537+'הוצאות '!G539+'הוצאות '!G543+'הוצאות '!G576+'הוצאות '!G586+'הוצאות '!G595+'הוצאות '!G602+'הוצאות '!G609+'הוצאות '!G612+'הוצאות '!G618+'הוצאות '!G620+'הוצאות '!G621+'הוצאות '!G626+'הוצאות '!G630+'הוצאות '!G631+'הוצאות '!G632+'הוצאות '!G633+'הוצאות '!G635+'הוצאות '!G637+'הוצאות '!G639+'הוצאות '!G642 -> 33433567 | D47: =+'הוצאות '!H503+'הוצאות '!H513+'הוצאות '!H514+'הוצאות '!H520+'הוצאות '!H521+'הוצאות '!H525+'הוצאות '!H526+'הוצאות '!H530+'הוצאות '!H531+'הוצאות '!H536+'הוצאות '!H537+'הוצאות '!H539+'הוצאות '!H543+'הוצאות '!H576+'הוצאות '!H586+'הוצאות '!H595+'הוצאות '!H602+'הוצאות '!H609+'הוצאות '!H612+'הוצאות '!H618+'הוצאות '!H620+'הוצאות '!H621+'הוצאות '!H626+'הוצאות '!H630+'הוצאות '!H631+'הוצאות '!H632+'הוצאות '!H633+'הוצאות '!H635+'הוצאות '!H637+'הוצאות '!H639+'הוצאות '!H642 -> 32105000 | E47: =+'הוצאות '!I503+'הוצאות '!I513+'הוצאות '!I514+'הוצאות '!I520+'הוצאות '!I521+'הוצאות '!I525+'הוצאות '!I526+'הוצאות '!I530+'הוצאות '!I531+'הוצאות '!I536+'הוצאות '!I537+'הוצאות '!I539+'הוצאות '!I543+'הוצאות '!I576+'הוצאות '!I586+'הוצאות '!I595+'הוצאות '!I602+'הוצאות '!I609+'הוצאות '!I612+'הוצאות '!I618+'הוצאות '!I620+'הוצאות '!I621+'הוצאות '!I626+'הוצאות '!I630+'הוצאות '!I631+'הוצאות '!I632+'הוצאות '!I633+'הוצאות '!I635+'הוצאות '!I637+'הוצאות '!I639+'הוצאות '!I642 -> 37031000
B48: פעילות | C48: =+C49-C47 -> 1.0248983e+08 | D48: =+D49-D47 -> 99789000 | E48: =+E49-E47 -> 106022000
B49: סה"כ | C49: =+'הוצאות '!G512+'הוצאות '!G529+'הוצאות '!G547+'הוצאות '!G562+'הוצאות '!G585+'הוצאות '!G611+'הוצאות '!G646+'הוצאות '!G650+'הוצאות '!G653+'הוצאות '!G657 -> 1.359234e+08 | D49: =+'הוצאות '!H512+'הוצאות '!H529+'הוצאות '!H547+'הוצאות '!H562+'הוצאות '!H585+'הוצאות '!H611+'הוצאות '!H646+'הוצאות '!H650+'הוצאות '!H653+'הוצאות '!H657 -> 131894000 | E49: =+'הוצאות '!I419+'הוצאות '!I512+'הוצאות '!I529+'הוצאות '!I547+'הוצאות '!I562+'הוצאות '!I585+'הוצאות '!I611+'הוצאות '!I646+'הוצאות '!I650+'הוצאות '!I653+'הוצאות '!I657 -> 143053000
A50: השתתפויות ותמיכות | B50: שכר | C50: 0 | D50: 0 | E50: 0
B51: פעילות | C51: =C52-C50 -> 21955500 | D51: =D52-D50 -> 20238000 | E51: =E52-E50 -> 17839000
B52: סה"כ | C52: =+'הוצאות '!G269+'הוצאות '!G261+'הוצאות '!G459+'הוצאות '!G457+'הוצאות '!G500+'הוצאות '!G502+'הוצאות '!G659+'הוצאות '!G437 -> 21955500 | D52: =+'הוצאות '!H269+'הוצאות '!H261+'הוצאות '!H459+'הוצאות '!H457+'הוצאות '!H500+'הוצאות '!H502+'הוצאות '!H659+'הוצאות '!H437 -> 20238000 | E52: =+'הוצאות '!I269+'הוצאות '!I261+'הוצאות '!I459+'הוצאות '!I457+'הוצאות '!I500+'הוצאות '!I502+'הוצאות '!I659+'הוצאות '!I437 -> 17839000
A53: מימון | B53: שכר | C53: 0 | D53: 0 | E53: 0
B54: פעילות | C54: =+C55-C53 -> 31273000 | D54: =+D55-D53 -> 32988000 | E54: =+E55-E53 -> 32977000
B55: סה"כ | C55: =+'הוצאות '!G108+'הוצאות '!G113 -> 31273000 | D55: =+'הוצאות '!H108+'הוצאות '!H113 -> 32988000 | E55: =+'הוצאות '!I108+'הוצאות '!I113 -> 32977000
A56: אחרות | B56: שכר | C56: =+'הוצאות '!G684+'הוצאות '!G313+'הוצאות '!G288+'הוצאות '!G262 -> 45934000 | D56: =+'הוצאות '!H684+'הוצאות '!H313+'הוצאות '!H288+'הוצאות '!H262 -> 45909000 | E56: =+'הוצאות '!I684+'הוצאות '!I313+'הוצאות '!I288+'הוצאות '!I262 -> 44426000
B57: פעילות | C57: =+C58-C56 -> 61767000 | D57: =+D58-D56 -> 61622000 | E57: =+E58-E56 -> 75128000
B58: סה"כ | C58: =+'הוצאות '!G689+'הוצאות '!G687+'הוצאות '!G685+'הוצאות '!G317+'הוצאות '!G293+'הוצאות '!G264 -> 107701000 | D58: =+'הוצאות '!H689+'הוצאות '!H687+'הוצאות '!H685+'הוצאות '!H317+'הוצאות '!H293+'הוצאות '!H264 -> 107531000 | E58: =+'הוצאות '!I689+'הוצאות '!I687+'הוצאות '!I685+'הוצאות '!I317+'הוצאות '!I293+'הוצאות '!I264+'הוצאות '!I683 -> 1.19554e+08
A59: סה"כ | B59: שכר | C59: =+C5+C8+C14+C17+C20+C23+C26+C29+C32+C35+C38+C41+C44+C47+C50+C53+C56+C11 -> 304189567 | D59: =+D5+D8+D14+D17+D20+D23+D26+D29+D32+D35+D38+D41+D44+D47+D50+D53+D56+D11 -> 300121700 | E59: =+E5+E8+E14+E17+E20+E23+E26+E29+E32+E35+E38+E41+E44+E47+E50+E53+E56+E11 -> 3.25778e+08
B60: פעילות | C60: =+C6+C9+C15+C18+C21+C24+C27+C30+C33+C36+C39+C42+C45+C48+C51+C54+C57+C12 -> 4.8894243e+08 | D60: =+D6+D9+D15+D18+D21+D24+D27+D30+D33+D36+D39+D42+D45+D48+D51+D54+D57+D12 -> 489849000 | E60: =+E6+E9+E15+E18+E21+E24+E27+E30+E33+E36+E39+E42+E45+E48+E51+E54+E57+E12 -> 5.12282e+08
B61: סה"כ | C61: =+C7+C10+C16+C19+C22+C25+C28+C31+C34+C37+C40+C43+C46+C49+C52+C55+C58+C13 -> 7.93132e+08 | D61: =+D7+D10+D16+D19+D22+D25+D28+D31+D34+D37+D40+D43+D46+D49+D52+D55+D58 -> 789903700 | E61: =+E7+E10+E16+E19+E22+E25+E28+E31+E34+E37+E40+E43+E46+E49+E52+E55+E58+E13 -> 8.3806e+08
C62: =+C61-'הוצאות '!G691 -> 0 | D62: =+D61-'הוצאות '!H691 -> 0 | E62: =+(E61-'הוצאות '!I691)/1000 -> -2.3841858e-10

Sheet תקבולים לפי סעיפים 6
A1: תקבולים לפי סעיפים
A3: סעיף | B3: שם הסעיף | C3: תקציב 2022 | D3: אומדן 2022 | E3: תקציב 2023
A4: 100-102 | B4: ארנונות | C4: =SUMIF('הכנסות '!C3:C263,100,'הכנסות '!G3:G262)+SUMIF('הכנסות '!C3:C263,101,'הכנסות '!G3:G262)+SUMIF('הכנסות '!C3:C263,102,'הכנסות '!G3:G262) -> 405824000 | D4: =SUMIF('הכנסות '!C3:C263,100,'הכנסות '!H3:H262)+SUMIF('הכנסות '!C3:C263,101,'הכנסות '!H3:H262)+SUMIF('הכנסות '!C3:C263,102,'הכנסות '!H3:H262) -> 416511000 | E4: =SUMIF('הכנסות '!C3:C263,100,'הכנסות '!I3:I262)+SUMIF('הכנסות '!C3:C263,101,'הכנסות '!I3:I262)+SUMIF('הכנסות '!C3:C263,102,'הכנסות '!I3:I262) -> 428700000
A5: 108 | B5: ארנונות | C5: =SUMIF('הכנסות '!$C$3:$C$263,טבלה14[[#This Row],[סעיף]],'הכנסות '!$G$3:$G$262) -> 61000000 | D5: =SUMIF('הכנסות '!$C$3:$C$263,טבלה14[[#This Row],[סעיף]],'הכנסות '!$H$3:$H$262) -> 61000000 | E5: =SUMIF('הכנסות '!$C$3:$C$263,טבלה14[[#This Row],[סעיף]],'הכנסות '!$I$3:$I$262) -> 64000000
A6: 210 | B6: אגרות מים וביוב | C6: =SUMIF('הכנסות '!$C$3:$C$263,טבלה14[[#This Row],[סעיף]],'הכנסות '!$G$3:$G$262) -> 20000 | D6: =SUMIF('הכנסות '!$C$3:$C$263,טבלה14[[#This Row],[סעיף]],'הכנסות '!$H$3:$H$262) -> 39000 | E6: =SUMIF('הכנסות '!$C$3:$C$263,טבלה14[[#This Row],[סעיף]],'הכנסות '!$I$3:$I$262) -> 30000
A7: 220 | B7: אגרות בגין שירותים וחמרים | C7: =SUMIF('הכנסות '!$C$3:$C$263,טבלה14[[#This Row],[סעיף]],'הכנסות '!$G$3:$G$262) -> 24324000 | D7: =SUMIF('הכנסות '!$C$3:$C$263,טבלה14[[#This Row],[סעיף]],'הכנסות '!$H$3:$H$262) -> 25278000 | E7: =SUMIF('הכנסות '!$C$3:$C$263,טבלה14[[#This Row],[סעיף]],'הכנסות '!$I$3:$I$262) -> 27019000
A8: 410 | B8: שכל"מ מתושבים | C8: =SUMIF('הכנסות '!$C$3:$C$263,טבלה14[[#This Row],[סעיף]],'הכנסות '!$G$3:$G$262) -> 1973000 | D8: =SUMIF('הכנסות '!$C$3:$C$263,טבלה14[[#This Row],[סעיף]],'הכנסות '!$H$3:$H$262) -> 1432000 | E8: =SUMIF('הכנסות '!$C$3:$C$263,טבלה14[[#This Row],[סעיף]],'הכנסות '!$I$3:$I$262) -> 2073000
A9: 420-421 | B9: השתתפות תושבים בשירותים משלימים | C9: =SUMIF('הכנסות '!$C$3:$C$263,420,'הכנסות '!$G$3:$G$262)+SUMIF('הכנסות '!$C$3:$C$263,421,'הכנסות '!$G$3:$G$262) -> 3490000 | D9: =SUMIF('הכנסות '!$C$3:$C$263,420,'הכנסות '!$H$3:$H$262)+SUMIF('הכנסות '!$C$3:$C$263,421,'הכנסות '!$H$3:$H$262) -> 3564000 | E9: =SUMIF('הכנסות '!$C$3:$C$263,420,'הכנסות '!$I$3:$I$262)+SUMIF('הכנסות '!$C$3:$C$263,421,'הכנסות '!$I$3:$I$262) -> 3925000
A10: 430-431 | B10: השתתפויות מוסדות ורשויות בשכל"מ | C10: =SUMIF('הכנסות '!$C$3:$C$263,430,'הכנסות '!$G$3:$G$262)+SUMIF('הכנסות '!$C$3:$C$263,431,'הכנסות '!$G$3:$G$262) -> 2474000 | D10: =SUMIF('הכנסות '!$C$3:$C$263,430,'הכנסות '!$H$3:$H$262)+SUMIF('הכנסות '!$C$3:$C$263,431,'הכנסות '!$H$3:$H$262) -> 2335000 | E10: =SUMIF('הכנסות '!$C$3:$C$263,430,'הכנסות '!$I$3:$I$262)+SUMIF('הכנסות '!$C$3:$C$263,431,'הכנסות '!$I$3:$I$262) -> 2474000
A11: 440 | B11: השתתפויות רשויות ומוסדות בשירותים משלימים | C11: =SUMIF('הכנסות '!$C$3:$C$263,טבלה14[[#This Row],[סעיף]],'הכנסות '!$G$3:$G$262) -> 870000 | D11: =SUMIF('הכנסות '!$C$3:$C$263,טבלה14[[#This Row],[סעיף]],'הכנסות '!$H$3:$H$262) -> 834000 | E11: =SUMIF('הכנסות '!$C$3:$C$263,טבלה14[[#This Row],[סעיף]],'הכנסות '!$I$3:$I$262) -> 870000
A12: 490 | B12: שרותים ושכר לימוד - שונות | C12: =SUMIF('הכנסות '!$C$3:$C$263,טבלה14[[#This Row],[סעיף]],'הכנסות '!$G$3:$G$262) -> 284000 | D12: =SUMIF('הכנסות '!$C$3:$C$263,טבלה14[[#This Row],[סעיף]],'הכנסות '!$H$3:$H$262) -> 285000 | E12: =SUMIF('הכנסות '!$C$3:$C$263,טבלה14[[#This Row],[סעיף]],'הכנסות '!$I$3:$I$262) -> 433000
A13: 540 | B13: החזרות מחברת ביטוח | C13: =SUMIF('הכנסות '!$C$3:$C$263,טבלה14[[#This Row],[סעיף]],'הכנסות '!$G$3:$G$262) -> 450000 | D13: =SUMIF('הכנסות '!$C$3:$C$263,טבלה14[[#This Row],[סעיף]],'הכנסות '!$H$3:$H$262) -> 437000 | E13: =SUMIF('הכנסות '!$C$3:$C$263,טבלה14[[#This Row],[סעיף]],'הכנסות '!$I$3:$I$262) -> 550160
A14: 590 | B14: החזרות מקרנות | C14: =SUMIF('הכנסות '!$C$3:$C$263,טבלה14[[#This Row],[סעיף]],'הכנסות '!$G$3:$G$262) -> 34891000 | D14: =SUMIF('הכנסות '!$C$3:$C$263,טבלה14[[#This Row],[סעיף]],'הכנסות '!$H$3:$H$262) -> 28029000 | E14: =SUMIF('הכנסות '!$C$3:$C$263,טבלה14[[#This Row],[סעיף]],'הכנסות '!$I$3:$I$262) -> 37003000
A15: 610-611 | B15: מכירת חמרים | C15: =SUMIF('הכנסות '!$C$3:$C$263,610,'הכנסות '!$G$3:$G$262)+SUMIF('הכנסות '!$C$3:$C$263,611,'הכנסות '!$G$3:$G$262) -> 8738000 | D15: =SUMIF('הכנסות '!$C$3:$C$263,610,'הכנסות '!$H$3:$H$262)+SUMIF('הכנסות '!$C$3:$C$263,611,'הכנסות '!$H$3:$H$262) -> 8566000 | E15: =SUMIF('הכנסות '!$C$3:$C$263,610,'הכנסות '!$I$3:$I$262)+SUMIF('הכנסות '!$C$3:$C$263,611,'הכנסות '!$I$3:$I$262) -> 9081000
A16: 640 | B16: שכ"ד | C16: =SUMIF('הכנסות '!$C$3:$C$263,טבלה14[[#This Row],[סעיף]],'הכנסות '!$G$3:$G$262) -> 900000 | D16: =SUMIF('הכנסות '!$C$3:$C$263,טבלה14[[#This Row],[סעיף]],'הכנסות '!$H$3:$H$262) -> 1101000 | E16: =SUMIF('הכנסות '!$C$3:$C$263,טבלה14[[#This Row],[סעיף]],'הכנסות '!$I$3:$I$262) -> 1000000
A17: 650 | B17: דמי שימוש | C17: =SUMIF('הכנסות '!$C$3:$C$263,טבלה14[[#This Row],[סעיף]],'הכנסות '!$G$3:$G$262) -> 0 | D17: =SUMIF('הכנסות '!$C$3:$C$263,טבלה14[[#This Row],[סעיף]],'הכנסות '!$H$3:$H$262) -> 0 | E17: =SUMIF('הכנסות '!$C$3:$C$263,טבלה14[[#This Row],[סעיף]],'הכנסות '!$I$3:$I$262) -> 0
A18: 660 | B18: הכנסות מימון | C18: =SUMIF('הכנסות '!$C$3:$C$263,טבלה14[[#This Row],[סעיף]],'הכנסות '!$G$3:$G$262) -> 420000 | D18: =SUMIF('הכנסות '!$C$3:$C$263,טבלה14[[#This Row],[סעיף]],'הכנסות '!$H$3:$H$262) -> 388000 | E18: =SUMIF('הכנסות '!$C$3:$C$263,טבלה14[[#This Row],[סעיף]],'הכנסות '!$I$3:$I$262) -> 420000
A19: 690-694 | B19: רכוש ומפעלים - שונות | C19: =SUMIF('הכנסות '!$C$3:$C$263,690,'הכנסות '!$G$3:$G$262)+SUMIF('הכנסות '!$C$3:$C$263,691,'הכנסות '!$G$3:$G$262)+SUMIF('הכנסות '!$C$3:$C$263,692,'הכנסות '!$G$3:$G$262)+SUMIF('הכנסות '!$C$3:$C$263,693,'הכנסות '!$G$3:$G$262)+SUMIF('הכנסות '!$C$3:$C$263,694,'הכנסות '!$G$3:$G$262) -> 13464000 | D19: =SUMIF('הכנסות '!$C$3:$C$263,690,'הכנסות '!$H$3:$H$262)+SUMIF('הכנסות '!$C$3:$C$263,691,'הכנסות '!$H$3:$H$262)+SUMIF('הכנסות '!$C$3:$C$263,692,'הכנסות '!$H$3:$H$262)+SUMIF('הכנסות '!$C$3:$C$263,693,'הכנסות '!$H$3:$H$262)+SUMIF('הכנסות '!$C$3:$C$263,694,'הכנסות '!$H$3:$H$262) -> 11548000 | E19: =SUMIF('הכנסות '!$C$3:$C$263,690,'הכנסות '!$I$3:$I$262)+SUMIF('הכנסות '!$C$3:$C$263,691,'הכנסות '!$I$3:$I$262)+SUMIF('הכנסות '!$C$3:$C$263,692,'הכנסות '!$I$3:$I$262)+SUMIF('הכנסות '!$C$3:$C$263,693,'הכנסות '!$I$3:$I$262)+SUMIF('הכנסות '!$C$3:$C$263,694,'הכנסות '!$I$3:$I$262) -> 12734000
A20: 740 | B20: הכנסות מתוכנית פיס בקהילה | C20: =SUMIF('הכנסות '!$C$3:$C$263,טבלה14[[#This Row],[סעיף]],'הכנסות '!$G$3:$G$262) -> 1000000 | D20: =SUMIF('הכנסות '!$C$3:$C$263,טבלה14[[#This Row],[סעיף]],'הכנסות '!$H$3:$H$262) -> 1000000 | E20: =SUMIF('הכנסות '!$C$3:$C$263,טבלה14[[#This Row],[סעיף]],'הכנסות '!$I$3:$I$262) -> 1600000
A21: 910 | B21: השתתפות משרד הפנים | C21: =SUMIF('הכנסות '!$C$3:$C$263,טבלה14[[#This Row],[סעיף]],'הכנסות '!$G$3:$G$262) -> 6450000 | D21: =SUMIF('הכנסות '!$C$3:$C$263,טבלה14[[#This Row],[סעיף]],'הכנסות '!$H$3:$H$262) -> 2593000 | E21: =SUMIF('הכנסות '!$C$3:$C$263,טבלה14[[#This Row],[סעיף]],'הכנסות '!$I$3:$I$262) -> 1610000
A22: 920-923 | B22: השתתפות משרד החינוך | C22: =SUMIF('הכנסות '!$C$3:$C$263,920,'הכנסות '!$G$3:$G$262)+SUMIF('הכנסות '!$C$3:$C$263,921,'הכנסות '!$G$3:$G$262)+SUMIF('הכנסות '!$C$3:$C$263,922,'הכנסות '!$G$3:$G$262)+SUMIF('הכנסות '!$C$3:$C$263,923,'הכנסות '!$G$3:$G$262) -> 122355215 | D22: =SUMIF('הכנסות '!$C$3:$C$263,920,'הכנסות '!$H$3:$H$262)+SUMIF('הכנסות '!$C$3:$C$263,921,'הכנסות '!$H$3:$H$262)+SUMIF('הכנסות '!$C$3:$C$263,922,'הכנסות '!$H$3:$H$262)+SUMIF('הכנסות '!$C$3:$C$263,923,'הכנסות '!$H$3:$H$262) -> 123669000 | E22: =SUMIF('הכנסות '!$C$3:$C$263,920,'הכנסות '!$I$3:$I$262)+SUMIF('הכנסות '!$C$3:$C$263,921,'הכנסות '!$I$3:$I$262)+SUMIF('הכנסות '!$C$3:$C$263,922,'הכנסות '!$I$3:$I$262)+SUMIF('הכנסות '!$C$3:$C$263,923,'הכנסות '!$I$3:$I$262) -> 135558840
A23: 930-939 | B23: השתתפות משרד העבודה והרווחה | C23: =SUMIF('הכנסות '!$C$3:$C$263,930,'הכנסות '!$G$3:$G$262)+SUMIF('הכנסות '!$C$3:$C$263,931,'הכנסות '!$G$3:$G$262)+SUMIF('הכנסות '!$C$3:$C$263,932,'הכנסות '!$G$3:$G$262)+SUMIF('הכנסות '!$C$3:$C$263,933,'הכנסות '!$G$3:$G$262)+SUMIF('הכנסות '!$C$3:$C$263,934,'הכנסות '!$G$3:$G$262)+SUMIF('הכנסות '!$C$3:$C$263,935,'הכנסות '!$G$3:$G$262)+SUMIF('הכנסות '!$C$3:$C$263,936,'הכנסות '!$G$3:$G$262)+SUMIF('הכנסות '!$C$3:$C$263,937,'הכנסות '!$G$3:$G$262)+SUMIF('הכנסות '!$C$3:$C$263,938,'הכנסות '!$G$3:$G$262)+SUMIF('הכנסות '!$C$3:$C$263,939,'הכנסות '!$G$3:$G$262) -> 96965785 | D23: =SUMIF('הכנסות '!$C$3:$C$263,930,'הכנסות '!$H$3:$H$262)+SUMIF('הכנסות '!$C$3:$C$263,931,'הכנסות '!$H$3:$H$262)+SUMIF('הכנסות '!$C$3:$C$263,932,'הכנסות '!$H$3:$H$262)+SUMIF('הכנסות '!$C$3:$C$263,933,'הכנסות '!$H$3:$H$262)+SUMIF('הכנסות '!$C$3:$C$263,934,'הכנסות '!$H$3:$H$262)+SUMIF('הכנסות '!$C$3:$C$263,935,'הכנסות '!$H$3:$H$262)+SUMIF('הכנסות '!$C$3:$C$263,936,'הכנסות '!$H$3:$H$262)+SUMIF('הכנסות '!$C$3:$C$263,937,'הכנסות '!$H$3:$H$262)+SUMIF('הכנסות '!$C$3:$C$263,938,'הכנסות '!$H$3:$H$262)+SUMIF('הכנסות '!$C$3:$C$263,939,'הכנסות '!$H$3:$H$262) -> 93578000 | E23: =SUMIF('הכנסות '!$C$3:$C$263,930,'הכנסות '!$I$3:$I$262)+SUMIF('הכנסות '!$C$3:$C$263,931,'הכנסות '!$I$3:$I$262)+SUMIF('הכנסות '!$C$3:$C$263,932,'הכנסות '!$I$3:$I$262)+SUMIF('הכנסות '!$C$3:$C$263,933,'הכנסות '!$I$3:$I$262)+SUMIF('הכנסות '!$C$3:$C$263,934,'הכנסות '!$I$3:$I$262)+SUMIF('הכנסות '!$C$3:$C$263,935,'הכנסות '!$I$3:$I$262)+SUMIF('הכנסות '!$C$3:$C$263,936,'הכנסות '!$I$3:$I$262)+SUMIF('הכנסות '!$C$3:$C$263,937,'הכנסות '!$I$3:$I$262)+SUMIF('הכנסות '!$C$3:$C$263,938,'הכנסות '!$I$3:$I$262)+SUMIF('הכנסות '!$C$3:$C$263,939,'הכנסות '!$I$3:$I$262)+1 -> 1.01434e+08
A24: 950 | B24: השתתפות משרד הקליטה | C24: =SUMIF('הכנסות '!$C$3:$C$263,טבלה14[[#This Row],[סעיף]],'הכנסות '!$G$3:$G$262) -> 661000 | D24: =SUMIF('הכנסות '!$C$3:$C$263,טבלה14[[#This Row],[סעיף]],'הכנסות '!$H$3:$H$262) -> 662000 | E24: =SUMIF('הכנסות '!$C$3:$C$263,טבלה14[[#This Row],[סעיף]],'הכנסות '!$I$3:$I$262) -> 941000
A25: 960 | B25: השתתפות משרד החקלאות | C25: =SUMIF('הכנסות '!$C$3:$C$263,טבלה14[[#This Row],[סעיף]],'הכנסות '!$G$3:$G$262) -> 35000 | D25: =SUMIF('הכנסות '!$C$3:$C$263,טבלה14[[#This Row],[סעיף]],'הכנסות '!$H$3:$H$262) -> 54000 | E25: =SUMIF('הכנסות '!$C$3:$C$263,טבלה14[[#This Row],[סעיף]],'הכנסות '!$I$3:$I$262) -> 83000
A26: 990 | B26: השתתפות משרדי ממשלה אחרים | C26: =SUMIF('הכנסות '!$C$3:$C$263,טבלה14[[#This Row],[סעיף]],'הכנסות '!$G$3:$G$262) -> 6543000 | D26: =SUMIF('הכנסות '!$C$3:$C$263,טבלה14[[#This Row],[סעיף]],'הכנסות '!$H$3:$H$262) -> 5804000 | E26: =SUMIF('הכנסות '!$C$3:$C$263,טבלה14[[#This Row],[סעיף]],'הכנסות '!$I$3:$I$262) -> 6521000
A27: סה"כ | C27: =SUM(C4:C26) -> 7.93132e+08 | D27: =SUM(D4:D26) -> 788707000 | E27: =SUM(E4:E26) -> 8.3806e+08
C28: =C27-'הכנסות '!G265 -> 0 | D28: =D27-'הכנסות '!H265 -> 0 | E28: =E27-'הכנסות '!I265 -> 0.49999988

Sheet תשלומים לפי סעיפים 7
A1: תשלומים לפי סעיפים
A3: סעיף | B3: שם הסעיף | C3: תקציב 2022 | D3: אומדן 2022 | E3: תקציב 2023
A4: 110 | B4: משכורת ושכ"ע | C4: =SUMIF('הוצאות '!$C$3:$C$689,טבלה7[[#This Row],[סעיף]],'הוצאות '!$G$3:$G$689) -> 304189567 | D4: =SUMIF('הוצאות '!$C$3:$C$689,טבלה7[[#This Row],[סעיף]],'הוצאות '!$H$3:$H$690) -> 300121700 | E4: =SUMIF('הוצאות '!$C$3:$C$689,טבלה7[[#This Row],[סעיף]],'הוצאות '!$I$3:$I$689) -> 3.25778e+08
A5: 410 | B5: שכר דירה ודמי חכירה | C5: =SUMIF('הוצאות '!$C$3:$C$689,טבלה7[[#This Row],[סעיף]],'הוצאות '!$G$3:$G$689) -> 6510999.8 | D5: =SUMIF('הוצאות '!$C$3:$C$689,טבלה7[[#This Row],[סעיף]],'הוצאות '!$H$3:$H$690) -> 5594000 | E5: =SUMIF('הוצאות '!$C$3:$C$689,טבלה7[[#This Row],[סעיף]],'הוצאות '!$I$3:$I$689) -> 8350813.2
A6: 420 | B6: תיקונים | C6: =SUMIF('הוצאות '!$C$3:$C$689,טבלה7[[#This Row],[סעיף]],'הוצאות '!$G$3:$G$689) -> 115000 | D6: =SUMIF('הוצאות '!$C$3:$C$689,טבלה7[[#This Row],[סעיף]],'הוצאות '!$H$3:$H$690) -> 90000 | E6: =SUMIF('הוצאות '!$C$3:$C$689,טבלה7[[#This Row],[סעיף]],'הוצאות '!$I$3:$I$689) -> 115000
A7: 430 | B7: חשמל | C7: =SUMIF('הוצאות '!$C$3:$C$689,טבלה7[[#This Row],[סעיף]],'הוצאות '!$G$3:$G$689) -> 5111000 | D7: =SUMIF('הוצאות '!$C$3:$C$689,טבלה7[[#This Row],[סעיף]],'הוצאות '!$H$3:$H$690) -> 5294000 | E7: =SUMIF('הוצאות '!$C$3:$C$689,טבלה7[[#This Row],[סעיף]],'הוצאות '!$I$3:$I$689) -> 4763000
A8: 432 | B8: מים | C8: =SUMIF('הוצאות '!$C$3:$C$689,טבלה7[[#This Row],[סעיף]],'הוצאות '!$G$3:$G$689) -> 6680000 | D8: =SUMIF('הוצאות '!$C$3:$C$689,טבלה7[[#This Row],[סעיף]],'הוצאות '!$H$3:$H$690) -> 6680000 | E8: =SUMIF('הוצאות '!$C$3:$C$689,טבלה7[[#This Row],[סעיף]],'הוצאות '!$I$3:$I$689) -> 6589000
A9: 440 | B9: ביטוח | C9: =SUMIF('הוצאות '!$C$3:$C$689,טבלה7[[#This Row],[סעיף]],'הוצאות '!$G$3:$G$689) -> 5770000 | D9: =SUMIF('הוצאות '!$C$3:$C$689,טבלה7[[#This Row],[סעיף]],'הוצאות '!$H$3:$H$690) -> 4210000 | E9: =SUMIF('הוצאות '!$C$3:$C$689,טבלה7[[#This Row],[סעיף]],'הוצאות '!$I$3:$I$689) -> 5850000
A10: 450 | B10: ריהוט ואחזקתו | C10: =SUMIF('הוצאות '!$C$3:$C$689,טבלה7[[#This Row],[סעיף]],'הוצאות '!$G$3:$G$689) -> 10000 | D10: =SUMIF('הוצאות '!$C$3:$C$689,טבלה7[[#This Row],[סעיף]],'הוצאות '!$H$3:$H$690) -> 7000 | E10: =SUMIF('הוצאות '!$C$3:$C$689,טבלה7[[#This Row],[סעיף]],'הוצאות '!$I$3:$I$689) -> 10000
A11: 511 | B11: ארוח וכיבוד | C11: =SUMIF('הוצאות '!$C$3:$C$689,טבלה7[[#This Row],[סעיף]],'הוצאות '!$G$3:$G$689) -> 74000 | D11: =SUMIF('הוצאות '!$C$3:$C$689,טבלה7[[#This Row],[סעיף]],'הוצאות '!$H$3:$H$690) -> 58000 | E11: =SUMIF('הוצאות '!$C$3:$C$689,טבלה7[[#This Row],[סעיף]],'הוצאות '!$I$3:$I$689) -> 74000
A12: 521 | B12: השתלמויות | C12: =SUMIF('הוצאות '!$C$3:$C$689,טבלה7[[#This Row],[סעיף]],'הוצאות '!$G$3:$G$689) -> 250000 | D12: =SUMIF('הוצאות '!$C$3:$C$689,טבלה7[[#This Row],[סעיף]],'הוצאות '!$H$3:$H$690) -> 249000 | E12: =SUMIF('הוצאות '!$C$3:$C$689,טבלה7[[#This Row],[סעיף]],'הוצאות '!$I$3:$I$689) -> 300000
A13: 522 | B13: ספרות מקצועית ועיתונות | C13: =SUMIF('הוצאות '!$C$3:$C$689,טבלה7[[#This Row],[סעיף]],'הוצאות '!$G$3:$G$689) -> 46000 | D13: =SUMIF('הוצאות '!$C$3:$C$689,טבלה7[[#This Row],[סעיף]],'הוצאות '!$H$3:$H$690) -> 28000 | E13: =SUMIF('הוצאות '!$C$3:$C$689,טבלה7[[#This Row],[סעיף]],'הוצאות '!$I$3:$I$689) -> 31000
A14: 530 | B14: הוצאות רכב | C14: =SUMIF('הוצאות '!$C$3:$C$689,טבלה7[[#This Row],[סעיף]],'הוצאות '!$G$3:$G$689) -> 5294000 | D14: =SUMIF('הוצאות '!$C$3:$C$689,טבלה7[[#This Row],[סעיף]],'הוצאות '!$H$3:$H$690) -> 5022000 | E14: =SUMIF('הוצאות '!$C$3:$C$689,טבלה7[[#This Row],[סעיף]],'הוצאות '!$I$3:$I$689) -> 5443999.6
A15: 540 | B15: הוצאות תקשורת | C15: =SUMIF('הוצאות '!$C$3:$C$689,טבלה7[[#This Row],[סעיף]],'הוצאות '!$G$3:$G$689) -> 1330000 | D15: =SUMIF('הוצאות '!$C$3:$C$689,טבלה7[[#This Row],[סעיף]],'הוצאות '!$H$3:$H$690) -> 1515000 | E15: =SUMIF('הוצאות '!$C$3:$C$689,טבלה7[[#This Row],[סעיף]],'הוצאות '!$I$3:$I$689) -> 1446000
... A30: 743 | B30: רכישת מחשבים | C30: =SUMIF('הוצאות '!$C$3:$C$689,טבלה7[[#This Row],[סעיף]],'הוצאות '!$G$3:$G$689) -> 350000 | D30: =SUMIF('הוצאות '!$C$3:$C$689,טבלה7[[#This Row],[סעיף]],'הוצאות '!$H$3:$H$690) -> 118000 | E30: =SUMIF('הוצאות '!$C$3:$C$689,טבלה7[[#This Row],[סעיף]],'הוצאות '!$I$3:$I$689) -> 453000
A31: 750-757 | B31: עבודות קבלניות | C31: =SUMIF('הוצאות '!$C$3:$C$689,750,'הוצאות '!$G$3:$G$689)+SUMIF('הוצאות '!$C$3:$C$689,751,'הוצאות '!$G$3:$G$689)+SUMIF('הוצאות '!$C$3:$C$689,752,'הוצאות '!$G$3:$G$689)+SUMIF('הוצאות '!$C$3:$C$689,753,'הוצאות '!$G$3:$G$689)+SUMIF('הוצאות '!$C$3:$C$689,754,'הוצאות '!$G$3:$G$689)+SUMIF('הוצאות '!$C$3:$C$689,755,'הוצאות '!$G$3:$G$689)+SUMIF('הוצאות '!$C$3:$C$689,756,'הוצאות '!$G$3:$G$689)+SUMIF('הוצאות '!$C$3:$C$689,757,'הוצאות '!$G$3:$G$689) -> 117722055 | D31: =SUMIF('הוצאות '!$C$3:$C$689,750,'הוצאות '!$H$3:$H$690)+SUMIF('הוצאות '!$C$3:$C$689,751,'הוצאות '!$H$3:$H$690)+SUMIF('הוצאות '!$C$3:$C$689,752,'הוצאות '!$H$3:$H$690)+SUMIF('הוצאות '!$C$3:$C$689,753,'הוצאות '!$H$3:$H$690)+SUMIF('הוצאות '!$C$3:$C$689,754,'הוצאות '!$H$3:$H$690)+SUMIF('הוצאות '!$C$3:$C$689,755,'הוצאות '!$H$3:$H$690)+SUMIF('הוצאות '!$C$3:$C$689,756,'הוצאות '!$H$3:$H$690)+SUMIF('הוצאות '!$C$3:$C$689,757,'הוצאות '!$H$3:$H$690) -> 122700000 | E31: =SUMIF('הוצאות '!$C$3:$C$689,750,'הוצאות '!$I$3:$I$689)+SUMIF('הוצאות '!$C$3:$C$689,751,'הוצאות '!$I$3:$I$689)+SUMIF('הוצאות '!$C$3:$C$689,752,'הוצאות '!$I$3:$I$689)+SUMIF('הוצאות '!$C$3:$C$689,753,'הוצאות '!$I$3:$I$689)+SUMIF('הוצאות '!$C$3:$C$689,754,'הוצאות '!$I$3:$I$689)+SUMIF('הוצאות '!$C$3:$C$689,755,'הוצאות '!$I$3:$I$689)+SUMIF('הוצאות '!$C$3:$C$689,756,'הוצאות '!$I$3:$I$689)+SUMIF('הוצאות '!$C$3:$C$689,757,'הוצאות '!$I$3:$I$689)+SUMIF('הוצאות '!$C$3:$C$689,758,'הוצאות '!$I$3:$I$689) -> 121577187
A32: 760 | B32: קניית שרותים מרשויות ומוסדות | C32: =SUMIF('הוצאות '!$C$3:$C$689,טבלה7[[#This Row],[סעיף]],'הוצאות '!$G$3:$G$689) -> 7600000 | D32: =SUMIF('הוצאות '!$C$3:$C$689,טבלה7[[#This Row],[סעיף]],'הוצאות '!$H$3:$H$690) -> 7599000 | E32: =SUMIF('הוצאות '!$C$3:$C$689,טבלה7[[#This Row],[סעיף]],'הוצאות '!$I$3:$I$689) -> 7600000
A33: 780-785 | B33: הוצאות שונות | C33: =SUMIF('הוצאות '!$C$3:$C$689,780,'הוצאות '!$G$3:$G$689)+SUMIF('הוצאות '!$C$3:$C$689,781,'הוצאות '!$G$3:$G$689)+SUMIF('הוצאות '!$C$3:$C$689,782,'הוצאות '!$G$3:$G$689)+SUMIF('הוצאות '!$C$3:$C$689,783,'הוצאות '!$G$3:$G$689)+SUMIF('הוצאות '!$C$3:$C$689,784,'הוצאות '!$G$3:$G$689)+SUMIF('הוצאות '!$C$3:$C$689,785,'הוצאות '!$G$3:$G$689) -> 45031500 | D33: =SUMIF('הוצאות '!$C$3:$C$689,780,'הוצאות '!$H$3:$H$690)+SUMIF('הוצאות '!$C$3:$C$689,781,'הוצאות '!$H$3:$H$690)+SUMIF('הוצאות '!$C$3:$C$689,782,'הוצאות '!$H$3:$H$690)+SUMIF('הוצאות '!$C$3:$C$689,783,'הוצאות '!$H$3:$H$690)+SUMIF('הוצאות '!$C$3:$C$689,784,'הוצאות '!$H$3:$H$690)+SUMIF('הוצאות '!$C$3:$C$689,785,'הוצאות '!$H$3:$H$690) -> 45177000 | E33: =SUMIF('הוצאות '!$C$3:$C$689,780,'הוצאות '!$I$3:$I$689)+SUMIF('הוצאות '!$C$3:$C$689,781,'הוצאות '!$I$3:$I$689)+SUMIF('הוצאות '!$C$3:$C$689,782,'הוצאות '!$I$3:$I$689)+SUMIF('הוצאות '!$C$3:$C$689,783,'הוצאות '!$I$3:$I$689)+SUMIF('הוצאות '!$C$3:$C$689,784,'הוצאות '!$I$3:$I$689)+SUMIF('הוצאות '!$C$3:$C$689,785,'הוצאות '!$I$3:$I$689) -> 55893000
A34: 810-816 | B34: השתתפויות תמיכות ותרומות | C34: =SUMIF('הוצאות '!$C$3:$C$689,810,'הוצאות '!$G$3:$G$689)+SUMIF('הוצאות '!$C$3:$C$689,811,'הוצאות '!$G$3:$G$689)+SUMIF('הוצאות '!$C$3:$C$689,812,'הוצאות '!$G$3:$G$689)+SUMIF('הוצאות '!$C$3:$C$689,813,'הוצאות '!$G$3:$G$689)+SUMIF('הוצאות '!$C$3:$C$689,814,'הוצאות '!$G$3:$G$689)+SUMIF('הוצאות '!$C$3:$C$689,815,'הוצאות '!$G$3:$G$689)+SUMIF('הוצאות '!$C$3:$C$689,816,'הוצאות '!$G$3:$G$689) -> 39813378 | D34: =SUMIF('הוצאות '!$C$3:$C$689,810,'הוצאות '!$H$3:$H$690)+SUMIF('הוצאות '!$C$3:$C$689,811,'הוצאות '!$H$3:$H$690)+SUMIF('הוצאות '!$C$3:$C$689,812,'הוצאות '!$H$3:$H$690)+SUMIF('הוצאות '!$C$3:$C$689,813,'הוצאות '!$H$3:$H$690)+SUMIF('הוצאות '!$C$3:$C$689,814,'הוצאות '!$H$3:$H$690)+SUMIF('הוצאות '!$C$3:$C$689,815,'הוצאות '!$H$3:$H$690)+SUMIF('הוצאות '!$C$3:$C$689,816,'הוצאות '!$H$3:$H$690) -> 38092000 | E34: =SUMIF('הוצאות '!$C$3:$C$689,810,'הוצאות '!$I$3:$I$689)+SUMIF('הוצאות '!$C$3:$C$689,811,'הוצאות '!$I$3:$I$689)+SUMIF('הוצאות '!$C$3:$C$689,812,'הוצאות '!$I$3:$I$689)+SUMIF('הוצאות '!$C$3:$C$689,813,'הוצאות '!$I$3:$I$689)+SUMIF('הוצאות '!$C$3:$C$689,814,'הוצאות '!$I$3:$I$689)+SUMIF('הוצאות '!$C$3:$C$689,815,'הוצאות '!$I$3:$I$689)+SUMIF('הוצאות '!$C$3:$C$689,816,'הוצאות '!$I$3:$I$689) -> 36203000
A35: 820-829 | B35: הקצבות | C35: =SUMIF('הוצאות '!$C$3:$C$689,820,'הוצאות '!$G$3:$G$689)+SUMIF('הוצאות '!$C$3:$C$689,821,'הוצאות '!$G$3:$G$689)+SUMIF('הוצאות '!$C$3:$C$689,822,'הוצאות '!$G$3:$G$689)+SUMIF('הוצאות '!$C$3:$C$689,823,'הוצאות '!$G$3:$G$689)+SUMIF('הוצאות '!$C$3:$C$689,824,'הוצאות '!$G$3:$G$689)+SUMIF('הוצאות '!$C$3:$C$689,825,'הוצאות '!$G$3:$G$689)+SUMIF('הוצאות '!$C$3:$C$689,826,'הוצאות '!$G$3:$G$689)+SUMIF('הוצאות '!$C$3:$C$689,827,'הוצאות '!$G$3:$G$689)+SUMIF('הוצאות '!$C$3:$C$689,828,'הוצאות '!$G$3:$G$689)+SUMIF('הוצאות '!$C$3:$C$689,829,'הוצאות '!$G$3:$G$689) -> 129822500 | D35: =SUMIF('הוצאות '!$C$3:$C$689,820,'הוצאות '!$H$3:$H$690)+SUMIF('הוצאות '!$C$3:$C$689,821,'הוצאות '!$H$3:$H$690)+SUMIF('הוצאות '!$C$3:$C$689,822,'הוצאות '!$H$3:$H$690)+SUMIF('הוצאות '!$C$3:$C$689,823,'הוצאות '!$H$3:$H$690)+SUMIF('הוצאות '!$C$3:$C$689,824,'הוצאות '!$H$3:$H$690)+SUMIF('הוצאות '!$C$3:$C$689,825,'הוצאות '!$H$3:$H$690)+SUMIF('הוצאות '!$C$3:$C$689,826,'הוצאות '!$H$3:$H$690)+SUMIF('הוצאות '!$C$3:$C$689,827,'הוצאות '!$H$3:$H$690)+SUMIF('הוצאות '!$C$3:$C$689,828,'הוצאות '!$H$3:$H$690)+SUMIF('הוצאות '!$C$3:$C$689,829,'הוצאות '!$H$3:$H$690) -> 127750000 | E35: =SUMIF('הוצאות '!$C$3:$C$689,820,'הוצאות '!$I$3:$I$689)+SUMIF('הוצאות '!$C$3:$C$689,821,'הוצאות '!$I$3:$I$689)+SUMIF('הוצאות '!$C$3:$C$689,822,'הוצאות '!$I$3:$I$689)+SUMIF('הוצאות '!$C$3:$C$689,823,'הוצאות '!$I$3:$I$689)+SUMIF('הוצאות '!$C$3:$C$689,824,'הוצאות '!$I$3:$I$689)+SUMIF('הוצאות '!$C$3:$C$689,825,'הוצאות '!$I$3:$I$689)+SUMIF('הוצאות '!$C$3:$C$689,826,'הוצאות '!$I$3:$I$689)+SUMIF('הוצאות '!$C$3:$C$689,827,'הוצאות '!$I$3:$I$689)+SUMIF('הוצאות '!$C$3:$C$689,828,'הוצאות '!$I$3:$I$689)+SUMIF('הוצאות '!$C$3:$C$689,829,'הוצאות '!$I$3:$I$689) -> 132069000
A36: 830-834 | B36: השתתפויות באיגודי ערים | C36: =SUMIF('הוצאות '!$C$3:$C$689,830,'הוצאות '!$G$3:$G$689)+SUMIF('הוצאות '!$C$3:$C$689,831,'הוצאות '!$G$3:$G$689)+SUMIF('הוצאות '!$C$3:$C$689,832,'הוצאות '!$G$3:$G$689)+SUMIF('הוצאות '!$C$3:$C$689,833,'הוצאות '!$G$3:$G$689)+SUMIF('הוצאות '!$C$3:$C$689,834,'הוצאות '!$G$3:$G$689) -> 1081000 | D36: =SUMIF('הוצאות '!$C$3:$C$689,830,'הוצאות '!$H$3:$H$690)+SUMIF('הוצאות '!$C$3:$C$689,831,'הוצאות '!$H$3:$H$690)+SUMIF('הוצאות '!$C$3:$C$689,832,'הוצאות '!$H$3:$H$690)+SUMIF('הוצאות '!$C$3:$C$689,833,'הוצאות '!$H$3:$H$690)+SUMIF('הוצאות '!$C$3:$C$689,834,'הוצאות '!$H$3:$H$690) -> 1059000 | E36: =SUMIF('הוצאות '!$C$3:$C$689,830,'הוצאות '!$I$3:$I$689)+SUMIF('הוצאות '!$C$3:$C$689,831,'הוצאות '!$I$3:$I$689)+SUMIF('הוצאות '!$C$3:$C$689,832,'הוצאות '!$I$3:$I$689)+SUMIF('הוצאות '!$C$3:$C$689,833,'הוצאות '!$I$3:$I$689)+SUMIF('הוצאות '!$C$3:$C$689,834,'הוצאות '!$I$3:$I$689) -> 1075000
A37: 850 | B37: מלגות לתלמידים וסטודנטים | C37: =SUMIF('הוצאות '!$C$3:$C$689,טבלה7[[#This Row],[סעיף]],'הוצאות '!$G$3:$G$689) -> 275000 | D37: =SUMIF('הוצאות '!$C$3:$C$689,טבלה7[[#This Row],[סעיף]],'הוצאות '!$H$3:$H$690) -> 275000 | E37: =SUMIF('הוצאות '!$C$3:$C$689,טבלה7[[#This Row],[סעיף]],'הוצאות '!$I$3:$I$689) -> 275000
A38: 860 | B38: הנחות | C38: =SUMIF('הוצאות '!$C$3:$C$689,טבלה7[[#This Row],[סעיף]],'הוצאות '!$G$3:$G$689) -> 61000000 | D38: =SUMIF('הוצאות '!$C$3:$C$689,טבלה7[[#This Row],[סעיף]],'הוצאות '!$H$3:$H$690) -> 61000000 | E38: =SUMIF('הוצאות '!$C$3:$C$689,טבלה7[[#This Row],[סעיף]],'הוצאות '!$I$3:$I$689) -> 64000000
A39: 980-998 | B39: הוצאות אחרות | C39: =SUMIF('הוצאות '!$C$3:$C$689,980,'הוצאות '!$G$3:$G$689)+SUMIF('הוצאות '!$C$3:$C$689,997,'הוצאות '!$G$3:$G$689) -> 6790000 | D39: =SUMIF('הוצאות '!$C$3:$C$689,980,'הוצאות '!$H$3:$H$690)+SUMIF('הוצאות '!$C$3:$C$689,997,'הוצאות '!$H$3:$H$690)+SUMIF('הוצאות '!$C$3:$C$689,932,'הוצאות '!$H$3:$H$690) -> 6440000 | E39: =SUMIF('הוצאות '!$C$3:$C$689,980,'הוצאות '!$I$3:$I$689)+SUMIF('הוצאות '!$C$3:$C$689,997,'הוצאות '!$I$3:$I$689)+SUMIF('הוצאות '!$C$3:$C$689,981,'הוצאות '!$I$3:$I$689)+SUMIF('הוצאות '!$C$3:$C$689,982,'הוצאות '!$I$3:$I$689) -> 6562000.4
A40: סה"כ הוצאות | C40: =SUBTOTAL(109,C4:C39) -> 7.93132e+08 | D40: =SUBTOTAL(109,D4:D39) -> 789903700 | E40: =SUBTOTAL(109,E4:E39) -> 8.3806e+08
C41: =C40-'הוצאות '!G691 -> 0 | D41: =D40-'הוצאות '!H691 -> 0 | E41: =E40-'הוצאות '!I691 -> 0

Sheet הכנסות 
A1: עיריית חדרה תקציב הכנסות
A2: מחלקה | C2: סעיף | D2: פרק | G2: תקציב 2022 | H2: אומדן 2022 | I2: תקציב 2023 | J2: הערות
A3: ארנונות | B3: 1111100100 | C3: 100 | D3: 111100 | E3: 1 | F3: הכנסות מארנונה כללית | G3: 404224000 | H3: =VLOOKUP(B3,'אומדן 28.11.2022'!C:Q,15,0) -> 415001000 | I3: =419000000+4470000+130000+3500000 -> 427100000 | J3: 8,000 אלש"ח מותנה בהכנסות ארנונה
B4: 1111100102 | C4: 102 | D4: 111100 | E4: 1 | F4: הכנסות מהוצאות גביה | G4: 1600000 | H4: =VLOOKUP(B4,'אומדן 28.11.2022'!C:Q,15,0) -> 1510000 | I4: =G4 -> 1600000
B5: 1111100108 | C5: 108 | D5: 111100 | E5: 1 | F5: הנחות ארנונה | G5: 61000000 | H5: =VLOOKUP(B5,'אומדן 28.11.2022'!C:Q,15,0) -> 61000000 | I5: 64000000
B6: 1111100910 | C6: 910 | D6: 111100 | F6: שיפוי ארנונה קורונה | G6: - | H6: =VLOOKUP(B6,'אומדן 28.11.2022'!C:Q,15,0) -> 1434000 | I6: 0
A7: סה"כ ארנונות | C7: 999 | D7: 111100 | G7: =SUM(G3:G6) -> 466824000 | H7: =SUM(H3:H6) -> 478945000 | I7: =SUM(I3:I6) -> 492700000
A8: אגרות | B8: 1121000220 | C8: 220 | D8: 121000 | E8: 1 | F8: תעודות ואישורים | G8: 200000 | H8: =VLOOKUP(B8,'אומדן 28.11.2022'!C:Q,15,0) -> 233000 | I8: 230000
B9: 1122000220 | C9: 220 | D9: 122000 | E9: 1 | F9: הכנסות מאגרות שילוט | G9: 6000000 | H9: =VLOOKUP(B9,'אומדן 28.11.2022'!C:Q,15,0) -> 8005000 | I9: =7100000+100000+300000+300000 -> 7800000
A10: סה"כ אגרות | C10: 999 | D10: 120000 | G10: =SUM(G8:G9) -> 6200000 | H10: =SUM(H8:H9) -> 8238000 | I10: =SUM(I8:I9) -> 8030000
B11: 1180000220 | C11: 220 | D11: 180000 | E11: 1 | F11: הכנסות משירותי מיחשוב | G11: 90000 | H11: =VLOOKUP(B11,'אומדן 28.11.2022'!C:Q,15,0) -> 115000 | I11: =115000 -> 115000
A12: סה"כ מיחשוב | C12: 999 | D12: 180000 | G12: =SUM(G11) -> 90000 | H12: =SUM(H11) -> 115000 | I12: =SUM(I11) -> 115000
A13: תברואה | B13: 1212300610 | C13: 610 | D13: 212300 | E13: 1 | F13: הכנסות מפינוי קרטון | G13: 450000 | H13: =VLOOKUP(B13,'אומדן 28.11.2022'!C:Q,15,0) -> 450000 | I13: =שלומית!G4 -> 400000
B14: 1212300611 | C14: 611 | D14: 212300 | E14: 1 | F14: הכנסות מחזור אריזות (תמיר) | G14: 400000 | H14: =VLOOKUP(B14,'אומדן 28.11.2022'!C:Q,15,0) -> 320000 | I14: =שלומית!G5+50000 -> 350000
B15: 1214200220 | C15: 220 | D15: 214200 | E15: 1 | F15: פיקוח וטרינרי - אגרות | G15: 420000 | H15: =VLOOKUP(B15,'אומדן 28.11.2022'!C:Q,15,0) -> 421000 | I15: 450000
B16: 1214200990 | C16: 990 | D16: 214200 | E16: 1 | F16: משלטון מקומי - פיקוח וטרינרי | G16: 600000 | H16: =VLOOKUP(B16,'אומדן 28.11.2022'!C:Q,15,0) -> 485000 | I16: =שלומית!G7+100000 -> 500000
A17: סה"כ תברואה | C17: 999 | D17: 210000 | G17: =SUM(G13:G16) -> 1870000 | H17: =SUM(H13:H16) -> 1676000 | I17: =SUM(I13:I16) -> 1700000
A18: שמירה ובטחון | B18: 1222000220 | C18: 220 | D18: 222000 | E18: 1 | F18: אגרת שמירה | G18: 6700000 | H18: =VLOOKUP(B18,'אומדן 28.11.2022'!C:Q,15,0) -> 6701000 | I18: =7200000-110000 -> 7090000
B19: 1222000990 | C19: 990 | D19: 222000 | E19: 1 | F19: מ.מהמשטרה לשמירת ב.ספר | G19: 4459000 | H19: =VLOOKUP(B19,'אומדן 28.11.2022'!C:Q,15,0) -> 3957000 | I19: =ROUND(אכיפה!E10,-3)-500000*0.52+105000-500000*0.52 -> 4537000
B20: 1223000990 | C20: 990 | D20: 223000 | E20: 1 | F20: פקחים מסייעים | G20: 455000 | H20: =VLOOKUP(B20,'אומדן 28.11.2022'!C:Q,15,0) -> 332000 | I20: =אכיפה!E13 -> 455000
B21: 1229999920 | C21: 920 | D21: 229999 | F21: הכנסות בני חיל קורונה | G21: 0 | H21: =VLOOKUP(B21,'אומדן 28.11.2022'!C:Q,15,0) -> 160000 | I21: 0
A22: סה"כ שמירה ובטחון | C22: 999 | D22: 220000 | G22: =SUM(G18:G21) -> 11614000 | H22: =SUM(H18:H21) -> 11150000 | I22: =SUM(I18:I21) -> 12082000
A23: תכנון ובניין עיר | B23: 1231000220 | C23: 220 | D23: 231000 | E23: 1 | F23: הכנסות שונות מהנדסה | G23: 90000 | H23: =VLOOKUP(B23,'אומדן 28.11.2022'!C:Q,15,0) -> 107000 | I23: 110000
B24: 1233100220 | C24: 220 | D24: 233100 | E24: 1 | F24: אגרות רישיונות בנייה | G24: 6290000 | H24: =VLOOKUP(B24,'אומדן 28.11.2022'!C:Q,15,0) -> 5500000 | I24: =6090000+500000 -> 6590000
A25: סה"כ תכנון ובניין עיר | C25: 999 | D25: 230000 | G25: =SUM(G23:G24) -> 6380000 | H25: =SUM(H23:H24) -> 5607000 | I25: =SUM(I23:I24) -> 6700000
A26: נכסים ציבוריים | B26: 1243000690 | C26: 690 | D26: 243000 | E26: 1 | F26: הכנסות מתשלום חשמל | G26: 0 | H26: =VLOOKUP(B26,'אומדן 28.11.2022'!C:Q,15,0) -> 157000 | I26: 50000
B27: 1247000910 | C27: 910 | D27: 247000 | E27: 1 | F27: הכנסות משרד הפנים לחופים | G27: 450000 | H27: =VLOOKUP(B27,'אומדן 28.11.2022'!C:Q,15,0) -> 560000 | I27: 560000
B28: 1247000990 | C28: 990 | D28: 247000 | E28: 1 | F28: הכנסות ממשלה לחופים | G28: 0 | I28: 0
A29: סה"כ נכסים ציבוריים | C29: 999 | D29: 240000 | G29: =SUM(G26:G28) -> 450000 | H29: =SUM(H26:H28) -> 717000 | I29: =SUM(I26:I28) -> 610000
A30: פיקוח עירוני | B30: 1281000690 | C30: 690 | D30: 281000 | E30: 1 | F30: ברירת קנס חנייה | G30: 11000000 | H30: =VLOOKUP(B30,'אומדן 28.11.2022'!C:Q,15,0) -> 9506000 | I30: =אכיפה!E5+2000000 -> 10000000
B31: 1282000440 | C31: 440 | D31: 282000 | E31: 1 | F31: הכנסות מרשויות לבית משפט לעיניינים מקומיים | G31: 830000 | H31: =VLOOKUP(B31,'אומדן 28.11.2022'!C:Q,15,0) -> 794000 | I31: =G31 -> 830000
B32: 1282000690 | C32: 690 | D32: 282000 | E32: 1 | F32: בית משפט קנסות | G32: 250000 | H32: =VLOOKUP(B32,'אומדן 28.11.2022'!C:Q,15,0) -> 210000 | I32: =G32 -> 250000
B33: 1282000691 | C33: 691 | D33: 282000 | E33: 1 | F33: רישוי עסקים לאחר משפט | G33: 20000 | H33: =VLOOKUP(B33,'אומדן 28.11.2022'!C:Q,15,0) -> 15000 | I33: =G33 -> 20000
B34: 1282000693 | C34: 693 | D34: 282000 | E34: 1 | F34: קנס פיקוח כללי לאחר משפט | G34: 130000 | H34: =VLOOKUP(B34,'אומדן 28.11.2022'!C:Q,15,0) -> 182000 | I34: 180000
B35: 1282000694 | C35: 694 | D35: 282000 | E35: 1 | F35: כפל אגרה | G35: 60000 | H35: =VLOOKUP(B35,'אומדן 28.11.2022'!C:Q,15,0) -> 100000 | I35: 100000
A36: סה"כ פיקוח עירוני | C36: 999 | D36: 280000 | G36: =SUM(G30:G35) -> 12290000 | H36: =SUM(H30:H35) -> 10807000 | I36: =SUM(I30:I35) -> 11380000
A37: רישוי עסקים | B37: 1291000220 | C37: 220 | D37: 291000 | E37: 1 | F37: היתרים רישוי עסקים | G37: 100000 | H37: =VLOOKUP(B37,'אומדן 28.11.2022'!C:Q,15,0) -> 70000 | I37: 80000
A38: סה"כ רישוי עסקים | C38: 999 | D38: 290000 | G38: =SUM(G37) -> 100000 | H38: =SUM(H37) -> 70000 | I38: =SUM(I37) -> 80000
B39: 1300000740 | C39: 740 | D39: 300000 | E39: 1 | F39: הכנסות מתוכנית פיס בקהילה | G39: 1000000 | H39: =VLOOKUP(B39,'אומדן 28.11.2022'!C:Q,15,0) -> 1000000 | I39: 0 | J39: מויין לסעיף אחר
A40: סה"כ הכנסות מתוכנית פיס בקהילה | C40: 999 | D40: 300000 | G40: =SUM(G39) -> 1000000 | H40: =SUM(H39) -> 1000000 | I40: =SUM(I39) -> 0
B41: 1312000690 | C41: 690 | D41: 312000 | E41: 1 | F41: השתתפות הורים | G41: 844000 | H41: =VLOOKUP(B41,'אומדן 28.11.2022'!C:Q,15,0) -> 844000 | I41: =חינוך!I4+400000 -> 1244000
B42: 1312100920 | C42: 920 | D42: 312100 | F42: הכנסות יחידה לגיל הרך | G42: 0 | H42: 0 | I42: =חינוך!I52 -> 950000 | J42: יחידה חדשה
B43: 1312200220 | C43: 220 | D43: 312200 | E43: 1 | F43: א.חינוך גנ"י | G43: 3434000 | H43: =VLOOKUP(B43,'אומדן 28.11.2022'!C:Q,15,0) -> 3434000 | I43: =חינוך!I5 -> 3624000
B44: 1312204920 | C44: 920 | D44: 312204 | E44: 1 | F44: עוזרות גננות | G44: 9655000 | H44: =VLOOKUP(B44,'אומדן 28.11.2022'!C:Q,15,0) -> 9655000 | I44: =9648667+333 -> 9649000
B45: 1312207920 | C45: 920 | D45: 312207 | E45: 1 | F45: השת' משה"ח גננות | G45: 11963000 | H45: =VLOOKUP(B45,'אומדן 28.11.2022'!C:Q,15,0) -> 12105000 | I45: 12195000
B46: 1312300430 | C46: 430 | D46: 312300 | E46: 1 | F46: תקורה צהרונים | G46: 774000 | H46: =VLOOKUP(B46,'אומדן 28.11.2022'!C:Q,15,0) -> 634000 | I46: =חינוך!I8 -> 774000
B47: 1312300921 | C47: 921 | D47: 312300 | E47: 1 | F47: הכנסות תוכנית ניצנים | G47: 2160000 | H47: =VLOOKUP(B47,'אומדן 28.11.2022'!C:Q,15,0) -> 2391000 | I47: =חינוך!I9 -> 2960000
B48: 1312300922 | C48: 922 | D48: 312300 | E48: 1 | F48: ניצנים בחופשות | G48: 250000 | H48: =VLOOKUP(B48,'אומדן 28.11.2022'!C:Q,15,0) -> 337000 | I48: 2650000 | J48: הגדלת פעילות 100% מימון
B49: 1312305920 | C49: 920 | D49: 312305 | E49: 1 | F49: שכר גני ילדים | G49: 33225000 | H49: =VLOOKUP(B49,'אומדן 28.11.2022'!C:Q,15,0) -> 33224000 | I49: =31040415-15-400 -> 31040000
B50: 1312602920 | C50: 920 | D50: 312602 | E50: 1 | F50: ה.נלוות ח.מיוחד גנ"י | G50: 200000 | H50: =VLOOKUP(B50,'אומדן 28.11.2022'!C:Q,15,0) -> 254000 | I50: =חינוך!I12 -> 200000
A51: סה"כ חינוך קדם יסודי | C51: 999 | D51: 312000 | G51: =SUM(G41:G50) -> 62505000 | H51: =SUM(H41:H50) -> 62878000 | I51: =SUM(I41:I50) -> 65286000
A52: חינוך יסודי | B52: 1313200220 | C52: 220 | D52: 313200 | E52: 1 | F52: אגרת חינוך מבתי ספר | G52: 880000 | H52: =VLOOKUP(B52,'אומדן 28.11.2022'!C:Q,15,0) -> 670000 | I52: =חינוך!I14 -> 880000
B53: 1313200430 | C53: 430 | D53: 313200 | E53: 1 | F53: שכ"ל מתלמידי חוץ בתי"ס מיוחדים | G53: 700000 | H53: =VLOOKUP(B53,'אומדן 28.11.2022'!C:Q,15,0) -> 700000 | I53: =חינוך!I15 -> 700000
B54: 1313200431 | C54: 431 | D54: 313200 | E54: 1 | F54: שכ"ל מתלמידי חוץ חינוך רגיל | G54: 1000000 | H54: =VLOOKUP(B54,'אומדן 28.11.2022'!C:Q,15,0) -> 1001000 | I54: =חינוך!I16 -> 1000000
B55: 1313200920 | C55: 920 | D55: 313200 | E55: 1 | F55: ניהול עצמי | G55: 9733000 | H55: =VLOOKUP(B55,'אומדן 28.11.2022'!C:Q,15,0) -> 9548000 | I55: =חינוך!I17+200 -> 7037000 | J55: שינויים גפן
B56: 1313200921 | C56: 921 | D56: 313200 | E56: 1 | F56: שכר דירה עבור חב"ד | G56: 75000 | H56: =VLOOKUP(B56,'אומדן 28.11.2022'!C:Q,15,0) -> 0 | I56: =חינוך!I18 -> 150000
B57: 1313200922 | C57: 922 | D57: 313200 | F57: הכנסות גפן ממשרד החינוך | G57: 0 | H57: =VLOOKUP(B57,'אומדן 28.11.2022'!C:Q,15,0) -> 675000 | I57: =חינוך!I51+141000+240 -> 2553000
B58: 1313206920 | C58: 920 | D58: 313206 | E58: 1 | F58: שרתים | G58: 1180000 | H58: =VLOOKUP(B58,'אומדן 28.11.2022'!C:Q,15,0) -> 1957000 | I58: 908000
B59: 1313207920 | C59: 920 | D59: 313207 | E59: 1 | F59: מזכירים | G59: 408000 | H59: =VLOOKUP(B59,'אומדן 28.11.2022'!C:Q,15,0) -> 666000 | I59: =חינוך!I20 -> 714000
B60: 1313209920 | C60: 920 | D60: 313209 | E60: 1 | F60: שרתים ומזכירים טכנודע | G60: 290000 | H60: =VLOOKUP(B60,'אומדן 28.11.2022'!C:Q,15,0) -> 265000 | I60: =חינוך!I21 -> 290000
B61: 1313210920 | C61: 920 | D61: 313210 | E61: 1 | F61: אגרת שיכפול + חומרים | G61: 550000 | H61: =VLOOKUP(B61,'אומדן 28.11.2022'!C:Q,15,0) -> 715000 | I61: =חינוך!I22 -> 550000
B62: 1313211920 | C62: 920 | D62: 313211 | E62: 1 | F62: סל תלמיד לעולה יסודי | G62: 20000 | H62: =VLOOKUP(B62,'אומדן 28.11.2022'!C:Q,15,0) -> 1000 | I62: =חינוך!I23 -> 20000
B63: 1313212920 | C63: 920 | D63: 313212 | E63: 1 | F63: שרתים מתי"א | G63: 75000 | H63: =VLOOKUP(B63,'אומדן 28.11.2022'!C:Q,15,0) -> 69000 | I63: =חינוך!I24 -> 75000
B64: 1313214920 | C64: 920 | D64: 313214 | E64: 1 | F64: מזכירי מתי"א | G64: 165000 | H64: =VLOOKUP(B64,'אומדן 28.11.2022'!C:Q,15,0) -> 139000 | I64: =חינוך!I25 -> 165000
B65: 1313300410 | C65: 410 | D65: 313300 | E65: 1 | F65: הכנסות מבתי ספר בגין הזנה | G65: 141000 | H65: =VLOOKUP(B65,'אומדן 28.11.2022'!C:Q,15,0) -> 0 | I65: =חינוך!I26 -> 141000
B66: 1313302920 | C66: 920 | D66: 313302 | E66: 1 | F66: העשרה נלוות והזנה חינוך מיוחד | G66: 1600000 | H66: =VLOOKUP(B66,'אומדן 28.11.2022'!C:Q,15,0) -> 1383000 | I66: =חינוך!I27 -> 2160000
B67: 1313303920 | C67: 920 | D67: 313303 | E67: 1 | F67: סייעות בי"ס חריגות | G67: 5930000 | H67: =VLOOKUP(B67,'אומדן 28.11.2022'!C:Q,15,0) -> 6448000 | I67: =10676182+18-200 -> 10676000
B68: 1313305920 | C68: 920 | D68: 313305 | E68: 1 | F68: חוק שילוב סייעות | G68: 12800000 | H68: =VLOOKUP(B68,'אומדן 28.11.2022'!C:Q,15,0) -> 12600000 | I68: 16500000
B69: 1313306920 | C69: 920 | D69: 313306 | E69: 1 | F69: שרותי היקף ח.מיוחד+אוטיסט | G69: 750000 | H69: =VLOOKUP(B69,'אומדן 28.11.2022'!C:Q,15,0) -> 851000 | I69: =870105-105 -> 870000
B70: 1313307920 | C70: 920 | D70: 313307 | E70: 1 | F70: סייעות כיתתיות | G70: 5726000 | H70: =VLOOKUP(B70,'אומדן 28.11.2022'!C:Q,15,0) -> 5625000 | I70: =חינוך!I31 -> 7263000
B71: 1313500410 | C71: 410 | D71: 313500 | E71: 1 | F71: החזרים ממוסדות מוכרים בגין הוצאות העיריה | G71: 1200000 | H71: =VLOOKUP(B71,'אומדן 28.11.2022'!C:Q,15,0) -> 800000 | I71: =חינוך!I32 -> 1300000
B72: 1313500920 | C72: 920 | D72: 313500 | E72: 1 | F72: מזכירות ושרתים מוסדות מוכרים שאינם רשמיים | G72: 1200000 | H72: =VLOOKUP(B72,'אומדן 28.11.2022'!C:Q,15,0) -> 1151000 | I72: =חינוך!I33 -> 1200000
B73: 1313700920 | C73: 920 | D73: 313700 | E73: 1 | F73: ממשלה לחווה חקלאית | G73: 202000 | H73: =VLOOKUP(B73,'אומדן 28.11.2022'!C:Q,15,0) -> 177000 | I73: =חינוך!I34 -> 202000
A74: סה"כ חינוך יסודי | C74: 999 | D74: 313000 | G74: =SUM(G52:G73) -> 44625000 | H74: =SUM(H52:H73) -> 45441000 | I74: =SUM(I52:I73) -> 55354000
B75: 1315000920 | C75: 920 | D75: 315000 | E75: 1 | F75: הכנסות קידום נוער | G75: 280000 | H75: =VLOOKUP(B75,'אומדן 28.11.2022'!C:Q,15,0) -> 280000 | I75: =חינוך!I36 -> 280000
A76: סה"כ חינוך על יסודי | C76: 999 | D76: 314000 | G76: =SUM(G75:G75) -> 280000 | H76: =SUM(H75:H75) -> 280000 | I76: =SUM(I75:I75) -> 280000
A77: שירותים נוספים | B77: 1317100920 | C77: 920 | D77: 317100 | E77: 1 | F77: מ.החינוך לקב"טים | G77: 270000 | H77: =VLOOKUP(B77,'אומדן 28.11.2022'!C:Q,15,0) -> 110000 | I77: 510000
B78: 1317103920 | C78: 920 | D78: 317103 | E78: 1 | F78: שומרים | G78: 235000 | H78: =VLOOKUP(B78,'אומדן 28.11.2022'!C:Q,15,0) -> 218000 | I78: =חינוך!I39 -> 235000
B79: 1317200920 | C79: 920 | D79: 317200 | E79: 1 | F79: ממשלה לפסגה | G79: 0 | H79: =VLOOKUP(B79,'אומדן 28.11.2022'!C:Q,15,0) -> 20000 | I79: 0
B80: 1317300920 | C80: 920 | D80: 317300 | E80: 1 | F80: ממשלה לשירות פסיכולוגי | G80: 4036000 | H80: =VLOOKUP(B80,'אומדן 28.11.2022'!C:Q,15,0) -> 3126000 | I80: =חינוך!I40+300000-3600-204000*0.68*3 -> 4083840
B81: 1317300921 | C81: 921 | D81: 317300 | E81: 1 | F81: הדרכה שירות פסיכולוגי | G81: 150000 | H81: =VLOOKUP(B81,'אומדן 28.11.2022'!C:Q,15,0) -> 0 | I81: =חינוך!I41 -> 200000
B82: 1317600920 | C82: 920 | D82: 317600 | E82: 1 | F82: ממשלה לרווחה חינוכית | G82: 800000 | H82: =VLOOKUP(B82,'אומדן 28.11.2022'!C:Q,15,0) -> 800000 | I82: =חינוך!I42 -> 800000
B83: 1317600990 | C83: 990 | D83: 317600 | E83: 1 | F83: התוכנית הלאומית בחינוך | G83: 1029000 | H83: =VLOOKUP(B83,'אומדן 28.11.2022'!C:Q,15,0) -> 1030000 | I83: =חינוך!I43 -> 1029000
B84: 1317703920 | C84: 920 | D84: 317703 | E84: 1 | F84: קב"סים | G84: 930000 | H84: =VLOOKUP(B84,'אומדן 28.11.2022'!C:Q,15,0) -> 945000 | I84: =חינוך!I44 -> 930000
B85: 1317800420 | C85: 420 | D85: 317800 | E85: 1 | F85: הסעות ילדים השתתפות הורים | G85: 150000 | H85: =G85 -> 150000 | I85: =חינוך!I45 -> 175000
B86: 1317802920 | C86: 920 | D86: 317802 | E86: 1 | F86: הסעות ח.מיוחד חיפה | G86: 3500000 | H86: =VLOOKUP(B86,'אומדן 28.11.2022'!C:Q,15,0) -> 3300000 | I86: =חינוך!I46 -> 4350000
B87: 1317803920 | C87: 920 | D87: 317803 | E87: 1 | F87: הסעות נט חיפה | G87: 840000 | H87: =VLOOKUP(B87,'אומדן 28.11.2022'!C:Q,15,0) -> 573000 | I87: =חינוך!I47 -> 840000
B88: 1317804920 | C88: 920 | D88: 317804 | E88: 1 | F88: ל.הסעות ח"מ חיפה | G88: 3378000 | H88: =VLOOKUP(B88,'אומדן 28.11.2022'!C:Q,15,0) -> 4045000 | I88: =חינוך!I48 -> 3578000
B89: 1317900420 | C89: 420 | D89: 317900 | E89: 1 | F89: הכנסות עצמיות שונות לחינוך | G89: 50000 | H89: =VLOOKUP(B89,'אומדן 28.11.2022'!C:Q,15,0) -> 0 | I89: =חינוך!I49 -> 50000
B90: 1317900921 | C90: 921 | D90: 317900 | E90: 1 | F90: הכנסות שונות מחינוך | G90: 4000000 | H90: =VLOOKUP(B90,'אומדן 28.11.2022'!C:Q,15,0) -> 4389000 | I90: =חינוך!I50 -> 2000000 | J90: קיזוז גפן
B91: 1317900922 | C91: 922 | D91: 317900 | E91: 1 | F91: הכנסות בגין שיפוצי קיץ | G91: 550000 | H91: =VLOOKUP(B91,'אומדן 28.11.2022'!C:Q,15,0) -> 343000 | I91: =חינוך!I51-760 -> 2411000
B92: 1317900923 | C92: 923 | D92: 317900 | E92: 1 | F92: סל צמצום פערים | G92: 780000 | H92: =VLOOKUP(B92,'אומדן 28.11.2022'!C:Q,15,0) -> 781000 | I92: =חינוך!I53 -> 780000 | J92: מימון 100%
A93: סה"כ שירותים נוספים | C93: 999 | D93: 317000 | G93: =SUM(G77:G92) -> 20698000 | H93: =SUM(H77:H92) -> 19830000 | I93: =SUM(I77:I92) -> 21971840 | J93: =SUM(J77:J92) -> 0
A94: תרבות נוער וספורט | B94: 1321000920 | C94: 920 | D94: 321000 | E94: 1 | F94: הרשות לבטחון קהילתי | G94: 1569215 | H94: =VLOOKUP(B94,'אומדן 28.11.2022'!C:Q,15,0) -> 987000 | I94: =1048000*0.75+406000*100% -> 1192000 | J94: הרשות לבטחון קהילתי 75% , הדרך החדשה 100%
B95: 1322000420 | C95: 420 | D95: 322000 | E95: 1 | F95: הכנסות מאירועים עירוניים | G95: 20000 | H95: =VLOOKUP(B95,'אומדן 28.11.2022'!C:Q,15,0) -> 123000 | I95: 0 | J95: הכנסות ממכירת כרטיסים וחסויות באירועים עירוניים- מויין לסעיף אחר
B96: 1322000920 | C96: 920 | D96: 322000 | E96: 1 | F96: הכנסות ממשלה לתרבות | G96: 1031268 | H96: =VLOOKUP(B96,'אומדן 28.11.2022'!C:Q,15,0) -> 1030000 | I96: 500000 | J96: הכנות לפעולות תרבות ואירועי תרבות
B97: 1322000922 | C97: 922 | D97: 322000 | E97: 1 | F97: התוכנית הלאומית בפנאי העיר | G97: 455000 | H97: =VLOOKUP(B97,'אומדן 28.11.2022'!C:Q,15,0) -> 455000 | I97: ='כרמית '!H4 -> 455000
B98: 1323000420 | C98: 420 | D98: 323000 | E98: 1 | F98: הכנסות ספריה עירונית | G98: 10000 | H98: =VLOOKUP(B98,'אומדן 28.11.2022'!C:Q,15,0) -> 15000 | I98: ='כרמית '!H5 -> 10000
B99: 1325200410 | C99: 410 | D99: 325200 | E99: 1 | F99: הכנסות רנה שני | G99: 632000 | H99: =VLOOKUP(B99,'אומדן 28.11.2022'!C:Q,15,0) -> 632000 | I99: ='כרמית '!H6 -> 632000
B100: 1325200420 | C100: 420 | D100: 325200 | E100: 1 | F100: הכנסות מפעילות קונסרבטוריון | G100: 1770000 | H100: 1400000 | I100: 1350000
...

Sheet הוצאות 
A1: עיריית חדרה תקציב הוצאות
A2: מחלקה | B2: סעיף | C2: סעיף | F2: תאור | G2: תקציב 2022 | H2: אומדן 2022 | I2: תקציב 2023 | J2: הערות
A3: נבחרים | B3: 1611000110 | C3: 110 | D3: 611000 | E3: 1 | F3: שכר נבחרים | G3: 3180000 | H3: 3607000 | I3: 3736000 | J3: ראה נספח א
B4: 1611000511 | C4: 511 | D4: 611000 | E4: 1 | F4: כיבוד וארוח | G4: 34000 | H4: 18000 | I4: 34000 | J4: כיבוד לישיבות הנהלה ומועצה
B5: 1611000530 | C5: 530 | D5: 611000 | E5: 1 | F5: אחזקת רכב וביטוח | G5: 90000 | H5: 105000 | I5: 100000 | J5: ראה נספח ב
B6: 1611000540 | C6: 540 | D6: 611000 | E6: 1 | F6: טלפון דואר ומכשירים ניידים | G6: 3000 | H6: 3000 | I6: 3000
B7: 1611000780 | C7: 780 | D7: 611000 | E7: 1 | F7: הוצאות אחרות | G7: 55000 | H7: 55000 | I7: 55000 | J7: הוצאות שונות לסגנים וחברי המועצה
A8: סה"כ נבחרים | C8: 999 | D8: 611000 | E8: 1 | G8: 3362000 | H8: 3788000 | I8: 3928000
A9: הנהלה ומועצה - עובדים | B9: 1611100110 | C9: 110 | D9: 611100 | E9: 1 | F9: שכר לשכות נבחרים | G9: 4267000 | H9: 4481000 | I9: 3885000 | J9: ראה נספח א
B10: 1611100440 | C10: 440 | D10: 611100 | E10: 1 | F10: ביטוח בריאות לעובדים | G10: 170000 | H10: 207000 | I10: 250000
B11: 1611100511 | C11: 511 | D11: 611100 | E11: 1 | F11: כיבוד וארוח | G11: 40000 | H11: 40000 | I11: 40000 | J11: כיבוד והוצאות ארוח
B12: 1611100530 | C12: 530 | D12: 611100 | E12: 1 | F12: אחזקת רכב וביטוח | G12: 120000 | H12: 95000 | I12: 119999.6 | J12: ראה נספח ב
B13: 1611100540 | C13: 540 | D13: 611100 | E13: 1 | F13: טלפון דואר ומכשירים ניידים | G13: 16000 | H13: 36000 | I13: 16000
B14: 1611100750 | C14: 750 | D14: 611100 | E14: 1 | F14: עבודות קבלניות | G14: 300000 | H14: 295000 | I14: 500000 | J14: עבור הוצאות מנהלה
B15: 1611100751 | C15: 751 | D15: 611100 | E15: 1 | F15: קשרי חוץ | G15: 80000 | H15: 17000 | I15: 80000 | J15: ערים תאומות וקש"ח על פי מדיניות מחזיק התיק.
B16: 1611100752 | C16: 752 | D16: 611100 | E16: 1 | F16: מועצה ציונית | G16: 25000 | H16: 0 | I16: 0
B17: 1611100753 | C17: 753 | D17: 611100 | E17: 1 | F17: קידום מעמד האישה | G17: 210000 | H17: 210000 | I17: 210000 | J17: פעילות מועצת נשים על פי מדיניות מחזיקת התיק .
B18: 1611100754 | C18: 754 | D18: 611100 | E18: 1 | F18: יוזמות ראש העיר לאזרחים ותיקים | G18: 200000 | H18: 316000 | I18: 200000 | J18: פעילות לאזרחים ותיקים ושילוב תרבויות + יום ניצחון על גרמניה הנאצית על פי מדיניות מחזיק התיק
B19: 1611100755 | C19: 755 | D19: 611100 | E19: 1 | F19: פעילות לצעירים | G19: 50000 | H19: 0 | I19: 50000 | J19: ע"פ מדיניות מחזיק התיק
B20: 1611100756 | C20: 756 | D20: 611100 | E20: 1 | F20: פיתוח מנהיגות קהילתית בשכונות הותיקות | G20: 200000 | H20: 214000 | I20: 200000 | J20: ע"פ מדיניות מחזיקי התיק
B21: 1611100757 | C21: 757 | D21: 611100 | E21: 1 | F21: קשרי מימשל | G21: 30000 | H21: 0 | I21: 50000 | J21: ע"פ מדיניות מחזיק התיק
B22: 1611100758 | C22: 758 | F22: יוזמות ראה"ע לאנשים בעלי מוגבלויות | G22: 0 | H22: 0 | I22: 100000 | J22: ע"פ מדיניות מחזיק התיק
B23: 1611100780 | C23: 780 | D23: 611100 | E23: 1 | F23: הוצאות אחרות | G23: 130000 | H23: 130000 | I23: 130000 | J23: קופה קטנה + הוצאות שונות
B24: 1611100781 | C24: 781 | D24: 611100 | E24: 1 | F24: אבטחה | G24: 70000 | H24: 44000 | I24: 0 | J24: אבטחת ראה"ע
B25: 1611100782 | C25: 782 | D25: 611100 | E25: 1 | F25: שירות לתושב | G25: 900000 | H25: 900000 | I25: 1300000 | J25: אירועי הקהילה האתיופית 100 אלש"ח. סליחות 120 אלש"ח. בר מצווה למעוטי יכולת 32 אלש"ח. טיול ופעילות למשפחות שכולות 30 אלש"ח. 100אלש"ח מותנה בהכנסות ארנונה
B26: 1611100783 | C26: 783 | D26: 611100 | E26: 1 | F26: הוצאות למזכירות המועצה | G26: 90000 | H26: 89000 | I26: 100000 | J26: צילום הישיבות, פרוטוקולים, הקלטות, ספרות מקצועית, ושונות
A27: סה"כ הנהלה ומועצה עובדים | C27: 999 | D27: 611100 | E27: 1 | G27: 6898000 | H27: 7074000 | I27: 7230999.6
A28: מבקר העירייה | B28: 1612000110 | C28: 110 | D28: 612000 | E28: 1 | F28: שכר מבקר העירייה | G28: 899000 | H28: 912000 | I28: 946000 | J28: ראה נספח א
B29: 1612000410 | C29: 410 | D29: 612000 | E29: 1 | F29: שכר דירה ודמי חכירה | G29: 59000 | H29: 60000 | I29: 62000 | J29: ראה נספח ג'
B30: 1612000540 | C30: 540 | D30: 612000 | E30: 1 | F30: טלפון דואר ומכשירים ניידים | G30: 1000 | H30: 0 | I30: 1000
B31: 1612000750 | C31: 750 | D31: 612000 | E31: 1 | F31: שירותי חוץ | G31: 410000 | H31: 410000 | I31: 410000 | J31: שירותי ביקורת
B32: 1612000780 | C32: 780 | D32: 612000 | E32: 1 | F32: הוצאות אחרות | G32: 18000 | H32: 18000 | I32: 10000 | J32: קופה קטנה + הוצאות שונות
A33: סה"כ מבקר העירייה | C33: 999 | D33: 612000 | E33: 1 | G33: 1387000 | H33: 1400000 | I33: 1429000
A34: לשכת מנכ"ל | B34: 1613000110 | C34: 110 | D34: 613000 | E34: 1 | F34: שכר לשכת מנכ"ל | G34: 2008000 | H34: 1891000 | I34: 2455000 | J34: ראה נספח א
B35: 1613000430 | C35: 430 | D35: 613000 | E35: 1 | F35: חשמל | G35: 4000 | H35: 6000 | I35: 4000 | J35: ארכיון העירייה
B36: 1613000530 | C36: 530 | D36: 613000 | E36: 1 | F36: אחזקת רכב וביטוח | G36: 90000 | H36: 121000 | I36: 90000 | J36: ראה נספח ב
B37: 1613000540 | C37: 540 | D37: 613000 | E37: 1 | F37: טלפון דואר ומכשירים ניידים | G37: 4000 | H37: 4000 | I37: 4000
B38: 1613000750 | C38: 750 | D38: 613000 | E38: 1 | F38: עבודות קבלניות | G38: 400000 | H38: 201000 | I38: 500000
B39: 1613000751 | C39: 751 | D39: 613000 | E39: 1 | F39: שיפור שירות לתושב | G39: 400000 | H39: 400000 | I39: 500000
B40: 1613000752 | C40: 752 | D40: 613000 | E40: 1 | F40: שיפור חזות העיר | G40: 100000 | H40: 100000 | I40: 200000
B41: 1613000753 | C41: 753 | D41: 613000 | E41: 1 | F41: עבודות קבלניות אחרות | G41: 0 | H41: 0 | I41: 150000 | J41: עובדי פנאי העיר - מויין מסעיף אחר
B42: 1613000780 | C42: 780 | D42: 613000 | E42: 1 | F42: הוצאות אחרות - מנכ"ל | G42: 200000 | H42: 202000 | I42: 300000
B43: 1613000781 | C43: 781 | D43: 613000 | E43: 1 | F43: תוכנית הפעלה מפעל הפיס | G43: 0 | H43: 0 | I43: 1600000 | J43: מימון 100%
A44: סה"כ לשכת מנכ"ל | C44: 999 | D44: 613000 | E44: 1 | G44: 3206000 | H44: 2925000 | I44: 5803000
A45: תקשורת שיווקית | B45: 1614000110 | C45: 110 | D45: 614000 | E45: 1 | F45: שכר דוברות והסברה | G45: 335000 | H45: 275000 | I45: 380000 | J45: ראה נספח א
B46: 1614000540 | C46: 540 | D46: 614000 | E46: 1 | F46: טלפון דואר ומכשירים ניידים | G46: 1000 | H46: 0 | I46: 1000
B47: 1614000550 | C47: 550 | D47: 614000 | E47: 1 | F47: הוצאות פרסום | G47: 800000 | H47: 815000 | I47: 850000 | J47: הוצאות פרסום בכלי התקשורת השונים
B48: 1614000750 | C48: 750 | D48: 614000 | E48: 1 | F48: עבודות קבלניות | G48: 288000 | H48: 288000 | I48: 288000 | J48: שכר יועץ תקשורת
B49: 1614000751 | C49: 751 | D49: 614000 | E49: 1 | F49: ניו מדיה | G49: 200000 | H49: 201000 | I49: 850000 | J49: איגום סעיפים שהיו בנחלים ובחבק"ל 200 אלש"ח מותנה
B50: 1614000780 | C50: 780 | D50: 614000 | E50: 1 | F50: הוצאות אחרות | G50: 1000 | H50: 1000 | I50: 1000 | J50: הוצאות שונות
A51: סה"כ תקשורת שיווקית | C51: 999 | D51: 614000 | E51: 1 | G51: 1625000 | H51: 1580000 | I51: 2370000
A52: הון אנושי | B52: 1615000110 | C52: 110 | D52: 615000 | E52: 1 | F52: שכר הון אנושי | G52: 3267000 | H52: 3060000 | I52: 3338000 | J52: ראה נספח א
B53: 1615000410 | C53: 410 | D53: 615000 | E53: 1 | F53: שכר דירה ודמי חכירה | G53: 338000 | H53: 284000 | I53: 374000 | J53: ראה נספח ג'
B54: 1615000521 | C54: 521 | D54: 615000 | E54: 1 | F54: השתלמויות | G54: 250000 | H54: 249000 | I54: 300000 | J54: השתלמויות מקצועיות לעובדים, העברת כלל ההשתלמויות לתקציב הון אנושי. 50 אלש"ח מותנה בהכנסות ארנונה
B55: 1615000522 | C55: 522 | D55: 615000 | E55: 1 | F55: ספרות מקצועית | G55: 30000 | H55: 17000 | I55: 15000 | J55: ספרות מקצועית ועיתונים
B56: 1615000530 | C56: 530 | D56: 615000 | E56: 1 | F56: אחזקת רכב וביטוח | G56: 55000 | H56: 54000 | I56: 55000 | J56: ראה נספח ב
B57: 1615000540 | C57: 540 | D57: 615000 | E57: 1 | F57: טלפון דואר ומכשירים ניידים | G57: 4000 | H57: 9000 | I57: 4000
B58: 1615000750 | C58: 750 | D58: 615000 | E58: 1 | F58: עבודות קבלניות | G58: 300000 | H58: 253000 | I58: 300000 | J58: ליווי פרישה, יועץ פנסיוני, ליווי עובדים במצוקה,תחזוקת מערכות המחשוב והשעונים, פיתוח ארגוני, הדרכה ורווחת הפרט
B59: 1615000751 | C59: 751 | D59: 615000 | E59: 1 | F59: יוזמות ראש העיר לרווחת העובד | G59: 3000000 | H59: 3000000 | I59: 500000 | J59: טקס עובדים מצטיינים ופורשים + 120 אלש"ח סוכות אבלים לעובדיי עירייה , ימי גיבוש לאגפים , הכשרות ארגוניות . חלק מהפעילויות עברו לסעיף 176600780
B60: 1615000780 | C60: 780 | D60: 615000 | E60: 1 | F60: הוצאות אחרות | G60: 12000 | H60: 12000 | I60: 12000 | J60: קופה קטנה + הוצאות שונות
B61: 1615100110 | C61: 110 | D61: 615100 | E61: 1 | F61: שכר עובדים לא משובצים | G61: 115000 | H61: 339000 | I61: 255000 | J61: ראה נספח א
A62: סה"כ הון אנושי | C62: 999 | D62: 615000 | E62: 1 | G62: 7371000 | H62: 7277000 | I62: 5153000
A63: אגף שירות | B63: 1616000110 | C63: 110 | D63: 616000 | E63: 1 | F63: שכר מטה אגף שירות | G63: 518000 | H63: 67000 | I63: 518000 | J63: ראה נספח א
A64: פניות ציבור | B64: 1616100110 | C64: 110 | D64: 616100 | E64: 1 | F64: שכר פניות ציבור | G64: 0 | H64: 0 | I64: 860000 | J64: ראה נספח א - מויין מסעיף אחר
B65: 1616000750 | C65: 750 | D65: 616000 | E65: 1 | F65: עבודות קבלניות | G65: 200000 | H65: 0 | I65: 200000
A66: סה"כ שירות | C66: 999 | D66: 616000 | E66: 1 | G66: 718000 | H66: 67000 | I66: 1578000
A67: יחידה משפטית | B67: 1617000110 | C67: 110 | D67: 617000 | E67: 1 | F67: שכר יחידה משפטית | G67: 3129000 | H67: 3391000 | I67: 3390000 | J67: ראה נספח א
B68: 1617000410 | C68: 410 | D68: 617000 | E68: 1 | F68: שכר דירה ודמי חכירה | G68: 385000 | H68: 365000 | I68: 421000 | J68: ראה נספח ג'
B69: 1617000522 | C69: 522 | D69: 617000 | E69: 1 | F69: ספרות מקצועית | G69: 10000 | H69: 6000 | I69: 10000 | J69: ספרות משפטית ודינים
B70: 1617000530 | C70: 530 | D70: 617000 | E70: 1 | F70: אחזקת רכב וביטוח | G70: 65000 | H70: 65000 | I70: 65000 | J70: ראה נספח ב
B71: 1617000540 | C71: 540 | D71: 617000 | E71: 1 | F71: טלפון דואר ומכשירים ניידים | G71: 2000 | H71: 2000 | I71: 2000
B72: 1617000581 | C72: 581 | D72: 617000 | E72: 1 | F72: הוצאות משפטיות | G72: 450000 | H72: 103000 | I72: 150000 | J72: פסיקות בית משפט נגד העירייה
B73: 1617000750 | C73: 750 | D73: 617000 | E73: 1 | F73: ייעוץ משפטי | G73: 1200000 | H73: 989000 | I73: 800000 | J73: ייעוץ משפטי חיצוני
B74: 1617000780 | C74: 780 | D74: 617000 | E74: 1 | F74: הוצאות אחרות | G74: 65000 | H74: 52000 | I74: 85000 | J74: קופה קטנה + הוצאות שונות + דמי חבר+מיחשוב ללשכה
A75: סה"כ יחידה משפטית | C75: 999 | D75: 617000 | E75: 1 | G75: 5306000 | H75: 4973000 | I75: 4923000
A76: מערכות מידע | B76: 1618000110 | C76: 110 | D76: 618000 | E76: 1 | F76: שכר מערכות מידע | G76: 547000 | H76: 496000 | I76: 738000 | J76: ראה נספח א
B77: 1618000530 | C77: 530 | D77: 618000 | E77: 1 | F77: אחזקת רכב וביטוח | G77: 37000 | H77: 34000 | I77: 37000 | J77: ראה נספח ב
B78: 1618000540 | C78: 540 | D78: 618000 | E78: 1 | F78: טלפון דואר ומכשירים ניידים | G78: 2000 | H78: 3000 | I78: 2000
B79: 1618000570 | C79: 570 | D79: 618000 | E79: 1 | F79: מיכון ועיבוד נתונים | G79: 4000000 | H79: 4244000 | I79: 4200000 | J79: תשלום לחברות המיחשוב/ שכר/כח אדם ותוכנת הנה"ח ותוכנות נוספות + מנמ"ר + תוכנת לניהול משפטית + פורטל עובדים + פרויקט גיבויים + הלפדסק+ פרויקטים חדשים
B80: 1618000750 | C80: 750 | D80: 618000 | E80: 1 | F80: עבודות קבלניות | G80: 500000 | H80: 353000 | I80: 673000 | J80: עבודות תיקון אחזקה והתקנת מחשבים לכלל העירייה
B81: 1618000780 | C81: 780 | D81: 618000 | E81: 1 | F81: הוצאות אחרות | G81: 200000 | H81: 200000 | I81: 200000 | J81: רכישת ציוד מחשוב לכלל העירייה.
A82: סה"כ מערכות מידע | C82: 999 | D82: 618000 | E82: 1 | G82: 5286000 | H82: 5330000 | I82: 5850000
A83: בחירות מוניציפאליות | B83: 1619000110 | C83: 110 | D83: 619000 | E83: 1 | F83: שכר- בחירות מוניציפאליות | G83: 0 | H83: 0 | I83: 50000 | J83: הוצאות בחירות מוניציפאליות
B84: 1619000780 | C84: 780 | D84: 619000 | E84: 1 | F84: הוצאות בחירות מוניציפאליות | G84: 0 | H84: 0 | I84: 800000 | J84: הוצאות בחירות מוניציפאליות
A85: סה"כ בחירות | C85: 999 | D85: 619000 | E85: 1 | G85: 0 | H85: 0 | I85: 850000
A86: גזברות | B86: 1621000110 | C86: 110 | D86: 621000 | E86: 1 | F86: שכר גזברות | G86: 1705000 | H86: 1708000 | I86: 1692000 | J86: ראה נספח א
B87: 1621000530 | C87: 530 | D87: 621000 | E87: 1 | F87: אחזקת רכב וביטוח | G87: 70000 | H87: 71000 | I87: 140000 | J87: ראה נספח ב
B88: 1621000540 | C88: 540 | D88: 621000 | E88: 1 | F88: טלפון דואר ומכשירים ניידים | G88: 15000 | H88: 11000 | I88: 15000 | J88: כולל אינטרנט ותקשורת ישירה לבנקים
B89: 1621000750 | C89: 750 | D89: 621000 | E89: 1 | F89: עבודות קבלניות | G89: 75000 | H89: 75000 | I89: 75000 | J89: יועצים/ חוו"ד כלכליות
B90: 1621000780 | C90: 780 | D90: 621000 | E90: 1 | F90: הוצאות אחרות | G90: 50000 | H90: 53000 | I90: 55000 | J90: קופה קטנה והוצאות מטה
A91: סה"כ גזברות | C91: 999 | D91: 621000 | E91: 1 | G91: 1915000 | H91: 1918000 | I91: 1977000
A92: הנהח"ש ושכר | B92: 1621300110 | C92: 110 | D92: 621300 | E92: 1 | F92: שכר הנהח"ש ושכר | G92: 2948000 | H92: 2788000 | I92: 3087000 | J92: ראה נספח א
B93: 1621300410 | C93: 410 | D93: 621300 | E93: 1 | F93: שכר דירה ודמי חכירה | G93: 0 | H93: 0 | I93: 79000
B94: 1621300540 | C94: 540 | D94: 621300 | E94: 1 | F94: טלפון דואר ומכשירים ניידים | G94: 2000 | H94: 1000 | I94: 2000
B95: 1621300750 | C95: 750 | D95: 621300 | E95: 1 | F95: עבודות קבלניות | G95: 230000 | H95: 206000 | I95: 330000 | J95: שרותי סליקה + בקרת שכר והבאה לקו אפס של תיקי העובדים
B96: 1621300780 | C96: 780 | D96: 621300 | E96: 1 | F96: הוצאות אחרות | G96: 90000 | H96: 98000 | I96: 90000 | J96: קופה קטנה + הוצאות שונות + יעוץ בנושא שכר + סריקת תיקי עובדים
A97: סה"כ הנהח"ש ושכר | C97: 999 | D97: 621300 | E97: 1 | G97: 3270000 | H97: 3093000 | I97: 3588000
A98: גבייה ושומה | B98: 1623000110 | C98: 110 | D98: 623000 | E98: 1 | F98: שכר מחלקת גביה | G98: 4695000 | H98: 4848000 | I98: 5115000 | J98: ראה נספח א
B99: 1623000530 | C99: 530 | D99: 623000 | E99: 1 | F99: אחזקת רכב וביטוח | G99: 95000 | H99: 115000 | I99: 95000 | J99: ראה נספח ב
B100: 1623000540 | C100: 540 | D100: 623000 | E100: 1 | F100: טלפון דואר ומכשירים ניידים | G100: 330000 | H100: 259000 | I100: 300000 | J100: כולל משלוח דואר כמותי של חשבונות ארנונה
...

Sheet תקציב 2022
A1: ריכוז תקבולים ותשלומים לפי פרקי תקציב לשנת 2023
A3: תשלומים | F3: תקבולים
A4: מס פרק | B4: שם הפרק | C4: שכר | D4: פעולות | E4: סה"כ | F4: מס' פרק | G4: שם הפרק | H4: ממשלה | I4: עצמיות | J4: סה"כ
A5: 6 הנהלה וכלליות | F5: 1 מיסים ומענקים
A7: 61 | B7: מנהל כללי | C7: =+'הוצאות '!G3+'הוצאות '!G9+'הוצאות '!G28+'הוצאות '!G34+'הוצאות '!G45+'הוצאות '!G52+'הוצאות '!G61+'הוצאות '!G63+'הוצאות '!G67+'הוצאות '!G76+'הוצאות '!G64+'הוצאות '!G83 -> 18265000 | D7: =+E7-C7 -> 16894000 | E7: =+'הוצאות '!G8+'הוצאות '!G27+'הוצאות '!G33+'הוצאות '!G44+'הוצאות '!G51+'הוצאות '!G62+'הוצאות '!G66+'הוצאות '!G75+'הוצאות '!G82+'הוצאות '!G85 -> 35159000 | F7: 11 | G7: ארנונות | H7: 0 | I7: =J7-H7 -> 405824000 | J7: ='הכנסות '!G7-'הכנסות '!G5 -> 405824000
D8: =+E8-C8 -> 0 | F8: 11 | G8: הנחות ארנונה | H8: 0 | I8: =J8-H8 -> 61000000 | J8: ='הכנסות '!G5 -> 61000000
A9: 62 | B9: מנהל כספי | C9: =+'הוצאות '!G86+'הוצאות '!G92+'הוצאות '!G98 -> 9348000 | D9: =+E9-C9 -> 3717000 | E9: =+'הוצאות '!G91+'הוצאות '!G97+'הוצאות '!G104 -> 13065000 | F9: 12 | G9: אגרות | H9: 0 | I9: =J9-H9 -> 6200000 | J9: =+'הכנסות '!G10 -> 6200000
A10: 63 | B10: הוצאות מימון | D10: =+E10-C10 -> 1650000 | E10: =+'הוצאות '!G108 -> 1650000 | F10: 13 | G10: היטלים | H10: 0 | I10: =J10-H10 -> 0 | J10: 0
A11: 64 | B11: פרעון מלוות | D11: =+E11-C11 -> 29623000 | E11: =+'הוצאות '!G113 -> 29623000 | F11: 18 | G11: מכירת שירותים | H11: 0 | I11: =J11-H11 -> 90000 | J11: =+'הכנסות '!G12 -> 90000
F12: 19 | G12: מענקים כללים | H12: 0 | I12: =J12-H12 -> 0 | J12: 0
A13: סה"כ 6 | C13: =SUM(C7:C11) -> 27613000 | D13: =SUM(D7:D11) -> 51884000 | E13: =SUM(E7:E11) -> 79497000 | F13: סה"כ 1 | H13: =SUM(H7:H12) -> 0 | I13: =SUM(I7:I12) -> 473114000 | J13: =SUM(J7:J12) -> 473114000
A14: 7 שירותים מקומיים | F14: 2 שירותים מקומיים
A16: 71 | B16: תברואה | C16: =+'הוצאות '!G114+'הוצאות '!G122+'הוצאות '!G131+'הוצאות '!G136 -> 9936000 | D16: =+E16-C16 -> 69327000 | E16: =+'הוצאות '!G121+'הוצאות '!G125+'הוצאות '!G127+'הוצאות '!G130+'הוצאות '!G135+'הוצאות '!G143+'הוצאות '!G145 -> 79263000 | F16: 21 | G16: תברואה | H16: ='הכנסות '!G16 -> 600000 | I16: =J16-H16 -> 1270000 | J16: =+'הכנסות '!G17 -> 1870000
A17: 72 | B17: שמירה ובטחון | C17: =+'הוצאות '!G146+'הוצאות '!G155+'הוצאות '!G160+'הוצאות '!G162 -> 5092000 | D17: =+E17-C17 -> 1382000 | E17: =+'הוצאות '!G150+'הוצאות '!G154+'הוצאות '!G159+'הוצאות '!G161+'הוצאות '!G166 -> 6474000 | F17: 22 | G17: שמירה ובטחון | H17: ='הכנסות '!G19+'הכנסות '!G20 -> 4914000 | I17: =J17-H17 -> 6700000 | J17: =+'הכנסות '!G22 -> 11614000
A18: 73 | B18: תכנון בניין עיר | C18: =+'הוצאות '!G167+'הוצאות '!G176+'הוצאות '!G180+'הוצאות '!G183+'הוצאות '!G188 -> 14623000 | D18: =+E18-C18 -> 4471000 | E18: =+'הוצאות '!G175+'הוצאות '!G179+'הוצאות '!G182+'הוצאות '!G187+'הוצאות '!G190 -> 19094000 | F18: 23 | G18: תכנון בניין עיר | H18: 0 | I18: =J18-H18 -> 6380000 | J18: =+'הכנסות '!G25 -> 6380000
A19: 74 | B19: נכסים ציבוריים | C19: =+'הוצאות '!G191+'הוצאות '!G196+'הוצאות '!G204+'הוצאות '!G207+'הוצאות '!G218+'הוצאות '!G227 -> 18661000 | D19: =+E19-C19 -> 28779840 | E19: =+'הוצאות '!G195+'הוצאות '!G203+'הוצאות '!G206+'הוצאות '!G217+'הוצאות '!G226+'הוצאות '!G238 -> 47440840 | F19: 24 | G19: נכסים ציבוריים | H19: =+'הכנסות '!G27+'הכנסות '!G28 -> 450000 | I19: =J19-H19 -> 0 | J19: =+'הכנסות '!G29 -> 450000
A20: 75 | B20: חגיגות ואירועים | C20: =+'הוצאות '!G239+'הוצאות '!G240 -> 8001000 | D20: =+E20-C20 -> 2052000 | E20: =+'הוצאות '!G246 -> 10053000 | F20: 25 | G20: חגיגות וארועים | H20: 0 | I20: =J20-H20 -> 0 | J20: 0
A21: 76 | B21: שרותים שונים | C21: =+'הוצאות '!G247+'הוצאות '!G252+'הוצאות '!G262 -> 2797000 | D21: =+E21-C21+0.4 -> 7656000.4 | E21: =+'הוצאות '!G251+'הוצאות '!G255+'הוצאות '!G261+'הוצאות '!G264 -> 10453000 | F21: 26 | G21: שרותים שונים | H21: 0 | I21: 0 | J21: 0
A22: 77 | B22: פיתוח כלכלי | C22: =+'הוצאות '!G270+'הוצאות '!G265 -> 1668000 | D22: =+E22-C22 -> 5167500 | E22: =+'הוצאות '!G269+'הוצאות '!G273 -> 6835500 | F22: 27 | G22: פיתוח תעשיה ומלאכה | H22: 0 | I22: =J22-H22 -> 0 | J22: 0
A23: 78 | B23: פיקוח עירוני | C23: =+'הוצאות '!G274+'הוצאות '!G281+'הוצאות '!G288+'הוצאות '!G294+'הוצאות '!G297 -> 7519000 | D23: =+E23-C23 -> 5233000 | E23: =+'הוצאות '!G280+'הוצאות '!G287+'הוצאות '!G293+'הוצאות '!G296+'הוצאות '!G301 -> 12752000 | F23: 28 | G23: פיקוח עירוני | H23: 0 | I23: =J23-H23 -> 12290000 | J23: =+'הכנסות '!G36 -> 12290000
A24: 79 | B24: שירותים חקלאיים | C24: =+'הוצאות '!G313 -> 340000 | D24: =+E24-C24 -> 96000 | E24: =+'הוצאות '!G317 -> 436000 | F24: 29 | G24: רישוי עסקים | H24: 0 | I24: =J24-H24 -> 100000 | J24: =+'הכנסות '!G38 -> 100000
A25: סה"כ 7 | C25: =SUM(C16:C24) -> 68637000 | D25: =SUM(D16:D24) -> 1.2416434e+08 | E25: =SUM(E16:E24) -> 1.9280134e+08 | F25: סה"כ 2 | H25: =SUM(H16:H24) -> 5964000 | I25: =SUM(I16:I24) -> 26740000 | J25: =SUM(J16:J24) -> 32704000
A26: 8 שרותים ממלכתיים | F26: 3 שרותים ממלכתיים
A28: 80 | B28: מינהל חבק"ל | C28: ='הוצאות '!G302 -> 3621000 | D28: =+E28-C28 -> 4041215 | E28: =+'הוצאות '!G312 -> 7662215 | F28: 30 | G28: מינהל חבק"ל | H28: 0 | I28: =J28-H28 -> 1000000 | J28: =+'הכנסות '!G40 -> 1000000
A29: 81 | B29: חינוך | C29: =+'הוצאות '!G318+'הוצאות '!G332+'הוצאות '!G333+'הוצאות '!G335+'הוצאות '!G345+'הוצאות '!G352+'הוצאות '!G354+'הוצאות '!G355+'הוצאות '!G366+'הוצאות '!G371+'הוצאות '!G378+'הוצאות '!G381+'הוצאות '!G389+'הוצאות '!G397+'הוצאות '!G403+'הוצאות '!G408 -> 113796000 | D29: =+E29-C29 -> 1.07542e+08 | E29: =+'הוצאות '!G331+'הוצאות '!G344+'הוצאות '!G353+'הוצאות '!G365+'הוצאות '!G370+'הוצאות '!G375+'הוצאות '!G377+'הוצאות '!G380+'הוצאות '!G384+'הוצאות '!G388+'הוצאות '!G393+'הוצאות '!G396+'הוצאות '!G402+'הוצאות '!G409+'הוצאות '!G412+'הוצאות '!G414+'הוצאות '!G417 -> 2.21338e+08 | F29: 31 | G29: חינוך | H29: =+'הכנסות '!G44+'הכנסות '!G45+'הכנסות '!G47+'הכנסות '!G48+'הכנסות '!G49+'הכנסות '!G50+'הכנסות '!G55+'הכנסות '!G56+'הכנסות '!G58+'הכנסות '!G59+'הכנסות '!G60+'הכנסות '!G61+'הכנסות '!G62+'הכנסות '!G63+'הכנסות '!G64+'הכנסות '!G66+'הכנסות '!G67+'הכנסות '!G68+'הכנסות '!G69+'הכנסות '!G70+'הכנסות '!G72+'הכנסות '!G73+'הכנסות '!G75+'הכנסות '!G77+'הכנסות '!G78+'הכנסות '!G79+'הכנסות '!G80+'הכנסות '!G81+'הכנסות '!G82+'הכנסות '!G83+'הכנסות '!G84+'הכנסות '!G86+'הכנסות '!G87+'הכנסות '!G88+'הכנסות '!G90+'הכנסות '!G92 -> 118385000 | I29: =+J29-H29 -> 9723000 | J29: =+'הכנסות '!G51+'הכנסות '!G74+'הכנסות '!G76+'הכנסות '!G93 -> 128108000
A30: 82 | B30: תרבות | C30: ='הוצאות '!G420+'הוצאות '!G428+'הוצאות '!G438+'הוצאות '!G460+'הוצאות '!G468+'הוצאות '!G473+'הוצאות '!G479+'הוצאות '!G481+'הוצאות '!G485+'הוצאות '!G489 -> 10951000 | D30: =+E30-C30 -> 30357043 | E30: =+'הוצאות '!G419+'הוצאות '!G427+'הוצאות '!G433+'הוצאות '!G437+'הוצאות '!G442+'הוצאות '!G449+'הוצאות '!G455+'הוצאות '!G457+'הוצאות '!G459+'הוצאות '!G467+'הוצאות '!G472+'הוצאות '!G478+'הוצאות '!G480+'הוצאות '!G484+'הוצאות '!G488+'הוצאות '!G498-2 -> 41308043 | F30: 32 | G30: תרבות | H30: =+'הכנסות '!G94+'הכנסות '!G96+'הכנסות '!G97+'הכנסות '!G101+'הכנסות '!G106+'הכנסות '!G107+'הכנסות '!G108+'הכנסות '!G111 -> 4175483 | I30: =J30-H30 -> 2970732 | J30: =+'הכנסות '!G112 -> 7146215
A31: 83 | B31: בריאות | D31: =+E31-C31 -> 262000 | E31: =+'הוצאות '!G500+'הוצאות '!G502 -> 262000 | F31: 33 | G31: בריאות | H31: 0 | I31: =J31-H31 -> 0 | J31: 0
A32: 84 | B32: רווחה | C32: ='הוצאות '!G503+'הוצאות '!G513+'הוצאות '!G514+'הוצאות '!G520+'הוצאות '!G521+'הוצאות '!G525+'הוצאות '!G526+'הוצאות '!G530+'הוצאות '!G531+'הוצאות '!G536+'הוצאות '!G537+'הוצאות '!G539+'הוצאות '!G543+'הוצאות '!G576+'הוצאות '!G586+'הוצאות '!G595+'הוצאות '!G602+'הוצאות '!G609+'הוצאות '!G612+'הוצאות '!G618+'הוצאות '!G620+'הוצאות '!G621+'הוצאות '!G626+'הוצאות '!G630+'הוצאות '!G631+'הוצאות '!G632+'הוצאות '!G633+'הוצאות '!G635+'הוצאות '!G637+'הוצאות '!G639+'הוצאות '!G642 -> 33433567 | D32: =+E32-C32 -> 1.0248983e+08 | E32: ='הוצאות '!G512+'הוצאות '!G529+'הוצאות '!G547+'הוצאות '!G562+'הוצאות '!G585+'הוצאות '!G611+'הוצאות '!G646+'הוצאות '!G650+'הוצאות '!G653+'הוצאות '!G657 -> 1.359234e+08 | F32: 34 | G32: רווחה | H32: =+J32-I32 -> 96758785 | I32: =+'הכנסות '!G113+'הכנסות '!G118+'הכנסות '!G133+'הכנסות '!G142+'הכנסות '!G175 -> 2139000 | J32: =+'הכנסות '!G117+'הכנסות '!G128+'הכנסות '!G141+'הכנסות '!G157+'הכנסות '!G177+'הכנסות '!G200+'הכנסות '!G225+'הכנסות '!G229+'הכנסות '!G232+'הכנסות '!G236 -> 98897785
A33: 85 | B33: דת | D33: =+E33-C33 -> 5400000 | E33: =+'הוצאות '!G659 -> 5400000 | F33: 35 | G33: דת | H33: 0 | I33: =J33-H33 -> 0 | J33: 0
A34: 86 | B34: קליטת עליה | C34: =+'הוצאות '!G660 -> 730000 | D34: =+E34-C34 -> 731000 | E34: =+'הוצאות '!G669 -> 1461000 | F34: 36 | G34: קליטת עליה | H34: =+'הכנסות '!G238 -> 661000 | I34: =J34-H34 -> 40000 | J34: =+'הכנסות '!G239 -> 701000
A35: 87 | B35: איכות סביבה | C35: =+'הוצאות '!G670 -> 590000 | D35: =+E35-C35 -> 210000 | E35: =+'הוצאות '!G674 -> 800000 | F35: 37 | G35: איכות סביבה | H35: 0 | I35: =J35-H35 -> 500000 | J35: =+'הכנסות '!G241 -> 500000
A36: סה"כ 8 | C36: =SUM(C28:C35) -> 163121567 | D36: =SUM(D28:D35) -> 2.5103309e+08 | E36: =SUM(E28:E35) -> 4.1415466e+08 | F36: סה"כ 3 | H36: =SUM(H28:H35) -> 2.1998027e+08 | I36: =SUM(I28:I35) -> 16372732 | J36: =SUM(J28:J35) -> 2.36353e+08
A37: 9 מפעלים | F37: 4 מפעלים
A39: 91 | B39: מים | D39: 0 | F39: 41 | G39: מים | H39: 0 | I39: =+'הכנסות '!I242 -> 10000 | J39: =+'הכנסות '!G243 -> 10000
A40: 92 | B40: בתי מטבחיים | D40: 0 | F40: 42 | G40: בתי מטבחיים | H40: 0 | I40: 0 | J40: =+H40+I40 -> 0
A41: 93 | B41: נכסים | D41: =+E41-C41 -> 46000 | E41: =+'הוצאות '!G677 -> 46000 | F41: 43 | G41: נכסים | H41: 0 | I41: =+'הכנסות '!G244+'הכנסות '!G246 -> 1020000 | J41: =+'הכנסות '!G245+'הכנסות '!G247 -> 1020000
A42: 94 | B42: תחבורה | C42: =+'הוצאות '!G678 -> 618000 | D42: =+E42-C42 -> 265000 | E42: =+'הוצאות '!G681 -> 883000 | F42: 44 | G42: תחבורה | H42: 0 | I42: =+'הכנסות '!G248 -> 7500000 | J42: =+'הכנסות '!G249 -> 7500000
A43: 96 | B43: הוצאות רזרבה | D43: =+E43-C43 -> 0 | E43: =+'הוצאות '!G682 -> 0
A44: 97 | B44: מפעל הביוב | F44: 47 | G44: מפעל ביוב | H44: 0 | I44: =+'הכנסות '!G250 -> 10000 | J44: =+'הכנסות '!G251 -> 10000
A45: סה"כ 91-97 | C45: =SUM(C39:C44) -> 618000 | D45: =SUM(D39:D44) -> 311000 | E45: =SUM(E39:E44) -> 929000 | F45: סה"כ 4 | H45: =SUM(H39:H44) -> 0 | I45: =SUM(I39:I44) -> 8540000 | J45: =SUM(J39:J44) -> 8540000
A46: 98-99 תשלומים בלתי רגילים | F46: 5 תקבולים בלתי רגילים
A48: 98 | B48: פנסיה | C48: =+'הוצאות '!G684 -> 44500000 | D48: =+E48-C48 -> 0 | E48: =+'הוצאות '!G685 -> 44500000 | G48: הלוואות | H48: 0 | I48: 0 | J48: =+I48+H48 -> 0
B49: הנחות ארנונה | D49: =+E49-C49 -> 61000000 | E49: =+'הוצאות '!G687 -> 61000000 | G49: קרנות | H49: 0 | I49: 0 | J49: =+I49+H49 -> 0
A50: 99 | B50: הוצאות מיוחדות | D50: =+E50-C50 -> 250000 | E50: =+'הוצאות '!G689 -> 250000 | G50: אחרות | H50: =+'הכנסות '!G262 -> 6000000 | I50: =+'הכנסות '!G252+'הכנסות '!G253+'הכנסות '!G255+'הכנסות '!G256+'הכנסות '!G257+'הכנסות '!G258+'הכנסות '!G260+'הכנסות '!G259+'הכנסות '!G261 -> 36421000 | J50: =+'הכנסות '!G254+'הכנסות '!G263 -> 42421000
A51: סה"כ 98-99 | C51: =SUM(C48:C50) -> 44500000 | D51: =SUM(D48:D50) -> 61250000 | E51: =SUM(E48:E50) -> 105750000 | F51: סה"כ 5 | H51: =SUM(H48:H50) -> 6000000 | I51: =SUM(I48:I50) -> 36421000 | J51: =SUM(J48:J50) -> 42421000
A52: סה"כ תשלומים | C52: =+C13+C25+C36+C45+C51 -> 304489567 | D52: =+D13+D25+D36+D45+D51 -> 4.8864243e+08 | E52: =+E13+E25+E36+E45+E51+2 -> 7.93132e+08 | F52: סה"כ תקבולים | H52: =+H13+H25+H36+H45+H51 -> 2.3194427e+08 | I52: =+I13+I25+I36+I45+I51 -> 561187732 | J52: =+J51+J45+J36+J25+J13 -> 7.93132e+08
E54: הפרש | F54: =J52-E52 -> 0.014999986

Sheet מותנה 37
A1: הוצאות מותנות בהכנסה -תקציב 2023
A3: סעיף תקציב | B3: אגף | C3: תאור | D3: תקציב 2023 כולל | E3: תקציב מותנה | F3: למימוש ללא התניה | G3: הערות
A4: 1611100782 | B4: הנהלה | C4: =VLOOKUP(A4,'הוצאות '!B2:F672,5,0) -> שירות לתושב | D4: =VLOOKUP(A4,'הוצאות '!B2:I689,8,0) -> 1300000 | E4: 100000 | F4: =+D4-E4 -> 1200000
A5: 1614000751 | B5: תקשורת שיווקית | C5: =VLOOKUP(A5,'הוצאות '!B3:F673,5,0) -> ניו מדיה | D5: =VLOOKUP(A5,'הוצאות '!B3:I690,8,0) -> 850000 | E5: 200000 | F5: =+D5-E5 -> 650000
A6: 1615000521 | B6: הון אנושי | C6: =VLOOKUP(A6,'הוצאות '!B4:F674,5,0) -> השתלמויות | D6: =VLOOKUP(A6,'הוצאות '!B4:I691,8,0) -> 300000 | E6: 50000 | F6: =+D6-E6 -> 250000
A7: 1710000750 | B7: שפ"ע | C7: =VLOOKUP(A7,'הוצאות '!B5:F675,5,0) -> עבודות קבלניות | D7: =VLOOKUP(A7,'הוצאות '!B5:I692,8,0) -> 450000 | E7: 50000 | F7: =+D7-E7 -> 400000
A8: 1712200750 | B8: שפ"ע | C8: =VLOOKUP(A8,'הוצאות '!B6:F676,5,0) -> עבודות קבלניות | D8: =VLOOKUP(A8,'הוצאות '!B6:I693,8,0) -> 22000000 | E8: 3500000 | F8: =+D8-E8 -> 18500000
A9: 1712300750 | B9: שפ"ע | C9: =VLOOKUP(A9,'הוצאות '!B6:F676,5,0) -> איסוף אשפה | D9: =VLOOKUP(A9,'הוצאות '!B6:I693,8,0) -> 48700000 | E9: 300000 | F9: =+D9-E9 -> 48400000
A10: 1746000751 | B10: שפ"ע | C10: =VLOOKUP(A10,'הוצאות '!B7:F677,5,0) -> תחזוקת פארקים | D10: =VLOOKUP(A10,'הוצאות '!B7:I694,8,0) -> 650000 | E10: 150000 | F10: =+D10-E10 -> 500000
A11: 1747000751 | B11: חופים | C11: =VLOOKUP(A11,'הוצאות '!B8:F678,5,0) -> קבלניות לפארקים צמודי חוף וחופים לא מוכרזים | D11: =VLOOKUP(A11,'הוצאות '!B8:I695,8,0) -> 800000 | E11: 100000 | F11: =+D11-E11 -> 700000
A12: 1752000780 | B12: אירועים | C12: =VLOOKUP(A12,'הוצאות '!B10:F680,5,0) -> הוצאות אחרות | D12: =VLOOKUP(A12,'הוצאות '!B9:I696,8,0) -> 250000 | E12: 50000 | F12: =+D12-E12 -> 200000
A13: 1771000810 | B13: השתתפויות ותמיכות | C13: =VLOOKUP(A13,'הוצאות '!B11:F681,5,0) -> החברה לתיירות | D13: =VLOOKUP(A13,'הוצאות '!B10:I697,8,0) -> 1300000 | E13: 350000 | F13: =+D13-E13 -> 950000
A14: 1811000110 | B14: חינוך | C14: =VLOOKUP(A14,'הוצאות '!B12:F682,5,0) -> שכר אגף החינוך | D14: =VLOOKUP(A14,'הוצאות '!B11:I698,8,0) -> 12532000 | E14: 220000 | F14: =+D14-E14 -> 12312000
A15: 1812200743 | B15: חינוך | C15: =VLOOKUP(A15,'הוצאות '!B13:F683,5,0) -> מחשבים לגני ילדים | D15: =VLOOKUP(A15,'הוצאות '!B12:I699,8,0) -> 253000 | E15: 50000 | F15: =+D15-E15 -> 203000
A16: 1812200780 | B16: חינוך | C16: =VLOOKUP(A16,'הוצאות '!B14:F684,5,0) -> הוצאות אחרות | D16: =VLOOKUP(A16,'הוצאות '!B13:I700,8,0) -> 1928000 | E16: 200000 | F16: =+D16-E16 -> 1728000
A17: 1812200781 | B17: חינוך | C17: =VLOOKUP(A17,'הוצאות '!B15:F685,5,0) -> אגרות הורים גנ"י | D17: =VLOOKUP(A17,'הוצאות '!B14:I701,8,0) -> 3285000 | E17: 200000 | F17: =+D17-E17 -> 3085000
A18: 1812300780 | B18: חינוך | C18: =VLOOKUP(A18,'הוצאות '!B16:F686,5,0) -> הוצאות אחרות | D18: =VLOOKUP(A18,'הוצאות '!B15:I702,8,0) -> 1240000 | E18: 200000 | F18: =+D18-E18 -> 1040000
A19: 1813200780 | B19: חינוך | C19: =VLOOKUP(A19,'הוצאות '!B17:F687,5,0) -> הוצאות אחרות | D19: =VLOOKUP(A19,'הוצאות '!B16:I703,8,0) -> 4265000 | E19: 650000 | F19: =+D19-E19 -> 3615000
A20: 1813400550 | B20: חינוך | C20: =VLOOKUP(A20,'הוצאות '!B18:F688,5,0) -> הוצאות פרסום | D20: =VLOOKUP(A20,'הוצאות '!B17:I704,8,0) -> 300000 | E20: 300000 | F20: =+D20-E20 -> 0
A21: 1814000810 | B21: חינוך | C21: =VLOOKUP(A21,'הוצאות '!B19:F689,5,0) -> הקצבות לחט"ב | D21: =VLOOKUP(A21,'הוצאות '!B18:I705,8,0) -> 4125000 | E21: 850000 | F21: =+D21-E21 -> 3275000
A22: 1815200980 | B22: חינוך | C22: =VLOOKUP(A22,'הוצאות '!B20:F690,5,0) -> יוזמות חינוכיות | D22: =VLOOKUP(A22,'הוצאות '!B19:I706,8,0) -> 1500000 | E22: 300000 | F22: =+D22-E22 -> 1200000
A23: 1817300780 | B23: חינוך | C23: =VLOOKUP(A23,'הוצאות '!B21:F691,5,0) -> הוצאות אחרות | D23: =VLOOKUP(A23,'הוצאות '!B20:I707,8,0) -> 150000 | E23: 50000 | F23: =+D23-E23 -> 100000
A24: 1825200781 | B24: אתו"ס | C24: =VLOOKUP(A24,'הוצאות '!B22:F692,5,0) -> הוצאות שונות רנה שני | D24: =VLOOKUP(A24,'הוצאות '!B21:I708,8,0) -> 900000 | E24: 130000 | F24: =+D24-E24 -> 770000
A25: סה"כ | E25: =SUM(E4:E24) -> 8000000
A28: סעיפי הכנסה מותנית
A30: סעיף תקציב | B30: אגף | C30: תאור | D30: תקציב 2023 כולל | E30: תקציב מותנה | F30: למימוש ללא התניה | G30: הערות
A31: 1111100100 | B31: כספים | C31: הכנסות מארנונה כללית | D31: ='הכנסות '!I3 -> 427100000 | E31: =E25 -> 8000000 | F31: =+D31-E31 -> 419100000
A32: סה"כ | E32: =SUM(E31) -> 8000000

Sheet רזרבה38 
A1: הוצאות רזרבה 2023
A3: סעיף תקציב | B3: אגף | C3: תאור | D3: תקציב 2023 כולל | E3: תקציב רזרבה | F3: למימוש ללא רזרבה
A4: 1712200750 | B4: שפ"ע- טיאוט רחובות | C4: =VLOOKUP(A4,'הוצאות '!B3:I690,5,0) -> עבודות קבלניות | D4: =F4+E4 -> 23000000 | E4: 1000000 | F4: =VLOOKUP(A4,'הוצאות '!B3:I690,8,1) -> 22000000
A5: 1746000750 | B5: שפ"ע- גינון | C5: =VLOOKUP(A5,'הוצאות '!B4:I691,5,0) -> עבודות קבלניות | D5: =F5+E5 -> 6900000 | E5: 2000000 | F5: =VLOOKUP(A5,'הוצאות '!B4:I691,8,1) -> 4900000
A6: 1766000780 | B6: ועד עובדים | C6: =VLOOKUP(A6,'הוצאות '!B5:I692,5,0) -> פעילויות לעובדים | D6: =F6+E6 -> 3000000 | E6: 1000000 | F6: =VLOOKUP(A6,'הוצאות '!B5:I692,8,1) -> 2000000
A7: 1780000780 | B7: אכיפה | C7: =VLOOKUP(A7,'הוצאות '!B5:I692,5,0) -> הוצאות אחרות | D7: =F7+E7 -> 400000 | E7: 100000 | F7: =VLOOKUP(A7,'הוצאות '!B5:I692,8,1) -> 300000
A8: 1812200780 | B8: חינוך | C8: =VLOOKUP(A8,'הוצאות '!B6:I693,5,0) -> הוצאות אחרות | D8: =F8+E8 -> 2030000 | E8: 102000 | F8: =VLOOKUP(A8,'הוצאות '!B6:I693,8,1) -> 1928000
A9: 1813400810 | B9: חינוך | C9: =VLOOKUP(A9,'הוצאות '!B7:I694,5,0) -> השתתפות בטכנודע | D9: =F9+E9 -> 4500000 | E9: 1000000 | F9: =VLOOKUP(A9,'הוצאות '!B7:I694,8,1) -> 3500000
A10: 1822000810 | B10: פנאי העיר | C10: =VLOOKUP(A10,'הוצאות '!B8:I695,5,0) -> השתתפות בעמותת פנאי העיר | D10: =F10+E10 -> 3550000 | E10: 1000000 | F10: =VLOOKUP(A10,'הוצאות '!B8:I695,8,1) -> 2550000
A11: 1826000810 | B11: אתו"ס | C11: =VLOOKUP(A11,'הוצאות '!B9:I696,5,0) -> אירועים עירוניים | D11: =F11+E11 -> 6200000 | E11: 1500000 | F11: =VLOOKUP(A11,'הוצאות '!B9:I696,8,1) -> 4700000
A12: 1829300780 | B12: אתו"ס | C12: =VLOOKUP(A12,'הוצאות '!B10:I697,5,0) -> הוצאות אחרות | D12: =F12+E12 -> 300000 | E12: 138000 | F12: =VLOOKUP(A12,'הוצאות '!B10:I697,8,1) -> 162000
A13: 1829300812 | B13: אתו"ס | C13: =VLOOKUP(A13,'הוצאות '!B11:I698,5,0) -> הפעלת אנרבוקס | D13: =F13+E13 -> 1800000 | E13: 500000 | F13: =VLOOKUP(A13,'הוצאות '!B11:I698,8,1) -> 1300000
A14: 1841000781 | B14: רווחה | C14: =VLOOKUP(A14,'הוצאות '!B12:I699,5,0) -> יוזמות אגפיות | D14: =F14+E14 -> 250000 | E14: 30000 | F14: =VLOOKUP(A14,'הוצאות '!B12:I699,8,1) -> 220000
A15: סה"כ | E15: =SUM(E4:E14) -> 8370000
A17: סעיף רזרבה
A19: סעיף תקציב | B19: תאור | D19: תקציב רזרבה
A20: 1960000782 | B20: הוצאות רזרבה | D20: ='הוצאות '!I682 -> 8370000
A21: סה"כ | D21: =SUM(D20) -> 8370000
D29: =D21-E15 -> 0

Sheet 39שכירויות 2023
A1: נספח ג' - שכירויות 2023
A3: מס"ד | B3: סעיף תקציבי | C3: אגף/מחלקה | D3: בעל הנכס | E3: מהות שימוש | F3: כתובת | G3: שטח ברוטו | H3: תאריך סיום חוזה | I3: תשלום חודשי בשקלים לא כולל מע"מ והצמדה | J3: תשלום חודשי בשקלים כולל מע"מ (ללא הצמדה) | K3: מדד בסיס לפי החוזה (לצורך חישוב הצמדה) | L3: עמודה2 | M3: עמודה1 | N3: סה"כ לשנה לא כולל מע"מ ולא כולל דמי ניהול/אחזקה/הצמדה | O3: סה"כ לשנה כולל מע"מ וכולל דמי ניהול/אחזקה/הצמדה | P3: כולל הצמדה ללא דמ"נ | Q3: דמי ניהול/ אחזקה כולל מע"מ /ועד בית לשנה בנוסף לדמי השכירות | R3: עלות כוללת שנתית | S3: עמודה3 | T3: עמודה4
A4: 1 | B4: 1612000410 | C4: מנהלה | D4: זברקו דירות חדרה (93) בע"מ | E4: מבקרת העירייה | F4: רחוב הלל יפה 28 (קומה 1) | G4: 87 | H4: 7.8.2026 | I4: 4165 | J4: 4873 | K4: 08.08.2021 | L4: 101.4 | M4: 107 | N4: 49980 | O4: 58477 | P4: 61706.499 | Q4: 0 | R4: 61706.499
A5: 2 | B5: 1817300410 / 1621300410 / 1615000410 | C5: מנהלה | D5: שי חי יזמות והשקעות בע"מ | E5: אגף משאבי אנוש + שפ"ח + שכר | F5: רחוב הלל יפה 20 (קומה 6) | G5: 1172 | H5: 02.10.2027 | I5: 67732 | J5: 79246 | K5: 04.04.2022 | L5: 103.5 | M5: 107 | N5: 812784 | O5: 950958 | P5: 983116 | Q5: 0 | R5: 983116
A6: 3 | B6: 1617000410 | C6: מנהלה | D6: בוני המרכז חברה לבנין והשקעות בע"מ- בנק דיסקונט לישראל בע"מ המחאת זכויות מחברת מ.מ. | E6: הלשכה המשפטית | F6: רחוב הלל יפה 11 (קומה 2), בניין קורן MST1 | G6: 372 | H6: 45256 | I6: 24870 | J6: 29098 | K6: 29.10.18 | L6: 100.19 | M6: 107 | N6: 308420 | O6: 360852 | P6: 385379.42 | Q6: 35128 | R6: 420507.42
A7: 4 | B7: 1710000410 | C7: שפ"ע | D7: ריט 1 בע"מ | E7: אגף שפ"ע | F7: יהודי פקיעין 1 (מתחם שערי חדרה) | G7: 495 | H7: 46112 | I7: 24555 | J7: 28730 | K7: חודש דצמבר 2015 | L7: 98.91 | M7: 107 | N7: 294660 | O7: 344753 | P7: 372950.87 | Q7: 65869 | R7: 438819.87
A8: 5 | B8: 1731000410 | C8: הנדסה/אכיפה | D8: קוסטרן בע"מ | E8: רישוי עסקים, מבני ציבור ומבנים מסוכנים | F8: רחוב הרברט סמואל 51 (קומת קרקע) | G8: 130 | H8: 45061 | I8: 5775 | J8: 6757 | K8: אין התייחסות למדד | N8: 191000 | O8: 223587 | P8: 223587 | Q8: 1800 | R8: 225387
A9: 6 | B9: 1734000410 | C9: הנדסה | D9: מ.מ. בוני המרכז חברה לבנין והשקעות בע"מ | E9: נכסים + פיתוח תשתיות | F9: הלל יפה 11 (קומה 2) | G9: 388 | H9: 46631 | I9: 28300 | J9: 33111 | K9: 30.08.22 | L9: 105.9 | M9: 107 | N9: 339600 | O9: 397332 | P9: 401459.15 | Q9: 0 | R9: 401459.15
A10: 7 | B10: 1749000410 | C10: גזברות | D10: קורן אמ.אס.תי. בוני המרכז - חברה לבניין והשקעות בע"מ | E10: משרדי מחלקת רכש | F10: רחוב הלל יפה 11 (קומה 1) בניין קורן MST2 | G10: 208.5 | H10: 45648 | I10: 14595 | J10: 17077 | K10: 22.09.2019 | L10: 100.7 | M10: 107 | N10: 175140 | O10: 204914 | P10: 217733.84 | Q10: 35128.08 | R10: 252861.92
A11: 8 | B11: 1811000410 | C11: חינוך ומחלקת תרבות | D11: שי חי יזמות והשקעות בע"מ | E11: משרדי אגף החינוך ומחלקת תרבות | F11: רחוב הלל יפה 20 (קומה 7) | G11: 1172 | H11: 03.05.2028 | I11: 63874 | J11: 74733 | K11: חודש ספטמבר 2020 | L11: 99.8 | M11: 107 | N11: 766488 | O11: 896791 | P11: 961489.35 | Q11: 48551 | R11: 1010040.3
A12: 9 | B12: 1817200410 | C12: חינוך | D12: מד. משקוף ודלת ייצור דלתות בע"מ | E12: מרכז פסג"ה | F12: רחוב קומבה 10 | G12: 745 | H12: 44986 | I12: 22672 | J12: 26527 | K12: 01.09.2019 | L12: 100.7 | M12: 107 | N12: 678594 | O12: 79395 | P12: 84362.115 | Q12: 0 | R12: 84362.115
A13: 10 | B13: 1841000410 | C13: רווחה | D13: שי כרכור יזמות בע"מ | E13: משרדי אגף הרווחה החדשים | F13: רחוב הרברט סמואל פינת הרצל (קומה 1) | G13: 1230 | H13: 45765 | I13: 67035 | J13: 78431 | K13: 18.10.2018 | L13: 100.19 | M13: 107 | N13: 804420 | O13: 941172 | P13: 1005144.3 | Q13: 0 | R13: 1005144.3
A14: 11 | B14: 1841000410 | C14: רווחה | D14: חברת עמר ר.א. נכסים בע"מ | E14: היחידה לשלום המשפחה+ נוער וצעירים | F14: רח' הלל יפה 11 קומה 8 | G14: 680 | H14: 46648 | I14: 45000 | J14: 52650 | K14: עתיד להיחתם השבוע | M14: 107 | N14: 540000 | O14: 631800 | P14: 631800 | Q14: 0 | R14: 631800
A15: 12 | B15: 1841000410 | C15: רווחה | D15: אוריאל חן השקעות בע"מ | E15: שי"ל + עוצמה + התנדבות בקהילה | F15: הרברט סמואל 52 | G15: 380 | H15: 46663 | I15: 27740 | J15: 32456 | K15: 03.10.2022 | L15: 107 | M15: 107 | N15: 332880 | O15: 389470 | P15: 389470 | Q15: 0 | R15: 389470
A16: 13 | B16: 1841000410 | C16: רווחה | D16: עמידר החברה הלאומית לשיכון בישראל בע"מ | E16: מועדונית מקס"ם - שכונת פאר | F16: רחוב מיכאל חזני 12 | G16: 200 | H16: בהליכי כריתת חוזה | I16: 2500 | J16: 2925 | M16: 107 | N16: 30000 | O16: 35100 | P16: 35100 | Q16: 0 | R16: 35100
A17: 14 | B17: 1841000410 | C17: רווחה | D17: יוניברסל מוטורס ישראל בע"מ | E17: המדור לטיפול בהתמכרויות + מנהלת איזור התעשייה | F17: רחוב פרידלנדר פינת מנא"י | G17: 336 | H17: 45137 | I17: 10210 | J17: 11946 | K17: חודש אוגוסט 2009 | L17: 92.05 | M17: 107 | N17: 232970 | O17: 272575 | P17: 316844.38 | Q17: 0 | R17: 316844.38
A18: 15 | B18: 1841000410 | C18: רווחה | D18: הליך קול קורא לאיתור נכס | E18: מט"ל - מרכז לנוער בסיכון | F18: רחוב הנשיא ויצמן 16 (קומה 1) | G18: 200 | I18: 17000 | J18: 19890 | K18: טרם אותר נכס | M18: 107 | N18: 204000 | O18: 238680 | P18: 238680 | Q18: 0 | R18: 238680
A19: 16 | B19: 1841000410 | C19: רווחה | D19: הליך קול קורא לאיתור נכס | E19: מרחב הל"ב | F19: רחוב הנשיא ויצמן 43 | G19: 200 | I19: 17000 | J19: 19890 | K19: טרם אותר נכס | M19: 107 | N19: 204000 | O19: 238680 | P19: 238680 | Q19: 0 | R19: 238680
A20: 17 | B20: 1841000410 | C20: רווחה | D20: ויצו הסתדרות עולמית לנשים ציוניות (ע"ר) | E20: מועדונית לילדים בסיכון | F20: רחוב הגיבורים 57 | G20: 172 | H20: 28.02.2022 | I20: 1850 | J20: 2165 | K20: אין התייחסות למדד | M20: 107 | N20: 7700 | O20: 9009 | P20: 9009 | Q20: 0 | R20: 9009
A21: 18 | B21: 1841000410 | C21: רווחה | D21: נמצא בהליך קול קורא | E21: היחידה לטיפול משפחתי | F21: נמצא בהליך קול קורא | G21: 200 | H21: טרם נחתם | I21: 17000 | J21: 19890 | K21: טרם אותר נכס | M21: 107 | N21: 204000 | O21: 238680 | P21: 238680 | Q21: 0 | R21: 238680
A22: 19 | B22: 1841000410 | C22: רווחה | D22: מע"ש - שיקום לאנשים עם מוגבלות | E22: מבנה זמני מע"ש (עד גמר שיפוץ כשנה וחצי) | F22: רח' ביאליק - בום | G22: 764 | H22: 45231 | I22: 58333 | J22: 68250 | K22: 06.07.2022 | L22: 107.1 | M22: 107 | N22: 583330 | O22: 682496 | P22: 681858.75 | Q22: 0 | R22: 681858.75
A23: 20 | B23: 1731000410 | C23: הנדסה | D23: תרבות הדיור | E23: נמצא בהליך קול קורא | F23: תרבות הדיור | G23: הליך קול קורא | H23: 46 | I23: טרם נחתם | J23: 4830 | K23: 5651 | N23: 5651 | P23: 57960 | R23: 67813.2
D24: סה"כ | O24: 7194721 | Q24: 117925 | R24: 7663526.7
B26: תרבות הדיור | C26: נמצא בהליך קול קורא | D26: תרבות הדיור | E26: הליך קול קורא | F26: 46 | G26: טרם נחתם | H26: 4830 | I26: 5651 | K26: 57960 | L26: 67813

Sheet רכב 2023
A1: רשימת רכבים עיריית חדרה 2023
A3: מס' רישוי | B3: סעיף תקציב | C3: שם נהג | D3: תאור קבוצה | E3: מיון | F3: שנת ייצור | G3: יצרן | H3: דגם | I3: סוג | J3: ת.רישוי | K3: אפיון למיסוי | L3: פנימי | M3: ליסינג / בעלות העירייה | N3: סיום שנת ליסינג
A4: מטה ומינהלה
A5: 89128402 | B5: 1611000530 | C5: צביקה גנדלמן | D5: בכירים | E5: ראש העיר | F5: 2022 | G5: סקודה | H5: קודיאק | I5: פרטי | J5: 43469 | K5: פרטי | L5: צמוד | M5: ליסינג | N5: 2025
A6: 84997601 | B6: 1611100530 | E6: איציק נחמני | F6: 2020 | G6: יונדאי | H6: הצ'בק | I6: פרטי | L6: צמוד | M6: ליסינג
A7: לשכת מנכ"ל
A8: 59160702 | B8: 1613000530 | C8: זיגדון יעקב | D8: לשכת מנכ"ל | E8: לשכת מנכ"ל | F8: 2019 | G8: מאזדה | H8: 3 | I8: פרטי | J8: 43301 | K8: פרטי | L8: צמוד | M8: ליסינג | N8: 2022
A9: מחלקת מחשוב
A10: 53467002 | B10: 1618000530 | C10: חזוט משה | D10: לשכת מנכ"ל | E10: מערכות מידע | F10: 2021 | G10: רנו חשמלי | H10: זואי | I10: פרטי | J10: 43471 | K10: פרטי | L10: עבודה | M10: ליסינג | N10: 2024
A11: וועדה חקלאית
A12: 51411602 | B12: 1791000530 | C12: חומרי חיים | D12: לשכת מנכ"ל | E12: ו.חקלאית | F12: 2021 | G12: איסוזו | H12: דימאקס | I12: מסחרי | J12: 43704 | K12: פרטי | L12: עבודה | M12: ליסינג | N12: 2024
A13: אגף ההון האנושי
A14: 18467802 | B14: 1615000530 | C14: שרון שרוני | D14: לשכה משפטית | E14: מיכל רוזין | F14: 2020 | G14: קאיה | H14: נירו | I14: פרטי | J14: 43497 | K14: פרטי | L14: צמוד | M14: ליסינג | N14: 2023
A15: לשכה משפטית
A16: 15766403 | B16: 1617000530 | C16: שרון שרוני | D16: לשכה משפטית | E16: שרון שרוני | F16: 2022 | G16: יונדאי | H16: אלנטרה | I16: פרטי | J16: 43497 | K16: פרטי | L16: צמוד | M16: ליסינג | N16: 2025
A17: אגף הכספים
A18: מחלקת תקציבים
A19: 82872602 | B19: 1621000530 | C19: חייט נעמי | D19: בכירים | E19: נעמי שוחט | F19: 2022 | G19: טיוטה | H19: CHR | I19: פרטי | K19: פרטי | L19: צמוד | M19: ליסינג | N19: 2025
A20: מחלקת הגביה
A21: 69312301 | B21: 1623000530 | C21: שם טוב שמבי | D21: כספים | E21: שם טוב שמבי | F21: 2019 | G21: קאיה | H21: נירו | I21: פרטי | J21: 43679 | K21: פרטי | L21: צמוד | M21: ליסינג | N21: 2022
A22: 53468202 | B22: 1623000530 | C22: אלכסנדר לנדא | D22: כספים | E22: גבייה | F22: 2021 | G22: רנו חשמלי | H22: זואי | I22: פרטי | J22: 43482 | K22: פרטי | L22: עבודה | M22: ליסינג | N22: 2024
A23: 2663628 | B23: 1623000530 | C23: שמואל מיכאליאן | D23: כספים | E23: גבייה | F23: 2017 | G23: קוואנג יאנג | H23: G DINK 125i | I23: קטנועים | J23: 43685 | K23: פרטי | L23: קטנועים | M23: עירייה
A24: 48134302 | B24: 1623000530 | E24: גבייה | F24: 2022 | G24: קטנוע | H24: XTOWN CT 125 | I24: קטנועים | L24: קטנועים | M24: עירייה
A25: 9386530 | B25: 1623000530 | C25: אלי שימונוב | D25: כספים | E25: גבייה | F25: 2015 | G25: קוואנג יאנג | H25: ניו דינק 125 | I25: קטנועים | J25: 43535 | K25: פרטי | L25: קטנועים | M25: עירייה
A26: אגף הנדסה
A27: 37201702 | B27: 1731000530 | C27: נדב הדר | D27: הנדסה | E27: נדב הדר | F27: 2020 | G27: סיאט | H27: אטקה | I27: ג'יפון | J27: 43373 | K27: פרטי | L27: צמוד | M27: ליסינג | N27: 2023
A28: 18468002 | B28: 1731000530 | C28: סעדה רפי | D28: רווחה | E28: רונה אדריכלית | F28: 2020 | G28: קאיה | H28: נירו | I28: פרטי | J28: 43609 | K28: פרטי | L28: צמוד | M28: ליסינג | N28: 2023
A29: 15756202 | B29: 1731000530 | E29: פיקוח בנייה | F29: 2020 | G29: סובארו | H29: XV | I29: 4X4 | L29: עבודה | M29: ליסינג | N29: 2023
A30: מחלקת פיתוח כבישים
A31: 21651002 | B31: 1734000530 | C31: כפיר אורוגובי | D31: הנדסה | E31: הילאל פטימה | F31: 2020 | G31: טויוטה | H31: קורולה | I31: פרטי | J31: 43507 | K31: פרטי | L31: צמוד | M31: ליסינג | N31: 2023
A32: מס' רישוי | B32: סעיף תקציב | C32: שם נהג | D32: תאור קבוצה | E32: מיון | F32: שנת ייצור | G32: יצרן | H32: דגם | I32: סוג | J32: ת.רישוי | K32: אפיון למיסוי | L32: פנימי | M32: ליסינג / בעלות העירייה | N32: סיום שנת ליסינג
A33: אגף חופים
A34: 48781 | B34: 1747000530 | C34: חופים | D34: חופים | E34: חופים | F34: 2013 | G34: rotex | H34: אופנועי ים | I34: אופנועי ים | J34: 43299 | K34: פרטי | L34: עבודה | M34: עירייה
A35: 49114 | B35: 1747000530 | C35: חופים | D35: חופים | E35: חופים | F35: 2016 | G35: rotex | H35: אופנועי ים | I35: אופנועי ים | J35: 43182 | K35: פרטי | L35: עבודה | M35: עירייה
A36: 48385 | B36: 1747000530 | C36: חופים | D36: חופים | E36: חופים | F36: 2018 | G36: rotex | H36: אופנועי ים | I36: אופנועי ים | J36: 43299 | K36: פרטי | L36: עבודה | M36: עירייה
A37: 1950728 | B37: 1747000530 | C37: חופים | D37: חופים | E37: חופים | F37: 2022 | G37: מיול | H37: מיול | I37: מיול | L37: עבודה | M37: עירייה
A38: 51411702 | B38: 1747000530 | C38: חופים | D38: חופים | E38: חופים | F38: 2021 | G38: איסוזו | H38: דימאקס | I38: פרטי | K38: פרטי | L38: עבודה | M38: ליסינג | N38: 2024
A39: 51817902 | B39: 1747000530 | E39: פארק נחל חדרה | F39: 2022 | G39: איסוזו | H39: דימאקס | I39: מסחרי | L39: עבודה | M39: ליסינג | N39: 2025
A40: 20899502 | B40: 1747000530 | E40: חופים | F40: 2020 | G40: מיול | L40: עבודה | M40: עירייה
A41: 12705302 | B41: 1747000530 | E41: חופים | F41: 2017 | G41: גרור למיול | L41: עבודה | M41: עירייה
A42: 1914728 | B42: 1747000530 | E42: חופים | F42: 2021 | G42: גרור לאופנוע | L42: עבודה | M42: עירייה
A43: 8437252 | B43: 1747000530 | E43: חופים | F43: 2017 | G43: גרור לסירה | L43: עבודה | M43: עירייה
A44: אגף את"ל
A45: 80690401 | B45: 1752000530 | C45: ואנה אהוד | D45: אירועים | E45: אהוד ואנה | F45: 2019 | G45: טויוטה | H45: קורולה | I45: פרטי | J45: 43479 | K45: פרטי | L45: צמוד | M45: ליסינג | N45: 2022
A46: 67916802 | B46: 1752000530 | C46: אירועים | D46: אירועים | E46: אירועים | F46: 2021 | G46: ברלינגו | H46: רנו | I46: מסחרי | J46: 43466 | K46: פרטי | L46: עבודה | M46: ליסינג | N46: 2024
A47: 67916702 | B47: 1752000530 | C47: אירועים | D47: אירועים | E47: אירועים | F47: 2021 | G47: ברלינגו | H47: רנו | I47: מסחרי | J47: 43466 | K47: פרטי | L47: עבודה | M47: ליסינג | N47: 2024
A48: 16992903 | B48: 1752000530 | C48: סמיונוב איסוג | D48: אירועים | E48: אירועים | F48: 2022 | G48: K2500 | H48: קיה | I48: מסחרי | J48: 43637 | K48: פרטי | L48: עבודה | M48: ליסינג | N48: 2025
A49: 67916402 | B49: 1752000530 | C49: אברהם חכם | D49: שפ"ע | E49: אירועים | F49: 2021 | G49: ברלינגו | H49: רנו | I49: מסחרי | J49: 43733 | K49: פרטי | L49: עבודה | M49: ליסינג | N49: 2024
A50: 53467702 | B50: 1752000530 | E50: אירועים | F50: 2021 | G50: רנו חשמלי | H50: זואי | I50: פרטי | L50: עבודה | M50: ליסינג | N50: 2024
A51: 42811401 | B51: 1752000530 | E51: אירועים | F51: 2019 | G51: קאיה | H51: פיקנטו | I51: פרטי | L51: עבודה | M51: ליסינג | N51: 2022
A52: 9286360 | B52: 1752000530 | C52: אירועים | D52: אירועים | E52: אירועים | F52: 2006 | G52: מרכז הגרורים | H52: עגלה נגררת | I52: עגלה נגררת | J52: 43447 | K52: פרטי | L52: עבודה
A53: חינוך
A54: 19098102 | B54: 1811000530 | C54: סגלית איצקוביץ | D54: חינוך | E54: שלומי דהן | F54: 2020 | G54: קאיה | H54: נירו | I54: פרטי | J54: 43314 | K54: פרטי | L54: צמוד | M54: ליסינג | N54: 2023
A55: 76704602 | B55: 1811000530 | C55: חלפון שמעון | D55: חינוך | E55: שמעון חלפון | F55: 2022 | G55: מיצובושי | H55: ASK | I55: פרטי | K55: פרטי | L55: צמוד | M55: ליסינג | N55: 2025
A56: 46387202 | B56: 1811000530 | E56: גילה גואטה | F56: 2021 | G56: יונדאי | H56: קונה | I56: פרטי | L56: צמוד | M56: ליסינג | N56: 2024
A57: 9999901 | B57: 1811000530 | C57: אליעזר ענבי | D57: חינוך | E57: חינוך | F57: 2017 | G57: cub cadet | H57: lx-42 | I57: מכסחת דשא | K57: פרטי | L57: עבודה | M57: עירייה
A58: 76761002 | B58: 1811000530 | E58: בר חן חינוך על יסודי | F58: 2022 | G58: מיצובושי | H58: ASX | I58: פרטי | L58: צמוד | M58: ליסינג | N58: 2025
A59: 20899602 | B59: 1811000530 | E59: חווה חקלאית | F59: 2020 | G59: מיול | I59: מיול | L59: עבודה | M59: עירייה
A60: מינהל חברה וקהילה
A61: 79306301 | B61: 1800000530 | E61: עיר ללא אלימות | F61: 2019 | G61: עגלה נגררת | H61: עגלה נגררת | I61: עגלה נגררת | L61: עבודה | M61: עירייה
A62: 18758502 | B62: 1800000530 | E62: קובי בוזגלו | F62: 2020 | G62: קאיה | H62: פיקנטו | I62: פרטי | L62: צמוד | M62: ליסינג | N62: 2023
A63: אגף אתו"ס
A64: 83447002 | B64: 1825000530 | C64: סעדה רפי | D64: רווחה | E64: אלחנדרו ביאר | F64: 2022 | G64: סקודה | H64: קארוק | I64: פרטי | J64: 43609 | K64: פרטי | L64: צמוד | M64: ליסינג
A66: מס' רישוי | B66: סעיף תקציב | C66: שם נהג | D66: תאור קבוצה | E66: מיון | F66: שנת ייצור | G66: יצרן | H66: דגם | I66: סוג | J66: ת.רישוי | K66: אפיון למיסוי | L66: פנימי | M66: ליסינג / בעלות העירייה | N66: סיום שנת ליסינג
A68: מחלקות תורניות
A69: 53468002 | B69: 1827000530 | C69: לוי ניסים | D69: לשכת מנכ"ל | E69: תרבות וקהילה ניסים לוי | F69: 2021 | G69: רנו חשמלי | H69: זואי | I69: פרטי | J69: 43488 | K69: פרטי | L69: עבודה | M69: ליסימג | N69: 2024
A70: 85938302 | B70: 1827000530 | E70: תרבות תורנית | F70: 2022 | G70: קיה | H70: פיקנטו | I70: פרטי | L70: עבודה | M70: ליסינג | N70: 2025
A71: אגף רווחה
A72: 62857002 | B72: 1841000530 | E72: רווחה - מאבטח | F72: 2021 | G72: יונדאי | H72: אי 30 | I72: פרטי | L72: עבודה | M72: ליסינג | N72: 2024
A73: 40792502 | B73: 1841000530 | E73: רווחה - זיווה הימברג | F73: 2021 | G73: קאיה | H73: ספורטג' | I73: פרטי | L73: צמוד | M73: ליסינג | N73: 2024
A74: מע"ש
A75: 67916302 | B75: 1845400530 | C75: סעדה רפי | D75: רווחה | E75: מע"ש | F75: 2021 | G75: ברלינגו | H75: רנו | I75: מסחרי | J75: 43609 | K75: פרטי | L75: עבודה | M75: ליסינג | N75: 2024
A76: אגף שפ"ע
A77: 83449602 | B77: 1710000530 | C77: בוריס קוסינובסקי | D77: בכירים | E77: בוריס קוסינובסקי | F77: 2022 | G77: סקודה | H77: קארוק | I77: פרטי | J77: 43514 | K77: פרטי | L77: צמוד | M77: ליסינג | N77: 2025
A78: מחלקת שילוט
A79: 14410902 | B79: 1710000530 | C79: יהודה כליף | D79: שפ"ע | E79: שילוט | F79: 2021 | G79: קטנוע | H79: G DINK 125i | I79: קטנועים | J79: 43438 | K79: פרטי | L79: קטנועים | M79: עירייה
A80: מינהלת תעשיות
A81: 53467902 | B81: 1772000530 | C81: שמעון מרג'י | D81: שפ"ע | E81: מנהלת תעשיות | F81: 2021 | G81: רנו חשמלי | H81: זואי | I81: פרטי | J81: 43373 | K81: פרטי | L81: עבודה | M81: ליסינג | N81: 2024
A82: 48133802 | B82: 1772000530 | C82: שמעון מרג'י | D82: שפ"ע | E82: מנהלת תעשיות | F82: 2022 | G82: קטנוע | H82: XTOWN CT 125 | I82: קטנועים
A83: 55649202 | B83: 1772000530 | C83: שמעון מרג'י | D83: שפ"ע | E83: מנהלת תעשיות | F83: 2021 | G83: טנדר | H83: טרייטון | I83: מסחרי | J83: 43284 | K83: פרטי | L83: עבודה | M83: ליסינג | N83: 2024
A84: מינהלת רובע ב"א
A85: 2601828 | B85: 1713000530 | E85: רובע ב"א | F85: 2017 | G85: קוואנג יאנג | H85: G DINK 125i | I85: קטנועים | J85: 43616 | K85: פרטי | L85: קטנועים | M85: עירייה
A86: 53468102 | B86: 1713000530 | C86: בוריס בר | D86: שפ"ע | E86: רובע ב"א | F86: 2021 | G86: רנו חשמלי | H86: זואי | I86: פרטי | J86: 43374 | K86: פרטי | L86: עבודה | M86: ליסינג | N86: 2024
A87: 55649102 | B87: 1713000530 | C87: בוריס בר | D87: שפ"ע | E87: רובע ב"א | F87: 2021 | G87: טנדר | H87: טרייטון | I87: מסחרי | J87: 43284 | K87: פרטי | L87: עבודה | M87: ליסינג | N87: 2024
A88: 31769301 | B88: 1713000530 | C88: לוי סהר/סתיו | D88: אכיפה | E88: רובע ב"א | F88: 2017 | G88: קוואנג יאנג | H88: G DINK 125i | I88: קטנועים | J88: 43450 | K88: פרטי | L88: קטנועים | M88: עירייה
A89: 5200000 | B89: 1713000530 | C89: בוריס בר | D89: שפ"ע | E89: רובע ב"א | F89: 1991 | G89: אחים אלקלעי | H89: AB1D | I89: עגלה נגררת | J89: 43180 | K89: פרטי | L89: עבודה | M89: עירייה
A90: 9127679 | B90: 1713000530 | C90: יוסיפיאן נינה | D90: שפ"ע | E90: רובע ב"א | F90: 2016 | G90: נגררי השרון | H90: nh751 | I90: עגלה נגררת | J90: 43327 | K90: פרטי | L90: עבודה | M90: עירייה
A91: 53467402 | B91: 1713000530 | C91: פיקוח עירוני | D91: אכיפה | E91: רכב פיקוח רובעים | F91: 2021 | G91: רנו חשמלי | H91: זואי | I91: פרטי | J91: 43738 | K91: פרטי | L91: עבודה | M91: ליסינג | N91: 2024
A92: מינהלת רובע ג"א
A93: 53467802 | B93: 1713000530 | C93: יוסיפיאן נינה | D93: שפ"ע | E93: רובע ג"א | F93: 2021 | G93: רנו חשמלי | H93: זואי | I93: פרטי | L93: עבודה | M93: ליסינג | N93: 2024
A94: 55649302 | B94: 1713000530 | C94: יוסיפיאן נינה | D94: שפ"ע | E94: רובע ג"א | F94: 2021 | G94: טנדר | H94: טרייטון | I94: מסחרי | J94: 43387 | K94: פרטי | L94: עבודה | M94: ליסינג | N94: 2024
A95: 48133602 | B95: 1713000530 | C95: יוסיפיאן נינה | D95: שפ"ע | E95: רובע ג"א | F95: 2022 | G95: קטנוע | H95: XTOWN CT 125 | I95: קטנועים
A96: 9561760 | B96: 1713000530 | C96: בוריס בר | D96: שפ"ע | E96: רובע ג"א | F96: 2007 | G96: מרכז הגרורים | H96: G450 | I96: עגלה נגררת | J96: 43186 | K96: פרטי | L96: עבודה | M96: עירייה
A98: מס' רישוי | B98: סעיף תקציב | C98: שם נהג | D98: תאור קבוצה | E98: מיון | F98: שנת ייצור | G98: יצרן | H98: דגם | I98: סוג | J98: ת.רישוי | K98: אפיון למיסוי | L98: פנימי | M98: ליסינג / בעלות העירייה | N98: סיום שנת ליסינג
A100: מינהלת רובע מרכז
A101: 53468302 | B101: 1713000530 | C101: מהצרי זכריה | D101: שפ"ע | E101: רובע מרכז | F101: 2021 | G101: רנו חשמלי | H101: זואי | I101: פרטי | J101: 43489 | K101: פרטי | L101: עבודה | M101: ליסינג | N101: 2024
A102: 67916502 | B102: 1713000530 | C102: מהצרי זכריה | D102: שפ"ע | E102: רובע מרכז | F102: 2021 | G102: ברלינגו | H102: רנו | I102: מסחרי | J102: 43223 | K102: פרטי | L102: עבודה | M102: ליסינג | N102: 2024
A103: 82806601 | B103: 1713000530 | C103: בוריס בר | D103: שפ"ע | E103: רובע מרכז | F103: 2019 | G103: בליץ | H103: חשמלי | I103: קטנועים | J103: 43371 | K103: פרטי | L103: קטנועים | M103: עירייה
A104: 9199776 | B104: 1713000530 | C104: מהצרי זכריה | D104: שפ"ע | E104: רובע מרכז | F104: 2015 | G104: מרכז הגרורים | H104: G7501 | I104: עגלה נגררת | J104: 43476 | K104: פרטי | L104: עבודה | M104: עירייה
A105: 48134002 | B105: 1713000530 | E105: רובע מרכז | F105: 2022 | G105: קטנוע | H105: XTOWN CT 125 | I105: קטנועים | L105: עבודה
...

Sheet אומדן 28.11.2022
C1: עיריית חדרה | M1: עודף (גרעון) | N1: -134.23476
C2: דוח תקציב מול ביצוע מפורט | E2: 0 | F2: 0 | H2: 40761.102 | I2: 0 | K2: -100.67607
C3: 30.9.2022
C4: מספר חודשים | D4: 9 | N4: 12
A5: סעיפים | C5: כרטיס הנה"ח | D5: תאור | E5: תקציב מותנה | F5: תקציב שנתי מאושר מהמערכת | G5: תקציב יחסי לרבעון | H5: ביצוע מצטבר | I5: סגירת הפרשה | J5: פ"נ | K5: ביצוע לאחר פ"נ | L5: סטיה מהתקציב היחסי | M5: הערות+תגובת החשבים | N5: אומדן שנתי 2022
D6: ארנונה כללית
A7: 100 | B7: 11 | C7: 1111100100 | D7: הכנסות מארנונה כללית | E7: 401139 | F7: 404224 | G7: 300854.25 | H7: 350639.47 | J7: -39389 | K7: 311250.47 | L7: 10396.219 | M7: שם טוב | N7: 415000.63 | O7: =N7-E7 -> 13861.625 | P7: =N7*1000 -> 4.1500063e+08 | Q7: =ROUND(P7,-3) -> 415001000
A8: 108 | B8: 11 | C8: 1111100108 | D8: הנחות ארנונה | E8: 61000 | F8: 61000 | G8: 45750 | H8: 0 | J8: 45750 | K8: 45750 | L8: 0 | M8: שם טוב | N8: 61000 | O8: =N8-E8 -> 0 | P8: =N8*1000 -> 61000000 | Q8: =ROUND(P8,-3) -> 61000000
B9: פת | C9: לפתוח כרטיס חדש | D9: הנחות שניתנו בשל משבר הקורונה | K9: 0 | L9: 0 | M9: שם טוב | N9: 0 | O9: =N9-E9 -> 0 | P9: =N9*1000 -> 0 | Q9: =ROUND(P9,-3) -> 0
A10: * | B10: ה" | C10: סה"כ | D10: ארנונה כללית | E10: 462139 | F10: 465224 | G10: 346604.25 | H10: 350639.47 | I10: 0 | J10: 6361 | K10: 357000.47 | L10: 10396.219 | M10: 0 | N10: 476000.63 | O10: =N10-E10 -> 13861.625 | P10: =N10*1000 -> 4.7600063e+08 | Q10: =ROUND(P10,-3) -> 476001000
D11: מפעל המים | O11: =N11-E11 -> 0 | P11: =N11*1000 -> 0 | Q11: =ROUND(P11,-3) -> 0
A12: 210 | B12: 41 | C12: 1413100210 | D12: הכנסות מאגרות מים | E12: 10 | F12: 10 | G12: 7.5 | H12: 8.18356 | K12: 8.18356 | L12: 0.68356 | N12: 10.911413 | O12: =N12-E12 -> 0.91141333 | P12: =N12*1000 -> 10911.413 | Q12: =ROUND(P12,-3) -> 11000
A13: 220 | B13: 41 | C13: 1413200220 | D13: מדי מים חבור צרכנ | E13: 0 | F13: 0 | G13: 0 | H13: -0.0003 | K13: -0.0003 | L13: -0.0003 | N13: -0.0004 | O13: =N13-E13 -> -0.0004 | P13: =N13*1000 -> -0.4 | Q13: =ROUND(P13,-3) -> 0
A14: * | B14: ה" | C14: סה"כ | D14: מפעל המים | E14: 10 | F14: 10 | G14: 7.5 | H14: 8.18326 | I14: 0 | J14: 0 | K14: 8.18326 | L14: 0.68326 | M14: 0 | N14: 10.911013 | O14: =N14-E14 -> 0.91101333 | P14: =N14*1000 -> 10911.013 | Q14: =ROUND(P14,-3) -> 11000
B15: כנ | C15: הכנסות עצמיות | E15: 462149 | F15: 465234 | G15: 346611.75 | H15: 350647.65 | I15: 0 | J15: 6361 | K15: 357008.65 | L15: 10396.902 | M15: 0 | N15: 476011.54 | O15: =N15-E15 -> 13862.536 | P15: =N15*1000 -> 4.7601154e+08 | Q15: =ROUND(P15,-3) -> 476012000
D16: עצמיות חינוך | O16: =N16-E16 -> 0 | P16: =N16*1000 -> 0 | Q16: =ROUND(P16,-3) -> 0
A17: 690 | B17: 31 | C17: 1312000690 | D17: השתתפות הורים | E17: 844 | F17: 844 | G17: 633 | H17: 637.3625 | J17: -4 | K17: 633.3625 | L17: 0.3625 | M17: לימור - כרגע זו הגבייה מהשתתפות ההורים - פסימית לגבי הכנסות | N17: 844.48333 | O17: =N17-E17 -> 0.48333333 | P17: =N17*1000 -> 844483.33 | Q17: =ROUND(P17,-3) -> 844000
A18: 220 | B18: 31 | C18: 1312200220 | D18: א.חינוך גנ"י | E18: 3434 | F18: 3434 | G18: 2575.5 | H18: 2479.2783 | J18: 96 | K18: 2575.2783 | L18: -0.22167 | M18: לימור- לפי החודשים בפועל- צפי גבייה 1.5. מיליון לפי חן אלמליח | N18: 3433.7044 | O18: =N18-E18 -> -0.29556 | P18: =N18*1000 -> 3433704.4 | Q18: =ROUND(P18,-3) -> 3434000
A19: 410 | B19: 31 | C19: 1312300410 | D19: שכ"ל גנ"י טרום חובה | E19: 0 | F19: 0 | G19: 0 | H19: 117.04589 | J19: -117 | K19: 0.04589 | L19: 0.04589 | M19: לימור - סעיף זה מתוקצב על 0 ולכן פקיומן לקיזוז עם א. חינוך גנ"י | N19: 0.061186667 | O19: =N19-E19 -> 0.061186667 | P19: =N19*1000 -> 61.186667 | Q19: =ROUND(P19,-3) -> 0
A20: 430 | C20: 1312300430 | D20: תקורה צהרונים | E20: 774 | F20: 774 | G20: 580.5 | H20: 282.453 | J20: 193 | K20: 475.453 | L20: -105.047 | M20: לימור- זה מה שבפועל בינתיים עם קיזוז צהרונים - הערכה עד סוף שנה | N20: 633.93733 | O20: =N20-E20 -> -140.06267 | P20: =N20*1000 -> 633937.33 | Q20: =ROUND(P20,-3) -> 634000
A21: 420 | B21: 31 | C21: 1312500420 | D21: הכנסות מצהרונים פנאי העיר | E21: 0 | F21: 0 | G21: 0 | H21: 0 | K21: 0 | L21: 0 | M21: לימור | N21: 0 | O21: =N21-E21 -> 0 | P21: =N21*1000 -> 0 | Q21: =ROUND(P21,-3) -> 0
A22: 410 | C22: 1325200410 | D22: הכנסות רנה שני | E22: 632 | F22: 632 | G22: 474 | H22: 383.965 | J22: 90 | K22: 473.965 | L22: -0.035 | M22: כרמית | N22: 631.95333 | O22: =N22-E22 -> -0.046666667 | P22: =N22*1000 -> 631953.33 | Q22: =ROUND(P22,-3) -> 632000
A23: 220 | B23: 31 | C23: 1313200220 | D23: אגרת חינוך מבתי ספר | E23: 880 | F23: 880 | G23: 660 | H23: 382.17827 | J23: 120 | K23: 502.17827 | L23: -157.82173 | M23: לימור- בהתאמה לש.ק | N23: 669.57103 | O23: =N23-E23 -> -210.42897 | P23: =N23*1000 -> 669571.03 | Q23: =ROUND(P23,-3) -> 670000
A24: 430 | B24: 31 | C24: 1313200430 | D24: שכ"ל מתלמידי חוץ בתי"ס מיוחדים | E24: 700 | F24: 700 | G24: 525 | H24: 438.3314 | J24: 87 | K24: 525.3314 | L24: 0.3314 | M24: לימור- בהתאמה לגבייה לינארית | N24: 700.44187 | O24: =N24-E24 -> 0.44186667 | P24: =N24*1000 -> 700441.87 | Q24: =ROUND(P24,-3) -> 700000
A25: 431 | B25: 31 | C25: 1313200431 | D25: שכ"ל מתלמידי חוץ חינוך רגיל | E25: 1000 | F25: 1000 | G25: 750 | H25: 521.3775 | J25: 229 | K25: 750.3775 | L25: 0.3775 | M25: לימור | N25: 1000.5033 | O25: =N25-E25 -> 0.50333333 | P25: =N25*1000 -> 1000503.3 | Q25: =ROUND(P25,-3) -> 1001000
A26: 410 | B26: 31 | C26: 1313300410 | D26: הכנסות מבת"ס בגין הזנה | E26: 141 | F26: 141 | G26: 105.75 | H26: 0 | J26: 0 | K26: 0 | L26: -105.75 | M26: לימור | N26: 0 | O26: =N26-E26 -> -141 | P26: =N26*1000 -> 0 | Q26: =ROUND(P26,-3) -> 0
A27: 410 | B27: 31 | C27: 1313500410 | D27: החזרים ממוסדות מוכרים בגין הוצאות העיריה | E27: 1200 | F27: 1200 | G27: 900 | H27: 0 | J27: 600 | K27: 600 | L27: -300 | M27: לפי נעמי להעמיד על תקציב | N27: 800 | O27: =N27-E27 -> -400 | P27: =N27*1000 -> 800000 | Q27: =ROUND(P27,-3) -> 800000
A28: 410 | B28: 31 | C28: 1314700410 | D28: מהורים לחוגי העשר | E28: 0 | F28: 0 | G28: 0 | H28: 0 | K28: 0 | L28: 0 | M28: לימור | N28: 0 | O28: =N28-E28 -> 0 | P28: =N28*1000 -> 0 | Q28: =ROUND(P28,-3) -> 0
A29: 093 | B29: 31 | C29: 1314680093 | D29: מרכז יום לנכים קשים | E29: 0 | F29: 0 | G29: 0 | H29: 0 | K29: 0 | L29: 0 | M29: לימור | N29: 0 | O29: =N29-E29 -> 0 | P29: =N29*1000 -> 0 | Q29: =ROUND(P29,-3) -> 0
A30: 420 | C30: 1322000420 | D30: הכנסות מפעולות תר | E30: 20 | F30: 20 | G30: 15 | H30: 101.271 | J30: -9 | K30: 92.271 | L30: 77.271 | M30: כרמית | N30: 123.028 | O30: =N30-E30 -> 103.028 | P30: =N30*1000 -> 123028 | Q30: =ROUND(P30,-3) -> 123000
A31: 420 | B31: 32 | C31: 1323000420 | D31: הכנסות מספריות עי | E31: 10 | F31: 10 | G31: 7.5 | H31: 12.4815 | J31: -1 | K31: 11.4815 | L31: 3.9815 | M31: כרמית | N31: 15.308667 | O31: =N31-E31 -> 5.3086667 | P31: =N31*1000 -> 15308.667 | Q31: =ROUND(P31,-3) -> 15000
A32: 420 | B32: 32 | C32: 1329300420 | D32: הכנסות מפעילות ספורט | E32: 300 | F32: 300 | G32: 225 | H32: 127.3912 | J32: 98 | K32: 225.3912 | L32: 0.3912 | M32: כרמית | N32: 300.5216 | O32: =N32-E32 -> 0.5216 | P32: =N32*1000 -> 300521.6 | Q32: =ROUND(P32,-3) -> 301000
A33: 420 | B33: 31 | C33: 1317900420 | D33: הכנסות שונות מחינ | E33: 50 | F33: 50 | G33: 37.5 | H33: 0 | K33: 0 | L33: -37.5 | M33: לימור- עדיין לא נרדמו בסעיף זה | N33: 0 | O33: =N33-E33 -> -50 | P33: =N33*1000 -> 0 | Q33: =ROUND(P33,-3) -> 0
A34: 420 | B34: 31 | C34: 1317800420 | D34: הסעת ילדים השתת' | E34: 150 | F34: 150 | G34: 112.5 | H34: -273.673 | K34: -273.673 | L34: -386.173 | M34: לימור- חוזה פחות הכנסות מהצפוי לפי עקרון הכנסות מופחת | N34: -364.89733 | O34: =N34-E34 -> -514.89733 | P34: =N34*1000 -> -364897.33 | Q34: =ROUND(P34,-3) -> -365000
E35: 0 | L35: 0 | O35: =N35-E35 -> 0 | P35: =N35*1000 -> 0 | Q35: =ROUND(P35,-3) -> 0
A36: * | B36: ה" | C36: סה"כ | D36: עצמיות חינוך | E36: 10135 | F36: 10135 | G36: 7601.25 | H36: 5209.4626 | I36: 0 | J36: 1382 | K36: 6591.4626 | L36: -1009.7874 | M36: 0 | N36: 8788.6168 | O36: =N36-E36 -> -1346.3832 | P36: =N36*1000 -> 8788616.8 | Q36: =ROUND(P36,-3) -> 8789000
D37: עצמיות רווחה | O37: =N37-E37 -> 0 | P37: =N37*1000 -> 0 | Q37: =ROUND(P37,-3) -> 0
A38: 490 | B38: 34 | C38: 1341000490 | D38: משירותי רווחה | E38: 30 | F38: 30 | G38: 22.5 | H38: 18.055 | J38: 5 | K38: 23.055 | L38: 0.555 | M38: קארין | N38: 30.74 | O38: =N38-E38 -> 0.74 | P38: =N38*1000 -> 30740 | Q38: =ROUND(P38,-3) -> 31000
A39: 490 | B39: 34 | C39: 1342000490 | D39: טיפול במשפחה - השתתפות פונים | E39: 254 | F39: 254 | G39: 190.5 | H39: 293.412 | J39: -103 | K39: 190.412 | L39: -0.088 | M39: קארין | N39: 253.88267 | O39: =N39-E39 -> -0.11733333 | P39: =N39*1000 -> 253882.67 | Q39: =ROUND(P39,-3) -> 254000
A40: 420 | B40: 34 | C40: 1343800420 | D40: אחזקת ילדים בפנימיות-השתתפות פונים | E40: 700 | F40: 700 | G40: 525 | H40: 808.6436 | J40: 0 | K40: 808.6436 | L40: 283.6436 | M40: קארין | N40: 1078.1915 | O40: =N40-E40 -> 378.19147 | P40: =N40*1000 -> 1078191.5 | Q40: =ROUND(P40,-3) -> 1078000
A41: 420 | B41: 34 | C41: 1344000420 | D41: מתושבים לבתי אבות | E41: 470 | F41: 470 | G41: 352.5 | H41: 901.7191 | J41: -552 | K41: 349.7191 | L41: -2.7809 | M41: קארין | N41: 466.29213 | O41: =N41-E41 -> -3.7078667 | P41: =N41*1000 -> 466292.13 | Q41: =ROUND(P41,-3) -> 466000
A42: 610 | B42: 34 | C42: 1345400610 | D42: הכנסות ממע"ש מכירות | E42: 388 | F42: 388 | G42: 291 | H42: 404.03434 | J42: -107 | K42: 297.03434 | L42: 6.03434 | M42: קארין | N42: 396.04579 | O42: =N42-E42 -> 8.0457867 | P42: =N42*1000 -> 396045.79 | Q42: =ROUND(P42,-3) -> 396000
A43: * | B43: ה" | C43: סה"כ | D43: עצמיות רווחה | E43: 1842 | F43: 1842 | G43: 1381.5 | H43: 2425.864 | I43: 0 | J43: -757 | K43: 1668.864 | L43: 287.36404 | M43: 0 | N43: 2225.1521 | O43: =N43-E43 -> 383.15205 | P43: =N43*1000 -> 2225152.1 | Q43: =ROUND(P43,-3) -> 2225000
D44: יתר עצמיות | O44: =N44-E44 -> 0 | P44: =N44*1000 -> 0 | Q44: =ROUND(P44,-3) -> 0
A45: 220 | B45: 12 | C45: 1121000220 | D45: תעודות ואישורים | E45: 200 | F45: 200 | G45: 150 | H45: 174.51316 | K45: 174.51316 | L45: 24.51316 | N45: 232.68421 | O45: =N45-E45 -> 32.684213 | P45: =N45*1000 -> 232684.21 | Q45: =ROUND(P45,-3) -> 233000
A46: 220 | B46: 12 | C46: 1122000220 | D46: הכנסות מאגרות שילוט | E46: 6000 | F46: 6000 | G46: 4500 | H46: 7553.814 | J46: -1550 | K46: 6003.814 | L46: 1503.814 | M46: שם טוב | N46: 8005.0854 | O46: =N46-E46 -> 2005.0854 | P46: =N46*1000 -> 8005085.4 | Q46: =ROUND(P46,-3) -> 8005000
A47: 220 | B47: 18 | C47: 1180000220 | D47: הכנסות משירותי מיחשוב | E47: 90 | F47: 90 | G47: 67.5 | H47: 67 | J47: 19 | K47: 86 | L47: 18.5 | M47: הכנסות מיחשוב פנאי העיר | N47: 114.66667 | O47: =N47-E47 -> 24.666667 | P47: =N47*1000 -> 114666.67 | Q47: =ROUND(P47,-3) -> 115000
A48: 690 | B48: 21 | C48: 1212300690 | D48: מכירת פחי אשפה | E48: 0 | F48: 0 | G48: 0 | H48: 56.0298 | J48: -10 | K48: 46.0298 | L48: 46.0298 | N48: 61.373067 | O48: =N48-E48 -> 61.373067 | P48: =N48*1000 -> 61373.067 | Q48: =ROUND(P48,-3) -> 61000
A49: 610 | B49: 21 | C49: 1212300610 | D49: הכנסות מפינוי קרטון ובקבוקים | E49: 450 | F49: 450 | G49: 337.5 | H49: 360.5557 | J49: -23 | K49: 337.5557 | L49: 0.0557 | M49: שלומית | N49: 450.07427 | O49: =N49-E49 -> 0.074266667 | P49: =N49*1000 -> 450074.27 | Q49: =ROUND(P49,-3) -> 450000
A50: 611 | B50: 21 | C50: 1212300611 | D50: הכנסות מחזור אריזות (תמיר) | E50: 400 | F50: 400 | G50: 300 | H50: 118.65439 | J50: 121 | K50: 239.65439 | L50: -60.34561 | M50: שלומית - לאחר בדיקת הכנסות בפועל | N50: 319.53919 | O50: =N50-E50 -> -80.460813 | P50: =N50*1000 -> 319539.19 | Q50: =ROUND(P50,-3) -> 320000
A51: 220 | B51: 21 | C51: 1214200220 | D51: פיקוח וטרינרי - אגרות | E51: 420 | F51: 420 | G51: 315 | H51: 405.5495 | J51: -90 | K51: 315.5495 | L51: 0.5495 | M51: שלומית | N51: 420.73267 | O51: =N51-E51 -> 0.73266667 | P51: =N51*1000 -> 420732.67 | Q51: =ROUND(P51,-3) -> 421000
A52: 220 | B52: 22 | C52: 1222000220 | D52: אגרת שמירה | E52: 6700 | F52: 6700 | G52: 5025 | H52: 5816.931 | J52: -791.5 | K52: 5025.431 | L52: 0.43097 | M52: שם טוב | N52: 6700.5746 | O52: =N52-E52 -> 0.57462667 | P52: =N52*1000 -> 6700574.6 | Q52: =ROUND(P52,-3) -> 6701000
A53: 220 | B53: 23 | C53: 1231000220 | D53: הכנסות שונות מהנדסה | E53: 90 | F53: 90 | G53: 67.5 | H53: 96.1057 | J53: -16 | K53: 80.1057 | L53: 12.6057 | M53: יעל | N53: 106.8076 | O53: =N53-E53 -> 16.8076 | P53: =N53*1000 -> 106807.6 | Q53: =ROUND(P53,-3) -> 107000
A54: 220 | B54: 23 | C54: 1233100220 | D54: אגרות רישיונות בנייה | E54: 6290 | F54: 6290 | G54: 4717.5 | H54: 5135.9352 | J54: -1011 | K54: 4124.9352 | L54: -592.56478 | M54: יעל - הוחזרו פקדונות בסך 540 אשח ב7.22 | N54: 5499.9136 | O54: =N54-E54 -> -790.08637 | P54: =N54*1000 -> 5499913.6 | Q54: =ROUND(P54,-3) -> 5500000
A55: 690 | B55: 24 | C55: 1243000690 | D55: הכנסות מתשלום חשב | E55: 0 | F55: 0 | G55: 0 | H55: 117.78962 | K55: 117.78962 | L55: 117.78962 | N55: 157.05283 | O55: =N55-E55 -> 157.05283 | P55: =N55*1000 -> 157052.83 | Q55: =ROUND(P55,-3) -> 157000
A56: 650 | B56: 26 | C56: 1262000650 | D56: דמי הדבקת מודעות | E56: 0 | F56: 0 | G56: 0 | H56: 0.58 | K56: 0.58 | L56: 0.58 | N56: 0.77333333 | O56: =N56-E56 -> 0.77333333 | P56: =N56*1000 -> 773.33333 | Q56: =ROUND(P56,-3) -> 1000
A57: 220 | B57: 27 | C57: 1274000220 | D57: אגרת חוף מוטורי | E57: 0 | F57: 0 | G57: 0 | H57: 0 | K57: 0 | L57: 0 | N57: 0 | O57: =N57-E57 -> 0 | P57: =N57*1000 -> 0 | Q57: =ROUND(P57,-3) -> 0
A58: 690 | B58: 28 | C58: 1281000690 | D58: ברירת קנס חנייה | E58: 11000 | F58: 11000 | G58: 8250 | H58: 6648.6043 | J58: 481 | K58: 7129.6043 | L58: -1120.3957 | M58: נחמיה | N58: 9506.1391 | O58: =N58-E58 -> -1493.8609 | P58: =N58*1000 -> 9506139.1 | Q58: =ROUND(P58,-3) -> 9506000
A59: 440 | B59: 28 | C59: 1282000440 | D59: הכנסות מרשויות לבית משפט לעיניינים מקומיים | E59: 830 | F59: 830 | G59: 622.5 | H59: 794.244 | J59: -199 | K59: 595.244 | L59: -27.256 | M59: לפי הכנסה בפועל - לבדוק אם צפויות עוד | N59: 793.65867 | O59: =N59-E59 -> -36.341333 | P59: =N59*1000 -> 793658.67 | Q59: =ROUND(P59,-3) -> 794000
A60: 690 | B60: 28 | C60: 1282000690 | D60: בית משפט קנסות | E60: 250 | F60: 250 | G60: 187.5 | H60: 157.81571 | K60: 157.81571 | L60: -29.68429 | N60: 210.42095 | O60: =N60-E60 -> -39.579053 | P60: =N60*1000 -> 210420.95 | Q60: =ROUND(P60,-3) -> 210000
A61: 691 | B61: 28 | C61: 1282000691 | D61: רישוי עסקים לאחר משפט | E61: 20 | F61: 20 | G61: 15 | H61: 11.1145 | K61: 11.1145 | L61: -3.8855 | N61: 14.819333 | O61: =N61-E61 -> -5.1806667 | P61: =N61*1000 -> 14819.333 | Q61: =ROUND(P61,-3) -> 15000
A62: 692 | B62: 28 | C62: 1282000692 | E62: 0 | F62: 0 | G62: 0 | H62: 0 | K62: 0 | L62: 0 | N62: 0 | O62: =N62-E62 -> 0 | P62: =N62*1000 -> 0 | Q62: =ROUND(P62,-3) -> 0
A63: 693 | B63: 28 | C63: 1282000693 | D63: קנס פיקוח כללי לאחר משפט | E63: 130 | F63: 130 | G63: 97.5 | H63: 136.41665 | K63: 136.41665 | L63: 38.91665 | N63: 181.88887 | O63: =N63-E63 -> 51.888867 | P63: =N63*1000 -> 181888.87 | Q63: =ROUND(P63,-3) -> 182000
A64: 694 | B64: 28 | C64: 1282000694 | D64: כפל אגרה | E64: 60 | F64: 60 | G64: 45 | H64: 75.07278 | K64: 75.07278 | L64: 30.07278 | N64: 100.09704 | O64: =N64-E64 -> 40.09704 | P64: =N64*1000 -> 100097.04 | Q64: =ROUND(P64,-3) -> 100000
A65: 220 | B65: 29 | C65: 1291000220 | D65: היתרים רישוי עסקים | E65: 100 | F65: 100 | G65: 75 | H65: 52.3318 | K65: 52.3318 | L65: -22.6682 | M65: נחמיה | N65: 69.775733 | O65: =N65-E65 -> -30.224267 | P65: =N65*1000 -> 69775.733 | Q65: =ROUND(P65,-3) -> 70000
A66: 440 | B66: 36 | C66: 1360000440 | D66: הכנסות שונות לקליטה | E66: 40 | F66: 40 | G66: 30 | H66: 27.244 | J66: 3 | K66: 30.244 | L66: 0.244 | M66: כרמית | N66: 40.325333 | O66: =N66-E66 -> 0.32533333 | P66: =N66*1000 -> 40325.333 | Q66: =ROUND(P66,-3) -> 40000
A67: 690 | B67: 37 | C67: 1379000690 | D67: הכנסות מקנסות איכות סביבה | E67: 500 | F67: 500 | G67: 375 | H67: 158.50143 | J67: -8 | K67: 150.50143 | L67: -224.49857 | M67: נחמיה | N67: 200.66857 | O67: =N67-E67 -> -299.33143 | P67: =N67*1000 -> 200668.57 | Q67: =ROUND(P67,-3) -> 201000
A68: 440 | B68: 41 | C68: 1413100440 | D68: חיובי מים | E68: 0 | F68: 0 | G68: 0 | H68: -0.0086 | K68: -0.0086 | L68: -0.0086 | N68: -0.011466667 | O68: =N68-E68 -> -0.011466667 | P68: =N68*1000 -> -11.466667 | Q68: =ROUND(P68,-3) -> 0
A69: 650 | B69: 41 | C69: 1413100650 | D69: הכנסות ממכירת נכסים לתאגיד | E69: 0 | F69: 0 | G69: 0 | H69: 0 | K69: 0 | L69: 0 | N69: 0 | O69: =N69-E69 -> 0 | P69: =N69*1000 -> 0 | Q69: =ROUND(P69,-3) -> 0
A70: 420 | B70: 32 | C70: 1325000420 | D70: הכנסות מפעילות בית מורשת אתיופיה | E70: 0 | F70: 0 | G70: 0 | H70: 0 | K70: 0 | L70: 0 | N70: 0 | O70: =N70-E70 -> 0 | P70: =N70*1000 -> 0 | Q70: =ROUND(P70,-3) -> 0
A71: 420 | B71: 32 | C71: 1327000420 | D71: הכנסות פעילות חינוך תורני | E71: 20 | F71: 20 | G71: 15 | H71: 31.2 | J71: -8 | K71: 23.2 | L71: 8.2 | M71: כרמית | N71: 30.933333 | O71: =N71-E71 -> 10.933333 | P71: =N71*1000 -> 30933.333 | Q71: =ROUND(P71,-3) -> 31000
A72: 421 | C72: 1327000421 | D72: הכנסות פעילות תרב | E72: 0 | F72: 0 | G72: 0 | H72: 0 | K72: 0 | L72: 0 | N72: 0 | O72: =N72-E72 -> 0 | P72: =N72*1000 -> 0 | Q72: =ROUND(P72,-3) -> 0
A73: 640 | B73: 43 | C73: 1433000640 | D73: הכנסות משכר דירה | E73: 900 | F73: 900 | G73: 675 | H73: 611.44039 | J73: 214 | K73: 825.44039 | L73: 150.44039 | M73: יעל - הכנסות ממטש 473 אשח שנתיות בתוספת שכד מ.ד | N73: 1100.5872 | O73: =N73-E73 -> 200.58719 | P73: =N73*1000 -> 1100587.2 | Q73: =ROUND(P73,-3) -> 1101000
A74: 220 | B74: 43 | C74: 1437000220 | D74: שוק עירוני דמי תפעול | E74: 120 | F74: 120 | G74: 90 | H74: 16.7959 | K74: 16.7959 | L74: -73.2041 | N74: 22.394533 | O74: =N74-E74 -> -97.605467 | P74: =N74*1000 -> 22394.533 | Q74: =ROUND(P74,-3) -> 22000
A75: 610 | B75: 44 | C75: 1443200610 | D75: תגים וכרטיסי חנייה | E75: 7500 | F75: 7500 | G75: 5625 | H75: 5841.8855 | J75: -292 | K75: 5549.8855 | L75: -75.11449 | M75: נחמיה | N75: 7399.8473 | O75: =N75-E75 -> -100.15265 | P75: =N75*1000 -> 7399847.3 | Q75: =ROUND(P75,-3) -> 7400000
A76: 210 | B76: 47 | C76: 1472000210 | D76: הכנסות מאגרות ביוב | E76: 10 | F76: 10 | G76: 7.5 | H76: 20.66922 | K76: 20.66922 | L76: 13.16922 | N76: 27.55896 | O76: =N76-E76 -> 17.55896 | P76: =N76*1000 -> 27558.96 | Q76: =ROUND(P76,-3) -> 28000
A77: 420 | B77: 32 | C77: 1325200420 | D77: הכנסות מקונסרוטוריון | E77: 1770 | F77: 1770 | G77: 1327.5 | H77: 963.8937 | J77: 364 | K77: 1327.8937 | L77: 0.3937 | M77: כרמית | N77: 1770.5249 | O77: =N77-E77 -> 0.52493333 | P77: =N77*1000 -> 1770524.9 | Q77: =ROUND(P77,-3) -> 1771000
A78: 590 | B78: 59 | C78: 1591900590 | D78: קרן פיתוח | E78: 34891 | F78: 34891 | G78: 26168.25 | H78: 0 | J78: 20997.268 | K78: 20997.268 | L78: -5170.9822 | M78: עפי תחשיב | N78: 27996.357 | O78: =N78-E78 -> -6894.6429 | P78: =N78*1000 -> 27996357 | Q78: =ROUND(P78,-3) -> 27996000
A79: * | B79: ה" | C79: סה"כ | D79: יתר עצמיות | E79: 78781 | F79: 78781 | G79: 59085.75 | H79: 35450.679 | I79: 0 | J79: 18200.768 | K79: 53651.447 | L79: -5434.3028 | M79: 0 | N79: 71535.263 | O79: =N79-E79 -> -7245.7371 | P79: =N79*1000 -> 71535263 | Q79: =ROUND(P79,-3) -> 71535000
A80: * | B80: ה" | C80: סה"כ | D80: הכנסות עצמיות | E80: 90758 | F80: 90758 | G80: 68068.5 | H80: 43086.006 | I80: 0 | J80: 18825.768 | K80: 61911.774 | L80: -6156.7262 | M80: 0 | N80: 82549.032 | O80: =N80-E80 -> -8208.9682 | P80: =N80*1000 -> 82549032 | Q80: =ROUND(P80,-3) -> 82549000
D81: תקבולים ממשרד החינוך | O81: =N81-E81 -> 0 | P81: =N81*1000 -> 0 | Q81: =ROUND(P81,-3) -> 0
A82: 920 | B82: 31 | C82: 1312204920 | D82: עוזרות גננות | E82: 9655 | F82: 9655 | G82: 7241.25 | H82: 6439.1101 | J82: 802 | K82: 7241.1101 | L82: -0.13995 | M82: לימור- הכנסות קבועות מידי חודש ממיתר משהח | N82: 9654.8134 | O82: =N82-E82 -> -0.1866 | P82: =N82*1000 -> 9654813.4 | Q82: =ROUND(P82,-3) -> 9655000
A83: 920 | B83: 31 | C83: 1312207920 | D83: השת' משה"ח גננות | E83: 11963 | F83: 11963 | G83: 8972.25 | H83: 9078.656 | K83: 9078.656 | L83: 106.40599 | M83: לימור- הכנסות קבועות מידי חודש ממיתר משהח | N83: 12104.875 | O83: =N83-E83 -> 141.87465 | P83: =N83*1000 -> 12104875 | Q83: =ROUND(P83,-3) -> 12105000
A84: 910 | B84: 23 | C84: 1233100910 | D84: השתתפות בהתחדשות עירונית | E84: 0 | F84: 0 | G84: 0 | H84: 0 | K84: 0 | L84: 0 | M84: לימור- | N84: 0 | O84: =N84-E84 -> 0 | P84: =N84*1000 -> 0 | Q84: =ROUND(P84,-3) -> 0
A85: 920 | B85: 31 | C85: 1312305920 | D85: שכ"ל גני ילדים | E85: 33225 | F85: 33225 | G85: 24918.75 | H85: 22555.334 | J85: 2363 | K85: 24918.334 | L85: -0.41627 | M85: לימור- הכנסות קבועות מידי חודש ממיתר משהח | N85: 33224.445 | O85: =N85-E85 -> -0.55502667 | P85: =N85*1000 -> 33224445 | Q85: =ROUND(P85,-3) -> 33224000
A86: 920 | C86: 1312300920 | D86: ממשלה לג.ילדים טר | E86: 0 | F86: 0 | G86: 0 | H86: 0 | K86: 0 | L86: 0 | M86: לימור | N86: 0 | O86: =N86-E86 -> 0 | P86: =N86*1000 -> 0 | Q86: =ROUND(P86,-3) -> 0
A87: 921 | B87: 31 | C87: 1312300921 | D87: הנכנסות תוכנית ניצנים | E87: 2160 | F87: 2160 | G87: 1620 | H87: 1693.3907 | J87: 100 | K87: 1793.3907 | L87: 173.3907 | M87: לימור- הכנסות קבועות מידי חודש ממיתר משהח לפי תקציב מותנה | N87: 2391.1876 | O87: =N87-E87 -> 231.1876 | P87: =N87*1000 -> 2391187.6 | Q87: =ROUND(P87,-3) -> 2391000
A88: 922 | B88: 31 | C88: 1312300922 | D88: הכנסות ניצנים בחופשות | E88: 250 | F88: 250 | G88: 187.5 | H88: 1271.8109 | J88: -1019 | K88: 252.8109 | L88: 65.3109 | M88: לימור-לפי קוד חופשות | N88: 337.0812 | O88: =N88-E88 -> 87.0812 | P88: =N88*1000 -> 337081.2 | Q88: =ROUND(P88,-3) -> 337000
A89: 920 | B89: 31 | C89: 1312601920 | D89: העשרה גנ"י | E89: 0 | F89: 0 | G89: 0 | H89: 0 | K89: 0 | L89: 0 | M89: לימור | N89: 0 | O89: =N89-E89 -> 0 | P89: =N89*1000 -> 0 | Q89: =ROUND(P89,-3) -> 0
A90: 920 | B90: 31 | C90: 1312602920 | D90: ה.נלוות ח.מיוחד גנ"י | E90: 200 | F90: 200 | G90: 150 | H90: 175.8508 | J90: 15 | K90: 190.8508 | L90: 40.8508 | M90: לימור- קיבלנו קצת יותר | N90: 254.46773 | O90: =N90-E90 -> 54.467733 | P90: =N90*1000 -> 254467.73 | Q90: =ROUND(P90,-3) -> 254000
A91: 920 | B91: 31 | C91: 1313200920 | D91: ניהול עצמי | E91: 9733 | F91: 9733 | G91: 7299.75 | H91: 7160.687 | K91: 7160.687 | L91: -139.06302 | M91: לימור- קיבלנו בפועל יותר בחצי שנתי - השארתי כמו בתקציב מותנה | N91: 9547.5826 | O91: =N91-E91 -> -185.41736 | P91: =N91*1000 -> 9547582.6 | Q91: =ROUND(P91,-3) -> 9548000
A92: 922 | C92: 1313200922 | D92: הכנסות גפן משרד החינוך | E92: 0 | F92: 0 | G92: 0 | H92: 675.46858 | J92: -169 | K92: 506.46858 | L92: 506.46858 | N92: 675.29144 | O92: =N92-E92 -> 675.29144 | P92: =N92*1000 -> 675291.44 | Q92: =ROUND(P92,-3) -> 675000
A93: 921 | B93: 31 | C93: 1313200921 | D93: שכר דירה עבור חב""ד" | E93: 75 | F93: 75 | G93: 56.25 | H93: 0 | K93: 0 | L93: -56.25 | M93: לימור- לא התקבל עדיין אולי יתקבל לקראת סוף שנה כמו בש.ק | N93: 0 | O93: =N93-E93 -> -75 | P93: =N93*1000 -> 0 | Q93: =ROUND(P93,-3) -> 0
A94: 920 | B94: 31 | C94: 1313206920 | D94: שרתים | E94: 1180 | F94: 1180 | G94: 885 | H94: 1467.7903 | K94: 1467.7903 | L94: 582.79026 | M94: לימור- בפועל בחצי שנתי התקבל רוב סכום ההכנסה ולכן הוספתי לצפי | N94: 1957.0537 | O94: =N94-E94 -> 777.05368 | P94: =N94*1000 -> 1957053.7 | Q94: =ROUND(P94,-3) -> 1957000
A95: 920 | B95: 31 | C95: 1313207920 | D95: מזכירים | E95: 408 | F95: 408 | G95: 306 | H95: 499.7014 | K95: 499.7014 | L95: 193.7014 | M95: לימור- בפועל בחצי שנתי התקבל רוב סכום ההכנסה ולכן הוספתי לצפי | N95: 666.26853 | O95: =N95-E95 -> 258.26853 | P95: =N95*1000 -> 666268.53 | Q95: =ROUND(P95,-3) -> 666000
A96: 920 | B96: 31 | C96: 1313209920 | D96: שרתים ומזכירים טכנודע | E96: 290 | F96: 290 | G96: 217.5 | H96: 199.07028 | K96: 199.07028 | L96: -18.42972 | M96: לימור | N96: 265.42704 | O96: =N96-E96 -> -24.57296 | P96: =N96*1000 -> 265427.04 | Q96: =ROUND(P96,-3) -> 265000
A97: 920 | B97: 31 | C97: 1313210920 | D97: אגרת שיכפול + חומרים | E97: 550 | F97: 550 | G97: 412.5 | H97: 714.01147 | J97: -178 | K97: 536.01147 | L97: 123.51147 | M97: לימור | N97: 714.68196 | O97: =N97-E97 -> 164.68196 | P97: =N97*1000 -> 714681.96 | Q97: =ROUND(P97,-3) -> 715000
A98: 920 | B98: 31 | C98: 1313211920 | D98: סל תלמיד לעולה יסודי | E98: 20 | F98: 20 | G98: 15 | H98: 0.93933 | K98: 0.93933 | L98: -14.06067 | M98: לימור | N98: 1.25244 | O98: =N98-E98 -> -18.74756 | P98: =N98*1000 -> 1252.44 | Q98: =ROUND(P98,-3) -> 1000
A99: 920 | B99: 31 | C99: 1313212920 | D99: שרתים מתי"א | E99: 75 | F99: 75 | G99: 56.25 | H99: 51.86933 | K99: 51.86933 | L99: -4.38067 | M99: לימור | N99: 69.159107 | O99: =N99-E99 -> -5.8408933 | P99: =N99*1000 -> 69159.107 | Q99: =ROUND(P99,-3) -> 69000
A100: 920 | B100: 31 | C100: 1313214920 | D100: מזכירי מתי"א | E100: 165 | F100: 165 | G100: 123.75 | H100: 104.08521 | K100: 104.08521 | L100: -19.66479 | M100: לימור | N100: 138.78028 | O100: =N100-E100 -> -26.21972 | P100: =N100*1000 -> 138780.28 | Q100: =ROUND(P100,-3) -> 139000
...

Sheet גמלאים 2023
B1: נספח א - 1 גימלאים ושארים
A4: מס"ד | B4: שם משפחה | C4: שם פרטי | D4: אחוז גמלה | F4: מס"ד | G4: שם משפחה | H4: שם פרטי | I4: אחוז גמלה
A5: 1 | B5: אבדלימוב | C5: סבי | D5: 61.58 | F5: 321 | G5: מור יוסף | H5: פני | I5: 53.3
A6: 2 | B6: אבוטבול | C6: משה | D6: 40.2 | F6: 322 | G6: מזרחי | H6: בת-חיל | I6: 36.37
A7: 3 | B7: אבוטבול | C7: סימה | D7: 59.11 | F7: 323 | G7: מחפוד | H7: נורית | I7: 62.99
A8: 4 | B8: אבוקסיס | C8: מזל | D8: 70 | F8: 324 | G8: מטרי | H8: חיים | I8: 54.17
A9: 5 | B9: אביטן | C9: מלכה | D9: 70 | F9: 325 | G9: מיטל-משל | H9: אהובה | I9: 39.85
A10: 6 | B10: אביטן | C10: דני | D10: 53 | F10: 326 | G10: מימון | H10: מדלן | I10: 65
A11: 7 | B11: אבייב | C11: אבישג | D11: 70 | F11: 327 | G11: מלול שורץ | H11: אריאלה | I11: 70
A12: 8 | B12: אבן חיים | C12: סול | D12: 67 | F12: 328 | G12: מליחי | H12: אחיהוד | I12: 30.34
A13: 9 | B13: אבן צור | C13: אלי | D13: 70 | F13: 329 | G13: מליחי | H13: אהובה | I13: 47.33
A14: 10 | B14: אברג'ל | C14: סמי | D14: 50.67 | F14: 330 | G14: מליחי | H14: סגולה | I14: 41.69
A15: 11 | B15: אברהם | C15: שולמית | D15: 39.7 | F15: 331 | G15: מלכה | H15: יעקב | I15: 65.57
A16: 12 | B16: אברהם | C16: ציון | D16: 62.81 | F16: 332 | G16: מלכה | H16: פנינה | I16: 49.8
... A56: 52 | B56: אלגרבלי | C56: ציונה | D56: 24.28 | F56: 372 | G56: סטורזי | H56: ענת | I56: 14.6
A59: מס"ד | B59: שם משפחה | C59: שם פרטי | D59: אחוז גמלה | F59: מס"ד | G59: שם משפחה | H59: שם פרטי | I59: אחוז גמלה
A60: 53 | B60: אלחדד | C60: חנה | D60: 29.1 | F60: 373 | G60: סיבוני | H60: חנה | I60: 70
A61: 54 | B61: אלטרס | C61: אבלין | D61: 48.05 | F61: 374 | G61: סימיאן | H61: ליאורה | I61: 50
A62: 55 | B62: אליהו | C62: צפורה | D62: 50.04 | F62: 375 | G62: סימיאן | H62: בתיה | I62: 55.3
A63: 56 | B63: אליהו | C63: רותי | D63: 70 | F63: 376 | G63: סימיאן | H63: רחל | I63: 56.73
A64: 57 | B64: אליהו | C64: דוד | D64: 43.83 | F64: 377 | G64: סלהוב | H64: רחל | I64: 35.3
A65: 58 | B65: אליעזר | C65: אלישע | D65: 69 | F65: 378 | G65: סמליינסקי | H65: יבגני | I65: 46.83
A66: 59 | B66: אלמליח | C66: איבון | D66: 30 | F66: 379 | G66: סעדה | H66: בתיה | I66: 47
A67: 60 | B67: אלעודאת | C67: הליל | D67: 70 | F67: 380 | G67: סעדה | H67: שולה | I67: 58.82
A68: 61 | B68: אלקובי | C68: דוד | D68: 26.82 | F68: 381 | G68: סעיד | H68: שלום | I68: 42
A69: 62 | B69: אסולין | C69: זהבה | D69: 70 | F69: 382 | G69: סעיד | H69: אנט | I69: 46.17
A70: 63 | B70: אסרף | C70: שמעון | D70: 52.24 | F70: 383 | G70: ספל | H70: דבורה | I70: 45
A71: 64 | B71: אסרף | C71: כוכבה | D71: 23.45 | F71: 384 | G71: סרוסי | H71: אלי | I71: 44.04
... A113: 106 | B113: בן דוד | C113: מרגלית | D113: 43.96 | F113: 426 | G113: צדוק | H113: שלמה | I113: 37.58
A115: מס"ד | B115: שם משפחה | C115: שם פרטי | D115: אחוז גמלה | F115: מס"ד | G115: שם משפחה | H115: שם פרטי | I115: אחוז גמלה
A116: 107 | B116: בן חיים | C116: עמרם | D116: 44 | F116: 427 | G116: צור | H116: נתן | I116: 62
A117: 108 | B117: בן חיים | C117: יפה | D117: 62.85 | F117: 428 | G117: צור זיידי | H117: שושנה | I117: 70
A118: 109 | B118: בן לולו | C118: חיים | D118: 37.67 | F118: 429 | G118: צורף | H118: צוריאל | I118: 45.5
A119: 110 | B119: בן מיכאל | C119: דינה | D119: 24.67 | F119: 430 | G119: ציליביץ | H119: יונה | I119: 70
A120: 111 | B120: בן מנחם | C120: אורה | D120: 70 | F120: 431 | G120: צפר | H120: שלום | I120: 70
A121: 112 | B121: בן משה | C121: אילת | D121: 47.83 | F121: 432 | G121: צפר | H121: שרה | I121: 62.2
A122: 113 | B122: בן סדון | C122: חיה | D122: 33 | F122: 433 | G122: צרור | H122: ויקטור | I122: 24.98
A123: 114 | B123: בן עזרא | C123: אסתר | D123: 37.99 | F123: 434 | G123: קאופשטיין | H123: רונית | I123: 67.33
A124: 115 | B124: בן צבי | C124: הדסה | D124: 62 | F124: 435 | G124: קובץ | H124: מלכה | I124: 38.2
A125: 116 | B125: בן צור | C125: יוסף | D125: 70 | F125: 436 | G125: קוניא | H125: אני | I125: 50.83
A126: 117 | B126: בן שמואל | C126: רבקה | D126: 51.2 | F126: 437 | G126: קופלוביץ | H126: עמירה | I126: 66.2
A127: 118 | B127: בעדני | C127: מרים | D127: 41.2 | F127: 438 | G127: קופפר | H127: שושנה | I127: 49
... A170: 161 | B170: דבורצוב | C170: פירה | D170: 33 | F170: 481 | G170: שמחי | H170: כרמלה | I170: 44.04
A172: מס"ד | B172: שם משפחה | C172: שם פרטי | D172: אחוז גמלה | F172: מס"ד | G172: שם משפחה | H172: שם פרטי | I172: אחוז גמלה
A173: 162 | B173: דגן | C173: מונט | D173: 43.6 | F173: 482 | G173: שמיס | H173: קבדיה | I173: 32.84
A174: 163 | B174: דדון | C174: מרגלית | D174: 22.57 | F174: 483 | G174: שמש | H174: אברהם | I174: 43.82
A175: 164 | B175: דדון | C175: דבורה | D175: 49 | F175: 484 | G175: שמש | H175: עדנה | I175: 45
A176: 165 | B176: דהן | C176: שלמה | D176: 20.4 | F176: 485 | G176: שמש | H176: רותי | I176: 46.67
A177: 166 | B177: דהן | C177: רוזה | D177: 46.3 | F177: 486 | G177: שניידר | H177: מלכה | I177: 63.78
A178: 167 | B178: דהרי | C178: מלכה | D178: 59.55 | F178: 487 | G178: שניצר | H178: אורלי | I178: 36.3
A179: 168 | B179: דואני | C179: לוזון | D179: 70 | F179: 488 | G179: שעיר | H179: יחיאל | I179: 70
A180: 169 | B180: דוד | C180: שרה | D180: 60.64 | F180: 489 | G180: שעיר תוהמי | H180: מרי | I180: 70
A181: 170 | B181: דוד | C181: דליה | D181: 33.87 | F181: 490 | G181: שער | H181: רחל | I181: 30.3
A182: 171 | B182: דוד | C182: חנה | D182: 58.94 | F182: 491 | G182: שער | H182: אביגיל | I182: 70
A183: 172 | B183: דוידוביץ | C183: שלמה | D183: 61.5 | F183: 492 | G183: שפיר | H183: נחמן | I183: 35
A184: 173 | B184: דוראני | C184: שלמה | D184: 30 | F184: 493 | G184: שפר | H184: רבקה | I184: 41.7
... A227: 216 | B227: זיידי | C227: יונה | D227: 40 | F227: 536 | G227: אשורוב | H227: בלהה | I227: 21.9
A229: מס"ד | B229: שם משפחה | C229: שם פרטי | D229: אחוז גמלה | F229: מס"ד | G229: שם משפחה | H229: שם פרטי | I229: אחוז גמלה
A230: 217 | B230: זיידי | C230: יונה | D230: 4.6 | F230: 537 | G230: אשתר | H230: שושנה | I230: 40
A231: 218 | B231: זירד | C231: רומיה | D231: 33.32 | F231: 538 | G231: אשתר | H231: עליזה | I231: 40
A232: 219 | B232: זכאי | C232: שרה | D232: 33 | F232: 539 | G232: בוהארון | H232: דוד | I232: 38.91
A233: 220 | B233: זכריהו | C233: מרים | D233: 34 | F233: 540 | G233: בוזגלו | H233: יצחק | I233: 40
A234: 221 | B234: זפרן | C234: מסעודי | D234: 60 | F234: 541 | G234: בולבול | H234: סובחיה | I234: 23.76
A235: 222 | B235: זרניצקי | C235: נאוה | D235: 68.25 | F235: 542 | G235: ביטון | H235: מסעודה | I235: 30
A236: 223 | B236: חגג | C236: פנינה | D236: 39.2 | F236: 543 | G236: בן אברהם | H236: יעקב | I236: 29.7
A237: 224 | B237: חדד | C237: דינה | D237: 56 | F237: 544 | G237: בן דוד | H237: מרגלית | I237: 11.2
A238: 225 | B238: חומסקי | C238: דרורה | D238: 42.1 | F238: 545 | G238: בן יצחק | H238: רבקה | I238: 40
A239: 226 | B239: חומרי | C239: חיים | D239: 48.91 | F239: 546 | G239: בעדני | H239: צפורה | I239: 40
A240: 227 | B240: חומרי | C240: רינה | D240: 51.74 | F240: 547 | G240: ברזילי | H240: יהודית | I240: 29.36
A241: 228 | B241: חזוט | C241: שמעון | D241: 15.6 | F241: 548 | G241: ברזילי ליפשיץ | H241: עדה | I241: 60
... A284: 271 | B284: כהן | C284: מנחם | D284: 48 | F284: 591 | G284: לוי | H284: רחל | I284: 30
A286: מס"ד | B286: שם משפחה | C286: שם פרטי | D286: אחוז גמלה | F286: מס"ד | G286: שם משפחה | H286: שם פרטי | I286: אחוז גמלה
A287: 272 | B287: כהן | C287: ג'וני | D287: 39.66 | F287: 598 | G287: מור | H287: אסתר | I287: 40
A288: 273 | B288: כהן | C288: לילי | D288: 48.72 | F288: 599 | G288: מורגן | H288: אלישע | I288: 23.7
A289: 274 | B289: כהן | C289: שרון | D289: 70 | F289: 600 | G289: מזרחי | H289: רחל | I289: 37.8
A290: 275 | B290: כהן | C290: שולמית | D290: 70 | F290: 601 | G290: מטילסקי | H290: עדה | I290: 40
A291: 276 | B291: כהן | C291: שרה | D291: 63.16 | F291: 602 | G291: מילארה | H291: מרי דולי | I291: 25.62
A292: 277 | B292: כהן | C292: חנה | D292: 45.43 | F292: 603 | G292: מלכה | H292: פורטונה | I292: 34.8
A293: 278 | B293: כהן | C293: איבט | D293: 59.49 | F293: 604 | G293: מלכה | H293: ברכה | I293: 39.2
A294: 279 | B294: כהן | C294: סימה | D294: 70 | F294: 605 | G294: מלכה | H294: חיים | I294: 38.82
A295: 280 | B295: כהן | C295: פלורה | D295: 70 | F295: 606 | G295: מלכה | H295: דבורה | I295: 27.3
A296: 281 | B296: כובני | C296: רחמים | D296: 50 | F296: 607 | G296: ממליגר | H296: מוסיה | I296: 34.92
A297: 282 | B297: כותא | C297: יהודית | D297: 70 | F297: 608 | G297: מסורי | H297: רחל | I297: 40
A298: 283 | B298: כחלון | C298: שלום | D298: 18.3 | F298: 609 | G298: מסורי | H298: שרה | I298: 40
... A340: 596 | B340: לוין | C340: עירד | D340: 40 | F340: 651 | G340: תורגמן | H340: דוד | I340: 40
A341: 597 | B341: מדר | C341: שושנה | D341: 40
D343: =SUM(D5:D342) -> 15883.34

Sheet רזרבה מותנה
A1: רזרבה | C1: גיליון נפרד ורזרבה | G1: מותנות
A2: 1615000751 | B2: 1000000 | G2: 1811000780 | H2: 100000
A3: 1746000750 | B3: 2000000 | H3: 200000 | I3: הוליסטי
A4: 1712200750 | B4: 1000000 | G4: 1812200980 | H4: 200000
A5: 1826000810 | B5: 1500000 | G5: 1813200980 | H5: 300000
A6: 1822000810 | B6: 1000000 | D6: לפי ביצוע | G6: 1813400810 | H6: 300000
A7: 1829300812 | B7: 500000 | G7: 1815200980 | H7: 300000
A8: 1813400810 | B8: 1000000 | G8: 1822000816 | H8: 200000
G9: 1823000780 | H9: 50000
B11: =SUM(B2:B10) -> 8000000
A17: סעיף תקציב | B17: תאור | C17: תקציב 2022 כולל | D17: תקציב מותנה | E17: למימוש ללא התניה
A18: 1613000750 | B18: עבודות קבלניות מנכ"ל | C18: 400000 | D18: 200000 | E18: =+C18-D18 -> 200000
A19: 1712200750 | B19: קבלניות טיאוט | C19: 17500000 | D19: 200000 | E19: =+C19-D19 -> 17300000
A20: 1712300750 | B20: קבלניות איסוף אשפה | C20: 47000000 | D20: 300000 | E20: =+C20-D20 -> 46700000
A21: 1742000750 | B21: קבלניות אחזקת כבישים | C21: 500000 | D21: 100000 | E21: =+C21-D21 -> 400000
A22: 1746000750 | B22: קבלניות גינון | C22: 6300000 | D22: 200000 | E22: =+C22-D22 -> 6100000
A23: 1747000751 | B23: קבלניות לפארקים צמודי חוף וחופים לא מוכרזים | C23: 700000 | D23: 100000 | E23: =+C23-D23 -> 600000
A24: 1752000780 | B24: הוצאות שונות אגף את"ל | C24: 200000 | D24: 50000 | E24: =+C24-D24 -> 150000
A25: 1771000550 | B25: שיווק ויח"צ | C25: 700000 | D25: 200000 | E25: =+C25-D25 -> 500000
A26: 1771000780 | B26: אירועים עירוניים בנחלים | C26: 1850000 | D26: 360000 | E26: =+C26-D26 -> 1490000
A27: 1780000780 | B27: הוצאות שונות אגף אכיפה | C27: 350000 | D27: 50000 | E27: =+C27-D27 -> 300000
A28: 1800000753 | B28: הוצאות מרכז הוליסטי | C28: 850000 | D28: 100000 | E28: =+C28-D28 -> 750000
A29: 1811000750 | B29: יוזמות ראש העיר בחינוך | C29: 300000 | D29: 100000 | E29: =+C29-D29 -> 200000
... A37: 1870000750 | B37: קבלניות איכות סביבה | C37: 120000 | D37: 25000 | E37: =+C37-D37 -> 95000
A38: סה"כ | D38: =SUM(D18:D37) -> 3085000

Sheet רווחה 
E1: טיוטת תקציב 2023 - אגף הרווחה
A2: הכנסות
A3: מחלקה | B3: סעיף במשרד הרווחה | C3: סעיף | E3: תאור | F3: תקציב 2022 | G3: תקציב 2022 לאחר ויסותים במועצה | H3: תקציב 2023 | I3: הערות
A4: מינהל רווחה | C4: 490 | D4: 341000 | E4: משירותי רווחה | F4: 30000 | G4: 30000 | H4: 30000 | L4: 1341000490
C5: 930 | D5: 341000 | E5: ממשלה למנהל רווחה | F5: 12148000 | G5: 12037885 | H5: =+F5/[1]הוצאות!F4*[1]הוצאות!H4 -> 13210033 | I5: ליווי הסעות יצא לסעיפים נפרדים | J5: =+F5/[1]הוצאות!F4 -> 0.53583875 | K5: =+H5/[1]הוצאות!H4 -> 0.53583875 | L5: 1341000930 | M5: לעשות אומדן יותר מדוייק לפי דוח כ"א משרד הרווחה 9/22 (של גליה)
E6: מוגנות רווחה | F6: 338000 | G6: 0 | H6: =+'[1]פירוט תקציב מוגנות'!B12 -> 436446.58
A7: סה"כ מינהל רווחה | C7: 999 | D7: 341000 | F7: =SUM(F4:F6) -> 12516000 | G7: =SUM(G4:G6) -> 12067885 | H7: =SUM(H4:H6) -> 13676479
A8: רווחת הפרט והמשפחה | C8: 490 | D8: 342000 | E8: טיפול במשפחה - השתתפות פונים | F8: 254000 | G8: 254000 | H8: =269/8*12*1000 -> 403500 | I8: אומדן לפי גבייה בפועל עד אוגוסט | L8: 1342000490
C9: 933 | D9: 342200 | E9: מרכז עצמה | F9: 260000 | G9: 260000 | H9: =[1]הוצאות!H18 -> 256842.67 | L9: 1342200933
C10: 930 | D10: 342400 | E10: השתתפות בשכר עובדי אלימות | F10: 723000 | G10: 723000 | H10: 740000 | L10: 1342400930
C11: 931 | D11: 342400 | E11: טיפול באלכוהוליסטים | F11: 268000 | G11: 268000 | H11: =(15*278*12+53*293*12)*0.75+17*457*12+5*1482*12*0.75+5*1739*12+20000*0.75 -> 456549 | L11: 1342400931
C12: 939 | D12: 347300 | E12: מרכז יום התמכרויות | F12: 167000 | G12: 167000 | H12: 0 | L12: 1347300939
C13: 932 | D13: 342400 | E13: משפחות במצוקה בקהילה | F13: 330000 | G13: 330000 | H13: =+[1]הוצאות!H15*0.75+500 -> 188000 | L13: 1342400932
C14: 934 | D14: 342400 | E14: טיפול בפרט ובמשפחה | F14: 81000 | G14: 81000 | H14: =[1]הוצאות!H27*0.75 -> 624684 | L14: 1342400934
C15: 935 | D15: 342400 | E15: טיפול בדרי רחוב | F15: 756000 | G15: 756000 | H15: =+[1]הוצאות!H16*0.75+[1]הוצאות!H17*0.75 -> 663000 | L15: 1342400935
C16: 936 | D16: 342400 | E16: תחנה לטיפול משפחתי | F16: 314000 | G16: 314000 | H16: =(12090*12+43218*12+5184*12)*0.75 -> 544428 | L16: 1342400936
C17: 938 | D17: 342410 | E17: מודל קליטה ליוצאי צרפת | F17: 258000 | G17: 258000 | H17: =([1]הוצאות!H19+[1]הוצאות!H20)*0.75 -> 260820 | L17: 1342410938
E18: פעולות הדרך החדשה | F18: 394000 | G18: 0 | H18: =[1]הוצאות!H21+[1]הוצאות!H22 -> 409000 | L18: 1
A19: סה"כ רווחת הפרט והמשפחה | C19: 999 | D19: 342000 | F19: =SUM(F8:F18) -> 3805000 | G19: =SUM(G8:G18) -> 3411000 | H19: =SUM(H8:H18) -> 4546823.7 | L19: 1342000999
A20: שירותים לילד ולנוער | C20: 930 | D20: 343500 | E20: טיפול בהורים וילדיהם | F20: 583000 | G20: 583000 | H20: =+[1]הוצאות!H30*0.75+[1]הוצאות!H31*0.75 -> 612000 | L20: 1343500930
C21: 931 | D21: 343500 | E21: יצירת קשר הורים ילדים | F21: 198000 | G21: 198000 | H21: 0 | L21: 1343500931
C22: 932 | D22: 343500 | E22: טיפול בילד בקהילה | F22: 1408000 | G22: 1408000 | H22: =+[1]הוצאות!H29*0.75+[1]הוצאות!H33*0.75 -> 1446222.2 | L22: 1343500932
C23: 934 | D23: 343500 | E23: טיפול בילדים בסיכון + הפעלת חוק סדרי דין | F23: 225000 | G23: 225000 | H23: =+[1]הוצאות!H34*0.75 -> 0 | L23: 1343500934
C24: 420 | D24: 343800 | E24: אחזקת ילדים בפנימיות-השתתפות פונים | F24: 700000 | G24: 700000 | H24: 850000 | L24: 1343800420 | O24: 1343800930 | P24: 1843800820
C25: 930 | D25: 343800 | E25: ממשלה לטיפול בילד | F25: 12250000 | G25: 12250000 | H25: =+O26 -> 10757582 | L25: 1343800930 | N25: ביצוע 1-10/21 | O25: 9819064 | P25: 13262961 | Q25: =+O25/P25 -> 0.74033724
C26: 931 | D26: 343800 | E26: טיפול במשפחות אומנה | F26: 889000 | G26: 889000 | H26: =+[1]הוצאות!H38*0.75 -> 887793 | L26: 1343800931 | N26: תקציב 2022 | O26: =+P26*Q25 -> 10757582 | P26: =+[1]הוצאות!H37 -> 14530651
C27: 934 | D27: 343800 | E27: תוכנית לאומית לילד ולנוער | F27: 671000 | G27: 671000 | H27: =+[1]הוצאות!H36+[1]הוצאות!H39 -> 630725 | L27: 1343800934
C28: 930 | D28: 343900 | E28: ילדים במעונות יום | F28: 2925000 | G28: 2925000 | H28: =+[1]הוצאות!H41*0.75 -> 3122134 | L28: 1343900930
C29: 931 | D29: 343900 | E29: שכר תוכנית לאומית לנוער וצעירים | F29: 50000 | G29: 50000 | H29: =+'[1]מימון חלקי'!G149 -> 50000 | L29: 1343900931
C30: 934 | D30: 343900 | E30: תוכנית בשבילי | F30: 113000 | G30: 113000 | H30: =+([1]הוצאות!H43+[1]הוצאות!H42)*0.75 -> 154638 | L30: 1343900934
C31: 935 | D31: 343900 | E31: טיפול בפגיעות מיניות | F31: 359999.62 | G31: 360000 | H31: =+[1]הוצאות!H44*0.75 -> 344459 | L31: 1343900935
A32: סה"כ שירותים לילד ולנוער | C32: 999 | D32: 343000 | F32: =SUM(F20:F31) -> 20372000 | G32: =SUM(G20:G31) -> 20372000 | H32: =SUM(H20:H31) -> 18855553 | L32: 1343000999
A33: =+[1]הוצאות!A46 -> אזרחים ותיקים | B33: 242410 | C33: 420 | D33: 344000 | E33: מתושבים לבתי אבות | F33: 470000 | G33: 470000 | H33: =+G33 -> 470000 | L33: 1344000420
B34: 242410 | C34: 930 | D34: 344300 | E34: =+[1]הוצאות!E46 -> אחזקה במעונות אזרח ותיק | F34: 3718000 | G34: 3718000 | H34: =+([1]הוצאות!H46)*0.75 -> 3900000 | L34: 1344300930
B35: 243414 | C35: 931 | D35: 344300 | E35: שכונה תומכת | F35: 146000 | G35: 146000 | H35: =[1]הוצאות!H47*0.75 -> 0 | L35: 1344300931
B36: 243412 | C36: 932 | D36: 344300 | E36: מופ"ת ניצולי שואה | F36: 607000 | G36: 607000 | H36: =+[1]הוצאות!H49 -> 0 | L36: 1344300932
B37: 243420 | C37: 938 | D37: 344300 | E37: מועדונים אזרח ותיק | F37: 121000 | G37: 121000 | H37: =+[1]הוצאות!H50*0.75 -> 0 | L37: 1344300938
B38: 243411 | C38: 939 | D38: 344300 | E38: מועדונים מועשרים | F38: 455000 | G38: 455000 | H38: =+[1]הוצאות!H51*0.75 -> 0 | L38: 1344300939
B39: 243415 | C39: 933 | D39: 344300 | E39: טיפול בקהילה אזרח ותיק | F39: 173000 | G39: 173000 | H39: =[1]הוצאות!H52*0.75 -> 181500 | L39: 1344300933
E40: מגן זהב | F40: 344000 | G40: 0 | H40: =[1]הוצאות!H53*0.75 -> 214500
B41: 243410 | C41: 935 | D41: 344300 | E41: מרכזי יום אזרח ותיק | F41: 750000 | G41: 750000 | H41: =[1]הוצאות!H56*0.75 -> 0 | L41: 1344300935
B42: 243417 | C42: 936 | D42: 344300 | E42: נופשון לאזרח ותיק | F42: 30000 | G42: 30000 | H42: =[1]הוצאות!H48*0.75 -> 30000 | L42: 1344300936
B43: 243413, 243430, 243432 | C43: 932 | D43: 344400 | E43: טיפול בניצולי שואה | F43: 1249000 | G43: 1249000 | H43: =+[1]הוצאות!H54 -> 130000 | L43: 1344400932
B44: 243434,243435, 243436 | E44: הפגות לניצולי שואה | F44: 276000 | G44: 0 | H44: =[1]הוצאות!H55 -> 0 | L44: 1
E45: הזדקנות מיטבית קהילה | F45: =[1]הוצאות!F56 -> 1000000 | G45: =[1]הוצאות!G56 -> 1000000 | H45: =+[1]הוצאות!H57*0.75 -> 1370250
E46: שירותים לניצולי שואה | F46: =[1]הוצאות!F57 -> 0 | G46: =[1]הוצאות!G57 -> 0 | H46: =+[1]הוצאות!H58 -> 1596000
E47: דיווח רשות אזרחים ותיקים | F47: =[1]הוצאות!F58 -> 0 | G47: =[1]הוצאות!G58 -> 0 | H47: =320000*0.75+160000+276000+79188*0.75+40000*0.75-188 -> 765203
A48: =+[1]הוצאות!A60 -> סה"כ אזרחים ותיקים | C48: 999 | D48: 344000 | F48: =SUM(F33:F44) -> 8339000 | G48: =SUM(G33:G44) -> 7719000 | H48: =SUM(H33:H47) -> 8657453 | L48: 1344000999
A49: שירותים למפגר | C49: 930 | D49: 345100 | E49: סידור מפגרים במוסדות | F49: 16877000 | G49: 16877000 | H49: =+[1]הוצאות!H61*0.75 -> 16485122 | L49: 1345100930 | M49: =L49-'הכנסות '!B158 -> 0
C50: 931 | D50: 345100 | E50: מפגרים במוסד ממשלתי | F50: 3128000.1 | G50: 3128000 | H50: =+[1]הוצאות!H62*0.75 -> 2979376 | L50: 1345100931 | M50: =L50-'הכנסות '!B159 -> 0
C51: 932 | D51: 345100 | E51: מסגרות יום ארוך | F51: 533000 | G51: 533000 | H51: =8*2776*12*0.75+10*2776*12+8 -> 533000 | L51: 1345100932 | M51: =L51-'הכנסות '!B160 -> 0
C52: 933 | D52: 345100 | E52: טיפול בהורים וילדיהם | F52: 1057000 | G52: 1057000 | H52: =+[1]הוצאות!H66*0.75 -> 524483 | L52: 1345100933 | M52: =L52-'הכנסות '!B161 -> 0
C53: 934 | D53: 345100 | E53: מפגרים במעון טיפולי | F53: 1622000.3 | G53: 1622000 | H53: =+[1]הוצאות!H67*0.75 -> 2455437 | L53: 1345100934 | M53: =L53-'הכנסות '!B162 -> 0
C54: 938 | D54: 345100 | E54: השתתפות במסגרת מגורים במעון אמוני | F54: 20000 | G54: 20000 | H54: =+[1]הוצאות!H68*0.75 -> 23251 | L54: 1345100938 | M54: =L54-'הכנסות '!B163 -> 3
C55: 939 | D55: 345100 | E55: משפחות אומנה למפגר | F55: 59000 | G55: 59000 | H55: =+[1]הוצאות!H64*0.75 -> 47035 | L55: 1345100939 | M55: =L55-'הכנסות '!B164 -> 1
C56: 930 | D56: 345200 | E56: אחזקת אוטיסטים | F56: 8107000 | G56: 8107000 | H56: =+[1]הוצאות!H63 -> 8735387 | L56: 1345200930 | M56: =L56-'הכנסות '!B165 -> 99991
C57: 933 | D57: 345200 | E57: הוצאות אחרות + תשלומים לחניכים | F57: 3379999.7 | G57: 3380000 | H57: =+'[1]מע"ש + גל אור'!F23+'[1]מע"ש + גל אור'!F25+73 -> 3497449 | L57: 1345200933 | M57: =L57-'הכנסות '!B166 -> 3
C58: 934 | D58: 345200 | E58: מרכז יום תעסוקה לבוגרים אוטיסטים | F58: 600000 | G58: 600000 | H58: =+[1]הוצאות!H69*0.75 -> 494516 | L58: 1345200934 | M58: =L58-'הכנסות '!B167 -> 3
C59: 935 | D59: 345200 | E59: נופשונים וקייטנות לאוטיסטים | F59: 11000 | G59: 11000 | H59: =+[1]הוצאות!H70*0.75 -> 9688 | L59: 1345200935 | M59: =L59-'הכנסות '!B168 -> 2
C60: 936 | D60: 345200 | E60: מועדון לילדים ובוגרים אוטיסטים | F60: 30000 | G60: 30000 | H60: =+[1]הוצאות!H71*0.75 -> 35250 | L60: 1345200936 | M60: =L60-'הכנסות '!B169 -> 2
E61: הסעות + ליווי לאוטיסטים בתעסוקה נתמכת | F61: 123000.32 | G61: 0 | H61: =+[1]הוצאות!H72*0.75 -> 164874 | L61: 1 | M61: =L61-'הכנסות '!B170 -> -1345200934
C62: 610 | D62: 345400 | E62: הכנסות ממע"ש מכירות | F62: 388000.33 | G62: 388000 | H62: =+'[1]מע"ש + גל אור'!F24 -> 530689.33 | L62: 1345400610 | M62: =L62-'הכנסות '!B171 -> 199674
C63: 930 | D63: 345400 | E63: חניכים במע"ש - חוץ | F63: 230000 | G63: 230000 | H63: =+[1]הוצאות!H79*0.75 -> 220500 | L63: 1345400930 | M63: =L63-'הכנסות '!B172 -> 199993
C64: 932 | D64: 345400 | E64: הסעות למפגר | F64: 685000.29 | G64: 685000 | H64: =+[1]הוצאות!H80*0.75-[1]הסעות!C4*0.75-[1]הסעות!C5*0.75 -> 537567.91 | L64: 1345400932 | M64: =L64-'הכנסות '!B173 -> 322
C65: 933 | D65: 345400 | E65: מועדונים חברתיים למפגר - אקי"ם | F65: 73000 | G65: 73000 | H65: =+[1]הוצאות!H81*0.75 -> 0 | L65: 1345400933 | M65: =L65-'הכנסות '!B174 -> 3
A66: סה"כ שירותים למפגר | C66: 999 | D66: 345000 | F66: =SUM(F49:F65) -> 36923001 | G66: =SUM(G49:G65) -> 36800000 | H66: =SUM(H49:H65) -> 37273625 | L66: 1345000999 | M66: =L66-'הכנסות '!B175 -> -399933
A67: שירותי אבחון ושיקום | C67: 930 | D67: 346100 | E67: ילדים עוורים בקהילה | F67: 15000 | G67: 15000 | H67: =+[1]הוצאות!H86*0.75 -> 15000 | L67: 1346100930 | M67: =L67-'הכנסות '!B176 -> 699997
C68: 932 | D68: 346300 | E68: שיקום העיוור בקהילה | F68: 36000 | G68: 36000 | H68: =+[1]הוצאות!H84*0.75 -> 0 | L68: 1346300932 | M68: =L68-'הכנסות '!B177 -> 1346300932
C69: 934 | D69: 346300 | E69: הדרכת עיוור ובני ביתו | F69: 79000 | G69: 79000 | H69: =+[1]הוצאות!H85*0.75 -> 96363 | L69: 1346300934 | M69: =L69-'הכנסות '!B178 -> 200004
C70: 937 | D70: 346400 | E70: תעסוקה נתמכת לנכים | F70: 232000 | G70: 232000 | H70: =+[1]הוצאות!H87*0.75 -> 134621 | L70: 1346400937 | M70: =L70-'הכנסות '!B179 -> 100005
C71: 930 | D71: 346500 | E71: נכים במשפחות אומנה | F71: 161000 | G71: 161000 | H71: =+[1]הוצאות!H90*0.75 -> 148558.5 | L71: 1346500930 | M71: =L71-'הכנסות '!B180 -> 199996
C72: 933 | D72: 346500 | E72: טיפול במשפחות אומנה | F72: 32000 | G72: 32000 | H72: =+[1]הוצאות!H91*0.75 -> 31142 | L72: 1346500933 | M72: =L72-'הכנסות '!B181 -> 99996
C73: 937 | D73: 346500 | E73: אחזקת נכים בפנימיות | F73: 5191000.1 | G73: 5191000 | H73: =+[1]הוצאות!H88*0.75 -> 7047635.5 | L73: 1346500937 | M73: =L73-'הכנסות '!B182 -> 7
C74: 938 | D74: 346500 | E74: מעונות ממשלתיים שיקום | F74: 115000 | G74: 115000 | H74: =+[1]הוצאות!H89*0.75 -> 89064 | L74: 1346500938 | M74: =L74-'הכנסות '!B183 -> 5
C75: 930 | D75: 346600 | E75: מסגרות לילד המוגבל | F75: 157000 | G75: 157000 | H75: =+[1]הוצאות!H93*0.75 -> 64835 | L75: 1346600930 | M75: =L75-'הכנסות '!B184 -> 99993
C76: 931 | D76: 346600 | E76: הסעות לגן שיקומי | F76: 674999.7 | G76: 675000 | H76: =+[1]הוצאות!H94*0.75 -> 973500.19 | L76: 1346600931 | M76: =L76-'הכנסות '!B185 -> 99993
C77: 932 | D77: 346600 | E77: ליווי להסעות לגן שיקומי | F77: 540000 | G77: 540000 | H77: =+[1]הוצאות!H95*0.47 -> 554130 | L77: 1346600932 | M77: =L77-'הכנסות '!B186 -> 2
C78: 933 | D78: 346600 | E78: נופשונים והבראה לנכים | F78: 45000 | G78: 45000 | H78: =+[1]הוצאות!H96*0.75 -> 23961 | L78: 1346600933 | M78: =L78-'הכנסות '!B187 -> 2
C79: 936 | D79: 346600 | E79: מעון יום שיקומי לנכים | F79: 2250000 | G79: 2250000 | H79: =+[1]הוצאות!H97*0.75 -> 1823300 | L79: 1346600936 | M79: =L79-'הכנסות '!B188 -> 4
C80: 937 | D80: 346600 | E80: מרכז יום לנכים קשים | F80: 222000 | G80: 222000 | H80: =+[1]הוצאות!H98*0.75 -> 177325 | L80: 1346600937 | M80: =L80-'הכנסות '!B189 -> 4
C81: 939 | D81: 346600 | E81: תעסוקה מוגנת למוגבל | F81: 375000 | G81: 375000 | H81: =+[1]הוצאות!H92*0.75 -> 322332 | L81: 1346600939 | M81: =L81-'הכנסות '!B190 -> 3
C82: 930 | D82: 346700 | E82: תוכניות לילד החריג | F82: 93000 | G82: 93000 | H82: =+[1]הוצאות!H100*0.75 -> 93564 | L82: 1346700930 | M82: =L82-'הכנסות '!B191 -> 99993
C83: 932 | D83: 346700 | E83: קהילה תומכת לנכים | F83: 206000 | G83: 206000 | H83: =70*339*12*0.75 -> 213570 | L83: 1346700932 | M83: =L83-'הכנסות '!B192 -> 99993
C84: 934 | D84: 346700 | E84: מועדונים חברתיים לבוגרים - רגיש נגיש | F84: 137000 | G84: 137000 | H84: =+([1]הוצאות!H105+[1]הוצאות!H83)*0.75 -> 187380 | L84: 1346700934 | M84: =L84-'הכנסות '!B193 -> 4
C85: 930 | D85: 346800 | E85: מרכזי אבחון ושיקום | F85: 53000 | G85: 53000 | H85: =+[1]הוצאות!H102*0.75 -> 53821 | L85: 1346800930 | M85: =L85-'הכנסות '!B194 -> 99998
C86: 931 | D86: 346800 | E86: שיקום נכים בקהילה | F86: 52000 | G86: 52000 | H86: =+[1]הוצאות!H103*0.75 -> 69599.983 | L86: 1346800931 | M86: =L86-'הכנסות '!B195 -> 99997
C87: 932 | D87: 346800 | E87: נכים קשים בקהילה | F87: 60000 | G87: 60000 | H87: =+[1]הוצאות!H104*0.75 -> 37400 | L87: 1346800932 | M87: =L87-'הכנסות '!B196 -> 2
B88: 722670 | C88: 936 | D88: 346800 | E88: מרכז למשפחה | F88: 274000 | G88: 274000 | H88: =([1]הוצאות!H106+[1]הוצאות!H107)*0.75 -> 232500 | L88: 1346800936 | M88: =L88-'הכנסות '!B197 -> 5
A89: סה"כ שירותי אבחון ושיקום | C89: 999 | D89: 346000 | F89: =SUM(F67:F88) -> 11000000 | G89: =SUM(G67:G88) -> 11000000 | H89: =SUM(H67:H88) -> 12389602 | L89: 1346000999 | M89: =L89-'הכנסות '!B198 -> -799933
A90: שרותי תקון | C90: 931 | D90: 347100 | E90: טיפול בנערות במצוקה | F90: 167000 | G90: 167000 | H90: =15*1302*12*0.75 -> 175770 | L90: 1347100931 | M90: =L90-'הכנסות '!B199 -> 299995
C91: 935 | D91: 347100 | E91: מקלטים לנשים מוכות | F91: 1062000 | G91: 1062000 | H91: =+[1]הוצאות!H111*0.75 -> 734250 | L91: 1347100935 | M91: =L91-'הכנסות '!B200 -> 1347100935
C92: 936 | D92: 347100 | E92: טיפול בנערים ונערות בדיווח | F92: 64000 | G92: 64000 | H92: =(+[1]הוצאות!H112+[1]הוצאות!H113)*0.75 -> 63750 | L92: 1347100936 | M92: =L92-'הכנסות '!B201 -> 5
C93: 920 | D93: 347300 | E93: שכר עובדי שיקום האסיר | F93: 90000 | G93: 90000 | H93: 90000 | L93: 1347300920 | M93: =L93-'הכנסות '!B202 -> 199985
C94: 935 | D94: 347300 | E94: מסגרות חוץ ביתיות לאסירים משוחררים ומכורים | F94: 180000 | G94: 0 | H94: =+[1]הוצאות!H115*0.75 -> 468000 | L94: 1347300935
C95: 938 | D95: 347300 | E95: שכר איתור נוער מכור | F95: 168000 | G95: 168000 | H95: =225000*0.75 -> 168750 | L95: 1347300938 | M95: להכניס לסעיף של הדיווח
C96: 935 | D96: 347400 | E96: נוח"ם - נוער חרדי מנותק | F96: 206000 | G96: 206000 | H96: =+([1]הוצאות!H122+[1]הוצאות!H123)*0.75 -> 217575 | L96: 1347400935
E97: איתור נוחם | F97: 220000 | G97: 0 | H97: =+[1]הוצאות!H124*0.75+[1]הוצאות!H125*0.75 -> 220500
E98: בית חם מערות חרדיות | F98: 121000 | G98: 0 | H98: 121000
C99: 937 | D99: 347400 | E99: מפתן חוץ | F99: 23000 | G99: 23000 | H99: =+[1]הוצאות!H118*0.75 -> 26007 | L99: 1347400937
C100: 938 | D100: 347400 | E100: מיתר נירים | F100: 998000 | G100: 998000 | H100: =+([1]הוצאות!H120+[1]הוצאות!H126)*0.75 -> 1306845 | L100: 1347400938
...

Sheet ארנונה 
A1: הבטחתי שתקבלו היום ...בבקשה באש"ח :
A3: ארנונה – 410,000
A4: שמירה – 7,200
A5: שילוט - 7,100
A6: הנחות – 64,000
A9: שם-טוב שמבי
A10: סגן גזבר, מנהל הארנונה וממונה על הכנסות העירייה
A11: טלפון – 04-6303346 | פקס – 04-6303282

Sheet הנדסה
B1: סעיף | E1: תאור | F1: תקציב 2022 | G1: בקשות לתקציב 2023 | H1: הסברים/ הערות
A2: 1731000410 | B2: 410 | C2: 731000 | D2: 1 | E2: שכר דירה ודמי חכירה | F2: 83000 | G2: 100000 | H2: חוזה ישן עד 5/23, 83 אשח לשנה לרישוי ומבניציבור+ חוזה חדש 16 אשח לחודש לפני מעמ מחולק לרישוי עסקים ומבני ציבור
A3: 1731000430 | B3: 430 | C3: 731000 | D3: 1 | E3: חשמל | F3: 6000 | G3: 4000
A4: 1731000522 | B4: 522 | C4: 731000 | D4: 1 | E4: ספרות מקצועית | F4: 6000 | G4: 6000
A5: 1731000530 | B5: 530 | C5: 731000 | D5: 1 | E5: אחזקת רכב וביטוח | F5: 160000 | G5: 125000 | H5: נדב 80+ נילי 45
A6: 1731000540 | B6: 540 | C6: 731000 | D6: 1 | E6: טלפון דואר ומכשירים ניידים | F6: 6000 | G6: 6000
A7: 1731000780 | B7: 780 | C7: 731000 | D7: 1 | E7: הוצאות אחרות | F7: 642000 | G7: 565400 | H7: יועץ הפקעות , הסדרת זכויות, לווי וטיפול בהקצאות , פרסום ( איתור גובלים ), משקיפים
A8: 1732000750 | B8: 750 | C8: 732000 | D8: 1 | E8: עבודות קבלניות | F8: 225000 | G8: 325000 | H8: סימפלקס פרסומים, והוצאות לפרויקטים
A9: 1732000530 | B9: 750 | C9: 732000 | G9: 75000 | H9: רכב רונה
A10: 1733000530 | C10: 733000 | E10: אחזקת רכב | G10: 75000 | H10: רכב פיקוח בניה
A11: 1734000410 | B11: 410 | C11: 734000 | D11: 1 | E11: שכר דירה ודמי חכירה | F11: 490000 | G11: 400000 | H11: 50% נכסים 50% תשתיות
A12: 1734000530 | B12: 530 | C12: 734000 | D12: 1 | E12: אחזקת רכב וביטוח | F12: 65000 | G12: 75000
A13: 1734000750 | B13: 750 | C13: 734000 | D13: 1 | E13: עבודות קבלניות | F13: 2278000 | G13: 2610000 | H13: יועץ תנועה , פרילנס תוכניות ותחצ, מיקור חוץ , מנהל מחלקת תנועה , מנהל מחלקת פרויקטים , מהנדס ניקוז
A14: 1764000540 | B14: 540 | C14: 764000 | D14: 1 | E14: טלפון דואר ומכשירים ניידים | F14: 3000 | G14: 3000
A15: 1764000780 | B15: 780 | C15: 764000 | D15: 1 | E15: הוצאות אחרות | F15: 5000 | G15: 12000

Sheet מלוות
A1: בנק גובה | B1: מס' מלווה בבנק | C1: מס' המלווה | D1: תאריך החזר | E1: פקודת יומן | F1: סכום קרן | G1: הצמדה קרן | H1: סכום ריבית | I1: הצמדה ריבית | J1: עמלה | K1: סה"כ לתשלום | L1: סטטוס
A2: 10953 | B2: 427813 | C2: 10007792 | D2: 30.01.23 | F2: 62211.73 | G2: 0.12 | H2: 1733.15 | I2: 0 | K2: 63945
A3: 10953 | B3: 427813 | C3: 10007792 | D3: 30.04.23 | F3: 62639.44 | G3: 0.12 | H3: 1305.44 | I3: 0 | K3: 63945
A4: 10953 | B4: 427813 | C4: 10007792 | D4: 30.07.23 | F4: 63070.08 | G4: 0.13 | H4: 874.8 | I4: 0 | K4: 63945.01
A5: 10953 | B5: 427813 | C5: 10007792 | D5: 30.10.23 | F5: 63503.77 | G5: 0.13 | H5: 441.11 | I5: 0 | K5: 63945.01
A6: 10953 | B6: 427821 | C6: 10007793 | D6: 30.03.23 | F6: 127118.88 | G6: 0.26 | H6: 4077.83 | I6: 0.01 | K6: 131196.98
A7: 10953 | B7: 427821 | C7: 10007793 | D7: 30.06.23 | F7: 128126.3 | G7: 0.26 | H7: 3070.41 | I7: 0.01 | K7: 131196.98
A8: 10953 | B8: 427821 | C8: 10007793 | D8: 30.09.23 | F8: 129141.7 | G8: 0.26 | H8: 2055.01 | I8: 0 | K8: 131196.97
A9: 10953 | B9: 427821 | C9: 10007793 | D9: 30.12.23 | F9: 130165.48 | G9: 0.27 | H9: 1031.23 | I9: 0 | K9: 131196.98
A10: 10953 | B10: 427839 | C10: 10007794 | D10: 30.01.23 | F10: 24238.13 | G10: 0 | H10: 4271 | I10: 0 | K10: 28509.13
A11: 10953 | B11: 427839 | C11: 10007794 | D11: 28.02.23 | F11: 24298.73 | G11: 0 | H11: 4210.4 | I11: 0 | K11: 28509.13
A12: 10953 | B12: 427839 | C12: 10007794 | D12: 30.03.23 | F12: 24359.48 | G12: 0 | H12: 4149.65 | I12: 0 | K12: 28509.13
A13: 10953 | B13: 427839 | C13: 10007794 | D13: 30.04.23 | F13: 24420.38 | G13: 0 | H13: 4088.75 | I13: 0 | K13: 28509.13
... A129: 12072 | B129: 1346118 | C129: 12007728 | D129: 02.12.23 | F129: 63290 | G129: 0.13 | H129: 9339.94 | I129: 0.02 | K129: 72630.09
A130: 12072 | B130: 1745000119 | C130: 12007730 | D130: 02.01.23 | F130: 22220 | G130: 0.04 | H130: 1746.28 | I130: 0 | J130: 4.6 | K130: 23970.92
A131: 12072 | B131: 1745000119 | C131: 12007730 | D131: 02.02.23 | F131: 22220 | G131: 0.04 | H131: 1686.1 | I131: 0 | J131: 4.6 | K131: 23910.74
A132: 12072 | B132: 1745000119 | C132: 12007730 | D132: 02.03.23 | F132: 22220 | G132: 0.04 | H132: 1625.92 | I132: 0 | J132: 4.6 | K132: 23850.56
A133: 12072 | B133: 1745000119 | C133: 12007730 | D133: 02.04.23 | F133: 22220 | G133: 0.04 | H133: 1565.74 | I133: 0 | J133: 4.6 | K133: 23790.38
A134: 12072 | B134: 1745000119 | C134: 12007730 | D134: 02.05.23 | F134: 22220 | G134: 0.04 | H134: 1505.56 | I134: 0 | J134: 4.6 | K134: 23730.2
A135: 12072 | B135: 1745000119 | C135: 12007730 | D135: 02.06.23 | F135: 22220 | G135: 0.04 | H135: 1445.38 | I135: 0 | J135: 4.6 | K135: 23670.02
A136: 12072 | B136: 1745000119 | C136: 12007730 | D136: 02.07.23 | F136: 22220 | G136: 0.04 | H136: 1385.2 | I136: 0 | J136: 4.6 | K136: 23609.84
A137: 12072 | B137: 1745000119 | C137: 12007730 | D137: 02.08.23 | F137: 22220 | G137: 0.04 | H137: 1325.02 | I137: 0 | J137: 4.6 | K137: 23549.66
A138: 12072 | B138: 1745000119 | C138: 12007730 | D138: 02.09.23 | F138: 22220 | G138: 0.04 | H138: 1264.85 | I138: 0 | J138: 4.6 | K138: 23489.49
A139: 12072 | B139: 1745000119 | C139: 12007730 | D139: 02.10.23 | F139: 22220 | G139: 0.04 | H139: 1204.67 | I139: 0 | J139: 4.6 | K139: 23429.31
A140: 12072 | B140: 1745000119 | C140: 12007730 | D140: 02.11.23 | F140: 22220 | G140: 0.04 | H140: 1144.49 | I140: 0 | J140: 4.6 | K140: 23369.13
A141: 12072 | B141: 1745000119 | C141: 12007730 | D141: 02.12.23 | F141: 22220 | G141: 0.04 | H141: 1084.31 | I141: 0 | J141: 4.6 | K141: 23308.95
A142: 12072 | B142: 1745018 | C142: 12007731 | D142: 21.01.23 | F142: 45700 | G142: 0 | H142: 10394.43 | I142: 0 | K142: 56094.43
A143: 12072 | B143: 1745018 | C143: 12007731 | D143: 21.02.23 | F143: 45700 | G143: 0 | H143: 10234.48 | I143: 0 | K143: 55934.48
A144: 12072 | B144: 1745018 | C144: 12007731 | D144: 21.03.23 | F144: 45700 | G144: 0 | H144: 10074.53 | I144: 0 | K144: 55774.53
A145: 12072 | B145: 1745018 | C145: 12007731 | D145: 21.04.23 | F145: 45700 | G145: 0 | H145: 9914.58 | I145: 0 | K145: 55614.58
A146: 12072 | B146: 1745018 | C146: 12007731 | D146: 21.05.23 | F146: 45700 | G146: 0 | H146: 9754.63 | I146: 0 | K146: 55454.63
A147: 12072 | B147: 1745018 | C147: 12007731 | D147: 21.06.23 | F147: 45700 | G147: 0 | H147: 9594.68 | I147: 0 | K147: 55294.68
A148: 12072 | B148: 1745018 | C148: 12007731 | D148: 21.07.23 | F148: 45700 | G148: 0 | H148: 9434.73 | I148: 0 | K148: 55134.73
A149: 12072 | B149: 1745018 | C149: 12007731 | D149: 21.08.23 | F149: 45700 | G149: 0 | H149: 9274.78 | I149: 0 | K149: 54974.78
A150: 12072 | B150: 1745018 | C150: 12007731 | D150: 21.09.23 | F150: 45700 | G150: 0 | H150: 9114.83 | I150: 0 | K150: 54814.83
A151: 12072 | B151: 1745018 | C151: 12007731 | D151: 21.10.23 | F151: 45700 | G151: 0 | H151: 8954.88 | I151: 0 | K151: 54654.88
A152: 12072 | B152: 1745018 | C152: 12007731 | D152: 21.11.23 | F152: 45700 | G152: 0 | H152: 8794.93 | I152: 0 | K152: 54494.93
A153: 12072 | B153: 1745018 | C153: 12007731 | D153: 21.12.23 | F153: 45700 | G153: 0 | H153: 8634.98 | I153: 0 | K153: 54334.98
... A213: 12072 | B213: 1345000 | C213: 12007736 | D213: 27.12.23 | F213: 138888.89 | G213: 0 | H213: 44721.69 | I213: 0 | K213: 183610.58
A214: 12620 | C214: 12007737 | D214: 28.01.23 | F214: 102564.1 | G214: 0 | H214: 48425.43 | I214: 0 | K214: 150989.53
A215: 12620 | C215: 12007737 | D215: 28.02.23 | F215: 102564.1 | G215: 0 | H215: 48058.94 | I215: 0 | K215: 150623.04
A216: 12620 | C216: 12007737 | D216: 28.03.23 | F216: 102564.1 | G216: 0 | H216: 43069.61 | I216: 0 | K216: 145633.71
A217: 12620 | C217: 12007737 | D217: 28.04.23 | F217: 102564.1 | G217: 0 | H217: 47325.96 | I217: 0 | K217: 149890.06
A218: 12620 | C218: 12007737 | D218: 28.05.23 | F218: 102564.1 | G218: 0 | H218: 45442.03 | I218: 0 | K218: 148006.13
