Workbook

Sheet סיכום (1)
A1: תקציב עיריית חדרה לשנת 2023
A3: סעיף | B3: תקציב 2022 | C3: אומדן 2022 | D3: תקציב 2023 | E3: שיעור גידול מתקציב 2022 | F3: שיעור גידול מביצוע 2021
A4: הוצאות שכר שוטף | B4: ='נספח 1 - התקציב הרגיל (2)'!B28+'נספח 1 - התקציב הרגיל (2)'!B32+'נספח 1 - התקציב הרגיל (2)'!B35 -> 304489567 | C4: ='נספח 1 - התקציב הרגיל (2)'!C28+'נספח 1 - התקציב הרגיל (2)'!C32+'נספח 1 - התקציב הרגיל (2)'!C35 -> 300071700 | D4: ='נספח 1 - התקציב הרגיל (2)'!D28+'נספח 1 - התקציב הרגיל (2)'!D32+'נספח 1 - התקציב הרגיל (2)'!D35 -> 3.25778e+08 | E4: =+(D4-B4)/B4 -> 0.069915149 | F4: =+(D4-C4)/C4 -> 0.085667194
A5: הוצאות לפעילות | B5: ='נספח 1 - התקציב הרגיל (2)'!B48-'סיכום (1)'!B4 -> 4.8864243e+08 | C5: ='נספח 1 - התקציב הרגיל (2)'!C48-'סיכום (1)'!C4 -> 489832000 | D5: ='נספח 1 - התקציב הרגיל (2)'!D48-'סיכום (1)'!D4+1 -> 5.12282e+08 | E5: =+(D5-B5)/B5 -> 0.048378049 | F5: =+(D5-C5)/C5 -> 0.045832042
A6: סה"כ הוצאות | B6: ='נספח 1 - התקציב הרגיל (2)'!B48 -> 7.93132e+08 | C6: ='נספח 1 - התקציב הרגיל (2)'!C48 -> 789903700 | D6: ='נספח 1 - התקציב הרגיל (2)'!D48 -> 8.3806e+08 | E6: =+(D6-B6)/B6 -> 0.056646308 | F6: =+(D6-C6)/C6 -> 0.060964773
A7: סה"כ הכנסות | B7: ='נספח 1 - התקציב הרגיל (2)'!B25 -> 7.93132e+08 | C7: ='נספח 1 - התקציב הרגיל (2)'!C25 -> 788707000 | D7: ='נספח 1 - התקציב הרגיל (2)'!D25 -> 8.3806e+08 | E7: =+(D7-B7)/B7 -> 0.056646309 | F7: =+(D7-C7)/C7 -> 0.062574568
A8: הפרש בין הכנסות להוצאות | B8: =+B7-B6 -> -0.38500011 | C8: =+C7-C6 -> -1196700 | D8: =+D7-D6 -> 0.16845298

Sheet נספח 1 - התקציב הרגיל (2)
A1: התקציב הרגיל של הרשות לשנת 2023
A2: דו"ח הכנסות והוצאות
A4: הסעיף התקציבי | B4: תקציב 2022 | C4: אומדן 2022 | D4: תקציב 2023
A6: ארנונה כללית | B6: ='תקציב 2022'!J7-3085000 -> 402739000 | C6: ='ריכוז תקבולים ותשלומים 2022 3'!J7 -> 417945000 | D6: ='ריכוז תקבולים ותשלומים 2023 4'!I7-8000000 -> 420700000
A7: מפעל המים | B7: ='תקציב 2022'!J39 -> 10000 | C7: ='ריכוז תקבולים ותשלומים 2022 3'!J39 -> 11000 | D7: ='ריכוז תקבולים ותשלומים 2023 4'!I39 -> 10000
A8: עצמיות חינוך | B8: ='תקציב 2022'!I29 -> 9723000 | C8: ='ריכוז תקבולים ותשלומים 2022 3'!I29 -> 9251000 | D8: ='ריכוז תקבולים ותשלומים 2023 4'!I29 -> 10088000
A9: עצמיות רווחה | B9: ='תקציב 2022'!I32 -> 2139000 | C9: ='ריכוז תקבולים ותשלומים 2022 3'!I32 -> 2225000 | D9: ='ריכוז תקבולים ותשלומים 2023 4'!I32 -> 2284000
A10: עצמיות אחר | B10: ='תקציב 2022'!I9+'תקציב 2022'!I11+'תקציב 2022'!I16+'תקציב 2022'!I17+'תקציב 2022'!I18+'תקציב 2022'!I23+'תקציב 2022'!I24+'תקציב 2022'!I28+'תקציב 2022'!I30+'תקציב 2022'!I34+'תקציב 2022'!I35+'תקציב 2022'!I41+'תקציב 2022'!I42+'תקציב 2022'!I44+'תקציב 2022'!I50 -> 82491732 | C10: ='ריכוז תקבולים ותשלומים 2022 3'!I9+'ריכוז תקבולים ותשלומים 2022 3'!I11+'ריכוז תקבולים ותשלומים 2022 3'!I25+'ריכוז תקבולים ותשלומים 2022 3'!I28+'ריכוז תקבולים ותשלומים 2022 3'!I30+'ריכוז תקבולים ותשלומים 2022 3'!I34+'ריכוז תקבולים ותשלומים 2022 3'!I35+'ריכוז תקבולים ותשלומים 2022 3'!I41+'ריכוז תקבולים ותשלומים 2022 3'!I42+'ריכוז תקבולים ותשלומים 2022 3'!I43+'ריכוז תקבולים ותשלומים 2022 3'!I48+'ריכוז תקבולים ותשלומים 2022 3'!I49 -> 74825000 | D10: =+'ריכוז תקבולים ותשלומים 2023 4'!I9+'ריכוז תקבולים ותשלומים 2023 4'!I11+'ריכוז תקבולים ותשלומים 2023 4'!I16+'ריכוז תקבולים ותשלומים 2023 4'!I17+'ריכוז תקבולים ותשלומים 2023 4'!I18+'ריכוז תקבולים ותשלומים 2023 4'!I19+'ריכוז תקבולים ותשלומים 2023 4'!I21+'ריכוז תקבולים ותשלומים 2023 4'!I23+'ריכוז תקבולים ותשלומים 2023 4'!I24+'ריכוז תקבולים ותשלומים 2023 4'!I28+'ריכוז תקבולים ותשלומים 2023 4'!I30+'ריכוז תקבולים ותשלומים 2023 4'!I34+'ריכוז תקבולים ותשלומים 2023 4'!I35+'ריכוז תקבולים ותשלומים 2023 4'!I41+'ריכוז תקבולים ותשלומים 2023 4'!I42+'ריכוז תקבולים ותשלומים 2023 4'!I44+'ריכוז תקבולים ותשלומים 2023 4'!I49+'ריכוז תקבולים ותשלומים 2023 4'!I50 -> 87930160
A11: סה"כ הכנסות עצמיות | B11: =SUBTOTAL(109,B5:B10) -> 497102732 | C11: =SUM(C6:C10) -> 504257000 | D11: =SUM(D6:D10) -> 5.2101216e+08
A12: תקבולים ממשרד החינוך | B12: ='תקציב 2022'!H29 -> 118385000 | C12: ='ריכוז תקבולים ותשלומים 2022 3'!H29 -> 119178000 | D12: ='ריכוז תקבולים ותשלומים 2023 4'!H29 -> 132803840
A13: תקבולים ממשרד הרווחה | B13: ='תקציב 2022'!H32 -> 96758785 | C13: ='ריכוז תקבולים ותשלומים 2022 3'!H32 -> 93675000 | D13: ='ריכוז תקבולים ותשלומים 2023 4'!H32 -> 1.01524e+08
A14: תקבולים ממשלתיים אחרים | B14: ='תקציב 2022'!H16+'תקציב 2022'!H17+'תקציב 2022'!H19+'תקציב 2022'!H30+'תקציב 2022'!H34 -> 10800483 | C14: ='ריכוז תקבולים ותשלומים 2022 3'!H16+'ריכוז תקבולים ותשלומים 2022 3'!H17+'ריכוז תקבולים ותשלומים 2022 3'!H19+'ריכוז תקבולים ותשלומים 2022 3'!H30+'ריכוז תקבולים ותשלומים 2022 3'!H34+3000 -> 9998000 | D14: ='ריכוז תקבולים ותשלומים 2023 4'!H13+'ריכוז תקבולים ותשלומים 2023 4'!H25+'ריכוז תקבולים ותשלומים 2023 4'!H30+'ריכוז תקבולים ותשלומים 2023 4'!H34+'ריכוז תקבולים ותשלומים 2023 4'!H45 -> 10070000
A15: הלוואה לאיזון | B15: 0 | C15: 0 | D15: 0
A16: מענקים אחרים ממשרד הפנים | B16: ='תקציב 2022'!H50 -> 6000000 | C16: ='ריכוז תקבולים ותשלומים 2022 3'!H49 -> 599000 | D16: ='ריכוז תקבולים ותשלומים 2023 4'!H50 -> 650000
A17: סה"כ תקבולי ממשלה | B17: =SUM(B12:B16) -> 2.3194427e+08 | C17: =SUM(C12:C16) -> 223450000 | D17: =SUM(D12:D16) -> 2.4504784e+08
A18: תקבולים אחרים | B18: 0 | C18: 0 | D18: 0
A19: הכנסות ח"פ ובגין שנים קודמות
A20: סה"כ הכנסות לפני הנחות בארנונה וכיסוי גרעון נצבר | B20: =B17+B11 -> 7.29047e+08 | C20: =+C11+C17+C18 -> 727707000 | D20: =+D11+D17+D18 -> 7.6606e+08
A21: הנחות בארנונה | B21: ='תקציב 2022'!J8 -> 61000000 | C21: ='ריכוז תקבולים ותשלומים 2022 3'!I8 -> 61000000 | D21: ='ריכוז תקבולים ותשלומים 2023 4'!I8 -> 64000000
A22: הכנסה לכיסוי גרעון נצבר
A23: סה"כ הכנסות ללא מותנה | B23: =B20+B21 -> 7.90047e+08 | C23: =+C20+C21 -> 788707000 | D23: =+D20+D21-0.2 -> 8.3006e+08
A24: הכנסה מותנה | B24: 3085000 | C24: 0 | D24: 8000000
A25: סה"כ הכנסות כולל מותנה | B25: =B23+B24 -> 7.93132e+08 | C25: =+C23+C24 -> 788707000 | D25: =+D23+D24 -> 8.3806e+08
A27: הוצאות
A28: שכר כללי | B28: ='תקציב 2022'!C13+'תקציב 2022'!C25+'תקציב 2022'!C28+'תקציב 2022'!C30+'תקציב 2022'!C34+'תקציב 2022'!C35+'תקציב 2022'!C45+'תקציב 2022'!C51 -> 157260000 | C28: ='ריכוז תקבולים ותשלומים 2022 3'!C13+'ריכוז תקבולים ותשלומים 2022 3'!C25+'ריכוז תקבולים ותשלומים 2022 3'!C28+'ריכוז תקבולים ותשלומים 2022 3'!C30+'ריכוז תקבולים ותשלומים 2022 3'!C34+'ריכוז תקבולים ותשלומים 2022 3'!C35+'ריכוז תקבולים ותשלומים 2022 3'!C42+'ריכוז תקבולים ותשלומים 2022 3'!C47 -> 153734700 | D28: ='ריכוז תקבולים ותשלומים 2023 4'!C13+'ריכוז תקבולים ותשלומים 2023 4'!C25+'ריכוז תקבולים ותשלומים 2023 4'!C28+'ריכוז תקבולים ותשלומים 2023 4'!C30+'ריכוז תקבולים ותשלומים 2023 4'!C34+'ריכוז תקבולים ותשלומים 2023 4'!C35+'ריכוז תקבולים ותשלומים 2023 4'!C42+'ריכוז תקבולים ותשלומים 2023 4'!C48 -> 1.61949e+08
A29: פעולות כלליות | B29: ='תקציב 2022'!D7+'תקציב 2022'!D9+'תקציב 2022'!D25+'תקציב 2022'!D28+'תקציב 2022'!D30+'תקציב 2022'!D31+'תקציב 2022'!D33+'תקציב 2022'!D34+'תקציב 2022'!D35+'תקציב 2022'!D41+'תקציב 2022'!D42 -> 1.860876e+08 | C29: ='ריכוז תקבולים ותשלומים 2022 3'!D7+'ריכוז תקבולים ותשלומים 2022 3'!D9+'ריכוז תקבולים ותשלומים 2022 3'!D25+'ריכוז תקבולים ותשלומים 2022 3'!D30+'ריכוז תקבולים ותשלומים 2022 3'!D31+'ריכוז תקבולים ותשלומים 2022 3'!D33+'ריכוז תקבולים ותשלומים 2022 3'!D34+'ריכוז תקבולים ותשלומים 2022 3'!D35+'ריכוז תקבולים ותשלומים 2022 3'!D44+'ריכוז תקבולים ותשלומים 2022 3'!D28 -> 187929000 | D29: ='ריכוז תקבולים ותשלומים 2023 4'!D7+'ריכוז תקבולים ותשלומים 2023 4'!D9+'ריכוז תקבולים ותשלומים 2023 4'!D25+'ריכוז תקבולים ותשלומים 2023 4'!D28+'ריכוז תקבולים ותשלומים 2023 4'!D30+'ריכוז תקבולים ותשלומים 2023 4'!D31+'ריכוז תקבולים ותשלומים 2023 4'!D33+'ריכוז תקבולים ותשלומים 2023 4'!D34+'ריכוז תקבולים ותשלומים 2023 4'!D35+'ריכוז תקבולים ותשלומים 2023 4'!D45-2085000 -> 1.93975e+08
A30: מפעל המים | B30: 0 | C30: 0 | D30: 0
A31: סה"כ הוצאות כלליות | B31: =B28+B29+B30 -> 3.433476e+08 | C31: =SUM(C28:C30) -> 341663700 | D31: =SUM(D28:D30) -> 3.55924e+08
A32: שכר עובדי חינוך | B32: ='תקציב 2022'!C29 -> 113796000 | C32: ='ריכוז תקבולים ותשלומים 2022 3'!C29 -> 114282000 | D32: ='ריכוז תקבולים ותשלומים 2023 4'!C29 -> 126798000
A33: פעולות חינוך | B33: ='תקציב 2022'!D29 -> 1.07542e+08 | C33: ='ריכוז תקבולים ותשלומים 2022 3'!D29 -> 107826000 | D33: ='ריכוז תקבולים ותשלומים 2023 4'!D29-1000000 -> 112528000
A34: סה"כ חינוך | B34: =SUM(B32:B33) -> 2.21338e+08 | C34: =SUM(C32:C33) -> 222108000 | D34: =SUM(D32:D33) -> 239326000
A35: שכר עובדי רווחה | B35: ='תקציב 2022'!C32 -> 33433567 | C35: ='ריכוז תקבולים ותשלומים 2022 3'!C32 -> 32055000 | D35: ='ריכוז תקבולים ותשלומים 2023 4'!C32 -> 37031000
A36: פעולות רווחה | B36: ='תקציב 2022'!D32+2 -> 1.0248983e+08 | C36: ='ריכוז תקבולים ותשלומים 2022 3'!D32 -> 99839000 | D36: ='ריכוז תקבולים ותשלומים 2023 4'!D32 -> 105467000
A37: סה"כ רווחה | B37: =SUM(B35:B36) -> 1.359234e+08 | C37: =SUM(C35:C36) -> 131894000 | D37: =SUM(D35:D36) -> 142498000
A38: פרעון-מלוות מים וביוב | B38: 0 | C38: 0 | D38: 0
A39: פרעון-מלוות אחר | B39: ='תקציב 2022'!E11 -> 29623000 | C39: ='ריכוז תקבולים ותשלומים 2022 3'!D11 -> 31077000 | D39: ='ריכוז תקבולים ותשלומים 2023 4'!D11+0.8 -> 31177000
A40: סה"כ פרעון-מלוות | B40: =SUM(B38:B39) -> 29623000 | C40: =SUM(C38:C39) -> 31077000 | D40: =SUM(D38:D39) -> 31177000
A41: הוצאות מימון | B41: ='תקציב 2022'!E10 -> 1650000 | C41: ='ריכוז תקבולים ותשלומים 2022 3'!D10 -> 1911000 | D41: ='ריכוז תקבולים ותשלומים 2023 4'!D10 -> 1800000
A42: הוצאות ח"פ ובגין שנים קודמות | B42: ='תקציב 2022'!E50 -> 250000 | C42: ='ריכוז תקבולים ותשלומים 2022 3'!D49 -> 250000 | D42: ='ריכוז תקבולים ותשלומים 2023 4'!D50 -> 250000.4
A43: סה"כ הוצאות לפני הנחות בארנונה וכיסוי גרעון נצבר | B43: =+B41+B42+B31+B34+B37+B40 -> 7.32132e+08 | C43: =+C41+C42+C31+C34+C37+C40 -> 728903700 | D43: =+D41+D42+D31+D34+D37+D40 -> 7.70975e+08
...

Sheet ריכוז תקבולים ותשלומים 2022 3
A1: ריכוז תקבולים ותשלומים לפי פרקי תקציב לשנת 2022- לפי אומדן
A3: תשלומים | F3: תקבולים
A4: מס פרק | B4: שם הפרק | C4: שכר | D4: פעולות | E4: סה"כ | F4: מס' פרק | G4: שם הפרק | H4: ממשלה | I4: עצמיות | J4: סה"כ
A5: 6 הנהלה וכלליות | F5: 1 מיסים ומענקים | L5: תוויות שורה | M5: סכום של תקציב 2022
L6: 61 | M6: 18265000
A7: 61 | B7: מנהל כללי | C7: ='הוצאות '!H3+'הוצאות '!H9+'הוצאות '!H28+'הוצאות '!H34+'הוצאות '!H45+'הוצאות '!H52+'הוצאות '!H61+'הוצאות '!H63+'הוצאות '!H67+'הוצאות '!H76+'הוצאות '!G64 -> 18519000 | D7: =+E7-C7 -> 15895000 | E7: ='הוצאות '!H8+'הוצאות '!H27+'הוצאות '!H33+'הוצאות '!H44+'הוצאות '!H51+'הוצאות '!H62+'הוצאות '!H66+'הוצאות '!H75+'הוצאות '!H82 -> 34414000 | F7: 11 | G7: ארנונות | H7: 0 | I7: =J7-H7 -> 417945000 | J7: ='הכנסות '!H7-'הכנסות '!H5 -> 417945000 | L7: 62 | M7: 9348000
D8: =+E8-C8 -> 0 | F8: 11 | G8: הנחות ארנונה | H8: 0 | I8: =J8-H8 -> 61000000 | J8: ='הכנסות '!H5 -> 61000000 | L8: 71 | M8: 9936000
A9: 62 | B9: מנהל כספי | C9: ='הוצאות '!H86+'הוצאות '!H92+'הוצאות '!H98 -> 9344000 | D9: =+E9-C9 -> 5181000 | E9: ='הוצאות '!H91+'הוצאות '!H97+'הוצאות '!H104 -> 14525000 | F9: 12 | G9: אגרות | H9: 0 | I9: =J9-H9 -> 8238000 | J9: =+'הכנסות '!H10 -> 8238000 | L9: 72 | M9: 5092000
A10: 63 | B10: הוצאות מימון | D10: =+E10-C10 -> 1911000 | E10: ='הוצאות '!H108 -> 1911000 | F10: 13 | G10: היטלים | H10: 0 | I10: =J10-H10 -> 0 | J10: 0 | L10: 73 | M10: 14623000
A11: 64 | B11: פרעון מלוות | D11: =+E11-C11 -> 31077000 | E11: ='הוצאות '!H113 -> 31077000 | F11: 18 | G11: מכירת שירותים | H11: 0 | I11: =J11-H11 -> 115000 | J11: =+'הכנסות '!H12 -> 115000 | L11: 74 | M11: 18661000
F12: 19 | G12: מענקים כללים | H12: 0 | I12: =J12-H12 -> 0 | J12: 0 | L12: 75 | M12: 8001000
A13: סה"כ 6 | C13: =SUM(C7:C11) -> 27863000 | D13: =SUM(D7:D11) -> 54064000 | E13: =SUM(E7:E11) -> 81927000 | F13: סה"כ 1 | H13: =SUM(H7:H12) -> 0 | I13: =SUM(I7:I12) -> 487298000 | J13: =SUM(J7:J12) -> 487298000 | L13: 76 | M13: 2797000
A14: 7 שירותים מקומיים | F14: 2 שירותים מקומיים | L14: 77 | M14: 1368000
L15: 78 | M15: 7519000
A16: 71 | B16: תברואה | C16: ='הוצאות '!H114+'הוצאות '!H122+'הוצאות '!H131+'הוצאות '!H136 -> 9521000 | D16: =+E16-C16 -> 75168000 | E16: ='הוצאות '!H121+'הוצאות '!H125+'הוצאות '!H127+'הוצאות '!H130+'הוצאות '!H135+'הוצאות '!H143+'הוצאות '!H145 -> 84689000 | F16: 21 | G16: תברואה | H16: ='הכנסות '!H16 -> 485000 | I16: =J16-H16 -> 1191000 | J16: ='הכנסות '!H17 -> 1676000 | L16: 79 | M16: 340000
A17: 72 | B17: שמירה ובטחון | C17: ='הוצאות '!H146+'הוצאות '!H155+'הוצאות '!H160+'הוצאות '!H162 -> 4843000 | D17: =+E17-C17 -> 1251000 | E17: ='הוצאות '!H150+'הוצאות '!H154+'הוצאות '!H159+'הוצאות '!H161+'הוצאות '!H166 -> 6094000 | F17: 22 | G17: שמירה ובטחון | H17: ='הכנסות '!H19+'הכנסות '!H20 -> 4289000 | I17: =J17-H17 -> 6861000 | J17: ='הכנסות '!H22 -> 11150000 | L17: 80 | M17: 3621000
A18: 73 | B18: תכנון בניין עיר | C18: ='הוצאות '!H167+'הוצאות '!H176+'הוצאות '!H180+'הוצאות '!H183+'הוצאות '!H188 -> 13272000 | D18: =+E18-C18 -> 3138000 | E18: ='הוצאות '!H175+'הוצאות '!H179+'הוצאות '!H182+'הוצאות '!H187+'הוצאות '!H190 -> 16410000 | F18: 23 | G18: תכנון בניין עיר | H18: 0 | I18: =J18-H18 -> 5607000 | J18: ='הכנסות '!H25 -> 5607000 | L18: 81 | M18: 113796000
A19: 74 | B19: נכסים ציבוריים | C19: ='הוצאות '!H191+'הוצאות '!H196+'הוצאות '!H204+'הוצאות '!H207+'הוצאות '!H218+'הוצאות '!H227 -> 18743000 | D19: =+E19-C19 -> 27263000 | E19: ='הוצאות '!H195+'הוצאות '!H203+'הוצאות '!H206+'הוצאות '!H217+'הוצאות '!H226+'הוצאות '!H238 -> 46006000 | F19: 24 | G19: נכסים ציבוריים | H19: ='הכנסות '!H27+'הכנסות '!H28 -> 560000 | I19: =J19-H19 -> 157000 | J19: ='הכנסות '!H29 -> 717000 | L19: 82 | M19: 10951000
A20: 75 | B20: חגיגות ואירועים | C20: ='הוצאות '!H239 -> 7934000 | D20: =+E20-C20 -> 2544000 | E20: ='הוצאות '!H246 -> 10478000 | F20: 25 | G20: חגיגות וארועים | H20: 0 | I20: =J20-H20 -> 0 | J20: 0 | L20: 84 | M20: 33433567
A21: 76 | B21: שרותים שונים | C21: ='הוצאות '!H247+'הוצאות '!H252+'הוצאות '!H262 -> 2728000 | D21: =+E21-C21 -> 7665000 | E21: ='הוצאות '!H251+'הוצאות '!H255+'הוצאות '!H261+'הוצאות '!H264 -> 10393000 | F21: 26 | G21: שרותים שונים | H21: 0 | I21: =J21-H21 -> 0 | J21: 0 | L21: 86 | M21: 730000
A22: 77 | B22: פיתוח כלכלי | C22: ='הוצאות '!H270 -> 1219000 | D22: =+E22-C22 -> 3998000 | E22: ='הוצאות '!H269+'הוצאות '!H273 -> 5217000 | F22: 27 | G22: פיתוח תעשיה ומלאכה | H22: 0 | I22: =J22-H22 -> 0 | J22: 0 | L22: 87 | M22: 590000
A23: 78 | B23: פיקוח עירוני | C23: ='הוצאות '!H274+'הוצאות '!H281+'הוצאות '!H288+'הוצאות '!H294 -> 7219000 | D23: =+E23-C23 -> 4159000 | E23: ='הוצאות '!H280+'הוצאות '!H287+'הוצאות '!H293+'הוצאות '!H296 -> 11378000 | F23: 28 | G23: פיקוח עירוני | H23: 0 | I23: =J23-H23 -> 10807000 | J23: ='הכנסות '!H36 -> 10807000 | L23: 94 | M23: 618000
A24: 79 | B24: שירותים חקלאיים | C24: ='הוצאות '!H313 -> 392000 | D24: =+E24-C24 -> 106000 | E24: ='הוצאות '!H317 -> 498000 | F24: 29 | G24: רישוי עסקים | H24: 0 | I24: =J24-H24 -> 70000 | J24: ='הכנסות '!H38 -> 70000 | L24: 98 | M24: 44500000
A25: סה"כ 7 | C25: =SUM(C16:C24) -> 65871000 | D25: =SUM(D16:D24) -> 125292000 | E25: =SUM(E16:E24) -> 191163000 | F25: סה"כ 2 | H25: =SUM(H16:H24) -> 5334000 | I25: =SUM(I16:I24) -> 24693000 | J25: =SUM(J16:J24) -> 30027000 | L25: (ריק)
A26: 8 שרותים ממלכתיים | F26: 3 שרותים ממלכתיים | L26: סכום כולל | M26: 304189567
A28: 80 | B28: מינהל חבק"ל | C28: ='הוצאות '!H302 -> 2780000 | D28: =E28-C28 -> 2762000 | E28: ='הוצאות '!H312 -> 5542000 | F28: 30 | G28: מינהל חבק"ל | H28: 0 | I28: =J28-H28 -> 1000000 | J28: ='הכנסות '!H40 -> 1000000
A29: 81 | B29: חינוך | C29: ='הוצאות '!H318+'הוצאות '!H332+'הוצאות '!H333+'הוצאות '!H335+'הוצאות '!H345+'הוצאות '!H352+'הוצאות '!H354+'הוצאות '!H355+'הוצאות '!H366+'הוצאות '!H371+'הוצאות '!H378+'הוצאות '!H381+'הוצאות '!H389+'הוצאות '!H397+'הוצאות '!H403+'הוצאות '!H408 -> 114282000 | D29: =+E29-C29 -> 107826000 | E29: ='הוצאות '!H331+'הוצאות '!H344+'הוצאות '!H353+'הוצאות '!H365+'הוצאות '!H370+'הוצאות '!H375+'הוצאות '!H377+'הוצאות '!H380+'הוצאות '!H384+'הוצאות '!H388+'הוצאות '!H393+'הוצאות '!H396+'הוצאות '!H402+'הוצאות '!H409+'הוצאות '!H412+'הוצאות '!H414+'הוצאות '!H417 -> 222108000 | F29: 31 | G29: חינוך | H29: ='הכנסות '!H44+'הכנסות '!H45+'הכנסות '!H47+'הכנסות '!H48+'הכנסות '!H49+'הכנסות '!H50+'הכנסות '!H55+'הכנסות '!H56+'הכנסות '!H58+'הכנסות '!H59+'הכנסות '!H60+'הכנסות '!H61+'הכנסות '!H62+'הכנסות '!H63+'הכנסות '!H64+'הכנסות '!H66+'הכנסות '!H67+'הכנסות '!H68+'הכנסות '!H69+'הכנסות '!H70+'הכנסות '!H72+'הכנסות '!H73+'הכנסות '!H75+'הכנסות '!H77+'הכנסות '!H78+'הכנסות '!H79+'הכנסות '!H80+'הכנסות '!H81+'הכנסות '!H82+'הכנסות '!H83+'הכנסות '!H84+'הכנסות '!H86+'הכנסות '!H87+'הכנסות '!H88+'הכנסות '!H90+'הכנסות '!H92 -> 119178000 | I29: =J29-H29 -> 9251000 | J29: =+'הכנסות '!H51+'הכנסות '!H74+'הכנסות '!H76+'הכנסות '!H93 -> 128429000
A30: 82 | B30: תרבות | C30: ='הוצאות '!H420+'הוצאות '!H428+'הוצאות '!H438+'הוצאות '!H460+'הוצאות '!H468+'הוצאות '!H473+'הוצאות '!H479+'הוצאות '!H481+'הוצאות '!H485+'הוצאות '!H489 -> 10731700 | D30: =+E30-C30 -> 32307000 | E30: ='הוצאות '!H419+'הוצאות '!H427+'הוצאות '!H433+'הוצאות '!H437+'הוצאות '!H442+'הוצאות '!H449+'הוצאות '!H455+'הוצאות '!H457+'הוצאות '!H459+'הוצאות '!H467+'הוצאות '!H472+'הוצאות '!H478+'הוצאות '!H480+'הוצאות '!H484+'הוצאות '!H488+'הוצאות '!H498 -> 43038700 | F30: 32 | G30: תרבות | H30: ='הכנסות '!H94+'הכנסות '!H96+'הכנסות '!H97+'הכנסות '!H101+'הכנסות '!H106+'הכנסות '!H107+'הכנסות '!H108+'הכנסות '!H111 -> 3999000 | I30: =J30-H30 -> 2803000 | J30: =+'הכנסות '!H112 -> 6802000
A31: 83 | B31: בריאות | D31: =+E31-C31 -> 300000 | E31: ='הוצאות '!H500+'הוצאות '!H502 -> 300000 | F31: 33 | G31: בריאות | H31: 0 | I31: =J31-H31 -> 0 | J31: 0
A32: 84 | B32: רווחה | C32: ='הוצאות '!H503+'הוצאות '!H513+'הוצאות '!H514+'הוצאות '!H520+'הוצאות '!H521+'הוצאות '!H525+'הוצאות '!H526+'הוצאות '!H530+'הוצאות '!H531+'הוצאות '!H536+'הוצאות '!H539+'הוצאות '!H543+'הוצאות '!H576+'הוצאות '!H586+'הוצאות '!H595+'הוצאות '!H602+'הוצאות '!H609+'הוצאות '!H612+'הוצאות '!H620+'הוצאות '!H621+'הוצאות '!H626+'הוצאות '!H630+'הוצאות '!H631+'הוצאות '!H632+'הוצאות '!H633+'הוצאות '!H635+'הוצאות '!H637+'הוצאות '!H639+'הוצאות '!H642 -> 32055000 | D32: =+E32-C32 -> 99839000 | E32: ='הוצאות '!H512+'הוצאות '!H529+'הוצאות '!H547+'הוצאות '!H562+'הוצאות '!H585+'הוצאות '!H611+'הוצאות '!H646+'הוצאות '!H650+'הוצאות '!H653+'הוצאות '!H657 -> 131894000 | F32: 34 | G32: רווחה | H32: =+J32-I32 -> 93675000 | I32: =+'הכנסות '!H113+'הכנסות '!H118+'הכנסות '!H133+'הכנסות '!H142+'הכנסות '!H173 -> 2225000 | J32: =+'הכנסות '!H117+'הכנסות '!H128+'הכנסות '!H141+'הכנסות '!H157+'הכנסות '!H177+'הכנסות '!H200+'הכנסות '!H225+'הכנסות '!H229+'הכנסות '!H232+'הכנסות '!H236 -> 95900000
A33: 85 | B33: דת | D33: =+E33-C33 -> 5110000 | E33: ='הוצאות '!H659 -> 5110000 | F33: 35 | G33: דת | H33: 0 | I33: =J33-H33 -> 0 | J33: 0
A34: 86 | B34: קליטת עליה | C34: ='הוצאות '!H660 -> 951000 | D34: =+E34-C34 -> 712000 | E34: ='הוצאות '!H669 -> 1663000 | F34: 36 | G34: קליטת עליה | H34: ='הכנסות '!H238 -> 662000 | I34: =J34-H34 -> 40000 | J34: =+'הכנסות '!H239 -> 702000
A35: 87 | B35: איכות סביבה | C35: ='הוצאות '!H670 -> 364000 | D35: =+E35-C35 -> 122000 | E35: ='הוצאות '!H674 -> 486000 | F35: 37 | G35: איכות סביבה | H35: 0 | I35: =J35-H35 -> 201000 | J35: ='הכנסות '!H241 -> 201000
A36: סה"כ 8 | C36: =SUM(C28:C35) -> 161163700 | D36: =SUM(D28:D35) -> 248978000 | E36: =SUM(E28:E35) -> 410141700 | F36: סה"כ 3 | H36: =SUM(H28:H35) -> 217514000 | I36: =SUM(I28:I35) -> 15520000 | J36: =SUM(J28:J35) -> 233034000
A37: 9 מפעלים | F37: 4 מפעלים
A39: 91 | B39: מים | D39: 0 | F39: 41 | G39: מים | H39: 0 | I39: =+'הכנסות '!H242 -> 11000 | J39: =+'הכנסות '!H243 -> 11000
A40: 92 | B40: בתי מטבחיים | D40: 0 | F40: 42 | G40: בתי מטבחיים | H40: 0 | I40: 0 | J40: =+H40+I40 -> 0
A41: 93 | B41: נכסים | D41: =+E41-C41 -> 21000 | E41: ='הוצאות '!H677 -> 21000 | F41: 43 | G41: נכסים | H41: 0 | I41: =+'הכנסות '!H244+'הכנסות '!H246 -> 1123000 | J41: ='הכנסות '!H245+'הכנסות '!H247 -> 1123000
A42: 94 | B42: תחבורה | C42: ='הוצאות '!H678 -> 656000 | D42: =+E42-C42 -> 227000 | E42: ='הוצאות '!H681 -> 883000 | F42: 44 | G42: תחבורה | H42: 0 | I42: =+'הכנסות '!H248 -> 7400000 | J42: ='הכנסות '!H249 -> 7400000
A43: 97 | B43: מפעל הביוב | F43: 47 | G43: מפעל ביוב | H43: 0 | I43: =+'הכנסות '!H250 -> 28000 | J43: ='הכנסות '!H251 -> 28000
...

Sheet ריכוז תקבולים ותשלומים 2023 4
A1: ריכוז תקבולים ותשלומים לפי פרקי תקציב לשנת 2023
A3: תשלומים | F3: תקבולים
A4: מס פרק | B4: שם הפרק | C4: שכר | D4: פעולות | E4: סה"כ | F4: מס' פרק | G4: שם הפרק | H4: ממשלה | I4: עצמיות | J4: סה"כ
A5: 6 הנהלה וכלליות | F5: 1 מיסים ומענקים
A7: 61 | B7: מנהל כללי | C7: =+'הוצאות '!I3+'הוצאות '!I9+'הוצאות '!I28+'הוצאות '!I34+'הוצאות '!I45+'הוצאות '!I52+'הוצאות '!I61+'הוצאות '!I63+'הוצאות '!I67+'הוצאות '!I76+'הוצאות '!I64+'הוצאות '!I83 -> 20551000 | D7: =+E7-C7 -> 18564000 | E7: =+'הוצאות '!I8+'הוצאות '!I27+'הוצאות '!I33+'הוצאות '!I44+'הוצאות '!I51+'הוצאות '!I62+'הוצאות '!I66+'הוצאות '!I75+'הוצאות '!I82+'הוצאות '!I85 -> 39115000 | F7: 11 | G7: ארנונות | H7: 0 | I7: =J7-H7 -> 428700000 | J7: ='הכנסות '!I7-'הכנסות '!I5 -> 428700000
D8: =+E8-C8 -> 0 | F8: 11 | G8: הנחות ארנונה | H8: 0 | I8: =J8-H8 -> 64000000 | J8: ='הכנסות '!I5 -> 64000000
A9: 62 | B9: מנהל כספי | C9: =+'הוצאות '!I86+'הוצאות '!I92+'הוצאות '!I98 -> 9894000 | D9: =+E9-C9 -> 4411000 | E9: =+'הוצאות '!I91+'הוצאות '!I97+'הוצאות '!I104 -> 14305000 | F9: 12 | G9: אגרות | H9: 0 | I9: =J9-H9 -> 8030000 | J9: =+'הכנסות '!I10 -> 8030000
A10: 63 | B10: הוצאות מימון | D10: =+E10-C10 -> 1800000 | E10: =+'הוצאות '!I108 -> 1800000 | F10: 13 | G10: היטלים | H10: 0 | I10: =J10-H10 -> 0 | J10: 0
A11: 64 | B11: פרעון מלוות | D11: =+E11-C11 -> 31176999 | E11: =+'הוצאות '!I113-1 -> 31176999 | F11: 18 | G11: מכירת שירותים | H11: 0 | I11: =J11-H11 -> 115000 | J11: =+'הכנסות '!I12 -> 115000
F12: 19 | G12: מענקים כללים | H12: 0 | I12: =J12-H12 -> 0 | J12: 0
A13: סה"כ 6 | C13: =SUM(C7:C11) -> 30445000 | D13: =SUM(D7:D11) -> 55951998 | E13: =SUM(E7:E11) -> 86396998 | F13: סה"כ 1 | H13: =SUM(H7:H12) -> 0 | I13: =SUM(I7:I12) -> 500845000 | J13: =SUM(J7:J12) -> 500845000
A14: 7 שירותים מקומיים | F14: 2 שירותים מקומיים
A16: 71 | B16: תברואה | C16: =+'הוצאות '!I114+'הוצאות '!I122+'הוצאות '!I131+'הוצאות '!I136 -> 10470000 | D16: =+E16-C16 -> 74220000 | E16: =+'הוצאות '!I121+'הוצאות '!I125+'הוצאות '!I127+'הוצאות '!I130+'הוצאות '!I135+'הוצאות '!I143+'הוצאות '!I145 -> 84690000 | F16: 21 | G16: תברואה | H16: ='הכנסות '!I16 -> 500000 | I16: =J16-H16 -> 1200000 | J16: =+'הכנסות '!I17 -> 1700000
A17: 72 | B17: שמירה ובטחון | C17: =+'הוצאות '!I146+'הוצאות '!I155+'הוצאות '!I160+'הוצאות '!I162 -> 5691000 | D17: =+E17-C17 -> 1531000 | E17: =+'הוצאות '!I150+'הוצאות '!I154+'הוצאות '!I159+'הוצאות '!I161+'הוצאות '!I166 -> 7222000 | F17: 22 | G17: שמירה ובטחון | H17: ='הכנסות '!I19+'הכנסות '!I20 -> 4992000 | I17: =J17-H17 -> 7090000 | J17: =+'הכנסות '!I22 -> 12082000
A18: 73 | B18: תכנון בניין עיר | C18: =+'הוצאות '!I167+'הוצאות '!I176+'הוצאות '!I180+'הוצאות '!I183+'הוצאות '!I188 -> 15614000 | D18: =+E18-C18 -> 4919813.2 | E18: =+'הוצאות '!I175+'הוצאות '!I179+'הוצאות '!I182+'הוצאות '!I187+'הוצאות '!I190 -> 20533813 | F18: 23 | G18: תכנון בניין עיר | H18: 0 | I18: =J18-H18 -> 6700000 | J18: =+'הכנסות '!I25 -> 6700000
A19: 74 | B19: נכסים ציבוריים | C19: =+'הוצאות '!I191+'הוצאות '!I196+'הוצאות '!I204+'הוצאות '!I207+'הוצאות '!I218+'הוצאות '!I227 -> 19673000 | D19: =+E19-C19 -> 27422000 | E19: =+'הוצאות '!I195+'הוצאות '!I203+'הוצאות '!I206+'הוצאות '!I217+'הוצאות '!I226+'הוצאות '!I238 -> 47095000 | F19: 24 | G19: נכסים ציבוריים | H19: =+'הכנסות '!I27+'הכנסות '!I28 -> 560000 | I19: =J19-H19 -> 50000 | J19: =+'הכנסות '!I29 -> 610000
A20: 75 | B20: חגיגות ואירועים | C20: =+'הוצאות '!I239+'הוצאות '!I240 -> 8649000 | D20: =+E20-C20 -> 2602000 | E20: =+'הוצאות '!I246 -> 11251000 | F20: 25 | G20: חגיגות וארועים | H20: 0 | I20: =J20-H20 -> 0 | J20: 0
A21: 76 | B21: שרותים שונים | C21: =+'הוצאות '!I247+'הוצאות '!I252+'הוצאות '!I262 -> 2770000 | D21: =+E21-C21+0.4 -> 9474000.4 | E21: =+'הוצאות '!I251+'הוצאות '!I255+'הוצאות '!I261+'הוצאות '!I264 -> 12244000 | F21: 26 | G21: שרותים שונים | H21: 0 | I21: 0 | J21: 0
A22: 77 | B22: פיתוח כלכלי | C22: =+'הוצאות '!I270 -> 1402000 | D22: =+E22-C22 -> 1865000 | E22: =+'הוצאות '!I269+'הוצאות '!I273 -> 3267000 | F22: 27 | G22: פיתוח תעשיה ומלאכה | H22: 0 | I22: =J22-H22 -> 0 | J22: 0
A23: 78 | B23: פיקוח עירוני | C23: =+'הוצאות '!I274+'הוצאות '!I281+'הוצאות '!I288+'הוצאות '!I294+'הוצאות '!I297 -> 9947000 | D23: =+E23-C23 -> 4731000 | E23: =+'הוצאות '!I280+'הוצאות '!I287+'הוצאות '!I293+'הוצאות '!I296+'הוצאות '!I301 -> 14678000 | F23: 28 | G23: פיקוח עירוני | H23: 0 | I23: =J23-H23 -> 11380000 | J23: =+'הכנסות '!I36 -> 11380000
A24: 79 | B24: שירותים חקלאיים | C24: =+'הוצאות '!I313 -> 396000 | D24: =+E24-C24 -> 87000 | E24: =+'הוצאות '!I317 -> 483000 | F24: 29 | G24: רישוי עסקים | H24: 0 | I24: =J24-H24 -> 80000 | J24: =+'הכנסות '!I38 -> 80000
A25: סה"כ 7 | C25: =SUM(C16:C24) -> 74612000 | D25: =SUM(D16:D24) -> 1.2685181e+08 | E25: =SUM(E16:E24) -> 2.0146381e+08 | F25: סה"כ 2 | H25: =SUM(H16:H24) -> 6052000 | I25: =SUM(I16:I24) -> 26500000 | J25: =SUM(J16:J24) -> 32552000
A26: 8 שרותים ממלכתיים | F26: 3 שרותים ממלכתיים
A28: 80 | B28: מינהל חבק"ל | C28: 0 | D28: 0 | E28: 0 | F28: 30 | G28: מינהל חבק"ל | H28: 0 | I28: =J28-H28 -> 0 | J28: =+'הכנסות '!I40 -> 0
A29: 81 | B29: חינוך | C29: =+'הוצאות '!I318+'הוצאות '!I332+'הוצאות '!I333+'הוצאות '!I335+'הוצאות '!I345+'הוצאות '!I352+'הוצאות '!I354+'הוצאות '!I355+'הוצאות '!I366+'הוצאות '!I371+'הוצאות '!I378+'הוצאות '!I381+'הוצאות '!I389+'הוצאות '!I397+'הוצאות '!I403+'הוצאות '!I408 -> 126798000 | D29: =+E29-C29 -> 113528000 | E29: =+'הוצאות '!I331+'הוצאות '!I344+'הוצאות '!I353+'הוצאות '!I365+'הוצאות '!I370+'הוצאות '!I375+'הוצאות '!I377+'הוצאות '!I380+'הוצאות '!I384+'הוצאות '!I388+'הוצאות '!I393++'הוצאות '!I396+'הוצאות '!I402+'הוצאות '!I409+'הוצאות '!I412+'הוצאות '!I414+'הוצאות '!I417 -> 240326000 | F29: 31 | G29: חינוך | H29: ='הכנסות '!I42+'הכנסות '!I44+'הכנסות '!I45+'הכנסות '!I47+'הכנסות '!I48+'הכנסות '!I49+'הכנסות '!I55+'הכנסות '!I56+'הכנסות '!I57+'הכנסות '!I58+'הכנסות '!I59+'הכנסות '!I60+'הכנסות '!I61+'הכנסות '!I62+'הכנסות '!I63+'הכנסות '!I64+'הכנסות '!I66+'הכנסות '!I67+'הכנסות '!I68+'הכנסות '!I69+'הכנסות '!I70+'הכנסות '!I72+'הכנסות '!I73+'הכנסות '!I75+'הכנסות '!I77+'הכנסות '!I78+'הכנסות '!I80+'הכנסות '!I81+'הכנסות '!I82+'הכנסות '!I83+'הכנסות '!I84+'הכנסות '!I86+'הכנסות '!I87+'הכנסות '!I88+'הכנסות '!I90+'הכנסות '!I91+'הכנסות '!I92 -> 132803840 | I29: =+J29-H29 -> 10088000 | J29: =+'הכנסות '!I51+'הכנסות '!I74+'הכנסות '!I76+'הכנסות '!I93 -> 142891840
A30: 82 | B30: תרבות | C30: ='הוצאות '!I420+'הוצאות '!I428+'הוצאות '!I438+'הוצאות '!I460+'הוצאות '!I468+'הוצאות '!I473+'הוצאות '!I479+'הוצאות '!I481+'הוצאות '!I485+'הוצאות '!I489 -> 11065000 | D30: =+E30-C30 -> 31157000 | E30: =+'הוצאות '!I419+'הוצאות '!I427+'הוצאות '!I433+'הוצאות '!I437+'הוצאות '!I442+'הוצאות '!I449+'הוצאות '!I455+'הוצאות '!I457+'הוצאות '!I459+'הוצאות '!I467+'הוצאות '!I472+'הוצאות '!I478+'הוצאות '!I480+'הוצאות '!I484+'הוצאות '!I488+'הוצאות '!I498 -> 42222000 | F30: 32 | G30: תרבות | H30: =+'הכנסות '!I94+'הכנסות '!I96+'הכנסות '!I97+'הכנסות '!I101+'הכנסות '!I106+'הכנסות '!I107+'הכנסות '!I108+'הכנסות '!I111 -> 3077000 | I30: =J30-H30 -> 3512000 | J30: =+'הכנסות '!I112 -> 6589000
A31: 83 | B31: בריאות | D31: =+E31-C31 -> 222000 | E31: =+'הוצאות '!I500+'הוצאות '!I502 -> 222000 | F31: 33 | G31: בריאות | H31: 0 | I31: =J31-H31 -> 0 | J31: 0
A32: 84 | B32: רווחה | C32: ='הוצאות '!I503+'הוצאות '!I513+'הוצאות '!I514+'הוצאות '!I520+'הוצאות '!I521+'הוצאות '!I525+'הוצאות '!I526+'הוצאות '!I530+'הוצאות '!I531+'הוצאות '!I536+'הוצאות '!I537+'הוצאות '!I539+'הוצאות '!I543+'הוצאות '!I576+'הוצאות '!I586+'הוצאות '!I595+'הוצאות '!I602+'הוצאות '!I609+'הוצאות '!I612+'הוצאות '!I618+'הוצאות '!I620+'הוצאות '!I621+'הוצאות '!I626+'הוצאות '!I630+'הוצאות '!I631+'הוצאות '!I632+'הוצאות '!I633+'הוצאות '!I635+'הוצאות '!I637+'הוצאות '!I639+'הוצאות '!I642 -> 37031000 | D32: =+E32-C32 -> 105467000 | E32: ='הוצאות '!I512+'הוצאות '!I529+'הוצאות '!I547+'הוצאות '!I562+'הוצאות '!I585+'הוצאות '!I611+'הוצאות '!I646+'הוצאות '!I650+'הוצאות '!I653+'הוצאות '!I657 -> 142498000 | F32: 34 | G32: רווחה | H32: =+J32-I32 -> 1.01524e+08 | I32: ='הכנסות '!I113+'הכנסות '!I118+'הכנסות '!I133+'הכנסות '!I142+'הכנסות '!I173 -> 2284000 | J32: =+'הכנסות '!I117+'הכנסות '!I128+'הכנסות '!I141+'הכנסות '!I157+'הכנסות '!I177+'הכנסות '!I200+'הכנסות '!I225+'הכנסות '!I229+'הכנסות '!I232+'הכנסות '!I236 -> 1.03808e+08
A33: 85 | B33: דת | D33: =+E33-C33 -> 5000000 | E33: =+'הוצאות '!I659 -> 5000000 | F33: 35 | G33: דת | H33: 0 | I33: =J33-H33 -> 0 | J33: 0
A34: 86 | B34: קליטת עליה | C34: =+'הוצאות '!I660 -> 1209000 | D34: =+E34-C34 -> 881000 | E34: =+'הוצאות '!I669 -> 2090000 | F34: 36 | G34: קליטת עליה | H34: =+'הכנסות '!I238 -> 941000 | I34: =J34-H34 -> 40000 | J34: =+'הכנסות '!I239 -> 981000
A35: 87 | B35: איכות סביבה | C35: =+'הוצאות '!I670 -> 736000 | D35: =+E35-C35 -> 240000 | E35: =+'הוצאות '!I674 -> 976000 | F35: 37 | G35: איכות סביבה | H35: 0 | I35: =J35-H35 -> 400000 | J35: =+'הכנסות '!I241 -> 400000
A36: סה"כ 8 | C36: =SUM(C28:C35) -> 176839000 | D36: =SUM(D28:D35) -> 256495000 | E36: =SUM(E28:E35) -> 433334000 | F36: סה"כ 3 | H36: =SUM(H28:H35) -> 2.3834584e+08 | I36: =SUM(I28:I35) -> 16324000 | J36: =SUM(J28:J35) -> 2.5466984e+08
A37: 9 מפעלים | F37: 4 מפעלים
A39: 91 | B39: מים | D39: 0 | F39: 41 | G39: מים | H39: 0 | I39: =+'הכנסות '!I242 -> 10000 | J39: =+'הכנסות '!I243 -> 10000
A40: 92 | B40: בתי מטבחיים | D40: 0 | F40: 42 | G40: בתי מטבחיים | H40: 0 | I40: 0 | J40: =+H40+I40 -> 0
A41: 93 | B41: נכסים | D41: =+E41-C41 -> 46187 | E41: =+'הוצאות '!I677 -> 46187 | F41: 43 | G41: נכסים | H41: 0 | I41: =+'הכנסות '!I244+'הכנסות '!I246 -> 1050000 | J41: =+'הכנסות '!I245+'הכנסות '!I247 -> 1050000
A42: 94 | B42: תחבורה | C42: =+'הוצאות '!I678 -> 682000 | D42: =+E42-C42 -> 317000 | E42: =+'הוצאות '!I681 -> 999000 | F42: 44 | G42: תחבורה | H42: 0 | I42: =+'הכנסות '!I248 -> 7800000 | J42: =+'הכנסות '!I249 -> 7800000
A43: 96 | B43: הוצאות רזרבה | D43: =+E43-C43 -> 8370000 | E43: =+'הוצאות '!I682 -> 8370000
A44: 97 | B44: מפעל הביוב | F44: 47 | G44: מפעל ביוב | H44: 0 | I44: =+'הכנסות '!I250 -> 20000 | J44: =+'הכנסות '!I251 -> 20000
A45: סה"כ 91-97 | C45: =SUM(C39:C44) -> 682000 | D45: =SUM(D39:D44) -> 8733187 | E45: =SUM(E39:E44) -> 9415187 | F45: סה"כ 4 | H45: =SUM(H39:H44) -> 0 | I45: =SUM(I39:I44) -> 8880000 | J45: =SUM(J39:J44) -> 8880000
...

Sheet תשלומים לפי אגפים5
A1: תשלומים לפי אגפים
A4: אגף | B4: סעיף | C4: תקציב 2022 | D4: אומדן 2022 | E4: תקציב 2023 | F4: גידול תקציב 2033 תקציב מול 2022 | G4: תקציב 2023 מול אומדן 2022
A5: הנהלה | B5: שכר | C5: =+'הוצאות '!G3+'הוצאות '!G9+'הוצאות '!G28+'הוצאות '!G45+'הוצאות '!G67+'הוצאות '!G76+'הוצאות '!G83+'הוצאות '!G34 -> 14365000 | D5: =+'הוצאות '!H3+'הוצאות '!H9+'הוצאות '!H28+'הוצאות '!H45+'הוצאות '!H67+'הוצאות '!H76+'הוצאות '!H83+'הוצאות '!H34 -> 15053000 | E5: =+'הוצאות '!I3+'הוצאות '!I9+'הוצאות '!I28+'הוצאות '!I45+'הוצאות '!I67+'הוצאות '!I76+'הוצאות '!I83+'הוצאות '!I34 -> 15580000
B6: פעילות | C6: =+C7-C5 -> 12705000 | D6: =+D7-D5 -> 12017000 | E6: =+E7-E5 -> 16804000
B7: סה"כ | C7: =+'הוצאות '!G8+'הוצאות '!G27+'הוצאות '!G33+'הוצאות '!G44+'הוצאות '!G51+'הוצאות '!G75+'הוצאות '!G82+'הוצאות '!G85 -> 27070000 | D7: =+'הוצאות '!H8+'הוצאות '!H27+'הוצאות '!H33+'הוצאות '!H44+'הוצאות '!H51+'הוצאות '!H75+'הוצאות '!H82+'הוצאות '!H85 -> 27070000 | E7: =+'הוצאות '!I8+'הוצאות '!I27+'הוצאות '!I33+'הוצאות '!I44+'הוצאות '!I51+'הוצאות '!I75+'הוצאות '!I82+'הוצאות '!I85 -> 32384000
A8: משאבי אנוש | B8: שכר | C8: =+'הוצאות '!G52+'הוצאות '!G61 -> 3382000 | D8: =+'הוצאות '!H52+'הוצאות '!H61 -> 3399000 | E8: =+'הוצאות '!I52+'הוצאות '!I61 -> 3593000
B9: פעילות | C9: =+C10-C8 -> 3989000 | D9: =+D10-D8 -> 3945000 | E9: =+E10-E8 -> 1560000
B10: סה"כ | C10: =+'הוצאות '!G62 -> 7371000 | D10: =+'הוצאות '!H62+'הוצאות '!H66 -> 7344000 | E10: =+'הוצאות '!I62 -> 5153000
A11: שרות | B11: שכר | C11: =+'הוצאות '!G63+'הוצאות '!G64 -> 518000 | D11: =+'הוצאות '!H63+'הוצאות '!H64 -> 67000 | E11: =+'הוצאות '!I63+'הוצאות '!I64+'הוצאות '!I247 -> 3618000
B12: פעילות | C12: =C13-C11 -> 200000 | D12: =D13-D11 -> 0 | E12: =E13-E11 -> 497000
B13: סה"כ | C13: =+'הוצאות '!G66 -> 718000 | D13: =+'הוצאות '!H66 -> 67000 | E13: =+'הוצאות '!I251+'הוצאות '!I66 -> 4115000
A14: כספים | B14: שכר | C14: =+'הוצאות '!G86+'הוצאות '!G92+'הוצאות '!G98+'הוצאות '!G227+'הוצאות '!G188 -> 12669000 | D14: =+'הוצאות '!H86+'הוצאות '!H92+'הוצאות '!H98+'הוצאות '!H227+'הוצאות '!H188 -> 12377000 | E14: =+'הוצאות '!I86+'הוצאות '!I92+'הוצאות '!I98+'הוצאות '!I227+'הוצאות '!I188 -> 13512000
B15: פעילות | C15: =+C16-C14 -> 11653000 | D15: =+D16-D14 -> 11527000 | E15: =+E16-E14 -> 12759000
B16: סה"כ | C16: =+'הוצאות '!G91+'הוצאות '!G97+'הוצאות '!G104+'הוצאות '!G190+'הוצאות '!G238 -> 24322000 | D16: =+'הוצאות '!H91+'הוצאות '!H97+'הוצאות '!H104+'הוצאות '!H190+'הוצאות '!H238 -> 23904000 | E16: =+'הוצאות '!I91+'הוצאות '!I97+'הוצאות '!I104+'הוצאות '!I190+'הוצאות '!I238 -> 26271000
A17: שפ"ע | B17: שכר | C17: =+'הוצאות '!G114+'הוצאות '!G122+'הוצאות '!G131+'הוצאות '!G136+'הוצאות '!G191+'הוצאות '!G196+'הוצאות '!G207+'הוצאות '!G270+'הוצאות '!G678 -> 18632000 | D17: =+'הוצאות '!H114+'הוצאות '!H122+'הוצאות '!H131+'הוצאות '!H136+'הוצאות '!H191+'הוצאות '!H196+'הוצאות '!H207+'הוצאות '!H270+'הוצאות '!H678 -> 17991000 | E17: =+'הוצאות '!I114+'הוצאות '!I122+'הוצאות '!I131+'הוצאות '!I136+'הוצאות '!I191+'הוצאות '!I196+'הוצאות '!I207+'הוצאות '!I270+'הוצאות '!I678 -> 19892000
B18: פעילות | C18: =+C19-C17 -> 88111840 | D18: =+D19-D17 -> 94202000 | E18: =+E19-E17 -> 91223187
B19: סה"כ | C19: =+'הוצאות '!G121+'הוצאות '!G125+'הוצאות '!G127+'הוצאות '!G130+'הוצאות '!G135+'הוצאות '!G143+'הוצאות '!G145+'הוצאות '!G195+'הוצאות '!G203+'הוצאות '!G217+'הוצאות '!G273+'הוצאות '!G681+'הוצאות '!G677 -> 106743840 | D19: =+'הוצאות '!H121+'הוצאות '!H125+'הוצאות '!H127+'הוצאות '!H130+'הוצאות '!H135+'הוצאות '!H143+'הוצאות '!H145+'הוצאות '!H195+'הוצאות '!H203+'הוצאות '!H217+'הוצאות '!H273+'הוצאות '!H681+'הוצאות '!H677 -> 112193000 | E19: =+'הוצאות '!I121+'הוצאות '!I125+'הוצאות '!I127+'הוצאות '!I130+'הוצאות '!I135+'הוצאות '!I143+'הוצאות '!I145+'הוצאות '!I195+'הוצאות '!I203+'הוצאות '!I217+'הוצאות '!I273+'הוצאות '!I681+'הוצאות '!I677 -> 111115187
A20: אכיפה ובטחון | B20: שכר | C20: =+'הוצאות '!G146+'הוצאות '!G155+'הוצאות '!G160+'הוצאות '!G162+'הוצאות '!G274+'הוצאות '!G281+'הוצאות '!G294+'הוצאות '!G670+'הוצאות '!G297+'הוצאות '!G247 -> 14587000 | D20: =+'הוצאות '!H146+'הוצאות '!H155+'הוצאות '!H160+'הוצאות '!H162+'הוצאות '!H274+'הוצאות '!H281+'הוצאות '!H294+'הוצאות '!H670+'הוצאות '!H297+'הוצאות '!H247 -> 13808000 | E20: =+'הוצאות '!I146+'הוצאות '!I155+'הוצאות '!I160+'הוצאות '!I162+'הוצאות '!I274+'הוצאות '!I281+'הוצאות '!I294+'הוצאות '!I670+'הוצאות '!I297 -> 15719000
B21: פעילות | C21: =+C22-C20 -> 6651000 | D21: =+D22-D20 -> 5541000 | E21: =+E22-E20 -> 6081000
B22: סה"כ | C22: =+'הוצאות '!G674+'הוצאות '!G296+'הוצאות '!G287+'הוצאות '!G280+'הוצאות '!G251+'הוצאות '!G166+'הוצאות '!G161+'הוצאות '!G159+'הוצאות '!G154+'הוצאות '!G150 -> 21238000 | D22: =+'הוצאות '!H674+'הוצאות '!H296+'הוצאות '!H287+'הוצאות '!H280+'הוצאות '!H251+'הוצאות '!H166+'הוצאות '!H161+'הוצאות '!H159+'הוצאות '!H154+'הוצאות '!H150 -> 19349000 | E22: =+'הוצאות '!I674+'הוצאות '!I296+'הוצאות '!I287+'הוצאות '!I280+'הוצאות '!I166+'הוצאות '!I161+'הוצאות '!I159+'הוצאות '!I154+'הוצאות '!I150+'הוצאות '!I301 -> 21800000
A23: הנדסה | B23: שכר | C23: =+'הוצאות '!G167+'הוצאות '!G176+'הוצאות '!G180+'הוצאות '!G252+'הוצאות '!G183 -> 13818000 | D23: =+'הוצאות '!H167+'הוצאות '!H176+'הוצאות '!H180+'הוצאות '!H252+'הוצאות '!H183 -> 12726000 | E23: =+'הוצאות '!I167+'הוצאות '!I176+'הוצאות '!I180+'הוצאות '!I252+'הוצאות '!I183 -> 14538000
B24: פעילות | C24: =+C25-C23 -> 4469000 | D24: =+D25-D23 -> 3137000 | E24: =+E25-E23 -> 4924813.2
B25: סה"כ | C25: =+'הוצאות '!G175+'הוצאות '!G179+'הוצאות '!G182+'הוצאות '!G187+'הוצאות '!G255 -> 18287000 | D25: =+'הוצאות '!H175+'הוצאות '!H179+'הוצאות '!H182+'הוצאות '!H187+'הוצאות '!H255 -> 15863000 | E25: =+'הוצאות '!I175+'הוצאות '!I179+'הוצאות '!I182+'הוצאות '!I187+'הוצאות '!I255 -> 19462813
A26: חופים | B26: שכר | C26: =+'הוצאות '!G218 -> 9400000 | D26: =+'הוצאות '!H218 -> 9635000 | E26: =+'הוצאות '!I218 -> 9778000
B27: פעילות | C27: =+C28-C26 -> 2637000 | D27: =+D28-D26 -> 2360000 | E27: =+E28-E26 -> 2587000
B28: סה"כ | C28: =+'הוצאות '!G226 -> 12037000 | D28: =+'הוצאות '!H226 -> 11995000 | E28: =+'הוצאות '!I226 -> 12365000
A29: ארועים ואחזקה | B29: שכר | C29: =+'הוצאות '!G239+'הוצאות '!G240 -> 8001000 | D29: =+'הוצאות '!H239+'הוצאות '!H240 -> 7934000 | E29: =+'הוצאות '!I239+'הוצאות '!I240 -> 8649000
B30: פעילות | C30: =+C31-C29 -> 2052000 | D30: =+D31-D29 -> 2544000 | E30: =+E31-E29 -> 2602000
B31: סה"כ | C31: =+'הוצאות '!G246 -> 10053000 | D31: =+'הוצאות '!H246 -> 10478000 | E31: =+'הוצאות '!I246 -> 11251000
A32: מינהל חברה וקהילה | B32: שכר | C32: =+'הוצאות '!G302 -> 3621000 | D32: =+'הוצאות '!H302 -> 2780000 | E32: 0
B33: פעילות | C33: =+C34-C32 -> 4041215 | D33: =+D34-D32 -> 2762000 | E33: =+E34-E32 -> 0
B34: סה"כ | C34: =++'הוצאות '!G312 -> 7662215 | D34: =++'הוצאות '!H312 -> 5542000 | E34: 0
A35: חינוך | B35: שכר | C35: ='הוצאות '!G204+'הוצאות '!G318+'הוצאות '!G332+'הוצאות '!G333+'הוצאות '!G335+'הוצאות '!G345+'הוצאות '!G352+'הוצאות '!G354+'הוצאות '!G355+'הוצאות '!G366+'הוצאות '!G371+'הוצאות '!G378+'הוצאות '!G381+'הוצאות '!G389+'הוצאות '!G397+'הוצאות '!G403+'הוצאות '!G408 -> 114148000 | D35: ='הוצאות '!H204+'הוצאות '!H318+'הוצאות '!H332+'הוצאות '!H333+'הוצאות '!H335+'הוצאות '!H345+'הוצאות '!H352+'הוצאות '!H354+'הוצאות '!H355+'הוצאות '!H366+'הוצאות '!H371+'הוצאות '!H378+'הוצאות '!H381+'הוצאות '!H389+'הוצאות '!H397+'הוצאות '!H403+'הוצאות '!H408 -> 114655000 | E35: ='הוצאות '!I204+'הוצאות '!I318+'הוצאות '!I332+'הוצאות '!I333+'הוצאות '!I335+'הוצאות '!I345+'הוצאות '!I352+'הוצאות '!I354+'הוצאות '!I355+'הוצאות '!I366+'הוצאות '!I371+'הוצאות '!I378+'הוצאות '!I381+'הוצאות '!I389+'הוצאות '!I397+'הוצאות '!I403+'הוצאות '!I408 -> 127168000
B36: פעילות | C36: =+C37-C35 -> 1.07745e+08 | D36: =+D37-D35 -> 108596000 | E36: =+E37-E35 -> 113820000
B37: סה"כ | C37: =+'הוצאות '!G206+'הוצאות '!G331+'הוצאות '!G344+'הוצאות '!G353+'הוצאות '!G365+'הוצאות '!G370+'הוצאות '!G375+'הוצאות '!G377+'הוצאות '!G380+'הוצאות '!G384+'הוצאות '!G388+'הוצאות '!G393+'הוצאות '!G396+'הוצאות '!G402+'הוצאות '!G409+'הוצאות '!G412+'הוצאות '!G414+'הוצאות '!G417 -> 2.21893e+08 | D37: =+'הוצאות '!H206+'הוצאות '!H331+'הוצאות '!H344+'הוצאות '!H353+'הוצאות '!H365+'הוצאות '!H370+'הוצאות '!H375+'הוצאות '!H377+'הוצאות '!H380+'הוצאות '!H384+'הוצאות '!H388+'הוצאות '!H393+'הוצאות '!H396+'הוצאות '!H402+'הוצאות '!H409+'הוצאות '!H412+'הוצאות '!H414+'הוצאות '!H417+'הוצאות '!H419 -> 223251000 | E37: =+'הוצאות '!I206+'הוצאות '!I331+'הוצאות '!I344+'הוצאות '!I353+'הוצאות '!I365+'הוצאות '!I370+'הוצאות '!I375+'הוצאות '!I377+'הוצאות '!I380+'הוצאות '!I384+'הוצאות '!I388+'הוצאות '!I393+'הוצאות '!I396+'הוצאות '!I402+'הוצאות '!I409+'הוצאות '!I412+'הוצאות '!I414+'הוצאות '!I417 -> 240988000
A38: אתו"ס | B38: שכר | C38: =+'הוצאות '!G428+'הוצאות '!G438+'הוצאות '!G489+'הוצאות '!G660+'הוצאות '!G460 -> 6752000 | D38: =+'הוצאות '!H428+'הוצאות '!H438+'הוצאות '!H489+'הוצאות '!H660+'הוצאות '!H460 -> 6764000 | E38: =+'הוצאות '!I428+'הוצאות '!I438+'הוצאות '!I489+'הוצאות '!I660+'הוצאות '!I485+'הוצאות '!I460 -> 8661000
B39: פעילות | C39: =+C40-C38 -> 15065045 | D39: =+D40-D38 -> 16180000 | E39: =+E40-E38 -> 17257000
B40: סה"כ | C40: =+'הוצאות '!G433+'הוצאות '!G442+'הוצאות '!G449+'הוצאות '!G455+'הוצאות '!G467+'הוצאות '!G498+'הוצאות '!G669 -> 21817045 | D40: =+'הוצאות '!H433+'הוצאות '!H442+'הוצאות '!H449+'הוצאות '!H455+'הוצאות '!H467+'הוצאות '!H498+'הוצאות '!H669 -> 22944000 | E40: =+'הוצאות '!I433+'הוצאות '!I442+'הוצאות '!I449+'הוצאות '!I455+'הוצאות '!I467+'הוצאות '!I498+'הוצאות '!I669+'הוצאות '!I488 -> 25918000
A41: נוצ"ץ | B41: שכר | C41: =+'הוצאות '!G468+'הוצאות '!G473+'הוצאות '!G481+'הוצאות '!G485 -> 2167000 | D41: =+'הוצאות '!H468+'הוצאות '!H473+'הוצאות '!H481+'הוצאות '!H485 -> 2130700 | E41: 0
B42: פעילות | C42: =C43-C41 -> 2642000 | D42: =D43-D41 -> 2812000 | E42: =E43-E41 -> 0
...

Sheet תקבולים לפי סעיפים 6
A1: תקבולים לפי סעיפים
A3: סעיף | B3: שם הסעיף | C3: תקציב 2022 | D3: אומדן 2022 | E3: תקציב 2023
A4: 100-102 | B4: ארנונות | C4: =SUMIF('הכנסות '!C3:C263,100,'הכנסות '!G3:G262)+SUMIF('הכנסות '!C3:C263,101,'הכנסות '!G3:G262)+SUMIF('הכנסות '!C3:C263,102,'הכנסות '!G3:G262) -> 405824000 | D4: =SUMIF('הכנסות '!C3:C263,100,'הכנסות '!H3:H262)+SUMIF('הכנסות '!C3:C263,101,'הכנסות '!H3:H262)+SUMIF('הכנסות '!C3:C263,102,'הכנסות '!H3:H262) -> 416511000 | E4: =SUMIF('הכנסות '!C3:C263,100,'הכנסות '!I3:I262)+SUMIF('הכנסות '!C3:C263,101,'הכנסות '!I3:I262)+SUMIF('הכנסות '!C3:C263,102,'הכנסות '!I3:I262) -> 428700000
A5: 108 | B5: ארנונות | C5: =SUMIF('הכנסות '!$C$3:$C$263,טבלה14[[#This Row],[סעיף]],'הכנסות '!$G$3:$G$262) -> 61000000 | D5: =SUMIF('הכנסות '!$C$3:$C$263,טבלה14[[#This Row],[סעיף]],'הכנסות '!$H$3:$H$262) -> 61000000 | E5: =SUMIF('הכנסות '!$C$3:$C$263,טבלה14[[#This Row],[סעיף]],'הכנסות '!$I$3:$I$262) -> 64000000
A6: 210 | B6: אגרות מים וביוב | C6: =SUMIF('הכנסות '!$C$3:$C$263,טבלה14[[#This Row],[סעיף]],'הכנסות '!$G$3:$G$262) -> 20000 | D6: =SUMIF('הכנסות '!$C$3:$C$263,טבלה14[[#This Row],[סעיף]],'הכנסות '!$H$3:$H$262) -> 39000 | E6: =SUMIF('הכנסות '!$C$3:$C$263,טבלה14[[#This Row],[סעיף]],'הכנסות '!$I$3:$I$262) -> 30000
A7: 220 | B7: אגרות בגין שירותים וחמרים | C7: =SUMIF('הכנסות '!$C$3:$C$263,טבלה14[[#This Row],[סעיף]],'הכנסות '!$G$3:$G$262) -> 24324000 | D7: =SUMIF('הכנסות '!$C$3:$C$263,טבלה14[[#This Row],[סעיף]],'הכנסות '!$H$3:$H$262) -> 25278000 | E7: =SUMIF('הכנסות '!$C$3:$C$263,טבלה14[[#This Row],[סעיף]],'הכנסות '!$I$3:$I$262) -> 27019000
A8: 410 | B8: שכל"מ מתושבים | C8: =SUMIF('הכנסות '!$C$3:$C$263,טבלה14[[#This Row],[סעיף]],'הכנסות '!$G$3:$G$262) -> 1973000 | D8: =SUMIF('הכנסות '!$C$3:$C$263,טבלה14[[#This Row],[סעיף]],'הכנסות '!$H$3:$H$262) -> 1432000 | E8: =SUMIF('הכנסות '!$C$3:$C$263,טבלה14[[#This Row],[סעיף]],'הכנסות '!$I$3:$I$262) -> 2073000
A9: 420-421 | B9: השתתפות תושבים בשירותים משלימים | C9: =SUMIF('הכנסות '!$C$3:$C$263,420,'הכנסות '!$G$3:$G$262)+SUMIF('הכנסות '!$C$3:$C$263,421,'הכנסות '!$G$3:$G$262) -> 3490000 | D9: =SUMIF('הכנסות '!$C$3:$C$263,420,'הכנסות '!$H$3:$H$262)+SUMIF('הכנסות '!$C$3:$C$263,421,'הכנסות '!$H$3:$H$262) -> 3564000 | E9: =SUMIF('הכנסות '!$C$3:$C$263,420,'הכנסות '!$I$3:$I$262)+SUMIF('הכנסות '!$C$3:$C$263,421,'הכנסות '!$I$3:$I$262) -> 3925000
A10: 430-431 | B10: השתתפויות מוסדות ורשויות בשכל"מ | C10: =SUMIF('הכנסות '!$C$3:$C$263,430,'הכנסות '!$G$3:$G$262)+SUMIF('הכנסות '!$C$3:$C$263,431,'הכנסות '!$G$3:$G$262) -> 2474000 | D10: =SUMIF('הכנסות '!$C$3:$C$263,430,'הכנסות '!$H$3:$H$262)+SUMIF('הכנסות '!$C$3:$C$263,431,'הכנסות '!$H$3:$H$262) -> 2335000 | E10: =SUMIF('הכנסות '!$C$3:$C$263,430,'הכנסות '!$I$3:$I$262)+SUMIF('הכנסות '!$C$3:$C$263,431,'הכנסות '!$I$3:$I$262) -> 2474000
A11: 440 | B11: השתתפויות רשויות ומוסדות בשירותים משלימים | C11: =SUMIF('הכנסות '!$C$3:$C$263,טבלה14[[#This Row],[סעיף]],'הכנסות '!$G$3:$G$262) -> 870000 | D11: =SUMIF('הכנסות '!$C$3:$C$263,טבלה14[[#This Row],[סעיף]],'הכנסות '!$H$3:$H$262) -> 834000 | E11: =SUMIF('הכנסות '!$C$3:$C$263,טבלה14[[#This Row],[סעיף]],'הכנסות '!$I$3:$I$262) -> 870000
A12: 490 | B12: שרותים ושכר לימוד - שונות | C12: =SUMIF('הכנסות '!$C$3:$C$263,טבלה14[[#This Row],[סעיף]],'הכנסות '!$G$3:$G$262) -> 284000 | D12: =SUMIF('הכנסות '!$C$3:$C$263,טבלה14[[#This Row],[סעיף]],'הכנסות '!$H$3:$H$262) -> 285000 | E12: =SUMIF('הכנסות '!$C$3:$C$263,טבלה14[[#This Row],[סעיף]],'הכנסות '!$I$3:$I$262) -> 433000
A13: 540 | B13: החזרות מחברת ביטוח | C13: =SUMIF('הכנסות '!$C$3:$C$263,טבלה14[[#This Row],[סעיף]],'הכנסות '!$G$3:$G$262) -> 450000 | D13: =SUMIF('הכנסות '!$C$3:$C$263,טבלה14[[#This Row],[סעיף]],'הכנסות '!$H$3:$H$262) -> 437000 | E13: =SUMIF('הכנסות '!$C$3:$C$263,טבלה14[[#This Row],[סעיף]],'הכנסות '!$I$3:$I$262) -> 550160
A14: 590 | B14: החזרות מקרנות | C14: =SUMIF('הכנסות '!$C$3:$C$263,טבלה14[[#This Row],[סעיף]],'הכנסות '!$G$3:$G$262) -> 34891000 | D14: =SUMIF('הכנסות '!$C$3:$C$263,טבלה14[[#This Row],[סעיף]],'הכנסות '!$H$3:$H$262) -> 28029000 | E14: =SUMIF('הכנסות '!$C$3:$C$263,טבלה14[[#This Row],[סעיף]],'הכנסות '!$I$3:$I$262) -> 37003000
A15: 610-611 | B15: מכירת חמרים | C15: =SUMIF('הכנסות '!$C$3:$C$263,610,'הכנסות '!$G$3:$G$262)+SUMIF('הכנסות '!$C$3:$C$263,611,'הכנסות '!$G$3:$G$262) -> 8738000 | D15: =SUMIF('הכנסות '!$C$3:$C$263,610,'הכנסות '!$H$3:$H$262)+SUMIF('הכנסות '!$C$3:$C$263,611,'הכנסות '!$H$3:$H$262) -> 8566000 | E15: =SUMIF('הכנסות '!$C$3:$C$263,610,'הכנסות '!$I$3:$I$262)+SUMIF('הכנסות '!$C$3:$C$263,611,'הכנסות '!$I$3:$I$262) -> 9081000
A16: 640 | B16: שכ"ד | C16: =SUMIF('הכנסות '!$C$3:$C$263,טבלה14[[#This Row],[סעיף]],'הכנסות '!$G$3:$G$262) -> 900000 | D16: =SUMIF('הכנסות '!$C$3:$C$263,טבלה14[[#This Row],[סעיף]],'הכנסות '!$H$3:$H$262) -> 1101000 | E16: =SUMIF('הכנסות '!$C$3:$C$263,טבלה14[[#This Row],[סעיף]],'הכנסות '!$I$3:$I$262) -> 1000000
A17: 650 | B17: דמי שימוש | C17: =SUMIF('הכנסות '!$C$3:$C$263,טבלה14[[#This Row],[סעיף]],'הכנסות '!$G$3:$G$262) -> 0 | D17: =SUMIF('הכנסות '!$C$3:$C$263,טבלה14[[#This Row],[סעיף]],'הכנסות '!$H$3:$H$262) -> 0 | E17: =SUMIF('הכנסות '!$C$3:$C$263,טבלה14[[#This Row],[סעיף]],'הכנסות '!$I$3:$I$262) -> 0
A18: 660 | B18: הכנסות מימון | C18: =SUMIF('הכנסות '!$C$3:$C$263,טבלה14[[#This Row],[סעיף]],'הכנסות '!$G$3:$G$262) -> 420000 | D18: =SUMIF('הכנסות '!$C$3:$C$263,טבלה14[[#This Row],[סעיף]],'הכנסות '!$H$3:$H$262) -> 388000 | E18: =SUMIF('הכנסות '!$C$3:$C$263,טבלה14[[#This Row],[סעיף]],'הכנסות '!$I$3:$I$262) -> 420000
A19: 690-694 | B19: רכוש ומפעלים - שונות | C19: =SUMIF('הכנסות '!$C$3:$C$263,690,'הכנסות '!$G$3:$G$262)+SUMIF('הכנסות '!$C$3:$C$263,691,'הכנסות '!$G$3:$G$262)+SUMIF('הכנסות '!$C$3:$C$263,692,'הכנסות '!$G$3:$G$262)+SUMIF('הכנסות '!$C$3:$C$263,693,'הכנסות '!$G$3:$G$262)+SUMIF('הכנסות '!$C$3:$C$263,694,'הכנסות '!$G$3:$G$262) -> 13464000 | D19: =SUMIF('הכנסות '!$C$3:$C$263,690,'הכנסות '!$H$3:$H$262)+SUMIF('הכנסות '!$C$3:$C$263,691,'הכנסות '!$H$3:$H$262)+SUMIF('הכנסות '!$C$3:$C$263,692,'הכנסות '!$H$3:$H$262)+SUMIF('הכנסות '!$C$3:$C$263,693,'הכנסות '!$H$3:$H$262)+SUMIF('הכנסות '!$C$3:$C$263,694,'הכנסות '!$H$3:$H$262) -> 11548000 | E19: =SUMIF('הכנסות '!$C$3:$C$263,690,'הכנסות '!$I$3:$I$262)+SUMIF('הכנסות '!$C$3:$C$263,691,'הכנסות '!$I$3:$I$262)+SUMIF('הכנסות '!$C$3:$C$263,692,'הכנסות '!$I$3:$I$262)+SUMIF('הכנסות '!$C$3:$C$263,693,'הכנסות '!$I$3:$I$262)+SUMIF('הכנסות '!$C$3:$C$263,694,'הכנסות '!$I$3:$I$262) -> 12734000
A20: 740 | B20: הכנסות מתוכנית פיס בקהילה | C20: =SUMIF('הכנסות '!$C$3:$C$263,טבלה14[[#This Row],[סעיף]],'הכנסות '!$G$3:$G$262) -> 1000000 | D20: =SUMIF('הכנסות '!$C$3:$C$263,טבלה14[[#This Row],[סעיף]],'הכנסות '!$H$3:$H$262) -> 1000000 | E20: =SUMIF('הכנסות '!$C$3:$C$263,טבלה14[[#This Row],[סעיף]],'הכנסות '!$I$3:$I$262) -> 1600000
A21: 910 | B21: השתתפות משרד הפנים | C21: =SUMIF('הכנסות '!$C$3:$C$263,טבלה14[[#This Row],[סעיף]],'הכנסות '!$G$3:$G$262) -> 6450000 | D21: =SUMIF('הכנסות '!$C$3:$C$263,טבלה14[[#This Row],[סעיף]],'הכנסות '!$H$3:$H$262) -> 2593000 | E21: =SUMIF('הכנסות '!$C$3:$C$263,טבלה14[[#This Row],[סעיף]],'הכנסות '!$I$3:$I$262) -> 1610000
A22: 920-923 | B22: השתתפות משרד החינוך | C22: =SUMIF('הכנסות '!$C$3:$C$263,920,'הכנסות '!$G$3:$G$262)+SUMIF('הכנסות '!$C$3:$C$263,921,'הכנסות '!$G$3:$G$262)+SUMIF('הכנסות '!$C$3:$C$263,922,'הכנסות '!$G$3:$G$262)+SUMIF('הכנסות '!$C$3:$C$263,923,'הכנסות '!$G$3:$G$262) -> 122355215 | D22: =SUMIF('הכנסות '!$C$3:$C$263,920,'הכנסות '!$H$3:$H$262)+SUMIF('הכנסות '!$C$3:$C$263,921,'הכנסות '!$H$3:$H$262)+SUMIF('הכנסות '!$C$3:$C$263,922,'הכנסות '!$H$3:$H$262)+SUMIF('הכנסות '!$C$3:$C$263,923,'הכנסות '!$H$3:$H$262) -> 123669000 | E22: =SUMIF('הכנסות '!$C$3:$C$263,920,'הכנסות '!$I$3:$I$262)+SUMIF('הכנסות '!$C$3:$C$263,921,'הכנסות '!$I$3:$I$262)+SUMIF('הכנסות '!$C$3:$C$263,922,'הכנסות '!$I$3:$I$262)+SUMIF('הכנסות '!$C$3:$C$263,923,'הכנסות '!$I$3:$I$262) -> 135558840
A23: 930-939 | B23: השתתפות משרד העבודה והרווחה | C23: =SUMIF('הכנסות '!$C$3:$C$263,930,'הכנסות '!$G$3:$G$262)+SUMIF('הכנסות '!$C$3:$C$263,931,'הכנסות '!$G$3:$G$262)+SUMIF('הכנסות '!$C$3:$C$263,932,'הכנסות '!$G$3:$G$262)+SUMIF('הכנסות '!$C$3:$C$263,933,'הכנסות '!$G$3:$G$262)+SUMIF('הכנסות '!$C$3:$C$263,934,'הכנסות '!$G$3:$G$262)+SUMIF('הכנסות '!$C$3:$C$263,935,'הכנסות '!$G$3:$G$262)+SUMIF('הכנסות '!$C$3:$C$263,936,'הכנסות '!$G$3:$G$262)+SUMIF('הכנסות '!$C$3:$C$263,937,'הכנסות '!$G$3:$G$262)+SUMIF('הכנסות '!$C$3:$C$263,938,'הכנסות '!$G$3:$G$262)+SUMIF('הכנסות '!$C$3:$C$263,939,'הכנסות '!$G$3:$G$262) -> 96965785 | D23: =SUMIF('הכנסות '!$C$3:$C$263,930,'הכנסות '!$H$3:$H$262)+SUMIF('הכנסות '!$C$3:$C$263,931,'הכנסות '!$H$3:$H$262)+SUMIF('הכנסות '!$C$3:$C$263,932,'הכנסות '!$H$3:$H$262)+SUMIF('הכנסות '!$C$3:$C$263,933,'הכנסות '!$H$3:$H$262)+SUMIF('הכנסות '!$C$3:$C$263,934,'הכנסות '!$H$3:$H$262)+SUMIF('הכנסות '!$C$3:$C$263,935,'הכנסות '!$H$3:$H$262)+SUMIF('הכנסות '!$C$3:$C$263,936,'הכנסות '!$H$3:$H$262)+SUMIF('הכנסות '!$C$3:$C$263,937,'הכנסות '!$H$3:$H$262)+SUMIF('הכנסות '!$C$3:$C$263,938,'הכנסות '!$H$3:$H$262)+SUMIF('הכנסות '!$C$3:$C$263,939,'הכנסות '!$H$3:$H$262) -> 93578000 | E23: =SUMIF('הכנסות '!$C$3:$C$263,930,'הכנסות '!$I$3:$I$262)+SUMIF('הכנסות '!$C$3:$C$263,931,'הכנסות '!$I$3:$I$262)+SUMIF('הכנסות '!$C$3:$C$263,932,'הכנסות '!$I$3:$I$262)+SUMIF('הכנסות '!$C$3:$C$263,933,'הכנסות '!$I$3:$I$262)+SUMIF('הכנסות '!$C$3:$C$263,934,'הכנסות '!$I$3:$I$262)+SUMIF('הכנסות '!$C$3:$C$263,935,'הכנסות '!$I$3:$I$262)+SUMIF('הכנסות '!$C$3:$C$263,936,'הכנסות '!$I$3:$I$262)+SUMIF('הכנסות '!$C$3:$C$263,937,'הכנסות '!$I$3:$I$262)+SUMIF('הכנסות '!$C$3:$C$263,938,'הכנסות '!$I$3:$I$262)+SUMIF('הכנסות '!$C$3:$C$263,939,'הכנסות '!$I$3:$I$262)+1 -> 1.01434e+08
A24: 950 | B24: השתתפות משרד הקליטה | C24: =SUMIF('הכנסות '!$C$3:$C$263,טבלה14[[#This Row],[סעיף]],'הכנסות '!$G$3:$G$262) -> 661000 | D24: =SUMIF('הכנסות '!$C$3:$C$263,טבלה14[[#This Row],[סעיף]],'הכנסות '!$H$3:$H$262) -> 662000 | E24: =SUMIF('הכנסות '!$C$3:$C$263,טבלה14[[#This Row],[סעיף]],'הכנסות '!$I$3:$I$262) -> 941000
A25: 960 | B25: השתתפות משרד החקלאות | C25: =SUMIF('הכנסות '!$C$3:$C$263,טבלה14[[#This Row],[סעיף]],'הכנסות '!$G$3:$G$262) -> 35000 | D25: =SUMIF('הכנסות '!$C$3:$C$263,טבלה14[[#This Row],[סעיף]],'הכנסות '!$H$3:$H$262) -> 54000 | E25: =SUMIF('הכנסות '!$C$3:$C$263,טבלה14[[#This Row],[סעיף]],'הכנסות '!$I$3:$I$262) -> 83000
A26: 990 | B26: השתתפות משרדי ממשלה אחרים | C26: =SUMIF('הכנסות '!$C$3:$C$263,טבלה14[[#This Row],[סעיף]],'הכנסות '!$G$3:$G$262) -> 6543000 | D26: =SUMIF('הכנסות '!$C$3:$C$263,טבלה14[[#This Row],[סעיף]],'הכנסות '!$H$3:$H$262) -> 5804000 | E26: =SUMIF('הכנסות '!$C$3:$C$263,טבלה14[[#This Row],[סעיף]],'הכנסות '!$I$3:$I$262) -> 6521000
A27: סה"כ | C27: =SUM(C4:C26) -> 7.93132e+08 | D27: =SUM(D4:D26) -> 788707000 | E27: =SUM(E4:E26) -> 8.3806e+08
C28: =C27-'הכנסות '!G265 -> 0 | D28: =D27-'הכנסות '!H265 -> 0 | E28: =E27-'הכנסות '!I265 -> 0.49999988

Sheet תשלומים לפי סעיפים 7
A1: תשלומים לפי סעיפים
A3: סעיף | B3: שם הסעיף | C3: תקציב 2022 | D3: אומדן 2022 | E3: תקציב 2023
A4: 110 | B4: משכורת ושכ"ע | C4: =SUMIF('הוצאות '!$C$3:$C$689,טבלה7[[#This Row],[סעיף]],'הוצאות '!$G$3:$G$689) -> 304189567 | D4: =SUMIF('הוצאות '!$C$3:$C$689,טבלה7[[#This Row],[סעיף]],'הוצאות '!$H$3:$H$690) -> 300121700 | E4: =SUMIF('הוצאות '!$C$3:$C$689,טבלה7[[#This Row],[סעיף]],'הוצאות '!$I$3:$I$689) -> 3.25778e+08
A5: 410 | B5: שכר דירה ודמי חכירה | C5: =SUMIF('הוצאות '!$C$3:$C$689,טבלה7[[#This Row],[סעיף]],'הוצאות '!$G$3:$G$689) -> 6510999.8 | D5: =SUMIF('הוצאות '!$C$3:$C$689,טבלה7[[#This Row],[סעיף]],'הוצאות '!$H$3:$H$690) -> 5594000 | E5: =SUMIF('הוצאות '!$C$3:$C$689,טבלה7[[#This Row],[סעיף]],'הוצאות '!$I$3:$I$689) -> 8350813.2
A6: 420 | B6: תיקונים | C6: =SUMIF('הוצאות '!$C$3:$C$689,טבלה7[[#This Row],[סעיף]],'הוצאות '!$G$3:$G$689) -> 115000 | D6: =SUMIF('הוצאות '!$C$3:$C$689,טבלה7[[#This Row],[סעיף]],'הוצאות '!$H$3:$H$690) -> 90000 | E6: =SUMIF('הוצאות '!$C$3:$C$689,טבלה7[[#This Row],[סעיף]],'הוצאות '!$I$3:$I$689) -> 115000
A7: 430 | B7: חשמל | C7: =SUMIF('הוצאות '!$C$3:$C$689,טבלה7[[#This Row],[סעיף]],'הוצאות '!$G$3:$G$689) -> 5111000 | D7: =SUMIF('הוצאות '!$C$3:$C$689,טבלה7[[#This Row],[סעיף]],'הוצאות '!$H$3:$H$690) -> 5294000 | E7: =SUMIF('הוצאות '!$C$3:$C$689,טבלה7[[#This Row],[סעיף]],'הוצאות '!$I$3:$I$689) -> 4763000
A8: 432 | B8: מים | C8: =SUMIF('הוצאות '!$C$3:$C$689,טבלה7[[#This Row],[סעיף]],'הוצאות '!$G$3:$G$689) -> 6680000 | D8: =SUMIF('הוצאות '!$C$3:$C$689,טבלה7[[#This Row],[סעיף]],'הוצאות '!$H$3:$H$690) -> 6680000 | E8: =SUMIF('הוצאות '!$C$3:$C$689,טבלה7[[#This Row],[סעיף]],'הוצאות '!$I$3:$I$689) -> 6589000
A9: 440 | B9: ביטוח | C9: =SUMIF('הוצאות '!$C$3:$C$689,טבלה7[[#This Row],[סעיף]],'הוצאות '!$G$3:$G$689) -> 5770000 | D9: =SUMIF('הוצאות '!$C$3:$C$689,טבלה7[[#This Row],[סעיף]],'הוצאות '!$H$3:$H$690) -> 4210000 | E9: =SUMIF('הוצאות '!$C$3:$C$689,טבלה7[[#This Row],[סעיף]],'הוצאות '!$I$3:$I$689) -> 5850000
A10: 450 | B10: ריהוט ואחזקתו | C10: =SUMIF('הוצאות '!$C$3:$C$689,טבלה7[[#This Row],[סעיף]],'הוצאות '!$G$3:$G$689) -> 10000 | D10: =SUMIF('הוצאות '!$C$3:$C$689,טבלה7[[#This Row],[סעיף]],'הוצאות '!$H$3:$H$690) -> 7000 | E10: =SUMIF('הוצאות '!$C$3:$C$689,טבלה7[[#This Row],[סעיף]],'הוצאות '!$I$3:$I$689) -> 10000
A11: 511 | B11: ארוח וכיבוד | C11: =SUMIF('הוצאות '!$C$3:$C$689,טבלה7[[#This Row],[סעיף]],'הוצאות '!$G$3:$G$689) -> 74000 | D11: =SUMIF('הוצאות '!$C$3:$C$689,טבלה7[[#This Row],[סעיף]],'הוצאות '!$H$3:$H$690) -> 58000 | E11: =SUMIF('הוצאות '!$C$3:$C$689,טבלה7[[#This Row],[סעיף]],'הוצאות '!$I$3:$I$689) -> 74000
A12: 521 | B12: השתלמויות | C12: =SUMIF('הוצאות '!$C$3:$C$689,טבלה7[[#This Row],[סעיף]],'הוצאות '!$G$3:$G$689) -> 250000 | D12: =SUMIF('הוצאות '!$C$3:$C$689,טבלה7[[#This Row],[סעיף]],'הוצאות '!$H$3:$H$690) -> 249000 | E12: =SUMIF('הוצאות '!$C$3:$C$689,טבלה7[[#This Row],[סעיף]],'הוצאות '!$I$3:$I$689) -> 300000
A13: 522 | B13: ספרות מקצועית ועיתונות | C13: =SUMIF('הוצאות '!$C$3:$C$689,טבלה7[[#This Row],[סעיף]],'הוצאות '!$G$3:$G$689) -> 46000 | D13: =SUMIF('הוצאות '!$C$3:$C$689,טבלה7[[#This Row],[סעיף]],'הוצאות '!$H$3:$H$690) -> 28000 | E13: =SUMIF('הוצאות '!$C$3:$C$689,טבלה7[[#This Row],[סעיף]],'הוצאות '!$I$3:$I$689) -> 31000
A14: 530 | B14: הוצאות רכב | C14: =SUMIF('הוצאות '!$C$3:$C$689,טבלה7[[#This Row],[סעיף]],'הוצאות '!$G$3:$G$689) -> 5294000 | D14: =SUMIF('הוצאות '!$C$3:$C$689,טבלה7[[#This Row],[סעיף]],'הוצאות '!$H$3:$H$690) -> 5022000 | E14: =SUMIF('הוצאות '!$C$3:$C$689,טבלה7[[#This Row],[סעיף]],'הוצאות '!$I$3:$I$689) -> 5443999.6
A15: 540 | B15: הוצאות תקשורת | C15: =SUMIF('הוצאות '!$C$3:$C$689,טבלה7[[#This Row],[סעיף]],'הוצאות '!$G$3:$G$689) -> 1330000 | D15: =SUMIF('הוצאות '!$C$3:$C$689,טבלה7[[#This Row],[סעיף]],'הוצאות '!$H$3:$H$690) -> 1515000 | E15: =SUMIF('הוצאות '!$C$3:$C$689,טבלה7[[#This Row],[סעיף]],'הוצאות '!$I$3:$I$689) -> 1446000
... A30: 743 | B30: רכישת מחשבים | C30: =SUMIF('הוצאות '!$C$3:$C$689,טבלה7[[#This Row],[סעיף]],'הוצאות '!$G$3:$G$689) -> 350000 | D30: =SUMIF('הוצאות '!$C$3:$C$689,טבלה7[[#This Row],[סעיף]],'הוצאות '!$H$3:$H$690) -> 118000 | E30: =SUMIF('הוצאות '!$C$3:$C$689,טבלה7[[#This Row],[סעיף]],'הוצאות '!$I$3:$I$689) -> 453000
A31: 750-757 | B31: עבודות קבלניות | C31: =SUMIF('הוצאות '!$C$3:$C$689,750,'הוצאות '!$G$3:$G$689)+SUMIF('הוצאות '!$C$3:$C$689,751,'הוצאות '!$G$3:$G$689)+SUMIF('הוצאות '!$C$3:$C$689,752,'הוצאות '!$G$3:$G$689)+SUMIF('הוצאות '!$C$3:$C$689,753,'הוצאות '!$G$3:$G$689)+SUMIF('הוצאות '!$C$3:$C$689,754,'הוצאות '!$G$3:$G$689)+SUMIF('הוצאות '!$C$3:$C$689,755,'הוצאות '!$G$3:$G$689)+SUMIF('הוצאות '!$C$3:$C$689,756,'הוצאות '!$G$3:$G$689)+SUMIF('הוצאות '!$C$3:$C$689,757,'הוצאות '!$G$3:$G$689) -> 117722055 | D31: =SUMIF('הוצאות '!$C$3:$C$689,750,'הוצאות '!$H$3:$H$690)+SUMIF('הוצאות '!$C$3:$C$689,751,'הוצאות '!$H$3:$H$690)+SUMIF('הוצאות '!$C$3:$C$689,752,'הוצאות '!$H$3:$H$690)+SUMIF('הוצאות '!$C$3:$C$689,753,'הוצאות '!$H$3:$H$690)+SUMIF('הוצאות '!$C$3:$C$689,754,'הוצאות '!$H$3:$H$690)+SUMIF('הוצאות '!$C$3:$C$689,755,'הוצאות '!$H$3:$H$690)+SUMIF('הוצאות '!$C$3:$C$689,756,'הוצאות '!$H$3:$H$690)+SUMIF('הוצאות '!$C$3:$C$689,757,'הוצאות '!$H$3:$H$690) -> 122700000 | E31: =SUMIF('הוצאות '!$C$3:$C$689,750,'הוצאות '!$I$3:$I$689)+SUMIF('הוצאות '!$C$3:$C$689,751,'הוצאות '!$I$3:$I$689)+SUMIF('הוצאות '!$C$3:$C$689,752,'הוצאות '!$I$3:$I$689)+SUMIF('הוצאות '!$C$3:$C$689,753,'הוצאות '!$I$3:$I$689)+SUMIF('הוצאות '!$C$3:$C$689,754,'הוצאות '!$I$3:$I$689)+SUMIF('הוצאות '!$C$3:$C$689,755,'הוצאות '!$I$3:$I$689)+SUMIF('הוצאות '!$C$3:$C$689,756,'הוצאות '!$I$3:$I$689)+SUMIF('הוצאות '!$C$3:$C$689,757,'הוצאות '!$I$3:$I$689)+SUMIF('הוצאות '!$C$3:$C$689,758,'הוצאות '!$I$3:$I$689) -> 121577187
A32: 760 | B32: קניית שרותים מרשויות ומוסדות | C32: =SUMIF('הוצאות '!$C$3:$C$689,טבלה7[[#This Row],[סעיף]],'הוצאות '!$G$3:$G$689) -> 7600000 | D32: =SUMIF('הוצאות '!$C$3:$C$689,טבלה7[[#This Row],[סעיף]],'הוצאות '!$H$3:$H$690) -> 7599000 | E32: =SUMIF('הוצאות '!$C$3:$C$689,טבלה7[[#This Row],[סעיף]],'הוצאות '!$I$3:$I$689) -> 7600000
A33: 780-785 | B33: הוצאות שונות | C33: =SUMIF('הוצאות '!$C$3:$C$689,780,'הוצאות '!$G$3:$G$689)+SUMIF('הוצאות '!$C$3:$C$689,781,'הוצאות '!$G$3:$G$689)+SUMIF('הוצאות '!$C$3:$C$689,782,'הוצאות '!$G$3:$G$689)+SUMIF('הוצאות '!$C$3:$C$689,783,'הוצאות '!$G$3:$G$689)+SUMIF('הוצאות '!$C$3:$C$689,784,'הוצאות '!$G$3:$G$689)+SUMIF('הוצאות '!$C$3:$C$689,785,'הוצאות '!$G$3:$G$689) -> 45031500 | D33: =SUMIF('הוצאות '!$C$3:$C$689,780,'הוצאות '!$H$3:$H$690)+SUMIF('הוצאות '!$C$3:$C$689,781,'הוצאות '!$H$3:$H$690)+SUMIF('הוצאות '!$C$3:$C$689,782,'הוצאות '!$H$3:$H$690)+SUMIF('הוצאות '!$C$3:$C$689,783,'הוצאות '!$H$3:$H$690)+SUMIF('הוצאות '!$C$3:$C$689,784,'הוצאות '!$H$3:$H$690)+SUMIF('הוצאות '!$C$3:$C$689,785,'הוצאות '!$H$3:$H$690) -> 45177000 | E33: =SUMIF('הוצאות '!$C$3:$C$689,780,'הוצאות '!$I$3:$I$689)+SUMIF('הוצאות '!$C$3:$C$689,781,'הוצאות '!$I$3:$I$689)+SUMIF('הוצאות '!$C$3:$C$689,782,'הוצאות '!$I$3:$I$689)+SUMIF('הוצאות '!$C$3:$C$689,783,'הוצאות '!$I$3:$I$689)+SUMIF('הוצאות '!$C$3:$C$689,784,'הוצאות '!$I$3:$I$689)+SUMIF('הוצאות '!$C$3:$C$689,785,'הוצאות '!$I$3:$I$689) -> 55893000
A34: 810-816 | B34: השתתפויות תמיכות ותרומות | C34: =SUMIF('הוצאות '!$C$3:$C$689,810,'הוצאות '!$G$3:$G$689)+SUMIF('הוצאות '!$C$3:$C$689,811,'הוצאות '!$G$3:$G$689)+SUMIF('הוצאות '!$C$3:$C$689,812,'הוצאות '!$G$3:$G$689)+SUMIF('הוצאות '!$C$3:$C$689,813,'הוצאות '!$G$3:$G$689)+SUMIF('הוצאות '!$C$3:$C$689,814,'הוצאות '!$G$3:$G$689)+SUMIF('הוצאות '!$C$3:$C$689,815,'הוצאות '!$G$3:$G$689)+SUMIF('הוצאות '!$C$3:$C$689,816,'הוצאות '!$G$3:$G$689) -> 39813378 | D34: =SUMIF('הוצאות '!$C$3:$C$689,810,'הוצאות '!$H$3:$H$690)+SUMIF('הוצאות '!$C$3:$C$689,811,'הוצאות '!$H$3:$H$690)+SUMIF('הוצאות '!$C$3:$C$689,812,'הוצאות '!$H$3:$H$690)+SUMIF('הוצאות '!$C$3:$C$689,813,'הוצאות '!$H$3:$H$690)+SUMIF('הוצאות '!$C$3:$C$689,814,'הוצאות '!$H$3:$H$690)+SUMIF('הוצאות '!$C$3:$C$689,815,'הוצאות '!$H$3:$H$690)+SUMIF('הוצאות '!$C$3:$C$689,816,'הוצאות '!$H$3:$H$690) -> 38092000 | E34: =SUMIF('הוצאות '!$C$3:$C$689,810,'הוצאות '!$I$3:$I$689)+SUMIF('הוצאות '!$C$3:$C$689,811,'הוצאות '!$I$3:$I$689)+SUMIF('הוצאות '!$C$3:$C$689,812,'הוצאות '!$I$3:$I$689)+SUMIF('הוצאות '!$C$3:$C$689,813,'הוצאות '!$I$3:$I$689)+SUMIF('הוצאות '!$C$3:$C$689,814,'הוצאות '!$I$3:$I$689)+SUMIF('הוצאות '!$C$3:$C$689,815,'הוצאות '!$I$3:$I$689)+SUMIF('הוצאות '!$C$3:$C$689,816,'הוצאות '!$I$3:$I$689) -> 36203000
