Workbook

Sheet גיליון1
B1: מנהל הגזברות | H1: עיריית חולון | L1: אגף תקציבים
F2: הצעת התקציב הרגיל לשנת 2024 בש"ח
A4: מספר מאוחד | B4: סעיף | C4: פרק | D4: ספר | E4: ריק במקור | F4: שם | G4: סוג | H4: סוג | I4: אחוז השינוי מול 2023 | J4: סעיפים חדשים | K4: הצעה 2024 | L4: הצעה 2023 | M4: ביצוע 2022
A5: ריק במקור | B5: ריק במקור | C5: ריק במקור | E5: ריק במקור | F5: תקציבי עזר | G5: ריק במקור | H5: ריק במקור | I5: ריק במקור | J5: ריק במקור | K5: ריק במקור | L5: ריק במקור | M5: ריק במקור
A6: 1090000000 | B6: 000 | C6: 090000 | D6: 1 | E6: ריק במקור | F6: תקציבי עזר | G6: ריק במקור | H6: ריק במקור | I6: ריק במקור | J6: ריק במקור | K6: ריק במקור | L6: ריק במקור | M6: ריק במקור
A7: 1920000 | B7: 0 | C7: 92000 | D7: 1 | E7: ריק במקור | F7: משרד הרשות ושרותים | G7: ריק במקור | H7: ריק במקור | I7: ריק במקור | J7: ריק במקור | K7: ריק במקור | L7: ריק במקור | M7: ריק במקור
A8: 1092000100 | B8: 100 | C8: 092000 | D8: 1 | E8: ריק במקור | F8: שכר עובדים לפי תקן | G8: ריק במקור | H8: ריק במקור | I8: ריק במקור | J8: ריק במקור | K8: ריק במקור | L8: ריק במקור | M8: ריק במקור
A9: 1092000110 | B9: 110 | C9: 092000 | D9: 1 | E9: ריק במקור | F9: השכר הקובע-תקציבית | G9: ריק במקור | H9: שכר | I9: =K9/L9-1 -> 0.042951542 | J9: ריק במקור | K9: =VLOOKUP(A9,'[1]קובץ מוכן '!$A$1:$C$7608,3,0) -> 189400 | L9: =VLOOKUP(A9,'[2]2023'!$A$9:$I$7853,9,0) -> 181600 | M9: =VLOOKUP(A9,[3]data1683177749303!$A$2:$J$6448,10,0) -> 172185.22
A10: 1092000119 | B10: 119 | C10: 092000 | D10: 1 | E10: ריק במקור | F10: השכר הקובע-צוברת | G10: ריק במקור | H10: שכר | I10: =K10/L10-1 -> 0.05802626 | J10: ריק במקור | K10: =VLOOKUP(A10,'[1]קובץ מוכן '!$A$1:$C$7608,3,0) -> 249800 | L10: =VLOOKUP(A10,'[2]2023'!$A$9:$I$7853,9,0) -> 236100 | M10: =VLOOKUP(A10,[3]data1683177749303!$A$2:$J$6448,10,0) -> 279767.34
A11: 1092000122 | B11: 122 | C11: 092000 | D11: 1 | E11: ריק במקור | F11: ביגוד | G11: ריק במקור | H11: שכר | I11: =K11/L11-1 -> 0 | J11: ריק במקור | K11: =VLOOKUP(A11,'[1]קובץ מוכן '!$A$1:$C$7608,3,0) -> 6900 | L11: =VLOOKUP(A11,'[2]2023'!$A$9:$I$7853,9,0) -> 6900 | M11: =VLOOKUP(A11,[3]data1683177749303!$A$2:$J$6448,10,0) -> 4431.6
A12: 1092000126 | B12: 126 | C12: 092000 | D12: 1 | E12: ריק במקור | F12: דמי הבראה | G12: ריק במקור | H12: שכר | I12: =K12/L12-1 -> 0.10625 | J12: ריק במקור | K12: =VLOOKUP(A12,'[1]קובץ מוכן '!$A$1:$C$7608,3,0) -> 17700 | L12: =VLOOKUP(A12,'[2]2023'!$A$9:$I$7853,9,0) -> 16000 | M12: =VLOOKUP(A12,[3]data1683177749303!$A$2:$J$6448,10,0) -> 17511
A13: 1092000130 | B13: 130 | C13: 092000 | D13: 1 | E13: ריק במקור | F13: שעות נוספות | G13: ריק במקור | H13: שכר | I13: =K13/L13-1 -> 0 | J13: ריק במקור | K13: =VLOOKUP(A13,'[1]קובץ מוכן '!$A$1:$C$7608,3,0) -> 63600 | L13: =VLOOKUP(A13,'[2]2023'!$A$9:$I$7853,9,0) -> 63600 | M13: =VLOOKUP(A13,[3]data1683177749303!$A$2:$J$6448,10,0) -> 51589.91
A14: 1092000140 | B14: 140 | C14: 092000 | D14: 1 | E14: ריק במקור | F14: השתתפות באחזקת רכב | G14: ריק במקור | H14: שכר | I14: =K14/L14-1 -> 0 | J14: ריק במקור | K14: =VLOOKUP(A14,'[1]קובץ מוכן '!$A$1:$C$7608,3,0) -> 79600 | L14: =VLOOKUP(A14,'[2]2023'!$A$9:$I$7853,9,0) -> 79600 | M14: =VLOOKUP(A14,[3]data1683177749303!$A$2:$J$6448,10,0) -> 70446.63
A15: 1092000200 | B15: 200 | C15: 092000 | D15: 1 | E15: ריק במקור | F15: שכר עובדים ללא תקן | G15: ריק במקור | I15: ריק במקור | J15: ריק במקור | K15: =VLOOKUP(A15,'[1]קובץ מוכן '!$A$1:$C$7608,3,0) -> 0 | L15: ריק במקור | M15: ריק במקור
A16: 1092000210 | B16: 210 | C16: 092000 | D16: 1 | E16: ריק במקור | F16: השכר הקובע | G16: ריק במקור | H16: שכר | I16: ריק במקור | J16: ריק במקור | K16: =VLOOKUP(A16,'[1]קובץ מוכן '!$A$1:$C$7608,3,0) -> 0 | L16: ריק במקור | M16: ריק במקור
A17: 1092000253 | B17: 253 | C17: 092000 | D17: 1 | E17: ריק במקור | F17: עובדים חיצוניים | G17: ריק במקור | H17: שכר | I17: ריק במקור | J17: ריק במקור | K17: =VLOOKUP(A17,'[1]קובץ מוכן '!$A$1:$C$7608,3,0) -> 0 | L17: ריק במקור | M17: ריק במקור
A18: 1092000400 | B18: 400 | C18: 092000 | D18: 1 | E18: ריק במקור | F18: אחזקת בנינים וציוד | G18: ריק במקור | I18: ריק במקור | J18: ריק במקור | K18: =VLOOKUP(A18,'[1]קובץ מוכן '!$A$1:$C$7608,3,0) -> 0 | L18: ריק במקור | M18: ריק במקור
A19: 1092000410 | B19: 410 | C19: 092000 | D19: 1 | E19: ריק במקור | F19: השתתפות בועד בית | G19: ריק במקור | H19: קשיח | I19: =K19/L19-1 -> 0 | J19: ריק במקור | K19: =VLOOKUP(A19,'[1]קובץ מוכן '!$A$1:$C$7608,3,0) -> 10000 | L19: =VLOOKUP(A19,'[2]2023'!$A$9:$I$7853,9,0) -> 10000 | M19: =VLOOKUP(A19,[3]data1683177749303!$A$2:$J$6448,10,0) -> 2231
A20: 1092000411 | B20: 411 | C20: 092000 | D20: 1 | E20: ריק במקור | F20: דמי שכירות | G20: ריק במקור | H20: קשיח | I20: ריק במקור | J20: ריק במקור | K20: =VLOOKUP(A20,'[1]קובץ מוכן '!$A$1:$C$7608,3,0) -> 0 | L20: =VLOOKUP(A20,'[2]2023'!$A$9:$I$7853,9,0) -> 0 | M20: =VLOOKUP(A20,[3]data1683177749303!$A$2:$J$6448,10,0) -> 0
A21: 1092000420 | B21: 420 | C21: 092000 | D21: 1 | E21: ריק במקור | F21: כיבוי אש | G21: ריק במקור | H21: גמיש | I21: =K21/L21-1 -> 0 | J21: ריק במקור | K21: =VLOOKUP(A21,'[1]קובץ מוכן '!$A$1:$C$7608,3,0) -> 40000 | L21: =VLOOKUP(A21,'[2]2023'!$A$9:$I$7853,9,0) -> 40000 | M21: =VLOOKUP(A21,[3]data1683177749303!$A$2:$J$6448,10,0) -> 32361.68
A22: 1092000423 | B22: 423 | C22: 092000 | D22: 1 | E22: ריק במקור | F22: תחזוקת מבנה | G22: ריק במקור | H22: קשיח | I22: =K22/L22-1 -> 0 | J22: ריק במקור | K22: =VLOOKUP(A22,'[1]קובץ מוכן '!$A$1:$C$7608,3,0) -> 34000 | L22: =VLOOKUP(A22,'[2]2023'!$A$9:$I$7853,9,0) -> 34000 | M22: =VLOOKUP(A22,[3]data1683177749303!$A$2:$J$6448,10,0) -> 32300
A23: 1092000431 | B23: 431 | C23: 092000 | D23: 1 | E23: ריק במקור | F23: חשמל | G23: ריק במקור | H23: קשיח | I23: =K23/L23-1 -> -0.15611814 | J23: ריק במקור | K23: 1100000 | L23: =VLOOKUP(A23,'[2]2023'!$A$9:$I$7853,9,0) -> 1303500 | M23: =VLOOKUP(A23,[3]data1683177749303!$A$2:$J$6448,10,0) -> 1082432
A24: 1092000432 | B24: 432 | C24: 092000 | D24: 1 | E24: ריק במקור | F24: מים | G24: ריק במקור | H24: קשיח | I24: =K24/L24-1 -> -0.2 | J24: ריק במקור | K24: 240000 | L24: =VLOOKUP(A24,'[2]2023'!$A$9:$I$7853,9,0) -> 300000 | M24: =VLOOKUP(A24,[3]data1683177749303!$A$2:$J$6448,10,0) -> 194997.25
A25: 1092000433 | B25: 433 | C25: 092000 | D25: 1 | E25: ריק במקור | F25: חומרי נקיון | G25: ריק במקור | H25: גמיש | I25: =K25/L25-1 -> 0 | J25: ריק במקור | K25: =VLOOKUP(A25,'[1]קובץ מוכן '!$A$1:$C$7608,3,0) -> 26600 | L25: =VLOOKUP(A25,'[2]2023'!$A$9:$I$7853,9,0) -> 26600 | M25: =VLOOKUP(A25,[3]data1683177749303!$A$2:$J$6448,10,0) -> 6929.59
A26: 1092000434 | B26: 434 | C26: 092000 | D26: 1 | E26: ריק במקור | F26: חיטוי והדברה | G26: ריק במקור | H26: גמיש | I26: =K26/L26-1 -> 0 | J26: ריק במקור | K26: =VLOOKUP(A26,'[1]קובץ מוכן '!$A$1:$C$7608,3,0) -> 2300 | L26: =VLOOKUP(A26,'[2]2023'!$A$9:$I$7853,9,0) -> 2300 | M26: =VLOOKUP(A26,[3]data1683177749303!$A$2:$J$6448,10,0) -> 0
A27: 1092000435 | B27: 435 | C27: 092000 | D27: 1 | E27: ריק במקור | F27: אחזקת מרכזיות | G27: ריק במקור | H27: קשיח | I27: ריק במקור | J27: ריק במקור | K27: =VLOOKUP(A27,'[1]קובץ מוכן '!$A$1:$C$7608,3,0) -> 0 | L27: =VLOOKUP(A27,'[2]2023'!$A$9:$I$7853,9,0) -> 0 | M27: =VLOOKUP(A27,[3]data1683177749303!$A$2:$J$6448,10,0) -> 0
A28: 1092000436 | B28: 436 | C28: 092000 | D28: 1 | E28: ריק במקור | F28: אחזקת מזגנים | G28: ריק במקור | H28: גמיש | I28: =K28/L28-1 -> 0 | J28: ריק במקור | K28: =VLOOKUP(A28,'[1]קובץ מוכן '!$A$1:$C$7608,3,0) -> 76000 | L28: =VLOOKUP(A28,'[2]2023'!$A$9:$I$7853,9,0) -> 76000 | M28: =VLOOKUP(A28,[3]data1683177749303!$A$2:$J$6448,10,0) -> 68063.24
A29: 1092000437 | B29: 437 | C29: 092000 | D29: 1 | E29: ריק במקור | F29: אחזקת אזעקה | G29: ריק במקור | H29: קשיח | I29: =K29/L29-1 -> 0 | J29: ריק במקור | K29: =VLOOKUP(A29,'[1]קובץ מוכן '!$A$1:$C$7608,3,0) -> 5300 | L29: =VLOOKUP(A29,'[2]2023'!$A$9:$I$7853,9,0) -> 5300 | M29: =VLOOKUP(A29,[3]data1683177749303!$A$2:$J$6448,10,0) -> 1221.48
A30: 1092000438 | B30: 438 | C30: 092000 | D30: 1 | E30: ריק במקור | F30: בטוח ורשוי קשר | G30: ריק במקור | H30: קשיח | I30: =K30/L30-1 -> 0 | J30: ריק במקור | K30: =VLOOKUP(A30,'[1]קובץ מוכן '!$A$1:$C$7608,3,0) -> 247000 | L30: =VLOOKUP(A30,'[2]2023'!$A$9:$I$7853,9,0) -> 247000 | M30: =VLOOKUP(A30,[3]data1683177749303!$A$2:$J$6448,10,0) -> 29817.4
A31: 1092000439 | B31: 439 | C31: 092000 | D31: 1 | E31: ריק במקור | F31: השכרת איתוריות | G31: ריק במקור | H31: קשיח | I31: =K31/L31-1 -> 0 | J31: ריק במקור | K31: =VLOOKUP(A31,'[1]קובץ מוכן '!$A$1:$C$7608,3,0) -> 1700 | L31: =VLOOKUP(A31,'[2]2023'!$A$9:$I$7853,9,0) -> 1700 | M31: =VLOOKUP(A31,[3]data1683177749303!$A$2:$J$6448,10,0) -> 0
A32: 1092000441 | B32: 441 | C32: 092000 | D32: 1 | E32: ריק במקור | F32: ביטוח | G32: ריק במקור | H32: קשיח | I32: ריק במקור | J32: ריק במקור | K32: =VLOOKUP(A32,'[1]קובץ מוכן '!$A$1:$C$7608,3,0) -> 0 | L32: =VLOOKUP(A32,'[2]2023'!$A$9:$I$7853,9,0) -> 0 | M32: =VLOOKUP(A32,[3]data1683177749303!$A$2:$J$6448,10,0) -> 0
A33: 1092000450 | B33: 450 | C33: 092000 | D33: 1 | E33: ריק במקור | F33: אחזקת תמי 4 | G33: ריק במקור | H33: קשיח | I33: =K33/L33-1 -> 1 | J33: ריק במקור | K33: =VLOOKUP(A33,'[1]קובץ מוכן '!$A$1:$C$7608,3,0) -> 100000 | L33: =VLOOKUP(A33,'[2]2023'!$A$9:$I$7853,9,0) -> 50000 | M33: =VLOOKUP(A33,[3]data1683177749303!$A$2:$J$6448,10,0) -> 71921.08
A34: 1092000451 | B34: 451 | C34: 092000 | D34: 1 | E34: ריק במקור | F34: אחזקת דפיברילטור | G34: ריק במקור | H34: גמיש | I34: ריק במקור | J34: ריק במקור | K34: =VLOOKUP(A34,'[1]קובץ מוכן '!$A$1:$C$7608,3,0) -> 5000 | L34: =VLOOKUP(A34,'[2]2023'!$A$9:$I$7853,9,0) -> 0 | M34: =VLOOKUP(A34,[3]data1683177749303!$A$2:$J$6448,10,0) -> 0
A35: 1092000470 | B35: 470 | C35: 092000 | D35: 1 | E35: ריק במקור | F35: אחזקת מכונות משרד | G35: ריק במקור | H35: גמיש | I35: =K35/L35-1 -> 0 | J35: ריק במקור | K35: =VLOOKUP(A35,'[1]קובץ מוכן '!$A$1:$C$7608,3,0) -> 7600 | L35: =VLOOKUP(A35,'[2]2023'!$A$9:$I$7853,9,0) -> 7600 | M35: =VLOOKUP(A35,[3]data1683177749303!$A$2:$J$6448,10,0) -> 187.2
A36: 1092000474 | B36: 474 | C36: 092000 | D36: 1 | E36: ריק במקור | F36: שרות למעליות | G36: ריק במקור | H36: קשיח | I36: =K36/L36-1 -> 0.30952381 | J36: ריק במקור | K36: =VLOOKUP(A36,'[1]קובץ מוכן '!$A$1:$C$7608,3,0) -> 55000 | L36: =VLOOKUP(A36,'[2]2023'!$A$9:$I$7853,9,0) -> 42000 | M36: =VLOOKUP(A36,[3]data1683177749303!$A$2:$J$6448,10,0) -> 40459
A37: 1092000476 | B37: 476 | C37: 092000 | D37: 1 | E37: ריק במקור | F37: אחזקת גנרטור | G37: ריק במקור | H37: קשיח | I37: =K37/L37-1 -> 0.015037594 | J37: ריק במקור | K37: =VLOOKUP(A37,'[1]קובץ מוכן '!$A$1:$C$7608,3,0) -> 13500 | L37: =VLOOKUP(A37,'[2]2023'!$A$9:$I$7853,9,0) -> 13300 | M37: =VLOOKUP(A37,[3]data1683177749303!$A$2:$J$6448,10,0) -> 13244
A38: 1092000500 | B38: 500 | C38: 092000 | D38: 1 | E38: ריק במקור | F38: הוצאות מינהליות | G38: ריק במקור | I38: ריק במקור | J38: ריק במקור | K38: =VLOOKUP(A38,'[1]קובץ מוכן '!$A$1:$C$7608,3,0) -> 0 | L38: =VLOOKUP(A38,'[2]2023'!$A$9:$I$7853,9,0) -> 0 | M38: ריק במקור
A39: 1092000511 | B39: 511 | C39: 092000 | D39: 1 | E39: ריק במקור | F39: שתיה לעובדים | G39: ריק במקור | H39: גמיש | I39: =K39/L39-1 -> 0.051555556 | J39: ריק במקור | K39: 473200 | L39: =VLOOKUP(A39,'[2]2023'!$A$9:$I$7853,9,0) -> 450000 | M39: =VLOOKUP(A39,[3]data1683177749303!$A$2:$J$6448,10,0) -> 414199.92
A40: 1092000540 | B40: 540 | C40: 092000 | D40: 1 | E40: ריק במקור | F40: הוצאות טלפון | G40: ריק במקור | H40: קשיח | I40: =K40/L40-1 -> 0 | J40: ריק במקור | K40: =VLOOKUP(A40,'[1]קובץ מוכן '!$A$1:$C$7608,3,0) -> 800000 | L40: =VLOOKUP(A40,'[2]2023'!$A$9:$I$7853,9,0) -> 800000 | M40: =VLOOKUP(A40,[3]data1683177749303!$A$2:$J$6448,10,0) -> 728380.21
A41: 1092000542 | B41: 542 | C41: 092000 | D41: 1 | E41: ריק במקור | F41: מרכזיה טלולרית | G41: ריק במקור | H41: גמיש | I41: ריק במקור | J41: ריק במקור | K41: =VLOOKUP(A41,'[1]קובץ מוכן '!$A$1:$C$7608,3,0) -> 0 | L41: =VLOOKUP(A41,'[2]2023'!$A$9:$I$7853,9,0) -> 0 | M41: =VLOOKUP(A41,[3]data1683177749303!$A$2:$J$6448,10,0) -> 0
...
