Workbook

Sheet גיליון1
B1: מנהל הגזברות | H1: עיריית חולון | L1: אגף תקציבים
F2: הצעת התקציב הרגיל לשנת 2024 בש"ח
A4: מספר מאוחד | B4: סעיף | C4: פרק | D4: ספר | E4: ריק במקור | F4: שם | G4: סוג | H4: סוג | I4: אחוז השינוי מול 2023 | J4: סעיפים חדשים | K4: הצעה 2024 | L4: הצעה 2023 | M4: ביצוע 2022
A5: ריק במקור | B5: ריק במקור | C5: ריק במקור | E5: ריק במקור | F5: תקציבי עזר | G5: ריק במקור | H5: ריק במקור | I5: ריק במקור | J5: ריק במקור | K5: ריק במקור | L5: ריק במקור | M5: ריק במקור
A6: 1090000000 | B6: 000 | C6: 090000 | D6: 1 | E6: ריק במקור | F6: תקציבי עזר | G6: ריק במקור | H6: ריק במקור | I6: ריק במקור | J6: ריק במקור | K6: ריק במקור | L6: ריק במקור | M6: ריק במקור
A7: 1920000 | B7: 0 | C7: 92000 | D7: 1 | E7: ריק במקור | F7: משרד הרשות ושרותים | G7: ריק במקור | H7: ריק במקור | I7: ריק במקור | J7: ריק במקור | K7: ריק במקור | L7: ריק במקור | M7: ריק במקור
A8: 1092000100 | B8: 100 | C8: 092000 | D8: 1 | E8: ריק במקור | F8: שכר עובדים לפי תקן | G8: ריק במקור | H8: ריק במקור | I8: ריק במקור | J8: ריק במקור | K8: ריק במקור | L8: ריק במקור | M8: ריק במקור
A9: 1092000110 | B9: 110 | C9: 092000 | D9: 1 | E9: ריק במקור | F9: השכר הקובע-תקציבית | G9: ריק במקור | H9: שכר | I9: =K9/L9-1 -> 0.042951542 | J9: ריק במקור | K9: =VLOOKUP(A9,'[1]קובץ מוכן '!$A$1:$C$7608,3,0) -> 189400 | L9: =VLOOKUP(A9,'[2]2023'!$A$9:$I$7853,9,0) -> 181600 | M9: =VLOOKUP(A9,[3]data1683177749303!$A$2:$J$6448,10,0) -> 172185.22
A10: 1092000119 | B10: 119 | C10: 092000 | D10: 1 | E10: ריק במקור | F10: השכר הקובע-צוברת | G10: ריק במקור | H10: שכר | I10: =K10/L10-1 -> 0.05802626 | J10: ריק במקור | K10: =VLOOKUP(A10,'[1]קובץ מוכן '!$A$1:$C$7608,3,0) -> 249800 | L10: =VLOOKUP(A10,'[2]2023'!$A$9:$I$7853,9,0) -> 236100 | M10: =VLOOKUP(A10,[3]data1683177749303!$A$2:$J$6448,10,0) -> 279767.34
A11: 1092000122 | B11: 122 | C11: 092000 | D11: 1 | E11: ריק במקור | F11: ביגוד | G11: ריק במקור | H11: שכר | I11: =K11/L11-1 -> 0 | J11: ריק במקור | K11: =VLOOKUP(A11,'[1]קובץ מוכן '!$A$1:$C$7608,3,0) -> 6900 | L11: =VLOOKUP(A11,'[2]2023'!$A$9:$I$7853,9,0) -> 6900 | M11: =VLOOKUP(A11,[3]data1683177749303!$A$2:$J$6448,10,0) -> 4431.6
A12: 1092000126 | B12: 126 | C12: 092000 | D12: 1 | E12: ריק במקור | F12: דמי הבראה | G12: ריק במקור | H12: שכר | I12: =K12/L12-1 -> 0.10625 | J12: ריק במקור | K12: =VLOOKUP(A12,'[1]קובץ מוכן '!$A$1:$C$7608,3,0) -> 17700 | L12: =VLOOKUP(A12,'[2]2023'!$A$9:$I$7853,9,0) -> 16000 | M12: =VLOOKUP(A12,[3]data1683177749303!$A$2:$J$6448,10,0) -> 17511
A13: 1092000130 | B13: 130 | C13: 092000 | D13: 1 | E13: ריק במקור | F13: שעות נוספות | G13: ריק במקור | H13: שכר | I13: =K13/L13-1 -> 0 | J13: ריק במקור | K13: =VLOOKUP(A13,'[1]קובץ מוכן '!$A$1:$C$7608,3,0) -> 63600 | L13: =VLOOKUP(A13,'[2]2023'!$A$9:$I$7853,9,0) -> 63600 | M13: =VLOOKUP(A13,[3]data1683177749303!$A$2:$J$6448,10,0) -> 51589.91
A14: 1092000140 | B14: 140 | C14: 092000 | D14: 1 | E14: ריק במקור | F14: השתתפות באחזקת רכב | G14: ריק במקור | H14: שכר | I14: =K14/L14-1 -> 0 | J14: ריק במקור | K14: =VLOOKUP(A14,'[1]קובץ מוכן '!$A$1:$C$7608,3,0) -> 79600 | L14: =VLOOKUP(A14,'[2]2023'!$A$9:$I$7853,9,0) -> 79600 | M14: =VLOOKUP(A14,[3]data1683177749303!$A$2:$J$6448,10,0) -> 70446.63
A15: 1092000200 | B15: 200 | C15: 092000 | D15: 1 | E15: ריק במקור | F15: שכר עובדים ללא תקן | G15: ריק במקור | I15: ריק במקור | J15: ריק במקור | K15: =VLOOKUP(A15,'[1]קובץ מוכן '!$A$1:$C$7608,3,0) -> 0 | L15: ריק במקור | M15: ריק במקור
A16: 1092000210 | B16: 210 | C16: 092000 | D16: 1 | E16: ריק במקור | F16: השכר הקובע | G16: ריק במקור | H16: שכר | I16: ריק במקור | J16: ריק במקור | K16: =VLOOKUP(A16,'[1]קובץ מוכן '!$A$1:$C$7608,3,0) -> 0 | L16: ריק במקור | M16: ריק במקור
A17: 1092000253 | B17: 253 | C17: 092000 | D17: 1 | E17: ריק במקור | F17: עובדים חיצוניים | G17: ריק במקור | H17: שכר | I17: ריק במקור | J17: ריק במקור | K17: =VLOOKUP(A17,'[1]קובץ מוכן '!$A$1:$C$7608,3,0) -> 0 | L17: ריק במקור | M17: ריק במקור
A18: 1092000400 | B18: 400 | C18: 092000 | D18: 1 | E18: ריק במקור | F18: אחזקת בנינים וציוד | G18: ריק במקור | I18: ריק במקור | J18: ריק במקור | K18: =VLOOKUP(A18,'[1]קובץ מוכן '!$A$1:$C$7608,3,0) -> 0 | L18: ריק במקור | M18: ריק במקור
A19: 1092000410 | B19: 410 | C19: 092000 | D19: 1 | E19: ריק במקור | F19: השתתפות בועד בית | G19: ריק במקור | H19: קשיח | I19: =K19/L19-1 -> 0 | J19: ריק במקור | K19: =VLOOKUP(A19,'[1]קובץ מוכן '!$A$1:$C$7608,3,0) -> 10000 | L19: =VLOOKUP(A19,'[2]2023'!$A$9:$I$7853,9,0) -> 10000 | M19: =VLOOKUP(A19,[3]data1683177749303!$A$2:$J$6448,10,0) -> 2231
A20: 1092000411 | B20: 411 | C20: 092000 | D20: 1 | E20: ריק במקור | F20: דמי שכירות | G20: ריק במקור | H20: קשיח | I20: ריק במקור | J20: ריק במקור | K20: =VLOOKUP(A20,'[1]קובץ מוכן '!$A$1:$C$7608,3,0) -> 0 | L20: =VLOOKUP(A20,'[2]2023'!$A$9:$I$7853,9,0) -> 0 | M20: =VLOOKUP(A20,[3]data1683177749303!$A$2:$J$6448,10,0) -> 0
A21: 1092000420 | B21: 420 | C21: 092000 | D21: 1 | E21: ריק במקור | F21: כיבוי אש | G21: ריק במקור | H21: גמיש | I21: =K21/L21-1 -> 0 | J21: ריק במקור | K21: =VLOOKUP(A21,'[1]קובץ מוכן '!$A$1:$C$7608,3,0) -> 40000 | L21: =VLOOKUP(A21,'[2]2023'!$A$9:$I$7853,9,0) -> 40000 | M21: =VLOOKUP(A21,[3]data1683177749303!$A$2:$J$6448,10,0) -> 32361.68
A22: 1092000423 | B22: 423 | C22: 092000 | D22: 1 | E22: ריק במקור | F22: תחזוקת מבנה | G22: ריק במקור | H22: קשיח | I22: =K22/L22-1 -> 0 | J22: ריק במקור | K22: =VLOOKUP(A22,'[1]קובץ מוכן '!$A$1:$C$7608,3,0) -> 34000 | L22: =VLOOKUP(A22,'[2]2023'!$A$9:$I$7853,9,0) -> 34000 | M22: =VLOOKUP(A22,[3]data1683177749303!$A$2:$J$6448,10,0) -> 32300
A23: 1092000431 | B23: 431 | C23: 092000 | D23: 1 | E23: ריק במקור | F23: חשמל | G23: ריק במקור | H23: קשיח | I23: =K23/L23-1 -> -0.15611814 | J23: ריק במקור | K23: 1100000 | L23: =VLOOKUP(A23,'[2]2023'!$A$9:$I$7853,9,0) -> 1303500 | M23: =VLOOKUP(A23,[3]data1683177749303!$A$2:$J$6448,10,0) -> 1082432
A24: 1092000432 | B24: 432 | C24: 092000 | D24: 1 | E24: ריק במקור | F24: מים | G24: ריק במקור | H24: קשיח | I24: =K24/L24-1 -> -0.2 | J24: ריק במקור | K24: 240000 | L24: =VLOOKUP(A24,'[2]2023'!$A$9:$I$7853,9,0) -> 300000 | M24: =VLOOKUP(A24,[3]data1683177749303!$A$2:$J$6448,10,0) -> 194997.25
A25: 1092000433 | B25: 433 | C25: 092000 | D25: 1 | E25: ריק במקור | F25: חומרי נקיון | G25: ריק במקור | H25: גמיש | I25: =K25/L25-1 -> 0 | J25: ריק במקור | K25: =VLOOKUP(A25,'[1]קובץ מוכן '!$A$1:$C$7608,3,0) -> 26600 | L25: =VLOOKUP(A25,'[2]2023'!$A$9:$I$7853,9,0) -> 26600 | M25: =VLOOKUP(A25,[3]data1683177749303!$A$2:$J$6448,10,0) -> 6929.59
A26: 1092000434 | B26: 434 | C26: 092000 | D26: 1 | E26: ריק במקור | F26: חיטוי והדברה | G26: ריק במקור | H26: גמיש | I26: =K26/L26-1 -> 0 | J26: ריק במקור | K26: =VLOOKUP(A26,'[1]קובץ מוכן '!$A$1:$C$7608,3,0) -> 2300 | L26: =VLOOKUP(A26,'[2]2023'!$A$9:$I$7853,9,0) -> 2300 | M26: =VLOOKUP(A26,[3]data1683177749303!$A$2:$J$6448,10,0) -> 0
A27: 1092000435 | B27: 435 | C27: 092000 | D27: 1 | E27: ריק במקור | F27: אחזקת מרכזיות | G27: ריק במקור | H27: קשיח | I27: ריק במקור | J27: ריק במקור | K27: =VLOOKUP(A27,'[1]קובץ מוכן '!$A$1:$C$7608,3,0) -> 0 | L27: =VLOOKUP(A27,'[2]2023'!$A$9:$I$7853,9,0) -> 0 | M27: =VLOOKUP(A27,[3]data1683177749303!$A$2:$J$6448,10,0) -> 0
A28: 1092000436 | B28: 436 | C28: 092000 | D28: 1 | E28: ריק במקור | F28: אחזקת מזגנים | G28: ריק במקור | H28: גמיש | I28: =K28/L28-1 -> 0 | J28: ריק במקור | K28: =VLOOKUP(A28,'[1]קובץ מוכן '!$A$1:$C$7608,3,0) -> 76000 | L28: =VLOOKUP(A28,'[2]2023'!$A$9:$I$7853,9,0) -> 76000 | M28: =VLOOKUP(A28,[3]data1683177749303!$A$2:$J$6448,10,0) -> 68063.24
A29: 1092000437 | B29: 437 | C29: 092000 | D29: 1 | E29: ריק במקור | F29: אחזקת אזעקה | G29: ריק במקור | H29: קשיח | I29: =K29/L29-1 -> 0 | J29: ריק במקור | K29: =VLOOKUP(A29,'[1]קובץ מוכן '!$A$1:$C$7608,3,0) -> 5300 | L29: =VLOOKUP(A29,'[2]2023'!$A$9:$I$7853,9,0) -> 5300 | M29: =VLOOKUP(A29,[3]data1683177749303!$A$2:$J$6448,10,0) -> 1221.48
A30: 1092000438 | B30: 438 | C30: 092000 | D30: 1 | E30: ריק במקור | F30: בטוח ורשוי קשר | G30: ריק במקור | H30: קשיח | I30: =K30/L30-1 -> 0 | J30: ריק במקור | K30: =VLOOKUP(A30,'[1]קובץ מוכן '!$A$1:$C$7608,3,0) -> 247000 | L30: =VLOOKUP(A30,'[2]2023'!$A$9:$I$7853,9,0) -> 247000 | M30: =VLOOKUP(A30,[3]data1683177749303!$A$2:$J$6448,10,0) -> 29817.4
A31: 1092000439 | B31: 439 | C31: 092000 | D31: 1 | E31: ריק במקור | F31: השכרת איתוריות | G31: ריק במקור | H31: קשיח | I31: =K31/L31-1 -> 0 | J31: ריק במקור | K31: =VLOOKUP(A31,'[1]קובץ מוכן '!$A$1:$C$7608,3,0) -> 1700 | L31: =VLOOKUP(A31,'[2]2023'!$A$9:$I$7853,9,0) -> 1700 | M31: =VLOOKUP(A31,[3]data1683177749303!$A$2:$J$6448,10,0) -> 0
A32: 1092000441 | B32: 441 | C32: 092000 | D32: 1 | E32: ריק במקור | F32: ביטוח | G32: ריק במקור | H32: קשיח | I32: ריק במקור | J32: ריק במקור | K32: =VLOOKUP(A32,'[1]קובץ מוכן '!$A$1:$C$7608,3,0) -> 0 | L32: =VLOOKUP(A32,'[2]2023'!$A$9:$I$7853,9,0) -> 0 | M32: =VLOOKUP(A32,[3]data1683177749303!$A$2:$J$6448,10,0) -> 0
A33: 1092000450 | B33: 450 | C33: 092000 | D33: 1 | E33: ריק במקור | F33: אחזקת תמי 4 | G33: ריק במקור | H33: קשיח | I33: =K33/L33-1 -> 1 | J33: ריק במקור | K33: =VLOOKUP(A33,'[1]קובץ מוכן '!$A$1:$C$7608,3,0) -> 100000 | L33: =VLOOKUP(A33,'[2]2023'!$A$9:$I$7853,9,0) -> 50000 | M33: =VLOOKUP(A33,[3]data1683177749303!$A$2:$J$6448,10,0) -> 71921.08
A34: 1092000451 | B34: 451 | C34: 092000 | D34: 1 | E34: ריק במקור | F34: אחזקת דפיברילטור | G34: ריק במקור | H34: גמיש | I34: ריק במקור | J34: ריק במקור | K34: =VLOOKUP(A34,'[1]קובץ מוכן '!$A$1:$C$7608,3,0) -> 5000 | L34: =VLOOKUP(A34,'[2]2023'!$A$9:$I$7853,9,0) -> 0 | M34: =VLOOKUP(A34,[3]data1683177749303!$A$2:$J$6448,10,0) -> 0
A35: 1092000470 | B35: 470 | C35: 092000 | D35: 1 | E35: ריק במקור | F35: אחזקת מכונות משרד | G35: ריק במקור | H35: גמיש | I35: =K35/L35-1 -> 0 | J35: ריק במקור | K35: =VLOOKUP(A35,'[1]קובץ מוכן '!$A$1:$C$7608,3,0) -> 7600 | L35: =VLOOKUP(A35,'[2]2023'!$A$9:$I$7853,9,0) -> 7600 | M35: =VLOOKUP(A35,[3]data1683177749303!$A$2:$J$6448,10,0) -> 187.2
A36: 1092000474 | B36: 474 | C36: 092000 | D36: 1 | E36: ריק במקור | F36: שרות למעליות | G36: ריק במקור | H36: קשיח | I36: =K36/L36-1 -> 0.30952381 | J36: ריק במקור | K36: =VLOOKUP(A36,'[1]קובץ מוכן '!$A$1:$C$7608,3,0) -> 55000 | L36: =VLOOKUP(A36,'[2]2023'!$A$9:$I$7853,9,0) -> 42000 | M36: =VLOOKUP(A36,[3]data1683177749303!$A$2:$J$6448,10,0) -> 40459
A37: 1092000476 | B37: 476 | C37: 092000 | D37: 1 | E37: ריק במקור | F37: אחזקת גנרטור | G37: ריק במקור | H37: קשיח | I37: =K37/L37-1 -> 0.015037594 | J37: ריק במקור | K37: =VLOOKUP(A37,'[1]קובץ מוכן '!$A$1:$C$7608,3,0) -> 13500 | L37: =VLOOKUP(A37,'[2]2023'!$A$9:$I$7853,9,0) -> 13300 | M37: =VLOOKUP(A37,[3]data1683177749303!$A$2:$J$6448,10,0) -> 13244
A38: 1092000500 | B38: 500 | C38: 092000 | D38: 1 | E38: ריק במקור | F38: הוצאות מינהליות | G38: ריק במקור | I38: ריק במקור | J38: ריק במקור | K38: =VLOOKUP(A38,'[1]קובץ מוכן '!$A$1:$C$7608,3,0) -> 0 | L38: =VLOOKUP(A38,'[2]2023'!$A$9:$I$7853,9,0) -> 0 | M38: ריק במקור
A39: 1092000511 | B39: 511 | C39: 092000 | D39: 1 | E39: ריק במקור | F39: שתיה לעובדים | G39: ריק במקור | H39: גמיש | I39: =K39/L39-1 -> 0.051555556 | J39: ריק במקור | K39: 473200 | L39: =VLOOKUP(A39,'[2]2023'!$A$9:$I$7853,9,0) -> 450000 | M39: =VLOOKUP(A39,[3]data1683177749303!$A$2:$J$6448,10,0) -> 414199.92
A40: 1092000540 | B40: 540 | C40: 092000 | D40: 1 | E40: ריק במקור | F40: הוצאות טלפון | G40: ריק במקור | H40: קשיח | I40: =K40/L40-1 -> 0 | J40: ריק במקור | K40: =VLOOKUP(A40,'[1]קובץ מוכן '!$A$1:$C$7608,3,0) -> 800000 | L40: =VLOOKUP(A40,'[2]2023'!$A$9:$I$7853,9,0) -> 800000 | M40: =VLOOKUP(A40,[3]data1683177749303!$A$2:$J$6448,10,0) -> 728380.21
A41: 1092000542 | B41: 542 | C41: 092000 | D41: 1 | E41: ריק במקור | F41: מרכזיה טלולרית | G41: ריק במקור | H41: גמיש | I41: ריק במקור | J41: ריק במקור | K41: =VLOOKUP(A41,'[1]קובץ מוכן '!$A$1:$C$7608,3,0) -> 0 | L41: =VLOOKUP(A41,'[2]2023'!$A$9:$I$7853,9,0) -> 0 | M41: =VLOOKUP(A41,[3]data1683177749303!$A$2:$J$6448,10,0) -> 0
A42: 1092000543 | B42: 543 | C42: 092000 | D42: 1 | E42: ריק במקור | F42: טלפונים סלולריים | G42: ריק במקור | H42: גמיש | I42: =K42/L42-1 -> 0 | J42: ריק במקור | K42: =VLOOKUP(A42,'[1]קובץ מוכן '!$A$1:$C$7608,3,0) -> 400000 | L42: =VLOOKUP(A42,'[2]2023'!$A$9:$I$7853,9,0) -> 400000 | M42: =VLOOKUP(A42,[3]data1683177749303!$A$2:$J$6448,10,0) -> 358860.6
A43: 1092000544 | B43: 544 | C43: 092000 | D43: 1 | E43: ריק במקור | F43: הוצאות דאר | G43: ריק במקור | H43: קשיח | I43: ריק במקור | J43: ריק במקור | K43: =VLOOKUP(A43,'[1]קובץ מוכן '!$A$1:$C$7608,3,0) -> 0 | L43: =VLOOKUP(A43,'[2]2023'!$A$9:$I$7853,9,0) -> 0 | M43: ריק במקור
A44: 1092000545 | B44: 545 | C44: 092000 | D44: 1 | E44: ריק במקור | F44: סלולריים - עובדים | G44: ריק במקור | H44: גמיש | I44: ריק במקור | J44: ריק במקור | K44: =VLOOKUP(A44,'[1]קובץ מוכן '!$A$1:$C$7608,3,0) -> 0 | L44: =VLOOKUP(A44,'[2]2023'!$A$9:$I$7853,9,0) -> 0 | M44: ריק במקור
A45: 1092000550 | B45: 550 | C45: 092000 | D45: 1 | E45: ריק במקור | F45: פירסומים | G45: ריק במקור | H45: גמיש | I45: ריק במקור | J45: ריק במקור | K45: =VLOOKUP(A45,'[1]קובץ מוכן '!$A$1:$C$7608,3,0) -> 0 | L45: =VLOOKUP(A45,'[2]2023'!$A$9:$I$7853,9,0) -> 0 | M45: ריק במקור
A46: 1092000561 | B46: 561 | C46: 092000 | D46: 1 | E46: ריק במקור | F46: שיכפולים | G46: ריק במקור | H46: גמיש | I46: =K46/L46-1 -> -1 | J46: ריק במקור | K46: =VLOOKUP(A46,'[1]קובץ מוכן '!$A$1:$C$7608,3,0) -> 0 | L46: =VLOOKUP(A46,'[2]2023'!$A$9:$I$7853,9,0) -> 800 | M46: ריק במקור
A47: 1092000562 | B47: 562 | C47: 092000 | D47: 1 | E47: ריק במקור | F47: הדפסות | G47: ריק במקור | H47: גמיש | I47: ריק במקור | J47: ריק במקור | K47: =VLOOKUP(A47,'[1]קובץ מוכן '!$A$1:$C$7608,3,0) -> 0 | L47: =VLOOKUP(A47,'[2]2023'!$A$9:$I$7853,9,0) -> 0 | M47: ריק במקור
A48: 1092000700 | B48: 700 | C48: 092000 | D48: 1 | E48: ריק במקור | F48: הוצאות לפעולות | G48: ריק במקור | I48: ריק במקור | J48: ריק במקור | K48: =VLOOKUP(A48,'[1]קובץ מוכן '!$A$1:$C$7608,3,0) -> 0 | L48: =VLOOKUP(A48,'[2]2023'!$A$9:$I$7853,9,0) -> 0 | M48: ריק במקור
A49: 1092000710 | B49: 710 | C49: 092000 | D49: 1 | E49: ריק במקור | F49: הובלות והסעות | G49: ריק במקור | H49: גמיש | I49: =K49/L49-1 -> 0.4 | J49: ריק במקור | K49: =VLOOKUP(A49,'[1]קובץ מוכן '!$A$1:$C$7608,3,0) -> 7000 | L49: =VLOOKUP(A49,'[2]2023'!$A$9:$I$7853,9,0) -> 5000 | M49: =VLOOKUP(A49,[3]data1683177749303!$A$2:$J$6448,10,0) -> 6326.4
A50: 1092000721 | B50: 721 | C50: 092000 | D50: 1 | E50: ריק במקור | F50: חמרים-תחזוקת מבנים | G50: ריק במקור | H50: גמיש | I50: =K50/L50-1 -> 0 | J50: ריק במקור | K50: =VLOOKUP(A50,'[1]קובץ מוכן '!$A$1:$C$7608,3,0) -> 3800 | L50: =VLOOKUP(A50,'[2]2023'!$A$9:$I$7853,9,0) -> 3800 | M50: =VLOOKUP(A50,[3]data1683177749303!$A$2:$J$6448,10,0) -> 3664.45
A51: 1092000722 | B51: 722 | C51: 092000 | D51: 1 | E51: ריק במקור | F51: חמרים-תחזוקה עצמית | G51: ריק במקור | H51: גמיש | I51: =K51/L51-1 -> 0 | J51: ריק במקור | K51: =VLOOKUP(A51,'[1]קובץ מוכן '!$A$1:$C$7608,3,0) -> 22800 | L51: =VLOOKUP(A51,'[2]2023'!$A$9:$I$7853,9,0) -> 22800 | M51: =VLOOKUP(A51,[3]data1683177749303!$A$2:$J$6448,10,0) -> 20979.87
A52: 1092000742 | B52: 742 | C52: 092000 | D52: 1 | E52: ריק במקור | F52: כלים וציוד | G52: ריק במקור | H52: גמיש | I52: =K52/L52-1 -> 0 | J52: ריק במקור | K52: =VLOOKUP(A52,'[1]קובץ מוכן '!$A$1:$C$7608,3,0) -> 2300 | L52: =VLOOKUP(A52,'[2]2023'!$A$9:$I$7853,9,0) -> 2300 | M52: =VLOOKUP(A52,[3]data1683177749303!$A$2:$J$6448,10,0) -> 1062.04
A53: 1092000745 | B53: 745 | C53: 092000 | D53: 1 | E53: ריק במקור | F53: דמי פריצה - תכולה | G53: ריק במקור | H53: קשיח | I53: ריק במקור | J53: ריק במקור | K53: =VLOOKUP(A53,'[1]קובץ מוכן '!$A$1:$C$7608,3,0) -> 0 | L53: =VLOOKUP(A53,'[2]2023'!$A$9:$I$7853,9,0) -> 0 | M53: ריק במקור
A54: 1092000746 | B54: 746 | C54: 092000 | D54: 1 | E54: ריק במקור | F54: דמי פריצה - מבנה | G54: ריק במקור | H54: קשיח | I54: ריק במקור | J54: ריק במקור | K54: =VLOOKUP(A54,'[1]קובץ מוכן '!$A$1:$C$7608,3,0) -> 0 | L54: =VLOOKUP(A54,'[2]2023'!$A$9:$I$7853,9,0) -> 0 | M54: ריק במקור
A55: 1092000751 | B55: 751 | C55: 092000 | D55: 1 | E55: ריק במקור | F55: עבודות קבלניות | G55: ריק במקור | H55: גמיש | I55: =K55/L55-1 -> 0 | J55: ריק במקור | K55: =VLOOKUP(A55,'[1]קובץ מוכן '!$A$1:$C$7608,3,0) -> 110000 | L55: =VLOOKUP(A55,'[2]2023'!$A$9:$I$7853,9,0) -> 110000 | M55: =VLOOKUP(A55,[3]data1683177749303!$A$2:$J$6448,10,0) -> 111365
A56: 1092000752 | B56: 752 | C56: 092000 | D56: 1 | E56: ריק במקור | F56: נקיון בקבלנות | G56: ריק במקור | H56: קשיח | I56: =K56/L56-1 -> 0.027272727 | J56: ריק במקור | K56: =VLOOKUP(A56,'[1]קובץ מוכן '!$A$1:$C$7608,3,0) -> 1130000 | L56: =VLOOKUP(A56,'[2]2023'!$A$9:$I$7853,9,0) -> 1100000 | M56: =VLOOKUP(A56,[3]data1683177749303!$A$2:$J$6448,10,0) -> 1110005.6
A57: 1092000753 | B57: 753 | C57: 092000 | D57: 1 | E57: ריק במקור | F57: עובדים חיצוניים | G57: ריק במקור | H57: קשיח | I57: ריק במקור | J57: ריק במקור | K57: =VLOOKUP(A57,'[1]קובץ מוכן '!$A$1:$C$7608,3,0) -> 0 | L57: =VLOOKUP(A57,'[2]2023'!$A$9:$I$7853,9,0) -> 0 | M57: ריק במקור
A58: 1092000756 | B58: 756 | C58: 092000 | D58: 1 | E58: ריק במקור | F58: שמירה בקבלנות | G58: ריק במקור | H58: קשיח | I58: =K58/L58-1 -> 0.625 | J58: ריק במקור | K58: 1300000 | L58: =VLOOKUP(A58,'[2]2023'!$A$9:$I$7853,9,0) -> 800000 | M58: =VLOOKUP(A58,[3]data1683177749303!$A$2:$J$6448,10,0) -> 939527.66
A59: 1092000757 | B59: 757 | C59: 092000 | D59: 1 | E59: ריק במקור | F59: שרותי גניזה | G59: ריק במקור | H59: גמיש | I59: ריק במקור | J59: ריק במקור | K59: =VLOOKUP(A59,'[1]קובץ מוכן '!$A$1:$C$7608,3,0) -> 0 | L59: =VLOOKUP(A59,'[2]2023'!$A$9:$I$7853,9,0) -> 0 | M59: ריק במקור
A60: 1092000780 | B60: 780 | C60: 092000 | D60: 1 | E60: ריק במקור | F60: השכרת פרומפטר | G60: ריק במקור | H60: גמיש | I60: ריק במקור | J60: שינוי שם | K60: 30000 | L60: =VLOOKUP(A60,'[2]2023'!$A$9:$I$7853,9,0) -> 0 | M60: =VLOOKUP(A60,[3]data1683177749303!$A$2:$J$6448,10,0) -> 0
A61: 1092000789 | B61: 789 | C61: 092000 | D61: 1 | E61: ריק במקור | F61: כביסה | G61: ריק במקור | H61: גמיש | I61: ריק במקור | J61: ריק במקור | K61: =VLOOKUP(A61,'[1]קובץ מוכן '!$A$1:$C$7608,3,0) -> 0 | L61: =VLOOKUP(A61,'[2]2023'!$A$9:$I$7853,9,0) -> 0 | M61: =VLOOKUP(A61,[3]data1683177749303!$A$2:$J$6448,10,0) -> 0
A62: 1092000794 | B62: 794 | C62: 092000 | D62: 1 | E62: ריק במקור | F62: השתתפות בעזר 094 | G62: ריק במקור | H62: קשיח | I62: =K62/L62-1 -> 0 | J62: ריק במקור | K62: 50000 | L62: =VLOOKUP(A62,'[2]2023'!$A$9:$I$7853,9,0) -> 50000 | M62: =VLOOKUP(A62,[3]data1683177749303!$A$2:$J$6448,10,0) -> 55585
A63: 1092000931 | B63: 931 | C63: 092000 | D63: 1 | E63: ריק במקור | F63: רכישת ציוד | G63: ריק במקור | H63: גמיש | I63: =K63/L63-1 -> 0.0087719298 | J63: ריק במקור | K63: =VLOOKUP(A63,'[1]קובץ מוכן '!$A$1:$C$7608,3,0) -> 23000 | L63: =VLOOKUP(A63,'[2]2023'!$A$9:$I$7853,9,0) -> 22800 | M63: =VLOOKUP(A63,[3]data1683177749303!$A$2:$J$6448,10,0) -> 19993.66
A64: 1092000932 | B64: 932 | C64: 092000 | D64: 1 | E64: ריק במקור | F64: אג' טלוויזיה וכבלים | G64: ריק במקור | H64: קשיח | I64: =K64/L64-1 -> 0.066666667 | J64: ריק במקור | K64: =VLOOKUP(A64,'[1]קובץ מוכן '!$A$1:$C$7608,3,0) -> 16000 | L64: =VLOOKUP(A64,'[2]2023'!$A$9:$I$7853,9,0) -> 15000 | M64: =VLOOKUP(A64,[3]data1683177749303!$A$2:$J$6448,10,0) -> 13295.53
A65: 1092000933 | B65: 933 | C65: 092000 | D65: 1 | E65: ריק במקור | F65: התקנה ואחזקת טלפון | G65: ריק במקור | H65: גמיש | I65: ריק במקור | J65: ריק במקור | K65: =VLOOKUP(A65,'[1]קובץ מוכן '!$A$1:$C$7608,3,0) -> 0 | L65: =VLOOKUP(A65,'[2]2023'!$A$9:$I$7853,9,0) -> 0 | M65: =VLOOKUP(A65,[3]data1683177749303!$A$2:$J$6448,10,0) -> 0
A66: 1092000934 | B66: 934 | C66: 092000 | D66: 1 | E66: ריק במקור | F66: רכישות/פע' חד-פעמי | G66: ריק במקור | H66: גמיש | I66: =K66/L66-1 -> 0 | J66: ריק במקור | K66: =VLOOKUP(A66,'[1]קובץ מוכן '!$A$1:$C$7608,3,0) -> 25000 | L66: =VLOOKUP(A66,'[2]2023'!$A$9:$I$7853,9,0) -> 25000 | M66: =VLOOKUP(A66,[3]data1683177749303!$A$2:$J$6448,10,0) -> 19414.5
A67: z | B67: 961 | C67: 092000 | D67: 1 | E67: ריק במקור | F67: רז' פעולות ורכישות | G67: ריק במקור | H67: גמיש | I67: ריק במקור | J67: ריק במקור | K67: =VLOOKUP(A67,'[1]קובץ מוכן '!$A$1:$C$7608,3,0) -> 0 | L67: ריק במקור | M67: ריק במקור
A68: ריק במקור | B68: 092000 סך הכל | C68: ריק במקור | D68: ריק במקור | E68: ריק במקור | F68: משרד הרשות ושרותים | G68: ריק במקור | H68: ריק במקור | I68: =K68/L68-1 -> 0.063123989 | J68: ריק במקור | K68: =SUBTOTAL(9,K9:K67) -> 6964100 | L68: =SUBTOTAL(9,L9:L67) -> 6550600 | M68: =SUBTOTAL(9,M9:M67) -> 5974757.1
A69: 10921000 | B69: 0 | C69: 092100 | D69: 1 | E69: ריק במקור | F69: העמסת בית העירייה | G69: ריק במקור | I69: ריק במקור | J69: ריק במקור | K69: =VLOOKUP(A69,'[1]קובץ מוכן '!$A$1:$C$7608,3,0) -> 0 | L69: ריק במקור | M69: ריק במקור
A70: 1092100492 | B70: 492 | C70: 092100 | D70: 1 | E70: ריק במקור | F70: השתתפות בעזר 092 | G70: ריק במקור | H70: קשיח | I70: =K70/L70-1 -> 0.063123989 | J70: ריק במקור | K70: -6964100 | L70: =VLOOKUP(A70,'[2]2023'!$A$9:$I$7853,9,0) -> -6550600 | M70: =VLOOKUP(A70,[3]data1683177749303!$A$2:$J$6448,10,0) -> -5974757
A71: ריק במקור | B71: 092100 סך הכל | C71: ריק במקור | D71: ריק במקור | E71: ריק במקור | F71: העמסת בית העירייה | G71: ריק במקור | H71: ריק במקור | I71: =K71/L71-1 -> 0.063123989 | J71: ריק במקור | K71: =SUBTOTAL(9,K70) -> -6964100 | L71: =SUBTOTAL(9,L70) -> -6550600 | M71: =SUBTOTAL(9,M70) -> -5974757
A72: 10940000 | B72: 0 | C72: 094000 | D72: 1 | E72: ריק במקור | F72: אפסנאות מחסנים | G72: ריק במקור | I72: ריק במקור | J72: ריק במקור | K72: =VLOOKUP(A72,'[1]קובץ מוכן '!$A$1:$C$7608,3,0) -> 0 | L72: ריק במקור | M72: ריק במקור
A73: 1094000100 | B73: 100 | C73: 094000 | D73: 1 | E73: ריק במקור | F73: שכר עובדים לפי תקן | G73: ריק במקור | I73: ריק במקור | J73: ריק במקור | K73: =VLOOKUP(A73,'[1]קובץ מוכן '!$A$1:$C$7608,3,0) -> 0 | L73: ריק במקור | M73: ריק במקור
A74: 1094000110 | B74: 110 | C74: 094000 | D74: 1 | E74: ריק במקור | F74: השכר הקובע-תקציבית | G74: ריק במקור | H74: שכר | I74: =K74/L74-1 -> 0.042526467 | J74: ריק במקור | K74: =VLOOKUP(A74,'[1]קובץ מוכן '!$A$1:$C$7608,3,0) -> 581000 | L74: =VLOOKUP(A74,'[2]2023'!$A$9:$I$7853,9,0) -> 557300 | M74: =VLOOKUP(A74,[3]data1683177749303!$A$2:$J$6448,10,0) -> 578942.15
A75: 1094000119 | B75: 119 | C75: 094000 | D75: 1 | E75: ריק במקור | F75: השכר הקובע-צוברת | G75: ריק במקור | H75: שכר | I75: =K75/L75-1 -> 0.059602649 | J75: ריק במקור | K75: =VLOOKUP(A75,'[1]קובץ מוכן '!$A$1:$C$7608,3,0) -> 464000 | L75: =VLOOKUP(A75,'[2]2023'!$A$9:$I$7853,9,0) -> 437900 | M75: =VLOOKUP(A75,[3]data1683177749303!$A$2:$J$6448,10,0) -> 535918.59
A76: 1094000122 | B76: 122 | C76: 094000 | D76: 1 | E76: ריק במקור | F76: ביגוד | G76: ריק במקור | H76: שכר | I76: =K76/L76-1 -> 0 | J76: ריק במקור | K76: =VLOOKUP(A76,'[1]קובץ מוכן '!$A$1:$C$7608,3,0) -> 16400 | L76: =VLOOKUP(A76,'[2]2023'!$A$9:$I$7853,9,0) -> 16400 | M76: =VLOOKUP(A76,[3]data1683177749303!$A$2:$J$6448,10,0) -> 12614.43
A77: 1094000126 | B77: 126 | C77: 094000 | D77: 1 | E77: ריק במקור | F77: דמי הבראה | G77: ריק במקור | H77: שכר | I77: =K77/L77-1 -> 0.10588235 | J77: ריק במקור | K77: =VLOOKUP(A77,'[1]קובץ מוכן '!$A$1:$C$7608,3,0) -> 37600 | L77: =VLOOKUP(A77,'[2]2023'!$A$9:$I$7853,9,0) -> 34000 | M77: =VLOOKUP(A77,[3]data1683177749303!$A$2:$J$6448,10,0) -> 37420.41
A78: 1094000130 | B78: 130 | C78: 094000 | D78: 1 | E78: ריק במקור | F78: שעות נוספות | G78: ריק במקור | H78: שכר | I78: =K78/L78-1 -> 0 | J78: ריק במקור | K78: =VLOOKUP(A78,'[1]קובץ מוכן '!$A$1:$C$7608,3,0) -> 54600 | L78: =VLOOKUP(A78,'[2]2023'!$A$9:$I$7853,9,0) -> 54600 | M78: =VLOOKUP(A78,[3]data1683177749303!$A$2:$J$6448,10,0) -> 72567.22
A79: 1094000140 | B79: 140 | C79: 094000 | D79: 1 | E79: ריק במקור | F79: השתתפות באחזקת רכב | G79: ריק במקור | H79: שכר | I79: =K79/L79-1 -> 0.11901505 | J79: ריק במקור | K79: =VLOOKUP(A79,'[1]קובץ מוכן '!$A$1:$C$7608,3,0) -> 81800 | L79: =VLOOKUP(A79,'[2]2023'!$A$9:$I$7853,9,0) -> 73100 | M79: =VLOOKUP(A79,[3]data1683177749303!$A$2:$J$6448,10,0) -> 81769.76
A80: 1094000253 | B80: 253 | C80: 094000 | D80: 1 | E80: ריק במקור | F80: עובדים חיצוניים | G80: ריק במקור | H80: שכר | I80: ריק במקור | J80: ריק במקור | K80: =VLOOKUP(A80,'[1]קובץ מוכן '!$A$1:$C$7608,3,0) -> 0 | L80: =VLOOKUP(A80,'[2]2023'!$A$9:$I$7853,9,0) -> 0 | M80: =VLOOKUP(A80,[3]data1683177749303!$A$2:$J$6448,10,0) -> 0
A81: 1094000400 | B81: 400 | C81: 094000 | D81: 1 | E81: ריק במקור | F81: אחזקת בנינים וציוד | G81: ריק במקור | I81: ריק במקור | J81: ריק במקור | K81: =VLOOKUP(A81,'[1]קובץ מוכן '!$A$1:$C$7608,3,0) -> 0 | L81: =VLOOKUP(A81,'[2]2023'!$A$9:$I$7853,9,0) -> 0 | M81: ריק במקור
A82: 1094000420 | B82: 420 | C82: 094000 | D82: 1 | E82: ריק במקור | F82: כיבוי אש | G82: ריק במקור | H82: גמיש | I82: =K82/L82-1 -> 1.5 | J82: ריק במקור | K82: =VLOOKUP(A82,'[1]קובץ מוכן '!$A$1:$C$7608,3,0) -> 6000 | L82: =VLOOKUP(A82,'[2]2023'!$A$9:$I$7853,9,0) -> 2400 | M82: =VLOOKUP(A82,[3]data1683177749303!$A$2:$J$6448,10,0) -> 2158.25
A83: 1094000423 | B83: 423 | C83: 094000 | D83: 1 | E83: ריק במקור | F83: תחזוקת מבנה | G83: ריק במקור | H83: קשיח | I83: =K83/L83-1 -> 0 | J83: ריק במקור | K83: =VLOOKUP(A83,'[1]קובץ מוכן '!$A$1:$C$7608,3,0) -> 67000 | L83: =VLOOKUP(A83,'[2]2023'!$A$9:$I$7853,9,0) -> 67000 | M83: =VLOOKUP(A83,[3]data1683177749303!$A$2:$J$6448,10,0) -> 63700
A84: 1094000431 | B84: 431 | C84: 094000 | D84: 1 | E84: ריק במקור | F84: חשמל | G84: ריק במקור | H84: קשיח | I84: ריק במקור | J84: ריק במקור | K84: =VLOOKUP(A84,'[1]קובץ מוכן '!$A$1:$C$7608,3,0) -> 0 | L84: =VLOOKUP(A84,'[2]2023'!$A$9:$I$7853,9,0) -> 0 | M84: ריק במקור
A85: 1094000433 | B85: 433 | C85: 094000 | D85: 1 | E85: ריק במקור | F85: חומרי נקיון | G85: ריק במקור | H85: גמיש | I85: =K85/L85-1 -> 0 | J85: ריק במקור | K85: =VLOOKUP(A85,'[1]קובץ מוכן '!$A$1:$C$7608,3,0) -> 11000 | L85: =VLOOKUP(A85,'[2]2023'!$A$9:$I$7853,9,0) -> 11000 | M85: =VLOOKUP(A85,[3]data1683177749303!$A$2:$J$6448,10,0) -> 7765.24
A86: 1094000437 | B86: 437 | C86: 094000 | D86: 1 | E86: ריק במקור | F86: אחזקת אזעקה | G86: ריק במקור | H86: קשיח | I86: =K86/L86-1 -> 0 | J86: ריק במקור | K86: =VLOOKUP(A86,'[1]קובץ מוכן '!$A$1:$C$7608,3,0) -> 5600 | L86: =VLOOKUP(A86,'[2]2023'!$A$9:$I$7853,9,0) -> 5600 | M86: =VLOOKUP(A86,[3]data1683177749303!$A$2:$J$6448,10,0) -> 4682.34
A87: 1094000441 | B87: 441 | C87: 094000 | D87: 1 | E87: ריק במקור | F87: ביטוח | G87: ריק במקור | H87: קשיח | I87: ריק במקור | J87: ריק במקור | K87: =VLOOKUP(A87,'[1]קובץ מוכן '!$A$1:$C$7608,3,0) -> 0 | L87: =VLOOKUP(A87,'[2]2023'!$A$9:$I$7853,9,0) -> 0 | M87: =VLOOKUP(A87,[3]data1683177749303!$A$2:$J$6448,10,0) -> 0
A88: 1094000450 | B88: 450 | C88: 094000 | D88: 1 | E88: ריק במקור | F88: אחזקת תמי 4 | G88: ריק במקור | H88: קשיח | I88: =K88/L88-1 -> 0 | J88: ריק במקור | K88: =VLOOKUP(A88,'[1]קובץ מוכן '!$A$1:$C$7608,3,0) -> 1100 | L88: =VLOOKUP(A88,'[2]2023'!$A$9:$I$7853,9,0) -> 1100 | M88: =VLOOKUP(A88,[3]data1683177749303!$A$2:$J$6448,10,0) -> 364.4
A89: 1094000451 | B89: 451 | C89: 094000 | D89: 1 | E89: ריק במקור | F89: אחזקת דפיברילטור | G89: ריק במקור | H89: גמיש | I89: ריק במקור | J89: ריק במקור | K89: =VLOOKUP(A89,'[1]קובץ מוכן '!$A$1:$C$7608,3,0) -> 3000 | L89: =VLOOKUP(A89,'[2]2023'!$A$9:$I$7853,9,0) -> 0 | M89: =VLOOKUP(A89,[3]data1683177749303!$A$2:$J$6448,10,0) -> 0
A90: 1094000470 | B90: 470 | C90: 094000 | D90: 1 | E90: ריק במקור | F90: אחזקת מכונות משרד | G90: ריק במקור | H90: גמיש | I90: =K90/L90-1 -> 0 | J90: ריק במקור | K90: =VLOOKUP(A90,'[1]קובץ מוכן '!$A$1:$C$7608,3,0) -> 2300 | L90: =VLOOKUP(A90,'[2]2023'!$A$9:$I$7853,9,0) -> 2300 | M90: =VLOOKUP(A90,[3]data1683177749303!$A$2:$J$6448,10,0) -> 682.75
A91: 1094000471 | B91: 471 | C91: 094000 | D91: 1 | E91: ריק במקור | F91: מכשירי כתיבה | G91: ריק במקור | H91: גמיש | I91: =K91/L91-1 -> 0.037037037 | J91: ריק במקור | K91: =VLOOKUP(A91,'[1]קובץ מוכן '!$A$1:$C$7608,3,0) -> 14000 | L91: =VLOOKUP(A91,'[2]2023'!$A$9:$I$7853,9,0) -> 13500 | M91: =VLOOKUP(A91,[3]data1683177749303!$A$2:$J$6448,10,0) -> 14764.57
A92: 1094000492 | B92: 492 | C92: 094000 | D92: 1 | E92: ריק במקור | F92: השתתפות בעזר 092 | G92: ריק במקור | H92: קשיח | I92: =K92/L92-1 -> 0 | J92: ריק במקור | K92: 185200 | L92: =VLOOKUP(A92,'[2]2023'!$A$9:$I$7853,9,0) -> 185200 | M92: =VLOOKUP(A92,[3]data1683177749303!$A$2:$J$6448,10,0) -> 155475
A93: 1094000511 | B93: 511 | C93: 094000 | D93: 1 | E93: ריק במקור | F93: אירוח וכיבוד | G93: ריק במקור | H93: גמיש | I93: =K93/L93-1 -> 0 | J93: ריק במקור | K93: =VLOOKUP(A93,'[1]קובץ מוכן '!$A$1:$C$7608,3,0) -> 6500 | L93: =VLOOKUP(A93,'[2]2023'!$A$9:$I$7853,9,0) -> 6500 | M93: =VLOOKUP(A93,[3]data1683177749303!$A$2:$J$6448,10,0) -> 7634.18
A94: 1094000512 | B94: 512 | C94: 094000 | D94: 1 | E94: ריק במקור | F94: נסיעות ואש"ל | G94: ריק במקור | H94: גמיש | I94: ריק במקור | J94: ריק במקור | K94: =VLOOKUP(A94,'[1]קובץ מוכן '!$A$1:$C$7608,3,0) -> 0 | L94: =VLOOKUP(A94,'[2]2023'!$A$9:$I$7853,9,0) -> 0 | M94: ריק במקור
A95: 1094000522 | B95: 522 | C95: 094000 | D95: 1 | E95: ריק במקור | F95: ספרים ועיתונים | G95: ריק במקור | H95: גמיש | I95: ריק במקור | J95: ריק במקור | K95: =VLOOKUP(A95,'[1]קובץ מוכן '!$A$1:$C$7608,3,0) -> 0 | L95: =VLOOKUP(A95,'[2]2023'!$A$9:$I$7853,9,0) -> 0 | M95: ריק במקור
A96: 1094000540 | B96: 540 | C96: 094000 | D96: 1 | E96: ריק במקור | F96: הוצאות טלפון | G96: ריק במקור | H96: קשיח | I96: =K96/L96-1 -> 0 | J96: ריק במקור | K96: =VLOOKUP(A96,'[1]קובץ מוכן '!$A$1:$C$7608,3,0) -> 1500 | L96: =VLOOKUP(A96,'[2]2023'!$A$9:$I$7853,9,0) -> 1500 | M96: =VLOOKUP(A96,[3]data1683177749303!$A$2:$J$6448,10,0) -> 631.1
A97: 1094000544 | B97: 544 | C97: 094000 | D97: 1 | E97: ריק במקור | F97: הוצאות דאר | G97: ריק במקור | H97: קשיח | I97: ריק במקור | J97: ריק במקור | K97: =VLOOKUP(A97,'[1]קובץ מוכן '!$A$1:$C$7608,3,0) -> 0 | L97: =VLOOKUP(A97,'[2]2023'!$A$9:$I$7853,9,0) -> 0 | M97: =VLOOKUP(A97,[3]data1683177749303!$A$2:$J$6448,10,0) -> 0
A98: 1094000550 | B98: 550 | C98: 094000 | D98: 1 | E98: ריק במקור | F98: פירסומים | G98: ריק במקור | H98: גמיש | I98: =K98/L98-1 -> 0.034482759 | J98: ריק במקור | K98: =VLOOKUP(A98,'[1]קובץ מוכן '!$A$1:$C$7608,3,0) -> 3000 | L98: =VLOOKUP(A98,'[2]2023'!$A$9:$I$7853,9,0) -> 2900 | M98: =VLOOKUP(A98,[3]data1683177749303!$A$2:$J$6448,10,0) -> 2469
A99: 1094000561 | B99: 561 | C99: 094000 | D99: 1 | E99: ריק במקור | F99: שיכפולים | G99: ריק במקור | H99: גמיש | I99: =K99/L99-1 -> 0 | J99: ריק במקור | K99: =VLOOKUP(A99,'[1]קובץ מוכן '!$A$1:$C$7608,3,0) -> 400 | L99: =VLOOKUP(A99,'[2]2023'!$A$9:$I$7853,9,0) -> 400 | M99: =VLOOKUP(A99,[3]data1683177749303!$A$2:$J$6448,10,0) -> 0
A100: 1094000571 | B100: 571 | C100: 094000 | D100: 1 | E100: ריק במקור | F100: מיכון וענ"א | G100: ריק במקור | H100: קשיח | I100: =K100/L100-1 -> 0 | J100: ריק במקור | K100: 127400 | L100: =VLOOKUP(A100,'[2]2023'!$A$9:$I$7853,9,0) -> 127400 | M100: =VLOOKUP(A100,[3]data1683177749303!$A$2:$J$6448,10,0) -> 127400
A101: 1094000596 | B101: 596 | C101: 094000 | D101: 1 | E101: ריק במקור | F101: השתתפות בעזר 096 | G101: ריק במקור | H101: קשיח | I101: =K101/L101-1 -> 0 | J101: ריק במקור | K101: 110000 | L101: =VLOOKUP(A101,'[2]2023'!$A$9:$I$7853,9,0) -> 110000 | M101: =VLOOKUP(A101,[3]data1683177749303!$A$2:$J$6448,10,0) -> 105466
...
