Workbook

Sheet מסגרת מאושר 21- 22
C2: עיריית חולון
C5: HOLON MUNICIPALITY | F5: 44172
C7: מנהל הגזברות אגף תקציבים ובקרה
A8: לכבוד:
A9: ראש העיר
A10: מר מוטי ששון
B12: א.נ,
C13: הנדון: תקציב הפיתוח לשנת 2021
A14: אודה לך על הגשה לאישור המועצה את הנושאים הבאים:
A15: . 1 | B15: מסגרת תקציב הפיתוח לשנת 2021 בהתאם לפירוט הבא:
A17: תמצית תקציב רגיל (חלק פיתוח) של עיריית חולון לשנת כספים 2021.
C19: לפי פקודת העיריות
A21: בהתאם לסעיף 209 לפקודת העיריות (1), (להלן הפקודה), אני מודיע בתוקף הסמכות לפי סעיפים 206 ו- 207
A22: לפקודת העיריות שהועברה אלי (2), אישרתי תקציב רגיל (חלק פיתוח) של עיריית חולון
A23: לשנת התקציב 2021 שתמציתו להלן:
A25: שם הרשות המקומית עיריית חולון | D25: תאריך אישור במועצה
A27: מספר הרשות המקומית 26600 | D27: תאריך אישור במשרד הפנים
A29: סעיף | B29: תקבולים | C29: תקציב 2021 | D29: סעיף | E29: תשלומים | F29: תקציב 2021
A30: 510 | B30: הקצבה מתקציב רגיל | D30: 61 | E30: מינהל כללי
A32: 521 | B32: סך הכל השתתפות בעלים | C32: =SUM(C34:C42) -> 30000 | D32: 62 | E32: מינהל כספי
A34: 521.01 | B34: היטל סלילת כבישים | C34: 17000 | D34: 63 | E34: הוצאות מימון
A36: 521.02 | B36: היטל ביוב | D36: 64 | E36: פרעון מלוות
A38: 521.03 | B38: היטלי מים | D38: 71 | E38: תברואה | F38: ='תקציב 21-22 מאושר'!H17 -> 2262
A40: 521.04 | B40: היטל תיעול | C40: 8600 | D40: 72 | E40: שמירה ובטחון | F40: ='תקציב 21-22 מאושר'!H31 -> 1635
A42: 521.99 | B42: היטל שצ"פ | C42: 4400 | D42: 73 | E42: תכנון ובנין עיר | F42: ='תקציב 21-22 מאושר'!H69 -> 19602
A44: 522 | B44: סך הכל השתתפות ממשלה | C44: =SUM(C46:C56) -> 59141.537 | D44: 74 | E44: נכסים ציבוריים | F44: ='תקציב 21-22 מאושר'!H98+'תקציב 21-22 מאושר'!H101+'תקציב 21-22 מאושר'!H108+'תקציב 21-22 מאושר'!H136+'תקציב 21-22 מאושר'!H170 -> 71385.043
A46: 522.06 | B46: משרד הפנים * | D46: 75 | E46: חגיגות ומבצעים
A48: 522.2 | B48: משרד החינוך | C48: ='תקציב 21-22 מאושר'!T20+'תקציב 21-22 מאושר'!T30+'תקציב 21-22 מאושר'!T182+'תקציב 21-22 מאושר'!T191+'תקציב 21-22 מאושר'!T194+'תקציב 21-22 מאושר'!T197+'תקציב 21-22 מאושר'!T198+'תקציב 21-22 מאושר'!T199+'תקציב 21-22 מאושר'!T200+'תקציב 21-22 מאושר'!T184+'תקציב 21-22 מאושר'!T202+'תקציב 21-22 מאושר'!T203+'תקציב 21-22 מאושר'!T204+'תקציב 21-22 מאושר'!T205+'תקציב 21-22 מאושר'!T206 -> 25022.853 | D48: 76 | E48: שרותים עירוניים שונים | F48: ='תקציב 21-22 מאושר'!H173 -> 550
A50: 522.29 | B50: משרד הבינוי והשיכון | D50: 77 | E50: פיתוח כלכלי
A52: 522.37 | B52: משרד התיירות | D52: 78 | E52: פיקוח עירוני
A54: 522.4 | B54: משרד התחבורה | C54: ='תקציב 21-22 מאושר'!T73+'תקציב 21-22 מאושר'!T104+'תקציב 21-22 מאושר'!T105 -> 2466 | D54: 79 | E54: שרותים חקלאיים
H55: =C55 -> 0
A56: 522.99 | B56: משרדים אחרים (1) | C56: ='תקציב 21-22 מאושר'!T8+'תקציב 21-22 מאושר'!T43+'תקציב 21-22 מאושר'!T52+18000+2000+70+'תקציב 21-22 מאושר'!T102+1035.72+90.964 -> 31652.684 | D56: 81 | E56: חינוך | F56: ='תקציב 21-22 מאושר'!H181+'תקציב 21-22 מאושר'!H189+'תקציב 21-22 מאושר'!H222 -> 83609.679
A58: 523 | B58: סך הכל השתתפות מוסדות ותרומות | C58: =SUM(C60:C72) -> 1290.316 | D58: 82 | E58: תרבות | F58: ='תקציב 21-22 מאושר'!H250+'תקציב 21-22 מאושר'!H262 -> 13651.085
A60: 523.05 | B60: קרן קיימת לישראל | D60: 83 | E60: בריאות
A62: 523.07 | B62: מפעל הפיס | C62: ='תקציב 21-22 מאושר'!T201+70+'תקציב 21-22 מאושר'!T271 -> 117 | D62: 84 | E62: רווחה | F62: ='תקציב 21-22 מאושר'!H273 -> 887.75
A64: 523.1 | B64: מועצה להסדר ההימורים בספורט | C64: =-1035.72-90.964 -> -1126.684 | D64: 85 | E64: דת
A66: 523.25 | B66: הסוכנות היהודית | D66: 86 | E66: קליטת עליה
A68: 523.98 | B68: הכנסות שונות (2) | C68: ='תקציב 21-22 מאושר'!T25+'תקציב 21-22 מאושר'!T26+'תקציב 21-22 מאושר'!T27+'תקציב 21-22 מאושר'!T28+'תקציב 21-22 מאושר'!T29+'תקציב 21-22 מאושר'!T174+'תקציב 21-22 מאושר'!T190+'תקציב 21-22 מאושר'!T193+'תקציב 21-22 מאושר'!T231 -> 1320.35 | D68: 87 | E68: איכות הסביבה
A70: 523.99 | B70: מוסדות אחרים (3) | C70: ='תקציב 21-22 מאושר'!T232 -> 979.65 | D70: 91 | E70: מים
...

Sheet גיליון1
E1: עיריית חולון
E4: HOLON MUNICIPALITY
E6: מנהל הגזברות
A13: הערות (1) | B13: המשרד להגנת הסביבה, נת"ע, נת"א, הרלב"ד, משרד הרווחה, משרד המדע תרבות והספורט.
A14: הערות (2) | B14: העברה מהתקציב הרגיל, קרן ידידי העיר חולון, שמ"ש.
A15: הערות (3) | B15: ביטוח לאומי.
A16: הערות (4) | B16: יתרות בקרנות: 8.5 מלש"ח מכירת נכסים, 7 מלש"ח שצ"פ, 5 מלש"ח השבחה, 5 מלש"ח קרן כביש
B17: 10 מלש"ח תיעול, 0.75 מלש"ח קרן מכירת רכבים, 0.55 מלש"ח קרן שיפוץ בתים, 0.135 מלש"ח קרן שיטור.
A18: הערות (5) | B18: תשלומים לא רגילים מורכבים מ- 15,411 אלש"ח העברה לתקציב הרגיל לכיסוי מלוות ,
B19: 24,350 אלש"ח לכיסוי הוצאות למינהל ההנדסה.
A21: . 2 | B21: טבלה מפורטת עם רשימת פרוייקטים חדשים וכאלה הזקוקים לעדכון, בפריסה על פני השנים 2021 ו- 2022.
A23: . 3 | B23: במידה ויהיה מימון לפרוייקטים שמתוקצבים בשנת 2022 יקודמו פרוייקטים אלה לשנת 2021.
A25: . 4 | B25: במידה וההכנסות מקרנות הרשות יהיו גבוהות מעל הצפי שתוקצב, ההלוואות לא ילקחו ובמקומם
B26: התב"רים יממומנו מתקציבי קרנות הרשות.
A28: הריני לאשר כי התקציב המוגש למועצה יהיה מאוזן ובר ביצוע והתב"רים יאושרו לביצוע בהתאם להכנסות העירייה.
J35: בברכה,
J36: אמנון ארץ קדושה
J37: גזבר העירייה

Sheet תקציב 21-22 מאושר
B1: תוכנית הפיתוח לשנים 2021- 2022
B3: פרק | C3: מספר | D3: הפרוייקט | E3: מאושר | F3: תקציב מאושר | G3: תקציב נדרש 2021- 2022 | H3: תוספת תקציב נדרשת | J3: סה"כ לאישור 2021- 2022 | K3: מקורות מימון 2021 | V3: מקורות מימון 2022 | AF3: הערות
E4: ע"י המועצה | H4: 2021 | I4: 2022 | K4: השבחה | L4: בעלים תיעול | M4: בעלים כביש | N4: קרן כללית | O4: תקציב רגיל | P4: שצ"פ | Q4: מכירת רכוש | R4: הלוואות | S4: מקורות עצמיים | T4: חיצוני | U4: סה"כ 2021 | V4: השבחה | W4: בעלים תיעול | X4: בעלים כביש | Y4: קרן כללית | Z4: תקציב רגיל | AA4: שצ"פ | AB4: מכירת רכוש | AC4: מקורות עצמיים | AD4: חיצוני/ ממשלה | AE4: סה"כ 2022
D5: העברה לרגיל- מילוות | G5: =J5+F5 -> 15410.6 | H5: =U5 -> 15410.6 | I5: =AE5 -> 0 | J5: =SUM(H5:I5) -> 15410.6 | K5: 10626.1 | L5: 1155.9 | M5: 3628.6 | S5: =SUM(K5:Q5) -> 15410.6 | U5: =SUM(S5:T5) -> 15410.6 | AC5: =SUM(V5:AB5) -> 0 | AE5: =SUM(AC5:AD5) -> 0
D6: העברה לרגיל- הנדסה | G6: =J6+F6 -> 24350.4 | H6: =U6 -> 24350.4 | I6: =AE6 -> 0 | J6: =SUM(H6:I6) -> 24350.4 | K6: 24350.4 | S6: =SUM(K6:Q6) -> 24350.4 | U6: =SUM(S6:T6) -> 24350.4 | AC6: =SUM(V6:AB6) -> 0 | AE6: =SUM(AC6:AD6) -> 0
B7: העברה לתקציב הרגיל סה"כ | E7: =SUBTOTAL(9,E5:E6) -> 0 | F7: =SUBTOTAL(9,F5:F6) -> 0 | G7: =SUBTOTAL(9,G5:G6) -> 39761 | H7: =SUBTOTAL(9,H5:H6) -> 39761 | I7: =SUBTOTAL(9,I5:I6) -> 0 | J7: =SUBTOTAL(9,J5:J6) -> 39761 | K7: =SUBTOTAL(9,K5:K6) -> 34976.5 | L7: =SUBTOTAL(9,L5:L6) -> 1155.9 | ... AE7: =SUBTOTAL(9,AE5:AE6) -> 0
A8: 4 | B8: 710 | C8: 4256 | D8: קול קורא לשמירת ניקיון | E8: 208 | F8: 208 | G8: =J8+F8 -> 440 | H8: =U8 -> 232 | I8: =AE8 -> 0 | J8: =SUM(H8:I8) -> 232 | S8: =SUM(K8:Q8) -> 0 | T8: 232 | U8: =SUM(S8:T8) -> 232 | AC8: =SUM(V8:AB8) -> 0 | AE8: =SUM(AC8:AD8) -> 0 | AF8: המשרד להגנת הסביבה.
A9: 9 | B9: 710 | C9: 4351 | D9: רכש קרטוניות | G9: =J9+F9 -> 280 | H9: =U9 -> 280 | I9: =AE9 -> 0 | J9: =SUM(H9:I9) -> 280 | K9: 280 | S9: =SUM(K9:Q9) -> 280 | U9: =SUM(S9:T9) -> 280 | AC9: =SUM(V9:AB9) -> 0 | AE9: =SUM(AC9:AD9) -> 0
A10: 9 | B10: 710 | C10: 2418 | D10: החלפת רכבים | E10: 21802 | F10: 18123 | G10: =J10+F10 -> 20973 | H10: =U10 -> 750 | I10: =AE10 -> 2100 | J10: =SUM(H10:I10) -> 2850 | N10: 750 | S10: =SUM(K10:Q10) -> 750 | U10: =SUM(S10:T10) -> 750 | V10: 2100 | AC10: =SUM(V10:AB10) -> 2100 | AE10: =SUM(AC10:AD10) -> 2100 | AF10: מקרן רכבים, כולל רכב לרה"ע.
A11: 9 | B11: 710 | C11: 4021 | D11: רכישת טמוני קרקע | E11: 8100 | F11: 1207 | G11: =J11+F11 -> 2707 | H11: =U11 -> 500 | I11: =AE11 -> 1000 | J11: =SUM(H11:I11) -> 1500 | K11: 500 | S11: =SUM(K11:Q11) -> 500 | U11: =SUM(S11:T11) -> 500 | V11: 1000 | AC11: =SUM(V11:AB11) -> 1000 | AE11: =SUM(AC11:AD11) -> 1000
A12: 9 | B12: 710 | C12: 4163 | D12: החלפת והוספת כל כלי האצירה שבעיר | E12: 4900 | F12: 900 | G12: =J12+F12 -> 2300 | H12: =U12 -> 400 | I12: =AE12 -> 1000 | J12: =SUM(H12:I12) -> 1400 | K12: 400 | S12: =SUM(K12:Q12) -> 400 | U12: =SUM(S12:T12) -> 400 | V12: 1000 | AC12: =SUM(V12:AB12) -> 1000 | AE12: =SUM(AC12:AD12) -> 1000 | AF12: גידול העיר,מתן פחים כתחליף להוצאת מכולות מהעיר, אורך חיי פח, מענה רציף לתושבים.
A13: 9 | B13: 710 | C13: 3450 | D13: רכישת כלי אצירה להפרדה לשני זרמים | E13: 3000 | F13: 1486.13 | G13: =J13+F13 -> 1686.13 | H13: =U13 -> 100 | I13: =AE13 -> 100 | J13: =SUM(H13:I13) -> 200 | K13: 100 | S13: =SUM(K13:Q13) -> 100 | U13: =SUM(S13:T13) -> 100 | V13: 100 | AC13: =SUM(V13:AB13) -> 100 | AE13: =SUM(AC13:AD13) -> 100
B14: 710 | G14: =J14+F14 -> 0 | H14: =U14 -> 0 | I14: =AE14 -> 0 | J14: =SUM(H14:I14) -> 0 | S14: =SUM(K14:Q14) -> 0 | U14: =SUM(R14:T14) -> 0 | AC14: =SUM(V14:AB14) -> 0 | AE14: =SUM(AC14:AD14) -> 0
B15: 710 | G15: =J15+F15 -> 0 | H15: =U15 -> 0 | I15: =AE15 -> 0 | J15: =SUM(H15:I15) -> 0 | S15: =SUM(K15:Q15) -> 0 | U15: =SUM(S15:T15) -> 0 | AC15: =SUM(V15:AB15) -> 0 | AE15: =SUM(AC15:AD15) -> 0
B16: 710 | G16: =J16+F16 -> 0 | H16: =U16 -> 0 | I16: =AE16 -> 0 | J16: =SUM(H16:I16) -> 0 | S16: =SUM(K16:Q16) -> 0 | U16: =SUM(R16:T16) -> 0 | AC16: =SUM(V16:AB16) -> 0 | AE16: =SUM(AC16:AD16) -> 0
B17: סה"כ תברואה | E17: =SUBTOTAL(9,E8:E16) -> 38010 | F17: =SUBTOTAL(9,F8:F16) -> 21924.13 | G17: =SUBTOTAL(9,G8:G16) -> 28386.13 | H17: =SUBTOTAL(9,H8:H16) -> 2262 | I17: =SUBTOTAL(9,I8:I16) -> 4200 | J17: =SUBTOTAL(9,J8:J16) -> 6462 | K17: =SUBTOTAL(9,K8:K16) -> 1280 | L17: =SUBTOTAL(9,L8:L16) -> 0 | ... AE17: =SUBTOTAL(9,AE8:AE16) -> 4200
A18: 9 | B18: 721 | C18: 4172 | D18: רכישת אמצעים ויכולות טכנולוגיות לשיטור עירוני | E18: 50 | F18: 50 | G18: =F18+J18 -> 135 | H18: =U18 -> 85 | I18: =AE18 -> 0 | J18: =SUM(H18:I18) -> 85 | N18: 85 | S18: =SUM(K18:Q18) -> 85 | U18: =SUM(S18:T18) -> 85 | AC18: =SUM(V18:AB18) -> 0 | AE18: =SUM(AC18:AD18) -> 0 | AF18: מקרן שיטור.
A19: 9 | B19: 721 | C19: 3614 | D19: שיקום מקלטים | E19: 2358 | F19: 758 | G19: =F19+J19 -> 1808 | H19: =U19 -> 1050 | I19: =AE19 -> 0 | J19: =SUM(H19:I19) -> 1050 | K19: 1050 | S19: =SUM(K19:Q19) -> 1050 | U19: =SUM(S19:T19) -> 1050 | AC19: =SUM(V19:AB19) -> 0 | AE19: =SUM(AC19:AD19) -> 0
A20: 9 | B20: 721 | C20: 3871 | D20: שיפור ומיגון ביטחון | E20: 1128 | F20: 1002 | G20: =F20+J20 -> 1302 | H20: =U20 -> 300 | I20: =AE20 -> 0 | J20: =SUM(H20:I20) -> 300 | K20: 150 | S20: =SUM(K20:Q20) -> 150 | T20: 150 | U20: =SUM(S20:T20) -> 300 | AC20: =SUM(V20:AB20) -> 0 | AE20: =SUM(AC20:AD20) -> 0 | AF20: התקנת מערכות ביטחון במוסדות החינוך-השתתפות מ.החינוך.
A21: 9 | B21: 721 | C21: 4352 | D21: התקנת מערכות טכנולוגיות | G21: =F21+J21 -> 50 | H21: =U21 -> 50 | I21: =AE21 -> 0 | J21: =SUM(H21:I21) -> 50 | N21: 50 | S21: =SUM(K21:Q21) -> 50 | U21: =SUM(S21:T21) -> 50 | AC21: =SUM(V21:AB21) -> 0 | AE21: =SUM(AC21:AD21) -> 0 | AF21: עבור מוסדות חינוך- מקרן שיטור.
A22: 9 | B22: 721 | C22: 4173 | D22: הוצאות פרסום לחירום | E22: 50 | F22: 50 | G22: =F22+J22 -> 100 | H22: =U22 -> 50 | I22: =AE22 -> 0 | J22: =SUM(H22:I22) -> 50 | K22: 50 | S22: =SUM(K22:Q22) -> 50 | U22: =SUM(S22:T22) -> 50 | AC22: =SUM(V22:AB22) -> 0 | AE22: =SUM(AC22:AD22) -> 0 | AF22: הפקת חומרי דפוס לחירום (פנקסי כיס,פרסומים לבי"ס וכד').
A23: 9 | B23: 721 | C23: 4174 | D23: יחידת חילוץ | E23: 150 | F23: 50 | G23: =F23+J23 -> 100 | H23: =U23 -> 50 | I23: =AE23 -> 0 | J23: =SUM(H23:I23) -> 50 | K23: 50 | S23: =SUM(K23:Q23) -> 50 | U23: =SUM(S23:T23) -> 50 | AC23: =SUM(V23:AB23) -> 0 | AE23: =SUM(AC23:AD23) -> 0 | AF23: רכישת ציוד חירום עבור יחיד החילוץ העירונית שבנויה ממתנדבים.
A24: 9 | B24: 721 | C24: 4353 | D24: רכישת ציוד חירום | G24: =F24+J24 -> 50 | H24: =U24 -> 50 | I24: =AE24 -> 0 | J24: =SUM(H24:I24) -> 50 | K24: 50 | S24: =SUM(K24:Q24) -> 50 | U24: =SUM(S24:T24) -> 50 | AC24: =SUM(V24:AB24) -> 0 | AE24: =SUM(AC24:AD24) -> 0 | AF24: ערכות תאורה,גנרטורים, ערכות עזרה ראשונה וכד'.
A25: 9 | B25: 721 | C25: 3988 | D25: הצטיידות שיטור עירוני כנגד פחת ל-3 שנים | E25: 212 | F25: 194.5 | G25: =F25+J25 -> 194.5 | H25: =U25 -> 0 | I25: =AE25 -> 0 | J25: =SUM(H25:I25) -> 0 | K25: -30 | S25: =SUM(K25:Q25) -> -30 | T25: 30 | U25: =SUM(S25:T25) -> 0 | AC25: =SUM(V25:AB25) -> 0 | AE25: =SUM(AC25:AD25) -> 0 | AF25: העברה מהתקציב הרגיל.
A26: 9 | B26: 721 | C26: 3989 | D26: התאמת מבנה לשיטור עירוני כנגד פחת ל-5 שנים | E26: 363 | F26: 320.4 | G26: =F26+J26 -> 320.4 | H26: =U26 -> 0 | I26: =AE26 -> 0 | J26: =SUM(H26:I26) -> 0 | K26: -72.6 | S26: =SUM(K26:Q26) -> -72.6 | T26: 72.6 | U26: =SUM(S26:T26) -> 0 | AC26: =SUM(V26:AB26) -> 0 | AE26: =SUM(AC26:AD26) -> 0 | AF26: העברה מהתקציב הרגיל.
A27: 9 | B27: 721 | C27: 3990 | D27: הצטיידות שיטור עירוני כנגד פחת ל- 5 שנים | E27: 139 | F27: 134.3 | G27: =F27+J27 -> 134.3 | H27: =U27 -> 0 | I27: =AE27 -> 0 | J27: =SUM(H27:I27) -> 0 | K27: -8 | S27: =SUM(K27:Q27) -> -8 | T27: 8 | U27: =SUM(S27:T27) -> 0 | AC27: =SUM(V27:AB27) -> 0 | AE27: =SUM(AC27:AD27) -> 0 | AF27: העברה מהתקציב הרגיל.
A28: 9 | B28: 721 | C28: 3991 | D28: הצטיידות שיטור עירוני כנגד פחת ל- 10 שנים | E28: 108 | F28: 102.2 | G28: =F28+J28 -> 102.2 | H28: =U28 -> 0 | I28: =AE28 -> 0 | J28: =SUM(H28:I28) -> 0 | K28: -10 | S28: =SUM(K28:Q28) -> -10 | T28: 10 | U28: =SUM(S28:T28) -> 0 | AC28: =SUM(V28:AB28) -> 0 | AE28: =SUM(AC28:AD28) -> 0 | AF28: העברה מהתקציב הרגיל.
A29: 9 | B29: 721 | C29: 3992 | D29: מצלמות שיטור עירוני כנגד פחת 6.666 שנים | E29: 2000 | F29: 1825 | G29: =F29+J29 -> 1825 | H29: =U29 -> 0 | I29: =AE29 -> 0 | J29: =SUM(H29:I29) -> 0 | K29: -300 | S29: =SUM(K29:Q29) -> -300 | T29: 300 | U29: =SUM(S29:T29) -> 0 | AC29: =SUM(V29:AB29) -> 0 | AE29: =SUM(AC29:AD29) -> 0 | AF29: העברה מהתקציב הרגיל.
A30: 22 | B30: 721 | C30: 2972 | D30: שיפור ומיגון ביטחון | E30: 1060 | F30: 950 | G30: =F30+J30 -> 950 | H30: =U30 -> 0 | I30: =AE30 -> 0 | J30: =SUM(H30:I30) -> 0 | K30: 149.41 | S30: =SUM(K30:Q30) -> 149.41 | T30: -149.41 | U30: =SUM(S30:T30) -> 0 | AC30: =SUM(V30:AB30) -> 0 | AE30: =SUM(AC30:AD30) -> 0 | AF30: שינוי מקורות מימון.
B31: סה"כ בטחון | E31: =SUBTOTAL(9,E18:E30) -> 7618 | F31: =SUBTOTAL(9,F18:F30) -> 5436.4 | G31: =SUBTOTAL(9,G18:G30) -> 7071.4 | H31: =SUBTOTAL(9,H18:H30) -> 1635 | I31: =SUBTOTAL(9,I18:I30) -> 0 | J31: =SUBTOTAL(9,J18:J30) -> 1635 | K31: =SUBTOTAL(9,K18:K30) -> 1078.81 | L31: =SUBTOTAL(9,L18:L30) -> 0 | ... AE31: =SUBTOTAL(9,AE18:AE30) -> 0
A32: 3 | B32: 735 | C32: 2233 | D32: מדידות | E32: 5650 | F32: 2767 | G32: =F32+J32 -> 3567 | H32: =U32 -> 300 | I32: =AE32 -> 500 | J32: =SUM(H32:I32) -> 800 | K32: 300 | S32: =SUM(K32:Q32) -> 300 | U32: =SUM(S32:T32) -> 300 | V32: 500 | AC32: =SUM(V32:AB32) -> 500 | AE32: =SUM(AC32:AD32) -> 500
A33: 7 | B33: 735 | C33: 3712 | D33: לוחות מודעות לתושב | E33: 400 | F33: 200 | G33: =F33+J33 -> 317 | H33: =U33 -> 117 | I33: =AE33 -> 0 | J33: =SUM(H33:I33) -> 117 | K33: 117 | S33: =SUM(K33:Q33) -> 117 | U33: =SUM(S33:T33) -> 117 | AC33: =SUM(V33:AB33) -> 0 | AE33: =SUM(AC33:AD33) -> 0
A34: 7 | B34: 735 | C34: 2950 | D34: שילוט מוסדות וחוצות | E34: 3480 | F34: 2480 | G34: =F34+J34 -> 2680 | H34: =U34 -> 200 | I34: =AE34 -> 0 | J34: =SUM(H34:I34) -> 200 | K34: 200 | S34: =SUM(K34:Q34) -> 200 | U34: =SUM(S34:T34) -> 200 | AC34: =SUM(V34:AB34) -> 0 | AE34: =SUM(AC34:AD34) -> 0
A35: 7 | B35: 735 | C35: 3876 | D35: התקנת מתקנים | E35: 450 | F35: 225 | G35: =F35+J35 -> 275 | H35: =U35 -> 50 | I35: =AE35 -> 0 | J35: =SUM(H35:I35) -> 50 | K35: 50 | S35: =SUM(K35:Q35) -> 50 | U35: =SUM(S35:T35) -> 50 | AC35: =SUM(V35:AB35) -> 0 | AE35: =SUM(AC35:AD35) -> 0
A36: 7 | B36: 735 | C36: 4354 | D36: שכונת אגרובנק | G36: =F36+J36 -> 500 | H36: =U36 -> 400 | I36: =AE36 -> 100 | J36: =SUM(H36:I36) -> 500 | K36: 400 | S36: =SUM(K36:Q36) -> 400 | U36: =SUM(S36:T36) -> 400 | V36: 100 | AC36: =SUM(V36:AB36) -> 100 | AE36: =SUM(AC36:AD36) -> 100
A37: 7 | B37: 735 | C37: 3008 | D37: תכנון ובניית בית עירייה חדש | E37: 24250 | F37: 4835.737 | G37: =F37+J37 -> 5635.737 | H37: =U37 -> 800 | I37: =AE37 -> 0 | J37: =SUM(H37:I37) -> 800 | K37: 800 | S37: =SUM(K37:Q37) -> 800 | U37: =SUM(S37:T37) -> 800 | AC37: =SUM(V37:AB37) -> 0 | AE37: =SUM(AC37:AD37) -> 0 | AF37: ככר העיר-תכנית מפורטת.
A38: 7 | B38: 735 | C38: 4355 | D38: הנחיות מרחביות | G38: =F38+J38 -> 200 | H38: =U38 -> 150 | I38: =AE38 -> 50 | J38: =SUM(H38:I38) -> 200 | K38: 150 | S38: =SUM(K38:Q38) -> 150 | U38: =SUM(S38:T38) -> 150 | V38: 50 | AC38: =SUM(V38:AB38) -> 50 | AE38: =SUM(AC38:AD38) -> 50 | AF38: עדכון לצורך שיפור איכות הבניה והתאמה לתקנות החוק.
A39: 7 | B39: 735 | C39: 4356 | D39: מרחב ציבורי | G39: =F39+J39 -> 700 | H39: =U39 -> 400 | I39: =AE39 -> 300 | J39: =SUM(H39:I39) -> 700 | K39: 400 | S39: =SUM(K39:Q39) -> 400 | U39: =SUM(S39:T39) -> 400 | V39: 300 | AC39: =SUM(V39:AB39) -> 300 | AE39: =SUM(AC39:AD39) -> 300 | AF39: יעוץ לאדריכל העיר.
A40: 7 | B40: 735 | C40: 4357 | D40: מדיניות לפיתוח מגרשים ושילוב מגורים באזור תעשייה | G40: =F40+J40 -> 400 | H40: =U40 -> 200 | I40: =AE40 -> 200 | J40: =SUM(H40:I40) -> 400 | K40: 200 | S40: =SUM(K40:Q40) -> 200 | U40: =SUM(S40:T40) -> 200 | V40: 200 | AC40: =SUM(V40:AB40) -> 200 | AE40: =SUM(AC40:AD40) -> 200 | AF40: פיתוח מגרשים ושילוב מגורים באזור התעסוקה.
A41: 7 | B41: 735 | C41: 4033 | D41: תכנית שימור עירונית | E41: 760 | F41: 367 | G41: =F41+J41 -> 1567 | H41: =U41 -> 200 | I41: =AE41 -> 1000 | J41: =SUM(H41:I41) -> 1200 | K41: 200 | S41: =SUM(K41:Q41) -> 200 | U41: =SUM(S41:T41) -> 200 | V41: 1000 | AC41: =SUM(V41:AB41) -> 1000 | AE41: =SUM(AC41:AD41) -> 1000 | AF41: ליווי שימור ועדכון תכנית השימור ח/528.
...
