Workbook

Sheet מסגרת מאושר 21- 22
C2: עיריית חולון
C5: HOLON MUNICIPALITY | F5: 44172
C7: מנהל הגזברות אגף תקציבים ובקרה
A8: לכבוד:
A9: ראש העיר
A10: מר מוטי ששון
B12: א.נ,
C13: הנדון: תקציב הפיתוח לשנת 2021
A14: אודה לך על הגשה לאישור המועצה את הנושאים הבאים:
A15: . 1 | B15: מסגרת תקציב הפיתוח לשנת 2021 בהתאם לפירוט הבא:
A17: תמצית תקציב רגיל (חלק פיתוח) של עיריית חולון לשנת כספים 2021.
C19: לפי פקודת העיריות
A21: בהתאם לסעיף 209 לפקודת העיריות (1), (להלן הפקודה), אני מודיע בתוקף הסמכות לפי סעיפים 206 ו- 207
A22: לפקודת העיריות שהועברה אלי (2), אישרתי תקציב רגיל (חלק פיתוח) של עיריית חולון
A23: לשנת התקציב 2021 שתמציתו להלן:
A25: שם הרשות המקומית עיריית חולון | D25: תאריך אישור במועצה
A27: מספר הרשות המקומית 26600 | D27: תאריך אישור במשרד הפנים
A29: סעיף | B29: תקבולים | C29: תקציב 2021 | D29: סעיף | E29: תשלומים | F29: תקציב 2021
A30: 510 | B30: הקצבה מתקציב רגיל | D30: 61 | E30: מינהל כללי
A32: 521 | B32: סך הכל השתתפות בעלים | C32: =SUM(C34:C42) -> 30000 | D32: 62 | E32: מינהל כספי
A34: 521.01 | B34: היטל סלילת כבישים | C34: 17000 | D34: 63 | E34: הוצאות מימון
A36: 521.02 | B36: היטל ביוב | D36: 64 | E36: פרעון מלוות
A38: 521.03 | B38: היטלי מים | D38: 71 | E38: תברואה | F38: ='תקציב 21-22 מאושר'!H17 -> 2262
A40: 521.04 | B40: היטל תיעול | C40: 8600 | D40: 72 | E40: שמירה ובטחון | F40: ='תקציב 21-22 מאושר'!H31 -> 1635
A42: 521.99 | B42: היטל שצ"פ | C42: 4400 | D42: 73 | E42: תכנון ובנין עיר | F42: ='תקציב 21-22 מאושר'!H69 -> 19602
A44: 522 | B44: סך הכל השתתפות ממשלה | C44: =SUM(C46:C56) -> 59141.537 | D44: 74 | E44: נכסים ציבוריים | F44: ='תקציב 21-22 מאושר'!H98+'תקציב 21-22 מאושר'!H101+'תקציב 21-22 מאושר'!H108+'תקציב 21-22 מאושר'!H136+'תקציב 21-22 מאושר'!H170 -> 71385.043
A46: 522.06 | B46: משרד הפנים * | D46: 75 | E46: חגיגות ומבצעים
A48: 522.2 | B48: משרד החינוך | C48: ='תקציב 21-22 מאושר'!T20+'תקציב 21-22 מאושר'!T30+'תקציב 21-22 מאושר'!T182+'תקציב 21-22 מאושר'!T191+'תקציב 21-22 מאושר'!T194+'תקציב 21-22 מאושר'!T197+'תקציב 21-22 מאושר'!T198+'תקציב 21-22 מאושר'!T199+'תקציב 21-22 מאושר'!T200+'תקציב 21-22 מאושר'!T184+'תקציב 21-22 מאושר'!T202+'תקציב 21-22 מאושר'!T203+'תקציב 21-22 מאושר'!T204+'תקציב 21-22 מאושר'!T205+'תקציב 21-22 מאושר'!T206 -> 25022.853 | D48: 76 | E48: שרותים עירוניים שונים | F48: ='תקציב 21-22 מאושר'!H173 -> 550
A50: 522.29 | B50: משרד הבינוי והשיכון | D50: 77 | E50: פיתוח כלכלי
A52: 522.37 | B52: משרד התיירות | D52: 78 | E52: פיקוח עירוני
A54: 522.4 | B54: משרד התחבורה | C54: ='תקציב 21-22 מאושר'!T73+'תקציב 21-22 מאושר'!T104+'תקציב 21-22 מאושר'!T105 -> 2466 | D54: 79 | E54: שרותים חקלאיים
H55: =C55 -> 0
A56: 522.99 | B56: משרדים אחרים (1) | C56: ='תקציב 21-22 מאושר'!T8+'תקציב 21-22 מאושר'!T43+'תקציב 21-22 מאושר'!T52+18000+2000+70+'תקציב 21-22 מאושר'!T102+1035.72+90.964 -> 31652.684 | D56: 81 | E56: חינוך | F56: ='תקציב 21-22 מאושר'!H181+'תקציב 21-22 מאושר'!H189+'תקציב 21-22 מאושר'!H222 -> 83609.679
A58: 523 | B58: סך הכל השתתפות מוסדות ותרומות | C58: =SUM(C60:C72) -> 1290.316 | D58: 82 | E58: תרבות | F58: ='תקציב 21-22 מאושר'!H250+'תקציב 21-22 מאושר'!H262 -> 13651.085
A60: 523.05 | B60: קרן קיימת לישראל | D60: 83 | E60: בריאות
A62: 523.07 | B62: מפעל הפיס | C62: ='תקציב 21-22 מאושר'!T201+70+'תקציב 21-22 מאושר'!T271 -> 117 | D62: 84 | E62: רווחה | F62: ='תקציב 21-22 מאושר'!H273 -> 887.75
A64: 523.1 | B64: מועצה להסדר ההימורים בספורט | C64: =-1035.72-90.964 -> -1126.684 | D64: 85 | E64: דת
A66: 523.25 | B66: הסוכנות היהודית | D66: 86 | E66: קליטת עליה
A68: 523.98 | B68: הכנסות שונות (2) | C68: ='תקציב 21-22 מאושר'!T25+'תקציב 21-22 מאושר'!T26+'תקציב 21-22 מאושר'!T27+'תקציב 21-22 מאושר'!T28+'תקציב 21-22 מאושר'!T29+'תקציב 21-22 מאושר'!T174+'תקציב 21-22 מאושר'!T190+'תקציב 21-22 מאושר'!T193+'תקציב 21-22 מאושר'!T231 -> 1320.35 | D68: 87 | E68: איכות הסביבה
A70: 523.99 | B70: מוסדות אחרים (3) | C70: ='תקציב 21-22 מאושר'!T232 -> 979.65 | D70: 91 | E70: מים
A72: 530 | B72: יתרות מתב"רים קודמים | D72: 92 | E72: בתי מטבחיים
A74: 540 | B74: סך הכל הכנסות מקרנות הרשות | C74: =SUM(C76:C80) -> 96935 | D74: 93 | E74: נכסים | F74: ='תקציב 21-22 מאושר'!H308 -> 7823
A76: 540.01 | B76: קרן היטל השבחה | C76: 60000 | D76: 94 | E76: תחבורה
A78: 540.02 | B78: קרנות לעבודות פיתוח | D78: 95 | E78: מפעלי תעסוקה
A80: 540.99 | B80: קרנות אחרות (4) | C80: =35500+1300+135 -> 36935 | D80: 96 | E80: חשמל
A82: 550 | B82: מלוות מהאוצר שאושרו | D82: 97 | E82: מפעל הביוב
A84: 560 | B84: הלוואות מבנקים ומוסדות | C84: 50000 | D84: 98 | E84: מפעלים אחרים
A86: 570 | B86: אשראי מקבלנים וספקים | D86: 99 | E86: תשלומים בלתי רגילים (5) | F86: ='תקציב 21-22 מאושר'!H7 -> 39761
A88: 580 | B88: מכירת רכוש | C88: 3800 | E88: הפרשה לתביעות
A90: 590 | B90: הכנסות בעד עבודות לטובת משלמים
A91: סך הכל תקבולים | C91: =SUM(C30:C90)-C74-C58-C44-C32 -> 241166.85 | D91: סך הכל תשלומים | F91: =SUM(F30:F90) -> 241166.56

Sheet גיליון1
E1: עיריית חולון
E4: HOLON MUNICIPALITY
E6: מנהל הגזברות
A13: הערות (1) | B13: המשרד להגנת הסביבה, נת"ע, נת"א, הרלב"ד, משרד הרווחה, משרד המדע תרבות והספורט.
A14: הערות (2) | B14: העברה מהתקציב הרגיל, קרן ידידי העיר חולון, שמ"ש.
A15: הערות (3) | B15: ביטוח לאומי.
A16: הערות (4) | B16: יתרות בקרנות: 8.5 מלש"ח מכירת נכסים, 7 מלש"ח שצ"פ, 5 מלש"ח השבחה, 5 מלש"ח קרן כביש
B17: 10 מלש"ח תיעול, 0.75 מלש"ח קרן מכירת רכבים, 0.55 מלש"ח קרן שיפוץ בתים, 0.135 מלש"ח קרן שיטור.
A18: הערות (5) | B18: תשלומים לא רגילים מורכבים מ- 15,411 אלש"ח העברה לתקציב הרגיל לכיסוי מלוות ,
B19: 24,350 אלש"ח לכיסוי הוצאות למינהל ההנדסה.
A21: . 2 | B21: טבלה מפורטת עם רשימת פרוייקטים חדשים וכאלה הזקוקים לעדכון, בפריסה על פני השנים 2021 ו- 2022.
A23: . 3 | B23: במידה ויהיה מימון לפרוייקטים שמתוקצבים בשנת 2022 יקודמו פרוייקטים אלה לשנת 2021.
A25: . 4 | B25: במידה וההכנסות מקרנות הרשות יהיו גבוהות מעל הצפי שתוקצב, ההלוואות לא ילקחו ובמקומם
B26: התב"רים יממומנו מתקציבי קרנות הרשות.
A28: הריני לאשר כי התקציב המוגש למועצה יהיה מאוזן ובר ביצוע והתב"רים יאושרו לביצוע בהתאם להכנסות העירייה.
J35: בברכה,
J36: אמנון ארץ קדושה
J37: גזבר העירייה

Sheet תקציב 21-22 מאושר
B1: תוכנית הפיתוח לשנים 2021- 2022
B3: פרק | C3: מספר | D3: הפרוייקט | E3: מאושר | F3: תקציב מאושר | G3: תקציב נדרש 2021- 2022 | H3: תוספת תקציב נדרשת | J3: סה"כ לאישור 2021- 2022 | K3: מקורות מימון 2021 | V3: מקורות מימון 2022 | AF3: הערות
E4: ע"י המועצה | H4: 2021 | I4: 2022 | K4: השבחה | L4: בעלים תיעול | M4: בעלים כביש | N4: קרן כללית | O4: תקציב רגיל | P4: שצ"פ | Q4: מכירת רכוש | R4: הלוואות | S4: מקורות עצמיים | T4: חיצוני | U4: סה"כ 2021 | V4: השבחה | W4: בעלים תיעול | X4: בעלים כביש | Y4: קרן כללית | Z4: תקציב רגיל | AA4: שצ"פ | AB4: מכירת רכוש | AC4: מקורות עצמיים | AD4: חיצוני/ ממשלה | AE4: סה"כ 2022
D5: העברה לרגיל- מילוות | G5: =J5+F5 -> 15410.6 | H5: =U5 -> 15410.6 | I5: =AE5 -> 0 | J5: =SUM(H5:I5) -> 15410.6 | K5: 10626.1 | L5: 1155.9 | M5: 3628.6 | S5: =SUM(K5:Q5) -> 15410.6 | U5: =SUM(S5:T5) -> 15410.6 | AC5: =SUM(V5:AB5) -> 0 | AE5: =SUM(AC5:AD5) -> 0
D6: העברה לרגיל- הנדסה | G6: =J6+F6 -> 24350.4 | H6: =U6 -> 24350.4 | I6: =AE6 -> 0 | J6: =SUM(H6:I6) -> 24350.4 | K6: 24350.4 | S6: =SUM(K6:Q6) -> 24350.4 | U6: =SUM(S6:T6) -> 24350.4 | AC6: =SUM(V6:AB6) -> 0 | AE6: =SUM(AC6:AD6) -> 0
B7: העברה לתקציב הרגיל סה"כ | E7: =SUBTOTAL(9,E5:E6) -> 0 | F7: =SUBTOTAL(9,F5:F6) -> 0 | G7: =SUBTOTAL(9,G5:G6) -> 39761 | H7: =SUBTOTAL(9,H5:H6) -> 39761 | I7: =SUBTOTAL(9,I5:I6) -> 0 | J7: =SUBTOTAL(9,J5:J6) -> 39761 | K7: =SUBTOTAL(9,K5:K6) -> 34976.5 | L7: =SUBTOTAL(9,L5:L6) -> 1155.9 | ... AE7: =SUBTOTAL(9,AE5:AE6) -> 0
A8: 4 | B8: 710 | C8: 4256 | D8: קול קורא לשמירת ניקיון | E8: 208 | F8: 208 | G8: =J8+F8 -> 440 | H8: =U8 -> 232 | I8: =AE8 -> 0 | J8: =SUM(H8:I8) -> 232 | S8: =SUM(K8:Q8) -> 0 | T8: 232 | U8: =SUM(S8:T8) -> 232 | AC8: =SUM(V8:AB8) -> 0 | AE8: =SUM(AC8:AD8) -> 0 | AF8: המשרד להגנת הסביבה.
A9: 9 | B9: 710 | C9: 4351 | D9: רכש קרטוניות | G9: =J9+F9 -> 280 | H9: =U9 -> 280 | I9: =AE9 -> 0 | J9: =SUM(H9:I9) -> 280 | K9: 280 | S9: =SUM(K9:Q9) -> 280 | U9: =SUM(S9:T9) -> 280 | AC9: =SUM(V9:AB9) -> 0 | AE9: =SUM(AC9:AD9) -> 0
A10: 9 | B10: 710 | C10: 2418 | D10: החלפת רכבים | E10: 21802 | F10: 18123 | G10: =J10+F10 -> 20973 | H10: =U10 -> 750 | I10: =AE10 -> 2100 | J10: =SUM(H10:I10) -> 2850 | N10: 750 | S10: =SUM(K10:Q10) -> 750 | U10: =SUM(S10:T10) -> 750 | V10: 2100 | AC10: =SUM(V10:AB10) -> 2100 | AE10: =SUM(AC10:AD10) -> 2100 | AF10: מקרן רכבים, כולל רכב לרה"ע.
A11: 9 | B11: 710 | C11: 4021 | D11: רכישת טמוני קרקע | E11: 8100 | F11: 1207 | G11: =J11+F11 -> 2707 | H11: =U11 -> 500 | I11: =AE11 -> 1000 | J11: =SUM(H11:I11) -> 1500 | K11: 500 | S11: =SUM(K11:Q11) -> 500 | U11: =SUM(S11:T11) -> 500 | V11: 1000 | AC11: =SUM(V11:AB11) -> 1000 | AE11: =SUM(AC11:AD11) -> 1000
A12: 9 | B12: 710 | C12: 4163 | D12: החלפת והוספת כל כלי האצירה שבעיר | E12: 4900 | F12: 900 | G12: =J12+F12 -> 2300 | H12: =U12 -> 400 | I12: =AE12 -> 1000 | J12: =SUM(H12:I12) -> 1400 | K12: 400 | S12: =SUM(K12:Q12) -> 400 | U12: =SUM(S12:T12) -> 400 | V12: 1000 | AC12: =SUM(V12:AB12) -> 1000 | AE12: =SUM(AC12:AD12) -> 1000 | AF12: גידול העיר,מתן פחים כתחליף להוצאת מכולות מהעיר, אורך חיי פח, מענה רציף לתושבים.
A13: 9 | B13: 710 | C13: 3450 | D13: רכישת כלי אצירה להפרדה לשני זרמים | E13: 3000 | F13: 1486.13 | G13: =J13+F13 -> 1686.13 | H13: =U13 -> 100 | I13: =AE13 -> 100 | J13: =SUM(H13:I13) -> 200 | K13: 100 | S13: =SUM(K13:Q13) -> 100 | U13: =SUM(S13:T13) -> 100 | V13: 100 | AC13: =SUM(V13:AB13) -> 100 | AE13: =SUM(AC13:AD13) -> 100
B14: 710 | G14: =J14+F14 -> 0 | H14: =U14 -> 0 | I14: =AE14 -> 0 | J14: =SUM(H14:I14) -> 0 | S14: =SUM(K14:Q14) -> 0 | U14: =SUM(R14:T14) -> 0 | AC14: =SUM(V14:AB14) -> 0 | AE14: =SUM(AC14:AD14) -> 0
B15: 710 | G15: =J15+F15 -> 0 | H15: =U15 -> 0 | I15: =AE15 -> 0 | J15: =SUM(H15:I15) -> 0 | S15: =SUM(K15:Q15) -> 0 | U15: =SUM(S15:T15) -> 0 | AC15: =SUM(V15:AB15) -> 0 | AE15: =SUM(AC15:AD15) -> 0
B16: 710 | G16: =J16+F16 -> 0 | H16: =U16 -> 0 | I16: =AE16 -> 0 | J16: =SUM(H16:I16) -> 0 | S16: =SUM(K16:Q16) -> 0 | U16: =SUM(R16:T16) -> 0 | AC16: =SUM(V16:AB16) -> 0 | AE16: =SUM(AC16:AD16) -> 0
B17: סה"כ תברואה | E17: =SUBTOTAL(9,E8:E16) -> 38010 | F17: =SUBTOTAL(9,F8:F16) -> 21924.13 | G17: =SUBTOTAL(9,G8:G16) -> 28386.13 | H17: =SUBTOTAL(9,H8:H16) -> 2262 | I17: =SUBTOTAL(9,I8:I16) -> 4200 | J17: =SUBTOTAL(9,J8:J16) -> 6462 | K17: =SUBTOTAL(9,K8:K16) -> 1280 | L17: =SUBTOTAL(9,L8:L16) -> 0 | ... AE17: =SUBTOTAL(9,AE8:AE16) -> 4200
A18: 9 | B18: 721 | C18: 4172 | D18: רכישת אמצעים ויכולות טכנולוגיות לשיטור עירוני | E18: 50 | F18: 50 | G18: =F18+J18 -> 135 | H18: =U18 -> 85 | I18: =AE18 -> 0 | J18: =SUM(H18:I18) -> 85 | N18: 85 | S18: =SUM(K18:Q18) -> 85 | U18: =SUM(S18:T18) -> 85 | AC18: =SUM(V18:AB18) -> 0 | AE18: =SUM(AC18:AD18) -> 0 | AF18: מקרן שיטור.
A19: 9 | B19: 721 | C19: 3614 | D19: שיקום מקלטים | E19: 2358 | F19: 758 | G19: =F19+J19 -> 1808 | H19: =U19 -> 1050 | I19: =AE19 -> 0 | J19: =SUM(H19:I19) -> 1050 | K19: 1050 | S19: =SUM(K19:Q19) -> 1050 | U19: =SUM(S19:T19) -> 1050 | AC19: =SUM(V19:AB19) -> 0 | AE19: =SUM(AC19:AD19) -> 0
A20: 9 | B20: 721 | C20: 3871 | D20: שיפור ומיגון ביטחון | E20: 1128 | F20: 1002 | G20: =F20+J20 -> 1302 | H20: =U20 -> 300 | I20: =AE20 -> 0 | J20: =SUM(H20:I20) -> 300 | K20: 150 | S20: =SUM(K20:Q20) -> 150 | T20: 150 | U20: =SUM(S20:T20) -> 300 | AC20: =SUM(V20:AB20) -> 0 | AE20: =SUM(AC20:AD20) -> 0 | AF20: התקנת מערכות ביטחון במוסדות החינוך-השתתפות מ.החינוך.
A21: 9 | B21: 721 | C21: 4352 | D21: התקנת מערכות טכנולוגיות | G21: =F21+J21 -> 50 | H21: =U21 -> 50 | I21: =AE21 -> 0 | J21: =SUM(H21:I21) -> 50 | N21: 50 | S21: =SUM(K21:Q21) -> 50 | U21: =SUM(S21:T21) -> 50 | AC21: =SUM(V21:AB21) -> 0 | AE21: =SUM(AC21:AD21) -> 0 | AF21: עבור מוסדות חינוך- מקרן שיטור.
A22: 9 | B22: 721 | C22: 4173 | D22: הוצאות פרסום לחירום | E22: 50 | F22: 50 | G22: =F22+J22 -> 100 | H22: =U22 -> 50 | I22: =AE22 -> 0 | J22: =SUM(H22:I22) -> 50 | K22: 50 | S22: =SUM(K22:Q22) -> 50 | U22: =SUM(S22:T22) -> 50 | AC22: =SUM(V22:AB22) -> 0 | AE22: =SUM(AC22:AD22) -> 0 | AF22: הפקת חומרי דפוס לחירום (פנקסי כיס,פרסומים לבי"ס וכד').
A23: 9 | B23: 721 | C23: 4174 | D23: יחידת חילוץ | E23: 150 | F23: 50 | G23: =F23+J23 -> 100 | H23: =U23 -> 50 | I23: =AE23 -> 0 | J23: =SUM(H23:I23) -> 50 | K23: 50 | S23: =SUM(K23:Q23) -> 50 | U23: =SUM(S23:T23) -> 50 | AC23: =SUM(V23:AB23) -> 0 | AE23: =SUM(AC23:AD23) -> 0 | AF23: רכישת ציוד חירום עבור יחיד החילוץ העירונית שבנויה ממתנדבים.
A24: 9 | B24: 721 | C24: 4353 | D24: רכישת ציוד חירום | G24: =F24+J24 -> 50 | H24: =U24 -> 50 | I24: =AE24 -> 0 | J24: =SUM(H24:I24) -> 50 | K24: 50 | S24: =SUM(K24:Q24) -> 50 | U24: =SUM(S24:T24) -> 50 | AC24: =SUM(V24:AB24) -> 0 | AE24: =SUM(AC24:AD24) -> 0 | AF24: ערכות תאורה,גנרטורים, ערכות עזרה ראשונה וכד'.
A25: 9 | B25: 721 | C25: 3988 | D25: הצטיידות שיטור עירוני כנגד פחת ל-3 שנים | E25: 212 | F25: 194.5 | G25: =F25+J25 -> 194.5 | H25: =U25 -> 0 | I25: =AE25 -> 0 | J25: =SUM(H25:I25) -> 0 | K25: -30 | S25: =SUM(K25:Q25) -> -30 | T25: 30 | U25: =SUM(S25:T25) -> 0 | AC25: =SUM(V25:AB25) -> 0 | AE25: =SUM(AC25:AD25) -> 0 | AF25: העברה מהתקציב הרגיל.
A26: 9 | B26: 721 | C26: 3989 | D26: התאמת מבנה לשיטור עירוני כנגד פחת ל-5 שנים | E26: 363 | F26: 320.4 | G26: =F26+J26 -> 320.4 | H26: =U26 -> 0 | I26: =AE26 -> 0 | J26: =SUM(H26:I26) -> 0 | K26: -72.6 | S26: =SUM(K26:Q26) -> -72.6 | T26: 72.6 | U26: =SUM(S26:T26) -> 0 | AC26: =SUM(V26:AB26) -> 0 | AE26: =SUM(AC26:AD26) -> 0 | AF26: העברה מהתקציב הרגיל.
A27: 9 | B27: 721 | C27: 3990 | D27: הצטיידות שיטור עירוני כנגד פחת ל- 5 שנים | E27: 139 | F27: 134.3 | G27: =F27+J27 -> 134.3 | H27: =U27 -> 0 | I27: =AE27 -> 0 | J27: =SUM(H27:I27) -> 0 | K27: -8 | S27: =SUM(K27:Q27) -> -8 | T27: 8 | U27: =SUM(S27:T27) -> 0 | AC27: =SUM(V27:AB27) -> 0 | AE27: =SUM(AC27:AD27) -> 0 | AF27: העברה מהתקציב הרגיל.
A28: 9 | B28: 721 | C28: 3991 | D28: הצטיידות שיטור עירוני כנגד פחת ל- 10 שנים | E28: 108 | F28: 102.2 | G28: =F28+J28 -> 102.2 | H28: =U28 -> 0 | I28: =AE28 -> 0 | J28: =SUM(H28:I28) -> 0 | K28: -10 | S28: =SUM(K28:Q28) -> -10 | T28: 10 | U28: =SUM(S28:T28) -> 0 | AC28: =SUM(V28:AB28) -> 0 | AE28: =SUM(AC28:AD28) -> 0 | AF28: העברה מהתקציב הרגיל.
A29: 9 | B29: 721 | C29: 3992 | D29: מצלמות שיטור עירוני כנגד פחת 6.666 שנים | E29: 2000 | F29: 1825 | G29: =F29+J29 -> 1825 | H29: =U29 -> 0 | I29: =AE29 -> 0 | J29: =SUM(H29:I29) -> 0 | K29: -300 | S29: =SUM(K29:Q29) -> -300 | T29: 300 | U29: =SUM(S29:T29) -> 0 | AC29: =SUM(V29:AB29) -> 0 | AE29: =SUM(AC29:AD29) -> 0 | AF29: העברה מהתקציב הרגיל.
A30: 22 | B30: 721 | C30: 2972 | D30: שיפור ומיגון ביטחון | E30: 1060 | F30: 950 | G30: =F30+J30 -> 950 | H30: =U30 -> 0 | I30: =AE30 -> 0 | J30: =SUM(H30:I30) -> 0 | K30: 149.41 | S30: =SUM(K30:Q30) -> 149.41 | T30: -149.41 | U30: =SUM(S30:T30) -> 0 | AC30: =SUM(V30:AB30) -> 0 | AE30: =SUM(AC30:AD30) -> 0 | AF30: שינוי מקורות מימון.
B31: סה"כ בטחון | E31: =SUBTOTAL(9,E18:E30) -> 7618 | F31: =SUBTOTAL(9,F18:F30) -> 5436.4 | G31: =SUBTOTAL(9,G18:G30) -> 7071.4 | H31: =SUBTOTAL(9,H18:H30) -> 1635 | I31: =SUBTOTAL(9,I18:I30) -> 0 | J31: =SUBTOTAL(9,J18:J30) -> 1635 | K31: =SUBTOTAL(9,K18:K30) -> 1078.81 | L31: =SUBTOTAL(9,L18:L30) -> 0 | ... AE31: =SUBTOTAL(9,AE18:AE30) -> 0
A32: 3 | B32: 735 | C32: 2233 | D32: מדידות | E32: 5650 | F32: 2767 | G32: =F32+J32 -> 3567 | H32: =U32 -> 300 | I32: =AE32 -> 500 | J32: =SUM(H32:I32) -> 800 | K32: 300 | S32: =SUM(K32:Q32) -> 300 | U32: =SUM(S32:T32) -> 300 | V32: 500 | AC32: =SUM(V32:AB32) -> 500 | AE32: =SUM(AC32:AD32) -> 500
A33: 7 | B33: 735 | C33: 3712 | D33: לוחות מודעות לתושב | E33: 400 | F33: 200 | G33: =F33+J33 -> 317 | H33: =U33 -> 117 | I33: =AE33 -> 0 | J33: =SUM(H33:I33) -> 117 | K33: 117 | S33: =SUM(K33:Q33) -> 117 | U33: =SUM(S33:T33) -> 117 | AC33: =SUM(V33:AB33) -> 0 | AE33: =SUM(AC33:AD33) -> 0
A34: 7 | B34: 735 | C34: 2950 | D34: שילוט מוסדות וחוצות | E34: 3480 | F34: 2480 | G34: =F34+J34 -> 2680 | H34: =U34 -> 200 | I34: =AE34 -> 0 | J34: =SUM(H34:I34) -> 200 | K34: 200 | S34: =SUM(K34:Q34) -> 200 | U34: =SUM(S34:T34) -> 200 | AC34: =SUM(V34:AB34) -> 0 | AE34: =SUM(AC34:AD34) -> 0
A35: 7 | B35: 735 | C35: 3876 | D35: התקנת מתקנים | E35: 450 | F35: 225 | G35: =F35+J35 -> 275 | H35: =U35 -> 50 | I35: =AE35 -> 0 | J35: =SUM(H35:I35) -> 50 | K35: 50 | S35: =SUM(K35:Q35) -> 50 | U35: =SUM(S35:T35) -> 50 | AC35: =SUM(V35:AB35) -> 0 | AE35: =SUM(AC35:AD35) -> 0
A36: 7 | B36: 735 | C36: 4354 | D36: שכונת אגרובנק | G36: =F36+J36 -> 500 | H36: =U36 -> 400 | I36: =AE36 -> 100 | J36: =SUM(H36:I36) -> 500 | K36: 400 | S36: =SUM(K36:Q36) -> 400 | U36: =SUM(S36:T36) -> 400 | V36: 100 | AC36: =SUM(V36:AB36) -> 100 | AE36: =SUM(AC36:AD36) -> 100
A37: 7 | B37: 735 | C37: 3008 | D37: תכנון ובניית בית עירייה חדש | E37: 24250 | F37: 4835.737 | G37: =F37+J37 -> 5635.737 | H37: =U37 -> 800 | I37: =AE37 -> 0 | J37: =SUM(H37:I37) -> 800 | K37: 800 | S37: =SUM(K37:Q37) -> 800 | U37: =SUM(S37:T37) -> 800 | AC37: =SUM(V37:AB37) -> 0 | AE37: =SUM(AC37:AD37) -> 0 | AF37: ככר העיר-תכנית מפורטת.
A38: 7 | B38: 735 | C38: 4355 | D38: הנחיות מרחביות | G38: =F38+J38 -> 200 | H38: =U38 -> 150 | I38: =AE38 -> 50 | J38: =SUM(H38:I38) -> 200 | K38: 150 | S38: =SUM(K38:Q38) -> 150 | U38: =SUM(S38:T38) -> 150 | V38: 50 | AC38: =SUM(V38:AB38) -> 50 | AE38: =SUM(AC38:AD38) -> 50 | AF38: עדכון לצורך שיפור איכות הבניה והתאמה לתקנות החוק.
A39: 7 | B39: 735 | C39: 4356 | D39: מרחב ציבורי | G39: =F39+J39 -> 700 | H39: =U39 -> 400 | I39: =AE39 -> 300 | J39: =SUM(H39:I39) -> 700 | K39: 400 | S39: =SUM(K39:Q39) -> 400 | U39: =SUM(S39:T39) -> 400 | V39: 300 | AC39: =SUM(V39:AB39) -> 300 | AE39: =SUM(AC39:AD39) -> 300 | AF39: יעוץ לאדריכל העיר.
A40: 7 | B40: 735 | C40: 4357 | D40: מדיניות לפיתוח מגרשים ושילוב מגורים באזור תעשייה | G40: =F40+J40 -> 400 | H40: =U40 -> 200 | I40: =AE40 -> 200 | J40: =SUM(H40:I40) -> 400 | K40: 200 | S40: =SUM(K40:Q40) -> 200 | U40: =SUM(S40:T40) -> 200 | V40: 200 | AC40: =SUM(V40:AB40) -> 200 | AE40: =SUM(AC40:AD40) -> 200 | AF40: פיתוח מגרשים ושילוב מגורים באזור התעסוקה.
A41: 7 | B41: 735 | C41: 4033 | D41: תכנית שימור עירונית | E41: 760 | F41: 367 | G41: =F41+J41 -> 1567 | H41: =U41 -> 200 | I41: =AE41 -> 1000 | J41: =SUM(H41:I41) -> 1200 | K41: 200 | S41: =SUM(K41:Q41) -> 200 | U41: =SUM(S41:T41) -> 200 | V41: 1000 | AC41: =SUM(V41:AB41) -> 1000 | AE41: =SUM(AC41:AD41) -> 1000 | AF41: ליווי שימור ועדכון תכנית השימור ח/528.
A42: 7 | B42: 735 | C42: 4035 | D42: צומת חולון | E42: 3500 | F42: 561.6 | G42: =F42+J42 -> 2561.6 | H42: =U42 -> 1000 | I42: =AE42 -> 1000 | J42: =SUM(H42:I42) -> 2000 | K42: 1000 | S42: =SUM(K42:Q42) -> 1000 | U42: =SUM(S42:T42) -> 1000 | V42: 1000 | AC42: =SUM(V42:AB42) -> 1000 | AE42: =SUM(AC42:AD42) -> 1000
A43: 7 | B43: 735 | C43: 4180 | D43: קיימות | E43: 1350 | F43: 280 | G43: =F43+J43 -> 1250 | H43: =U43 -> 370 | I43: =AE43 -> 600 | J43: =SUM(H43:I43) -> 970 | K43: 200 | S43: =SUM(K43:Q43) -> 200 | T43: 170 | U43: =SUM(S43:T43) -> 370 | V43: 600 | AC43: =SUM(V43:AB43) -> 600 | AE43: =SUM(AC43:AD43) -> 600 | AF43: המשרד להגנת הסביבה.
A44: 7 | B44: 735 | C44: 4358 | D44: עדכון תוכניות ח/1 | G44: =F44+J44 -> 500 | H44: =U44 -> 300 | I44: =AE44 -> 200 | J44: =SUM(H44:I44) -> 500 | K44: 300 | S44: =SUM(K44:Q44) -> 300 | U44: =SUM(S44:T44) -> 300 | V44: 200 | AC44: =SUM(V44:AB44) -> 200 | AE44: =SUM(AC44:AD44) -> 200 | AF44: לצורך שיפור הליכי רישוי והגדלת הכנסות מהשבחה.
A45: 7 | B45: 735 | C45: 3009 | D45: טיפול במבני פל-קל | E45: 2360 | F45: 925 | G45: =F45+J45 -> 1165 | H45: =U45 -> 120 | I45: =AE45 -> 120 | J45: =SUM(H45:I45) -> 240 | K45: 120 | S45: =SUM(K45:Q45) -> 120 | U45: =SUM(S45:T45) -> 120 | V45: 120 | AC45: =SUM(V45:AB45) -> 120 | AE45: =SUM(AC45:AD45) -> 120
A46: 7 | B46: 735 | C46: 3061 | D46: מבנים מסוכנים-הנדסה | E46: 10278 | F46: 5478 | G46: =F46+J46 -> 7278 | H46: =U46 -> 300 | I46: =AE46 -> 1500 | J46: =SUM(H46:I46) -> 1800 | K46: 300 | S46: =SUM(K46:Q46) -> 300 | U46: =SUM(S46:T46) -> 300 | V46: 1500 | AC46: =SUM(V46:AB46) -> 1500 | AE46: =SUM(AC46:AD46) -> 1500
A47: 7 | B47: 735 | C47: 3314 | D47: בדיקות ותכנון קונסט' ובטיחות | E47: 2310 | F47: 960 | G47: =F47+J47 -> 1560 | H47: =U47 -> 300 | I47: =AE47 -> 300 | J47: =SUM(H47:I47) -> 600 | K47: 300 | S47: =SUM(K47:Q47) -> 300 | U47: =SUM(S47:T47) -> 300 | V47: 300 | AC47: =SUM(V47:AB47) -> 300 | AE47: =SUM(AC47:AD47) -> 300
A48: 7 | B48: 735 | C48: 3312 | D48: מניעה וטיפול בפלישות לקרקע עירונית | E48: 1570 | F48: 770 | G48: =F48+J48 -> 1170 | H48: =U48 -> 100 | I48: =AE48 -> 300 | J48: =SUM(H48:I48) -> 400 | K48: 100 | S48: =SUM(K48:Q48) -> 100 | U48: =SUM(S48:T48) -> 100 | V48: 300 | AC48: =SUM(V48:AB48) -> 300 | AE48: =SUM(AC48:AD48) -> 300
A49: 7 | B49: 735 | C49: 3201 | D49: מיזעור תיקים מינהל הנדסה | E49: 1800 | F49: 1500 | G49: =F49+J49 -> 1850 | H49: =U49 -> 150 | I49: =AE49 -> 200 | J49: =SUM(H49:I49) -> 350 | K49: 150 | S49: =SUM(K49:Q49) -> 150 | U49: =SUM(S49:T49) -> 150 | V49: 200 | AC49: =SUM(V49:AB49) -> 200 | AE49: =SUM(AC49:AD49) -> 200 | AF49: השלמת פרוייקט סריקת תיקי בניין.
A50: 18 | B50: 735 | C50: 4334 | D50: תב"ע חניון השופטים | E50: 50 | F50: 50 | G50: =F50+J50 -> 700 | H50: =U50 -> 650 | I50: =AE50 -> 0 | J50: =SUM(H50:I50) -> 650 | K50: 650 | S50: =SUM(K50:Q50) -> 650 | U50: =SUM(S50:T50) -> 650 | AC50: =SUM(V50:AB50) -> 0 | AE50: =SUM(AC50:AD50) -> 0
A51: 18 | B51: 735 | C51: 4359 | D51: תב"ע הרוקמים | G51: =F51+J51 -> 1200 | H51: =U51 -> 1200 | I51: =AE51 -> 0 | J51: =SUM(H51:I51) -> 1200 | K51: 1200 | S51: =SUM(K51:Q51) -> 1200 | U51: =SUM(S51:T51) -> 1200 | AC51: =SUM(V51:AB51) -> 0 | AE51: =SUM(AC51:AD51) -> 0 | AF51: יבוצע ע"י החב' הכלכלית.
A52: 7 | B52: 735 | C52: 4360 | D52: פרוייקט נת"ע | G52: =F52+J52 -> 21000 | H52: =U52 -> 10000 | I52: =AE52 -> 11000 | J52: =SUM(H52:I52) -> 21000 | S52: =SUM(K52:Q52) -> 0 | T52: 10000 | U52: =SUM(S52:T52) -> 10000 | V52: 10000 | AC52: =SUM(V52:AB52) -> 10000 | AD52: 1000 | AE52: =SUM(AC52:AD52) -> 11000 | AF52: השתתפות נת"ע מתחם פסגות , שדרוג חלק מתוואי קווי נת"ע.
A53: 7 | B53: 735 | C53: 1746 | D53: תכנון ח- 370 | E53: 1800 | F53: 1593 | G53: =F53+J53 -> 1381.958 | H53: =U53 -> -211.042 | I53: =AE53 -> 0 | J53: =SUM(H53:I53) -> -211.042 | K53: -211.042 | S53: =SUM(K53:Q53) -> -211.042 | U53: =SUM(R53:T53) -> -211.042 | AC53: =SUM(V53:AB53) -> 0 | AE53: =SUM(AC53:AD53) -> 0 | AF53: העברה לתב"ר 4179.
A54: 7 | B54: 735 | C54: 4179 | D54: מתחם השומרונים | E54: 600 | F54: 600 | G54: =F54+J54 -> 811.042 | H54: =U54 -> 211.042 | I54: =AE54 -> 0 | J54: =SUM(H54:I54) -> 211.042 | K54: 211.042 | S54: =SUM(K54:Q54) -> 211.042 | U54: =SUM(S54:T54) -> 211.042 | AC54: =SUM(V54:AB54) -> 0 | AE54: =SUM(AC54:AD54) -> 0 | AF54: העברה מתב"ר 1746.
A55: 7 | B55: 735 | C55: 3398 | D55: נגישות לנכים | E55: 54902.979 | F55: 19372 | G55: =F55+J55 -> 21372 | H55: =U55 -> 2000 | I55: =AE55 -> 0 | J55: =SUM(H55:I55) -> 2000 | K55: 2000 | S55: =SUM(K55:Q55) -> 2000 | U55: =SUM(S55:T55) -> 2000 | AC55: =SUM(V55:AB55) -> 0 | AE55: =SUM(AC55:AD55) -> 0
A56: 7 | B56: 735 | C56: 3204 | D56: תוכנית מיתאר לעיר | E56: 5800 | F56: 5300 | G56: =F56+J56 -> 7373.013 | H56: =U56 -> 2073.013 | I56: =AE56 -> 0 | J56: =SUM(H56:I56) -> 2073.013 | K56: 2073.013 | S56: =SUM(K56:Q56) -> 2073.013 | U56: =SUM(S56:T56) -> 2073.013 | AC56: =SUM(V56:AB56) -> 0 | AE56: =SUM(AC56:AD56) -> 0 | AF56: העברות מתב"רים: 2947,2421,3819,4176.
A57: 7 | B57: 735 | C57: 2947 | D57: תב"ע משולש חקלאי | E57: 3710 | F57: 1019 | G57: =F57+J57 -> 707.066 | H57: =U57 -> -311.934 | I57: =AE57 -> 0 | J57: =SUM(H57:I57) -> -311.934 | K57: -311.934 | S57: =SUM(K57:Q57) -> -311.934 | U57: =SUM(S57:T57) -> -311.934 | AC57: =SUM(V57:AB57) -> 0 | AE57: =SUM(AC57:AD57) -> 0 | AF57: העברה לתב"ר 3204.
A58: 7 | B58: 735 | C58: 2421 | D58: תכנון מסלול אופניים | E58: 1330 | F58: 930 | G58: =F58+J58 -> 755.865 | H58: =U58 -> -174.135 | I58: =AE58 -> 0 | J58: =SUM(H58:I58) -> -174.135 | K58: -174.135 | S58: =SUM(K58:Q58) -> -174.135 | U58: =SUM(S58:T58) -> -174.135 | AC58: =SUM(V58:AB58) -> 0 | AE58: =SUM(AC58:AD58) -> 0 | AF58: העברה לתב"ר 3204.
A59: 7 | B59: 735 | C59: 3819 | D59: התחדשות עירונית בין יוספטל למשה דיין | E59: 2300 | F59: 1300 | G59: =F59+J59 -> 208.056 | H59: =U59 -> -1091.944 | I59: =AE59 -> 0 | J59: =SUM(H59:I59) -> -1091.944 | K59: -1091.944 | S59: =SUM(K59:Q59) -> -1091.944 | U59: =SUM(S59:T59) -> -1091.944 | AC59: =SUM(V59:AB59) -> 0 | AE59: =SUM(AC59:AD59) -> 0 | AF59: העברה לתב"ר 3204.
A60: 7 | B60: 735 | C60: 4176 | D60: שכ' ג'סי כהן-מרחב ציבורי תחילה | E60: 700 | F60: 200 | G60: =F60+J60 -> 0 | H60: =U60 -> -200 | I60: =AE60 -> 0 | J60: =SUM(H60:I60) -> -200 | K60: -200 | S60: =SUM(K60:Q60) -> -200 | U60: =SUM(S60:T60) -> -200 | AC60: =SUM(V60:AB60) -> 0 | AE60: =SUM(AC60:AD60) -> 0 | AF60: העברה לתב"ר 3204.
B61: 735 | G61: =F61+J61 -> 0 | H61: =U61 -> 0 | I61: =AE61 -> 0 | J61: =SUM(H61:I61) -> 0 | S61: =SUM(K61:Q61) -> 0 | U61: =SUM(S61:T61) -> 0 | AC61: =SUM(V61:AB61) -> 0 | AE61: =SUM(AC61:AD61) -> 0
B62: 735 | G62: =F62+J62 -> 0 | H62: =U62 -> 0 | I62: =AE62 -> 0 | J62: =SUM(H62:I62) -> 0 | S62: =SUM(K62:Q62) -> 0 | U62: =SUM(R62:T62) -> 0 | AC62: =SUM(V62:AB62) -> 0 | AE62: =SUM(AC62:AD62) -> 0
B63: 735 | G63: =F63+J63 -> 0 | H63: =U63 -> 0 | I63: =AE63 -> 0 | J63: =SUM(H63:I63) -> 0 | S63: =SUM(K63:Q63) -> 0 | U63: =SUM(R63:T63) -> 0 | AC63: =SUM(V63:AB63) -> 0 | AE63: =SUM(AC63:AD63) -> 0
B64: 735 | G64: =F64+J64 -> 0 | H64: =U64 -> 0 | I64: =AE64 -> 0 | J64: =SUM(H64:I64) -> 0 | S64: =SUM(K64:Q64) -> 0 | U64: =SUM(R64:T64) -> 0 | AC64: =SUM(V64:AB64) -> 0 | AE64: =SUM(AC64:AD64) -> 0
B65: 735 | G65: =F65+J65 -> 0 | H65: =U65 -> 0 | I65: =AE65 -> 0 | J65: =SUM(H65:I65) -> 0 | S65: =SUM(K65:Q65) -> 0 | U65: =SUM(R65:T65) -> 0 | AC65: =SUM(V65:AB65) -> 0 | AE65: =SUM(AC65:AD65) -> 0
B66: 735 | G66: =F66+J66 -> 0 | H66: =U66 -> 0 | I66: =AE66 -> 0 | J66: =SUM(H66:I66) -> 0 | S66: =SUM(K66:Q66) -> 0 | U66: =SUM(S66:T66) -> 0 | AC66: =SUM(V66:AB66) -> 0 | AE66: =SUM(AC66:AD66) -> 0
B67: 735 | G67: =F67+J67 -> 0 | H67: =U67 -> 0 | I67: =AE67 -> 0 | J67: =SUM(H67:I67) -> 0 | S67: =SUM(K67:Q67) -> 0 | U67: =SUM(S67:T67) -> 0 | AC67: =SUM(V67:AB67) -> 0 | AE67: =SUM(AC67:AD67) -> 0
B68: 735 | G68: =F68+J68 -> 0 | H68: =U68 -> 0 | I68: =AE68 -> 0 | J68: =SUM(H68:I68) -> 0 | S68: =SUM(K68:Q68) -> 0 | U68: =SUM(R68:T68) -> 0 | AC68: =SUM(V68:AB68) -> 0 | AE68: =SUM(AC68:AD68) -> 0
B69: סה"כ הנדסה | E69: =SUBTOTAL(9,E32:E68) -> 129350.98 | F69: =SUBTOTAL(9,F32:F68) -> 51713.337 | G69: =SUBTOTAL(9,G32:G68) -> 88685.337 | H69: =SUBTOTAL(9,H32:H68) -> 19602 | I69: =SUBTOTAL(9,I32:I68) -> 17370 | J69: =SUBTOTAL(9,J32:J68) -> 36972 | K69: =SUBTOTAL(9,K32:K68) -> 9432 | L69: =SUBTOTAL(9,L32:L68) -> 0 | ... AE69: =SUBTOTAL(9,AE32:AE68) -> 17370
A70: 4 | B70: 742 | C70: 3205 | D70: עבודות פיתוח א.ת. | E70: 13250 | F70: 4050 | G70: =F70+J70 -> 7050 | H70: =U70 -> 500 | I70: =AE70 -> 2500 | J70: =SUM(H70:I70) -> 3000 | M70: 500 | S70: =SUM(K70:Q70) -> 500 | U70: =SUM(S70:T70) -> 500 | X70: 2500 | AC70: =SUM(V70:AB70) -> 2500 | AE70: =SUM(AC70:AD70) -> 2500
A71: 4 | B71: 742 | C71: 3316 | D71: עבודות לטיפול מיוחד במחלף חולון מזרח | E71: 2700 | F71: 2100 | G71: =F71+J71 -> 2350 | H71: =U71 -> 0 | I71: =AE71 -> 250 | J71: =SUM(H71:I71) -> 250 | S71: =SUM(K71:Q71) -> 0 | U71: =SUM(S71:T71) -> 0 | X71: 250 | AC71: =SUM(V71:AB71) -> 250 | AE71: =SUM(AC71:AD71) -> 250
A72: 4 | B72: 742 | C72: 3457 | D72: פרוייקט מרכז העסקים דן חולון | E72: 3000 | F72: 92.014 | G72: =F72+J72 -> 3092.014 | H72: =U72 -> 500 | I72: =AE72 -> 2500 | J72: =SUM(H72:I72) -> 3000 | M72: 500 | S72: =SUM(K72:Q72) -> 500 | U72: =SUM(S72:T72) -> 500 | X72: 2500 | AC72: =SUM(V72:AB72) -> 2500 | AE72: =SUM(AC72:AD72) -> 2500
A73: 4 | B73: 742 | C73: 3877 | D73: הרוקמים מערב ח 152/5 אמות השקעות | E73: 8000 | F73: 8000 | G73: =J73+F73 -> 12000 | H73: =U73 -> 3500 | I73: =AE73 -> 500 | J73: =SUM(H73:I73) -> 4000 | M73: 2000 | S73: =SUM(K73:Q73) -> 2000 | T73: 1500 | U73: =SUM(S73:T73) -> 3500 | X73: 500 | AC73: =SUM(V73:AB73) -> 500 | AE73: =SUM(AC73:AD73) -> 500 | AF73: השתתפות משרד התחבורה.
A74: 4 | B74: 742 | C74: 3955 | D74: תכנון ופיתוח תשתיות מרח' הלהב לרח' המרכבה (עזריאלי ג') | E74: 7200 | F74: 1150 | G74: =J74+F74 -> 8650 | H74: =U74 -> 0 | I74: =AE74 -> 7500 | J74: =SUM(H74:I74) -> 7500 | S74: =SUM(K74:Q74) -> 0 | U74: =SUM(S74:T74) -> 0 | X74: 7500 | AC74: =SUM(V74:AB74) -> 7500 | AE74: =SUM(AC74:AD74) -> 7500 | AF74: שינוי שם תב"ר במקום השם הקודם:"תכנון פיתוח תשתיות רח' הרוקמים מזרח וחיבור במעגל תנועה לרח' המרכבה".
A75: 4 | B75: 742 | C75: 3956 | D75: פיתוח תשתיות כבישים ומדרכות ברח' המנור בין ככר האורגים לשד' ירושלים (עזריאלי ב') | E75: 10200 | F75: 2840 | G75: =J75+F75 -> 4840 | H75: =U75 -> 0 | I75: =AE75 -> 2000 | J75: =SUM(H75:I75) -> 2000 | S75: =SUM(K75:Q75) -> 0 | U75: =SUM(S75:T75) -> 0 | X75: 2000 | AC75: =SUM(V75:AB75) -> 2000 | AE75: =SUM(AC75:AD75) -> 2000 | AF75: שינוי שם תב"ר במקום בשם הקודם:"תכנון פיתוח תשתיות חיבור רח' המנור לשד' ירושלים".
A76: 5 | B76: 742 | C76: 4186 | D76: תיקון מדרכות | E76: 700 | F76: 500 | G76: =J76+F76 -> 2866 | H76: =U76 -> 566 | I76: =AE76 -> 1800 | J76: =SUM(H76:I76) -> 2366 | M76: 566 | S76: =SUM(K76:Q76) -> 566 | U76: =SUM(S76:T76) -> 566 | X76: 1800 | AC76: =SUM(V76:AB76) -> 1800 | AE76: =SUM(AC76:AD76) -> 1800 | AF76: הפעלת צוותי קבלני ריצוף לטיפול שוטף וטיפול יזום במפגעי ריצוף ברחבי העיר.
A77: 5 | B77: 742 | C77: 3527 | D77: עבודות פיתוח ברחבי העיר | E77: 17958 | F77: 5198 | G77: =J77+F77 -> 6811 | H77: =U77 -> 363 | I77: =AE77 -> 1250 | J77: =SUM(H77:I77) -> 1613 | M77: =328+35 -> 363 | S77: =SUM(K77:Q77) -> 363 | U77: =SUM(S77:T77) -> 363 | X77: 1250 | AC77: =SUM(V77:AB77) -> 1250 | AE77: =SUM(AC77:AD77) -> 1250
A78: 5 | B78: 742 | C78: 4361 | D78: פיקוח עירוני על קבלני רק"ל | G78: =J78+F78 -> 470 | H78: =U78 -> 120 | I78: =AE78 -> 350 | J78: =SUM(H78:I78) -> 470 | M78: 120 | S78: =SUM(K78:Q78) -> 120 | U78: =SUM(R78:T78) -> 120 | X78: 350 | AC78: =SUM(V78:AB78) -> 350 | AE78: =SUM(AC78:AD78) -> 350
A79: 5 | B79: 742 | C79: 4362 | D79: פיקוח עירוני על קבלני אופני דן | G79: =J79+F79 -> 270 | H79: =U79 -> 120 | I79: =AE79 -> 150 | J79: =SUM(H79:I79) -> 270 | M79: 120 | S79: =SUM(K79:Q79) -> 120 | U79: =SUM(R79:T79) -> 120 | X79: 150 | AC79: =SUM(V79:AB79) -> 150 | AE79: =SUM(AC79:AD79) -> 150
A80: 18 | B80: 742 | C80: 1568 | D80: מגדלים בשדרה-אמירי חולון ( מע"ר ח-300) | E80: 54609 | F80: 52609 | G80: =J80+F80 -> 75609 | H80: =U80 -> 20000 | I80: =AE80 -> 3000 | J80: =SUM(H80:I80) -> 23000 | M80: 13000 | P80: 7000 | S80: =SUM(K80:Q80) -> 20000 | U80: =SUM(R80:T80) -> 20000 | X80: 3000 | AC80: =SUM(V80:AB80) -> 3000 | AE80: =SUM(AC80:AD80) -> 3000
A81: 5 | B81: 742 | C81: 4126 | D81: תיקון שביל אספלט במסלול הריצה בגולדה | E81: 770 | F81: 770 | G81: =J81+F81 -> 920 | H81: =U81 -> 150 | I81: =AE81 -> 0 | J81: =SUM(H81:I81) -> 150 | M81: 150 | S81: =SUM(K81:Q81) -> 150 | U81: =SUM(R81:T81) -> 150 | AC81: =SUM(V81:AB81) -> 0 | AE81: =SUM(AC81:AD81) -> 0
A82: 4 | B82: 742 | C82: 4363 | D82: תכנון ופיתוח רחוב הסדנה | G82: =J82+F82 -> 2000 | H82: =U82 -> 0 | I82: =AE82 -> 2000 | J82: =SUM(H82:I82) -> 2000 | S82: =SUM(K82:Q82) -> 0 | U82: =SUM(R82:T82) -> 0 | X82: 2000 | AC82: =SUM(V82:AB82) -> 2000 | AE82: =SUM(AC82:AD82) -> 2000
A83: 5 | B83: 742 | C83: 4364 | D83: פרוייקט שיפוץ דב הוז | G83: =J83+F83 -> 20000 | H83: =U83 -> 20000 | I83: =AE83 -> 0 | J83: =SUM(H83:I83) -> 20000 | S83: =SUM(K83:Q83) -> 0 | T83: 20000 | U83: =SUM(R83:T83) -> 20000 | AC83: =SUM(V83:AB83) -> 0 | AE83: =SUM(AC83:AD83) -> 0 | AF83: 9 מלש"ח כספי "מהיר לעיר" כנגד התחייבות מנת"א, 9 מלש"ח כספי תמריצים מנת"א , 2 מלש"ח כנגד התחייבות משרד התחבורה.
B84: 742 | G84: =J84+F84 -> 0 | H84: =U84 -> 0 | I84: =AE84 -> 0 | J84: =SUM(H84:I84) -> 0 | S84: =SUM(K84:Q84) -> 0 | U84: =SUM(R84:T84) -> 0 | AC84: =SUM(V84:AB84) -> 0 | AE84: =SUM(AC84:AD84) -> 0
B85: 742 | G85: =J85+F85 -> 0 | H85: =U85 -> 0 | I85: =AE85 -> 0 | J85: =SUM(H85:I85) -> 0 | S85: =SUM(K85:Q85) -> 0 | U85: =SUM(R85:T85) -> 0 | AC85: =SUM(V85:AB85) -> 0 | AE85: =SUM(AC85:AD85) -> 0
B86: 742 | G86: =J86+F86 -> 0 | H86: =U86 -> 0 | I86: =AE86 -> 0 | J86: =SUM(H86:I86) -> 0 | S86: =SUM(K86:Q86) -> 0 | U86: =SUM(R86:T86) -> 0 | AC86: =SUM(V86:AB86) -> 0 | AE86: =SUM(AC86:AD86) -> 0
B87: 742 | G87: =J87+F87 -> 0 | H87: =U87 -> 0 | I87: =AE87 -> 0 | J87: =SUM(H87:I87) -> 0 | S87: =SUM(K87:Q87) -> 0 | U87: =SUM(R87:T87) -> 0 | AC87: =SUM(V87:AB87) -> 0 | AE87: =SUM(AC87:AD87) -> 0
B88: 742 | G88: =J88+F88 -> 0 | H88: =U88 -> 0 | I88: =AE88 -> 0 | J88: =SUM(H88:I88) -> 0 | S88: =SUM(K88:Q88) -> 0 | U88: =SUM(R88:T88) -> 0 | AC88: =SUM(V88:AB88) -> 0 | AE88: =SUM(AC88:AD88) -> 0
B89: 742 | G89: =J89+F89 -> 0 | H89: =U89 -> 0 | I89: =AE89 -> 0 | J89: =SUM(H89:I89) -> 0 | S89: =SUM(K89:Q89) -> 0 | U89: =SUM(R89:T89) -> 0 | AC89: =SUM(V89:AB89) -> 0 | AE89: =SUM(AC89:AD89) -> 0
B90: 742 | G90: =J90+F90 -> 0 | H90: =U90 -> 0 | I90: =AE90 -> 0 | J90: =SUM(H90:I90) -> 0 | S90: =SUM(K90:Q90) -> 0 | U90: =SUM(R90:T90) -> 0 | AC90: =SUM(V90:AB90) -> 0 | AE90: =SUM(AC90:AD90) -> 0
B91: 742 | G91: =J91+F91 -> 0 | H91: =U91 -> 0 | I91: =AE91 -> 0 | J91: =SUM(H91:I91) -> 0 | S91: =SUM(K91:Q91) -> 0 | U91: =SUM(R91:T91) -> 0 | AC91: =SUM(V91:AB91) -> 0 | AE91: =SUM(AC91:AD91) -> 0
B92: 742 | G92: =J92+F92 -> 0 | H92: =U92 -> 0 | I92: =AE92 -> 0 | J92: =SUM(H92:I92) -> 0 | S92: =SUM(K92:Q92) -> 0 | U92: =SUM(R92:T92) -> 0 | AC92: =SUM(V92:AB92) -> 0 | AE92: =SUM(AC92:AD92) -> 0
B93: 742 | G93: =J93+F93 -> 0 | H93: =U93 -> 0 | I93: =AE93 -> 0 | J93: =SUM(H93:I93) -> 0 | S93: =SUM(K93:Q93) -> 0 | U93: =SUM(R93:T93) -> 0 | AC93: =SUM(V93:AB93) -> 0 | AE93: =SUM(AC93:AD93) -> 0
B94: 742 | G94: =J94+F94 -> 0 | H94: =U94 -> 0 | I94: =AE94 -> 0 | J94: =SUM(H94:I94) -> 0 | S94: =SUM(K94:Q94) -> 0 | U94: =SUM(R94:T94) -> 0 | AC94: =SUM(V94:AB94) -> 0 | AE94: =SUM(AC94:AD94) -> 0
B95: 742 | G95: =J95+F95 -> 0 | H95: =U95 -> 0 | I95: =AE95 -> 0 | J95: =SUM(H95:I95) -> 0 | S95: =SUM(K95:Q95) -> 0 | U95: =SUM(R95:T95) -> 0 | AC95: =SUM(V95:AB95) -> 0 | AE95: =SUM(AC95:AD95) -> 0
... B97: 742 | G97: =J97+F97 -> 0 | H97: =U97 -> 0 | I97: =AE97 -> 0 | J97: =SUM(H97:I97) -> 0 | S97: =SUM(K97:Q97) -> 0 | U97: =SUM(R97:T97) -> 0 | AC97: =SUM(V97:AB97) -> 0 | AE97: =SUM(AC97:AD97) -> 0
B98: סה"כ דרכים | E98: =SUBTOTAL(9,E70:E97) -> 118387 | F98: =SUBTOTAL(9,F70:F97) -> 77309.014 | G98: =SUBTOTAL(9,G70:G97) -> 146928.01 | H98: =SUBTOTAL(9,H70:H97) -> 45819 | I98: =SUBTOTAL(9,I70:I97) -> 23800 | J98: =SUBTOTAL(9,J70:J97) -> 69619 | K98: =SUBTOTAL(9,K70:K97) -> 0 | M98: =SUBTOTAL(9,M70:M97) -> 17319 | N98: =SUBTOTAL(9,N70:N97) -> 0 | O98: =SUBTOTAL(9,O70:O97) -> 0 | P98: =SUBTOTAL(9,P70:P97) -> 7000 | Q98: =SUBTOTAL(9,Q70:Q97) -> 0 | R98: =SUBTOTAL(9,R70:R97) -> 0 | S98: =SUBTOTAL(9,S70:S97) -> 24319 | T98: =SUBTOTAL(9,T70:T97) -> 21500 | ... AE98: =SUBTOTAL(9,AE70:AE97) -> 23800
A99: 5 | B99: 743 | C99: 3031 | D99: השלמת תאורה בפרוייקטים | E99: 7227 | F99: 4288 | G99: =J99+F99 -> 5279 | H99: =U99 -> 566 | I99: =AE99 -> 425 | J99: =SUM(H99:I99) -> 991 | M99: 566 | S99: =SUM(K99:Q99) -> 566 | U99: =SUM(S99:T99) -> 566 | X99: 425 | AC99: =SUM(V99:AB99) -> 425 | AE99: =SUM(AC99:AD99) -> 425 | AF99: טיפול במפגע בטיחות כתוצאה מהיעדר תאורה.
B100: 743 | G100: =J100+F100 -> 0 | H100: =U100 -> 0 | I100: =AE100 -> 0 | J100: =SUM(H100:I100) -> 0 | S100: =SUM(K100:Q100) -> 0 | U100: =SUM(S100:T100) -> 0 | AC100: =SUM(V100:AB100) -> 0 | AE100: =SUM(AC100:AD100) -> 0
B101: סה"כ תאורה | E101: =SUBTOTAL(9,E99:E100) -> 7227 | F101: =SUBTOTAL(9,F99:F100) -> 4288 | G101: =SUBTOTAL(9,G99:G100) -> 5279 | H101: =SUBTOTAL(9,H99:H100) -> 566 | I101: =SUBTOTAL(9,I99:I100) -> 425 | J101: =SUBTOTAL(9,J99:J100) -> 991 | K101: =SUBTOTAL(9,K99:K100) -> 0 | L101: =SUBTOTAL(9,L99:L100) -> 0 | ... AE101: =SUBTOTAL(9,AE99:AE100) -> 425
A102: 7 | B102: 744 | C102: 3467 | D102: פעילות לבטיחות בדרכים | E102: 5264.5 | F102: 3107.54 | G102: =J102+F102 -> 3684.683 | H102: =U102 -> 77.143 | I102: =AE102 -> 500 | J102: =SUM(H102:I102) -> 577.143 | M102: 23.143 | S102: =SUM(K102:Q102) -> 23.143 | T102: 54 | U102: =SUM(S102:T102) -> 77.143 | X102: 500 | AC102: =SUM(V102:AB102) -> 500 | AE102: =SUM(AC102:AD102) -> 500 | AF102: השתתפות הרלב"ד.
...
