Workbook
Name Print_Area_MI: #REF!
Name Print_Titles_MI: #REF!
Name לדני: #REF!

Sheet מסגרת
C2: עיריית חולון
C5: HOLON MUNICIPALITY
C7: מנהל הגזברות | F7: 45398
A8: לכבוד:
A9: ראש העיר
A10: מר שי קינן
B12: א.נ,
C13: הנדון: תקציב הפיתוח לשנת 2024
A14: אודה לך על הגשה לאישור המועצה את הנושאים הבאים:
A15: . 1 | B15: מסגרת תקציב הפיתוח לשנת 2024 בהתאם לפירוט הבא:
A17: תמצית תקציב רגיל (חלק פיתוח) של עיריית חולון לשנת כספים 2024.
C19: לפי פקודת העיריות
A21: בהתאם לסעיף 209 לפקודת העיריות (1), (להלן הפקודה), אני מודיע בתוקף הסמכות לפי סעיפים 206 ו- 207
A22: לפקודת העיריות שהועברה אלי (2), אישרתי תקציב רגיל (חלק פיתוח) של עיריית חולון
A23: לשנת התקציב 2024 שתמציתו להלן:
A25: שם הרשות המקומית עיריית חולון | D25: תאריך אישור במועצה
A27: מספר הרשות המקומית 26600 | D27: תאריך אישור במשרד הפנים
A29: סעיף | B29: תקבולים | C29: תקציב 2024 | D29: סעיף2 | E29: תשלומים | F29: תקציב 20243
A30: 510 | B30: הקצבה מתקציב רגיל | C30: ריק במקור | D30: 61 | E30: מינהל כללי | F30: ריק במקור
A31: ריק במקור | B31: ריק במקור | C31: ריק במקור | D31: ריק במקור | E31: ריק במקור | F31: ריק במקור
A32: 521 | B32: סך הכל השתתפות בעלים | C32: =SUM(C34:C42) -> 26000 | D32: 62 | E32: מינהל כספי | F32: ריק במקור
A33: ריק במקור | B33: ריק במקור | C33: ריק במקור | D33: ריק במקור | E33: ריק במקור | F33: ריק במקור
A34: 521.01 | B34: היטל סלילת כבישים | C34: 15000 | D34: 63 | E34: הוצאות מימון | F34: ריק במקור
A35: ריק במקור | B35: ריק במקור | C35: ריק במקור | D35: ריק במקור | E35: ריק במקור | F35: ריק במקור
A36: 521.02 | B36: היטל ביוב | C36: ריק במקור | D36: 64 | E36: פרעון מלוות | F36: ריק במקור
A37: ריק במקור | B37: ריק במקור | C37: ריק במקור | D37: ריק במקור | E37: ריק במקור | F37: ריק במקור
A38: 521.03 | B38: היטלי מים | C38: ריק במקור | D38: 71 | E38: תברואה | F38: ='תברים 2024'!G28 -> 2174.75
A39: ריק במקור | B39: ריק במקור | C39: ריק במקור | D39: ריק במקור | E39: ריק במקור | F39: ריק במקור
A40: 521.04 | B40: היטל תיעול | C40: 6000 | D40: 72 | E40: שמירה ובטחון | F40: ='תברים 2024'!G40 -> 9622.6
A41: ריק במקור | B41: ריק במקור | C41: ריק במקור | D41: ריק במקור | E41: ריק במקור | F41: ריק במקור
A42: 521.99 | B42: היטל שצ"פ | C42: 5000 | D42: 73 | E42: תכנון ובנין עיר | F42: ='תברים 2024'!G87 -> 11724.301
A43: ריק במקור | B43: ריק במקור | C43: ריק במקור | D43: ריק במקור | E43: ריק במקור | F43: ריק במקור
A44: 522 | B44: סך הכל השתתפות ממשלה | C44: =SUM(C46:C56) -> 6151.299 | D44: 74 | E44: נכסים ציבוריים | F44: ='תברים 2024'!G121+'תברים 2024'!G128+'תברים 2024'!G150+'תברים 2024'!G165+'תברים 2024'!G185 -> 98958.806
A45: ריק במקור | B45: ריק במקור | C45: ריק במקור | D45: ריק במקור | E45: ריק במקור | F45: ריק במקור
A46: 522.06 | B46: משרד הפנים * | C46: ריק במקור | D46: 75 | E46: חגיגות ומבצעים | F46: ריק במקור
A47: ריק במקור | B47: ריק במקור | C47: ריק במקור | D47: ריק במקור | E47: ריק במקור | F47: ריק במקור
A48: 522.2 | B48: משרד החינוך | C48: ='תברים 2024'!S195+'תברים 2024'!S204+'תברים 2024'!S216+'תברים 2024'!S217+'תברים 2024'!S223+'תברים 2024'!S227+'תברים 2024'!S232+'תברים 2024'!S233+'תברים 2024'!S234+'תברים 2024'!S235+'תברים 2024'!S236+'תברים 2024'!S237+'תברים 2024'!S311+'תברים 2024'!S241 -> 4665.831 | D48: 76 | E48: שרותים עירוניים שונים | F48: ='תברים 2024'!G194 -> 825
A49: ריק במקור | B49: ריק במקור | C49: ריק במקור | D49: ריק במקור | E49: ריק במקור | F49: ריק במקור
A50: 522.29 | B50: משרד הבינוי והשיכון | C50: ='תברים 2024'!S76+'תברים 2024'!S78 -> 1127.662 | D50: 77 | E50: פיתוח כלכלי | F50: ריק במקור
A51: ריק במקור | B51: ריק במקור | C51: ריק במקור | D51: ריק במקור | E51: ריק במקור | F51: ריק במקור
...

Sheet המשך מסגרת 
H3: עיריית חולון
H5: HOLON MUNICIPALITY
H7: מנהל הגזברות
A11: הערות (1) | B11: המשרד להגנת הסביבה, משרד החקלאות.
A12: הערות (2) | B12: שמ"ש , עמותת תובנות בחרום , אורט, רמ"י, רשות ניקוז ונחלים ירקון, תקבולים מעירייה, נתיבי איילון,
B13: תאגיד מים, חב' כלכלית, חב' ממשלתיות, תושבים ועוד.
A14: הערות (3) | B14: קרן שלם, הרשות להתחדשות עירונית, המועצה לשימור אתרים.
A15: הערות (4) | B15: יתרות בקרנות: 4 מלש"ח מכירת נכסים, 25.791 מלש"ח קרן כללית, 2 מלש"ח שצ"פ, 4.5 מלש"ח קרן תיעול.
A16: הערות (5) | B16: תשלומים לא רגילים מורכבים מ- 65,490 אלש"ח העברה לתקציב הרגיל לכיסוי מלוות ,
B17: 32,171 אלש"ח לכיסוי הוצאות למינהל ההנדסה.
A19: . 2 | B19: טבלה מפורטת עם רשימת פרוייקטים חדשים וכאלה הזקוקים לעדכון, בפריסה על פני השנים 2024 ו- 2025.
A21: . 3 | B21: במידה ויהיה מימון לפרוייקטים שמתוקצבים בשנת 2025 יקודמו פרוייקטים אלה לשנת 2024.
A23: . 4 | B23: במידה וההכנסות מקרנות הרשות יהיו גבוהות מעל הצפי שתוקצב, ההלוואות לא ילקחו ובמקומם
B24: התב"רים יממומנו מתקציבי קרנות הרשות.
A27: הריני לאשר כי התקציב המוגש למועצה יהיה מאוזן ובר ביצוע והתב"רים יאושרו לביצוע בהתאם להכנסות העירייה.
N32: בברכה,
N34: קרן משלניק
N35: גזברית העירייה

Sheet תברים 2024
B1: תוכנית הפיתוח לשנים 2024- 2025
B3: פרק | C3: מספר | D3: הפרוייקט | E3: מאושר | F3: תקציב מאושר ע"י מועצה+נדרש 2024- 2025 | G3: תוספת תקציב נדרשת | I3: סה"כ לאישור 2024- 2025 | J3: מקורות מימון 2024 | U3: מקורות מימון 2025 | AE3: הערות
E4: ע"י המועצה | G4: 2024 | H4: 2025 | J4: השבחה | K4: בעלים תיעול | L4: בעלים כביש | M4: קרן כללית | N4: קרן חניה | O4: שצ"פ | P4: מכירת רכוש | Q4: הלוואות | R4: מקורות עצמיים | S4: חיצוני | T4: סה"כ 2024 | U4: השבחה | V4: בעלים תיעול | W4: בעלים כביש | X4: קרן כללית | Y4: תקציב רגיל | Z4: שצ"פ | AA4: מכירת רכוש | AB4: מקורות עצמיים | AC4: חיצוני/ ממשלה | AD4: סה"כ 2025
D5: העברה לרגיל- מילוות | F5: =E5+I5 -> 65489.8 | G5: =T5 -> 65489.8 | H5: =AD5 -> 0 | I5: =SUM(G5:H5) -> 65489.8 | J5: 56828.8 | K5: 200 | L5: 8461 | R5: =SUM(J5:P5) -> 65489.8 | T5: =SUM(R5:S5) -> 65489.8 | AB5: =SUM(U5:AA5) -> 0 | AD5: =SUM(AB5:AC5) -> 0
D6: העברה לרגיל- הנדסה | F6: =E6+I6 -> 32171.4 | G6: =T6 -> 32171.4 | H6: =AD6 -> 0 | I6: =SUM(G6:H6) -> 32171.4 | J6: 32171.4 | R6: =SUM(J6:P6) -> 32171.4 | T6: =SUM(R6:S6) -> 32171.4 | AB6: =SUM(U6:AA6) -> 0 | AD6: =SUM(AB6:AC6) -> 0
B7: העברה לתקציב הרגיל סה"כ | E7: =SUBTOTAL(9,E5:E6) -> 0 | F7: =SUBTOTAL(9,F5:F6) -> 97661.2 | G7: =SUBTOTAL(9,G5:G6) -> 97661.2 | H7: =SUBTOTAL(9,H5:H6) -> 0 | I7: =SUBTOTAL(9,I5:I6) -> 97661.2 | J7: =SUBTOTAL(9,J5:J6) -> 89000.2 | K7: =SUBTOTAL(9,K5:K6) -> 200 | L7: =SUBTOTAL(9,L5:L6) -> 8461 | ... AD7: =SUBTOTAL(9,AD5:AD6) -> 0
A8: 7 | B8: 710 | C8: 4782 | D8: משבר האקלים במערכת החינוך | E8: 697 | F8: =E8+I8 -> 715.75 | G8: =T8 -> 18.75 | H8: =AD8 -> 0 | I8: =SUM(G8:H8) -> 18.75 | J8: 3.75 | R8: =SUM(J8:Q8) -> 3.75 | S8: 15 | T8: =SUM(R8:S8) -> 18.75 | AB8: =SUM(U8:AA8) -> 0 | AD8: =SUM(AB8:AC8) -> 0 | AE8: המשרד להגנת הסביבה.
A9: 9 | B9: 710 | C9: 2418 | D9: החלפת רכבים | E9: 28420 | F9: =E9+I9 -> 29020 | G9: =T9 -> 600 | H9: =AD9 -> 0 | I9: =SUM(G9:H9) -> 600 | J9: 600 | R9: =SUM(J9:Q9) -> 600 | T9: =SUM(R9:S9) -> 600 | AB9: =SUM(U9:AA9) -> 0 | AD9: =SUM(AB9:AC9) -> 0
A10: 9 | B10: 710 | C10: 4809 | D10: הדרכות בטיחות מערך הרכב | F10: =E10+I10 -> 30 | G10: =T10 -> 30 | H10: =AD10 -> 0 | I10: =SUM(G10:H10) -> 30 | J10: 30 | R10: =SUM(J10:Q10) -> 30 | T10: =SUM(R10:S10) -> 30 | AB10: =SUM(U10:AA10) -> 0 | AD10: =SUM(AB10:AC10) -> 0
A11: 9 | B11: 710 | C11: 4810 | D11: טעינת רכבים חשמליים | F11: =E11+I11 -> 100 | G11: =T11 -> 100 | H11: =AD11 -> 0 | I11: =SUM(G11:H11) -> 100 | J11: 100 | R11: =SUM(J11:Q11) -> 100 | T11: =SUM(R11:S11) -> 100 | AB11: =SUM(U11:AA11) -> 0 | AD11: =SUM(AB11:AC11) -> 0
A12: 9 | B12: 710 | C12: 4460 | D12: קמפיין ניקיון | E12: 230 | F12: =E12+I12 -> 260 | G12: =T12 -> 30 | H12: =AD12 -> 0 | I12: =SUM(G12:H12) -> 30 | J12: 30 | R12: =SUM(J12:Q12) -> 30 | T12: =SUM(R12:S12) -> 30 | AB12: =SUM(U12:AA12) -> 0 | AD12: =SUM(AB12:AC12) -> 0
A13: 9 | B13: 710 | C13: 4163 | D13: החלפת והוספת כל כלי האצירה שבעיר | E13: 8300 | F13: =E13+I13 -> 8600 | G13: =T13 -> 300 | H13: =AD13 -> 0 | I13: =SUM(G13:H13) -> 300 | Q13: 300 | R13: =SUM(J13:Q13) -> 300 | T13: =SUM(R13:S13) -> 300 | AB13: =SUM(U13:AA13) -> 0 | AD13: =SUM(AB13:AC13) -> 0
A14: 9 | B14: 710 | C14: 4621 | D14: שדרוג תחנת מעבר | E14: 100 | F14: =E14+I14 -> 150 | G14: =T14 -> 50 | H14: =AD14 -> 0 | I14: =SUM(G14:H14) -> 50 | J14: 50 | R14: =SUM(J14:Q14) -> 50 | T14: =SUM(R14:S14) -> 50 | AB14: =SUM(U14:AA14) -> 0 | AD14: =SUM(AB14:AC14) -> 0
A15: 9 | B15: 710 | C15: 4021 | D15: רכישת טמוני קרקע | E15: 10800 | F15: =E15+I15 -> 11000 | G15: =T15 -> 200 | H15: =AD15 -> 0 | I15: =SUM(G15:H15) -> 200 | Q15: 200 | R15: =SUM(J15:Q15) -> 200 | T15: =SUM(R15:S15) -> 200 | AB15: =SUM(U15:AA15) -> 0 | AD15: =SUM(AB15:AC15) -> 0
A16: 9 | B16: 710 | C16: 4351 | D16: רכש קרטוניות | E16: 530 | F16: =E16+I16 -> 730 | G16: =T16 -> 200 | H16: =AD16 -> 0 | I16: =SUM(G16:H16) -> 200 | Q16: 200 | R16: =SUM(J16:Q16) -> 200 | T16: =SUM(R16:S16) -> 200 | AB16: =SUM(U16:AA16) -> 0 | AD16: =SUM(AB16:AC16) -> 0
A17: 9 | B17: 710 | C17: 3451 | D17: רכישת סלי אשפה | E17: 4450 | F17: =E17+I17 -> 4550 | G17: =T17 -> 100 | H17: =AD17 -> 0 | I17: =SUM(G17:H17) -> 100 | J17: 100 | R17: =SUM(J17:Q17) -> 100 | T17: =SUM(R17:S17) -> 100 | AB17: =SUM(U17:AA17) -> 0 | AD17: =SUM(AB17:AC17) -> 0
A18: 9 | B18: 710 | C18: 4624 | D18: פחים ממותגים לארועים | E18: 15 | F18: =E18+I18 -> 30 | G18: =T18 -> 15 | H18: =AD18 -> 0 | I18: =SUM(G18:H18) -> 15 | J18: 15 | R18: =SUM(J18:Q18) -> 15 | T18: =SUM(R18:S18) -> 15 | AB18: =SUM(U18:AA18) -> 0 | AD18: =SUM(AB18:AC18) -> 0
A19: 9 | B19: 710 | C19: 4622 | D19: מעצורים ומסתורי אשפה לכלי אצירה פחים | E19: 400 | F19: =E19+I19 -> 435 | G19: =T19 -> 35 | I19: 35 | J19: 35 | R19: =SUM(J19:Q19) -> 35 | T19: =SUM(R19:S19) -> 35
A20: 9 | B20: 710 | C20: 4811 | D20: רכש מתקני מחזור לפי זרמים | F20: =E20+I20 -> 50 | G20: =T20 -> 50 | I20: 50 | J20: 50 | R20: =SUM(J20:Q20) -> 50 | T20: =SUM(R20:S20) -> 50
A21: 9 | B21: 710 | C21: 4812 | D21: שיפוץ טמוני קרקע ומונחי קרקע | F21: =E21+I21 -> 100 | G21: =T21 -> 100 | H21: =AD21 -> 0 | I21: =SUM(G21:H21) -> 100 | Q21: 100 | R21: =SUM(J21:Q21) -> 100 | T21: =SUM(R21:S21) -> 100 | AB21: =SUM(U21:AA21) -> 0 | AD21: =SUM(AB21:AC21) -> 0
A22: 9 | B22: 710 | C22: 4813 | D22: רכש מכולות אשפה ודחסניות | F22: =E22+I22 -> 100 | G22: =T22 -> 100 | H22: =AD22 -> 0 | I22: =SUM(G22:H22) -> 100 | Q22: 100 | R22: =SUM(J22:Q22) -> 100 | T22: =SUM(R22:S22) -> 100 | AB22: =SUM(U22:AA22) -> 0 | AD22: =SUM(AB22:AC22) -> 0
A23: 9 | B23: 710 | C23: 4814 | D23: פינוי אגרנים | F23: =E23+I23 -> 50 | G23: =T23 -> 50 | H23: =AD23 -> 0 | I23: =SUM(G23:H23) -> 50 | J23: 50 | R23: =SUM(J23:Q23) -> 50 | T23: =SUM(R23:S23) -> 50 | AB23: =SUM(U23:AA23) -> 0 | AD23: =SUM(AB23:AC23) -> 0
A24: 25 | B24: 710 | C24: 4162 | D24: שיפוץ והנגשת מבני שירותים ציבוריים בעיר | F24: =E24+I24 -> 40 | G24: =T24 -> 40 | H24: =AD24 -> 0 | I24: =SUM(G24:H24) -> 40 | J24: 40 | R24: =SUM(J24:Q24) -> 40 | T24: =SUM(R24:S24) -> 40 | AB24: =SUM(U24:AA24) -> 0 | AD24: =SUM(AB24:AC24) -> 0
A25: 35 | B25: 710 | C25: 4815 | D25: תוכנית חינוך סביבתי לתושבים | F25: =E25+I25 -> 30 | G25: =T25 -> 30 | H25: =AD25 -> 0 | I25: =SUM(G25:H25) -> 30 | J25: 30 | R25: =SUM(J25:Q25) -> 30 | T25: =SUM(R25:S25) -> 30 | AB25: =SUM(U25:AA25) -> 0 | AD25: =SUM(AB25:AC25) -> 0
A26: 35 | B26: 710 | C26: 4455 | D26: חינוך סביבתי | E26: 330 | F26: =E26+I26 -> 366 | G26: =T26 -> 36 | H26: =AD26 -> 0 | I26: =SUM(G26:H26) -> 36 | J26: 30 | R26: =SUM(J26:Q26) -> 30 | S26: 6 | T26: =SUM(R26:S26) -> 36 | AB26: =SUM(U26:AA26) -> 0 | AD26: =SUM(AB26:AC26) -> 0 | AE26: רשות ניקוז ונחלים ירקון.
A27: 49 | B27: 710 | C27: 4816 | D27: רכישת מרפאה ניידת בשירות הווטרינרי | F27: =E27+I27 -> 90 | G27: =T27 -> 90 | H27: =AD27 -> 0 | I27: =SUM(G27:H27) -> 90 | R27: =SUM(J27:Q27) -> 0 | S27: 90 | T27: =SUM(R27:S27) -> 90 | AB27: =SUM(U27:AA27) -> 0 | AD27: =SUM(AB27:AC27) -> 0 | AE27: משרד החקלאות.
B28: סה"כ תברואה | E28: =SUBTOTAL(9,E8:E27) -> 54272 | F28: =SUBTOTAL(9,F8:F27) -> 56446.75 | G28: =SUBTOTAL(9,G8:G27) -> 2174.75 | H28: =SUBTOTAL(9,H8:H27) -> 0 | I28: =SUBTOTAL(9,I8:I27) -> 2174.75 | J28: =SUBTOTAL(9,J8:J27) -> 1163.75 | K28: =SUBTOTAL(9,K8:K27) -> 0 | L28: =SUBTOTAL(9,L8:L27) -> 0 | ... AD28: =SUBTOTAL(9,AD8:AD27) -> 0
A29: 9 | B29: 721 | C29: 4442 | D29: מערכת אכיפה לנתיבי תחבורה ציבורית | E29: 3946 | F29: =E29+I29 -> 4946 | G29: =T29 -> 500 | H29: =AD29 -> 500 | I29: =SUM(G29:H29) -> 1000 | Q29: 500 | R29: =SUM(J29:Q29) -> 500 | T29: =SUM(R29:S29) -> 500 | U29: 500 | AB29: =SUM(U29:AA29) -> 500 | AD29: =SUM(AB29:AC29) -> 500
A30: 9 | B30: 721 | C30: 4817 | D30: שילוט ואבזור כלי רכב | F30: =E30+I30 -> 20 | G30: =T30 -> 20 | H30: =AD30 -> 0 | I30: =SUM(G30:H30) -> 20 | J30: 20 | R30: =SUM(J30:Q30) -> 20 | T30: =SUM(R30:S30) -> 20 | AB30: =SUM(U30:AA30) -> 0 | AD30: =SUM(AB30:AC30) -> 0
A31: 56 | B31: 721 | C31: 4818 | D31: מצלמות ברחבי העיר | F31: =E31+I31 -> 7700 | G31: =T31 -> 7700 | H31: =AD31 -> 0 | I31: =SUM(G31:H31) -> 7700 | Q31: 7700 | R31: =SUM(J31:Q31) -> 7700 | T31: =SUM(R31:S31) -> 7700 | AB31: =SUM(U31:AA31) -> 0 | AD31: =SUM(AB31:AC31) -> 0
B32: 721 | C32: 3614 | D32: שיקום מקלטים | E32: 7158 | F32: =E32+I32 -> 8408 | G32: =T32 -> 1250 | H32: =AD32 -> 0 | I32: =SUM(G32:H32) -> 1250 | Q32: 1250 | R32: =SUM(J32:Q32) -> 1250 | T32: =SUM(R32:S32) -> 1250 | AB32: =SUM(U32:AA32) -> 0 | AD32: =SUM(AB32:AC32) -> 0
A33: 42 | B33: 721 | C33: 3988 | D33: הצטיידות שיטור עירוני כנגד פחת ל-3 שנים | E33: =96+116 -> 212 | F33: =E33+I33 -> 242 | G33: =T33 -> 30 | H33: =AD33 -> 0 | I33: =SUM(G33:H33) -> 30 | M33: 30 | R33: =SUM(J33:Q33) -> 30 | T33: =SUM(R33:S33) -> 30 | AB33: =SUM(U33:AA33) -> 0 | AD33: =SUM(AB33:AC33) -> 0 | AE33: העברה מתקציב רגיל.
A34: 42 | B34: 721 | C34: 3989 | D34: התאמת מבנה לשיטור עירוני כנגד פחת ל-5 שנים | E34: =363 -> 363 | F34: =E34+I34 -> 435.6 | G34: =T34 -> 72.6 | H34: =AD34 -> 0 | I34: =SUM(G34:H34) -> 72.6 | M34: 72.6 | R34: =SUM(J34:Q34) -> 72.6 | T34: =SUM(R34:S34) -> 72.6 | AB34: =SUM(U34:AA34) -> 0 | AD34: =SUM(AB34:AC34) -> 0 | AE34: העברה מתקציב רגיל.
A35: 42 | B35: 721 | C35: 3990 | D35: הצטיידות שיטור עירוני כנגד פחת ל- 5 שנים | E35: =45+39+55 -> 139 | F35: =E35+I35 -> 139 | G35: =T35 -> 0 | H35: =AD35 -> 0 | I35: =SUM(G35:H35) -> 0 | J35: -8 | M35: 8 | R35: =SUM(J35:Q35) -> 0 | T35: =SUM(R35:S35) -> 0 | AB35: =SUM(U35:AA35) -> 0 | AD35: =SUM(AB35:AC35) -> 0 | AE35: העברה מתקציב רגיל.
A36: 42 | B36: 721 | C36: 3991 | D36: הצטיידות שיטור עירוני כנגד פחת ל- 10 שנים | E36: =100+8 -> 108 | F36: =E36+I36 -> 108 | G36: =T36 -> 0 | H36: =AD36 -> 0 | I36: =SUM(G36:H36) -> 0 | J36: -10 | M36: 10 | R36: =SUM(J36:Q36) -> 0 | T36: =SUM(R36:S36) -> 0 | AB36: =SUM(U36:AA36) -> 0 | AD36: =SUM(AB36:AC36) -> 0 | AE36: העברה מתקציב רגיל.
A37: 42 | B37: 721 | C37: 3992 | D37: מצלמות שיטור עירוני כנגד פחת 6.666 שנים | E37: 2000 | F37: =E37+I37 -> 2050 | G37: =T37 -> 50 | H37: =AD37 -> 0 | I37: =SUM(G37:H37) -> 50 | J37: -250 | M37: 300 | R37: =SUM(J37:Q37) -> 50 | T37: =SUM(R37:S37) -> 50 | AB37: =SUM(U37:AA37) -> 0 | AD37: =SUM(AB37:AC37) -> 0 | AE37: העברה מתקציב רגיל.
B38: 721 | F38: =E38+I38 -> 0 | G38: =T38 -> 0 | H38: =AD38 -> 0 | I38: =SUM(G38:H38) -> 0 | R38: =SUM(J38:Q38) -> 0 | T38: =SUM(R38:S38) -> 0 | AB38: =SUM(U38:AA38) -> 0 | AD38: =SUM(AB38:AC38) -> 0
B39: 721 | F39: =E39+I39 -> 0 | G39: =T39 -> 0 | H39: =AD39 -> 0 | I39: =SUM(G39:H39) -> 0 | R39: =SUM(J39:Q39) -> 0 | T39: =SUM(R39:S39) -> 0 | AB39: =SUM(U39:AA39) -> 0 | AD39: =SUM(AB39:AC39) -> 0
B40: סה"כ בטחון | E40: =SUBTOTAL(9,E29:E39) -> 13926 | F40: =SUBTOTAL(9,F29:F39) -> 24048.6 | G40: =SUBTOTAL(9,G29:G39) -> 9622.6 | H40: =SUBTOTAL(9,H29:H39) -> 500 | I40: =SUBTOTAL(9,I29:I39) -> 10122.6 | J40: =SUBTOTAL(9,J29:J39) -> -248 | K40: =SUBTOTAL(9,K29:K39) -> 0 | L40: =SUBTOTAL(9,L29:L39) -> 0 | ... AD40: =SUBTOTAL(9,AD29:AD39) -> 500
A41: 1 | B41: 735 | C41: 3061 | D41: מבנים מסוכנים-הנדסה | E41: 14978 | F41: =E41+I41 -> 16978 | G41: =T41 -> 2000 | H41: =AD41 -> 0 | I41: =SUM(G41:H41) -> 2000 | Q41: 2000 | R41: =SUM(J41:Q41) -> 2000 | T41: =SUM(R41:S41) -> 2000 | AB41: =SUM(U41:AA41) -> 0 | AD41: =SUM(AB41:AC41) -> 0
...
