Workbook
Name Print_Area_MI: #REF!
Name Print_Titles_MI: #REF!
Name לדני: #REF!

Sheet מסגרת
C2: עיריית חולון
C5: HOLON MUNICIPALITY
C7: מנהל הגזברות | F7: 45398
A8: לכבוד:
A9: ראש העיר
A10: מר שי קינן
B12: א.נ,
C13: הנדון: תקציב הפיתוח לשנת 2024
A14: אודה לך על הגשה לאישור המועצה את הנושאים הבאים:
A15: . 1 | B15: מסגרת תקציב הפיתוח לשנת 2024 בהתאם לפירוט הבא:
A17: תמצית תקציב רגיל (חלק פיתוח) של עיריית חולון לשנת כספים 2024.
C19: לפי פקודת העיריות
A21: בהתאם לסעיף 209 לפקודת העיריות (1), (להלן הפקודה), אני מודיע בתוקף הסמכות לפי סעיפים 206 ו- 207
A22: לפקודת העיריות שהועברה אלי (2), אישרתי תקציב רגיל (חלק פיתוח) של עיריית חולון
A23: לשנת התקציב 2024 שתמציתו להלן:
A25: שם הרשות המקומית עיריית חולון | D25: תאריך אישור במועצה
A27: מספר הרשות המקומית 26600 | D27: תאריך אישור במשרד הפנים
A29: סעיף | B29: תקבולים | C29: תקציב 2024 | D29: סעיף2 | E29: תשלומים | F29: תקציב 20243
A30: 510 | B30: הקצבה מתקציב רגיל | C30: ריק במקור | D30: 61 | E30: מינהל כללי | F30: ריק במקור
A31: ריק במקור | B31: ריק במקור | C31: ריק במקור | D31: ריק במקור | E31: ריק במקור | F31: ריק במקור
A32: 521 | B32: סך הכל השתתפות בעלים | C32: =SUM(C34:C42) -> 26000 | D32: 62 | E32: מינהל כספי | F32: ריק במקור
A33: ריק במקור | B33: ריק במקור | C33: ריק במקור | D33: ריק במקור | E33: ריק במקור | F33: ריק במקור
A34: 521.01 | B34: היטל סלילת כבישים | C34: 15000 | D34: 63 | E34: הוצאות מימון | F34: ריק במקור
A35: ריק במקור | B35: ריק במקור | C35: ריק במקור | D35: ריק במקור | E35: ריק במקור | F35: ריק במקור
A36: 521.02 | B36: היטל ביוב | C36: ריק במקור | D36: 64 | E36: פרעון מלוות | F36: ריק במקור
A37: ריק במקור | B37: ריק במקור | C37: ריק במקור | D37: ריק במקור | E37: ריק במקור | F37: ריק במקור
A38: 521.03 | B38: היטלי מים | C38: ריק במקור | D38: 71 | E38: תברואה | F38: ='תברים 2024'!G28 -> 2174.75
A39: ריק במקור | B39: ריק במקור | C39: ריק במקור | D39: ריק במקור | E39: ריק במקור | F39: ריק במקור
A40: 521.04 | B40: היטל תיעול | C40: 6000 | D40: 72 | E40: שמירה ובטחון | F40: ='תברים 2024'!G40 -> 9622.6
A41: ריק במקור | B41: ריק במקור | C41: ריק במקור | D41: ריק במקור | E41: ריק במקור | F41: ריק במקור
A42: 521.99 | B42: היטל שצ"פ | C42: 5000 | D42: 73 | E42: תכנון ובנין עיר | F42: ='תברים 2024'!G87 -> 11724.301
A43: ריק במקור | B43: ריק במקור | C43: ריק במקור | D43: ריק במקור | E43: ריק במקור | F43: ריק במקור
A44: 522 | B44: סך הכל השתתפות ממשלה | C44: =SUM(C46:C56) -> 6151.299 | D44: 74 | E44: נכסים ציבוריים | F44: ='תברים 2024'!G121+'תברים 2024'!G128+'תברים 2024'!G150+'תברים 2024'!G165+'תברים 2024'!G185 -> 98958.806
A45: ריק במקור | B45: ריק במקור | C45: ריק במקור | D45: ריק במקור | E45: ריק במקור | F45: ריק במקור
A46: 522.06 | B46: משרד הפנים * | C46: ריק במקור | D46: 75 | E46: חגיגות ומבצעים | F46: ריק במקור
A47: ריק במקור | B47: ריק במקור | C47: ריק במקור | D47: ריק במקור | E47: ריק במקור | F47: ריק במקור
A48: 522.2 | B48: משרד החינוך | C48: ='תברים 2024'!S195+'תברים 2024'!S204+'תברים 2024'!S216+'תברים 2024'!S217+'תברים 2024'!S223+'תברים 2024'!S227+'תברים 2024'!S232+'תברים 2024'!S233+'תברים 2024'!S234+'תברים 2024'!S235+'תברים 2024'!S236+'תברים 2024'!S237+'תברים 2024'!S311+'תברים 2024'!S241 -> 4665.831 | D48: 76 | E48: שרותים עירוניים שונים | F48: ='תברים 2024'!G194 -> 825
A49: ריק במקור | B49: ריק במקור | C49: ריק במקור | D49: ריק במקור | E49: ריק במקור | F49: ריק במקור
A50: 522.29 | B50: משרד הבינוי והשיכון | C50: ='תברים 2024'!S76+'תברים 2024'!S78 -> 1127.662 | D50: 77 | E50: פיתוח כלכלי | F50: ריק במקור
A51: ריק במקור | B51: ריק במקור | C51: ריק במקור | D51: ריק במקור | E51: ריק במקור | F51: ריק במקור
A52: 522.37 | B52: משרד התיירות | C52: ריק במקור | D52: 78 | E52: פיקוח עירוני | F52: ריק במקור
A53: ריק במקור | B53: ריק במקור | C53: ריק במקור | D53: ריק במקור | E53: ריק במקור | F53: ריק במקור
A54: 522.4 | B54: משרד התחבורה | C54: ='תברים 2024'!S115+'תברים 2024'!S120+'תברים 2024'!S143 -> 252.806 | D54: 79 | E54: שרותים חקלאיים | F54: ריק במקור
A55: ריק במקור | B55: ריק במקור | C55: ריק במקור | D55: ריק במקור | E55: ריק במקור | F55: ריק במקור | H55: =C55 -> ריק במקור
A56: 522.99 | B56: משרדים אחרים (1) | C56: ='תברים 2024'!S8+'תברים 2024'!S27 -> 105 | D56: 81 | E56: חינוך | F56: ='תברים 2024'!G205+'תברים 2024'!G214+'תברים 2024'!G244 -> 47483.742
A57: ריק במקור | B57: ריק במקור | C57: ריק במקור | D57: ריק במקור | E57: ריק במקור | F57: ריק במקור
A58: 523 | B58: סך הכל השתתפות מוסדות ותרומות | C58: =SUM(C60:C72) -> 11389.639 | D58: 82 | E58: תרבות | F58: ='תברים 2024'!G265+'תברים 2024'!G274 -> 23060
A59: ריק במקור | B59: ריק במקור | C59: ריק במקור | D59: ריק במקור | E59: ריק במקור | F59: ריק במקור
A60: 523.05 | B60: קרן קיימת לישראל | C60: ריק במקור | D60: 83 | E60: בריאות | F60: ריק במקור
A61: ריק במקור | B61: ריק במקור | C61: ריק במקור | D61: ריק במקור | E61: ריק במקור | F61: ריק במקור
A62: 523.07 | B62: מפעל הפיס | C62: ='תברים 2024'!S264 -> 8000 | D62: 84 | E62: רווחה | F62: ='תברים 2024'!G284 -> 6528
A63: ריק במקור | B63: ריק במקור | C63: ריק במקור | D63: ריק במקור | E63: ריק במקור | F63: ריק במקור
A64: 523.1 | B64: מועצה להסדר ההימורים בספורט | C64: ריק במקור | D64: 85 | E64: דת | F64: ריק במקור
A65: ריק במקור | B65: ריק במקור | C65: ריק במקור | D65: ריק במקור | E65: ריק במקור | F65: ריק במקור
A66: 523.25 | B66: הסוכנות היהודית | C66: ריק במקור | D66: 86 | E66: קליטת עליה | F66: ריק במקור
A67: ריק במקור | B67: ריק במקור | C67: ריק במקור | D67: ריק במקור | E67: ריק במקור | F67: ריק במקור
A68: 523.98 | B68: הכנסות שונות (2) | C68: ='תברים 2024'!S182+'תברים 2024'!S184+'תברים 2024'!S222+'תברים 2024'!S229+'תברים 2024'!S230+'תברים 2024'!S231+'תברים 2024'!S238+'תברים 2024'!S26 -> 2676 | D68: 87 | E68: איכות הסביבה | F68: ריק במקור
A69: ריק במקור | B69: ריק במקור | C69: ריק במקור | D69: ריק במקור | E69: ריק במקור | F69: ריק במקור
A70: 523.99 | B70: מוסדות אחרים (3) | C70: ='תברים 2024'!S85+'תברים 2024'!S283+'תברים 2024'!S299+'תברים 2024'!S253 -> 713.639 | D70: 91 | E70: מים | F70: ריק במקור
A71: ריק במקור | B71: ריק במקור | C71: ריק במקור | D71: ריק במקור | E71: ריק במקור | F71: ריק במקור
A72: 530 | B72: יתרות מתב"רים קודמים | C72: ריק במקור | D72: 92 | E72: בתי מטבחיים | F72: ריק במקור
A73: ריק במקור | B73: ריק במקור | C73: ריק במקור | D73: ריק במקור | E73: ריק במקור | F73: ריק במקור
A74: 540 | B74: סך הכל הכנסות מקרנות הרשות | C74: =SUM(C76:C80) -> 136291 | D74: 93 | E74: נכסים | F74: ='תברים 2024'!G312+'תברים 2024'!J313 -> 15794.02
A75: ריק במקור | B75: ריק במקור | C75: ריק במקור | D75: ריק במקור | E75: ריק במקור | F75: ריק במקור
A76: 540.01 | B76: קרן היטל השבחה | C76: 100000 | D76: 94 | E76: תחבורה | F76: ריק במקור
A77: ריק במקור | B77: ריק במקור | C77: ריק במקור | D77: ריק במקור | E77: ריק במקור | F77: ריק במקור
A78: 540.02 | B78: קרנות לעבודות פיתוח | C78: ריק במקור | D78: 95 | E78: מפעלי תעסוקה | F78: ריק במקור
A79: ריק במקור | B79: ריק במקור | C79: ריק במקור | D79: ריק במקור | E79: ריק במקור | F79: ריק במקור
A80: 540.99 | B80: קרנות אחרות (4) | C80: =4000+25791+2000+4500 -> 36291 | D80: 96 | E80: חשמל | F80: ריק במקור
A81: ריק במקור | B81: ריק במקור | C81: ריק במקור | D81: ריק במקור | E81: ריק במקור | F81: ריק במקור
A82: 550 | B82: מלוות מהאוצר שאושרו | C82: ריק במקור | D82: 97 | E82: מפעל הביוב | F82: ריק במקור
A83: ריק במקור | B83: ריק במקור | C83: ריק במקור | D83: ריק במקור | E83: ריק במקור | F83: ריק במקור
A84: 560 | B84: הלוואות מבנקים ומוסדות | C84: 134000 | D84: 98 | E84: מפעלים אחרים | F84: ריק במקור
A85: ריק במקור | B85: ריק במקור | C85: ריק במקור | D85: ריק במקור | E85: ריק במקור | F85: ריק במקור
A86: 570 | B86: אשראי מקבלנים וספקים | C86: ריק במקור | D86: 99 | E86: תשלומים בלתי רגילים (5) | F86: ='תברים 2024'!G7 -> 97661.2
A87: ריק במקור | B87: ריק במקור | C87: ריק במקור | D87: ריק במקור | E87: ריק במקור | F87: ריק במקור
A88: 580 | B88: מכירת רכוש | C88: 0 | D88: ריק במקור | E88: הפרשה לתביעות | F88: ריק במקור
A89: ריק במקור | B89: ריק במקור | C89: ריק במקור | D89: ריק במקור | E89: ריק במקור | F89: ריק במקור
A90: 590 | B90: הכנסות בעד עבודות לטובת משלמים | C90: ריק במקור | D90: ריק במקור | E90: ריק במקור | F90: ריק במקור
A91: סך הכל תקבולים | B91: ריק במקור | C91: =SUM(C30:C90)-C74-C58-C44-C32 -> 313831.94 | D91: סך הכל תשלומים | E91: ריק במקור | F91: =SUM(F30:F90) -> 313832.42
AZ10000: 1

Sheet המשך מסגרת 
H3: עיריית חולון
H5: HOLON MUNICIPALITY
H7: מנהל הגזברות
A11: הערות (1) | B11: המשרד להגנת הסביבה, משרד החקלאות.
A12: הערות (2) | B12: שמ"ש , עמותת תובנות בחרום , אורט, רמ"י, רשות ניקוז ונחלים ירקון, תקבולים מעירייה, נתיבי איילון,
B13: תאגיד מים, חב' כלכלית, חב' ממשלתיות, תושבים ועוד.
A14: הערות (3) | B14: קרן שלם, הרשות להתחדשות עירונית, המועצה לשימור אתרים.
A15: הערות (4) | B15: יתרות בקרנות: 4 מלש"ח מכירת נכסים, 25.791 מלש"ח קרן כללית, 2 מלש"ח שצ"פ, 4.5 מלש"ח קרן תיעול.
A16: הערות (5) | B16: תשלומים לא רגילים מורכבים מ- 65,490 אלש"ח העברה לתקציב הרגיל לכיסוי מלוות ,
B17: 32,171 אלש"ח לכיסוי הוצאות למינהל ההנדסה.
A19: . 2 | B19: טבלה מפורטת עם רשימת פרוייקטים חדשים וכאלה הזקוקים לעדכון, בפריסה על פני השנים 2024 ו- 2025.
A21: . 3 | B21: במידה ויהיה מימון לפרוייקטים שמתוקצבים בשנת 2025 יקודמו פרוייקטים אלה לשנת 2024.
A23: . 4 | B23: במידה וההכנסות מקרנות הרשות יהיו גבוהות מעל הצפי שתוקצב, ההלוואות לא ילקחו ובמקומם
B24: התב"רים יממומנו מתקציבי קרנות הרשות.
A27: הריני לאשר כי התקציב המוגש למועצה יהיה מאוזן ובר ביצוע והתב"רים יאושרו לביצוע בהתאם להכנסות העירייה.
N32: בברכה,
N34: קרן משלניק
N35: גזברית העירייה

Sheet תברים 2024
B1: תוכנית הפיתוח לשנים 2024- 2025
B3: פרק | C3: מספר | D3: הפרוייקט | E3: מאושר | F3: תקציב מאושר ע"י מועצה+נדרש 2024- 2025 | G3: תוספת תקציב נדרשת | I3: סה"כ לאישור 2024- 2025 | J3: מקורות מימון 2024 | U3: מקורות מימון 2025 | AE3: הערות
E4: ע"י המועצה | G4: 2024 | H4: 2025 | J4: השבחה | K4: בעלים תיעול | L4: בעלים כביש | M4: קרן כללית | N4: קרן חניה | O4: שצ"פ | P4: מכירת רכוש | Q4: הלוואות | R4: מקורות עצמיים | S4: חיצוני | T4: סה"כ 2024 | U4: השבחה | V4: בעלים תיעול | W4: בעלים כביש | X4: קרן כללית | Y4: תקציב רגיל | Z4: שצ"פ | AA4: מכירת רכוש | AB4: מקורות עצמיים | AC4: חיצוני/ ממשלה | AD4: סה"כ 2025
D5: העברה לרגיל- מילוות | F5: =E5+I5 -> 65489.8 | G5: =T5 -> 65489.8 | H5: =AD5 -> 0 | I5: =SUM(G5:H5) -> 65489.8 | J5: 56828.8 | K5: 200 | L5: 8461 | R5: =SUM(J5:P5) -> 65489.8 | T5: =SUM(R5:S5) -> 65489.8 | AB5: =SUM(U5:AA5) -> 0 | AD5: =SUM(AB5:AC5) -> 0
D6: העברה לרגיל- הנדסה | F6: =E6+I6 -> 32171.4 | G6: =T6 -> 32171.4 | H6: =AD6 -> 0 | I6: =SUM(G6:H6) -> 32171.4 | J6: 32171.4 | R6: =SUM(J6:P6) -> 32171.4 | T6: =SUM(R6:S6) -> 32171.4 | AB6: =SUM(U6:AA6) -> 0 | AD6: =SUM(AB6:AC6) -> 0
B7: העברה לתקציב הרגיל סה"כ | E7: =SUBTOTAL(9,E5:E6) -> 0 | F7: =SUBTOTAL(9,F5:F6) -> 97661.2 | G7: =SUBTOTAL(9,G5:G6) -> 97661.2 | H7: =SUBTOTAL(9,H5:H6) -> 0 | I7: =SUBTOTAL(9,I5:I6) -> 97661.2 | J7: =SUBTOTAL(9,J5:J6) -> 89000.2 | K7: =SUBTOTAL(9,K5:K6) -> 200 | L7: =SUBTOTAL(9,L5:L6) -> 8461 | ... AD7: =SUBTOTAL(9,AD5:AD6) -> 0
A8: 7 | B8: 710 | C8: 4782 | D8: משבר האקלים במערכת החינוך | E8: 697 | F8: =E8+I8 -> 715.75 | G8: =T8 -> 18.75 | H8: =AD8 -> 0 | I8: =SUM(G8:H8) -> 18.75 | J8: 3.75 | R8: =SUM(J8:Q8) -> 3.75 | S8: 15 | T8: =SUM(R8:S8) -> 18.75 | AB8: =SUM(U8:AA8) -> 0 | AD8: =SUM(AB8:AC8) -> 0 | AE8: המשרד להגנת הסביבה.
A9: 9 | B9: 710 | C9: 2418 | D9: החלפת רכבים | E9: 28420 | F9: =E9+I9 -> 29020 | G9: =T9 -> 600 | H9: =AD9 -> 0 | I9: =SUM(G9:H9) -> 600 | J9: 600 | R9: =SUM(J9:Q9) -> 600 | T9: =SUM(R9:S9) -> 600 | AB9: =SUM(U9:AA9) -> 0 | AD9: =SUM(AB9:AC9) -> 0
A10: 9 | B10: 710 | C10: 4809 | D10: הדרכות בטיחות מערך הרכב | F10: =E10+I10 -> 30 | G10: =T10 -> 30 | H10: =AD10 -> 0 | I10: =SUM(G10:H10) -> 30 | J10: 30 | R10: =SUM(J10:Q10) -> 30 | T10: =SUM(R10:S10) -> 30 | AB10: =SUM(U10:AA10) -> 0 | AD10: =SUM(AB10:AC10) -> 0
A11: 9 | B11: 710 | C11: 4810 | D11: טעינת רכבים חשמליים | F11: =E11+I11 -> 100 | G11: =T11 -> 100 | H11: =AD11 -> 0 | I11: =SUM(G11:H11) -> 100 | J11: 100 | R11: =SUM(J11:Q11) -> 100 | T11: =SUM(R11:S11) -> 100 | AB11: =SUM(U11:AA11) -> 0 | AD11: =SUM(AB11:AC11) -> 0
A12: 9 | B12: 710 | C12: 4460 | D12: קמפיין ניקיון | E12: 230 | F12: =E12+I12 -> 260 | G12: =T12 -> 30 | H12: =AD12 -> 0 | I12: =SUM(G12:H12) -> 30 | J12: 30 | R12: =SUM(J12:Q12) -> 30 | T12: =SUM(R12:S12) -> 30 | AB12: =SUM(U12:AA12) -> 0 | AD12: =SUM(AB12:AC12) -> 0
A13: 9 | B13: 710 | C13: 4163 | D13: החלפת והוספת כל כלי האצירה שבעיר | E13: 8300 | F13: =E13+I13 -> 8600 | G13: =T13 -> 300 | H13: =AD13 -> 0 | I13: =SUM(G13:H13) -> 300 | Q13: 300 | R13: =SUM(J13:Q13) -> 300 | T13: =SUM(R13:S13) -> 300 | AB13: =SUM(U13:AA13) -> 0 | AD13: =SUM(AB13:AC13) -> 0
A14: 9 | B14: 710 | C14: 4621 | D14: שדרוג תחנת מעבר | E14: 100 | F14: =E14+I14 -> 150 | G14: =T14 -> 50 | H14: =AD14 -> 0 | I14: =SUM(G14:H14) -> 50 | J14: 50 | R14: =SUM(J14:Q14) -> 50 | T14: =SUM(R14:S14) -> 50 | AB14: =SUM(U14:AA14) -> 0 | AD14: =SUM(AB14:AC14) -> 0
A15: 9 | B15: 710 | C15: 4021 | D15: רכישת טמוני קרקע | E15: 10800 | F15: =E15+I15 -> 11000 | G15: =T15 -> 200 | H15: =AD15 -> 0 | I15: =SUM(G15:H15) -> 200 | Q15: 200 | R15: =SUM(J15:Q15) -> 200 | T15: =SUM(R15:S15) -> 200 | AB15: =SUM(U15:AA15) -> 0 | AD15: =SUM(AB15:AC15) -> 0
A16: 9 | B16: 710 | C16: 4351 | D16: רכש קרטוניות | E16: 530 | F16: =E16+I16 -> 730 | G16: =T16 -> 200 | H16: =AD16 -> 0 | I16: =SUM(G16:H16) -> 200 | Q16: 200 | R16: =SUM(J16:Q16) -> 200 | T16: =SUM(R16:S16) -> 200 | AB16: =SUM(U16:AA16) -> 0 | AD16: =SUM(AB16:AC16) -> 0
A17: 9 | B17: 710 | C17: 3451 | D17: רכישת סלי אשפה | E17: 4450 | F17: =E17+I17 -> 4550 | G17: =T17 -> 100 | H17: =AD17 -> 0 | I17: =SUM(G17:H17) -> 100 | J17: 100 | R17: =SUM(J17:Q17) -> 100 | T17: =SUM(R17:S17) -> 100 | AB17: =SUM(U17:AA17) -> 0 | AD17: =SUM(AB17:AC17) -> 0
A18: 9 | B18: 710 | C18: 4624 | D18: פחים ממותגים לארועים | E18: 15 | F18: =E18+I18 -> 30 | G18: =T18 -> 15 | H18: =AD18 -> 0 | I18: =SUM(G18:H18) -> 15 | J18: 15 | R18: =SUM(J18:Q18) -> 15 | T18: =SUM(R18:S18) -> 15 | AB18: =SUM(U18:AA18) -> 0 | AD18: =SUM(AB18:AC18) -> 0
A19: 9 | B19: 710 | C19: 4622 | D19: מעצורים ומסתורי אשפה לכלי אצירה פחים | E19: 400 | F19: =E19+I19 -> 435 | G19: =T19 -> 35 | I19: 35 | J19: 35 | R19: =SUM(J19:Q19) -> 35 | T19: =SUM(R19:S19) -> 35
A20: 9 | B20: 710 | C20: 4811 | D20: רכש מתקני מחזור לפי זרמים | F20: =E20+I20 -> 50 | G20: =T20 -> 50 | I20: 50 | J20: 50 | R20: =SUM(J20:Q20) -> 50 | T20: =SUM(R20:S20) -> 50
A21: 9 | B21: 710 | C21: 4812 | D21: שיפוץ טמוני קרקע ומונחי קרקע | F21: =E21+I21 -> 100 | G21: =T21 -> 100 | H21: =AD21 -> 0 | I21: =SUM(G21:H21) -> 100 | Q21: 100 | R21: =SUM(J21:Q21) -> 100 | T21: =SUM(R21:S21) -> 100 | AB21: =SUM(U21:AA21) -> 0 | AD21: =SUM(AB21:AC21) -> 0
A22: 9 | B22: 710 | C22: 4813 | D22: רכש מכולות אשפה ודחסניות | F22: =E22+I22 -> 100 | G22: =T22 -> 100 | H22: =AD22 -> 0 | I22: =SUM(G22:H22) -> 100 | Q22: 100 | R22: =SUM(J22:Q22) -> 100 | T22: =SUM(R22:S22) -> 100 | AB22: =SUM(U22:AA22) -> 0 | AD22: =SUM(AB22:AC22) -> 0
A23: 9 | B23: 710 | C23: 4814 | D23: פינוי אגרנים | F23: =E23+I23 -> 50 | G23: =T23 -> 50 | H23: =AD23 -> 0 | I23: =SUM(G23:H23) -> 50 | J23: 50 | R23: =SUM(J23:Q23) -> 50 | T23: =SUM(R23:S23) -> 50 | AB23: =SUM(U23:AA23) -> 0 | AD23: =SUM(AB23:AC23) -> 0
A24: 25 | B24: 710 | C24: 4162 | D24: שיפוץ והנגשת מבני שירותים ציבוריים בעיר | F24: =E24+I24 -> 40 | G24: =T24 -> 40 | H24: =AD24 -> 0 | I24: =SUM(G24:H24) -> 40 | J24: 40 | R24: =SUM(J24:Q24) -> 40 | T24: =SUM(R24:S24) -> 40 | AB24: =SUM(U24:AA24) -> 0 | AD24: =SUM(AB24:AC24) -> 0
A25: 35 | B25: 710 | C25: 4815 | D25: תוכנית חינוך סביבתי לתושבים | F25: =E25+I25 -> 30 | G25: =T25 -> 30 | H25: =AD25 -> 0 | I25: =SUM(G25:H25) -> 30 | J25: 30 | R25: =SUM(J25:Q25) -> 30 | T25: =SUM(R25:S25) -> 30 | AB25: =SUM(U25:AA25) -> 0 | AD25: =SUM(AB25:AC25) -> 0
A26: 35 | B26: 710 | C26: 4455 | D26: חינוך סביבתי | E26: 330 | F26: =E26+I26 -> 366 | G26: =T26 -> 36 | H26: =AD26 -> 0 | I26: =SUM(G26:H26) -> 36 | J26: 30 | R26: =SUM(J26:Q26) -> 30 | S26: 6 | T26: =SUM(R26:S26) -> 36 | AB26: =SUM(U26:AA26) -> 0 | AD26: =SUM(AB26:AC26) -> 0 | AE26: רשות ניקוז ונחלים ירקון.
A27: 49 | B27: 710 | C27: 4816 | D27: רכישת מרפאה ניידת בשירות הווטרינרי | F27: =E27+I27 -> 90 | G27: =T27 -> 90 | H27: =AD27 -> 0 | I27: =SUM(G27:H27) -> 90 | R27: =SUM(J27:Q27) -> 0 | S27: 90 | T27: =SUM(R27:S27) -> 90 | AB27: =SUM(U27:AA27) -> 0 | AD27: =SUM(AB27:AC27) -> 0 | AE27: משרד החקלאות.
B28: סה"כ תברואה | E28: =SUBTOTAL(9,E8:E27) -> 54272 | F28: =SUBTOTAL(9,F8:F27) -> 56446.75 | G28: =SUBTOTAL(9,G8:G27) -> 2174.75 | H28: =SUBTOTAL(9,H8:H27) -> 0 | I28: =SUBTOTAL(9,I8:I27) -> 2174.75 | J28: =SUBTOTAL(9,J8:J27) -> 1163.75 | K28: =SUBTOTAL(9,K8:K27) -> 0 | L28: =SUBTOTAL(9,L8:L27) -> 0 | ... AD28: =SUBTOTAL(9,AD8:AD27) -> 0
A29: 9 | B29: 721 | C29: 4442 | D29: מערכת אכיפה לנתיבי תחבורה ציבורית | E29: 3946 | F29: =E29+I29 -> 4946 | G29: =T29 -> 500 | H29: =AD29 -> 500 | I29: =SUM(G29:H29) -> 1000 | Q29: 500 | R29: =SUM(J29:Q29) -> 500 | T29: =SUM(R29:S29) -> 500 | U29: 500 | AB29: =SUM(U29:AA29) -> 500 | AD29: =SUM(AB29:AC29) -> 500
A30: 9 | B30: 721 | C30: 4817 | D30: שילוט ואבזור כלי רכב | F30: =E30+I30 -> 20 | G30: =T30 -> 20 | H30: =AD30 -> 0 | I30: =SUM(G30:H30) -> 20 | J30: 20 | R30: =SUM(J30:Q30) -> 20 | T30: =SUM(R30:S30) -> 20 | AB30: =SUM(U30:AA30) -> 0 | AD30: =SUM(AB30:AC30) -> 0
A31: 56 | B31: 721 | C31: 4818 | D31: מצלמות ברחבי העיר | F31: =E31+I31 -> 7700 | G31: =T31 -> 7700 | H31: =AD31 -> 0 | I31: =SUM(G31:H31) -> 7700 | Q31: 7700 | R31: =SUM(J31:Q31) -> 7700 | T31: =SUM(R31:S31) -> 7700 | AB31: =SUM(U31:AA31) -> 0 | AD31: =SUM(AB31:AC31) -> 0
B32: 721 | C32: 3614 | D32: שיקום מקלטים | E32: 7158 | F32: =E32+I32 -> 8408 | G32: =T32 -> 1250 | H32: =AD32 -> 0 | I32: =SUM(G32:H32) -> 1250 | Q32: 1250 | R32: =SUM(J32:Q32) -> 1250 | T32: =SUM(R32:S32) -> 1250 | AB32: =SUM(U32:AA32) -> 0 | AD32: =SUM(AB32:AC32) -> 0
A33: 42 | B33: 721 | C33: 3988 | D33: הצטיידות שיטור עירוני כנגד פחת ל-3 שנים | E33: =96+116 -> 212 | F33: =E33+I33 -> 242 | G33: =T33 -> 30 | H33: =AD33 -> 0 | I33: =SUM(G33:H33) -> 30 | M33: 30 | R33: =SUM(J33:Q33) -> 30 | T33: =SUM(R33:S33) -> 30 | AB33: =SUM(U33:AA33) -> 0 | AD33: =SUM(AB33:AC33) -> 0 | AE33: העברה מתקציב רגיל.
A34: 42 | B34: 721 | C34: 3989 | D34: התאמת מבנה לשיטור עירוני כנגד פחת ל-5 שנים | E34: =363 -> 363 | F34: =E34+I34 -> 435.6 | G34: =T34 -> 72.6 | H34: =AD34 -> 0 | I34: =SUM(G34:H34) -> 72.6 | M34: 72.6 | R34: =SUM(J34:Q34) -> 72.6 | T34: =SUM(R34:S34) -> 72.6 | AB34: =SUM(U34:AA34) -> 0 | AD34: =SUM(AB34:AC34) -> 0 | AE34: העברה מתקציב רגיל.
A35: 42 | B35: 721 | C35: 3990 | D35: הצטיידות שיטור עירוני כנגד פחת ל- 5 שנים | E35: =45+39+55 -> 139 | F35: =E35+I35 -> 139 | G35: =T35 -> 0 | H35: =AD35 -> 0 | I35: =SUM(G35:H35) -> 0 | J35: -8 | M35: 8 | R35: =SUM(J35:Q35) -> 0 | T35: =SUM(R35:S35) -> 0 | AB35: =SUM(U35:AA35) -> 0 | AD35: =SUM(AB35:AC35) -> 0 | AE35: העברה מתקציב רגיל.
A36: 42 | B36: 721 | C36: 3991 | D36: הצטיידות שיטור עירוני כנגד פחת ל- 10 שנים | E36: =100+8 -> 108 | F36: =E36+I36 -> 108 | G36: =T36 -> 0 | H36: =AD36 -> 0 | I36: =SUM(G36:H36) -> 0 | J36: -10 | M36: 10 | R36: =SUM(J36:Q36) -> 0 | T36: =SUM(R36:S36) -> 0 | AB36: =SUM(U36:AA36) -> 0 | AD36: =SUM(AB36:AC36) -> 0 | AE36: העברה מתקציב רגיל.
A37: 42 | B37: 721 | C37: 3992 | D37: מצלמות שיטור עירוני כנגד פחת 6.666 שנים | E37: 2000 | F37: =E37+I37 -> 2050 | G37: =T37 -> 50 | H37: =AD37 -> 0 | I37: =SUM(G37:H37) -> 50 | J37: -250 | M37: 300 | R37: =SUM(J37:Q37) -> 50 | T37: =SUM(R37:S37) -> 50 | AB37: =SUM(U37:AA37) -> 0 | AD37: =SUM(AB37:AC37) -> 0 | AE37: העברה מתקציב רגיל.
B38: 721 | F38: =E38+I38 -> 0 | G38: =T38 -> 0 | H38: =AD38 -> 0 | I38: =SUM(G38:H38) -> 0 | R38: =SUM(J38:Q38) -> 0 | T38: =SUM(R38:S38) -> 0 | AB38: =SUM(U38:AA38) -> 0 | AD38: =SUM(AB38:AC38) -> 0
B39: 721 | F39: =E39+I39 -> 0 | G39: =T39 -> 0 | H39: =AD39 -> 0 | I39: =SUM(G39:H39) -> 0 | R39: =SUM(J39:Q39) -> 0 | T39: =SUM(R39:S39) -> 0 | AB39: =SUM(U39:AA39) -> 0 | AD39: =SUM(AB39:AC39) -> 0
B40: סה"כ בטחון | E40: =SUBTOTAL(9,E29:E39) -> 13926 | F40: =SUBTOTAL(9,F29:F39) -> 24048.6 | G40: =SUBTOTAL(9,G29:G39) -> 9622.6 | H40: =SUBTOTAL(9,H29:H39) -> 500 | I40: =SUBTOTAL(9,I29:I39) -> 10122.6 | J40: =SUBTOTAL(9,J29:J39) -> -248 | K40: =SUBTOTAL(9,K29:K39) -> 0 | L40: =SUBTOTAL(9,L29:L39) -> 0 | ... AD40: =SUBTOTAL(9,AD29:AD39) -> 500
A41: 1 | B41: 735 | C41: 3061 | D41: מבנים מסוכנים-הנדסה | E41: 14978 | F41: =E41+I41 -> 16978 | G41: =T41 -> 2000 | H41: =AD41 -> 0 | I41: =SUM(G41:H41) -> 2000 | Q41: 2000 | R41: =SUM(J41:Q41) -> 2000 | T41: =SUM(R41:S41) -> 2000 | AB41: =SUM(U41:AA41) -> 0 | AD41: =SUM(AB41:AC41) -> 0
A42: 1 | B42: 735 | C42: 3314 | D42: בדיקות ותכנון קונסט' ובטיחות | E42: 3710 | F42: =E42+I42 -> 3860 | G42: =T42 -> 150 | H42: =AD42 -> 0 | I42: =SUM(G42:H42) -> 150 | J42: 150 | R42: =SUM(J42:Q42) -> 150 | T42: =SUM(R42:S42) -> 150 | AB42: =SUM(U42:AA42) -> 0 | AD42: =SUM(AB42:AC42) -> 0 | AE42: צפי לגידול במספר הפניות .
A43: 1 | B43: 735 | C43: 3312 | D43: מניעה וטיפול בפלישות לקרקע עירונית | E43: 2720 | F43: =E43+I43 -> 2820 | G43: =T43 -> 100 | H43: =AD43 -> 0 | I43: =SUM(G43:H43) -> 100 | J43: 100 | R43: =SUM(J43:Q43) -> 100 | T43: =SUM(R43:S43) -> 100 | AB43: =SUM(U43:AA43) -> 0 | AD43: =SUM(AB43:AC43) -> 0 | AE43: מדובר בגידורים המבוצעים למניעת פלישות.
A44: 1 | B44: 735 | C44: 3313 | D44: איתור חריגות בנייה | E44: 2270 | F44: =E44+I44 -> 2770 | G44: =T44 -> 250 | H44: =AD44 -> 250 | I44: =SUM(G44:H44) -> 500 | J44: 250 | R44: =SUM(J44:Q44) -> 250 | T44: =SUM(R44:S44) -> 250 | U44: 250 | AB44: =SUM(U44:AA44) -> 250 | AD44: =SUM(AB44:AC44) -> 250
A45: 1 | B45: 735 | C45: 3964 | D45: החלפת תיקים בפיקוח על הבנייה ורכישת ציוד נלווה | E45: 100 | F45: =E45+I45 -> 180 | G45: =T45 -> 80 | H45: =AD45 -> 0 | I45: =SUM(G45:H45) -> 80 | J45: 80 | R45: =SUM(J45:Q45) -> 80 | T45: =SUM(R45:S45) -> 80 | AB45: =SUM(U45:AA45) -> 0 | AD45: =SUM(AB45:AC45) -> 0
A46: 1 | B46: 735 | C46: 4038 | D46: סקר בתחום הפיקוח | E46: 1150 | F46: =E46+I46 -> 1500 | G46: =T46 -> 350 | H46: =AD46 -> 0 | I46: =SUM(G46:H46) -> 350 | J46: 350 | R46: =SUM(J46:Q46) -> 350 | T46: =SUM(R46:S46) -> 350 | AB46: =SUM(U46:AA46) -> 0 | AD46: =SUM(AB46:AC46) -> 0 | AE46: מטרת הסקר הנה עמידה בדרישות החוק הקובע בצוע סקר שכזה אחת ל5 שנים.
A47: 1 | B47: 735 | C47: 2950 | D47: שילוט מוסדות וחוצות | E47: 3868 | F47: =E47+I47 -> 4085 | G47: =T47 -> 217 | H47: =AD47 -> 0 | I47: =SUM(G47:H47) -> 217 | J47: =117+100 -> 217 | R47: =SUM(J47:Q47) -> 217 | T47: =SUM(R47:S47) -> 217 | AB47: =SUM(U47:AA47) -> 0 | AD47: =SUM(AB47:AC47) -> 0
A48: 1 | B48: 735 | C48: 3712 | D48: לוחות מודעות לתושב | E48: 871 | F48: =E48+I48 -> 1003 | G48: =T48 -> 132 | H48: =AD48 -> 0 | I48: =SUM(G48:H48) -> 132 | J48: 132 | R48: =SUM(J48:Q48) -> 132 | T48: =SUM(R48:S48) -> 132 | AB48: =SUM(U48:AA48) -> 0 | AD48: =SUM(AB48:AC48) -> 0
A49: 1 | B49: 735 | C49: 3713 | D49: לוחות מודעות עירוניים | E49: 2150 | F49: =E49+I49 -> 2450 | G49: =T49 -> 300 | H49: =AD49 -> 0 | I49: =SUM(G49:H49) -> 300 | J49: 300 | R49: =SUM(J49:Q49) -> 300 | T49: =SUM(R49:S49) -> 300 | AB49: =SUM(U49:AA49) -> 0 | AD49: =SUM(AB49:AC49) -> 0
A50: 1 | B50: 735 | C50: 3876 | D50: התקנת מתקנים | E50: 854 | F50: =E50+I50 -> 948 | G50: =T50 -> 94 | H50: =AD50 -> 0 | I50: =SUM(G50:H50) -> 94 | J50: 94 | R50: =SUM(J50:Q50) -> 94 | T50: =SUM(R50:S50) -> 94 | AB50: =SUM(U50:AA50) -> 0 | AD50: =SUM(AB50:AC50) -> 0
A51: 1 | B51: 735 | C51: 2831 | D51: מתקני דגלול מספור ושילוט | E51: 1400 | F51: =E51+I51 -> 1450 | G51: =T51 -> 50 | H51: =AD51 -> 0 | I51: =SUM(G51:H51) -> 50 | J51: 50 | R51: =SUM(J51:Q51) -> 50 | T51: =SUM(R51:S51) -> 50 | AB51: =SUM(U51:AA51) -> 0 | AD51: =SUM(AB51:AC51) -> 0
A52: 1 | B52: 735 | C52: 4472 | D52: רכש והתקנת מסכים דיגיטליים | E52: 1170 | F52: =E52+I52 -> 1341 | G52: =T52 -> 171 | H52: =AD52 -> 0 | I52: =SUM(G52:H52) -> 171 | J52: 171 | R52: =SUM(J52:Q52) -> 171 | T52: =SUM(R52:S52) -> 171 | AB52: =SUM(U52:AA52) -> 0 | AD52: =SUM(AB52:AC52) -> 0
A53: 1 | B53: 735 | C53: 3006 | D53: פרוייקטים הנדסה | E53: 22761 | F53: =E53+I53 -> 23761 | G53: =T53 -> 1000 | H53: =AD53 -> 0 | I53: =SUM(G53:H53) -> 1000 | Q53: 1000 | R53: =SUM(J53:Q53) -> 1000 | T53: =SUM(R53:S53) -> 1000 | AB53: =SUM(U53:AA53) -> 0 | AD53: =SUM(AB53:AC53) -> 0 | AE53: פעולות משלימות ליישום ומימוש תכניות - סקרים, יועצים (יועץ מלווה לאגף תב"ע ויועץ נוף), וכו' שנדרשים בהחלטות מחוז או כתנאי לביצוע עבור 2 אגפי התכנון
A54: 1 | B54: 735 | C54: 3008 | D54: תכנון ובניית בית עירייה חדש | E54: 31050 | F54: =E54+I54 -> 31550 | G54: =T54 -> 500 | H54: =AD54 -> 0 | I54: =SUM(G54:H54) -> 500 | Q54: 500 | R54: =SUM(J54:Q54) -> 500 | T54: =SUM(R54:S54) -> 500 | AB54: =SUM(U54:AA54) -> 0 | AD54: =SUM(AB54:AC54) -> 0
A55: 1 | B55: 735 | C55: 4178 | D55: ליווי ותכנון לקו הירוק | E55: 1100 | F55: =E55+I55 -> 1500 | G55: =T55 -> 400 | H55: =AD55 -> 0 | I55: =SUM(G55:H55) -> 400 | J55: 400 | R55: =SUM(J55:Q55) -> 400 | T55: =SUM(R55:S55) -> 400 | AB55: =SUM(U55:AA55) -> 0 | AD55: =SUM(AB55:AC55) -> 0
A56: 1 | B56: 735 | C56: 4355 | D56: הנחיות מרחביות | E56: 850 | F56: =E56+I56 -> 1250 | G56: =T56 -> 400 | H56: =AD56 -> 0 | I56: =SUM(G56:H56) -> 400 | J56: 400 | R56: =SUM(J56:Q56) -> 400 | T56: =SUM(R56:S56) -> 400 | AB56: =SUM(U56:AA56) -> 0 | AD56: =SUM(AB56:AC56) -> 0 | AE56: נדרש עדכון דחוף לקראת תכנית ח/619.
A57: 1 | B57: 735 | C57: 4356 | D57: מרחב ציבורי | E57: 1500 | F57: =E57+I57 -> 1750 | G57: =T57 -> 250 | H57: =AD57 -> 0 | I57: =SUM(G57:H57) -> 250 | J57: 250 | R57: =SUM(J57:Q57) -> 250 | T57: =SUM(R57:S57) -> 250 | AB57: =SUM(U57:AA57) -> 0 | AD57: =SUM(AB57:AC57) -> 0 | AE57: אדריכל נוף מלווה מחלקת עיצוב אורבני לקיצור זמנים לתכניות עיצוב - כתנאי למימוש היתרים.
A58: 1 | B58: 735 | C58: 4179 | D58: חווה חקלאית ושדרה ירוקה | E58: 1020 | F58: =E58+I58 -> 2220 | G58: =T58 -> 1200 | H58: =AD58 -> 0 | I58: =SUM(G58:H58) -> 1200 | Q58: 1200 | R58: =SUM(J58:Q58) -> 1200 | T58: =SUM(R58:S58) -> 1200 | AB58: =SUM(U58:AA58) -> 0 | AD58: =SUM(AB58:AC58) -> 0
A59: 1 | B59: 735 | C59: 4630 | D59: תכנית בינוי ועיצוב מתחמית קוגל | E59: 900 | F59: =E59+I59 -> 1400 | G59: =T59 -> 500 | H59: =AD59 -> 0 | I59: =SUM(G59:H59) -> 500 | Q59: 500 | R59: =SUM(J59:Q59) -> 500 | T59: =SUM(R59:S59) -> 500 | AB59: =SUM(U59:AA59) -> 0 | AD59: =SUM(AB59:AC59) -> 0 | AE59: תכנית בינוי ועיצוב מתחמית הכוללת תיאום הנדסי, מול נת"ע מול תשתיות נדרש צוות אינטגרלי של אדריכלות, נוף, תשתיות, ניקוז - יישום תכנית קוגל
A60: 1 | B60: 735 | C60: 3204 | D60: תוכנית מיתאר לעיר | E60: 9443 | F60: =E60+I60 -> 9943 | G60: =T60 -> 500 | H60: =AD60 -> 0 | I60: =SUM(G60:H60) -> 500 | Q60: 500 | R60: =SUM(J60:Q60) -> 500 | T60: =SUM(R60:S60) -> 500 | AB60: =SUM(U60:AA60) -> 0 | AD60: =SUM(AB60:AC60) -> 0 | AE60: תכנון מוקדים עירונים - לשם קידום והאצת פרויקטים עתירי שטח עם רצפות לצורכי ציבור
A61: 1 | B61: 735 | C61: 4634 | D61: שיפור והנגשת המידע התכנוני-שדרוג מערכת ה GIS | E61: 200 | F61: =E61+I61 -> 400 | G61: =T61 -> 200 | H61: =AD61 -> 0 | I61: =SUM(G61:H61) -> 200 | J61: 200 | R61: =SUM(J61:Q61) -> 200 | T61: =SUM(R61:S61) -> 200 | AB61: =SUM(U61:AA61) -> 0 | AD61: =SUM(AB61:AC61) -> 0
A62: 1 | B62: 735 | C62: 4819 | D62: יישום תכנית המתאר-כלי מעקב ובקרה | F62: =E62+I62 -> 500 | G62: =T62 -> 500 | H62: =AD62 -> 0 | I62: =SUM(G62:H62) -> 500 | J62: 500 | R62: =SUM(J62:Q62) -> 500 | T62: =SUM(R62:S62) -> 500 | AB62: =SUM(U62:AA62) -> 0 | AD62: =SUM(AB62:AC62) -> 0 | AE62: בכחלק מקידום ח2040 נדרשת הכנה של תכניות אב כמהלך תכנוני משלים - עקרונות תכנון, מעקב ובקרה בראיה כוללנית, עבור מסמך אפיון הרשת העירונית כחלק מקידום עיר הרשת הרב מוקדית של ח/2040 ומדיניות לכלכלה עירונית לטובת חיזוק החוסן העירוני וטיוב התעסוקה והמגורים עם מערכת המעקב ובקרה לפי החלטת ההפקדה של ח/2040 בועדה המחוזית.
A63: 1 | B63: 735 | C63: 4820 | D63: תכנית אב לשטחים פתוחים | F63: =E63+I63 -> 500 | G63: =T63 -> 500 | H63: =AD63 -> 0 | I63: =SUM(G63:H63) -> 500 | Q63: 500 | R63: =SUM(J63:Q63) -> 500 | T63: =SUM(R63:S63) -> 500 | AB63: =SUM(U63:AA63) -> 0 | AD63: =SUM(AB63:AC63) -> 0 | AE63: תכנית אב לפיתוח השטחים הפתוחים והמרחב הציבורי בעיר, לרבות תכנית עבודה והנחיות קונקרטיות
A64: 1 | B64: 735 | C64: 4821 | D64: מדיניות לדיור בהישג יד | F64: =E64+I64 -> 500 | G64: =T64 -> 500 | H64: =AD64 -> 0 | I64: =SUM(G64:H64) -> 500 | Q64: 500 | R64: =SUM(J64:Q64) -> 500 | T64: =SUM(R64:S64) -> 500 | AB64: =SUM(U64:AA64) -> 0 | AD64: =SUM(AB64:AC64) -> 0 | AE64: בחינת דיור בהישג יד בעיר - בחינת כלכליות של פרויקט עם השכרה ארוכת טווח (מנגנונים קיימים על קרקע בבעלות עירייה)
A65: 1 | B65: 735 | C65: 2233 | D65: מדידות | E65: 7950 | F65: =E65+I65 -> 8150 | G65: =T65 -> 200 | H65: =AD65 -> 0 | I65: =SUM(G65:H65) -> 200 | J65: 200 | R65: =SUM(J65:Q65) -> 200 | T65: =SUM(R65:S65) -> 200 | AB65: =SUM(U65:AA65) -> 0 | AD65: =SUM(AB65:AC65) -> 0
A66: 1 | B66: 735 | C66: 4822 | D66: אסטרטגיה-תכנית אב לצרכי ציבור | F66: =E66+I66 -> 200 | G66: =T66 -> 200 | H66: =AD66 -> 0 | I66: =SUM(G66:H66) -> 200 | J66: 200 | R66: =SUM(J66:Q66) -> 200 | T66: =SUM(R66:S66) -> 200 | AB66: =SUM(U66:AA66) -> 0 | AD66: =SUM(AB66:AC66) -> 0
A67: 1 | B67: 735 | C67: 4823 | D67: אסטרטגיה-ליווי תכנון ופיתוח שוטף | F67: =E67+I67 -> 100 | G67: =T67 -> 100 | H67: =AD67 -> 0 | I67: =SUM(G67:H67) -> 100 | J67: 100 | R67: =SUM(J67:Q67) -> 100 | T67: =SUM(R67:S67) -> 100 | AB67: =SUM(U67:AA67) -> 0 | AD67: =SUM(AB67:AC67) -> 0
A68: 1 | B68: 735 | C68: 4824 | D68: יועץ פרוגרמתי ואסטרטגי | F68: =E68+I68 -> 150 | G68: =T68 -> 150 | H68: =AD68 -> 0 | I68: =SUM(G68:H68) -> 150 | J68: 150 | R68: =SUM(J68:Q68) -> 150 | T68: =SUM(R68:S68) -> 150 | AB68: =SUM(U68:AA68) -> 0 | AD68: =SUM(AB68:AC68) -> 0
A69: 1 | B69: 735 | C69: 4825 | D69: רה ארגון אגף רישוי | F69: =E69+I69 -> 250 | G69: =T69 -> 250 | H69: =AD69 -> 0 | I69: =SUM(G69:H69) -> 250 | J69: 250 | R69: =SUM(J69:Q69) -> 250 | T69: =SUM(R69:S69) -> 250 | AB69: =SUM(U69:AA69) -> 0 | AD69: =SUM(AB69:AC69) -> 0 | AE69: השלמות והכשרות כפעולות משלימות לרה ארגון של אגף הרישוי
A70: 1 | B70: 735 | C70: 4826 | D70: הטמעת וליווי תהליכים | F70: =E70+I70 -> 100 | G70: =T70 -> 100 | H70: =AD70 -> 0 | I70: =SUM(G70:H70) -> 100 | J70: 100 | R70: =SUM(J70:Q70) -> 100 | T70: =SUM(R70:S70) -> 100 | AB70: =SUM(U70:AA70) -> 0 | AD70: =SUM(AB70:AC70) -> 0 | AE70: תשלום עבור יועצים חיצוניים ליעול ושיפור תהליכי הרישוי
A71: 1 | B71: 735 | C71: 4636 | D71: סריקה וטיוב תיקים | E71: 900 | F71: =E71+I71 -> 1000 | G71: =T71 -> 100 | H71: =AD71 -> 0 | I71: =SUM(G71:H71) -> 100 | J71: 100 | R71: =SUM(J71:Q71) -> 100 | T71: =SUM(R71:S71) -> 100 | AB71: =SUM(U71:AA71) -> 0 | AD71: =SUM(AB71:AC71) -> 0 | AE71: הנגשה שוטפת של הארכיב לציבור בהתאם לדרישות מינהל התכנון
A72: 1 | B72: 735 | C72: 4827 | D72: בדיקת נספחי נוף | F72: =E72+I72 -> 350 | G72: =T72 -> 350 | H72: =AD72 -> 0 | I72: =SUM(G72:H72) -> 350 | Q72: 350 | R72: =SUM(J72:Q72) -> 350 | T72: =SUM(R72:S72) -> 350 | AB72: =SUM(U72:AA72) -> 0 | AD72: =SUM(AB72:AC72) -> 0 | AE72: נדרשת בדיקה נופית של היתרי בניה של ח619.
A73: 1 | B73: 735 | C73: 3398 | D73: נגישות לנכים | E73: 92402.979 | F73: =E73+I73 -> 107402.98 | G73: =T73 -> 15000 | H73: =AD73 -> 0 | I73: =SUM(G73:H73) -> 15000 | M73: 15000 | R73: =SUM(J73:Q73) -> 15000 | T73: =SUM(R73:S73) -> 15000 | AB73: =SUM(U73:AA73) -> 0 | AD73: =SUM(AB73:AC73) -> 0
A74: 1 | B74: 735 | C74: 4632 | D74: הנגשת מידע לציבור | E74: 700 | F74: =E74+I74 -> 1000 | G74: =T74 -> 300 | H74: =AD74 -> 0 | I74: =SUM(G74:H74) -> 300 | Q74: 300 | R74: =SUM(J74:Q74) -> 300 | T74: =SUM(R74:S74) -> 300 | AB74: =SUM(U74:AA74) -> 0 | AD74: =SUM(AB74:AC74) -> 0
A75: 1 | B75: 735 | C75: 4633 | D75: שיתוף ציבור | E75: 500 | F75: =E75+I75 -> 700 | G75: =T75 -> 200 | H75: =AD75 -> 0 | I75: =SUM(G75:H75) -> 200 | Q75: 200 | R75: =SUM(J75:Q75) -> 200 | T75: =SUM(R75:S75) -> 200 | AB75: =SUM(U75:AA75) -> 0 | AD75: =SUM(AB75:AC75) -> 0
A76: 11 | B76: 735 | C76: 4244 | D76: מתחם יוספטל בשכונת ג'סי כהן | E76: 3524 | F76: =E76+I76 -> 4450.662 | G76: =T76 -> 926.662 | H76: =AD76 -> 0 | I76: =SUM(G76:H76) -> 926.662 | R76: =SUM(J76:Q76) -> 0 | S76: =468.277+458.385 -> 926.662 | T76: =SUM(R76:S76) -> 926.662 | AB76: =SUM(U76:AA76) -> 0 | AD76: =SUM(AB76:AC76) -> 0 | AE76: משרד הבינוי והשיכון.
A77: 11 | B77: 735 | C77: 3953 | D77: מנהלת להתחדשות עירונית | E77: 4525 | F77: =E77+I77 -> 5860 | G77: =T77 -> 1335 | H77: =AD77 -> 0 | I77: =SUM(G77:H77) -> 1335 | Q77: 1335 | R77: =SUM(J77:Q77) -> 1335 | T77: =SUM(R77:S77) -> 1335 | AB77: =SUM(U77:AA77) -> 0 | AD77: =SUM(AB77:AC77) -> 0
A78: 11 | B78: 735 | C78: 4637 | D78: מנהלת להתחדשות עירונית-פעילות חברתית תל גיבורים וג'סי כהן | E78: 226 | F78: =E78+I78 -> 451 | G78: =T78 -> 225 | H78: =AD78 -> 0 | I78: =SUM(G78:H78) -> 225 | J78: 24 | R78: =SUM(J78:Q78) -> 24 | S78: 201 | T78: =SUM(R78:S78) -> 225 | AB78: =SUM(U78:AA78) -> 0 | AD78: =SUM(AB78:AC78) -> 0 | AE78: משרד הבינוי והשיכון.
A79: 21 | B79: 735 | C79: 4638 | D79: מתחם הבריכה הלימודית | E79: 23000 | F79: =E79+I79 -> 0 | G79: =T79 -> -23000 | H79: =AD79 -> 0 | I79: =SUM(G79:H79) -> -23000 | Q79: -23000 | R79: =SUM(J79:Q79) -> -23000 | T79: =SUM(R79:S79) -> -23000 | AB79: =SUM(U79:AA79) -> 0 | AD79: =SUM(AB79:AC79) -> 0
A80: 1 | B80: 735 | C80: 4629 | D80: עדכון/החלפת ניהול מערכת עדכון וועדה | E80: 300 | F80: =E80+I80 -> 800 | G80: =T80 -> 500 | H80: =AD80 -> 0 | I80: =SUM(G80:H80) -> 500 | J80: 500 | R80: =SUM(J80:Q80) -> 500 | T80: =SUM(R80:S80) -> 500 | AB80: =SUM(U80:AA80) -> 0 | AD80: =SUM(AB80:AC80) -> 0
A81: 1 | B81: 735 | C81: 4033 | D81: תכנית שימור עירונית | E81: 2160 | F81: =E81+I81 -> 2560 | G81: =T81 -> 400 | H81: =AD81 -> 0 | I81: =SUM(G81:H81) -> 400 | J81: 400 | R81: =SUM(J81:Q81) -> 400 | T81: =SUM(R81:S81) -> 400 | AB81: =SUM(U81:AA81) -> 0 | AD81: =SUM(AB81:AC81) -> 0
A82: 1 | B82: 735 | C82: 4828 | D82: תכנון שיפוץ הפילבוקס | F82: =E82+I82 -> 2000 | G82: =T82 -> 2000 | H82: =AD82 -> 0 | I82: =SUM(G82:H82) -> 2000 | M82: 2000 | R82: =SUM(J82:Q82) -> 2000 | T82: =SUM(R82:S82) -> 2000 | AB82: =SUM(U82:AA82) -> 0 | AD82: =SUM(AB82:AC82) -> 0
A83: 11 | B83: 735 | C83: 4359 | D83: תב"ע מתחם הרוקמים | E83: 3000 | F83: =E83+I83 -> 3200 | G83: =T83 -> 200 | H83: =AD83 -> 0 | I83: =SUM(G83:H83) -> 200 | J83: 200 | R83: =SUM(J83:Q83) -> 200 | T83: =SUM(R83:S83) -> 200 | AB83: =SUM(U83:AA83) -> 0 | AD83: =SUM(AB83:AC83) -> 0
A84: 35 | B84: 735 | C84: 1558 | D84: תוכנית אב אזור התעשיה | E84: 2212 | F84: =E84+I84 -> 2412 | G84: =T84 -> 200 | H84: =AD84 -> 0 | I84: =SUM(G84:H84) -> 200 | J84: 200 | R84: =SUM(J84:Q84) -> 200 | T84: =SUM(R84:S84) -> 200 | AB84: =SUM(U84:AA84) -> 0 | AD84: =SUM(AB84:AC84) -> 0
A85: 11 | B85: 735 | C85: 4248 | D85: מתחם התותחנים/החצב | E85: 1990 | F85: =E85+I85 -> 2133.639 | G85: =T85 -> 143.639 | H85: =AD85 -> 0 | I85: =SUM(G85:H85) -> 143.639 | R85: =SUM(J85:Q85) -> 0 | S85: 143.639 | T85: =SUM(R85:S85) -> 143.639 | AB85: =SUM(U85:AA85) -> 0 | AD85: =SUM(AB85:AC85) -> 0 | AE85: הרשות להתחדשות עירונית.
A86: 1 | B86: 735 | C86: 4829 | D86: בר שכונתי ברחוב ה באייר | F86: =E86+I86 -> 1500 | G86: =T86 -> 1500 | H86: =AD86 -> 0 | I86: =SUM(G86:H86) -> 1500 | J86: 300 | M86: 1200 | R86: =SUM(J86:Q86) -> 1500 | T86: =SUM(R86:S86) -> 1500 | AB86: =SUM(U86:AA86) -> 0 | AD86: =SUM(AB86:AC86) -> 0
B87: סה"כ הנדסה | E87: =SUBTOTAL(9,E41:E86) -> 247454.98 | F87: =SUBTOTAL(9,F41:F86) -> 259429.28 | G87: =SUBTOTAL(9,G41:G86) -> 11724.301 | H87: =SUBTOTAL(9,H41:H86) -> 250 | I87: =SUBTOTAL(9,I41:I86) -> 11974.301 | J87: =SUBTOTAL(9,J41:J86) -> 6368 | K87: =SUBTOTAL(9,K41:K86) -> 0 | L87: =SUBTOTAL(9,L41:L86) -> 0 | ... AD87: =SUBTOTAL(9,AD41:AD86) -> 250
A88: 10 | B88: 742 | C88: 4830 | D88: סימון חניות כחול לבן | F88: =E88+I88 -> 3000 | G88: =T88 -> 3000 | H88: =AD88 -> 0 | I88: =SUM(G88:H88) -> 3000 | Q88: 3000 | R88: =SUM(J88:Q88) -> 3000 | T88: =SUM(R88:S88) -> 3000 | AB88: =SUM(U88:AA88) -> 0 | AD88: =SUM(AB88:AC88) -> 0
A89: 10 | B89: 742 | C89: 2722 | D89: ביצוע החלטות וועדות תנועה | E89: 17760 | F89: =E89+I89 -> 19260 | G89: =T89 -> 1500 | H89: =AD89 -> 0 | I89: =SUM(G89:H89) -> 1500 | Q89: 1500 | R89: =SUM(J89:Q89) -> 1500 | T89: =SUM(R89:S89) -> 1500 | AB89: =SUM(U89:AA89) -> 0 | AD89: =SUM(AB89:AC89) -> 0
A90: 10 | B90: 742 | C90: 3207 | D90: שיפור תקינות המדרכות בעיר שנפגעו משורשי עצים | E90: 8499 | F90: =E90+I90 -> 8999 | G90: =T90 -> 500 | H90: =AD90 -> 0 | I90: =SUM(G90:H90) -> 500 | L90: 500 | R90: =SUM(J90:Q90) -> 500 | T90: =SUM(R90:S90) -> 500 | AB90: =SUM(U90:AA90) -> 0 | AD90: =SUM(AB90:AC90) -> 0
A91: 10 | B91: 742 | C91: 4186 | D91: תיקון מדרכות | E91: 6166 | F91: =E91+I91 -> 6666 | G91: =T91 -> 500 | H91: =AD91 -> 0 | I91: =SUM(G91:H91) -> 500 | Q91: 500 | R91: =SUM(J91:Q91) -> 500 | T91: =SUM(R91:S91) -> 500 | AB91: =SUM(U91:AA91) -> 0 | AD91: =SUM(AB91:AC91) -> 0
A92: 10 | B92: 742 | C92: 4732 | D92: צביעת שבילי אופניים | E92: 150 | F92: =E92+I92 -> 300 | G92: =T92 -> 150 | H92: =AD92 -> 0 | I92: =SUM(G92:H92) -> 150 | L92: 150 | R92: =SUM(J92:Q92) -> 150 | T92: =SUM(R92:S92) -> 150 | AB92: =SUM(U92:AA92) -> 0 | AD92: =SUM(AB92:AC92) -> 0
A93: 10 | B93: 742 | C93: 4650 | D93: סקר נפגעים במדרכות ובכבישים | E93: 200 | F93: =E93+I93 -> 300 | G93: =T93 -> 100 | H93: =AD93 -> 0 | I93: =SUM(G93:H93) -> 100 | L93: 100 | R93: =SUM(J93:Q93) -> 100 | T93: =SUM(R93:S93) -> 100 | AB93: =SUM(U93:AA93) -> 0 | AD93: =SUM(AB93:AC93) -> 0
A94: 10 | B94: 742 | C94: 4831 | D94: החלפת סככות אוטובוס שנפגעו בתאונות,ונדליזם- מהיר לעיר | F94: =E94+I94 -> 100 | G94: =T94 -> 100 | H94: =AD94 -> 0 | I94: =SUM(G94:H94) -> 100 | Q94: 100 | R94: =SUM(J94:Q94) -> 100 | T94: =SUM(R94:S94) -> 100 | AB94: =SUM(U94:AA94) -> 0 | AD94: =SUM(AB94:AC94) -> 0
A95: 10 | B95: 742 | C95: 2090 | D95: תכנון כללי(דרכים-תאורה) | E95: 3100 | F95: =E95+I95 -> 3500 | G95: =T95 -> 400 | H95: =AD95 -> 0 | I95: =SUM(G95:H95) -> 400 | Q95: 400 | R95: =SUM(J95:Q95) -> 400 | T95: =SUM(R95:S95) -> 400 | AB95: =SUM(U95:AA95) -> 0 | AD95: =SUM(AB95:AC95) -> 0
A96: 10 | B96: 742 | C96: 2463 | D96: מדרכות | E96: 8250 | F96: =E96+I96 -> 9050 | G96: =T96 -> 800 | H96: =AD96 -> 0 | I96: =SUM(G96:H96) -> 800 | Q96: 800 | R96: =SUM(J96:Q96) -> 800 | T96: =SUM(R96:S96) -> 800 | AB96: =SUM(U96:AA96) -> 0 | AD96: =SUM(AB96:AC96) -> 0
A97: 10 | B97: 742 | C97: 2585 | D97: ציפוי כבישים | E97: 20200 | F97: =E97+I97 -> 23900 | G97: =T97 -> 3700 | H97: =AD97 -> 0 | I97: =SUM(G97:H97) -> 3700 | Q97: 3700 | R97: =SUM(J97:Q97) -> 3700 | T97: =SUM(R97:S97) -> 3700 | AB97: =SUM(U97:AA97) -> 0 | AD97: =SUM(AB97:AC97) -> 0
A98: 10 | B98: 742 | C98: 3720 | D98: עבודות השלמה לפרוייקטים עירוניים | E98: 3685 | F98: =E98+I98 -> 3885 | G98: =T98 -> 200 | H98: =AD98 -> 0 | I98: =SUM(G98:H98) -> 200 | L98: 200 | R98: =SUM(J98:Q98) -> 200 | T98: =SUM(R98:S98) -> 200 | AB98: =SUM(U98:AA98) -> 0 | AD98: =SUM(AB98:AC98) -> 0
A99: 10 | B99: 742 | C99: 3721 | D99: פרויקטים לא מתוכננים | E99: 11197 | F99: =E99+I99 -> 11397 | G99: =T99 -> 200 | H99: =AD99 -> 0 | I99: =SUM(G99:H99) -> 200 | L99: 200 | R99: =SUM(J99:Q99) -> 200 | T99: =SUM(R99:S99) -> 200 | AB99: =SUM(U99:AA99) -> 0 | AD99: =SUM(AB99:AC99) -> 0
A100: 10 | B100: 742 | C100: 3878 | D100: הנגשת צמתים ומעברי חצייה | E100: 23000 | F100: =E100+I100 -> 26100 | G100: =T100 -> 1000 | H100: =AD100 -> 2100 | I100: =SUM(G100:H100) -> 3100 | Q100: 1000 | R100: =SUM(J100:Q100) -> 1000 | T100: =SUM(R100:S100) -> 1000 | W100: 2100 | AB100: =SUM(U100:AA100) -> 2100 | AD100: =SUM(AB100:AC100) -> 2100
A101: 10 | B101: 742 | C101: 3879 | D101: הצבת והעתקת סככות אוטובוס | E101: 1510 | F101: =E101+I101 -> 1810 | G101: =T101 -> 300 | H101: =AD101 -> 0 | I101: =SUM(G101:H101) -> 300 | L101: 300 | R101: =SUM(J101:Q101) -> 300 | T101: =SUM(R101:S101) -> 300 | AB101: =SUM(U101:AA101) -> 0 | AD101: =SUM(AB101:AC101) -> 0
...
