Workbook
Name Print_Area_MI: #REF!
Name Print_Titles_MI: #REF!
Name כככ: #REF!
Name לדני: #REF!

Sheet מסגרת
C2: עיריית חולון
C5: HOLON MUNICIPALITY
C7: מנהל הגזברות | F7: 45992
A8: לכבוד:
A9: ראש העיר
A10: מר שי קינן
B12: א.נ,
C13: הנדון: תקציב הפיתוח לשנת 2026
A14: אודה לך על הגשה לאישור המועצה את הנושאים הבאים:
A15: . 1 | B15: מסגרת תקציב הפיתוח לשנת 2026 בהתאם לפירוט הבא:
A17: תמצית תקציב רגיל (חלק פיתוח) של עיריית חולון לשנת כספים 2026.
C19: לפי פקודת העיריות
A21: בהתאם לסעיף 209 לפקודת העיריות (1), (להלן הפקודה), אני מודיע בתוקף הסמכות לפי סעיפים 206 ו- 207
A22: לפקודת העיריות שהועברה אלי (2), אישרתי תקציב רגיל (חלק פיתוח) של עיריית חולון
A23: לשנת התקציב 2026 שתמציתו להלן:
A25: שם הרשות המקומית עיריית חולון | D25: תאריך אישור במועצה
A27: מספר הרשות המקומית 26600 | D27: תאריך אישור במשרד הפנים
A29: סעיף | B29: תקבולים | C29: תקציב 2026 | D29: סעיף | E29: תשלומים | F29: תקציב 2026
A30: 510 | B30: הקצבה מתקציב רגיל | D30: 61 | E30: מינהל כללי
A32: 521 | B32: סך הכל השתתפות בעלים | C32: =SUM(C34:C42) -> 67200 | D32: 62 | E32: מינהל כספי
A34: 521.01 | B34: היטל סלילת כבישים | C34: 48700 | D34: 63 | E34: הוצאות מימון
A36: 521.02 | B36: היטל ביוב | D36: 64 | E36: פרעון מלוות
A38: 521.03 | B38: היטלי מים | D38: 71 | E38: תברואה | F38: ='2026'!F21 -> 8920
A40: 521.04 | B40: היטל תיעול | C40: 4000 | D40: 72 | E40: שמירה ובטחון | F40: ='2026'!F35 -> 7402
A42: 521.99 | B42: היטל שצ"פ | C42: =7000+7500 -> 14500 | D42: 73 | E42: תכנון ובנין עיר | F42: ='2026'!F44 -> 7775
A44: 522 | B44: סך הכל השתתפות ממשלה | C44: =SUM(C46:C56) -> 18972.78 | D44: 74 | E44: נכסים ציבוריים | F44: ='2026'!F63+'2026'!F67+'2026'!F76+'2026'!F86+'2026'!F115 -> 137871.25
A46: 522.06 | B46: משרד הפנים * | D46: 75 | E46: חגיגות ומבצעים
A48: 522.2 | B48: משרד החינוך | C48: ='2026'!Q24+'2026'!Q128+'2026'!Q132+'2026'!Q145+'2026'!Q215 -> 18450.28 | D48: 76 | E48: שרותים עירוניים שונים | F48: ='2026'!F117 -> 1000
A50: 522.29 | B50: משרד הבינוי והשיכון | D50: 77 | E50: פיתוח כלכלי
A52: 522.37 | B52: משרד התיירות | D52: 78 | E52: פיקוח עירוני
A54: 522.4 | B54: משרד התחבורה | D54: 79 | E54: שרותים חקלאיים
H55: =C55 -> 0
A56: 522.99 | B56: משרדים אחרים (1) | C56: ='2026'!Q186 -> 522.5 | D56: 81 | E56: חינוך | F56: ='2026'!F126+'2026'!F133+'2026'!F147 -> 37054.28
A58: 523 | B58: סך הכל השתתפות מוסדות ותרומות | C58: =SUM(C60:C72) -> 42771 | D58: 82 | E58: תרבות | F58: ='2026'!F166+'2026'!F171+'2026'!F187 -> 28695
A60: 523.05 | B60: קרן קיימת לישראל | D60: 83 | E60: בריאות
A62: 523.07 | B62: מפעל הפיס | C62: ='2026'!Q176+'2026'!Q214 -> 41600 | D62: 84 | E62: רווחה | F62: ='2026'!F195 -> 281
A64: 523.1 | B64: מועצה להסדר ההימורים בספורט | D64: 85 | E64: דת | F64: ='2026'!F197 -> 0
A66: 523.25 | B66: הסוכנות היהודית | D66: 86 | E66: קליטת עליה
A68: 523.98 | B68: הכנסות שונות (2) | C68: ='2026'!Q140+'2026'!Q141 -> 1171 | D68: 87 | E68: איכות הסביבה
A70: 523.99 | B70: מוסדות אחרים | D70: 91 | E70: מים
A72: 530 | B72: יתרות מתב"רים קודמים | D72: 92 | E72: בתי מטבחיים
A74: 540 | B74: סך הכל הכנסות מקרנות הרשות | C74: =SUM(C76:C80) -> 151037 | D74: 93 | E74: נכסים | F74: ='2026'!F227+'2026'!F232 -> 82530.25
A76: 540.01 | B76: קרן היטל השבחה | C76: 100435 | D76: 94 | E76: תחבורה
A78: 540.02 | B78: קרנות לעבודות פיתוח | D78: 95 | E78: מפעלי תעסוקה
A80: 540.99 | B80: קרנות אחרות (3) | C80: ='2026'!I236+'2026'!J236+'2026'!K236+'2026'!L236+'2026'!M236+'2026'!N236+3200 -> 50602 | D80: 96 | E80: חשמל
A82: 550 | B82: מלוות מהאוצר שאושרו | D82: 97 | E82: מפעל הביוב
A84: 560 | B84: הלוואות מבנקים ומוסדות | C84: 99500 | D84: 98 | E84: מפעלים אחרים
A86: 570 | B86: אשראי מקבלנים וספקים | D86: 99 | E86: תשלומים בלתי רגילים (4) | F86: ='2026'!F7 -> 67952
A88: 580 | B88: מכירת רכוש | C88: 0 | E88: הפרשה לתביעות
A90: 590 | B90: הכנסות בעד עבודות לטובת משלמים
A91: סך הכל תקבולים | C91: =SUM(C30:C90)-C74-C58-C44-C32 -> 379480.78 | D91: סך הכל תשלומים | F91: =SUM(F30:F90) -> 379480.78

Sheet המשך מסגרת 
H3: עיריית חולון
H5: HOLON MUNICIPALITY
H7: מנהל הגזברות
A11: הערות (1) | B11: משרד התרבות והספורט.
A12: הערות (2) | B12: הכנסות מבי"ס.
A13: הערות (3) | B13: קרן כללית 3.2 מלש"ח ויתרות בקרנות: תקציב רגיל 0.397 מלש"ח,קרן מכירת נכסים 7.5 מלש"ח,
B14: קרן כללית 4.5 מלש"ח, קרן שצ"פ 7 מלש"ח, קרן חניה 2 מלש"ח, קרן שיטור עירוני 0.315 מלש"ח,
B15: קרן כביש 22 מלש"ח, קרן תיעול 1.94 מלש"ח, 1.75 מלש"ח קרן תב"עות.
A16: הערות (4) | B16: תשלומים לא רגילים מורכבים מ- 43,555 אלש"ח העברה לתקציב הרגיל לכיסוי מלוות ,
B17: 24,397 אלש"ח לכיסוי הוצאות למינהל ההנדסה.
A19: . 2 | B19: טבלה מפורטת עם רשימת פרוייקטים חדשים וכאלה הזקוקים לעדכון לשנת 2026.
A21: . 4 | B21: במידה וההכנסות מקרנות הרשות יהיו גבוהות מעל הצפי שתוקצב, ההלוואות לא ילקחו ובמקומם
B22: התב"רים ימומנו מתקציבי קרנות הרשות.
A25: הריני לאשר כי התקציב המוגש למועצה יהיה מאוזן ובר ביצוע והתב"רים יאושרו לביצוע בהתאם להכנסות העירייה.
N30: בברכה,
N32: קרן משלניק
N33: גזברית העירייה

Sheet 2026
B1: תוכנית הפיתוח לשנת 2026
A3: מס"ד | B3: פרק | C3: מספר תב"ר | D3: הפרוייקט | E3: מאושר ע"י המועצה | F3: תקציב נדרש 2026 | G3: תקציב מאושר ע"י מועצה+נדרש 2026 | H3: מקורות מימון 2026 | S3: הערות
H4: השבחה | I4: בעלים תיעול | J4: בעלים כביש | K4: קרן כללית | L4: קרן חניה | M4: שצ"פ | N4: מכירת רכוש | O4: הלוואות | P4: מקורות עצמיים | Q4: חיצוני | R4: סה"כ 2026
D5: העברה לרגיל- מילוות | F5: =R5 -> 43555 | G5: =E5+F5 -> 43555 | H5: 28071.6 | J5: 15483.4 | P5: =SUM(H5:N5) -> 43555 | R5: =SUM(P5:Q5) -> 43555
D6: העברה לרגיל- הנדסה | F6: =R6 -> 24397 | G6: =E6+F6 -> 24397 | H6: 24397 | P6: =SUM(H6:N6) -> 24397 | R6: =SUM(P6:Q6) -> 24397
B7: העברה לתקציב הרגיל סה"כ | E7: =SUBTOTAL(9,E5:E6) -> 0 | F7: =SUBTOTAL(9,F5:F6) -> 67952 | G7: =SUBTOTAL(9,G5:G6) -> 67952 | H7: =SUBTOTAL(9,H5:H6) -> 52468.6 | I7: =SUBTOTAL(9,I5:I6) -> 0 | J7: =SUBTOTAL(9,J5:J6) -> 15483.4 | K7: =SUBTOTAL(9,K5:K6) -> 0 | L7: =SUBTOTAL(9,L5:L6) -> 0 | ... R7: =SUBTOTAL(9,R5:R6) -> 67952
A8: 19 | B8: 710 | C8: 5024 | D8: הכנסת טכנ' לבקרה וניהול הפסולת | F8: =R8 -> 350 | G8: =E8+F8 -> 350 | H8: 350 | P8: =SUM(H8:O8) -> 350 | R8: =SUM(P8:Q8) -> 350
A9: 19 | B9: 710 | C9: 4163 | D9: החלפת והוספת כל כלי האצירה שבעיר | E9: 8750 | F9: =R9 -> 300 | G9: =E9+F9 -> 9050 | H9: 300 | P9: =SUM(H9:O9) -> 300 | R9: =SUM(P9:Q9) -> 300
A10: 19 | B10: 710 | C10: 4021 | D10: רכישת טמוני קרקע | E10: 11400 | F10: =R10 -> 1500 | G10: =E10+F10 -> 12900 | H10: 1500 | P10: =SUM(H10:O10) -> 1500 | R10: =SUM(P10:Q10) -> 1500
A11: 19 | B11: 710 | C11: 3450 | D11: רכישת כלי אצירה להפרדה לשני זרמים | E11: 3710 | F11: =R11 -> 200 | G11: =E11+F11 -> 3910 | H11: 200 | P11: =SUM(H11:O11) -> 200 | R11: =SUM(P11:Q11) -> 200
A12: 19 | B12: 710 | C12: 5025 | D12: רכישת דחסנים אטומים לריחות ונוזלים עם יחס דחיסה 1:6 | F12: =R12 -> 220 | G12: =E12+F12 -> 220 | H12: 220 | P12: =SUM(H12:O12) -> 220 | R12: =SUM(P12:Q12) -> 220
A13: 19 | B13: 710 | C13: 4351 | D13: רכש קרטוניות | E13: 780 | F13: =R13 -> 60 | G13: =E13+F13 -> 840 | H13: 60 | P13: =SUM(H13:O13) -> 60 | R13: =SUM(P13:Q13) -> 60
A14: 19 | B14: 710 | C14: 3451 | D14: רכישת סלי אשפה | E14: 4650 | F14: =R14 -> 100 | G14: =E14+F14 -> 4750 | H14: 100 | P14: =SUM(H14:O14) -> 100 | R14: =SUM(P14:Q14) -> 100
A15: 19 | B15: 710 | C15: 4622 | D15: מעצורים ומסתורי אשפה לכלי אצירה פחים | E15: 435 | F15: =R15 -> 300 | G15: =E15+F15 -> 735 | H15: 300 | P15: =SUM(H15:O15) -> 300 | R15: =SUM(P15:Q15) -> 300
A16: 19 | B16: 710 | C16: 4812 | D16: שיפוץ טמוני קרקע ומונחי קרקע | E16: 100 | F16: =R16 -> 150 | G16: =E16+F16 -> 250 | H16: 150 | P16: =SUM(H16:O16) -> 150 | R16: =SUM(P16:Q16) -> 150
A17: 19 | B17: 710 | C17: 4621 | D17: שדרוג תחנת מעבר | E17: 150 | F17: =R17 -> 3460 | G17: =E17+F17 -> 3610 | O17: 3460 | P17: =SUM(H17:O17) -> 3460 | R17: =SUM(P17:Q17) -> 3460
A18: 24 | B18: 710 | C18: 4457 | D18: יועץ לתכנון סביבתי | E18: 300 | F18: =R18 -> 60 | G18: =E18+F18 -> 360 | H18: 60 | P18: =SUM(H18:O18) -> 60 | R18: =SUM(P18:Q18) -> 60
A19: 26 | B19: 710 | C19: 2418 | D19: החלפת רכבים | E19: 32250 | F19: =R19 -> 2000 | G19: =E19+F19 -> 34250 | H19: 2000 | P19: =SUM(H19:O19) -> 2000 | R19: =SUM(P19:Q19) -> 2000
A20: 26 | B20: 710 | C20: 4620 | D20: מצלמות דרך לכלל רכבי העירייה | E20: 210 | F20: =R20 -> 220 | G20: =E20+F20 -> 430 | H20: 220 | P20: =SUM(H20:O20) -> 220 | R20: =SUM(P20:Q20) -> 220
B21: סה"כ תברואה | E21: =SUBTOTAL(9,E8:E20) -> 62735 | F21: =SUBTOTAL(9,F8:F20) -> 8920 | G21: =SUBTOTAL(9,G8:G20) -> 71655 | H21: =SUBTOTAL(9,H8:H20) -> 5460 | I21: =SUBTOTAL(9,I8:I20) -> 0 | J21: =SUBTOTAL(9,J8:J20) -> 0 | K21: =SUBTOTAL(9,K8:K20) -> 0 | L21: =SUBTOTAL(9,L8:L20) -> 0 | ... R21: =SUBTOTAL(9,R8:R20) -> 8920
A22: 6 | B22: 721 | C22: 4174 | D22: יחידת חילוץ | E22: 677.1 | F22: =R22 -> 50 | G22: =E22+F22 -> 727.1 | H22: 50 | P22: =SUM(H22:O22) -> 50 | R22: =SUM(P22:Q22) -> 50
A23: 6 | B23: 721 | C23: 3614 | D23: שיקום מקלטים | E23: 8408 | F23: =R23 -> 200 | G23: =E23+F23 -> 8608 | H23: 200 | P23: =SUM(H23:O23) -> 200 | R23: =SUM(P23:Q23) -> 200
A24: 6 | B24: 721 | C24: 3871 | D24: שיפור ומיגון ביטחון | E24: 2923 | F24: =R24 -> 180 | G24: =E24+F24 -> 3103 | H24: 90 | P24: =SUM(H24:O24) -> 90 | Q24: 90 | R24: =SUM(P24:Q24) -> 180 | S24: משרד החינוך.
A25: 6 | B25: 721 | C25: 5026 | D25: תרגילי חירום | F25: =R25 -> 30 | G25: =E25+F25 -> 30 | H25: 30 | P25: =SUM(H25:O25) -> 30 | R25: =SUM(P25:Q25) -> 30
A26: 18 | B26: 721 | C26: 4404 | D26: שילוט וכריזה לניידות | E26: 132 | F26: =R26 -> 30 | G26: =E26+F26 -> 162 | H26: 30 | P26: =SUM(H26:O26) -> 30 | R26: =SUM(P26:Q26) -> 30
A27: 18 | B27: 721 | C27: 4175 | D27: הצטיידות לשיטור העירוני | E27: 1050 | F27: =R27 -> 170 | G27: =E27+F27 -> 1220 | K27: 170 | P27: =SUM(H27:O27) -> 170 | R27: =SUM(P27:Q27) -> 170 | S27: קרן שיטור.
A28: 18 | B28: 721 | C28: 5027 | D28: מדים לשיטור העירוני | F28: =R28 -> 145 | G28: =E28+F28 -> 145 | K28: 145 | P28: =SUM(H28:O28) -> 145 | R28: =SUM(P28:Q28) -> 145 | S28: קרן שיטור.
A29: 18 | B29: 721 | C29: 5028 | D29: מערכות אכיפה דיגיטליות לאכיפת חוקי העזר | F29: =R29 -> 1200 | G29: =E29+F29 -> 1200 | O29: 1200 | P29: =SUM(H29:O29) -> 1200 | R29: =SUM(P29:Q29) -> 1200
A30: 21 | B30: 721 | C30: 4818 | D30: מצלמות ברחבי העיר | E30: 7700 | F30: =R30 -> 5000 | G30: =E30+F30 -> 12700 | O30: 5000 | P30: =SUM(H30:O30) -> 5000 | R30: =SUM(P30:Q30) -> 5000
A31: 31 | B31: 721 | C31: 3988 | D31: הצטיידות שיטור עירוני כנגד פחת ל-3 שנים | E31: 320 | F31: =R31 -> 78 | G31: =E31+F31 -> 398 | K31: 78 | P31: =SUM(H31:O31) -> 78 | R31: =SUM(P31:Q31) -> 78 | S31: העברה מתקציב רגיל.
A32: 31 | B32: 721 | C32: 3990 | D32: הצטיידות שיטור עירוני כנגד פחת ל- 5 שנים | E32: 289 | F32: =R32 -> 150 | G32: =E32+F32 -> 439 | K32: 150 | P32: =SUM(H32:O32) -> 150 | R32: =SUM(P32:Q32) -> 150 | S32: העברה מתקציב רגיל.
A33: 31 | B33: 721 | C33: 3991 | D33: הצטיידות שיטור עירוני כנגד פחת ל- 10 שנים | E33: 127 | F33: =R33 -> 19 | G33: =E33+F33 -> 146 | K33: 19 | P33: =SUM(H33:O33) -> 19 | R33: =SUM(P33:Q33) -> 19 | S33: העברה מתקציב רגיל.
A34: 31 | B34: 721 | C34: 3992 | D34: מצלמות שיטור עירוני כנגד פחת 6.666 שנים | E34: 2200 | F34: =R34 -> 150 | G34: =E34+F34 -> 2350 | K34: 150 | P34: =SUM(H34:O34) -> 150 | R34: =SUM(P34:Q34) -> 150 | S34: העברה מתקציב רגיל.
B35: סה"כ בטחון | E35: =SUBTOTAL(9,E22:E34) -> 23826.1 | F35: =SUBTOTAL(9,F22:F34) -> 7402 | G35: =SUBTOTAL(9,G22:G34) -> 31228.1 | H35: =SUBTOTAL(9,H22:H34) -> 400 | I35: =SUBTOTAL(9,I22:I34) -> 0 | J35: =SUBTOTAL(9,J22:J34) -> 0 | K35: =SUBTOTAL(9,K22:K34) -> 712 | L35: =SUBTOTAL(9,L22:L34) -> 0 | ... R35: =SUBTOTAL(9,R22:R34) -> 7402
A36: 3 | B36: 735 | C36: 4826 | D36: הטמעת וליווי תהליכים | E36: 100 | F36: =R36 -> 36 | G36: =E36+F36 -> 136 | H36: 36 | P36: =SUM(H36:O36) -> 36 | R36: =SUM(P36:Q36) -> 36
A37: 3 | B37: 735 | C37: 5029 | D37: בוחן היתרים חיצוני | F37: =R37 -> 424 | G37: =E37+F37 -> 424 | H37: 424 | P37: =SUM(H37:O37) -> 424 | R37: =SUM(P37:Q37) -> 424
A38: 8 | B38: 735 | C38: 4923 | D38: יישום מדיניות ג'סי כהן והמרכזים רב תפקודיים | F38: =R38 -> 200 | G38: =E38+F38 -> 200 | H38: 200 | P38: =SUM(H38:O38) -> 200 | R38: =SUM(P38:Q38) -> 200
A39: 8 | B39: 735 | C39: 4820 | D39: תכנית אב לשטחים פתוחים | E39: 500 | F39: =R39 -> 120 | G39: =E39+F39 -> 620 | H39: 120 | P39: =SUM(H39:O39) -> 120 | R39: =SUM(P39:Q39) -> 120
A40: 8 | B40: 735 | C40: 5030 | D40: בלוק הלהב | F40: =R40 -> 1750 | G40: =E40+F40 -> 1750 | K40: 1750 | P40: =SUM(H40:O40) -> 1750 | R40: =SUM(P40:Q40) -> 1750 | S40: קרן תב"עות.
A41: 12 | B41: 735 | C41: 3061 | D41: מבנים מסוכנים-הנדסה | E41: 19508 | F41: =R41 -> 2000 | G41: =E41+F41 -> 21508 | H41: 2000 | P41: =SUM(H41:O41) -> 2000 | R41: =SUM(P41:Q41) -> 2000
A42: 27 | B42: 735 | C42: 3953 | D42: מנהלת להתחדשות עירונית | E42: 7605 | F42: =R42 -> 1745 | G42: =E42+F42 -> 9350 | H42: 1745 | P42: =SUM(H42:O42) -> 1745 | R42: =SUM(P42:Q42) -> 1745
A43: 27 | B43: 735 | C43: 4925 | D43: מנהלת הסכם הגג | E43: 1500 | F43: =R43 -> 1500 | G43: =E43+F43 -> 3000 | H43: 1500 | P43: =SUM(H43:O43) -> 1500 | R43: =SUM(P43:Q43) -> 1500 | S43: שינוי שם תב"ר במקום השם הקודם: "תכנון מינהל הסכם גג".
B44: סה"כ הנדסה | E44: =SUBTOTAL(9,E36:E43) -> 29213 | F44: =SUBTOTAL(9,F36:F43) -> 7775 | G44: =SUBTOTAL(9,G36:G43) -> 36988 | H44: =SUBTOTAL(9,H36:H43) -> 6025 | I44: =SUBTOTAL(9,I36:I43) -> 0 | J44: =SUBTOTAL(9,J36:J43) -> 0 | K44: =SUBTOTAL(9,K36:K43) -> 1750 | L44: =SUBTOTAL(9,L36:L43) -> 0 | ... R44: =SUBTOTAL(9,R36:R43) -> 7775
A45: 10 | B45: 742 | C45: 3205 | D45: עבודות פיתוח א.ת. | E45: 16700 | F45: =R45 -> 200 | G45: =E45+F45 -> 16900 | J45: 200 | P45: =SUM(H45:O45) -> 200 | R45: =SUM(P45:Q45) -> 200
A46: 10 | B46: 742 | C46: 3316 | D46: עבודות לטיפול מיוחד במחלף חולון מזרח | E46: 3650 | F46: =R46 -> 250 | G46: =E46+F46 -> 3900 | J46: 250 | P46: =SUM(H46:O46) -> 250 | R46: =SUM(P46:Q46) -> 250
A47: 17 | B47: 742 | C47: 2722 | D47: ביצוע החלטות וועדות תנועה | E47: 19960 | F47: =R47 -> 1000 | G47: =E47+F47 -> 20960 | J47: 1000 | P47: =SUM(H47:O47) -> 1000 | R47: =SUM(P47:Q47) -> 1000
A48: 17 | B48: 742 | C48: 3207 | D48: שיפור תקינות המדרכות בעיר שנפגעו משורשי עצים | E48: 9199 | F48: =R48 -> 250 | G48: =E48+F48 -> 9449 | J48: 250 | P48: =SUM(H48:O48) -> 250 | R48: =SUM(P48:Q48) -> 250
A49: 17 | B49: 742 | C49: 4732 | D49: צביעת שבילי אופניים | E49: 450 | F49: =R49 -> 150 | G49: =E49+F49 -> 600 | J49: 150 | P49: =SUM(H49:O49) -> 150 | R49: =SUM(P49:Q49) -> 150
A50: 17 | B50: 742 | C50: 4830 | D50: סימון חניות כחול לבן | E50: 5000 | F50: =R50 -> 1600 | G50: =E50+F50 -> 6600 | J50: 1600 | P50: =SUM(H50:O50) -> 1600 | R50: =SUM(P50:Q50) -> 1600
A51: 17 | B51: 742 | C51: 2585 | D51: קירצוף וריבוד כבישים | E51: 41936.893 | F51: =R51 -> 39000 | G51: =E51+F51 -> 80936.893 | J51: 39000 | P51: =SUM(H51:O51) -> 39000 | R51: =SUM(P51:Q51) -> 39000 | S51: שינוי שם תב"ר במקום השם הקודם:"ציפוי כבישים".
A52: 17 | B52: 742 | C52: 2723 | D52: הנמכות לנכים | E52: 2700 | F52: =R52 -> 100 | G52: =E52+F52 -> 2800 | J52: 100 | P52: =SUM(H52:O52) -> 100 | R52: =SUM(P52:Q52) -> 100
A53: 17 | B53: 742 | C53: 3459 | D53: פיתוח תשתיות בח 370/4 | E53: 37200 | F53: =R53 -> 5500 | G53: =E53+F53 -> 42700 | O53: 5500 | P53: =SUM(H53:O53) -> 5500 | R53: =SUM(P53:Q53) -> 5500 | S53: שינוי שם תב"ר במקום השם הקודם: "ח' 370/4".
A54: 17 | B54: 742 | C54: 3862 | D54: רכישת סככות אוטובוס | E54: 1688 | F54: =R54 -> 210 | G54: =E54+F54 -> 1898 | J54: 210 | P54: =SUM(H54:O54) -> 210 | R54: =SUM(P54:Q54) -> 210
A55: 17 | B55: 742 | C55: 3878 | D55: הנגשת צמתים ומעברי חצייה | E55: 26100 | F55: =R55 -> 250 | G55: =E55+F55 -> 26350 | J55: 250 | P55: =SUM(H55:O55) -> 250 | R55: =SUM(P55:Q55) -> 250
A56: 17 | B56: 742 | C56: 4437 | D56: ניהול ובקרת פרוייקטים לאומיים | E56: 2203 | F56: =R56 -> 400 | G56: =E56+F56 -> 2603 | J56: 400 | P56: =SUM(H56:O56) -> 400 | R56: =SUM(P56:Q56) -> 400
A57: 17 | B57: 742 | C57: 4474 | D57: פיקוח עירוני על קבלני מהיר לעיר | E57: 424 | F57: =R57 -> 250 | G57: =E57+F57 -> 674 | J57: 250 | P57: =SUM(H57:O57) -> 250 | R57: =SUM(P57:Q57) -> 250
A58: 17 | B58: 742 | C58: 4834 | D58: מיסוד כניסה מזרחית לח-370/4 | E58: 1600 | F58: =R58 -> 5000 | G58: =E58+F58 -> 6600 | O58: 5000 | P58: =SUM(H58:O58) -> 5000 | R58: =SUM(P58:Q58) -> 5000
A59: 17 | B59: 742 | C59: 4902 | D59: פיקוח בטיחות תשתיות בציר בתוואי הרק"ל | E59: 250 | F59: =R59 -> 230 | G59: =E59+F59 -> 480 | J59: 230 | P59: =SUM(H59:O59) -> 230 | R59: =SUM(P59:Q59) -> 230
A60: 17 | B60: 742 | C60: 5031 | D60: סקר מיסעות | F60: =R60 -> 111 | G60: =E60+F60 -> 111 | J60: 111 | P60: =SUM(H60:O60) -> 111 | R60: =SUM(P60:Q60) -> 111
A61: 17 | B61: 742 | C61: 5032 | D61: חניונים ציבוריים זמניים | F61: =R61 -> 2000 | G61: =E61+F61 -> 2000 | L61: 2000 | P61: =SUM(H61:O61) -> 2000 | R61: =SUM(P61:Q61) -> 2000
A62: 27 | B62: 742 | C62: 4185 | D62: תכנון כלכלי אסטרטגי לעיר ולאזור התעשייה | E62: 500 | F62: =R62 -> 400 | G62: =E62+F62 -> 900 | J62: 350 | O62: 50 | P62: 400 | R62: =SUM(P62:Q62) -> 400
B63: סה"כ דרכים | E63: =SUBTOTAL(9,E45:E62) -> 169560.89 | F63: =SUBTOTAL(9,F45:F62) -> 56901 | G63: =SUBTOTAL(9,G45:G62) -> 226461.89 | H63: =SUBTOTAL(9,H45:H62) -> 0 | J63: =SUBTOTAL(9,J45:J62) -> 44351 | K63: =SUBTOTAL(9,K45:K62) -> 0 | L63: =SUBTOTAL(9,L45:L62) -> 2000 | M63: =SUBTOTAL(9,M45:M62) -> 0 | N63: =SUBTOTAL(9,N45:N62) -> 0 | O63: =SUBTOTAL(9,O45:O62) -> 10550 | P63: =SUBTOTAL(9,P45:P62) -> 56901 | Q63: =SUBTOTAL(9,Q45:Q62) -> 0 | R63: =SUBTOTAL(9,R45:R62) -> 56901
A64: 17 | B64: 743 | C64: 2484 | D64: תאורה במקומות שונים | E64: 5709 | F64: =R64 -> 250 | G64: =E64+F64 -> 5959 | J64: 250 | P64: =SUM(H64:O64) -> 250 | R64: =SUM(P64:Q64) -> 250
A65: 17 | B65: 743 | C65: 4140 | D65: התייעלות אנרגטית- החלפת גופי תאורה | E65: 53606.403 | F65: =R65 -> 4500 | G65: =E65+F65 -> 58106.403 | J65: 4500 | P65: =SUM(H65:O65) -> 4500 | R65: =SUM(P65:Q65) -> 4500
A66: 17 | B66: 743 | C66: 4450 | D66: סקר, בדיקות והחלפת עמודי תאורה קורוזיביים ברחבי העיר חולון | E66: 6950 | F66: =R66 -> 1500 | G66: =E66+F66 -> 8450 | J66: 1500 | P66: =SUM(H66:O66) -> 1500 | R66: =SUM(P66:Q66) -> 1500
B67: סה"כ תאורה | E67: =SUBTOTAL(9,E64:E66) -> 66265.403 | F67: =SUBTOTAL(9,F64:F66) -> 6250 | G67: =SUBTOTAL(9,G64:G66) -> 72515.403 | H67: =SUBTOTAL(9,H64:H66) -> 0 | I67: =SUBTOTAL(9,I64:I66) -> 0 | J67: =SUBTOTAL(9,J64:J66) -> 6250 | K67: =SUBTOTAL(9,K64:K66) -> 0 | L67: =SUBTOTAL(9,L64:L66) -> 0 | ... R67: =SUBTOTAL(9,R64:R66) -> 6250
A68: 1 | B68: 744 | C68: 2851 | D68: עדכוני רמזורים | E68: 3200 | F68: =R68 -> 50 | G68: =E68+F68 -> 3250 | J68: 50 | P68: =SUM(H68:O68) -> 50 | R68: =SUM(P68:Q68) -> 50
A69: 1 | B69: 744 | C69: 3303 | D69: שיפור והתאמת רמזורים | E69: 2870 | F69: =R69 -> 100 | G69: =E69+F69 -> 2970 | J69: 100 | P69: =SUM(H69:O69) -> 100 | R69: =SUM(P69:Q69) -> 100
A70: 1 | B70: 744 | C70: 3816 | D70: סימון נת"צים בחולון | E70: 460 | F70: =R70 -> 100 | G70: =E70+F70 -> 560 | J70: 100 | P70: =SUM(H70:O70) -> 100 | R70: =SUM(P70:Q70) -> 100
A71: 1 | B71: 744 | C71: 3965 | D71: תכנון ופיקוח עליון על הסדרי תנועה זמניים | E71: 150 | F71: =R71 -> 700 | G71: =E71+F71 -> 850 | J71: 65.35 | O71: 634.65 | P71: =SUM(H71:O71) -> 700 | R71: =SUM(P71:Q71) -> 700 | S71: שינוי שם תב"ר במקום השם הקודם: "פיקוח עליון על הסדרי תנועה זמניים".
A72: 1 | B72: 744 | C72: 4048 | D72: חיבור מרכזיות רמזורים | E72: 1620 | F72: =R72 -> 100 | G72: =E72+F72 -> 1720 | J72: 100 | P72: =SUM(H72:O72) -> 100 | R72: =SUM(P72:Q72) -> 100
A73: 1 | B73: 744 | C73: 5033 | D73: הקמת רמזור ברחוב הופיין-זלמן ארן | F73: =R73 -> 1500 | G73: =E73+F73 -> 1500 | J73: 1500 | P73: =SUM(H73:O73) -> 1500 | R73: =SUM(P73:Q73) -> 1500
A74: 17 | B74: 744 | C74: 3886 | D74: עב' בטיחות בדרכים | E74: 10902 | F74: =R74 -> 1600 | G74: =E74+F74 -> 12502 | J74: 1600 | P74: =SUM(H74:O74) -> 1600 | R74: =SUM(P74:Q74) -> 1600
A75: 17 | B75: 744 | C75: 4272 | D75: שדרוג מעקות בטיחות וגדרות ישנים ובלויים | E75: 400 | F75: =R75 -> 100.25 | G75: =E75+F75 -> 500.25 | J75: 100.25 | P75: =SUM(H75:O75) -> 100.25 | R75: =SUM(P75:Q75) -> 100.25
B76: סה"כ בטיחות בדרכים | E76: =SUBTOTAL(9,E68:E75) -> 19602 | F76: =SUBTOTAL(9,F68:F75) -> 4250.25 | G76: =SUBTOTAL(9,G68:G75) -> 23852.25 | H76: =SUBTOTAL(9,H68:H75) -> 0 | I76: =SUBTOTAL(9,I68:I75) -> 0 | J76: =SUBTOTAL(9,J68:J75) -> 3615.6 | K76: =SUBTOTAL(9,K68:K75) -> 0 | L76: =SUBTOTAL(9,L68:L75) -> 0 | ... R76: =SUBTOTAL(9,R68:R75) -> 4250.25
A77: 17 | B77: 745 | C77: 2121 | D77: גשמי ברכה | E77: 9620 | F77: =R77 -> -800 | G77: =E77+F77 -> 8820 | I77: -800 | P77: =SUM(H77:O77) -> -800 | R77: =SUM(P77:Q77) -> -800 | S77: העברה לתב"ר 3744.
A78: 17 | B78: 745 | C78: 3744 | D78: תוספת קולטנים ושיפורים של מערכת התיעול | E78: 13175.72 | F78: =R78 -> 2000 | G78: =E78+F78 -> 15175.72 | I78: 2000 | P78: =SUM(H78:O78) -> 2000 | R78: =SUM(P78:Q78) -> 2000 | S78: 800 א' העברה מתב"ר 2121.
A79: 17 | B79: 745 | C79: 4989 | D79: החלפת רשתות וקולטנים | E79: 750 | F79: =R79 -> 500 | G79: =E79+F79 -> 1250 | I79: 500 | P79: =SUM(H79:O79) -> 500 | R79: =SUM(P79:Q79) -> 500
A80: 17 | B80: 745 | C80: 3332 | D80: סקר כולל שטיפה וצילום קווים ע"פ תכנית | E80: 14104 | F80: =R80 -> 1500 | G80: =E80+F80 -> 15604 | I80: 1500 | P80: =SUM(H80:O80) -> 1500 | R80: =SUM(P80:Q80) -> 1500
A81: 17 | B81: 745 | C81: 4367 | D81: התותחנים (אצ"ל-לבנים-קטע צפוני) | E81: 1100 | F81: =R81 -> 1000 | G81: =E81+F81 -> 2100 | I81: 1000 | P81: =SUM(H81:O81) -> 1000 | R81: =SUM(P81:Q81) -> 1000
A82: 17 | B82: 745 | C82: 4482 | D82: רח' הסיגלון | E82: 1300 | F82: =R82 -> 600 | G82: =E82+F82 -> 1900 | I82: 600 | P82: =SUM(H82:O82) -> 600 | R82: =SUM(P82:Q82) -> 600
A83: 17 | B83: 745 | C83: 4936 | D83: רח' אצ"ל ולח"י | F83: =R83 -> 340 | G83: =E83+F83 -> 340 | I83: 340 | P83: =SUM(H83:O83) -> 340 | R83: =SUM(P83:Q83) -> 340
A84: 17 | B84: 745 | C84: 4937 | D84: רח' מקלף | F84: =R84 -> 200 | G84: =E84+F84 -> 200 | I84: 200 | P84: =SUM(H84:O84) -> 200 | R84: =SUM(P84:Q84) -> 200
A85: 17 | B85: 745 | C85: 4943 | D85: ראש פינה ניקוז | F85: =R85 -> 600 | G85: =E85+F85 -> 600 | I85: 600 | P85: =SUM(H85:O85) -> 600 | R85: =SUM(P85:Q85) -> 600
B86: סה"כ תיעול | E86: =SUBTOTAL(9,E77:E85) -> 40049.72 | F86: =SUBTOTAL(9,F77:F85) -> 5940 | G86: =SUBTOTAL(9,G77:G85) -> 45989.72 | H86: =SUBTOTAL(9,H77:H85) -> 0 | I86: =SUBTOTAL(9,I77:I85) -> 5940 | J86: =SUBTOTAL(9,J77:J85) -> 0 | K86: =SUBTOTAL(9,K77:K85) -> 0 | L86: =SUBTOTAL(9,L77:L85) -> 0 | ... R86: =SUBTOTAL(9,R77:R85) -> 5940
A87: 7 | B87: 746 | C87: 2932 | D87: סככות הצללה | E87: 8000 | F87: =R87 -> 450 | G87: =E87+F87 -> 8450 | H87: 289.75 | M87: 160.25 | P87: =SUM(H87:O87) -> 450 | R87: =SUM(P87:Q87) -> 450
A88: 7 | B88: 746 | C88: 3254 | D88: שיקום תשתיות בגנים שונים | E88: 17031.89 | F88: =R88 -> 300 | G88: =E88+F88 -> 17331.89 | M88: 300 | P88: =SUM(H88:O88) -> 300 | R88: =SUM(P88:Q88) -> 300
A89: 7 | B89: 746 | C89: 3399 | D89: מתקני כושר בגנים | E89: 5450 | F89: =R89 -> 1300 | G89: =E89+F89 -> 6750 | M89: 1300 | P89: =SUM(H89:O89) -> 1300 | R89: =SUM(P89:Q89) -> 1300
A90: 7 | B90: 746 | C90: 3471 | D90: תכנון כללי בגינון והפעלת יועצים | E90: 4674 | F90: =R90 -> 250 | G90: =E90+F90 -> 4924 | M90: 250 | P90: =SUM(H90:O90) -> 250 | R90: =SUM(P90:Q90) -> 250
A91: 7 | B91: 746 | C91: 3474 | D91: מתקני משחק מסוגים שונים | E91: 11500 | F91: =R91 -> 2000 | G91: =E91+F91 -> 13500 | O91: 2000 | P91: =SUM(H91:O91) -> 2000 | R91: =SUM(P91:Q91) -> 2000
A92: 7 | B92: 746 | C92: 3539 | D92: גינון והשקיה ברחבי העיר | E92: 6200 | F92: =R92 -> 500 | G92: =E92+F92 -> 6700 | M92: 500 | P92: =SUM(H92:O92) -> 500 | R92: =SUM(P92:Q92) -> 500
A93: 7 | B93: 746 | C93: 3753 | D93: שיקום איי תנועה | E93: 4912 | F93: =R93 -> 3000 | G93: =E93+F93 -> 7912 | J93: 1000 | O93: 2000 | P93: =SUM(H93:O93) -> 3000 | R93: =SUM(P93:Q93) -> 3000
A94: 7 | B94: 746 | C94: 3828 | D94: התקנת דשא סינטטי בגנים | E94: 2200 | F94: =R94 -> 550 | G94: =E94+F94 -> 2750 | H94: 507 | M94: 43 | P94: =SUM(H94:O94) -> 550 | R94: =SUM(P94:Q94) -> 550
A95: 7 | B95: 746 | C95: 3891 | D95: רכישות חד פעמיות | E95: 458 | F95: =R95 -> 90 | G95: =E95+F95 -> 548 | M95: 90 | P95: =SUM(H95:O95) -> 90 | R95: =SUM(P95:Q95) -> 90
A96: 7 | B96: 746 | C96: 3892 | D96: הנגשה ע"פ תוכנית הנגישות | E96: 16675 | F96: =R96 -> 20000 | G96: =E96+F96 -> 36675 | K96: 3900 | O96: 16100 | P96: =SUM(H96:O96) -> 20000 | R96: =SUM(P96:Q96) -> 20000
A97: 7 | B97: 746 | C97: 4059 | D97: דילול שיחיות ושיקום נופי | E97: 10600 | F97: =R97 -> 500 | G97: =E97+F97 -> 11100 | M97: 500 | P97: =SUM(H97:O97) -> 500 | R97: =SUM(P97:Q97) -> 500
A98: 7 | B98: 746 | C98: 4200 | D98: גינות כלבים | E98: 1545 | F98: =R98 -> 300 | G98: =E98+F98 -> 1845 | M98: 300 | P98: =SUM(H98:O98) -> 300 | R98: =SUM(P98:Q98) -> 300
A99: 7 | B99: 746 | C99: 4335 | D99: פרוייקט אופנידן | E99: 19052 | F99: =R99 -> 2200 | G99: =E99+F99 -> 21252 | M99: 2200 | P99: =SUM(H99:O99) -> 2200 | R99: =SUM(P99:Q99) -> 2200
A100: 7 | B100: 746 | C100: 4572 | D100: פארק בשכונת ח 370/4 | E100: 10650 | F100: =R100 -> 9000 | G100: =E100+F100 -> 19650 | K100: 3800 | M100: 5200 | P100: =SUM(H100:O100) -> 9000 | R100: =SUM(P100:Q100) -> 9000
A101: 7 | B101: 746 | C101: 4664 | D101: התמודדות עם משבר האקלים-נטיעות עצים | E101: 1250 | F101: =R101 -> 300 | G101: =E101+F101 -> 1550 | M101: 300 | P101: =SUM(H101:O101) -> 300 | R101: =SUM(P101:Q101) -> 300
...
