Workbook
Name Print_Area_MI: #REF!
Name Print_Titles_MI: #REF!
Name כככ: #REF!
Name לדני: #REF!

Sheet מסגרת
C2: עיריית חולון
C5: HOLON MUNICIPALITY
C7: מנהל הגזברות | F7: 45992
A8: לכבוד:
A9: ראש העיר
A10: מר שי קינן
B12: א.נ,
C13: הנדון: תקציב הפיתוח לשנת 2026
A14: אודה לך על הגשה לאישור המועצה את הנושאים הבאים:
A15: . 1 | B15: מסגרת תקציב הפיתוח לשנת 2026 בהתאם לפירוט הבא:
A17: תמצית תקציב רגיל (חלק פיתוח) של עיריית חולון לשנת כספים 2026.
C19: לפי פקודת העיריות
A21: בהתאם לסעיף 209 לפקודת העיריות (1), (להלן הפקודה), אני מודיע בתוקף הסמכות לפי סעיפים 206 ו- 207
A22: לפקודת העיריות שהועברה אלי (2), אישרתי תקציב רגיל (חלק פיתוח) של עיריית חולון
A23: לשנת התקציב 2026 שתמציתו להלן:
A25: שם הרשות המקומית עיריית חולון | D25: תאריך אישור במועצה
A27: מספר הרשות המקומית 26600 | D27: תאריך אישור במשרד הפנים
A29: סעיף | B29: תקבולים | C29: תקציב 2026 | D29: סעיף | E29: תשלומים | F29: תקציב 2026
A30: 510 | B30: הקצבה מתקציב רגיל | D30: 61 | E30: מינהל כללי
A32: 521 | B32: סך הכל השתתפות בעלים | C32: =SUM(C34:C42) -> 67200 | D32: 62 | E32: מינהל כספי
A34: 521.01 | B34: היטל סלילת כבישים | C34: 48700 | D34: 63 | E34: הוצאות מימון
A36: 521.02 | B36: היטל ביוב | D36: 64 | E36: פרעון מלוות
A38: 521.03 | B38: היטלי מים | D38: 71 | E38: תברואה | F38: ='2026'!F21 -> 8920
A40: 521.04 | B40: היטל תיעול | C40: 4000 | D40: 72 | E40: שמירה ובטחון | F40: ='2026'!F35 -> 7402
A42: 521.99 | B42: היטל שצ"פ | C42: =7000+7500 -> 14500 | D42: 73 | E42: תכנון ובנין עיר | F42: ='2026'!F44 -> 7775
A44: 522 | B44: סך הכל השתתפות ממשלה | C44: =SUM(C46:C56) -> 18972.78 | D44: 74 | E44: נכסים ציבוריים | F44: ='2026'!F63+'2026'!F67+'2026'!F76+'2026'!F86+'2026'!F115 -> 137871.25
A46: 522.06 | B46: משרד הפנים * | D46: 75 | E46: חגיגות ומבצעים
A48: 522.2 | B48: משרד החינוך | C48: ='2026'!Q24+'2026'!Q128+'2026'!Q132+'2026'!Q145+'2026'!Q215 -> 18450.28 | D48: 76 | E48: שרותים עירוניים שונים | F48: ='2026'!F117 -> 1000
A50: 522.29 | B50: משרד הבינוי והשיכון | D50: 77 | E50: פיתוח כלכלי
A52: 522.37 | B52: משרד התיירות | D52: 78 | E52: פיקוח עירוני
A54: 522.4 | B54: משרד התחבורה | D54: 79 | E54: שרותים חקלאיים
H55: =C55 -> 0
A56: 522.99 | B56: משרדים אחרים (1) | C56: ='2026'!Q186 -> 522.5 | D56: 81 | E56: חינוך | F56: ='2026'!F126+'2026'!F133+'2026'!F147 -> 37054.28
A58: 523 | B58: סך הכל השתתפות מוסדות ותרומות | C58: =SUM(C60:C72) -> 42771 | D58: 82 | E58: תרבות | F58: ='2026'!F166+'2026'!F171+'2026'!F187 -> 28695
A60: 523.05 | B60: קרן קיימת לישראל | D60: 83 | E60: בריאות
A62: 523.07 | B62: מפעל הפיס | C62: ='2026'!Q176+'2026'!Q214 -> 41600 | D62: 84 | E62: רווחה | F62: ='2026'!F195 -> 281
A64: 523.1 | B64: מועצה להסדר ההימורים בספורט | D64: 85 | E64: דת | F64: ='2026'!F197 -> 0
A66: 523.25 | B66: הסוכנות היהודית | D66: 86 | E66: קליטת עליה
A68: 523.98 | B68: הכנסות שונות (2) | C68: ='2026'!Q140+'2026'!Q141 -> 1171 | D68: 87 | E68: איכות הסביבה
A70: 523.99 | B70: מוסדות אחרים | D70: 91 | E70: מים
...

Sheet המשך מסגרת 
H3: עיריית חולון
H5: HOLON MUNICIPALITY
H7: מנהל הגזברות
A11: הערות (1) | B11: משרד התרבות והספורט.
A12: הערות (2) | B12: הכנסות מבי"ס.
A13: הערות (3) | B13: קרן כללית 3.2 מלש"ח ויתרות בקרנות: תקציב רגיל 0.397 מלש"ח,קרן מכירת נכסים 7.5 מלש"ח,
B14: קרן כללית 4.5 מלש"ח, קרן שצ"פ 7 מלש"ח, קרן חניה 2 מלש"ח, קרן שיטור עירוני 0.315 מלש"ח,
B15: קרן כביש 22 מלש"ח, קרן תיעול 1.94 מלש"ח, 1.75 מלש"ח קרן תב"עות.
A16: הערות (4) | B16: תשלומים לא רגילים מורכבים מ- 43,555 אלש"ח העברה לתקציב הרגיל לכיסוי מלוות ,
B17: 24,397 אלש"ח לכיסוי הוצאות למינהל ההנדסה.
A19: . 2 | B19: טבלה מפורטת עם רשימת פרוייקטים חדשים וכאלה הזקוקים לעדכון לשנת 2026.
A21: . 4 | B21: במידה וההכנסות מקרנות הרשות יהיו גבוהות מעל הצפי שתוקצב, ההלוואות לא ילקחו ובמקומם
B22: התב"רים ימומנו מתקציבי קרנות הרשות.
A25: הריני לאשר כי התקציב המוגש למועצה יהיה מאוזן ובר ביצוע והתב"רים יאושרו לביצוע בהתאם להכנסות העירייה.
N30: בברכה,
N32: קרן משלניק
N33: גזברית העירייה

Sheet 2026
B1: תוכנית הפיתוח לשנת 2026
A3: מס"ד | B3: פרק | C3: מספר תב"ר | D3: הפרוייקט | E3: מאושר ע"י המועצה | F3: תקציב נדרש 2026 | G3: תקציב מאושר ע"י מועצה+נדרש 2026 | H3: מקורות מימון 2026 | S3: הערות
H4: השבחה | I4: בעלים תיעול | J4: בעלים כביש | K4: קרן כללית | L4: קרן חניה | M4: שצ"פ | N4: מכירת רכוש | O4: הלוואות | P4: מקורות עצמיים | Q4: חיצוני | R4: סה"כ 2026
D5: העברה לרגיל- מילוות | F5: =R5 -> 43555 | G5: =E5+F5 -> 43555 | H5: 28071.6 | J5: 15483.4 | P5: =SUM(H5:N5) -> 43555 | R5: =SUM(P5:Q5) -> 43555
D6: העברה לרגיל- הנדסה | F6: =R6 -> 24397 | G6: =E6+F6 -> 24397 | H6: 24397 | P6: =SUM(H6:N6) -> 24397 | R6: =SUM(P6:Q6) -> 24397
B7: העברה לתקציב הרגיל סה"כ | E7: =SUBTOTAL(9,E5:E6) -> 0 | F7: =SUBTOTAL(9,F5:F6) -> 67952 | G7: =SUBTOTAL(9,G5:G6) -> 67952 | H7: =SUBTOTAL(9,H5:H6) -> 52468.6 | I7: =SUBTOTAL(9,I5:I6) -> 0 | J7: =SUBTOTAL(9,J5:J6) -> 15483.4 | K7: =SUBTOTAL(9,K5:K6) -> 0 | L7: =SUBTOTAL(9,L5:L6) -> 0 | ... R7: =SUBTOTAL(9,R5:R6) -> 67952
A8: 19 | B8: 710 | C8: 5024 | D8: הכנסת טכנ' לבקרה וניהול הפסולת | F8: =R8 -> 350 | G8: =E8+F8 -> 350 | H8: 350 | P8: =SUM(H8:O8) -> 350 | R8: =SUM(P8:Q8) -> 350
A9: 19 | B9: 710 | C9: 4163 | D9: החלפת והוספת כל כלי האצירה שבעיר | E9: 8750 | F9: =R9 -> 300 | G9: =E9+F9 -> 9050 | H9: 300 | P9: =SUM(H9:O9) -> 300 | R9: =SUM(P9:Q9) -> 300
A10: 19 | B10: 710 | C10: 4021 | D10: רכישת טמוני קרקע | E10: 11400 | F10: =R10 -> 1500 | G10: =E10+F10 -> 12900 | H10: 1500 | P10: =SUM(H10:O10) -> 1500 | R10: =SUM(P10:Q10) -> 1500
A11: 19 | B11: 710 | C11: 3450 | D11: רכישת כלי אצירה להפרדה לשני זרמים | E11: 3710 | F11: =R11 -> 200 | G11: =E11+F11 -> 3910 | H11: 200 | P11: =SUM(H11:O11) -> 200 | R11: =SUM(P11:Q11) -> 200
A12: 19 | B12: 710 | C12: 5025 | D12: רכישת דחסנים אטומים לריחות ונוזלים עם יחס דחיסה 1:6 | F12: =R12 -> 220 | G12: =E12+F12 -> 220 | H12: 220 | P12: =SUM(H12:O12) -> 220 | R12: =SUM(P12:Q12) -> 220
A13: 19 | B13: 710 | C13: 4351 | D13: רכש קרטוניות | E13: 780 | F13: =R13 -> 60 | G13: =E13+F13 -> 840 | H13: 60 | P13: =SUM(H13:O13) -> 60 | R13: =SUM(P13:Q13) -> 60
A14: 19 | B14: 710 | C14: 3451 | D14: רכישת סלי אשפה | E14: 4650 | F14: =R14 -> 100 | G14: =E14+F14 -> 4750 | H14: 100 | P14: =SUM(H14:O14) -> 100 | R14: =SUM(P14:Q14) -> 100
A15: 19 | B15: 710 | C15: 4622 | D15: מעצורים ומסתורי אשפה לכלי אצירה פחים | E15: 435 | F15: =R15 -> 300 | G15: =E15+F15 -> 735 | H15: 300 | P15: =SUM(H15:O15) -> 300 | R15: =SUM(P15:Q15) -> 300
A16: 19 | B16: 710 | C16: 4812 | D16: שיפוץ טמוני קרקע ומונחי קרקע | E16: 100 | F16: =R16 -> 150 | G16: =E16+F16 -> 250 | H16: 150 | P16: =SUM(H16:O16) -> 150 | R16: =SUM(P16:Q16) -> 150
A17: 19 | B17: 710 | C17: 4621 | D17: שדרוג תחנת מעבר | E17: 150 | F17: =R17 -> 3460 | G17: =E17+F17 -> 3610 | O17: 3460 | P17: =SUM(H17:O17) -> 3460 | R17: =SUM(P17:Q17) -> 3460
A18: 24 | B18: 710 | C18: 4457 | D18: יועץ לתכנון סביבתי | E18: 300 | F18: =R18 -> 60 | G18: =E18+F18 -> 360 | H18: 60 | P18: =SUM(H18:O18) -> 60 | R18: =SUM(P18:Q18) -> 60
A19: 26 | B19: 710 | C19: 2418 | D19: החלפת רכבים | E19: 32250 | F19: =R19 -> 2000 | G19: =E19+F19 -> 34250 | H19: 2000 | P19: =SUM(H19:O19) -> 2000 | R19: =SUM(P19:Q19) -> 2000
A20: 26 | B20: 710 | C20: 4620 | D20: מצלמות דרך לכלל רכבי העירייה | E20: 210 | F20: =R20 -> 220 | G20: =E20+F20 -> 430 | H20: 220 | P20: =SUM(H20:O20) -> 220 | R20: =SUM(P20:Q20) -> 220
B21: סה"כ תברואה | E21: =SUBTOTAL(9,E8:E20) -> 62735 | F21: =SUBTOTAL(9,F8:F20) -> 8920 | G21: =SUBTOTAL(9,G8:G20) -> 71655 | H21: =SUBTOTAL(9,H8:H20) -> 5460 | I21: =SUBTOTAL(9,I8:I20) -> 0 | J21: =SUBTOTAL(9,J8:J20) -> 0 | K21: =SUBTOTAL(9,K8:K20) -> 0 | L21: =SUBTOTAL(9,L8:L20) -> 0 | ... R21: =SUBTOTAL(9,R8:R20) -> 8920
A22: 6 | B22: 721 | C22: 4174 | D22: יחידת חילוץ | E22: 677.1 | F22: =R22 -> 50 | G22: =E22+F22 -> 727.1 | H22: 50 | P22: =SUM(H22:O22) -> 50 | R22: =SUM(P22:Q22) -> 50
A23: 6 | B23: 721 | C23: 3614 | D23: שיקום מקלטים | E23: 8408 | F23: =R23 -> 200 | G23: =E23+F23 -> 8608 | H23: 200 | P23: =SUM(H23:O23) -> 200 | R23: =SUM(P23:Q23) -> 200
A24: 6 | B24: 721 | C24: 3871 | D24: שיפור ומיגון ביטחון | E24: 2923 | F24: =R24 -> 180 | G24: =E24+F24 -> 3103 | H24: 90 | P24: =SUM(H24:O24) -> 90 | Q24: 90 | R24: =SUM(P24:Q24) -> 180 | S24: משרד החינוך.
A25: 6 | B25: 721 | C25: 5026 | D25: תרגילי חירום | F25: =R25 -> 30 | G25: =E25+F25 -> 30 | H25: 30 | P25: =SUM(H25:O25) -> 30 | R25: =SUM(P25:Q25) -> 30
A26: 18 | B26: 721 | C26: 4404 | D26: שילוט וכריזה לניידות | E26: 132 | F26: =R26 -> 30 | G26: =E26+F26 -> 162 | H26: 30 | P26: =SUM(H26:O26) -> 30 | R26: =SUM(P26:Q26) -> 30
A27: 18 | B27: 721 | C27: 4175 | D27: הצטיידות לשיטור העירוני | E27: 1050 | F27: =R27 -> 170 | G27: =E27+F27 -> 1220 | K27: 170 | P27: =SUM(H27:O27) -> 170 | R27: =SUM(P27:Q27) -> 170 | S27: קרן שיטור.
A28: 18 | B28: 721 | C28: 5027 | D28: מדים לשיטור העירוני | F28: =R28 -> 145 | G28: =E28+F28 -> 145 | K28: 145 | P28: =SUM(H28:O28) -> 145 | R28: =SUM(P28:Q28) -> 145 | S28: קרן שיטור.
A29: 18 | B29: 721 | C29: 5028 | D29: מערכות אכיפה דיגיטליות לאכיפת חוקי העזר | F29: =R29 -> 1200 | G29: =E29+F29 -> 1200 | O29: 1200 | P29: =SUM(H29:O29) -> 1200 | R29: =SUM(P29:Q29) -> 1200
A30: 21 | B30: 721 | C30: 4818 | D30: מצלמות ברחבי העיר | E30: 7700 | F30: =R30 -> 5000 | G30: =E30+F30 -> 12700 | O30: 5000 | P30: =SUM(H30:O30) -> 5000 | R30: =SUM(P30:Q30) -> 5000
A31: 31 | B31: 721 | C31: 3988 | D31: הצטיידות שיטור עירוני כנגד פחת ל-3 שנים | E31: 320 | F31: =R31 -> 78 | G31: =E31+F31 -> 398 | K31: 78 | P31: =SUM(H31:O31) -> 78 | R31: =SUM(P31:Q31) -> 78 | S31: העברה מתקציב רגיל.
A32: 31 | B32: 721 | C32: 3990 | D32: הצטיידות שיטור עירוני כנגד פחת ל- 5 שנים | E32: 289 | F32: =R32 -> 150 | G32: =E32+F32 -> 439 | K32: 150 | P32: =SUM(H32:O32) -> 150 | R32: =SUM(P32:Q32) -> 150 | S32: העברה מתקציב רגיל.
A33: 31 | B33: 721 | C33: 3991 | D33: הצטיידות שיטור עירוני כנגד פחת ל- 10 שנים | E33: 127 | F33: =R33 -> 19 | G33: =E33+F33 -> 146 | K33: 19 | P33: =SUM(H33:O33) -> 19 | R33: =SUM(P33:Q33) -> 19 | S33: העברה מתקציב רגיל.
A34: 31 | B34: 721 | C34: 3992 | D34: מצלמות שיטור עירוני כנגד פחת 6.666 שנים | E34: 2200 | F34: =R34 -> 150 | G34: =E34+F34 -> 2350 | K34: 150 | P34: =SUM(H34:O34) -> 150 | R34: =SUM(P34:Q34) -> 150 | S34: העברה מתקציב רגיל.
B35: סה"כ בטחון | E35: =SUBTOTAL(9,E22:E34) -> 23826.1 | F35: =SUBTOTAL(9,F22:F34) -> 7402 | G35: =SUBTOTAL(9,G22:G34) -> 31228.1 | H35: =SUBTOTAL(9,H22:H34) -> 400 | I35: =SUBTOTAL(9,I22:I34) -> 0 | J35: =SUBTOTAL(9,J22:J34) -> 0 | K35: =SUBTOTAL(9,K22:K34) -> 712 | L35: =SUBTOTAL(9,L22:L34) -> 0 | ... R35: =SUBTOTAL(9,R22:R34) -> 7402
A36: 3 | B36: 735 | C36: 4826 | D36: הטמעת וליווי תהליכים | E36: 100 | F36: =R36 -> 36 | G36: =E36+F36 -> 136 | H36: 36 | P36: =SUM(H36:O36) -> 36 | R36: =SUM(P36:Q36) -> 36
A37: 3 | B37: 735 | C37: 5029 | D37: בוחן היתרים חיצוני | F37: =R37 -> 424 | G37: =E37+F37 -> 424 | H37: 424 | P37: =SUM(H37:O37) -> 424 | R37: =SUM(P37:Q37) -> 424
A38: 8 | B38: 735 | C38: 4923 | D38: יישום מדיניות ג'סי כהן והמרכזים רב תפקודיים | F38: =R38 -> 200 | G38: =E38+F38 -> 200 | H38: 200 | P38: =SUM(H38:O38) -> 200 | R38: =SUM(P38:Q38) -> 200
A39: 8 | B39: 735 | C39: 4820 | D39: תכנית אב לשטחים פתוחים | E39: 500 | F39: =R39 -> 120 | G39: =E39+F39 -> 620 | H39: 120 | P39: =SUM(H39:O39) -> 120 | R39: =SUM(P39:Q39) -> 120
A40: 8 | B40: 735 | C40: 5030 | D40: בלוק הלהב | F40: =R40 -> 1750 | G40: =E40+F40 -> 1750 | K40: 1750 | P40: =SUM(H40:O40) -> 1750 | R40: =SUM(P40:Q40) -> 1750 | S40: קרן תב"עות.
A41: 12 | B41: 735 | C41: 3061 | D41: מבנים מסוכנים-הנדסה | E41: 19508 | F41: =R41 -> 2000 | G41: =E41+F41 -> 21508 | H41: 2000 | P41: =SUM(H41:O41) -> 2000 | R41: =SUM(P41:Q41) -> 2000
...
