Workbook

Sheet לעדכון ראובן
A1: כרטיס הנה"ח | B1: תאור | C1: הצעת תקציב 2013 | E1: ביצוע 2012 עד היום | F1: תקציב 2012 | G1: ביצוע 2011 | H1: ביצוע 2010
A2: [1] | B2: תקבולים
A3: [2] | B3: הכנסות לפני הנחות ארנונה וכיסוי גרעון נצבר
A4: [3] 10 | B4: ארנונה כללית
A5: 1111100100 | B5: ארנונה כללית | C5: =VLOOKUP(A5,#REF!,3,FALSE) -> #REF! | E5: =VLOOKUP(A5,'[1]תקציב 2012 נכון להיום'!$A$2:$E$1361,5,FALSE) -> 67773192 | F5: 89665000 | G5: 77454941 | H5: 75790667
A6: 1111200100 | B6: ארנונה כללית פיגורים | C6: =VLOOKUP(A6,#REF!,3,FALSE) -> #REF! | E6: =VLOOKUP(A6,'[1]תקציב 2012 נכון להיום'!$A$2:$E$1361,5,FALSE) -> 9168704 | F6: 10500000 | G6: 14886756 | H6: 12652936
A7: 1111300291 | B7: ארנונה השתתפות מטה אשר | C7: =VLOOKUP(A7,#REF!,3,FALSE) -> #REF! | E7: =VLOOKUP(A7,'[1]תקציב 2012 נכון להיום'!$A$2:$E$1361,5,FALSE) -> 206855.85 | F7: 500000 | G7: 380126.35 | H7: 361653
A8: 1111400100 | B8: ארנונה מרפאל | C8: =VLOOKUP(A8,#REF!,3,FALSE) -> #REF! | E8: =VLOOKUP(A8,'[1]תקציב 2012 נכון להיום'!$A$2:$E$1361,5,FALSE) -> 4666862 | F8: 4650000 | G8: 4573980.7 | H8: 4419695
C9: =VLOOKUP(A9,#REF!,3,FALSE) -> #REF!
A10: [3] 30 | B10: מפעל המים | C10: =VLOOKUP(A10,#REF!,3,FALSE) -> #REF!
A11: 1413100212 | B11: אגרת מים פיגורים | C11: =VLOOKUP(A11,#REF!,3,FALSE) -> #REF! | E11: =VLOOKUP(A11,'[1]תקציב 2012 נכון להיום'!$A$2:$E$1361,5,FALSE) -> 338191.83 | F11: 637000 | G11: 2909137.5 | H11: 2065786.1
C12: =VLOOKUP(A12,#REF!,3,FALSE) -> #REF!
C13: =VLOOKUP(A13,#REF!,3,FALSE) -> #REF!
A14: [4] 40 | B14: עצמיות חינוך | C14: =VLOOKUP(A14,#REF!,3,FALSE) -> #REF!
A15: 1312200440 | B15: חדר מלח מרכז לגיל הרך | C15: =VLOOKUP(A15,#REF!,3,FALSE) -> #REF! | E15: =VLOOKUP(A15,'[1]תקציב 2012 נכון להיום'!$A$2:$E$1361,5,FALSE) -> 18445 | F15: 0 | G15: 0 | H15: 0
A16: 1312200790 | B16: הגיל הרך-יעדים לצפון | C16: =VLOOKUP(A16,#REF!,3,FALSE) -> #REF! | E16: =VLOOKUP(A16,'[1]תקציב 2012 נכון להיום'!$A$2:$E$1361,5,FALSE) -> 0 | F16: 343460 | G16: 0 | H16: 188200
A17: 1312500440 | B17: פנימיות יום-גנ"י | C17: =VLOOKUP(A17,#REF!,3,FALSE) -> #REF! | E17: =VLOOKUP(A17,'[1]תקציב 2012 נכון להיום'!$A$2:$E$1361,5,FALSE) -> 627063 | F17: 932710 | G17: 960942.8 | H17: 640711
A18: 1312501440 | B18: הכנסות מהורים מילת | C18: =VLOOKUP(A18,#REF!,3,FALSE) -> #REF! | E18: =VLOOKUP(A18,'[1]תקציב 2012 נכון להיום'!$A$2:$E$1361,5,FALSE) -> 466243 | F18: 285000 | G18: 489055.8 | H18: 290900
A19: 1313201410 | B19: השתתפות אשלים | C19: =VLOOKUP(A19,#REF!,3,FALSE) -> #REF! | E19: =VLOOKUP(A19,'[1]תקציב 2012 נכון להיום'!$A$2:$E$1361,5,FALSE) -> 0 | F19: 50000 | G19: 0 | H19: 0
A20: 1313317410 | B20: ילדי חוץ | C20: =VLOOKUP(A20,#REF!,3,FALSE) -> #REF! | E20: =VLOOKUP(A20,'[1]תקציב 2012 נכון להיום'!$A$2:$E$1361,5,FALSE) -> 1163302 | F20: 1050000 | G20: 848711 | H20: 1128846.1
A21: 1315700700 | B21: השתתפות אורט מקיף ערבי | C21: =VLOOKUP(A21,#REF!,3,FALSE) -> #REF! | E21: =VLOOKUP(A21,'[1]תקציב 2012 נכון להיום'!$A$2:$E$1361,5,FALSE) -> 12000000 | F21: 12000000 | G21: 0 | H21: 0
A22: 1315777700 | B22: השתתפות אורט | C22: =VLOOKUP(A22,#REF!,3,FALSE) -> #REF! | E22: =VLOOKUP(A22,'[1]תקציב 2012 נכון להיום'!$A$2:$E$1361,5,FALSE) -> 16000000 | F22: 16000000 | G22: 0 | H22: 0
A23: 1315788700 | B23: השתתפות אמית | C23: =VLOOKUP(A23,#REF!,3,FALSE) -> #REF! | E23: =VLOOKUP(A23,'[1]תקציב 2012 נכון להיום'!$A$2:$E$1361,5,FALSE) -> 7000000 | F23: 7000000 | G23: 0 | H23: 0
A24: 1317500410 | B24: הכ.-בטוח תאונות אישיות | C24: =VLOOKUP(A24,#REF!,3,FALSE) -> #REF! | E24: =VLOOKUP(A24,'[1]תקציב 2012 נכון להיום'!$A$2:$E$1361,5,FALSE) -> 172998 | F24: 168500 | G24: 167462 | H24: 166941
A25: 1317950790 | B25: מרכז נוער ישובי/שכונתי התוכנית הלאומית-מש.חינוך | C25: =VLOOKUP(A25,#REF!,3,FALSE) -> #REF! | E25: =VLOOKUP(A25,'[1]תקציב 2012 נכון להיום'!$A$2:$E$1361,5,FALSE) -> 166666 | F25: 500000 | G25: 0 | H25: 451307.72
C26: =VLOOKUP(A26,#REF!,3,FALSE) -> #REF!
A27: [4] 50 | B27: עצמיות רווחה | C27: =VLOOKUP(A27,#REF!,3,FALSE) -> #REF!
A28: 1341000420 | B28: השתתפות שכר | C28: =VLOOKUP(A28,#REF!,3,FALSE) -> #REF! | E28: =VLOOKUP(A28,'[1]תקציב 2012 נכון להיום'!$A$2:$E$1361,5,FALSE) -> 116920.87 | F28: 95420 | G28: 25279.13 | H28: 0
A29: 1343523410 | B29: שרותים תומכים למפגר | C29: =VLOOKUP(A29,#REF!,3,FALSE) -> #REF! | E29: =VLOOKUP(A29,'[1]תקציב 2012 נכון להיום'!$A$2:$E$1361,5,FALSE) -> 59248 | F29: 50000 | G29: 66630 | H29: 63817
A30: 1343800420 | B30: השתת' הורים אחזקה | C30: =VLOOKUP(A30,#REF!,3,FALSE) -> #REF! | E30: =VLOOKUP(A30,'[1]תקציב 2012 נכון להיום'!$A$2:$E$1361,5,FALSE) -> 35408.5 | F30: 150000 | G30: 70086.5 | H30: 42542
A31: 1344300420 | B31: אחזקת זקנים במעונות | C31: =VLOOKUP(A31,#REF!,3,FALSE) -> #REF! | E31: =VLOOKUP(A31,'[1]תקציב 2012 נכון להיום'!$A$2:$E$1361,5,FALSE) -> 459039.1 | F31: 650000 | G31: 567850.1 | H31: 524148
A32: 1344300421 | B32: עזרה ביתית | C32: =VLOOKUP(A32,#REF!,3,FALSE) -> #REF! | E32: =VLOOKUP(A32,'[1]תקציב 2012 נכון להיום'!$A$2:$E$1361,5,FALSE) -> 7442 | F32: 10000 | G32: 13230.5 | H32: 12798.9
A33: 1344500420 | B33: מסגרת יומיות לזקן | C33: =VLOOKUP(A33,#REF!,3,FALSE) -> #REF! | E33: =VLOOKUP(A33,'[1]תקציב 2012 נכון להיום'!$A$2:$E$1361,5,FALSE) -> 68135 | F33: 85000 | G33: 79632 | H33: 99655
A34: 1345523410 | B34: שרותים תומכים למפגר | C34: =VLOOKUP(A34,#REF!,3,FALSE) -> #REF! | E34: =VLOOKUP(A34,'[1]תקציב 2012 נכון להיום'!$A$2:$E$1361,5,FALSE) -> 21469 | F34: 30000 | G34: 29012 | H34: 146306
A35: 1346700420 | B35: מ.יום שיקומי לנכים | C35: =VLOOKUP(A35,#REF!,3,FALSE) -> #REF! | E35: =VLOOKUP(A35,'[1]תקציב 2012 נכון להיום'!$A$2:$E$1361,5,FALSE) -> 29846 | F35: 40000 | G35: 58363 | H35: 61074.7
A36: 1348801420 | B36: חוסן העמותה לילדים בסיכון | C36: =VLOOKUP(A36,#REF!,3,FALSE) -> #REF! | E36: =VLOOKUP(A36,'[1]תקציב 2012 נכון להיום'!$A$2:$E$1361,5,FALSE) -> 60000 | F36: 142200 | G36: 22500 | H36: 0
C37: =VLOOKUP(A37,#REF!,3,FALSE) -> #REF!
A38: [4] 60 | B38: יתר עצמיות | C38: =VLOOKUP(A38,#REF!,3,FALSE) -> #REF!
A39: 1121000220 | B39: תעודות ואישורים | C39: =VLOOKUP(A39,#REF!,3,FALSE) -> #REF! | E39: =VLOOKUP(A39,'[1]תקציב 2012 נכון להיום'!$A$2:$E$1361,5,FALSE) -> 0 | F39: 18000 | G39: 124 | H39: 0
A40: 1122000220 | B40: אגרות רשיונות לשלטים | C40: =VLOOKUP(A40,#REF!,3,FALSE) -> #REF! | E40: =VLOOKUP(A40,'[1]תקציב 2012 נכון להיום'!$A$2:$E$1361,5,FALSE) -> 1190173.1 | F40: 1550000 | G40: 1351320.5 | H40: 1429238.2
A41: 1124100220 | B41: מודעות על לוחות | C41: =VLOOKUP(A41,#REF!,3,FALSE) -> #REF! | E41: =VLOOKUP(A41,'[1]תקציב 2012 נכון להיום'!$A$2:$E$1361,5,FALSE) -> 2183 | F41: 7000 | G41: 2187 | H41: 3616
A42: 1129100220 | B42: הוצ.רישום ועיקול סוג ש | C42: =VLOOKUP(A42,#REF!,3,FALSE) -> #REF! | E42: =VLOOKUP(A42,'[1]תקציב 2012 נכון להיום'!$A$2:$E$1361,5,FALSE) -> 5741.59 | F42: 28000 | G42: 7345.96 | H42: 12057.64
A43: 1129100221 | B43: הכנסות גביה עיקול בנק_ | C43: =VLOOKUP(A43,#REF!,3,FALSE) -> #REF! | E43: =VLOOKUP(A43,'[1]תקציב 2012 נכון להיום'!$A$2:$E$1361,5,FALSE) -> 299777.53 | F43: 250000 | G43: 291375.12 | H43: 250426.07
A44: 1160000662 | B44: הכנסות מימון | C44: =VLOOKUP(A44,#REF!,3,FALSE) -> #REF! | E44: =VLOOKUP(A44,'[1]תקציב 2012 נכון להיום'!$A$2:$E$1361,5,FALSE) -> 1326049.8 | F44: 3500000 | G44: 331473.2 | H44: 454639.95
A45: 1212300690 | B45: מכרזים-תברואה | C45: =VLOOKUP(A45,#REF!,3,FALSE) -> #REF! | E45: =VLOOKUP(A45,'[1]תקציב 2012 נכון להיום'!$A$2:$E$1361,5,FALSE) -> 17000 | F45: 8000 | G45: 3000 | H45: 8286.5
A46: 1212400220 | B46: אגרת נקוי חצרות | C46: =VLOOKUP(A46,#REF!,3,FALSE) -> #REF! | E46: =VLOOKUP(A46,'[1]תקציב 2012 נכון להיום'!$A$2:$E$1361,5,FALSE) -> 527559.95 | F46: 700000 | G46: 538929.3 | H46: 308144.39
A47: 1212400221 | B47: אג.נקוי חצרות פיגורים | C47: =VLOOKUP(A47,#REF!,3,FALSE) -> #REF! | E47: =VLOOKUP(A47,'[1]תקציב 2012 נכון להיום'!$A$2:$E$1361,5,FALSE) -> 3206.54 | F47: 0 | G47: 0 | H47: 0
A48: 1213000220 | B48: למלאכה ותעשיה-רישוי עס | C48: =VLOOKUP(A48,#REF!,3,FALSE) -> #REF! | E48: =VLOOKUP(A48,'[1]תקציב 2012 נכון להיום'!$A$2:$E$1361,5,FALSE) -> 37153 | F48: 41000 | G48: 46022.59 | H48: 34129.48
A49: 1214200221 | B49: דמי בדיקת בשר קפוא | C49: =VLOOKUP(A49,#REF!,3,FALSE) -> #REF! | E49: =VLOOKUP(A49,'[1]תקציב 2012 נכון להיום'!$A$2:$E$1361,5,FALSE) -> 40569 | F49: 102000 | G49: 117237 | H49: 151340.16
A50: 1214300220 | B50: דמי חיסון אגרות ושבבים | C50: =VLOOKUP(A50,#REF!,3,FALSE) -> #REF! | E50: =VLOOKUP(A50,'[1]תקציב 2012 נכון להיום'!$A$2:$E$1361,5,FALSE) -> 82476.5 | F50: 113000 | G50: 119083.35 | H50: 130514.65
... A65: 1282000490 | B65: הכנסות משפטיות | C65: =VLOOKUP(A65,#REF!,3,FALSE) -> #REF! | E65: =VLOOKUP(A65,'[1]תקציב 2012 נכון להיום'!$A$2:$E$1361,5,FALSE) -> 387588.7 | F65: 50000 | G65: 589036.45 | H65: 429720.32
A66: 1322000410 | B66: הכנסות מכרטיסים | C66: =VLOOKUP(A66,#REF!,3,FALSE) -> #REF! | D66: אלברט+כהנא | E66: =VLOOKUP(A66,'[1]תקציב 2012 נכון להיום'!$A$2:$E$1361,5,FALSE) -> 0 | F66: 280000 | G66: 0 | H66: 0
A67: 1322000411 | B67: חסויות | C67: =VLOOKUP(A67,#REF!,3,FALSE) -> #REF! | E67: =VLOOKUP(A67,'[1]תקציב 2012 נכון להיום'!$A$2:$E$1361,5,FALSE) -> 14875 | F67: 140000 | G67: 0 | H67: 0
A68: 1322000740 | B68: מפעל הפיס פסטיבל עכו | C68: =VLOOKUP(A68,#REF!,3,FALSE) -> #REF! | E68: =VLOOKUP(A68,'[1]תקציב 2012 נכון להיום'!$A$2:$E$1361,5,FALSE) -> 0 | F68: 150000 | G68: 0 | H68: 0
A69: 1322000790 | B69: רש.לפיתוח הגליל פסטיבל עכו | C69: =VLOOKUP(A69,#REF!,3,FALSE) -> #REF! | E69: =VLOOKUP(A69,'[1]תקציב 2012 נכון להיום'!$A$2:$E$1361,5,FALSE) -> 0 | F69: 170000 | G69: 0 | H69: 0
A70: 1323000420 | B70: הכנסות מספריות | C70: =VLOOKUP(A70,#REF!,3,FALSE) -> #REF! | E70: =VLOOKUP(A70,'[1]תקציב 2012 נכון להיום'!$A$2:$E$1361,5,FALSE) -> 14069 | F70: 21000 | G70: 18691 | H70: 22263.5
A71: 1325200220 | B71: דמי שירות | C71: =VLOOKUP(A71,#REF!,3,FALSE) -> #REF! | E71: =VLOOKUP(A71,'[1]תקציב 2012 נכון להיום'!$A$2:$E$1361,5,FALSE) -> 824111.76 | F71: 1400000 | G71: 1323182.2 | H71: 1354304.1
A72: 1325200410 | B72: סדרת צלילי מוצ"ש | C72: =VLOOKUP(A72,#REF!,3,FALSE) -> #REF! | E72: =VLOOKUP(A72,'[1]תקציב 2012 נכון להיום'!$A$2:$E$1361,5,FALSE) -> 15620 | F72: 50000 | G72: 77587 | H72: 0
A73: 1325200700 | B73: קרן מלגות פרידמן ומגבית קנדה | C73: =VLOOKUP(A73,#REF!,3,FALSE) -> #REF! | E73: =VLOOKUP(A73,'[1]תקציב 2012 נכון להיום'!$A$2:$E$1361,5,FALSE) -> 249406 | F73: 249406 | G73: 80000 | H73: 0
A74: 1360000410 | B74: קליטה-הכנסות | C74: =VLOOKUP(A74,#REF!,3,FALSE) -> #REF! | E74: =VLOOKUP(A74,'[1]תקציב 2012 נכון להיום'!$A$2:$E$1361,5,FALSE) -> 15380 | F74: 31670 | G74: 0 | H74: 0
A75: 1413100221 | B75: יתרת אגרת מד מים סוג ש | C75: =VLOOKUP(A75,#REF!,3,FALSE) -> #REF! | E75: =VLOOKUP(A75,'[1]תקציב 2012 נכון להיום'!$A$2:$E$1361,5,FALSE) -> 2700.69 | F75: 10000 | G75: 4351.03 | H75: 39361.29
A76: 1433000215 | B76: יתרת שכ"ד לא מוגן39- | C76: =VLOOKUP(A76,#REF!,3,FALSE) -> #REF! | E76: =VLOOKUP(A76,'[1]תקציב 2012 נכון להיום'!$A$2:$E$1361,5,FALSE) -> 47960.4 | F76: 120000 | G76: 27686 | H76: 115125.46
A77: 1433000641 | B77: שכ"ד לא מוגן | C77: =VLOOKUP(A77,#REF!,3,FALSE) -> #REF! | E77: =VLOOKUP(A77,'[1]תקציב 2012 נכון להיום'!$A$2:$E$1361,5,FALSE) -> 501359.68 | F77: 200000 | G77: 98449.7 | H77: 92366.8
A78: 1433000642 | B78: שכר דירה | C78: =VLOOKUP(A78,#REF!,3,FALSE) -> #REF! | E78: =VLOOKUP(A78,'[1]תקציב 2012 נכון להיום'!$A$2:$E$1361,5,FALSE) -> 534725.71 | F78: 1425000 | G78: 755738.27 | H78: 830571.93
A79: 1433000643 | B79: שכירות בדמי מפתח ס.ש7. | C79: =VLOOKUP(A79,#REF!,3,FALSE) -> #REF! | D79: מיכה | E79: =VLOOKUP(A79,'[1]תקציב 2012 נכון להיום'!$A$2:$E$1361,5,FALSE) -> 0 | F79: 125000 | G79: 0 | H79: 0
A80: 1433000644 | B80: שכירות גגות לחשמל | C80: =VLOOKUP(A80,#REF!,3,FALSE) -> #REF! | E80: =VLOOKUP(A80,'[1]תקציב 2012 נכון להיום'!$A$2:$E$1361,5,FALSE) -> 0 | F80: 0 | G80: 0 | H80: 0
A81: 1437000215 | B81: יתרת שכ"ד מוגן38- | C81: =VLOOKUP(A81,#REF!,3,FALSE) -> #REF! | D81: מיכה | E81: =VLOOKUP(A81,'[1]תקציב 2012 נכון להיום'!$A$2:$E$1361,5,FALSE) -> 564694.4 | F81: 40000 | G81: 34457.84 | H81: 48563.18
A82: 1437000640 | B82: שכר דירה מוגן | C82: =VLOOKUP(A82,#REF!,3,FALSE) -> #REF! | E82: =VLOOKUP(A82,'[1]תקציב 2012 נכון להיום'!$A$2:$E$1361,5,FALSE) -> 227860 | F82: 100000 | G82: 45658.65 | H82: 384322.34
A83: 1443100220 | B83: אגרת חניית מכוניות | C83: =VLOOKUP(A83,#REF!,3,FALSE) -> #REF! | E83: =VLOOKUP(A83,'[1]תקציב 2012 נכון להיום'!$A$2:$E$1361,5,FALSE) -> 0 | F83: 25000 | G83: 0 | H83: 0
A84: 1443100290 | B84: קנסות חניה | C84: =VLOOKUP(A84,#REF!,3,FALSE) -> #REF! | E84: =VLOOKUP(A84,'[1]תקציב 2012 נכון להיום'!$A$2:$E$1361,5,FALSE) -> 1765094.3 | F84: 3800000 | G84: 1961283 | H84: 3743483
A85: 1443100291 | B85: הכנסות מב.ק. | C85: =VLOOKUP(A85,#REF!,3,FALSE) -> #REF! | E85: =VLOOKUP(A85,'[1]תקציב 2012 נכון להיום'!$A$2:$E$1361,5,FALSE) -> 79247.3 | F85: 0 | G85: 36403 | H85: 0
A86: 1443100292 | B86: הכנסות גביה חניה עיקול | C86: =VLOOKUP(A86,#REF!,3,FALSE) -> #REF! | E86: =VLOOKUP(A86,'[1]תקציב 2012 נכון להיום'!$A$2:$E$1361,5,FALSE) -> 221351.07 | F86: 250000 | G86: 242040.28 | H86: 744191.29
A87: 1443100293 | B87: הכנסה ממדחנים | C87: =VLOOKUP(A87,#REF!,3,FALSE) -> #REF! | E87: =VLOOKUP(A87,'[1]תקציב 2012 נכון להיום'!$A$2:$E$1361,5,FALSE) -> 634521.5 | F87: 850000 | G87: 838665.8 | H87: 839307.2
A88: 1443100295 | B88: הכנסה מאיזי פארק | C88: =VLOOKUP(A88,#REF!,3,FALSE) -> #REF! | E88: =VLOOKUP(A88,'[1]תקציב 2012 נכון להיום'!$A$2:$E$1361,5,FALSE) -> 144982.21 | F88: 160000 | G88: 227887.99 | H88: 177571.34
A89: 1444000490 | B89: חניית מוניות | C89: =VLOOKUP(A89,#REF!,3,FALSE) -> #REF! | E89: =VLOOKUP(A89,'[1]תקציב 2012 נכון להיום'!$A$2:$E$1361,5,FALSE) -> 37536 | F89: 40000 | G89: 0 | H89: 0
A90: 1472000212 | B90: אגרת ביוב-פיגורים | C90: =VLOOKUP(A90,#REF!,3,FALSE) -> #REF! | E90: =VLOOKUP(A90,'[1]תקציב 2012 נכון להיום'!$A$2:$E$1361,5,FALSE) -> 206960.06 | F90: 320000 | G90: 383925.65 | H90: 954162.58
A91: 1472000213 | B91: היטל ביוב | C91: =VLOOKUP(A91,#REF!,3,FALSE) -> #REF! | E91: =VLOOKUP(A91,'[1]תקציב 2012 נכון להיום'!$A$2:$E$1361,5,FALSE) -> 3498330.5 | F91: 200000 | G91: 1768376.1 | H91: 3571780.4
A92: 1472000215 | B92: יתרת היטל ביוב81- | C92: =VLOOKUP(A92,#REF!,3,FALSE) -> #REF! | E92: =VLOOKUP(A92,'[1]תקציב 2012 נכון להיום'!$A$2:$E$1361,5,FALSE) -> 105 | F92: 10000 | G92: 534079.12 | H92: 13199.72
C93: =VLOOKUP(A93,#REF!,3,FALSE) -> #REF!
C94: =VLOOKUP(A94,#REF!,3,FALSE) -> #REF!
C95: =VLOOKUP(A95,#REF!,3,FALSE) -> #REF!
A96: [4] 70 | B96: תקבולים ממשרד החינוך | C96: =VLOOKUP(A96,#REF!,3,FALSE) -> #REF!
A97: 1312210920 | B97: גנ"י קדם חובה | C97: =VLOOKUP(A97,#REF!,3,FALSE) -> #REF! | E97: =VLOOKUP(A97,'[1]תקציב 2012 נכון להיום'!$A$2:$E$1361,5,FALSE) -> 8000149 | F97: 11028986 | G97: 10632839 | H97: 10083086
A98: 1312220920 | B98: שכר גננות עובדות מדינה לא עודפות | C98: =VLOOKUP(A98,#REF!,3,FALSE) -> #REF! | E98: =VLOOKUP(A98,'[1]תקציב 2012 נכון להיום'!$A$2:$E$1361,5,FALSE) -> 2028092 | F98: 2800000 | G98: 3570367.4 | H98: 2733972
A99: 1312230920 | B99: פ.העשרה חנ"מ גנ"י | C99: =VLOOKUP(A99,#REF!,3,FALSE) -> #REF! | E99: =VLOOKUP(A99,'[1]תקציב 2012 נכון להיום'!$A$2:$E$1361,5,FALSE) -> 27728.9 | F99: 18554 | G99: 25114 | H99: 26112.5
A100: 1312501920 | B100: הכנסות מילת | C100: =VLOOKUP(A100,#REF!,3,FALSE) -> #REF! | E100: =VLOOKUP(A100,'[1]תקציב 2012 נכון להיום'!$A$2:$E$1361,5,FALSE) -> 721404 | F100: 1311000 | G100: 1320077 | H100: 718523
A101: 1313201920 | B101: תוכניות חינוכיות-התוכנית הלאומית שמיד | C101: =VLOOKUP(A101,#REF!,3,FALSE) -> #REF! | E101: =VLOOKUP(A101,'[1]תקציב 2012 נכון להיום'!$A$2:$E$1361,5,FALSE) -> 87718.45 | F101: 763320 | G101: 170097.66 | H101: 0
A102: 1313204920 | B102: מזכירים יסודי ח.רגיל | C102: =VLOOKUP(A102,#REF!,3,FALSE) -> #REF! | E102: =VLOOKUP(A102,'[1]תקציב 2012 נכון להיום'!$A$2:$E$1361,5,FALSE) -> 805982.17 | F102: 870636 | G102: 961723.78 | H102: 850180.14
A103: 1313205920 | B103: שרתים חינוך יסודי רגיל | C103: =VLOOKUP(A103,#REF!,3,FALSE) -> #REF! | E103: =VLOOKUP(A103,'[1]תקציב 2012 נכון להיום'!$A$2:$E$1361,5,FALSE) -> 2485038 | F103: 2643696 | G103: 3013591.3 | H103: 2881599.1
A104: 1313213920 | B104: סייעות טיפוליות | C104: =VLOOKUP(A104,#REF!,3,FALSE) -> #REF! | E104: =VLOOKUP(A104,'[1]תקציב 2012 נכון להיום'!$A$2:$E$1361,5,FALSE) -> 964331.51 | F104: 1155000 | G104: 1247207.2 | H104: 1210506.7
A105: 1313221920 | B105: סל תלמיד לעולה יסודי | C105: =VLOOKUP(A105,#REF!,3,FALSE) -> #REF! | E105: =VLOOKUP(A105,'[1]תקציב 2012 נכון להיום'!$A$2:$E$1361,5,FALSE) -> 27045.92 | F105: 15000 | G105: 22731.17 | H105: 46077.5
A106: 1313222920 | B106: דמי שכפול יסודי | C106: =VLOOKUP(A106,#REF!,3,FALSE) -> #REF! | E106: =VLOOKUP(A106,'[1]תקציב 2012 נכון להיום'!$A$2:$E$1361,5,FALSE) -> 174971 | F106: 246505 | G106: 301056.1 | H106: 448863
A107: 1313223920 | B107: שיפוצי קיצ מוס"ח | C107: =VLOOKUP(A107,#REF!,3,FALSE) -> #REF! | E107: =VLOOKUP(A107,'[1]תקציב 2012 נכון להיום'!$A$2:$E$1361,5,FALSE) -> 265851.04 | F107: 264616.8 | G107: 0 | H107: 0
A108: 1313300920 | B108: הזנת יוח'א | C108: =VLOOKUP(A108,#REF!,3,FALSE) -> #REF! | E108: =VLOOKUP(A108,'[1]תקציב 2012 נכון להיום'!$A$2:$E$1361,5,FALSE) -> 99840 | F108: 161616 | G108: 144674.4 | H108: 144268.8
... A133: 1319999920 | B133: טיפול בפרט | C133: =VLOOKUP(A133,#REF!,3,FALSE) -> #REF! | E133: =VLOOKUP(A133,'[1]תקציב 2012 נכון להיום'!$A$2:$E$1361,5,FALSE) -> 0 | F133: 25000 | G133: 17454 | H133: 0
C134: =VLOOKUP(A134,#REF!,3,FALSE) -> #REF!
A135: [4] 80 | B135: תקבולים ממשרד הרווחה | C135: =VLOOKUP(A135,#REF!,3,FALSE) -> #REF!
A136: 1341000930 | B136: שכר עובדי לשכות | C136: =VLOOKUP(A136,#REF!,3,FALSE) -> #REF! | E136: =VLOOKUP(A136,'[1]תקציב 2012 נכון להיום'!$A$2:$E$1361,5,FALSE) -> 4300770 | F136: 4850000 | G136: 4732989 | H136: 4630426
A137: 1341000933 | B137: פעולות ארגוניות | C137: =VLOOKUP(A137,#REF!,3,FALSE) -> #REF! | E137: =VLOOKUP(A137,'[1]תקציב 2012 נכון להיום'!$A$2:$E$1361,5,FALSE) -> 15000 | F137: 15000 | G137: 0 | H137: 0
A138: 1341000934 | B138: כ"א לחינוך המיוחד | C138: =VLOOKUP(A138,#REF!,3,FALSE) -> #REF! | E138: =VLOOKUP(A138,'[1]תקציב 2012 נכון להיום'!$A$2:$E$1361,5,FALSE) -> 73579 | F138: 103000 | G138: 85475 | H138: 76349
...

Sheet שינויים פעולות כלליות
C2: 2013 | D2: 2012 | E2: הפרש
A3: סה"כ | B3: פעולות כלליות
A4: 1712300750 | B4: קליטת אשפה-עברון | C4: 6765000 | D4: =VLOOKUP(A4,'לעדכון ראובן'!$A$5:$F$1028,6,FALSE) -> 5450000 | E4: =C4-D4 -> 1315000
A5: 1811000440 | B5: ביטוח | C5: 1009230 | D5: =VLOOKUP(A5,'לעדכון ראובן'!$A$5:$F$1028,6,FALSE) -> 361064 | E5: =C5-D5 -> 648166
A6: 1712200751 | B6: נקיון רחובות | C6: 6000000 | D6: =VLOOKUP(A6,'לעדכון ראובן'!$A$5:$F$1028,6,FALSE) -> 5452000 | E6: =C6-D6 -> 548000
A7: 1767000440 | B7: ביטוח | C7: 1260690 | D7: =VLOOKUP(A7,'לעדכון ראובן'!$A$5:$F$1028,6,FALSE) -> 728479 | E7: =C7-D7 -> 532211
A8: 1623000750 | B8: גביה - קבלן -ארנונה | C8: 3300000 | D8: =VLOOKUP(A8,'לעדכון ראובן'!$A$5:$F$1028,6,FALSE) -> 2800000 | E8: =C8-D8 -> 500000
A9: 1743000770 | B9: דלק וחשמל לפעולות | C9: 2863823 | D9: =VLOOKUP(A9,'לעדכון ראובן'!$A$5:$F$1028,6,FALSE) -> 2380000 | E9: =C9-D9 -> 483823
A10: 1746000430 | B10: גנים-מאור,כח,חימום,מים | C10: 1300000 | D10: =VLOOKUP(A10,'לעדכון ראובן'!$A$5:$F$1028,6,FALSE) -> 970000 | E10: =C10-D10 -> 330000
A11: 1617000441 | B11: השתת' עצמית-חב' ביטוח | C11: 400000 | D11: =VLOOKUP(A11,'לעדכון ראובן'!$A$5:$F$1028,6,FALSE) -> 157000 | E11: =C11-D11 -> 243000
A12: 1711100980 | B12: הוצאות אחרות בלתי רגיל | C12: 294000 | D12: =VLOOKUP(A12,'לעדכון ראובן'!$A$5:$F$1028,6,FALSE) -> 104818 | E12: =C12-D12 -> 189182
A13: 1712300751 | B13: איסוף ופנוי מכולות | C13: 2016000 | D13: =VLOOKUP(A13,'לעדכון ראובן'!$A$5:$F$1028,6,FALSE) -> 1850000 | E13: =C13-D13 -> 166000
A14: 1617000750 | B14: יועמ"ש עבודות קבלניות | C14: 450000 | D14: =VLOOKUP(A14,'לעדכון ראובן'!$A$5:$F$1028,6,FALSE) -> 300000 | E14: =C14-D14 -> 150000
A15: 1712300752 | B15: תחנת מעבר דחסן | C15: 392000 | D15: =VLOOKUP(A15,'לעדכון ראובן'!$A$5:$F$1028,6,FALSE) -> 255000 | E15: =C15-D15 -> 137000
... A19: 1621500570 | B19: משכורת-מיכון ועיבוד נתונים | C19: 244000 | D19: =VLOOKUP(A19,'לעדכון ראובן'!$A$5:$F$1028,6,FALSE) -> 167760 | E19: =C19-D19 -> 76240
A20: 1623000530 | B20: רכב 36-959-79 ליסינג | C20: 69000 | E20: =C20-D20 -> 69000 | F20: מיכה
A21: 1731100530 | B21: רכב 87-836-72 | C21: 69000 | D21: =VLOOKUP(A21,'לעדכון ראובן'!$A$5:$F$1028,6,FALSE) -> 0 | E21: =C21-D21 -> 69000 | F21: איגור
A22: 1617000442 | B22: השתת' עצמית -תשלום לנפ | C22: 200000 | D22: =VLOOKUP(A22,'לעדכון ראובן'!$A$5:$F$1028,6,FALSE) -> 140000 | E22: =C22-D22 -> 60000
A23: 1746000751 | B23: גנים-גיזום- | C23: 150000 | D23: =VLOOKUP(A23,'לעדכון ראובן'!$A$5:$F$1028,6,FALSE) -> 100000 | E23: =C23-D23 -> 50000
A24: 1621300750 | B24: הנה"ח - עבודות קבלניות | C24: 1739000 | D24: =VLOOKUP(A24,'לעדכון ראובן'!$A$5:$F$1028,6,FALSE) -> 1695544 | E24: =C24-D24 -> 43456
A25: 1724000830 | B25: השתתפות באגוד ערים | C25: 1380000 | D25: =VLOOKUP(A25,'לעדכון ראובן'!$A$5:$F$1028,6,FALSE) -> 1338000 | E25: =C25-D25 -> 42000
A26: 1712309731 | B26: איסוזו 3116075 - ליסינג | C26: 80000 | D26: =VLOOKUP(A26,'לעדכון ראובן'!$A$5:$F$1028,6,FALSE) -> 40000 | E26: =C26-D26 -> 40000
A27: 1742000750 | B27: עבודות קבלניות | C27: 100000 | D27: =VLOOKUP(A27,'לעדכון ראובן'!$A$5:$F$1028,6,FALSE) -> 60000 | E27: =C27-D27 -> 40000
A28: 1746000750 | B28: גינון | C28: 3200000 | D28: =VLOOKUP(A28,'לעדכון ראובן'!$A$5:$F$1028,6,FALSE) -> 3163000 | E28: =C28-D28 -> 37000
A29: 1712300754 | B29: אוספי אשפה | C29: 240000 | D29: =VLOOKUP(A29,'לעדכון ראובן'!$A$5:$F$1028,6,FALSE) -> 210000 | E29: =C29-D29 -> 30000
A30: 1742000720 | B30: חמרים | C30: 100000 | D30: =VLOOKUP(A30,'לעדכון ראובן'!$A$5:$F$1028,6,FALSE) -> 70000 | E30: =C30-D30 -> 30000
A31: 1747200780 | B31: אחזקת חופי רחצה | C31: 870000 | D31: =VLOOKUP(A31,'לעדכון ראובן'!$A$5:$F$1028,6,FALSE) -> 840000 | E31: =C31-D31 -> 30000
A32: 1746100732 | B32: הוצ' רכב 25-723-63 | C32: 24000 | D32: =VLOOKUP(A32,'לעדכון ראובן'!$A$5:$F$1028,6,FALSE) -> 0 | E32: =C32-D32 -> 24000
A33: 1746100733 | B33: הוצ' רכב 25-724-63 | C33: 22000 | D33: =VLOOKUP(A33,'לעדכון ראובן'!$A$5:$F$1028,6,FALSE) -> 0 | E33: =C33-D33 -> 22000
... A445: 1712500751 | B445: אחזקת עיר עתיקה | C445: 450000 | D445: =VLOOKUP(A445,'לעדכון ראובן'!$A$5:$F$1028,6,FALSE) -> 630000 | E445: =C445-D445 -> -180000

Sheet גיליון2
A2: חדש | C2: ישן
A3: 1111100100 | B3: ארנונה כללית | C3: 1111100100 | D3: =VLOOKUP(A3,$C$3:$C$1296,1,FALSE) -> 1111100100
A4: 1111200100 | B4: ארנונה כללית פיגורים | C4: 1111200100 | D4: =VLOOKUP(A4,$C$3:$C$1296,1,FALSE) -> 1111200100
A5: 1111200216 | B5: הוצאות רישום ועיקול32- | C5: 1111200216 | D5: =VLOOKUP(A5,$C$3:$C$1296,1,FALSE) -> 1111200216
A6: 1111300291 | B6: ארנונה השתתפות מטה אשר | C6: 1111300291 | D6: =VLOOKUP(A6,$C$3:$C$1296,1,FALSE) -> 1111300291
A7: 1111400100 | B7: ארנונה מרפאל | C7: 1111400100 | D7: =VLOOKUP(A7,$C$3:$C$1296,1,FALSE) -> 1111400100
A8: 1113000290 | B8: הנחות מסים | D8: =VLOOKUP(A8,$C$3:$C$1296,1,FALSE) -> 1113000290
A9: 1121000220 | B9: ניהול תיקים,תעודות ואישורים | C9: 1113000290 | D9: =VLOOKUP(A9,$C$3:$C$1296,1,FALSE) -> 1121000220
A10: 1122000220 | B10: אגרות רשיונות לשלטים | D10: =VLOOKUP(A10,$C$3:$C$1296,1,FALSE) -> 1122000220
A11: 1122000221 | B11: אגרת שלטים פיגורים | C11: 1121000220 | D11: =VLOOKUP(A11,$C$3:$C$1296,1,FALSE) -> 1122000221
A12: 1123000220 | B12: הכנסות גביה מתאגיד מים | C12: 1122000220 | D12: =VLOOKUP(A12,$C$3:$C$1296,1,FALSE) -> #N/A
A13: 1124100220 | B13: מודעות על לוחות | C13: 1122000221 | D13: =VLOOKUP(A13,$C$3:$C$1296,1,FALSE) -> 1124100220
A14: 1129100220 | B14: הוצ.רישום ועיקול סוג ש | C14: 1124100220 | D14: =VLOOKUP(A14,$C$3:$C$1296,1,FALSE) -> 1129100220
A15: 1129100221 | B15: הכנסות גביה עיקול בנק_ | C15: 1129100220 | D15: =VLOOKUP(A15,$C$3:$C$1296,1,FALSE) -> 1129100221
A16: 1160000662 | B16: הכנסות מימון | C16: 1129100221 | D16: =VLOOKUP(A16,$C$3:$C$1296,1,FALSE) -> 1160000662
A17: 1191000910 | B17: מענק כללי_לאיזון | D17: =VLOOKUP(A17,$C$3:$C$1296,1,FALSE) -> 1191000910
A18: 1192000910 | B18: מענקים אחר' למשרד הפנים | C18: 1160000662 | D18: =VLOOKUP(A18,$C$3:$C$1296,1,FALSE) -> 1192000910
A19: 1212300292 | B19: החזרים תאגיד-ת.מ.י.ר פינוי ודמ"ש קרטון | D19: =VLOOKUP(A19,$C$3:$C$1296,1,FALSE) -> #N/A
A20: 1212300690 | B20: מכרזים-תברואה | C20: 1191000910 | D20: =VLOOKUP(A20,$C$3:$C$1296,1,FALSE) -> 1212300690
A21: 1212400220 | B21: אגרת נקוי חצרות | C21: 1192000910 | D21: =VLOOKUP(A21,$C$3:$C$1296,1,FALSE) -> 1212400220
A22: 1212400221 | B22: אג.נקוי חצרות פיגורים | D22: =VLOOKUP(A22,$C$3:$C$1296,1,FALSE) -> 1212400221
A23: 1213000220 | B23: למלאכה ותעשיה-רישוי עס | D23: =VLOOKUP(A23,$C$3:$C$1296,1,FALSE) -> 1213000220
A24: 1213000221 | B24: רוכלים | C24: 1212300690 | D24: =VLOOKUP(A24,$C$3:$C$1296,1,FALSE) -> 1213000221
A25: 1214200221 | B25: דמי בדיקת בשר קפוא | C25: 1212400220 | D25: =VLOOKUP(A25,$C$3:$C$1296,1,FALSE) -> 1214200221
A26: 1214200960 | B26: השתתפות מש.החקלאות סירוס חתולים | C26: 1212400221 | D26: =VLOOKUP(A26,$C$3:$C$1296,1,FALSE) -> 1214200960
A27: 1214201220 | B27: כללי וטרינר106- | C27: 1213000220 | D27: =VLOOKUP(A27,$C$3:$C$1296,1,FALSE) -> 1214201220
A28: 1214300220 | B28: דמי חיסון אגרות ושבבים | C28: 1213000221 | D28: =VLOOKUP(A28,$C$3:$C$1296,1,FALSE) -> 1214300220
A29: 1214301220 | B29: קנסות וטרינר109- | C29: 1214200221 | D29: =VLOOKUP(A29,$C$3:$C$1296,1,FALSE) -> 1214301220
A30: 1222000440 | B30: שמירה בטחונית | C30: 1214200960 | D30: =VLOOKUP(A30,$C$3:$C$1296,1,FALSE) -> 1222000440
A31: 1222000441 | B31: מנעולים עבור מקלטים משותפים | C31: 1214201220 | D31: =VLOOKUP(A31,$C$3:$C$1296,1,FALSE) -> 1222000441
A32: 1222000970 | B32: השתת.המשרד לביטחון פנים בשיטור קהילתי | C32: 1214300220 | D32: =VLOOKUP(A32,$C$3:$C$1296,1,FALSE) -> 1222000970
A33: 1222000971 | B33: השתתפות מש.הפנים באבטחת מאוימים | C33: 1214301220 | D33: =VLOOKUP(A33,$C$3:$C$1296,1,FALSE) -> 1222000971
A34: 1222100400 | B34: אג.שמירה פיגור | D34: =VLOOKUP(A34,$C$3:$C$1296,1,FALSE) -> 1222100400
A35: 1222100440 | B35: אגרת שמירה | D35: =VLOOKUP(A35,$C$3:$C$1296,1,FALSE) -> 1222100440
A36: 1222100910 | B36: השתת.משרד הפנים משא"ז | C36: 1222000440 | D36: =VLOOKUP(A36,$C$3:$C$1296,1,FALSE) -> 1222100910
A37: 1233000690 | B37: מתן מידע | C37: 1222000441 | D37: =VLOOKUP(A37,$C$3:$C$1296,1,FALSE) -> 1233000690
A38: 1233100220 | B38: אגרת רשיונות בניה | C38: 1222000970 | D38: =VLOOKUP(A38,$C$3:$C$1296,1,FALSE) -> 1233100220
A39: 1233200220 | B39: אגרת חפירה | C39: 1222000971 | D39: =VLOOKUP(A39,$C$3:$C$1296,1,FALSE) -> #N/A
A40: 1233200290 | B40: היטל השבחה_ס.ש757. | C40: 1222100400 | D40: =VLOOKUP(A40,$C$3:$C$1296,1,FALSE) -> 1233200290
A41: 1233200291 | B41: היטל סלילה למימון מלוות פיתוח | C41: 1222100440 | D41: =VLOOKUP(A41,$C$3:$C$1296,1,FALSE) -> 1233200291
A42: 1233200292 | B42: היטל תיעול למימון אגרת ניקוז | C42: 1222100910 | D42: =VLOOKUP(A42,$C$3:$C$1296,1,FALSE) -> 1233200292
A43: 1233200293 | B43: תקורות עבור פרוקטים היטלי פיתוח | D43: =VLOOKUP(A43,$C$3:$C$1296,1,FALSE) -> 1233200293
A44: 1233200294 | B44: תקורות הסכמי גג | D44: =VLOOKUP(A44,$C$3:$C$1296,1,FALSE) -> 1233200294
A45: 1233300290 | B45: אגרת מבנים מסוכנים | C45: 1233000690 | D45: =VLOOKUP(A45,$C$3:$C$1296,1,FALSE) -> 1233300290
A46: 1242000215 | B46: יתרת כבישים ומדרכות | C46: 1233100220 | D46: =VLOOKUP(A46,$C$3:$C$1296,1,FALSE) -> #N/A
A47: 1242000220 | B47: דמי שמוש במדרכה | C47: 1233200290 | D47: =VLOOKUP(A47,$C$3:$C$1296,1,FALSE) -> 1242000220
A48: 1242000221 | B48: כבישים | C48: 1233200291 | D48: =VLOOKUP(A48,$C$3:$C$1296,1,FALSE) -> #N/A
A49: 1242000690 | B49: הנדסה-מכרזים | C49: 1233200292 | D49: =VLOOKUP(A49,$C$3:$C$1296,1,FALSE) -> #N/A
A50: 1252000490 | B50: חסויות פסטיבל מוסיקה-ערבסק | C50: 1233200293 | D50: =VLOOKUP(A50,$C$3:$C$1296,1,FALSE) -> #N/A
A51: 1252000990 | B51: חסויות פסטיבל הרשות לפיתוח הגליל | C51: 1233200294 | D51: =VLOOKUP(A51,$C$3:$C$1296,1,FALSE) -> #N/A
A52: 1261000421 | B52: שירותי מוקד | C52: 1233300290 | D52: =VLOOKUP(A52,$C$3:$C$1296,1,FALSE) -> 1261000421
A53: 1269000662 | B53: הכנסות שונות | D53: =VLOOKUP(A53,$C$3:$C$1296,1,FALSE) -> 1269000662
A54: 1269000690 | B54: הכנסות מכרזים שונים | C54: 1242000220 | D54: =VLOOKUP(A54,$C$3:$C$1296,1,FALSE) -> 1269000690
A55: 1269000790 | B55: הכנסות שונות | D55: =VLOOKUP(A55,$C$3:$C$1296,1,FALSE) -> 1269000790
A56: 1269000791 | B56: הכנסות משכירות אתרי עבודות ברחבי העיר | C56: 1261000421 | D56: =VLOOKUP(A56,$C$3:$C$1296,1,FALSE) -> 1269000791
A57: 1269000792 | B57: הכנסות שרותי מחשוב | C57: 1269000662 | D57: =VLOOKUP(A57,$C$3:$C$1296,1,FALSE) -> 1269000792
A58: 1281000215 | B58: יתרת אג.שימור רחובות8- | C58: 1269000690 | D58: =VLOOKUP(A58,$C$3:$C$1296,1,FALSE) -> 1281000215
A59: 1281000222 | B59: ב.ק. שילוט | C59: 1269000790 | D59: =VLOOKUP(A59,$C$3:$C$1296,1,FALSE) -> #N/A
A60: 1281000231 | B60: אכיפה חוקי עזר שונים | C60: 1269000791 | D60: =VLOOKUP(A60,$C$3:$C$1296,1,FALSE) -> #N/A
A61: 1281000990 | B61: תיגבור שוטרים בחוף | C61: 1269000792 | D61: =VLOOKUP(A61,$C$3:$C$1296,1,FALSE) -> #N/A
A62: 1282000490 | B62: הכנסות משפטיות | D62: =VLOOKUP(A62,$C$3:$C$1296,1,FALSE) -> 1282000490
A63: 1311000690 | B63: מכרזים | C63: 1281000215 | D63: =VLOOKUP(A63,$C$3:$C$1296,1,FALSE) -> #N/A
A64: 1312200420 | B64: הכנסות מהורים-ביטוח תאונות אישיות | C64: 1282000490 | D64: =VLOOKUP(A64,$C$3:$C$1296,1,FALSE) -> 1312200420
A65: 1312200440 | B65: חדר מלח מרכז לגיל הרך | D65: =VLOOKUP(A65,$C$3:$C$1296,1,FALSE) -> 1312200440
A66: 1312200790 | B66: מרכז גיל הרך-דגם בן משרדי | D66: =VLOOKUP(A66,$C$3:$C$1296,1,FALSE) -> 1312200790
A67: 1312200920 | B67: השתת' הממשלה לעוזרות ג | C67: 1312200420 | D67: =VLOOKUP(A67,$C$3:$C$1296,1,FALSE) -> #N/A
A68: 1312201420 | B68: סל תרבות הכנסה מהורים | C68: 1312200440 | D68: =VLOOKUP(A68,$C$3:$C$1296,1,FALSE) -> 1312201420
A69: 1312210420 | B69: הכנסות מהורים-סל תרבות | C69: 1312200790 | D69: =VLOOKUP(A69,$C$3:$C$1296,1,FALSE) -> #N/A
A70: 1312210920 | B70: גנ"י קדם חובה | C70: 1312201420 | D70: =VLOOKUP(A70,$C$3:$C$1296,1,FALSE) -> 1312210920
A71: 1312220920 | B71: שכר גננות עובדות מדינה לא עודפות | C71: 1312210920 | D71: =VLOOKUP(A71,$C$3:$C$1296,1,FALSE) -> 1312220920
A72: 1312230920 | B72: פ.העשרה חנ"מ גנ"י | C72: 1312220920 | D72: =VLOOKUP(A72,$C$3:$C$1296,1,FALSE) -> 1312230920
A73: 1312500440 | B73: פנימיות יום-גנ"י | C73: 1312230920 | D73: =VLOOKUP(A73,$C$3:$C$1296,1,FALSE) -> 1312500440
A74: 1312501440 | B74: הכנסות מהורים מילת | C74: 1312500440 | D74: =VLOOKUP(A74,$C$3:$C$1296,1,FALSE) -> 1312501440
A75: 1312501920 | B75: הכנסות מילת | C75: 1312501440 | D75: =VLOOKUP(A75,$C$3:$C$1296,1,FALSE) -> 1312501920
A76: 1313200410 | B76: השתת' הורים לבת'"ס | C76: 1312501920 | D76: =VLOOKUP(A76,$C$3:$C$1296,1,FALSE) -> 1313200410
A77: 1313200440 | B77: מפעל הזנה | C77: 1313200410 | D77: =VLOOKUP(A77,$C$3:$C$1296,1,FALSE) -> #N/A
A78: 1313200920 | B78: פרויקט החופש הגדול | C78: 1313200920 | D78: =VLOOKUP(A78,$C$3:$C$1296,1,FALSE) -> 1313200920
... A122: 1317951920 | B122: השתת.מינהל חברה ונוער | C122: 1317960920 | D122: =VLOOKUP(A122,$C$3:$C$1296,1,FALSE) -> 1317951920
A123: 1317952920 | B123: מגבית קנדה - מנ"ע | D123: =VLOOKUP(A123,$C$3:$C$1296,1,FALSE) -> 1317952920
A124: 1317960920 | B124: יחידה לקידום נוער | C124: 1322000410 | D124: =VLOOKUP(A124,$C$3:$C$1296,1,FALSE) -> 1317960920
A125: 1319999920 | B125: טיפול בפרט | C125: 1322000411 | D125: =VLOOKUP(A125,$C$3:$C$1296,1,FALSE) -> #N/A
A126: 1322000410 | B126: הכנסות מכרטיסים | C126: 1322000740 | D126: =VLOOKUP(A126,$C$3:$C$1296,1,FALSE) -> 1322000410
A127: 1322000411 | B127: חסויות | C127: 1322000790 | D127: =VLOOKUP(A127,$C$3:$C$1296,1,FALSE) -> 1322000411
A128: 1322000740 | B128: מפעל הפיס פסטיבל עכו | C128: 1322000920 | D128: =VLOOKUP(A128,$C$3:$C$1296,1,FALSE) -> 1322000740
A129: 1322000790 | B129: רש.לפיתוח הגליל פסטיבל עכו | C129: 1323000420 | D129: =VLOOKUP(A129,$C$3:$C$1296,1,FALSE) -> 1322000790
A130: 1322000920 | B130: משרד התרבות | C130: 1325200220 | D130: =VLOOKUP(A130,$C$3:$C$1296,1,FALSE) -> 1322000920
A131: 1323000420 | B131: הכנסות מספריות | C131: 1325200221 | D131: =VLOOKUP(A131,$C$3:$C$1296,1,FALSE) -> 1323000420
A132: 1325200220 | B132: דמי שירות | C132: 1325200410 | D132: =VLOOKUP(A132,$C$3:$C$1296,1,FALSE) -> 1325200220
A133: 1325200221 | B133: דמי השכרת שירות 967 | C133: 1325200411 | D133: =VLOOKUP(A133,$C$3:$C$1296,1,FALSE) -> 1325200221
A134: 1325200410 | B134: סדרת צלילי מוצ"ש | C134: 1325200700 | D134: =VLOOKUP(A134,$C$3:$C$1296,1,FALSE) -> 1325200410
A135: 1325200411 | B135: הכנסות עצמיות תזמורת אמית | C135: 1325200920 | D135: =VLOOKUP(A135,$C$3:$C$1296,1,FALSE) -> 1325200411
... A137: 1325200701 | B137: מלגות לתלמידים/תרומות לקונסרבטריון | C137: 1329300921 | D137: =VLOOKUP(A137,$C$3:$C$1296,1,FALSE) -> #N/A
A138: 1325200920 | B138: השתתפות הממשלה לתזמורת | D138: =VLOOKUP(A138,$C$3:$C$1296,1,FALSE) -> 1325200920
A139: 1329300920 | B139: הכנסות מסל ספורט | D139: =VLOOKUP(A139,$C$3:$C$1296,1,FALSE) -> 1329300920
A140: 1329300921 | B140: הכנסות שונות ספורט | C140: 1341000930 | D140: =VLOOKUP(A140,$C$3:$C$1296,1,FALSE) -> 1329300921
A141: 1341000690 | B141: רווחה-מכרזים | C141: 1341000933 | D141: =VLOOKUP(A141,$C$3:$C$1296,1,FALSE) -> #N/A
A142: 1341000930 | B142: שכר עובדי לשכות | C142: 1341000934 | D142: =VLOOKUP(A142,$C$3:$C$1296,1,FALSE) -> 1341000930
A143: 1341000933 | B143: פעולות ארגוניות | C143: 1341000935 | D143: =VLOOKUP(A143,$C$3:$C$1296,1,FALSE) -> 1341000933
A144: 1341000934 | B144: כ"א לחינוך המיוחד | C144: 1341000936 | D144: =VLOOKUP(A144,$C$3:$C$1296,1,FALSE) -> 1341000934
A145: 1341000935 | B145: הערכות המחלקות לש"ח | C145: 1341000937 | D145: =VLOOKUP(A145,$C$3:$C$1296,1,FALSE) -> 1341000935
...

Sheet גיליון3
A1: חדש
A2: 1111100100 | B2: ארנונה כללית | E2: 1111100100 | G2: =VLOOKUP(A2,$E$2:$E$1373,1,FALSE) -> 1111100100
A3: 1111200100 | B3: ארנונה כללית פיגורים | E3: 1111200100 | G3: =VLOOKUP(A3,$E$2:$E$1373,1,FALSE) -> 1111200100
A4: 1111200216 | B4: הוצאות רישום ועיקול32- | E4: 1111200216 | G4: =VLOOKUP(A4,$E$2:$E$1373,1,FALSE) -> 1111200216
A5: 1111300291 | B5: ארנונה השתתפות מטה אשר | E5: 1111300291 | G5: =VLOOKUP(A5,$E$2:$E$1373,1,FALSE) -> 1111300291
A6: 1111400100 | B6: ארנונה מרפאל | E6: 1111400100 | G6: =VLOOKUP(A6,$E$2:$E$1373,1,FALSE) -> 1111400100
A7: 1113000290 | B7: הנחות מסים | G7: =VLOOKUP(A7,$E$2:$E$1373,1,FALSE) -> 1113000290
A8: 1121000220 | B8: ניהול תיקים,תעודות ואישורים | E8: 1113000290 | G8: =VLOOKUP(A8,$E$2:$E$1373,1,FALSE) -> 1121000220
A9: 1122000220 | B9: אגרות רשיונות לשלטים | G9: =VLOOKUP(A9,$E$2:$E$1373,1,FALSE) -> 1122000220
A10: 1122000221 | B10: אגרת שלטים פיגורים | E10: 1121000220 | G10: =VLOOKUP(A10,$E$2:$E$1373,1,FALSE) -> 1122000221
A11: 1123000220 | B11: הכנסות גביה מתאגיד מים | E11: 1122000220 | G11: =VLOOKUP(A11,$E$2:$E$1373,1,FALSE) -> 1123000220
A12: 1124100220 | B12: מודעות על לוחות | E12: 1122000221 | G12: =VLOOKUP(A12,$E$2:$E$1373,1,FALSE) -> 1124100220
A13: 1129100220 | B13: הוצ.רישום ועיקול סוג ש | E13: 1123000220 | G13: =VLOOKUP(A13,$E$2:$E$1373,1,FALSE) -> 1129100220
A14: 1129100221 | B14: הכנסות גביה עיקול בנק_ | E14: 1124100220 | G14: =VLOOKUP(A14,$E$2:$E$1373,1,FALSE) -> 1129100221
A15: 1160000662 | B15: הכנסות מימון | E15: 1129100220 | G15: =VLOOKUP(A15,$E$2:$E$1373,1,FALSE) -> 1160000662
A16: 1191000910 | B16: מענק כללי_לאיזון | E16: 1129100221 | G16: =VLOOKUP(A16,$E$2:$E$1373,1,FALSE) -> 1191000910
A17: 1192000910 | B17: מענקים אחר' למשרד הפנים | G17: =VLOOKUP(A17,$E$2:$E$1373,1,FALSE) -> 1192000910
A18: 1212300292 | B18: החזרים תאגיד-ת.מ.י.ר פינוי ודמ"ש קרטון | E18: 1160000662 | G18: =VLOOKUP(A18,$E$2:$E$1373,1,FALSE) -> 1212300292
A19: 1212300690 | B19: מכרזים-תברואה | G19: =VLOOKUP(A19,$E$2:$E$1373,1,FALSE) -> 1212300690
A20: 1212400220 | B20: אגרת נקוי חצרות | E20: 1191000910 | G20: =VLOOKUP(A20,$E$2:$E$1373,1,FALSE) -> 1212400220
A21: 1212400221 | B21: אג.נקוי חצרות פיגורים | E21: 1192000910 | G21: =VLOOKUP(A21,$E$2:$E$1373,1,FALSE) -> 1212400221
A22: 1213000220 | B22: למלאכה ותעשיה-רישוי עס | G22: =VLOOKUP(A22,$E$2:$E$1373,1,FALSE) -> 1213000220
A23: 1213000221 | B23: רוכלים | G23: =VLOOKUP(A23,$E$2:$E$1373,1,FALSE) -> 1213000221
A24: 1214200221 | B24: דמי בדיקת בשר קפוא | E24: 1212300690 | G24: =VLOOKUP(A24,$E$2:$E$1373,1,FALSE) -> 1214200221
A25: 1214200960 | B25: השתתפות מש.החקלאות סירוס חתולים | E25: 1212300292 | G25: =VLOOKUP(A25,$E$2:$E$1373,1,FALSE) -> 1214200960
A26: 1214201220 | B26: כללי וטרינר106- | E26: 1212400220 | G26: =VLOOKUP(A26,$E$2:$E$1373,1,FALSE) -> 1214201220
A27: 1214300220 | B27: דמי חיסון אגרות ושבבים | E27: 1212400221 | G27: =VLOOKUP(A27,$E$2:$E$1373,1,FALSE) -> 1214300220
A28: 1214301220 | B28: קנסות וטרינר109- | E28: 1213000220 | G28: =VLOOKUP(A28,$E$2:$E$1373,1,FALSE) -> 1214301220
A29: 1222000440 | B29: שמירה בטחונית | E29: 1213000221 | G29: =VLOOKUP(A29,$E$2:$E$1373,1,FALSE) -> 1222000440
A30: 1222000441 | B30: מנעולים עבור מקלטים משותפים | E30: 1214200221 | G30: =VLOOKUP(A30,$E$2:$E$1373,1,FALSE) -> 1222000441
A31: 1222000970 | B31: השתת.המשרד לביטחון פנים בשיטור קהילתי | E31: 1214200960 | G31: =VLOOKUP(A31,$E$2:$E$1373,1,FALSE) -> 1222000970
A32: 1222000971 | B32: השתתפות מש.הפנים באבטחת מאוימים | E32: 1214201220 | G32: =VLOOKUP(A32,$E$2:$E$1373,1,FALSE) -> 1222000971
A33: 1222100400 | B33: אג.שמירה פיגור | E33: 1214300220 | G33: =VLOOKUP(A33,$E$2:$E$1373,1,FALSE) -> 1222100400
A34: 1222100440 | B34: אגרת שמירה | E34: 1214301220 | G34: =VLOOKUP(A34,$E$2:$E$1373,1,FALSE) -> 1222100440
A35: 1222100910 | B35: השתת.משרד הפנים משא"ז | G35: =VLOOKUP(A35,$E$2:$E$1373,1,FALSE) -> 1222100910
A36: 1233000690 | B36: מתן מידע | G36: =VLOOKUP(A36,$E$2:$E$1373,1,FALSE) -> 1233000690
A37: 1233100220 | B37: אגרת רשיונות בניה | E37: 1222000440 | G37: =VLOOKUP(A37,$E$2:$E$1373,1,FALSE) -> 1233100220
A38: 1233200220 | B38: אגרת חפירה | E38: 1222000441 | G38: =VLOOKUP(A38,$E$2:$E$1373,1,FALSE) -> 1233200220
A39: 1233200290 | B39: היטל השבחה_ס.ש757. | E39: 1222000970 | G39: =VLOOKUP(A39,$E$2:$E$1373,1,FALSE) -> 1233200290
A40: 1233200291 | B40: היטל סלילה למימון מלוות פיתוח | E40: 1222000971 | G40: =VLOOKUP(A40,$E$2:$E$1373,1,FALSE) -> 1233200291
A41: 1233200292 | B41: היטל תיעול למימון אגרת ניקוז | E41: 1222100400 | G41: =VLOOKUP(A41,$E$2:$E$1373,1,FALSE) -> 1233200292
A42: 1233200293 | B42: תקורות עבור פרוקטים היטלי פיתוח | E42: 1222100440 | G42: =VLOOKUP(A42,$E$2:$E$1373,1,FALSE) -> 1233200293
A43: 1233200294 | B43: תקורות הסכמי גג | E43: 1222100910 | G43: =VLOOKUP(A43,$E$2:$E$1373,1,FALSE) -> 1233200294
A44: 1233300290 | B44: אגרת מבנים מסוכנים | G44: =VLOOKUP(A44,$E$2:$E$1373,1,FALSE) -> 1233300290
A45: 1242000215 | B45: יתרת כבישים ומדרכות | G45: =VLOOKUP(A45,$E$2:$E$1373,1,FALSE) -> #N/A
A46: 1242000220 | B46: דמי שמוש במדרכה | E46: 1233000690 | G46: =VLOOKUP(A46,$E$2:$E$1373,1,FALSE) -> 1242000220
A47: 1242000221 | B47: כבישים | E47: 1233100220 | G47: =VLOOKUP(A47,$E$2:$E$1373,1,FALSE) -> #N/A
A48: 1242000690 | B48: הנדסה-מכרזים | E48: 1233200220 | G48: =VLOOKUP(A48,$E$2:$E$1373,1,FALSE) -> #N/A
A49: 1252000490 | B49: חסויות פסטיבל מוסיקה-ערבסק | E49: 1233200290 | G49: =VLOOKUP(A49,$E$2:$E$1373,1,FALSE) -> 1252000490
A50: 1252000990 | B50: חסויות פסטיבל הרשות לפיתוח הגליל | E50: 1233200291 | G50: =VLOOKUP(A50,$E$2:$E$1373,1,FALSE) -> 1252000990
A51: 1261000421 | B51: שירותי מוקד | E51: 1233200292 | G51: =VLOOKUP(A51,$E$2:$E$1373,1,FALSE) -> 1261000421
A52: 1269000662 | B52: הכנסות שונות | E52: 1233200293 | G52: =VLOOKUP(A52,$E$2:$E$1373,1,FALSE) -> 1269000662
A53: 1269000690 | B53: הכנסות מכרזים שונים | E53: 1233200294 | G53: =VLOOKUP(A53,$E$2:$E$1373,1,FALSE) -> 1269000690
A54: 1269000790 | B54: הכנסות שונות | E54: 1233300290 | G54: =VLOOKUP(A54,$E$2:$E$1373,1,FALSE) -> 1269000790
A55: 1269000791 | B55: הכנסות משכירות אתרי עבודות ברחבי העיר | G55: =VLOOKUP(A55,$E$2:$E$1373,1,FALSE) -> 1269000791
A56: 1269000792 | B56: הכנסות שרותי מחשוב | E56: 1242000220 | G56: =VLOOKUP(A56,$E$2:$E$1373,1,FALSE) -> 1269000792
A57: 1281000215 | B57: יתרת אג.שימור רחובות8- | G57: =VLOOKUP(A57,$E$2:$E$1373,1,FALSE) -> 1281000215
A58: 1281000222 | B58: ב.ק. שילוט | E58: 1252000490 | G58: =VLOOKUP(A58,$E$2:$E$1373,1,FALSE) -> 1281000222
A59: 1281000231 | B59: אכיפה חוקי עזר שונים | E59: 1252000990 | G59: =VLOOKUP(A59,$E$2:$E$1373,1,FALSE) -> #N/A
A60: 1281000990 | B60: תיגבור שוטרים בחוף | G60: =VLOOKUP(A60,$E$2:$E$1373,1,FALSE) -> #N/A
A61: 1282000490 | B61: הכנסות משפטיות | E61: 1261000421 | G61: =VLOOKUP(A61,$E$2:$E$1373,1,FALSE) -> 1282000490
A62: 1311000690 | B62: מכרזים | E62: 1269000662 | G62: =VLOOKUP(A62,$E$2:$E$1373,1,FALSE) -> #N/A
A63: 1312200420 | B63: הכנסות מהורים-ביטוח תאונות אישיות | E63: 1269000690 | G63: =VLOOKUP(A63,$E$2:$E$1373,1,FALSE) -> 1312200420
A64: 1312200440 | B64: חדר מלח מרכז לגיל הרך | E64: 1269000790 | G64: =VLOOKUP(A64,$E$2:$E$1373,1,FALSE) -> 1312200440
A65: 1312200790 | B65: מרכז גיל הרך-דגם בן משרדי | E65: 1269000791 | G65: =VLOOKUP(A65,$E$2:$E$1373,1,FALSE) -> 1312200790
A66: 1312200920 | B66: השתת' הממשלה לעוזרות ג | E66: 1269000792 | G66: =VLOOKUP(A66,$E$2:$E$1373,1,FALSE) -> 1312200920
A67: 1312201420 | B67: סל תרבות הכנסה מהורים | G67: =VLOOKUP(A67,$E$2:$E$1373,1,FALSE) -> 1312201420
A68: 1312210420 | B68: הכנסות מהורים-סל תרבות | E68: 1281000215 | G68: =VLOOKUP(A68,$E$2:$E$1373,1,FALSE) -> 1312210420
A69: 1312210920 | B69: גנ"י קדם חובה | E69: 1281000222 | G69: =VLOOKUP(A69,$E$2:$E$1373,1,FALSE) -> 1312210920
A70: 1312220920 | B70: שכר גננות עובדות מדינה לא עודפות | E70: 1282000490 | G70: =VLOOKUP(A70,$E$2:$E$1373,1,FALSE) -> 1312220920
A71: 1312230920 | B71: פ.העשרה חנ"מ גנ"י | G71: =VLOOKUP(A71,$E$2:$E$1373,1,FALSE) -> 1312230920
A72: 1312500440 | B72: פנימיות יום-גנ"י | G72: =VLOOKUP(A72,$E$2:$E$1373,1,FALSE) -> 1312500440
A73: 1312501440 | B73: הכנסות מהורים מילת | E73: 1312200420 | G73: =VLOOKUP(A73,$E$2:$E$1373,1,FALSE) -> 1312501440
A74: 1312501920 | B74: הכנסות מילת | E74: 1312200440 | G74: =VLOOKUP(A74,$E$2:$E$1373,1,FALSE) -> 1312501920
A75: 1313200410 | B75: השתת' הורים לבת'"ס | E75: 1312200790 | G75: =VLOOKUP(A75,$E$2:$E$1373,1,FALSE) -> 1313200410
A76: 1313200440 | B76: מפעל הזנה | E76: 1312200920 | G76: =VLOOKUP(A76,$E$2:$E$1373,1,FALSE) -> 1313200440
A77: 1313200920 | B77: פרויקט החופש הגדול | E77: 1312201420 | G77: =VLOOKUP(A77,$E$2:$E$1373,1,FALSE) -> 1313200920
A78: 1313200923 | B78: תוכנית ניצנים | E78: 1312210420 | G78: =VLOOKUP(A78,$E$2:$E$1373,1,FALSE) -> 1313200923
A79: 1313201920 | B79: מעגן-שמיד-מערך תומך מעון גן עכו גשרים | E79: 1312210920 | G79: =VLOOKUP(A79,$E$2:$E$1373,1,FALSE) -> 1313201920
A80: 1313201921 | B80: חינוך-עובד סיוע משופר א-ו | E80: 1312220920 | G80: =VLOOKUP(A80,$E$2:$E$1373,1,FALSE) -> 1313201921
A81: 1313201922 | B81: חינוך-תוספת דיפרנציאלית ניהול עצמי | E81: 1312230920 | G81: =VLOOKUP(A81,$E$2:$E$1373,1,FALSE) -> 1313201922
A82: 1313201923 | B82: חינוך-ניהול עצמי משופר א-ו | E82: 1312500440 | G82: =VLOOKUP(A82,$E$2:$E$1373,1,FALSE) -> 1313201923
A83: 1313202920 | B83: תוכנית התקשוב הלאומית | E83: 1312501440 | G83: =VLOOKUP(A83,$E$2:$E$1373,1,FALSE) -> 1313202920
A84: 1313204920 | B84: מזכירים יסודי ח.רגיל | E84: 1312501920 | G84: =VLOOKUP(A84,$E$2:$E$1373,1,FALSE) -> 1313204920
... A132: 1325200221 | B132: דמי השכרת שירות 967 | E132: 1319999920 | G132: =VLOOKUP(A132,$E$2:$E$1373,1,FALSE) -> 1325200221
A133: 1325200410 | B133: סדרת צלילי מוצ"ש | G133: =VLOOKUP(A133,$E$2:$E$1373,1,FALSE) -> 1325200410
A134: 1325200411 | B134: הכנסות עצמיות תזמורת אמית | E134: 1322000410 | G134: =VLOOKUP(A134,$E$2:$E$1373,1,FALSE) -> 1325200411
A135: 1325200700 | B135: קרן מלגות פרידמן ומגבית קנדה | E135: 1322000411 | G135: =VLOOKUP(A135,$E$2:$E$1373,1,FALSE) -> 1325200700
A136: 1325200701 | B136: מלגות לתלמידים/תרומות לקונסרבטריון | E136: 1322000740 | G136: =VLOOKUP(A136,$E$2:$E$1373,1,FALSE) -> 1325200701
A137: 1325200920 | B137: השתתפות הממשלה לתזמורת | E137: 1322000790 | G137: =VLOOKUP(A137,$E$2:$E$1373,1,FALSE) -> 1325200920
A138: 1329300920 | B138: הכנסות מסל ספורט | E138: 1322000920 | G138: =VLOOKUP(A138,$E$2:$E$1373,1,FALSE) -> 1329300920
A139: 1329300921 | B139: הכנסות שונות ספורט | E139: 1323000420 | G139: =VLOOKUP(A139,$E$2:$E$1373,1,FALSE) -> 1329300921
A140: 1341000690 | B140: רווחה-מכרזים | E140: 1325200220 | G140: =VLOOKUP(A140,$E$2:$E$1373,1,FALSE) -> #N/A
A141: 1341000930 | B141: שכר עובדי לשכות | E141: 1325200221 | G141: =VLOOKUP(A141,$E$2:$E$1373,1,FALSE) -> 1341000930
A142: 1341000933 | B142: פעולות ארגוניות | E142: 1325200410 | G142: =VLOOKUP(A142,$E$2:$E$1373,1,FALSE) -> 1341000933
A143: 1341000934 | B143: כ"א לחינוך המיוחד | E143: 1325200411 | G143: =VLOOKUP(A143,$E$2:$E$1373,1,FALSE) -> 1341000934
A144: 1341000935 | B144: הערכות המחלקות לש"ח | E144: 1325200700 | G144: =VLOOKUP(A144,$E$2:$E$1373,1,FALSE) -> 1341000935
A145: 1341000936 | B145: מחשוב מחלקות רווחה | E145: 1325200701 | G145: =VLOOKUP(A145,$E$2:$E$1373,1,FALSE) -> 1341000936
... A148: 1341000939 | B148: מחשוב רפורמה | E148: 1329300921 | G148: =VLOOKUP(A148,$E$2:$E$1373,1,FALSE) -> 1341000939
A149: 1342200930 | B149: משפחות במצוקה בקהילה | G149: =VLOOKUP(A149,$E$2:$E$1373,1,FALSE) -> 1342200930
...

Sheet טופס 2 לתקציב
C1: עריית עכו
C2: הצעת תקציב 2019
C3: תחילת מידע טבלה
B4: תחילת מידע צד ימין | D4: תקציב 2019 | F4: תקציב 2018 | H4: ביצוע 2017 | I4: סוף מידע צד שמאל
C5: הכנסות
C6: ארנונה כללית | D6: 142493.78 | F6: 131150.04 | H6: 127033.63
C7: מפעל המים | D7: 352.105 | F7: 418.5 | H7: 561.9316
C8: עצמיות חינוך | D8: 43824.76 | F8: 42855.94 | H8: 42192.398
C9: עצמיות רווחה | D9: 771.5 | F9: 900 | H9: 865.38678
C10: עצמיות אחר | D10: 49900.699 | F10: 57121.078 | H10: 33264.202
C11: סה"כ עצמיות | D11: 237342.84 | F11: 232445.55 | G11: 0 | H11: 203917.55
C12: תקבולים ממשרד החינוך | D12: 60974.717 | F12: 58853.686 | H12: 59684.61
C13: תקבולים ממשרד הרווחה | D13: 47874.503 | F13: 44485.991 | H13: 42994.623
C14: תקבולים ממשלתיים אחרים | D14: 3655 | F14: 3839.867 | H14: 9584.884
C15: מענק כללי לאיזון | D15: 50210 | F15: 50210 | H15: 50629.535
C16: מענקים אחרים ממש.הפנים | D16: 7846 | F16: 5827.888 | H16: 7902.237
C17: סה"כ תקבולי הממשלה | D17: 170560.22 | F17: 163217.43 | G17: 0 | H17: 170795.89
C18: תקבולים אחרים
C19: הכנסות ח"פ ובגין שנים קודמות | D19: 1000 | F19: 4509.209 | H19: 2943.0313
C20: הנחות בארנונה | D20: 30000 | F20: 28000 | H20: 27445.117
C21: הכנסה לכיסוי גירעון פורשים
C22: הכנסה מותנית
C23: ארנונה לכיסוי גרעון
C24: סה"כ הכנסות | D24: 438903.06 | F24: 428172.19 | G24: 0 | H24: 405101.58
C26: ‏הוצאות
C27: שכר כללי | D27: 53988.756 | F27: 54753.031 | H27: 50403.299
C28: פנסיונרים | D28: 34876.464 | F28: 33414.795 | H28: 33590.458
C29: פעולות כלליות | D29: 100705.42 | F29: 104309.23 | H29: 98248.982
C31: סה"כ כלליות | D31: 189570.64 | F31: 192477.06 | H31: 182242.74
C32: שכר עובדי חינוך | D32: 44783.868 | F32: 40746.348 | H32: 39504.648
C33: פעולות חינוך | D33: 89517.003 | F33: 87603.434 | H33: 82059.712
C34: סה"כ חינוך | D34: 134300.87 | F34: 128349.78 | H34: 121564.36
C35: שכר עובדי רווחה | D35: 15012.228 | F35: 15214.347 | H35: 13960.322
C36: פעולות רווחה | D36: 53786.567 | F36: 50032.721 | H36: 46279.103
C37: סה"כ רווחה | D37: 68798.795 | F37: 65247.068 | H37: 60239.425
C38: פרעון מלוות מים וביוב | D38: 1969.747 | F38: 2018.5423 | H38: 2126.291
C39: פרעון מלוות אחרות | D39: 11632.682 | F39: 9490.0772 | H39: 8826.9723
... C44: הנחות בארנונה | D44: 29000 | F44: 27150 | H44: 26504.299
C45: הוצאה לכיסוי גירעון נצבר
C46: הוצאה מותנית
C47: ארנונה לכיסוי גרעון
C48: סה"כ הוצאות | D48: 438903.06 | F48: 428172.19 | H48: 405114.36
C50: עודף (גרעון) | D50: 0.00045057398 | E50: 0 | F50: 0 | H50: -12.77248
C51: סוף מידע טבלה

Sheet עמוד 8
O1: תחילת מידע טבלה
N2: תחילת מידע צד ימין | P2: נוסחא | Q2: סוף מידע צד שמאל
O3: ארנונה כללית והנחות | P3: =('טופס 2 לתקציב'!D7+'טופס 2 לתקציב'!D6+'טופס 2 לתקציב'!D20)/'טופס 2 לתקציב'!D24 -> 0.39381334
O4: יתר עצמיות | P4: =('טופס 2 לתקציב'!D8+'טופס 2 לתקציב'!D9+'טופס 2 לתקציב'!D10)/'טופס 2 לתקציב'!D24 -> 0.21530257
O5: משרד החינוך | P5: ='טופס 2 לתקציב'!D12/'טופס 2 לתקציב'!D24 -> 0.13892525
O6: משרד הרווחה | P6: ='טופס 2 לתקציב'!D13/'טופס 2 לתקציב'!D24 -> 0.10907762
O7: תקבולים אחרים | P7: ='טופס 2 לתקציב'!D14/'טופס 2 לתקציב'!D24 -> 0.0083275792
O8: מענקים משרד הפנים | P8: =('טופס 2 לתקציב'!D15+'טופס 2 לתקציב'!D16)/'טופס 2 לתקציב'!D24 -> 0.13227522
O10: אחרים | P10: ='טופס 2 לתקציב'!D19/'טופס 2 לתקציב'!D24 -> 0.0022784074
O12: סוף מידע טבלה
P13: =SUM(P3:P11) -> 1
O14: מצורף גרף המציג את הנתונים המופיעים בטבלה
O15: סוף מידע

Sheet עמוד 9
P1: תחילת מידע טבלה
O2: תחילת מידע צד ימין | Q2: לעדכן | R2: סוף מידע צד שמאל
P3: הכנסות עצמיות | Q3: =('טופס 2 לתקציב'!D6+'טופס 2 לתקציב'!D7+'טופס 2 לתקציב'!D8+'טופס 2 לתקציב'!D9+'טופס 2 לתקציב'!D10+'טופס 2 לתקציב'!D19)/'טופס 2 לתקציב'!D24 -> 0.5430421
P4: הכנסות ממשלה | Q4: =1-Q3 -> 0.4569579
P5: סוף מידע טבלה
P6: מצורף גרף המציג את הנתונים המופיעים בטבלה
P7: סוף מידע

Sheet עמוד 10
M1: תחילת מידע טבלה
L2: תחילת מידע צד ימין | N2: 2019 | O2: 2017 | P2: סוף מידע צד שמאל
M3: ארנונה כללית | N3: ='טופס 2 לתקציב'!D6 -> 142493.78 | O3: ='טופס 2 לתקציב'!H6 -> 127033.63
M4: מים | N4: ='טופס 2 לתקציב'!D7 -> 352.105 | O4: ='טופס 2 לתקציב'!H7 -> 561.9316
M5: יתר עצמיות | N5: ='טופס 2 לתקציב'!D8+'טופס 2 לתקציב'!D9+'טופס 2 לתקציב'!D10 -> 94496.959 | O5: ='טופס 2 לתקציב'!H8+'טופס 2 לתקציב'!H9+'טופס 2 לתקציב'!H10+'טופס 2 לתקציב'!H18 -> 76321.987
M6: משרד החינוך | N6: ='טופס 2 לתקציב'!D12 -> 60974.717 | O6: ='טופס 2 לתקציב'!H12 -> 59684.61
M7: משרד הרווחה | N7: ='טופס 2 לתקציב'!D13 -> 47874.503 | O7: ='טופס 2 לתקציב'!H13 -> 42994.623
M8: תקבולים אחרים | N8: ='טופס 2 לתקציב'!D14 -> 3655 | O8: ='טופס 2 לתקציב'!H14 -> 9584.884
M9: מענק איזון כללי | N9: ='טופס 2 לתקציב'!D15 -> 50210 | O9: ='טופס 2 לתקציב'!H15 -> 50629.535
M10: מענקים אחרים | N10: ='טופס 2 לתקציב'!D16 -> 7846 | O10: ='טופס 2 לתקציב'!H16 -> 7902.237
M11: הכנסות חד פעמיות ובגין ש"ק | N11: ='טופס 2 לתקציב'!D19 -> 1000 | O11: ='טופס 2 לתקציב'!H19 -> 2943.0313
M12: סוף מידע טבלה
M13: מצורף גרף המציג את הנתונים המופיעים בטבלה
M14: סוף מידע

Sheet עמוד 11
N1: תחילת מידע טבלה
M2: תחילת מידע צד ימין | N2: שכר כללי | O2: ='טופס 2 לתקציב'!D27+'טופס 2 לתקציב'!D28 -> 88865.22 | P2: סוף מידע צד שמאל
N3: פעולות כלליות | O3: ='טופס 2 לתקציב'!D29 -> 100705.42
N5: שכר עובדי חינוך | O5: ='טופס 2 לתקציב'!D32 -> 44783.868
N6: פעולות חינוך | O6: ='טופס 2 לתקציב'!D33 -> 89517.003
N7: שכר עובדי רווחה | O7: ='טופס 2 לתקציב'!D35 -> 15012.228
N8: פעולות רווחה | O8: ='טופס 2 לתקציב'!D36 -> 53786.567
N9: פרעון מלוות מים וביוב | O9: ='טופס 2 לתקציב'!D38 -> 1969.747
N10: פרעון מלוות אחרות | O10: ='טופס 2 לתקציב'!D39 -> 11632.682
N11: הוצאות מימון | O11: ='טופס 2 לתקציב'!D41 -> 2028
N12: הנחות בארנונה | O12: ='טופס 2 לתקציב'!D44 -> 29000
N13: הוצאות ח"פ ובגין שנים קודמות | O13: ='טופס 2 לתקציב'!D42 -> 1602.329
N16: סה"כ הוצאות | O16: =SUM(O2:O14) -> 438903.06
N17: סוף מידע טבלה
N18: מצורף גרף המציג את הנתונים המופיעים בטבלה
N19: סוף מידע

Sheet עמוד 12
N1: תחילת מידע טבלה
M2: תחילת מידע צד ימין | N2: פעולות | O2: =P2/$P$7 -> 0.66128895 | P2: =P7-P3-P4-P5 -> 290241.74 | Q2: סוף מידע צד שמאל
N3: שכר כללי | O3: =P3/$P$7 -> 0.20247118 | P3: ='טופס 2 לתקציב'!D27+'טופס 2 לתקציב'!D28 -> 88865.22
N4: שכר רווחה | O4: =P4/$P$7 -> 0.034203972 | P4: ='טופס 2 לתקציב'!D35 -> 15012.228
N5: שכר חינוך | O5: =P5/$P$7 -> 0.1020359 | P5: ='טופס 2 לתקציב'!D32 -> 44783.868
O7: =SUM(O2:O6) -> 1 | P7: ='טופס 2 לתקציב'!D48 -> 438903.06
N8: סוף מידע טבלה
N9: מצורף גרף המציג את הנתונים המופיעים בטבלה
N10: סוף מידע

Sheet עמוד 13
K1: תחילת מידע טבלה
J2: תחילת מידע צד ימין | L2: תקציב 2019 | M2: ביצוע 2017 | N2: סוף מידע צד שמאל
K3: שכר כללי | L3: ='טופס 2 לתקציב'!D27+'טופס 2 לתקציב'!D28 -> 88865.22 | M3: ='טופס 2 לתקציב'!H27+'טופס 2 לתקציב'!H28 -> 83993.757
K4: פעולות כלליות | L4: ='טופס 2 לתקציב'!D29 -> 100705.42 | M4: ='טופס 2 לתקציב'!H29 -> 98248.982
K5: שכר עובדי חינוך | L5: ='טופס 2 לתקציב'!D32 -> 44783.868 | M5: ='טופס 2 לתקציב'!H32 -> 39504.648
K6: פעולות חינוך | L6: ='טופס 2 לתקציב'!D33 -> 89517.003 | M6: ='טופס 2 לתקציב'!H33 -> 82059.712
K7: שכר עובדי רווחה | L7: ='טופס 2 לתקציב'!D35 -> 15012.228 | M7: ='טופס 2 לתקציב'!H35 -> 13960.322
K8: פעולות רווחה | L8: ='טופס 2 לתקציב'!D36 -> 53786.567 | M8: ='טופס 2 לתקציב'!H36 -> 46279.103
K9: סה"כ פרעון מלוות | L9: ='טופס 2 לתקציב'!D38+'טופס 2 לתקציב'!D39 -> 13602.429 | M9: ='טופס 2 לתקציב'!H38+'טופס 2 לתקציב'!H39 -> 10953.263
K10: הוצאות מימון | L10: ='טופס 2 לתקציב'!D41 -> 2028 | M10: ='טופס 2 לתקציב'!H41 -> 2115.5284
K11: הוצאות ח"פ ושנים קודמות | L11: ='טופס 2 לתקציב'!D42 -> 1602.329 | M11: ='טופס 2 לתקציב'!H42 -> 1494.7408
K13: הנחות בארנונה | L13: ='טופס 2 לתקציב'!D44 -> 29000 | M13: ='טופס 2 לתקציב'!H44 -> 26504.299
K15: סה"כ הוצאות כולל מותנה | L15: =SUM(L3:L14) -> 438903.06 | M15: =SUM(M3:M14) -> 405114.36
K16: סוף מידע טבלה
K17: מצורף גרף המציג את הנתונים המופיעים בטבלה
K18: סוף מידע

Sheet שכר ומשרות לפי תקציב
F1: עריית עכו
E2: הצעת תקציב לשנת 2019
E4: שכר ומשרות לפי פרקי תקציב
C6: תחילת מידע טבלה
B7: תחילת מידע צד ימין | C7: מס' פרק | D7: שם הפרק | E7: ביצוע 2017 | G7: תקציב 2018 | I7: ביצוע משוער 2018 | K7: מסגרת תקציב לשנת 2019 | M7: סוף מידע צד שמאל
E8: מס' משרות | F8: עלויות שכר | G8: מס' משרות | H8: עלויות שכר | I8: מס' משרות | J8: עלויות שכר | K8: מס' משרות | L8: עלויות שכר
C10: 6 | D10: הנהלה וכלליות
C11: 61 | D11: נבחרים | E11: 3 | F11: 1922 | G11: 3 | H11: 1943 | I11: 3 | J11: 2122 | K11: 3 | L11: 2156
C12: 61 | D12: מנהל כללי | E12: 32.5 | F12: 7855 | G12: 32.5 | H12: 8087 | I12: =35.5-3 -> 32.5 | J12: 8152 | K12: 34 | L12: 7131
C13: 62 | D13: מנהל כספים | E13: 13.5 | F13: 3043 | G13: 14.5 | H13: 3367 | I13: 15.9 | J13: 3599 | K13: 16.5 | L13: 3775
D14: סה"כ הנהלה וכלליות | E14: =SUM(E11:E13) -> 49 | F14: =SUM(F11:F13) -> 12820 | G14: =SUM(G11:G13) -> 50 | H14: =SUM(H11:H13) -> 13397 | I14: =SUM(I11:I13) -> 51.4 | J14: =SUM(J11:J13) -> 13873 | K14: =SUM(K11:K13) -> 53.5 | L14: =SUM(L11:L13) -> 13062
C16: 7 | D16: שרותים מקומיים
C17: 71 | D17: תברואה | E17: 45 | F17: 7673 | G17: 51 | H17: 8404 | I17: 48.5 | J17: 8341 | K17: 49 | L17: 8674
C18: 72 | D18: שמירה וביטחון | E18: 22 | F18: 3575 | G18: 18 | H18: 2968 | I18: 21.5 | J18: 3496 | K18: 22.2 | L18: 3544
C19: 73 | D19: תכנון ובנין עיר | E19: 19 | F19: 4645 | G19: 22 | H19: 5489 | I19: 21.1 | J19: 5028 | K19: 22 | L19: 5306
C20: 74 | D20: נכסים ציבוריים | E20: 39 | F20: 6136 | G20: 42 | H20: 6659 | I20: 41.2 | J20: 6796 | K20: 39.8 | L20: 6424
C21: 76 | D21: שרותים עירוניים שונים | E21: 3 | F21: 534 | G21: 6.5 | H21: 1123 | I21: 4.9 | J21: 1050 | K21: 4.1 | L21: 944
C22: 78 | D22: פיקוח עירוני | E22: 15 | F22: 2904 | G22: 24.5 | H22: 4320 | I22: 19.5 | J22: 3432 | K22: 24.9 | L22: 3961
C23: 79 | D23: שירותים חקלאיים
D24: סה"כ שירותים מקומיים | E24: =SUM(E17:E23) -> 143 | F24: =SUM(F17:F23) -> 25467 | G24: =SUM(G17:G23) -> 164 | H24: =SUM(H17:H23) -> 28963 | I24: =SUM(I17:I23) -> 156.7 | J24: =SUM(J17:J23) -> 28143 | K24: =SUM(K17:K23) -> 162 | L24: =SUM(L17:L23) -> 28853
C26: 8 | D26: שרותים ממלכתיים
C27: 81 | D27: חינוך | E27: 342 | F27: 42361 | G27: 323 | H27: 43651 | I27: 339.7 | J27: 45707 | K27: =337+14 -> 351 | L27: 47873
C28: 82 | D28: תרבות | E28: 30 | F28: 4601 | G28: 30 | H28: 4816 | I28: 30.1 | J28: 4565 | K28: 27.6 | L28: 4540
C29: 83 | D29: בריאות
C30: 84 | D30: רווחה | E30: 83 | F30: 13960 | G30: 88 | H30: 15214 | I30: 83.1 | J30: 14327 | K30: =81.7+1 -> 82.7 | L30: 15012
C31: 85 | D31: דת
C32: 86 | D32: קליטת עליה | E32: 2 | F32: 463 | G32: 2 | H32: 461 | I32: 2 | J32: 496 | K32: 2 | L32: 513
C33: 87 | D33: איכות הסביבה
D34: סה"כ שירותים ממלכתיים | E34: =SUM(E27:E33) -> 457 | F34: =SUM(F27:F33) -> 61385 | G34: =SUM(G27:G33) -> 443 | H34: =SUM(H27:H33) -> 64142 | I34: =SUM(I27:I33) -> 454.9 | J34: =SUM(J27:J33) -> 65095 | K34: =SUM(K27:K33) -> 463.3 | L34: =SUM(L27:L33) -> 67938
C36: 9 | D36: מפעלים
C37: 91 | D37: מים | F37: 398
C38: 92 | D38: בתי מטבחיים
C39: 93 | D39: נכסים | E39: 21 | F39: 3798 | G39: 23 | H39: 4212 | I39: 22.2 | J39: 4176 | K39: 20.6 | L39: 3932
C40: 94 | D40: תחבורה
C41: 97 | D41: מפעלי ביוב
C42: 98 | D42: מפעלים אחרים | F42: 252 | H42: 280 | J42: 282 | L42: 270
D43: סה"כ מפעלים | E43: =SUM(E37:E42) -> 21 | F43: =SUM(F37:F42) -> 4448 | G43: =SUM(G37:G42) -> 23 | H43: =SUM(H37:H42) -> 4492 | I43: =SUM(I37:I42) -> 22.2 | J43: =SUM(J37:J42) -> 4458 | K43: =SUM(K37:K42) -> 20.6 | L43: =SUM(L37:L42) -> 4202
D44: גמלאים | E44: 244 | F44: 33339 | G44: 246 | H44: 33135 | I44: 244 | J44: 34221 | K44: 252.2 | L44: 34606
D45: סה"כ כללי | E45: =E44+E43+E34+E24+E14 -> 914 | F45: =F44+F43+F34+F24+F14 -> 137459 | G45: =G44+G43+G34+G24+G14 -> 926 | H45: =H44+H43+H34+H24+H14 -> 144129 | I45: =I44+I43+I34+I24+I14 -> 929.2 | J45: =J44+J43+J34+J24+J14 -> 145790 | K45: =K44+K43+K34+K24+K14 -> 951.6 | L45: =L44+L43+L34+L24+L14 -> 148661
C46: סוף מידע צד שמאל
C47: סוף מידע

Sheet ריכוז תקבולים ותשלומים
F1: עריית עכו
E2: הצעת תקציב לשנת 2019
D4: ריכוז תקבולים ותשלומים של התקציב הרגיל לפי פרקי תקציב
F5: באלפי ₪
C7: תחילת מידע טבלה
B8: תחילת מידע צד ימין | C8: מס' פרק | D8: שם הפרק | E8: תקבולים | G8: תשלומים | H8: תשלומים | K8: סוף מידע צד שמאל
E9: הצעה | F9: תקציב | G9: ביצוע | H9: הצעה | I9: תקציב | J9: ביצוע
E10: 2019 | F10: 2018 | G10: 2017 | H10: 2019 | I10: 2018 | J10: 2017
C11: 1 | D11: מיסים ומענקים
C12: 11 18 | D12: מסים ואגרות | E12: =('מפורט סעיפים'!F12+'מפורט סעיפים'!F14+'מפורט סעיפים'!F22+'מפורט סעיפים'!F24)/1000 -> 191634.65 | F12: =('מפורט סעיפים'!H12+'מפורט סעיפים'!H14+'מפורט סעיפים'!H22+'מפורט סעיפים'!H24)/1000 -> 178412.21 | G12: =('מפורט סעיפים'!J12+'מפורט סעיפים'!J14+'מפורט סעיפים'!J22+'מפורט סעיפים'!J24)/1000 -> 163159.58
C13: 19 | D13: מענקים | E13: ='מפורט סעיפים'!F27/1000 -> 58056 | F13: ='מפורט סעיפים'!H27/1000 -> 56037.888 | G13: ='מפורט סעיפים'!J27/1000 -> 58531.772
D15: סה"כ | E15: =SUM(E12:E13) -> 249690.65 | F15: =SUM(F12:F13) -> 234450.1 | G15: =SUM(G12:G13) -> 221691.35
C17: 6 | D17: הנהלה וכלליות
C18: 61 | D18: מנהל כללי | H18: ='מפורט סעיפים'!F451/1000 -> 14139.774 | I18: ='מפורט סעיפים'!H451/1000 -> 16129.084 | J18: ='מפורט סעיפים'!J451/1000 -> 14263.324
C19: 62 | D19: מנהל כספי | H19: ='מפורט סעיפים'!F507/1000 -> 13016.537 | I19: ='מפורט סעיפים'!H507/1000 -> 12162.342 | J19: ='מפורט סעיפים'!J507/1000 -> 12017.221
C20: 63 | D20: הוצאות מימון | H20: ='מפורט סעיפים'!F512/1000 -> 2028 | I20: ='מפורט סעיפים'!H512/1000 -> 2126.6667 | J20: ='מפורט סעיפים'!J512/1000 -> 2115.5284
C21: 64 | D21: פרעון מלוות | H21: ='מפורט סעיפים'!F522/1000 -> 13602.429 | I21: ='מפורט סעיפים'!H522/1000 -> 11508.619 | J21: ='מפורט סעיפים'!J522/1000 -> 10953.263
D22: סה"כ | E22: =SUM(E18:E21) -> 0 | F22: =SUM(F18:F21) -> 0 | G22: =SUM(G18:G21) -> 0 | H22: =SUM(H18:H21) -> 42786.741 | I22: =SUM(I18:I21) -> 41926.712 | J22: =SUM(J18:J21) -> 39349.337
D25: שרותים מקומיים
C26: 71/21 | D26: תברואה | E26: ='מפורט סעיפים'!F41/1000 -> 2007.6 | F26: ='מפורט סעיפים'!H41/1000 -> 1745.9037 | G26: ='מפורט סעיפים'!J41/1000 -> 1588.5025 | H26: ='מפורט סעיפים'!F620/1000 -> 38634.836 | I26: ='מפורט סעיפים'!H620/1000 -> 37713.87 | J26: ='מפורט סעיפים'!J620/1000 -> 34895.798
C27: 72/22 | D27: שמירה ובטחון | E27: ='מפורט סעיפים'!F50/1000 -> 4592.12 | F27: ='מפורט סעיפים'!H50/1000 -> 4468.591 | G27: ='מפורט סעיפים'!J50/1000 -> 3680.6095 | H27: ='מפורט סעיפים'!F660/1000 -> 5544.5064 | I27: ='מפורט סעיפים'!H660/1000 -> 5452.8373 | J27: ='מפורט סעיפים'!J660/1000 -> 8892.1126
C28: 73/23 | D28: תכנון ובנין עיר | E28: ='מפורט סעיפים'!F60/1000 -> 10778.968 | F28: ='מפורט סעיפים'!H60/1000 -> 17906.056 | G28: ='מפורט סעיפים'!J60/1000 -> 3587.6889 | H28: ='מפורט סעיפים'!F700/1000 -> 6140.863 | I28: ='מפורט סעיפים'!H700/1000 -> 6430.841 | J28: ='מפורט סעיפים'!J700/1000 -> 9927.8316
C29: 74/24 | D29: נכסים ציבוריים | E29: ='מפורט סעיפים'!F62/1000 -> 153 | F29: ='מפורט סעיפים'!H62/1000 -> 100 | G29: ='מפורט סעיפים'!J62/1000 -> 113.8329 | H29: ='מפורט סעיפים'!F780/1000 -> 25135.715 | I29: ='מפורט סעיפים'!H780/1000 -> 25264.444 | J29: ='מפורט סעיפים'!J780/1000 -> 20377.077
C30: 75/25 | D30: חגיגות וארועים | E30: ='מפורט סעיפים'!F65/1000 -> 440 | F30: ='מפורט סעיפים'!H65/1000 -> 800 | H30: ='מפורט סעיפים'!F800/1000 -> 6305.195 | I30: ='מפורט סעיפים'!H800/1000 -> 7237.121 | J30: ='מפורט סעיפים'!J800/1000 -> 3299.3895
C31: 76/26 | D31: שירותים שונים והשתת' | E31: ='מפורט סעיפים'!F72/1000 -> 615 | F31: ='מפורט סעיפים'!H72/1000 -> 734.68 | G31: ='מפורט סעיפים'!J72/1000 -> 691.73008 | H31: ='מפורט סעיפים'!F823/1000 -> 3655.4502 | I31: ='מפורט סעיפים'!H823/1000 -> 4164.7519 | J31: ='מפורט סעיפים'!J823/1000 -> 3467.9974
C32: 78/28 | D32: פיקוח עירוני | E32: ='מפורט סעיפים'!F76/1000 -> 700 | F32: ='מפורט סעיפים'!H76/1000 -> 530 | G32: ='מפורט סעיפים'!J76/1000 -> 558.69109 | H32: ='מפורט סעיפים'!F869/1000 -> 5080.4664 | I32: ='מפורט סעיפים'!H869/1000 -> 5865.4666 | J32: ='מפורט סעיפים'!J869/1000 -> 4223.2377
C33: 77/27 | D33: פיתוח כלכלי | H33: ='מפורט סעיפים'!F834/1000 -> 216.0264 | I33: ='מפורט סעיפים'!H834/1000 -> 426.762 | J33: ='מפורט סעיפים'!J834/1000 -> 527.9171
D34: סה"כ | E34: =SUM(E26:E33) -> 19286.688 | F34: =SUM(F26:F33) -> 26285.231 | G34: =SUM(G26:G33) -> 10221.055 | H34: =SUM(H26:H33) -> 90713.058 | I34: =SUM(I26:I33) -> 92556.093 | J34: =SUM(J26:J33) -> 85611.361
D37: שרותים ממלכתיים
C39: 81/31 | D39: חינוך | E39: ='מפורט סעיפים'!F138/1000 -> 104799.48 | F39: ='מפורט סעיפים'!H138/1000 -> 101709.63 | G39: ='מפורט סעיפים'!J138/1000 -> 101877.01 | H39: ='מפורט סעיפים'!F1015/1000 -> 138052.07 | I39: ='מפורט סעיפים'!H1015/1000 -> 132557.05 | J39: ='מפורט סעיפים'!J1015/1000 -> 125689.3
C40: 82/32 | D40: תרבות | E40: ='מפורט סעיפים'!F155/1000 -> 5686 | F40: ='מפורט סעיפים'!H155/1000 -> 5533.417 | G40: ='מפורט סעיפים'!J155/1000+'מפורט סעיפים'!J307/1000 -> 5315.8087 | H40: ='מפורט סעיפים'!F1097/1000 -> 21404.413 | I40: ='מפורט סעיפים'!H1097/1000 -> 22222.425 | J40: ='מפורט סעיפים'!J1097/1000 -> 20952.175
C41: 83/33 | D41: בריאות | H41: ='מפורט סעיפים'!F1099/1000 -> 180 | I41: ='מפורט סעיפים'!H1099/1000 -> 180 | J41: ='מפורט סעיפים'!J1099/1000 -> 180
C42: 84/34 | D42: רווחה | E42: ='מפורט סעיפים'!F303/1000 -> 48646.003 | F42: ='מפורט סעיפים'!H303/1000 -> 45385.991 | G42: ='מפורט סעיפים'!J303/1000 -> 43860.009 | H42: ='מפורט סעיפים'!F1279/1000 -> 68798.795 | I42: ='מפורט סעיפים'!H1279/1000 -> 65247.068 | J42: ='מפורט סעיפים'!J1279/1000 -> 60239.425
C43: 85/35 | D43: דת | H43: ='מפורט סעיפים'!F1286/1000 -> 2037.442 | I43: ='מפורט סעיפים'!H1286/1000 -> 1935.526 | J43: ='מפורט סעיפים'!J1286/1000 -> 1991.6237
C44: 86/36 | D44: קליטת עליה | E44: ='מפורט סעיפים'!F305/1000 -> 80 | F44: ='מפורט סעיפים'!H305/1000 -> 30 | G44: ='מפורט סעיפים'!J305/1000 -> 72.385 | H44: ='מפורט סעיפים'!F1297/1000 -> 1489.5238 | I44: ='מפורט סעיפים'!H1297/1000 -> 1343.144 | J44: ='מפורט סעיפים'!J1297/1000 -> 1117.9816
C45: 87/37 | D45: איכות הסביבה | H45: ='מפורט סעיפים'!F1299/1000 -> 188.825 | I45: ='מפורט סעיפים'!H1299/1000 -> 161.85 | J45: ='מפורט סעיפים'!J1299/1000 -> 162.15
D46: סה"כ | E46: =SUM(E39:E45) -> 159211.48 | F46: =SUM(F39:F45) -> 152659.03 | G46: =SUM(G39:G45) -> 151125.21 | H46: =SUM(H39:H45) -> 232151.07 | I46: =SUM(I39:I45) -> 223647.07 | J46: =SUM(J39:J45) -> 210332.66
D49: מפעלים
C50: 91/41 | D50: מים | E50: ='מפורט סעיפים'!F316/1000 -> 358.825 | F50: ='מפורט סעיפים'!H316/1000 -> 424 | G50: ='מפורט סעיפים'!J316/1000 -> 965.79531 | H50: ='מפורט סעיפים'!F1303/1000 -> 0 | I50: ='מפורט סעיפים'!H1303/1000 -> 0 | J50: ='מפורט סעיפים'!J1303/1000 -> 398.48001
C51: 93/43 | D51: נכסים | E51: ='מפורט סעיפים'!F325/1000 -> 2959.222 | F51: ='מפורט סעיפים'!H325/1000 -> 2482.332 | G51: ='מפורט סעיפים'!J325/1000 -> 2783.0758 | H51: ='מפורט סעיפים'!F1377/1000 -> 7669.2596 | I51: ='מפורט סעיפים'!H1377/1000 -> 8049.9093 | J51: ='מפורט סעיפים'!J1377/1000 -> 7722.8832
C52: 97/47 | D52: ביוב | E52: ='מפורט סעיפים'!F340/1000 -> 100 | F52: ='מפורט סעיפים'!H340/1000 -> 120 | G52: ='מפורט סעיפים'!J340/1000 -> 2310.0795 | H52: ='מפורט סעיפים'!F1380/1000 -> 104.14 | I52: ='מפורט סעיפים'!H1380/1000 -> 114.62 | J52: ='מפורט סעיפים'!J1380/1000 -> 110.13795
C53: 98/44 | D53: אחרים | E53: ='מפורט סעיפים'!F335/1000 -> 6296.2 | F53: ='מפורט סעיפים'!H335/1000 -> 7242.291 | G53: ='מפורט סעיפים'!J335/1000 -> 7561.9806 | H53: ='מפורט סעיפים'!F1384/1000 -> 270.574 | I53: ='מפורט סעיפים'!H1384/1000 -> 280 | J53: ='מפורט סעיפים'!J1384/1000 -> 251.74034
D54: סה"כ | E54: =SUM(E50:E53) -> 9714.247 | F54: =SUM(F50:F53) -> 10268.623 | G54: =SUM(G50:G53) -> 13620.931 | H54: =SUM(H50:H53) -> 8043.9736 | I54: =SUM(I50:I53) -> 8444.5293 | J54: =SUM(J50:J53) -> 8483.2415
D57: תקבולים לא רגילים
C58: 99/51-9 | D58: תקבולים ותשלומים | E58: ='מפורט סעיפים'!F348/1000 -> 1000 | F58: ='מפורט סעיפים'!H348/1000 -> 4509.209 | G58: ='מפורט סעיפים'!J348/1000 -> 8443.0313 | H58: ='מפורט סעיפים'!F1392/1000 -> 65208.219 | I58: ='מפורט סעיפים'!H1392/1000 -> 61597.795 | J58: ='מפורט סעיפים'!J1392/1000 -> 61337.758
D60: סה"כ | E60: =SUM(E58:E59) -> 1000 | F60: =SUM(F58:F59) -> 4509.209 | G60: =SUM(G58:G59) -> 8443.0313 | H60: =SUM(H58:H59) -> 65208.219 | I60: =SUM(I58:I59) -> 61597.795 | J60: =SUM(J58:J59) -> 61337.758
D62: תקציבי עזר | G62: ='מפורט סעיפים'!J349/1000 -> 0 | J62: ='מפורט סעיפים'!J1394/1000 -> 0
D63: סה"כ | E63: =E15+E22+E34+E46+E54+E60 -> 438903.06 | F63: =F15+F22+F34+F46+F54+F60 -> 428172.19 | G63: =G15+G22+G34+G46+G54+G60+G62 -> 405101.58 | H63: =H15+H22+H34+H46+H54+H60 -> 438903.06 | I63: =I15+I22+I34+I46+I54+I60 -> 428172.19 | J63: =J15+J22+J34+J46+J54+J60+J62 -> 405114.36
C64: סוף מידע טבלה
C65: סוף מידע

Sheet מפורט סעיפים
B3: עריית עכו | E3: הצעת תקציב לשנת 2019
B5: תחילת מידע טבלה
A6: תחילת מידע צד ימין | B6: סעיף תקציב | D6: שם סעיף | F6: תקציב 2019 | H6: תקציב 2018 | J6: ביצוע 2017 | K6: סוף מידע צד שמאל
B7: 1111100100 | D7: ארנונה כללית | F7: 130493777 | H7: 121650035 | J7: 1.155763e+08
B8: 1111200100 | D8: ארנונה כללית פיגורים | F8: 12000000 | H8: 9500000 | J8: 11457332
B9: 1111200216 | D9: הוצאות רישום ועיקול32- | F9: 210000 | H9: 404400 | J9: 437447.92
B10: 1111300291 | D10: ארנונה השתתפות מטה אשר | F10: 550000 | H10: 550000 | J10: 504038.64
B11: 1111400100 | D11: ארנונה מרפאל | F11: 12350000 | H11: 12350000 | J11: 4750000
D12: סה"כ פרק 1.111 ארנונה כללית | F12: 155603777 | G12: 0 | H12: 144454435 | I12: 0 | J12: 1.3272511e+08
B13: 1113000290 | D13: הנחות מסים | F13: 30000000 | H13: 28000000 | J13: 27445117
D14: סה"כ פרק 1.11 ארנונות | F14: 30000000 | G14: 0 | H14: 28000000 | I14: 0 | J14: 27445117
B15: 1121000220 | D15: ניהול תיקים,תעודות ואישורים | F15: 2000 | H15: 1890.46 | J15: 1755.92
B16: 1122000220 | D16: אגרות רשיונות לשלטים | F16: 1900000 | H16: 1700000 | J16: 1434143.6
B17: 1122000221 | D17: אגרת שלטים פיגורים | F17: 450000 | H17: 450000 | J17: 359852.15
B18: 1123000220 | D18: הכנסות גביה מתאגיד מים | F18: 0 | H18: 0 | J18: 0
B19: 1124100220 | D19: מודעות על לוחות | F19: 1000 | H19: 0 | J19: 0
B20: 1129100220 | D20: הוצ.רישום ועיקול סוג ש | F20: 135600 | H20: 254932.8 | J20: 305728.17
B21: 1129100221 | D21: הכנסות גביה עיקול בנק_ | F21: 782269 | H21: 780951.6 | J21: 881879.92
D22: סה"כ פרק 1.12 אגרות | F22: 3270869 | G22: 0 | H22: 3187774.9 | I22: 0 | J22: 2983359.8
B23: 1160000662 | D23: הכנסות מימון | F23: 2760000 | H23: 2770000 | J23: 5991.34
D24: סה"כ פרק 1.16 מימון | F24: 2760000 | G24: 0 | H24: 2770000 | I24: 0 | J24: 5991.34
B25: 1191000910 | D25: מענק איזון | F25: 50210000 | H25: 50210000 | J25: 50629535
B26: 1192000910 | D26: מענקים אחר' למשרד הפנים | F26: 7846000 | H26: 5827888 | J26: 7902237
D27: סה"כ פרק 1.19 מענקים כלליים | F27: 58056000 | G27: 0 | H27: 56037888 | I27: 0 | J27: 58531772
D28: סה"כ פרק 1.1 מיסים ומענק כללי | F28: 249690646 | G28: 0 | H28: 2.344501e+08 | I28: 0 | J28: 2.2169135e+08
B29: 1212300690 | D29: מכרזים-תברואה | F29: 0 | H29: 0 | J29: 0
B30: 1212300292 | D30: החזרים תאגיד-ת.מ.י.ר פינוי ודמ"ש קרטון | F30: 100800 | H30: 0 | J30: 0
B31: 1212400220 | D31: אגרת נקוי חצרות | F31: 1052000 | H31: 950000 | J31: 719243.8
B32: 1212400221 | D32: אג.נקוי חצרות פיגורים | F32: 200000 | H32: 250000 | J32: 211667.2
B33: 1213000220 | D33: למלאכה ותעשיה-רישוי עס | F33: 54000 | H33: 37666.8 | J33: 39653.3
B34: 1213000221 | D34: רוכלים | F34: 0 | H34: 0 | J34: 45
B35: 1214200221 | D35: דמי בדיקת בשר קפוא | F35: 210000 | H35: 135000 | J35: 250047
B36: 1214200960 | D36: השתתפות מש.החקלאות סירוס חתולים | F36: 200000 | H36: 200000 | J36: 200000
B37: 1214201220 | D37: כללי וטרינר106- | F37: 0 | H37: 0 | J37: 0
B38: 1214300220 | D38: דמי חיסון אגרות ושבבים | F38: 170800 | H38: 153289.33 | J38: 151222.43
B39: 1214301220 | D39: קנסות וטרינר109- | F39: 20000 | H39: 19947.6 | J39: 16623.8
D41: סה"כ פרק 1.21 תברואה | F41: 2007600 | G41: 0 | H41: 1745903.7 | I41: 0 | J41: 1588502.5
B42: 1222000440 | D42: שמירה בטחונית | F42: 35000 | H42: 35000 | J42: 29524
B43: 1222000441 | D43: מנעולים עבור מקלטים משותפים | F43: 0 | H43: 0 | J43: 1200
B44: 1222000970 | D44: השתתפות המשרד לביטחון פנים בשיטור קהילתי | F44: 0 | H44: 178751 | J44: 0
B45: 1222000971 | D45: השתתפות משרד הפנים באבטחת מאוימים | F45: 0 | H45: 120864 | J45: 749571
B46: 1222100400 | D46: אג.שמירה פיגור | F46: 350000 | H46: 391000 | J46: 361739.17
B47: 1222100440 | D47: אגרת שמירה | F47: 4165000 | H47: 3742976 | J47: 2538575.3
B48: 1222100910 | D48: השתת.משרד הפנים משא"ז | F48: 0 | H48: 0 | J48: 0
B49: 1223000410 | D49: הכנסות המטווח | F49: 42120 | H49: 0 | J49: 0
D50: סה"כ פרק 1.22 שמירה ובטחון | F50: 4592120 | G50: 0 | H50: 4468591 | I50: 0 | J50: 3680609.5
B51: 1233000690 | D51: מתן מידע | F51: 54000 | H51: 50000.2 | J51: 60795.44
B52: 1233100220 | D52: אגרת רשיונות בניה | F52: 5335000 | H52: 3353126 | J52: 1994916.8
B53: 1233200220 | D53: אגרת חפירה | F53: 0 | H53: 0 | J53: 0
B54: 1233200290 | D54: היטל השבחה_ס.ש757. | F54: 4700000 | H54: 10411263 | J54: 1001837.9
B55: 1233200291 | D55: היטל סלילה למימון מלוות פיתוח | F55: 464968 | H55: 450000 | J55: 529788.81
B56: 1233200292 | D56: היטל תיעול למימון אגרת ניקוז | F56: 0 | H56: 0 | J56: 0
B57: 1233200293 | D57: תקורות עבור פרוקטים היטלי פיתוח | F57: 0 | H57: 1400000 | J57: 0
B58: 1233200294 | D58: תקורות הסכמי גג | F58: 225000 | H58: 2241666.7 | J58: 0
B59: 1233300290 | D59: אגרת מבנים מסוכנים | F59: 0 | H59: 0 | J59: 350
D60: סה"כ פרק 1.23 תכנון ובניין עיר | F60: 10778968 | G60: 0 | H60: 17906056 | I60: 0 | J60: 3587688.9
B61: 1242000220 | D61: דמי שמוש במדרכה | F61: 153000 | H61: 100000 | J61: 113832.9
D62: סה"כ פרק 1.24 נכסים ציבוריים | F62: 153000 | G62: 0 | H62: 100000 | I62: 0 | J62: 113832.9
B63: 1252000490 | D63: חסויות פסטיבל מוסיקה-ערבסק | F63: 280000 | H63: 650000 | J63: 0
B64: 1252000990 | D64: חסויות פסטיבל הרשות לפיתוח הגליל | F64: 160000 | H64: 150000 | J64: 0
D65: סה"כ פרק 1.25 נכסים ציבוריים | F65: 440000 | G65: 0 | H65: 800000 | I65: 0 | J65: 0
B66: 1261000421 | D66: שירותי מוקד | F66: 200000 | H66: 200000 | J66: 200000
B67: 1269000662 | D67: הכנסות שונות | F67: 0 | H67: 0 | J67: 0
B68: 1269000690 | D68: הכנסות מכרזים שונים | F68: 200000 | H68: 100000 | J68: 100530
B69: 1269000790 | D69: הכנסות שונות | F69: 200000 | H69: 219680 | J69: 229016.21
B70: 1269000791 | D70: הכנסות משכירות אתרי עבודות ברחבי העיר | F70: 0 | H70: 200000 | J70: 147671.87
B71: 1269000792 | D71: הכנסות בגין שרותי מחשוב | F71: 15000 | H71: 15000 | J71: 14512
D72: סה"כ פרק 1.26 שירותים עירוניים שונים | F72: 615000 | G72: 0 | H72: 734680 | I72: 0 | J72: 691730.08
B73: 1281000215 | D73: יתרת אג.שימור רחובות8- | F73: 250000 | H73: 220000 | J73: 164991.83
B74: 1281000222 | D74: ב.ק. שילוט | F74: 0 | H74: 0 | J74: 410.23
B75: 1282000490 | D75: הכנסות משפטיות | F75: 450000 | H75: 310000 | J75: 393289.03
D76: סה"כ פרק 1.28 פיקוח עירוני | F76: 700000 | G76: 0 | H76: 530000 | I76: 0 | J76: 558691.09
D77: סה"כ פרק 1.2 שירותים מקומיים | F77: 19286688 | G77: 0 | H77: 26285231 | I77: 0 | J77: 10221055
B78: 1312200420 | D78: הכנסות ביטוח תאונות אישיות | F78: 104811 | H78: 93845 | J78: 53215.66
B79: 1312200440 | D79: חדר מלח מרכז לגיל הרך | F79: 89000 | H79: 17000 | J79: 42077.6
B80: 1312200790 | D80: מרכז גיל הרך-דגם בן משרדי | F80: 194431 | H80: 124114 | J80: 121791
B81: 1312200920 | D81: השתת' הממשלה לעוזרות ג | F81: 0 | H81: 0 | J81: -16905
B82: 1312201420 | D82: הכנסות סל תרבות | F82: 0 | H82: 143640 | J82: 0
B83: 1312210420 | D83: הכנסות מהורים-סל תרבות | F83: 168981 | H83: 0 | J83: 85724.28
B84: 1312210920 | D84: גני קדם חובה" | F84: 20417262 | H84: 20271332 | J84: 20590972
B85: 1312220920 | D85: שכר גננות עובדות מדינה לא עודפות | F85: 4967242 | H85: 4969622 | J85: 5131015.7
B86: 1312230920 | D86: פ.העשרה חנמ גנ"י" | F86: 37000 | H86: 20000 | J86: 37544.5
B87: 1312500440 | D87: פנימיות יום-גני" | F87: 2424718 | H87: 2397494 | J87: 2180110.5
B88: 1312501440 | D88: הכנסות מהורים מילת | F88: 1732062 | H88: 928125 | J88: 573233.4
B89: 1312501920 | D89: הכנסות מילת | F89: 1968518 | H89: 1907350 | J89: 1498941
... B137: 1319999920 | D137: טיפול בפרט | F137: 0 | H137: 0 | J137: 4388
D138: סה"כ פרק 1.31 חינוך | F138: 104799477 | G138: 0 | H138: 101709626 | I138: 0 | J138: 1.0187701e+08
B139: 1322000410 | D139: הכנסות מכרטיסים | F139: 410000 | H139: 300000 | J139: 188280
B140: 1322000411 | D140: חסויות | F140: 70000 | H140: 120000 | J140: 104776
B141: 1322000740 | D141: מפעל הפיס פסטיבל עכו | F141: 69000 | H141: 91000 | J141: 91000
B142: 1322000790 | D142: רש.לפיתוח הגליל פסטיבל עכו | F142: 177000 | H142: 177065 | J142: 177065
B143: 1322000920 | D143: משרד התרבות | F143: 1950000 | H143: 1832690 | J143: 1937369
B144: 1323000420 | D144: הכנסות מספריות | F144: 5000 | H144: 15000 | J144: 17870
B145: 1325200220 | D145: דמי שירות | F145: 1330000 | H145: 1330100 | J145: 1313580.9
B146: 1325200221 | D146: דמי השכרת שירות 967 | F146: 20000 | H146: 10000 | J146: 14000
B147: 1325200410 | D147: סדרת צלילי מוצש" | F147: 15000 | H147: 10000 | J147: 24100
B148: 1325200411 | D148: הכנסות עצמיות תזמורת אמית | F148: 45000 | H148: 45000 | J148: 45000
B149: 1325200700 | D149: קרן מלגות פרידמן ומגבית קנדה | F149: 100000 | H149: 80000 | J149: 120000
B150: 1325200701 | D150: מלגות לתלמידים/תרומות לקונסרבטריון | F150: 0 | H150: 0 | J150: 0
... B153: 1329300921 | D153: הכנסות שונות ספורט | F153: 150000 | H153: 165000 | J153: 84823.79
...

Sheet השתתפות בחינוך ורווחה
E2: שנת 2013
C3: גובה ארנונה | E3: =107600000 -> 107600000
C4: 35% למגורים | E4: =E3*0.35 -> 37660000
C6: השתתפות בחינוך בתקציב 2013 | E6: =#REF!*1000 -> #REF!
C7: השתתפות ברווחה בתקציב 2013 | E7: =#REF!*1000 -> #REF!
E8: =SUM(E6:E7) -> #REF!
C10: תרבות
C12: הכנסות | E12: =4941406-120000 -> 4821406
C13: הוצאות תרבות | E13: =2204500+17417406-10000-1000000-223769-169937-100000-120000-2300000-13309-17000-50000 -> 15617891
C14: השתתפות עירייה | E14: =E12-E13 -> -10796485
C16: נטו | E16: =E4+E8+E14 -> #REF!

Sheet גליון עזר חדש
C1: תקציב 2017 | D1: תקציב 2016 | E1: ביצוע 2016 | F1: ביצוע 2015 | G1: ביצוע 2014 | H1: ביצוע 2013
A2: 1111100100 | B2: ארנונה כללית | C2: =115800000-3824423+3824423+200000 -> 116000000 | D2: 108777825 | E2: 84699983 | F2: 1.0421972e+08 | G2: 99948887 | H2: 93658958
A3: 1111200100 | B3: ארנונה כללית פיגורים | C3: 9500000 | D3: 10700000 | E3: 8190846.9 | F3: 9580731.8 | G3: 14105709 | H3: 30162688
A4: 1111200216 | B4: הוצאות רישום ועיקול32- | C4: =184000/10*12 -> 220800 | D4: 150000 | E4: 169453.84 | F4: 130017.21 | G4: 116132 | H4: 31331.32
A5: 1111300291 | B5: ארנונה השתתפות מטה אשר | C5: 350000 | D5: 350000 | E5: 229660 | F5: 355348 | G5: 426316 | H5: 419635.96
A6: 1111400100 | B6: ארנונה מרפאל | C6: =4850000+7500000 -> 12350000 | D6: 4850000 | E6: 5771786 | F6: 4807627 | G6: 4810566.1 | H6: 4739242
A7: 1113000290 | B7: הנחות מסים | C7: 21000000 | D7: 20250000 | F7: 21805512 | G7: 20560742 | H7: 18475752
A8: 1121000220 | B8: ניהול תיקים,תעודות ואישורים | C8: 3500 | E8: 2290 | F8: 1530.94 | H8: 97
A9: 1122000220 | B9: אגרות רשיונות לשלטים | C9: 1600000 | D9: 1600000 | E9: 1240026.1 | F9: 1358807.1 | G9: 1419059.9 | H9: 1246440.6
A10: 1122000221 | B10: אגרת שלטים פיגורים | C10: 400000 | D10: 400000 | E10: 304924.13 | F10: 233869.6 | G10: 330171.6 | H10: 386624.33
A11: 1123000220 | B11: הכנסות גביה מתאגיד מים | H11: 330.6
A12: 1124100220 | B12: מודעות על לוחות | C12: 0 | D12: 1500 | E12: 97 | F12: 1792 | G12: 2595 | H12: 2822
A13: 1129100220 | B13: הוצ.רישום ועיקול סוג ש | C13: =118000/10*12 -> 141600 | D13: 150000 | E13: 111333.26 | F13: 93655.4 | G13: 153445.93 | H13: 28879.61
A14: 1129100221 | B14: הכנסות גביה עיקול בנק_ | C14: =569000/10*12 -> 682800 | D14: 600000 | E14: 537524.27 | F14: 484974.15 | G14: 641146.96 | H14: 738562.45
A15: 1160000662 | B15: הכנסות מימון | C15: =2105000+30000+2000000+190808-1000000 -> 3325808 | D15: 2314000 | E15: 1150164.6 | F15: 2777523.5 | G15: 3001817.7 | H15: 258665.72
A16: 1191000910 | B16: מענק כללי_לאיזון | C16: =45000000+1000000-1000000-2000000+100000 -> 43100000 | D16: 46380000 | E16: 30075523 | F16: 43541681 | G16: 41072234 | H16: 42394537
A17: 1192000910 | B17: מענקים אחר' למשרד הפנים | C17: =1500000+1000000*2/3+370000+21000*4+20000+11000+9000 -> 2660666.7 | D17: 1402322 | E17: 1370321 | F17: 2801927 | G17: 3346900 | H17: 1498728
A18: 1194000910 | B18: השתתפות מ. הפנים מ.מות
A19: 1194000912 | B19: פיצוי שחיקת שכר
A20: 1196000910 | B20: פיצוי בגין שחיקת מים
A21: 1196000920 | B21: הרשות לפיתוח הגליל
A22: 1212300241 | B22: פינוי אשפה קציני ים
A23: 1212300290 | B23: מכולות ופסולת
A24: 1212300690 | B24: מכרזים-תברואה | C24: 0 | E24: 2000 | F24: 5000 | G24: 34950 | H24: 16500
A25: 1212400220 | B25: אגרת נקוי חצרות | C25: =975000+25000 -> 1000000 | D25: 1048800 | E25: 682815.3 | F25: 609549.96 | G25: 555083.8 | H25: 523715.26
A26: 1212400221 | B26: אג.נקוי חצרות פיגורים | C26: =300000+25000 -> 325000 | D26: 160000 | E26: 252515.4 | F26: 273765.5 | G26: 259540.92 | H26: 239297.05
A27: 1212500920 | B27: מש.התיירות ניקיון ע"ע
A28: 1213000220 | B28: למלאכה ותעשיה-רישוי עס | C28: =38000/10*12 -> 45600 | D28: 42000 | E28: 38989.8 | F28: 40078.2 | G28: 34325 | H28: 50808.9
A29: 1213000221 | B29: רוכלים | H29: 342.7
A30: 1214200220 | B30: לכידת בעלי חיים107-
A31: 1214200221 | B31: דמי בדיקת בשר קפוא | C31: 100000 | D31: 80000 | E31: 80968 | F31: 80150 | G31: 45805 | H31: 52673
A32: 1214200490 | B32: לכידת סוסים
A33: 1214200960 | B33: השתתפות מש.החקלאות סירוס חתולים | C33: 200000 | D33: 300000 | F33: 200000 | G33: 200000 | H33: 400000
A34: 1214201220 | B34: כללי וטרינר106- | E34: 928
A35: 1214300220 | B35: דמי חיסון אגרות ושבבים | C35: =144000/11*12 -> 157090.91 | D35: 135000 | E35: 132193.25 | F35: 147337.58 | G35: 141765.11 | H35: 121723.37
A36: 1214300690 | B36: מלחמה בכלבת
A37: 1214300691 | B37: סימון שבבים אלקטרוניים
A38: 1214301220 | B38: קנסות וטרינר109- | C38: 18000 | D38: 12000 | E38: 13452.5 | F38: 11262.5 | G38: 19748.5 | H38: 15016.5
A39: 1215200910 | B39: השתתפות איכות הסביבה
A40: 1222000440 | B40: שמירה בטחונית | C40: =34000/9*12 -> 45333.333 | D40: 36000 | E40: 34150 | F40: 31817.5 | G40: 61859 | H40: 52809
A41: 1222000441 | B41: מנעולים עבור מקלטים משותפים | C41: 0 | E41: 200 | F41: 200
A42: 1222000910 | B42: השתתפות מ.שיטור קהילתי
A43: 1222000970 | B43: השתתפות המשרד לביטחון פנים בשיטור קהילתי | C43: =360000+360000*5/12-10000 -> 500000
A44: 1222100400 | B44: אג.שמירה פיגור | C44: 350000 | D44: 250000 | E44: 257639.63 | F44: 418304.48 | G44: 163637.17 | H44: 273515.86
A45: 1222100440 | B45: אגרת שמירה | C45: 2900000 | D45: 3200000 | E45: 1901711.5 | F45: 2625198.4 | G45: 1913300.4 | H45: 1839286.6
A46: 1222100910 | B46: השתת.משרד הפנים משא"ז | C46: 10000 | D46: 15000 | F46: 12336 | G46: 10287 | H46: 11746
A47: 1223000410 | B47: הכנסות המטווח
A48: 1231000290 | B48: היטל תיעול
A49: 1233000690 | B49: מתן מידע | C49: =34000/10*12 -> 40800 | D49: 31000 | E49: 33619.69 | F49: 32953.17 | G49: 26472.04 | H49: 11793.6
A50: 1233100220 | B50: אגרת רשיונות בניה | C50: 2394640 | D50: 3250000 | E50: 1157475.8 | F50: 2368487.6 | G50: 2636570.4 | H50: 2293573.3
A51: 1233200220 | B51: אגרת חפירה | H51: 117
A52: 1233200290 | B52: היטל השבחה_ס.ש757. | C52: =5000000-2000000+2000000 -> 5000000 | D52: 5083140 | E52: 2061139.3 | F52: 7249827.9 | G52: 3095244 | H52: 2756585.5
A53: 1233200291 | B53: היטל סלילה למימון מלוות פיתוח | C53: =425698 -> 425698 | D53: 493036 | E53: 265194.72
A54: 1233200292 | B54: היטל תיעול למימון אגרת ניקוז | C54: 375638
A55: 1233200293 | B55: תקורות עבור פרויקטים היטלי פיתוח | C55: 1449150
A56: 1233300290 | B56: אגרת מבנים מסוכנים | E56: 345 | F56: 375 | G56: 445 | H56: 465
A57: 1242000215 | B57: יתרת כבישים ומדרכות | G57: -27.6 | H57: 0.2
A58: 1242000220 | B58: דמי שמוש במדרכה | C58: =193000/10*12-20000 -> 211600 | D58: 137000 | E58: 175606.13 | F58: 145964.9 | G58: 180676.5 | H58: 180323.19
A59: 1242000221 | B59: כבישים | C59: 0 | D59: 10000 | F59: 11168.6 | H59: 3993
A60: 1242000690 | B60: הנדסה-מכרזים | F60: 9432 | G60: 74117 | H60: 28335
A61: 1246100960 | B61: גינון-מש החקלאות
A62: 1247200420 | B62: הכנסות חופי רחצה
A63: 1261000421 | B63: שירותי מוקד | C63: 200000 | D63: 200000 | F63: 390000 | H63: 150000
A64: 1269000662 | B64: הכנסות שונות | E64: 959.26 | F64: 25.77 | G64: 14920.5 | H64: 14099.93
A65: 1269000690 | B65: הכנסות מכרזים שונים | C65: =35000+5000 -> 40000 | D65: 13000 | E65: 36000
A66: 1269000780 | B66: שונות
A67: 1269000790 | B67: הכנסות שונות | C67: =151000/10*12-929+20000-271-4729 -> 195271 | D67: 281136 | E67: 147628.13 | F67: 164323.84 | G67: 132311.29 | H67: 157214.23
A68: 1269100662 | B68: החזר עמלות
A69: 1281000215 | B69: יתרת אג.שימור רחובות8- | C69: 75000 | D69: 52000 | E69: 61390.7 | F69: 62135.76 | G69: 49423.66 | H69: 108973.36
A70: 1281000222 | B70: ב.ק. שילוט | G70: 30
A71: 1281000231 | B71: אכיפה חוקי עזר שונים | G71: 675.2
A72: 1281000990 | B72: תיגבור שוטרים בחוף | G72: 48743.17
A73: 1282000490 | B73: הכנסות משפטיות | C73: 250000 | D73: 300000 | E73: 110941.04 | F73: 418046.04 | G73: 220451.8 | H73: 402770.94
A74: 1311000690 | B74: מכרזים | F74: 25570 | H74: 13000
A75: 1312200440 | B75: חדר מלח מרכז לגיל הרך | C75: 10000 | D75: 25000 | E75: 7953 | G75: 2170 | H75: 5998
A76: 1312200790 | B76: מרכז גיל הרך-דגם בן משרדי | C76: 129114 | D76: 129114 | E76: 46445 | F76: 195832 | G76: 134080 | H76: 64386.9
A77: 1312200920 | B77: השתת' הממשלה לעוזרות ג | G77: 151.68
A78: 1312210920 | B78: גנ"י קדם חובה | C78: 18142071 | D78: 17318581 | E78: 13783072 | F78: 15587027 | G78: 13853323 | H78: 12815181
A79: 1312220920 | B79: שכר גננות עובדות מדינה לא עודפות | C79: 4820402 | D79: 4578320 | F79: 4055097.4 | G79: 3832371.8 | H79: 3738152
A80: 1312230920 | B80: פ.העשרה חנ"מ גנ"י | C80: 20000 | D80: 20000 | E80: 32716.5 | F80: 47612 | G80: 25378.9 | H80: 26856.44
A81: 1312500440 | B81: פנימיות יום-גנ"י | C81: 1969169 | D81: 1969169 | E81: 527732.3 | F81: 1757222.2 | G81: 1201917.8 | H81: 1116616.2
A82: 1312501440 | B82: הכנסות מהורים מילת | C82: 607790 | D82: 607790 | E82: 707238.3 | F82: 484098.6 | G82: 514024.4 | H82: 408646
A83: 1312501441 | B83: השתתפות העירייה למילת
A84: 1312501920 | B84: הכנסות מילת | C84: 1031401 | D84: 1031401 | F84: 896518 | G84: 888491 | H84: 1230050
A85: 1313200410 | B85: השתת' הורים לבת'"ס | C85: 25000 | D85: 25000 | E85: 54920 | F85: 14600 | G85: 11550
A86: 1313200440 | B86: מפעל הזנה | G86: 437
A87: 1313200920 | B87: פרויקט החופש הגדול | C87: 925000 | D87: 953107 | E87: 990351.78 | F87: 793956.2 | G87: 1076309.5
A88: 1313200921 | B88: מפעל הזנה
A89: 1313200922 | B89: השתתפות ממשלה במיחשוב
A90: 1313201410 | B90: השתתפות אשלים
A91: 1313201920 | B91: מעגן-שמיד-מערך תומך מעון גן עכו | C91: 492518 | D91: 492518 | E91: 202383 | F91: 388815 | G91: 226108.83 | H91: 454162.55
A92: 1313201921 | B92: חינוך-עובד סיוע משופר א-ו | C92: 520202 | D92: 448882 | E92: 387147.18 | F92: 153381.85
A93: 1313201922 | B93: חינוך-תוספת דיפרנציאלית ניהול עצמי | C93: 540750 | D93: 518100 | E93: 389875 | F93: 172337.5
A94: 1313201923 | B94: חינוך-ניהול עצמי משופר א-ו | C94: 2860641 | D94: 2677494 | E94: 2385157.4 | F94: 927214.55
A95: 1313202920 | B95: תוכנית התקשוב הלאומית | E95: -195268.1 | F95: -69335.52 | G95: 200649.18 | H95: 423271.02
A96: 1313204920 | B96: מזכירים יסודי ח.רגיל | C96: 107860 | D96: 286969 | E96: 251263.38 | F96: 756856.76 | G96: 1156517.4 | H96: 1143585.2
A97: 1313205920 | B97: שרתים חינוך יסודי רגיל | C97: 312611 | D97: 816625 | E97: 642824.1 | F97: 1936329.9 | G97: 3484083.3 | H97: 3410717.7
A98: 1313213920 | B98: סייעות טיפוליות | C98: 2913760 | D98: 2069038 | E98: 2101234.4 | F98: 2546439.8 | G98: 2217734.7 | H98: 1597752.5
A99: 1313213921 | B99: משרד הבריאות-סייעות
A100: 1313221920 | B100: סל תלמיד לעולה יסודי | C100: 33269 | D100: 50000 | E100: 33269.34 | F100: 88686.32 | G100: 48682.83 | H100: 43692.94
...

Sheet גליון עזר 
A1: סעיף תקציב | B1: שם סעיף | C1: עבודה 2016 | D1: ביצוע 2015 | E1: תקציב 2015 | F1: ביצוע 2014 | G1: ביצוע 2013 | H1: ביצוע 2012 | I1: ביצוע 2011
A2: 1111100100 | B2: ארנונה כללית | C2: 104270000 | D2: 73035737 | E2: 104769525 | F2: 99948887 | G2: 93658958 | H2: 85325812 | I2: 77454941
A3: 1111200100 | B3: ארנונה כללית פיגורים | C3: 8500000 | D3: 7803061.4 | E3: 10000000 | F3: 14105709 | G3: 30162688 | H3: 16242584 | I3: 14886756
A4: 1111200216 | B4: הוצאות רישום ועיקול32- | C4: 120000 | D4: 100604.71 | E4: 75000 | F4: 116132 | G4: 31331.32 | H4: 168.2
A5: 1111300291 | B5: ארנונה השתתפות מטה אשר | C5: 380000 | D5: 103317 | E5: 430000 | F5: 426316 | G5: 419635.96 | H5: 393310.45 | I5: 380126.35
A6: 1111400100 | B6: ארנונה מרפאל | C6: 4850000 | D6: 4807627 | E6: 4850000 | F6: 4810566.1 | G6: 4739242 | H6: 4666862 | I6: 4573980.7
A7: 1113000290 | B7: הנחות מסים | C7: 19190000 | E7: 19190000 | F7: 20560742 | G7: 18475752 | H7: 18450000 | I7: 17847234
A8: 1121000220 | B8: ניהול תיקים,תעודות ואישורים | D8: 980 | G8: 97 | I8: 124
A9: 1122000220 | B9: אגרות רשיונות לשלטים | C9: 1450000 | D9: 1061245.9 | E9: 1580000 | F9: 1419059.9 | G9: 1246440.6 | H9: 1441839.4 | I9: 1351320.5
A10: 1122000221 | B10: אגרת שלטים פיגורים | C10: 250000 | D10: 205756 | E10: 380000 | F10: 330171.6 | G10: 386624.33 | H10: 89009.63
A11: 1123000220 | B11: הכנסות גביה מתאגיד מים | G11: 330.6 | I11: 886839.16
A12: 1124100220 | B12: מודעות על לוחות | C12: 3000 | D12: 1249 | E12: 3000 | F12: 2595 | G12: 2822 | H12: 3307 | I12: 2187
A13: 1129100220 | B13: הוצ.רישום ועיקול סוג ש | C13: 100000 | D13: 72274.4 | E13: 100000 | F13: 153445.93 | G13: 28879.61 | H13: 9191.89 | I13: 7345.96
A14: 1129100221 | B14: הכנסות גביה עיקול בנק_ | C14: 350000 | D14: 252203.15 | E14: 620000 | F14: 641146.96 | G14: 738562.45 | H14: 554781.39 | I14: 291375.12
A15: 1160000662 | B15: הכנסות מימון | C15: 2500000 | D15: 3999099 | E15: 5153000 | F15: 3001817.7 | G15: 258665.72 | H15: 2717063.4 | I15: 331473.2
A16: 1191000910 | B16: מענק כללי_לאיזון | C16: 42000000 | D16: 27334200 | E16: 41596000 | F16: 41072234 | G16: 42394537 | H16: 41051814 | I16: 36132087
A17: 1192000910 | B17: מענקים אחר' למשרד הפנים | C17: 1300000 | D17: 1461014 | E17: 3818000 | F17: 3346900 | G17: 1498728 | H17: 1299116 | I17: 1303642
A18: 1194000910 | B18: השתתפות מ. הפנים מ.מות
A19: 1194000912 | B19: פיצוי שחיקת שכר
A20: 1196000910 | B20: פיצוי בגין שחיקת מים
A21: 1196000920 | B21: הרשות לפיתוח הגליל
A22: 1212300241 | B22: פינוי אשפה קציני ים
A23: 1212300290 | B23: מכולות ופסולת
A24: 1212300690 | B24: מכרזים-תברואה | C24: 10000 | D24: 2000 | E24: 30000 | F24: 34950 | G24: 16500 | H24: 17000 | I24: 3000
A25: 1212400220 | B25: אגרת נקוי חצרות | C25: 700000 | D25: 489957.51 | E25: 800000 | F25: 555083.8 | G25: 523715.26 | H25: 656117.15 | I25: 538929.3
A26: 1212400221 | B26: אג.נקוי חצרות פיגורים | C26: 150000 | D26: 105693.9 | E26: 150000 | F26: 259540.92 | G26: 239297.05 | H26: 20045.96
A27: 1212500920 | B27: מש.התיירות ניקיון ע"ע | E27: 1150000
A28: 1213000220 | B28: למלאכה ותעשיה-רישוי עס | C28: 40000 | D28: 29502.6 | E28: 40000 | F28: 34325 | G28: 50808.9 | H28: 41533 | I28: 46022.59
A29: 1213000221 | B29: רוכלים | G29: 342.7
A30: 1214200220 | B30: לכידת בעלי חיים107-
A31: 1214200221 | B31: דמי בדיקת בשר קפוא | C31: 80000 | D31: 63717 | E31: 37000 | F31: 45805 | G31: 52673 | H31: 64995 | I31: 117237
A32: 1214200490 | B32: לכידת סוסים
A33: 1214200960 | B33: השתתפות מש.החקלאות סירוס חתולים | C33: 200000 | D33: 200000 | E33: 275000 | F33: 200000 | G33: 400000 | H33: 100000
A34: 1214201220 | B34: כללי וטרינר106- | I34: 210.5
A35: 1214300220 | B35: דמי חיסון אגרות ושבבים | C35: 130000 | D35: 95253.58 | E35: 130000 | F35: 141765.11 | G35: 121723.37 | H35: 114352 | I35: 119083.35
A36: 1214300690 | B36: מלחמה בכלבת
A37: 1214300691 | B37: סימון שבבים אלקטרוניים
A38: 1214301220 | B38: קנסות וטרינר109- | C38: 20000 | D38: 9837.5 | E38: 25000 | F38: 19748.5 | G38: 15016.5 | H38: 28053 | I38: 39774.5
A39: 1215200910 | B39: השתתפות איכות הסביבה
A40: 1222000440 | B40: שמירה בטחונית | C40: 35000 | D40: 23675 | E40: 65000 | F40: 61859 | G40: 52809 | H40: 48541 | I40: 9960
A41: 1222000910 | B41: השתתפות מ.שיטור קהילתי
A42: 1222100400 | B42: אג.שמירה פיגור | C42: 200000 | D42: 177164.92 | E42: 200000 | F42: 163637.17 | G42: 273515.86 | H42: 255803.78 | I42: 260825.52
A43: 1222100440 | B43: אגרת שמירה | C43: 2800000 | D43: 1822035.3 | E43: 2800000 | F43: 1913300.4 | G43: 1839286.6 | H43: 1853674.6 | I43: 1591472.9
A44: 1222100910 | B44: השתת.משרד הפנים משא"ז | C44: 15000 | E44: 15000 | F44: 10287 | G44: 11746 | H44: 24548 | I44: 21487
A45: 1223000410 | B45: הכנסות המטווח | I45: 6463
A46: 1231000290 | B46: היטל תיעול
A47: 1233000690 | B47: מתן מידע | C47: 20000 | D47: 22064.46 | E47: 18000 | F47: 26472.04 | G47: 11793.6 | H47: 7560 | I47: 7438
A48: 1233100220 | B48: אגרת רשיונות בניה | C48: 2500000 | D48: 1173957.5 | E48: 2500000 | F48: 2636570.4 | G48: 2293573.3 | H48: 2699179.5 | I48: 1311500.3
A49: 1233200220 | B49: אגרת חפירה | G49: 117 | H49: 509
A50: 1233200290 | B50: היטל השבחה_ס.ש757. | C50: 5000000 | D50: 5889907.9 | E50: 8218000 | F50: 3095244 | G50: 2756585.5 | H50: 3903318.7 | I50: 3285487.2
A51: 1233300290 | B51: אגרת מבנים מסוכנים | D51: 270 | F51: 445 | G51: 465 | H51: 350 | I51: 11795
A52: 1242000215 | B52: יתרת כבישים ומדרכות | F52: -27.6 | G52: 0.2
A53: 1242000220 | B53: דמי שמוש במדרכה | C53: 150000 | D53: 71718.33 | E53: 180000 | F53: 180676.5 | G53: 180323.19 | H53: 154666.67 | I53: 138970.64
A54: 1242000221 | B54: כבישים | D54: 11168.6 | G54: 3993
A55: 1242000690 | B55: הנדסה-מכרזים | C55: 20000 | D55: 6393 | E55: 40000 | F55: 74117 | G55: 28335 | H55: 33000 | I55: 9500
A56: 1246100960 | B56: גינון-מש החקלאות
A57: 1247200420 | B57: הכנסות חופי רחצה
A58: 1261000421 | B58: שירותי מוקד | C58: 200000 | D58: 390000 | E58: 390000 | G58: 150000 | H58: 150000 | I58: 150000
A59: 1269000662 | B59: הכנסות שונות | C59: 5000 | D59: 25.77 | E59: 20000 | F59: 14920.5 | G59: 14099.93 | H59: 15876.07 | I59: 5088.95
A60: 1269000780 | B60: שונות | H60: 50000
A61: 1269000790 | B61: הכנסות שונות | C61: 125000 | D61: 92453.87 | E61: 240000 | F61: 132311.29 | G61: 157214.23 | H61: 103295.47 | I61: 155813.22
A62: 1269100662 | B62: החזר עמלות
A63: 1281000215 | B63: יתרת אג.שימור רחובות8- | C63: 55000 | D63: 34568.66 | E63: 55000 | F63: 49423.66 | G63: 108973.36 | H63: 64072.05 | I63: 43073.27
A64: 1281000222 | B64: ב.ק. שילוט | F64: 30
A65: 1281000231 | B65: אכיפה חוקי עזר שונים | F65: 675.2
A66: 1281000990 | B66: תיגבור שוטרים בחוף | F66: 48743.17
A67: 1282000490 | B67: הכנסות משפטיות | C67: 250000 | D67: 198642.98 | E67: 347800 | F67: 220451.8 | G67: 402770.94 | H67: 594806.94 | I67: 589036.45
A68: 1311000690 | B68: מכרזים | C68: 15000 | D68: 20500 | G68: 13000 | H68: 8750 | I68: 11500
A69: 1312200440 | B69: חדר מלח מרכז לגיל הרך | C69: 5000 | E69: 5000 | F69: 2170 | G69: 5998 | H69: 22095
A70: 1312200790 | B70: מרכז גיל הרך-דגם בן משרדי | C70: 129114 | D70: 66718 | E70: 129114 | F70: 134080 | G70: 64386.9 | H70: 140467.69
A71: 1312200920 | B71: השתת' הממשלה לעוזרות ג | F71: 151.68 | I71: 50.56
A72: 1312210920 | B72: גנ"י קדם חובה | C72: 13084784 | D72: 10786531 | E72: 13084784 | F72: 13853323 | G72: 12815181 | H72: 11520889 | I72: 10632839
A73: 1312220920 | B73: שכר גננות עובדות מדינה לא עודפות | C73: 3890126 | D73: 1966270.4 | E73: 3890126 | F73: 3832371.8 | G73: 3738152 | H73: 3390680 | I73: 3570367.4
A74: 1312230920 | B74: פ.העשרה חנ"מ גנ"י | C74: 20000 | D74: 24070 | E74: 20000 | F74: 25378.9 | G74: 26856.44 | H74: 27818.4 | I74: 25114
A75: 1312500440 | B75: פנימיות יום-גנ"י | C75: 1759904 | D75: 1122317.9 | E75: 1759904 | F75: 1201917.8 | G75: 1116616.2 | H75: 914511.5 | I75: 960942.8
A76: 1312501440 | B76: הכנסות מהורים מילת | C76: 620105 | D76: 464113.4 | E76: 620105 | F76: 514024.4 | G76: 408646 | H76: 276121 | I76: 489055.8
A77: 1312501441 | B77: השתתפות העירייה למילת
A78: 1312501920 | B78: הכנסות מילת | C78: 1127464 | D78: 598950 | E78: 1127464 | F78: 888491 | G78: 1230050 | H78: 1160169 | I78: 1320077
A79: 1313200410 | B79: השתת' הורים לבת'"ס | D79: 8000 | F79: 11550 | H79: 61880
A80: 1313200440 | B80: מפעל הזנה | F80: 437
A81: 1313200920 | B81: פרויקט החופש הגדול | C81: 953107 | D81: 990400 | E81: 953107 | F81: 1076309.5
A82: 1313200921 | B82: מפעל הזנה
A83: 1313200922 | B83: השתתפות ממשלה במיחשוב
A84: 1313201410 | B84: השתתפות אשלים
A85: 1313201920 | B85: מעגו-שמיד-מערך תומך מעון-גן עכו | C85: 457518 | D85: 97052 | E85: 457518 | F85: 226108.83 | G85: 454162.55 | H85: 231756.76 | I85: 170097.66
A86: 1313201921 | B86: חינוך-עובד סיוע משופר א-ו | C86: 161074 | E86: 161074
A87: 1313201922 | B87: חינוך-תוספת דיפרנציאלית ניהול עצמי | C87: 188700 | E87: 188700
A88: 1313201923 | B88: חינוך-ניהול עצמי משופר א-ו | C88: 1003884 | E88: 1003884
A89: 1313202920 | B89: תוכנית התקשוב הלאומית | C89: 250000 | D89: -69335.52 | E89: 250000 | F89: 200649.18 | G89: 423271.02
A90: 1313204920 | B90: מזכירים יסודי ח.רגיל | C90: 830000 | D90: 728324.68 | E90: 830000 | F90: 1156517.4 | G90: 1143585.2 | H90: 1045199.9 | I90: 961723.78
A91: 1313205920 | B91: שרתים חינוך יסודי רגיל | C91: 2418000 | D91: 1912472.4 | E91: 2418000 | F91: 3484083.3 | G91: 3410717.7 | H91: 3279720.3 | I91: 3013591.3
A92: 1313213920 | B92: סייעות טיפוליות | C92: 2050000 | D92: 1761940.8 | E92: 2050000 | F92: 2217734.7 | G92: 1597752.5 | H92: 1353082.9 | I92: 1247207.2
A93: 1313213921 | B93: משרד הבריאות-סייעות
A94: 1313221920 | B94: סל תלמיד לעולה יסודי | C94: 15000 | D94: 73377.07 | E94: 15000 | F94: 48682.83 | G94: 43692.94 | H94: 31304.73 | I94: 22731.17
A95: 1313222920 | B95: דמי שכפול יסודי | C95: 252244 | D95: 245616.7 | E95: 252244 | F95: 122087.7 | G95: 306377.4 | H95: 302971.2 | I95: 301056.1
A96: 1313223920 | B96: שיפוצי קיצ מוס"ח | C96: 265000 | D96: 262236.6 | E96: 265000 | F96: 263691 | G96: 265998.5 | H96: 265851.04
A97: 1313300920 | B97: הזנת יוח'א | C97: 441883 | D97: 377762.97 | E97: 441883 | F97: 557736.05 | G97: 228820.8 | H97: 157050.4 | I97: 144674.4
A98: 1313300940 | B98: חינוך מיוחד מש.הבריאות
A99: 1313304920 | B99: מזכירים יסודי ח.מיוחד | C99: 160000 | D99: 297573.53 | E99: 160000 | F99: 163992.64 | G99: 145244.21 | H99: 192497.42 | I99: 146382.63
A100: 1313305920 | B100: שרתים יסודי חנ"מ | C100: 415000 | D100: 1050809 | E100: 415000 | F100: 384518.42 | G100: 400796 | H100: 392677.69 | I100: 353579.44
...

Sheet פירוט למחלקות
C2: פירוט תקציב לפי מחלקה (ללא שכר עבודה)
C4: 2017 | D4: 2016 | E4: הפרש | I4: פער בתקציב | J4: 7500000
A5: לשכה | C5: =SUM(#REF!) -> #REF! | D5: =SUM(#REF!) -> #REF! | E5: =D5-C5 -> #REF! | H5: =C5/$C$38 -> #REF! | J5: =-$J$4*H5 -> #REF!
A6: מבקר | C6: =SUM(#REF!) -> #REF! | D6: =SUM(#REF!) -> #REF! | E6: =D6-C6 -> #REF! | H6: =C6/$C$38 -> #REF! | J6: =-$J$4*H6 -> #REF!
A7: מנכ"ל | C7: =SUM(#REF!)+#REF!+#REF!+#REF! -> #REF! | D7: =SUM(#REF!)+#REF!+#REF!+#REF! -> #REF! | E7: =D7-C7 -> #REF! | H7: =C7/$C$38 -> #REF! | J7: =-$J$4*H7 -> #REF!
A8: הון אנושי | C8: =#REF! -> #REF! | D8: =#REF! -> #REF! | E8: =D8-C8 -> #REF! | H8: =C8/$C$38 -> #REF! | J8: =-$J$4*H8 -> #REF!
A9: מרכז צעירים | C9: =#REF!+#REF!+#REF!+#REF!+#REF!+#REF! -> #REF! | D9: =#REF!+#REF!+#REF!+#REF!+#REF!+#REF! -> #REF! | E9: =D9-C9 -> #REF! | H9: =C9/$C$38 -> #REF! | J9: =-$J$4*H9 -> #REF!
A10: דובר | C10: =SUM(#REF!)+#REF! -> #REF! | D10: =SUM(#REF!)+#REF! -> #REF! | E10: =D10-C10 -> #REF! | H10: =C10/$C$38 -> #REF! | J10: =-$J$4*H10 -> #REF!
A11: סמנכ"ל | C11: =SUM(#REF!) -> #REF! | D11: =SUM(#REF!) -> #REF! | E11: =D11-C11 -> #REF! | H11: =C11/$C$38 -> #REF! | J11: =-$J$4*H11 -> #REF!
A12: יועמ"ש | C12: =SUM(#REF!) -> #REF! | D12: =SUM(#REF!) -> #REF! | E12: =D12-C12 -> #REF! | H12: =C12/$C$38 -> #REF! | J12: =-$J$4*H12 -> #REF!
A13: גזבר | C13: =SUM(#REF!) -> #REF! | D13: =SUM(#REF!) -> #REF! | E13: =D13-C13 -> #REF! | H13: =C13/$C$38 -> #REF! | J13: =-$J$4*H13 -> #REF!
A14: הנה"ח | C14: =SUM(#REF!) -> #REF! | D14: =SUM(#REF!) -> #REF! | E14: =D14-C14 -> #REF! | H14: =C14/$C$38 -> #REF! | J14: =-$J$4*H14 -> #REF!
A15: שכר | C15: =SUM(#REF!) -> #REF! | D15: =SUM(#REF!) -> #REF! | E15: =D15-C15 -> #REF! | H15: =C15/$C$38 -> #REF! | J15: =-$J$4*H15 -> #REF!
A16: גביה | C16: =SUM(#REF!) -> #REF! | D16: =SUM(#REF!) -> #REF! | E16: =D16-C16 -> #REF! | H16: =C16/$C$38 -> #REF! | J16: =-$J$4*H16 -> #REF!
A17: תפעול כולל שוק | C17: =SUM(#REF!)+SUM(#REF!)+SUM(#REF!)+#REF! -> #REF! | D17: =SUM(#REF!)+SUM(#REF!)+SUM(#REF!)+#REF! -> #REF! | E17: =D17-C17 -> #REF! | H17: =C17/$C$38 -> #REF! | J17: =-$J$4*H17 -> #REF!
A18: רכב | C18: =SUM(#REF!) -> #REF! | D18: =SUM(#REF!) -> #REF! | E18: =D18-C18 -> #REF! | H18: =C18/$C$38 -> #REF! | J18: =-$J$4*H18 -> #REF!
A19: ביטחון ופיקוח | C19: =SUM(#REF!)+SUM(#REF!) -> #REF! | D19: =SUM(#REF!)+SUM(#REF!) -> #REF! | E19: =D19-C19 -> #REF! | H19: =C19/$C$38 -> #REF! | J19: =-$J$4*H19 -> #REF!
A20: הנדסה | C20: =SUM(#REF!)+SUM(#REF!)+#REF!+#REF!+#REF! -> #REF! | D20: =SUM(#REF!)+SUM(#REF!)+#REF!+#REF!+#REF! -> #REF! | E20: =D20-C20 -> #REF! | H20: =C20/$C$38 -> #REF! | J20: =-$J$4*H20 -> #REF!
A21: עוזר רה"ע | C21: =SUM(#REF!) -> #REF! | D21: =SUM(#REF!) -> #REF! | E21: =D21-C21 -> #REF! | H21: =C21/$C$38 -> #REF! | J21: =-$J$4*H21 -> #REF!
A22: ארועים ופעילויות תרבות | C22: =SUM(#REF!)+SUM(#REF!) -> #REF! | D22: =SUM(#REF!)+SUM(#REF!) -> #REF! | E22: =D22-C22 -> #REF! | H22: =C22/$C$38 -> #REF! | J22: =-$J$4*H22 -> #REF!
A23: מתנסים(ללא פעולות יעודיות) | C23: =SUM(#REF!) -> #REF! | D23: =SUM(#REF!) -> #REF! | E23: =D23-C23 -> #REF! | H23: =C23/$C$38 -> #REF! | J23: =-$J$4*H23 -> #REF!
A24: ספורט כולל תמיכות | C24: =SUM(#REF!) -> #REF! | D24: =SUM(#REF!) -> #REF! | E24: =D24-C24 -> #REF! | H24: =C24/$C$38 -> #REF! | J24: =-$J$4*H24 -> #REF!
A25: מוסדות מדינה | C25: =#REF!+#REF!+#REF!+#REF!+#REF!+#REF!+#REF!+#REF!+#REF!+#REF! -> #REF! | D25: =#REF!+#REF!+#REF!+#REF!+#REF!+#REF!+#REF!+#REF!+#REF!+#REF! -> #REF! | E25: =D25-C25 -> #REF! | H25: =C25/$C$38 -> #REF! | J25: =-$J$4*H25 -> #REF!
A26: מנהל חינוך | C26: =SUM(#REF!) -> #REF! | D26: =SUM(#REF!) -> #REF! | E26: =D26-C26 -> #REF! | H26: =C26/$C$38 -> #REF! | J26: =-$J$4*H26 -> #REF!
A27: ספריה | C27: =SUM(#REF!) -> #REF! | D27: =SUM(#REF!) -> #REF! | E27: =D27-C27 -> #REF! | H27: =C27/$C$38 -> #REF! | J27: =-$J$4*H27 -> #REF!
A28: תזמורת | C28: =SUM(#REF!) -> #REF! | D28: =SUM(#REF!) -> #REF! | E28: =D28-C28 -> #REF! | H28: =C28/$C$38 -> #REF! | J28: =-$J$4*H28 -> #REF!
A29: מוקד עירוני | C29: =SUM(#REF!) -> #REF! | D29: =SUM(#REF!) -> #REF! | E29: =D29-C29 -> #REF! | H29: =C29/$C$38 -> #REF! | J29: =-$J$4*H29 -> #REF!
A30: סעיפים שונים | C30: =SUM(#REF!)+#REF!+#REF!+#REF!+#REF!+#REF!+#REF!+#REF!+#REF! -> #REF! | D30: =SUM(#REF!)+#REF!+#REF!+#REF!+#REF!+#REF!+#REF!+#REF!+#REF! -> #REF! | E30: =D30-C30 -> #REF! | H30: =C30/$C$38 -> #REF! | J30: =-$J$4*H30 -> #REF!
A31: קליטה | C31: =SUM(#REF!) -> #REF! | D31: =SUM(#REF!) -> #REF! | E31: =D31-C31 -> #REF! | H31: =C31/$C$38 -> #REF! | J31: =-$J$4*H31 -> #REF!
A32: נכסים | C32: =SUM(#REF!) -> #REF! | D32: =SUM(#REF!) -> #REF! | E32: =D32-C32 -> #REF! | H32: =C32/$C$38 -> #REF! | J32: =-$J$4*H32 -> #REF!
A33: בית העירייה | C33: =SUM(#REF!)+SUM(#REF!) -> #REF! | D33: =SUM(#REF!)+SUM(#REF!) -> #REF! | E33: =D33-C33 -> #REF! | H33: =C33/$C$38 -> #REF! | J33: =-$J$4*H33 -> #REF!
A34: ממ"מ | C34: =SUM(#REF!) -> #REF! | D34: =SUM(#REF!) -> #REF! | E34: =D34-C34 -> #REF! | H34: =C34/$C$38 -> #REF! | J34: =-$J$4*H34 -> #REF!
A35: עמידר | C35: =#REF! -> #REF! | D35: =#REF! -> #REF! | E35: =D35-C35 -> #REF! | H35: =C35/$C$38 -> #REF! | J35: =-$J$4*H35 -> #REF!
C36: =SUM(C5:C35) -> #REF! | D36: =SUM(D5:D35) -> #REF! | E36: =SUM(E5:E35) -> #REF! | J36: =SUM(J5:J35) -> #REF!
B38: סך פעולות כלליות | C38: =#REF! -> #REF! | D38: =#REF! -> #REF!
C39: =C36-C38 -> #REF! | D39: =D36-D38 -> #REF!

Sheet 2017 עדכני
A1: כרטיס הנה"ח | B1: תאור | C1: תקציב שנתי מאושר | D1: תקציב יחסי | E1: ביצוע | F1: סטיה מהתקציב היחסי | G1: ביצוע 2016 | H1: ביצוע 2015
A2: [1] | B2: תקבולים
A3: [2] | B3: הכנסות לפני הנחות ארנונה וכיסוי גרעון נצבר
A4: [3] 10 | B4: ארנונה כללית
A5: 1111100100 | B5: ארנונה כללית | C5: 115068520 | D5: 115068520 | E5: 97636039 | F5: -17432481 | G5: 1.1203248e+08 | H5: 1.0421972e+08
A6: 1111200100 | B6: ארנונה כללית פיגורים | C6: 10649000 | D6: 10649000 | E6: 9212350.8 | F6: -1436649.1 | G6: 11201912 | H6: 9580731.8
A7: סה"כ | B7: ארנונה כללית | C7: 125717520 | D7: 125717520 | E7: 1.0684839e+08 | F7: -18869130 | G7: 1.2323439e+08 | H7: 1.1380045e+08
A8: [3] 30 | B8: מפעל המים
A9: 1413100212 | B9: אגרת מים פיגורים | C9: 420000 | D9: 420000 | E9: 388537 | F9: -31463 | G9: 496875.95 | H9: 477743.19
A10: 1413100216 | B10: אגרת חידוש חיבור30- | C10: 2000 | D10: 2000 | E10: 1056.8 | F10: -943.2 | G10: 2402.9 | H10: 1884.1
A11: 1413100217 | B11: היטל צריכה מים עודפת ס.ש.49 | C11: 2600 | D11: 2600 | E11: 6424.2 | F11: 3824.2 | G11: 2342.3 | H11: 1253.33
A12: סה"כ | B12: מפעל המים | C12: 424600 | D12: 424600 | E12: 396018 | F12: -28582 | G12: 501621.15 | H12: 480880.62
A13: [3] | B13: סה"כ הכנסות עצמיות
A14: [4] 40 | B14: עצמיות חינוך
A15: 1311000690 | B15: מכרזים | H15: 25570
A16: 1312200420 | B16: הכנסות מהורים-ביטוח תאונות אישיות | E16: 27398.9 | F16: 27398.9
A17: 1312200440 | B17: חדר מלח מרכז לגיל הרך | C17: 10000 | D17: 10000 | E17: 14730 | F17: 4730 | G17: 9739
A18: 1312200790 | B18: מרכז גיל הרך-דגם בן משרדי | C18: 129114 | D18: 129114 | E18: 121791 | F18: -7323 | G18: 170588 | H18: 195832
A19: 1312210420 | B19: הכנסות מהורים-סל תרבות | E19: 43931.2 | F19: 43931.2
A20: 1312500440 | B20: פנימיות יום-גנ"י | C20: 1969169 | D20: 1969169 | E20: 1595743.8 | F20: -373425.2 | G20: 2225134.8 | H20: 1757222.2
A21: 1312501440 | B21: הכנסות מהורים מילת | C21: 607790 | D21: 607790 | E21: 1504093.1 | F21: 896303.1 | G21: 669942.1 | H21: 484098.6
A22: 1313200410 | B22: השתת' הורים לבת'"ס | C22: 25000 | D22: 25000 | E22: 167532 | F22: 142532 | G22: 60520 | H22: 14600
A23: 1313317410 | B23: ילדי חוץ | C23: 1125000 | D23: 1125000 | E23: 693314.15 | F23: -431685.85 | G23: 727628 | H23: 1090662.1
A24: 1315700700 | B24: השתתפות אורט מקיף ערבי | C24: 14200000 | D24: 14200000 | E24: 14200002 | F24: 2 | G24: 14200000 | H24: 14200000
A25: 1315777700 | B25: השתתפות אורט | C25: 16000000 | D25: 16000000 | E25: 16000000 | G25: 15999997 | H25: 15999997
A26: 1315788700 | B26: השתתפות אמית | C26: 7000000 | D26: 7000000 | E26: 7000000 | G26: 7000000 | H26: 7000000
A27: 1317500410 | B27: הכ.-בטוח תאונות אישיות | C27: 350000 | D27: 350000 | E27: 162731.1 | F27: -187268.9 | G27: 246230 | H27: 361988
A28: 1317800440 | B28: הסעות חינוך מיוחד | H28: 3200
A29: 1317900790 | B29: מתאם סמים מס חוזה 123300 | C29: 36667 | D29: 36667 | E29: 40000 | F29: 3333 | G29: 22581 | H29: 40000
A30: 1317950790 | B30: מרכז נוער ישובי/שכונתי התוכנית הלאומית-מש.חינוך | C30: 513900 | D30: 513900 | E30: 293947 | F30: -219953 | G30: 584314 | H30: 389063
A31: סה"כ | B31: עצמיות חינוך | C31: 41966640 | D31: 41966640 | E31: 41865214 | F31: -101425.75 | G31: 41916674 | H31: 41562233
A32: [4] 50 | B32: עצמיות רווחה
A33: 1342400420 | B33: טיפול בפרט ובמשפחה | E33: 647 | F33: 647 | G33: 400
A34: 1343500420 | B34: פעולות קהלתיות | C34: 2000 | D34: 2000 | E34: 1606 | F34: -394 | G34: 1525 | H34: 2459
A35: 1343523410 | B35: שרותים תומכים למפגר | C35: 150200 | D35: 150200 | E35: 114158.93 | F35: -36041.07 | G35: 148474.5 | H35: 131781.5
A36: 1343800420 | B36: השתת' הורים אחזקה | C36: 48000 | D36: 48000 | E36: 17813 | F36: -30187 | G36: 46133 | H36: 53904.6
A37: 1343800421 | B37: פקוח וטפול אומנה | H37: 1246
A38: 1344300420 | B38: אחזקת זקנים במעונות | C38: 545333 | D38: 545333 | E38: 382591.9 | F38: -162741.1 | G38: 531606.3 | H38: 551985.1
A39: 1344300421 | B39: עזרה ביתית | C39: 31200 | D39: 31200 | E39: 19766 | F39: -11434 | G39: 32530 | H39: 33984
A40: 1344500420 | B40: מסגרת יומיות לזקן | C40: 100000 | D40: 100000 | E40: 17763 | F40: -82237 | G40: 66896 | H40: 38022
A41: 1345100420 | B41: נופשונים וקייטנות | C41: 5000 | D41: 5000 | E41: 1000 | F41: -4000 | G41: 4950 | H41: 3862.5
A42: 1345300420 | B42: השתת' הורים-ארוחות | G42: 12
A43: 1345523410 | B43: שרותים תומכים למפגר | C43: 72000 | D43: 72000 | E43: 23314 | F43: -48686 | G43: 72130 | H43: 67448
A44: 1346700420 | B44: מ.יום שיקומי לנכים | C44: 121200 | D44: 121200 | E44: 70956.95 | F44: -50243.05 | G44: 124432.5 | H44: 109552.95
A45: 1346900420 | B45: שיקום-מרכז למשפחה | G45: 57122.25 | H45: 17985
A46: 1346900920 | B46: שיקום-מרכז למשפחה | C46: 135000 | D46: 135000 | F46: -135000
A47: 1349000422 | B47: פנימיה למפגרים | C47: 5000 | D47: 5000 | E47: 2860 | F47: -2140 | G47: 6565 | H47: 7183
A48: 1349002420 | B48: נכים בקהילה עולים | C48: 3000 | D48: 3000 | E48: 2703 | F48: -297 | G48: 2572 | H48: 3567
A49: סה"כ | B49: עצמיות רווחה | C49: 1217933 | D49: 1217933 | E49: 655179.78 | F49: -562753.22 | G49: 1095348.6 | H49: 1022980.7
A50: [4] 60 | B50: יתר עצמיות
A51: 1111200216 | B51: הוצאות רישום ועיקול32- | C51: 220800 | D51: 220800 | E51: 340213.9 | F51: 119413.9 | G51: 340019.16 | H51: 130017.21
A52: 1111300291 | B52: ארנונה השתתפות מטה אשר | C52: 550000 | D52: 550000 | E52: 422699.17 | F52: -127300.83 | G52: 616201 | H52: 355348
A53: 1111400100 | B53: ארנונה מרפאל | C53: 12350000 | D53: 12350000 | E53: 4750000 | F53: -7600000 | G53: 12271786 | H53: 4807627
A54: 1121000220 | B54: ניהול תיקים,תעודות ואישורים | C54: 3500 | D54: 3500 | E54: 1575.92 | F54: -1924.08 | G54: 2809 | H54: 1530.94
A55: 1122000220 | B55: אגרות רשיונות לשלטים | C55: 1600000 | D55: 1600000 | E55: 916494.6 | F55: -683505.4 | G55: 1517120.3 | H55: 1358807.1
A56: 1122000221 | B56: אגרת שלטים פיגורים | C56: 400000 | D56: 400000 | E56: 219678.55 | F56: -180321.45 | G56: 349917.03 | H56: 233869.6
A57: 1124100220 | B57: מודעות על לוחות | G57: 97 | H57: 1792
A58: 1129100220 | B58: הוצ.רישום ועיקול סוג ש | C58: 141600 | D58: 141600 | E58: 217965.74 | F58: 76365.74 | G58: 199330.3 | H58: 93655.4
A59: 1129100221 | B59: הכנסות גביה עיקול בנק_ | C59: 682800 | D59: 682800 | E59: 668385.71 | F59: -14414.29 | G59: 813644.47 | H59: 484974.15
A60: 1160000662 | B60: הכנסות מימון | C60: 2725808 | D60: 2725808 | E60: 1595389.4 | F60: -1130418.6 | G60: 14897.68 | H60: 2777523.5
A61: 1212300690 | B61: מכרזים-תברואה | G61: 2000 | H61: 5000
A62: 1212400220 | B62: אגרת נקוי חצרות | C62: 1000000 | D62: 1000000 | E62: 596571.2 | F62: -403428.8 | G62: 956402 | H62: 609549.96
A63: 1212400221 | B63: אג.נקוי חצרות פיגורים | C63: 325000 | D63: 325000 | E63: 189904.6 | F63: -135095.4 | G63: 286242 | H63: 273765.5
A64: 1213000220 | B64: למלאכה ותעשיה-רישוי עס | C64: 45600 | D64: 45600 | E64: 31389.3 | F64: -14210.7 | G64: 44772 | H64: 40078.2
A65: 1213000221 | B65: רוכלים | E65: 45 | F65: 45 | G65: 2
A66: 1214200221 | B66: דמי בדיקת בשר קפוא | C66: 146980 | D66: 146980 | E66: 178518 | F66: 31538 | G66: 143651 | H66: 80150
A67: 1214201220 | B67: כללי וטרינר106- | G67: 928
A68: 1214300220 | B68: דמי חיסון אגרות ושבבים | C68: 157091 | D68: 157091 | E68: 130366.43 | F68: -26724.57 | G68: 169343.75 | H68: 147337.58
A69: 1214301220 | B69: קנסות וטרינר109- | C69: 18000 | D69: 18000 | E69: 16623.8 | F69: -1376.2 | G69: 14402.5 | H69: 11262.5
A70: 1222000440 | B70: שמירה בטחונית | C70: 45333 | D70: 45333 | E70: 29524 | F70: -15809 | G70: 34150 | H70: 31817.5
A71: 1222000441 | B71: מנעולים עבור מקלטים משותפים | C71: 1000 | D71: 1000 | E71: 1000 | G71: 400 | H71: 200
A72: 1222100400 | B72: אג.שמירה פיגור | C72: 350000 | D72: 350000 | E72: 335562.05 | F72: -14437.95 | G72: 301370.29 | H72: 418304.48
A73: 1222100440 | B73: אגרת שמירה | C73: 2050000 | D73: 2050000 | E73: 1962064.9 | F73: -87935.07 | G73: 2567684.5 | H73: 2625198.4
A74: 1233000690 | B74: מתן מידע | C74: 41410 | D74: 41410 | E74: 45961.7 | F74: 4551.7 | G74: 43680.1 | H74: 32953.17
A75: 1233100220 | B75: אגרת רשיונות בניה | C75: 2394640 | D75: 2394640 | E75: 1886325.2 | F75: -508314.83 | G75: 1251270.6 | H75: 2368487.6
A76: 1233200290 | B76: היטל השבחה_ס.ש757. | C76: 1908984 | D76: 1908984 | E76: 1138983.9 | F76: -770000.07 | G76: 2260266.3 | H76: 7249827.9
A77: 1233200291 | B77: היטל סלילה למימון מלוות פיתוח | C77: 504000 | D77: 503999.8 | E77: 264757.81 | F77: -239241.99 | G77: 529813.72
A78: 1233200292 | B78: היטל תיעול למימון אגרת ניקוז | C78: 375638 | D78: 375638 | E78: 187819 | F78: -187819
A79: 1233200293 | B79: תקורות עבור פרוקטים היטלי פיתוח | C79: 1449150 | D79: 1449150 | E79: 843134 | F79: -606016
A80: 1233300290 | B80: אגרת מבנים מסוכנים | E80: 275 | F80: 275 | G80: 495 | H80: 375
A81: 1242000220 | B81: דמי שמוש במדרכה | C81: 211600 | D81: 211600 | E81: 55622.4 | F81: -155977.6 | G81: 205883.83 | H81: 145964.9
A82: 1242000221 | B82: כבישים | H82: 11168.6
A83: 1242000690 | B83: הנדסה-מכרזים | E83: 0 | H83: 9432
A84: 1261000421 | B84: שירותי מוקד | C84: 200000 | D84: 200000 | E84: 200000 | G84: 200000 | H84: 390000
A85: 1269000662 | B85: הכנסות שונות | G85: 959.26 | H85: 25.77
A86: 1269000690 | B86: הכנסות מכרזים שונים | C86: 67680 | D86: 67680 | E86: 68680 | F86: 1000 | G86: 45521.92
A87: 1269000790 | B87: הכנסות שונות | C87: 195272 | D87: 195272 | E87: 195177.37 | F87: -94.63 | G87: 212215.6 | H87: 164323.84
A88: 1269000791 | B88: הכנסות משכירות אתרי עבודות ברחבי העיר | C88: 250000 | D88: 250000 | F88: -250000 | G88: 71909.21
A89: 1281000215 | B89: יתרת אג.שימור רחובות8- | C89: 75000 | D89: 75000 | E89: 123323.23 | F89: 48323.23 | G89: 176849.2 | H89: 62135.76
A90: 1281000221 | B90: ב.ק.מפגעי תברואה | H90: 400
A91: 1281000222 | B91: ב.ק. שילוט | E91: 410.23 | F91: 410.23
A92: 1282000490 | B92: הכנסות משפטיות | C92: 250000 | D92: 250000 | E92: 287526.82 | F92: 37526.82 | G92: 202756.52 | H92: 418046.04
A93: 1322000410 | B93: הכנסות מכרטיסים | C93: 330000 | D93: 330000 | E93: 3280 | F93: -326720 | G93: 332465 | H93: 307030
A94: 1322000411 | B94: חסויות | C94: 120000 | D94: 120000 | E94: 54290 | F94: -65710 | G94: 120800 | H94: 108896
A95: 1322000740 | B95: מפעל הפיס פסטיבל עכו | C95: 100000 | D95: 100000 | F95: -100000 | G95: 100000 | H95: 95000
A96: 1322000790 | B96: רש.לפיתוח הגליל פסטיבל עכו | C96: 205000 | D96: 205000 | F96: -205000 | G96: 205000 | H96: 170000
A97: 1323000420 | B97: הכנסות מספריות | C97: 20000 | D97: 20000 | E97: 14043 | F97: -5957 | G97: 16145 | H97: 20322
A98: 1325200220 | B98: דמי שירות | C98: 1270000 | D98: 1270000 | E98: 898169.89 | F98: -371830.11 | G98: 1376110.4 | H98: 1321973.3
A99: 1325200221 | B99: דמי השכרת שירות 967 | C99: 8500 | D99: 8500 | E99: 10000 | F99: 1500 | G99: 3000
A100: 1325200410 | B100: סדרת צלילי מוצ"ש | C100: 10000 | D100: 10000 | E100: 12900 | F100: 2900 | G100: 8585 | H100: 13190
...

Sheet השוואה
A1: כרטיס הנה"ח | B1: תאור | C1: תקציב שנתי מאושר | D1: תקציב שהוטמע
A2: [1] | B2: תקבולים
A3: [2] | B3: הכנסות לפני הנחות ארנונה וכיסוי גרעון נצבר
A4: [3] 10 | B4: ארנונה כללית
A5: 1111100100 | B5: ארנונה כללית | C5: 115068520 | D5: =VLOOKUP(A5,#REF!,4,FALSE) -> #REF! | E5: =C5-D5 -> #REF!
A6: 1111200100 | B6: ארנונה כללית פיגורים | C6: 10649000 | D6: =VLOOKUP(A6,#REF!,4,FALSE) -> #REF! | E6: =C6-D6 -> #REF!
A7: סה"כ | B7: ארנונה כללית | C7: 125717520 | D7: =VLOOKUP(A7,#REF!,4,FALSE) -> #REF! | E7: =C7-D7 -> #REF!
A8: [3] 30 | B8: מפעל המים | D8: =VLOOKUP(A8,#REF!,4,FALSE) -> #REF! | E8: =C8-D8 -> #REF!
A9: 1413100212 | B9: אגרת מים פיגורים | C9: 420000 | D9: =VLOOKUP(A9,#REF!,4,FALSE) -> #REF! | E9: =C9-D9 -> #REF!
A10: 1413100216 | B10: אגרת חידוש חיבור30- | C10: 2000 | D10: =VLOOKUP(A10,#REF!,4,FALSE) -> #REF! | E10: =C10-D10 -> #REF!
A11: 1413100217 | B11: היטל צריכה מים עודפת ס.ש.49 | C11: 2600 | D11: =VLOOKUP(A11,#REF!,4,FALSE) -> #REF! | E11: =C11-D11 -> #REF!
A12: סה"כ | B12: מפעל המים | C12: 424600 | D12: =VLOOKUP(A12,#REF!,4,FALSE) -> #REF! | E12: =C12-D12 -> #REF!
A13: [3] | B13: סה"כ הכנסות עצמיות | D13: =VLOOKUP(A13,#REF!,4,FALSE) -> #REF! | E13: =C13-D13 -> #REF!
A14: [4] 40 | B14: עצמיות חינוך | D14: =VLOOKUP(A14,#REF!,4,FALSE) -> #REF! | E14: =C14-D14 -> #REF!
A15: 1311000690 | B15: מכרזים | D15: =VLOOKUP(A15,#REF!,4,FALSE) -> #REF! | E15: =C15-D15 -> #REF!
A16: 1312200420 | B16: הכנסות מהורים-ביטוח תאונות אישיות | D16: =VLOOKUP(A16,#REF!,4,FALSE) -> #REF! | E16: =C16-D16 -> #REF!
A17: 1312200440 | B17: חדר מלח מרכז לגיל הרך | C17: 10000 | D17: =VLOOKUP(A17,#REF!,4,FALSE) -> #REF! | E17: =C17-D17 -> #REF!
A18: 1312200790 | B18: מרכז גיל הרך-דגם בן משרדי | C18: 129114 | D18: =VLOOKUP(A18,#REF!,4,FALSE) -> #REF! | E18: =C18-D18 -> #REF!
A19: 1312210420 | B19: הכנסות מהורים-סל תרבות | D19: =VLOOKUP(A19,#REF!,4,FALSE) -> #REF! | E19: =C19-D19 -> #REF!
A20: 1312500440 | B20: פנימיות יום-גנ"י | C20: 1969169 | D20: =VLOOKUP(A20,#REF!,4,FALSE) -> #REF! | E20: =C20-D20 -> #REF!
A21: 1312501440 | B21: הכנסות מהורים מילת | C21: 607790 | D21: =VLOOKUP(A21,#REF!,4,FALSE) -> #REF! | E21: =C21-D21 -> #REF!
A22: 1313200410 | B22: השתת' הורים לבת'"ס | C22: 25000 | D22: =VLOOKUP(A22,#REF!,4,FALSE) -> #REF! | E22: =C22-D22 -> #REF!
A23: 1313317410 | B23: ילדי חוץ | C23: 1125000 | D23: =VLOOKUP(A23,#REF!,4,FALSE) -> #REF! | E23: =C23-D23 -> #REF!
A24: 1315700700 | B24: השתתפות אורט מקיף ערבי | C24: 14200000 | D24: =VLOOKUP(A24,#REF!,4,FALSE) -> #REF! | E24: =C24-D24 -> #REF!
A25: 1315777700 | B25: השתתפות אורט | C25: 16000000 | D25: =VLOOKUP(A25,#REF!,4,FALSE) -> #REF! | E25: =C25-D25 -> #REF!
A26: 1315788700 | B26: השתתפות אמית | C26: 7000000 | D26: =VLOOKUP(A26,#REF!,4,FALSE) -> #REF! | E26: =C26-D26 -> #REF!
A27: 1317500410 | B27: הכ.-בטוח תאונות אישיות | C27: 350000 | D27: =VLOOKUP(A27,#REF!,4,FALSE) -> #REF! | E27: =C27-D27 -> #REF!
A28: 1317800440 | B28: הסעות חינוך מיוחד | D28: =VLOOKUP(A28,#REF!,4,FALSE) -> #REF! | E28: =C28-D28 -> #REF!
A29: 1317900790 | B29: מתאם סמים מס חוזה 123300 | C29: 36667 | D29: =VLOOKUP(A29,#REF!,4,FALSE) -> #REF! | E29: =C29-D29 -> #REF!
A30: 1317950790 | B30: מרכז נוער ישובי/שכונתי התוכנית הלאומית-מש.חינוך | C30: 513900 | D30: =VLOOKUP(A30,#REF!,4,FALSE) -> #REF! | E30: =C30-D30 -> #REF!
A31: סה"כ | B31: עצמיות חינוך | C31: 41966640 | D31: =VLOOKUP(A31,#REF!,4,FALSE) -> #REF! | E31: =C31-D31 -> #REF!
A32: [4] 50 | B32: עצמיות רווחה | D32: =VLOOKUP(A32,#REF!,4,FALSE) -> #REF! | E32: =C32-D32 -> #REF!
A33: 1342400420 | B33: טיפול בפרט ובמשפחה | D33: =VLOOKUP(A33,#REF!,4,FALSE) -> #REF! | E33: =C33-D33 -> #REF!
A34: 1343500420 | B34: פעולות קהלתיות | C34: 2000 | D34: =VLOOKUP(A34,#REF!,4,FALSE) -> #REF! | E34: =C34-D34 -> #REF!
A35: 1343523410 | B35: שרותים תומכים למפגר | C35: 150200 | D35: =VLOOKUP(A35,#REF!,4,FALSE) -> #REF! | E35: =C35-D35 -> #REF!
A36: 1343800420 | B36: השתת' הורים אחזקה | C36: 48000 | D36: =VLOOKUP(A36,#REF!,4,FALSE) -> #REF! | E36: =C36-D36 -> #REF!
A37: 1343800421 | B37: פקוח וטפול אומנה | D37: =VLOOKUP(A37,#REF!,4,FALSE) -> #REF! | E37: =C37-D37 -> #REF!
A38: 1344300420 | B38: אחזקת זקנים במעונות | C38: 545333 | D38: =VLOOKUP(A38,#REF!,4,FALSE) -> #REF! | E38: =C38-D38 -> #REF!
A39: 1344300421 | B39: עזרה ביתית | C39: 31200 | D39: =VLOOKUP(A39,#REF!,4,FALSE) -> #REF! | E39: =C39-D39 -> #REF!
A40: 1344500420 | B40: מסגרת יומיות לזקן | C40: 100000 | D40: =VLOOKUP(A40,#REF!,4,FALSE) -> #REF! | E40: =C40-D40 -> #REF!
A41: 1345100420 | B41: נופשונים וקייטנות | C41: 5000 | D41: =VLOOKUP(A41,#REF!,4,FALSE) -> #REF! | E41: =C41-D41 -> #REF!
A42: 1345300420 | B42: השתת' הורים-ארוחות | D42: =VLOOKUP(A42,#REF!,4,FALSE) -> #REF! | E42: =C42-D42 -> #REF!
A43: 1345523410 | B43: שרותים תומכים למפגר | C43: 72000 | D43: =VLOOKUP(A43,#REF!,4,FALSE) -> #REF! | E43: =C43-D43 -> #REF!
A44: 1346700420 | B44: מ.יום שיקומי לנכים | C44: 121200 | D44: =VLOOKUP(A44,#REF!,4,FALSE) -> #REF! | E44: =C44-D44 -> #REF!
A45: 1346900420 | B45: שיקום-מרכז למשפחה | D45: =VLOOKUP(A45,#REF!,4,FALSE) -> #REF! | E45: =C45-D45 -> #REF!
A46: 1346900920 | B46: שיקום-מרכז למשפחה | C46: 135000 | D46: =VLOOKUP(A46,#REF!,4,FALSE) -> #REF! | E46: =C46-D46 -> #REF!
A47: 1349000422 | B47: פנימיה למפגרים | C47: 5000 | D47: =VLOOKUP(A47,#REF!,4,FALSE) -> #REF! | E47: =C47-D47 -> #REF!
A48: 1349002420 | B48: נכים בקהילה עולים | C48: 3000 | D48: =VLOOKUP(A48,#REF!,4,FALSE) -> #REF! | E48: =C48-D48 -> #REF!
A49: סה"כ | B49: עצמיות רווחה | C49: 1217933 | D49: =VLOOKUP(A49,#REF!,4,FALSE) -> #REF! | E49: =C49-D49 -> #REF!
A50: [4] 60 | B50: יתר עצמיות | D50: =VLOOKUP(A50,#REF!,4,FALSE) -> #REF! | E50: =C50-D50 -> #REF!
A51: 1111200216 | B51: הוצאות רישום ועיקול32- | C51: 220800 | D51: =VLOOKUP(A51,#REF!,4,FALSE) -> #REF! | E51: =C51-D51 -> #REF!
A52: 1111300291 | B52: ארנונה השתתפות מטה אשר | C52: 550000 | D52: =VLOOKUP(A52,#REF!,4,FALSE) -> #REF! | E52: =C52-D52 -> #REF!
A53: 1111400100 | B53: ארנונה מרפאל | C53: 12350000 | D53: =VLOOKUP(A53,#REF!,4,FALSE) -> #REF! | E53: =C53-D53 -> #REF!
A54: 1121000220 | B54: ניהול תיקים,תעודות ואישורים | C54: 3500 | D54: =VLOOKUP(A54,#REF!,4,FALSE) -> #REF! | E54: =C54-D54 -> #REF!
A55: 1122000220 | B55: אגרות רשיונות לשלטים | C55: 1600000 | D55: =VLOOKUP(A55,#REF!,4,FALSE) -> #REF! | E55: =C55-D55 -> #REF!
A56: 1122000221 | B56: אגרת שלטים פיגורים | C56: 400000 | D56: =VLOOKUP(A56,#REF!,4,FALSE) -> #REF! | E56: =C56-D56 -> #REF!
A57: 1124100220 | B57: מודעות על לוחות | D57: =VLOOKUP(A57,#REF!,4,FALSE) -> #REF! | E57: =C57-D57 -> #REF!
A58: 1129100220 | B58: הוצ.רישום ועיקול סוג ש | C58: 141600 | D58: =VLOOKUP(A58,#REF!,4,FALSE) -> #REF! | E58: =C58-D58 -> #REF!
A59: 1129100221 | B59: הכנסות גביה עיקול בנק_ | C59: 682800 | D59: =VLOOKUP(A59,#REF!,4,FALSE) -> #REF! | E59: =C59-D59 -> #REF!
A60: 1160000662 | B60: הכנסות מימון | C60: 2725808 | D60: =VLOOKUP(A60,#REF!,4,FALSE) -> #REF! | E60: =C60-D60 -> #REF!
A61: 1212300690 | B61: מכרזים-תברואה | D61: =VLOOKUP(A61,#REF!,4,FALSE) -> #REF! | E61: =C61-D61 -> #REF!
A62: 1212400220 | B62: אגרת נקוי חצרות | C62: 1000000 | D62: =VLOOKUP(A62,#REF!,4,FALSE) -> #REF! | E62: =C62-D62 -> #REF!
A63: 1212400221 | B63: אג.נקוי חצרות פיגורים | C63: 325000 | D63: =VLOOKUP(A63,#REF!,4,FALSE) -> #REF! | E63: =C63-D63 -> #REF!
A64: 1213000220 | B64: למלאכה ותעשיה-רישוי עס | C64: 45600 | D64: =VLOOKUP(A64,#REF!,4,FALSE) -> #REF! | E64: =C64-D64 -> #REF!
A65: 1213000221 | B65: רוכלים | D65: =VLOOKUP(A65,#REF!,4,FALSE) -> #REF! | E65: =C65-D65 -> #REF!
A66: 1214200221 | B66: דמי בדיקת בשר קפוא | C66: 146980 | D66: =VLOOKUP(A66,#REF!,4,FALSE) -> #REF! | E66: =C66-D66 -> #REF!
A67: 1214201220 | B67: כללי וטרינר106- | D67: =VLOOKUP(A67,#REF!,4,FALSE) -> #REF! | E67: =C67-D67 -> #REF!
A68: 1214300220 | B68: דמי חיסון אגרות ושבבים | C68: 157091 | D68: =VLOOKUP(A68,#REF!,4,FALSE) -> #REF! | E68: =C68-D68 -> #REF!
A69: 1214301220 | B69: קנסות וטרינר109- | C69: 18000 | D69: =VLOOKUP(A69,#REF!,4,FALSE) -> #REF! | E69: =C69-D69 -> #REF!
A70: 1222000440 | B70: שמירה בטחונית | C70: 45333 | D70: =VLOOKUP(A70,#REF!,4,FALSE) -> #REF! | E70: =C70-D70 -> #REF!
A71: 1222000441 | B71: מנעולים עבור מקלטים משותפים | C71: 1000 | D71: =VLOOKUP(A71,#REF!,4,FALSE) -> #REF! | E71: =C71-D71 -> #REF!
A72: 1222100400 | B72: אג.שמירה פיגור | C72: 350000 | D72: =VLOOKUP(A72,#REF!,4,FALSE) -> #REF! | E72: =C72-D72 -> #REF!
A73: 1222100440 | B73: אגרת שמירה | C73: 2050000 | D73: =VLOOKUP(A73,#REF!,4,FALSE) -> #REF! | E73: =C73-D73 -> #REF!
A74: 1233000690 | B74: מתן מידע | C74: 41410 | D74: =VLOOKUP(A74,#REF!,4,FALSE) -> #REF! | E74: =C74-D74 -> #REF!
A75: 1233100220 | B75: אגרת רשיונות בניה | C75: 2394640 | D75: =VLOOKUP(A75,#REF!,4,FALSE) -> #REF! | E75: =C75-D75 -> #REF!
A76: 1233200290 | B76: היטל השבחה_ס.ש757. | C76: 1908984 | D76: =VLOOKUP(A76,#REF!,4,FALSE) -> #REF! | E76: =C76-D76 -> #REF!
A77: 1233200291 | B77: היטל סלילה למימון מלוות פיתוח | C77: 504000 | D77: =VLOOKUP(A77,#REF!,4,FALSE) -> #REF! | E77: =C77-D77 -> #REF!
A78: 1233200292 | B78: היטל תיעול למימון אגרת ניקוז | C78: 375638 | D78: =VLOOKUP(A78,#REF!,4,FALSE) -> #REF! | E78: =C78-D78 -> #REF!
A79: 1233200293 | B79: תקורות עבור פרוקטים היטלי פיתוח | C79: 1449150 | D79: =VLOOKUP(A79,#REF!,4,FALSE) -> #REF! | E79: =C79-D79 -> #REF!
A80: 1233300290 | B80: אגרת מבנים מסוכנים | D80: =VLOOKUP(A80,#REF!,4,FALSE) -> #REF! | E80: =C80-D80 -> #REF!
A81: 1242000220 | B81: דמי שמוש במדרכה | C81: 211600 | D81: =VLOOKUP(A81,#REF!,4,FALSE) -> #REF! | E81: =C81-D81 -> #REF!
A82: 1242000221 | B82: כבישים | D82: =VLOOKUP(A82,#REF!,4,FALSE) -> #REF! | E82: =C82-D82 -> #REF!
A83: 1242000690 | B83: הנדסה-מכרזים | D83: =VLOOKUP(A83,#REF!,4,FALSE) -> #REF! | E83: =C83-D83 -> #REF!
A84: 1261000421 | B84: שירותי מוקד | C84: 200000 | D84: =VLOOKUP(A84,#REF!,4,FALSE) -> #REF! | E84: =C84-D84 -> #REF!
A85: 1269000662 | B85: הכנסות שונות | D85: =VLOOKUP(A85,#REF!,4,FALSE) -> #REF! | E85: =C85-D85 -> #REF!
A86: 1269000690 | B86: הכנסות מכרזים שונים | C86: 67680 | D86: =VLOOKUP(A86,#REF!,4,FALSE) -> #REF! | E86: =C86-D86 -> #REF!
A87: 1269000790 | B87: הכנסות שונות | C87: 195272 | D87: =VLOOKUP(A87,#REF!,4,FALSE) -> #REF! | E87: =C87-D87 -> #REF!
A88: 1269000791 | B88: הכנסות משכירות אתרי עבודות ברחבי העיר | C88: 250000 | D88: =VLOOKUP(A88,#REF!,4,FALSE) -> #REF! | E88: =C88-D88 -> #REF!
A89: 1281000215 | B89: יתרת אג.שימור רחובות8- | C89: 75000 | D89: =VLOOKUP(A89,#REF!,4,FALSE) -> #REF! | E89: =C89-D89 -> #REF!
A90: 1281000221 | B90: ב.ק.מפגעי תברואה | D90: =VLOOKUP(A90,#REF!,4,FALSE) -> #REF! | E90: =C90-D90 -> #REF!
A91: 1281000222 | B91: ב.ק. שילוט | D91: =VLOOKUP(A91,#REF!,4,FALSE) -> #REF! | E91: =C91-D91 -> #REF!
A92: 1282000490 | B92: הכנסות משפטיות | C92: 250000 | D92: =VLOOKUP(A92,#REF!,4,FALSE) -> #REF! | E92: =C92-D92 -> #REF!
A93: 1322000410 | B93: הכנסות מכרטיסים | C93: 330000 | D93: =VLOOKUP(A93,#REF!,4,FALSE) -> #REF! | E93: =C93-D93 -> #REF!
A94: 1322000411 | B94: חסויות | C94: 120000 | D94: =VLOOKUP(A94,#REF!,4,FALSE) -> #REF! | E94: =C94-D94 -> #REF!
A95: 1322000740 | B95: מפעל הפיס פסטיבל עכו | C95: 100000 | D95: =VLOOKUP(A95,#REF!,4,FALSE) -> #REF! | E95: =C95-D95 -> #REF!
A96: 1322000790 | B96: רש.לפיתוח הגליל פסטיבל עכו | C96: 205000 | D96: =VLOOKUP(A96,#REF!,4,FALSE) -> #REF! | E96: =C96-D96 -> #REF!
A97: 1323000420 | B97: הכנסות מספריות | C97: 20000 | D97: =VLOOKUP(A97,#REF!,4,FALSE) -> #REF! | E97: =C97-D97 -> #REF!
A98: 1325200220 | B98: דמי שירות | C98: 1270000 | D98: =VLOOKUP(A98,#REF!,4,FALSE) -> #REF! | E98: =C98-D98 -> #REF!
A99: 1325200221 | B99: דמי השכרת שירות 967 | C99: 8500 | D99: =VLOOKUP(A99,#REF!,4,FALSE) -> #REF! | E99: =C99-D99 -> #REF!
A100: 1325200410 | B100: סדרת צלילי מוצ"ש | C100: 10000 | D100: =VLOOKUP(A100,#REF!,4,FALSE) -> #REF! | E100: =C100-D100 -> #REF!
...

Sheet סעיפים תקציב רווחה
A1: כרטיס הנה"ח | B1: תאור
A2: [4] 50 | B2: עצמיות רווחה | D2: תעריף ממוצע לחודש לפי ביצוע עד 10.2017 | E2: מספר מטופלים עתידי | G2: סה"כ ביצוע צפוי 2018 | H2: סה"כ צפי 2017
A3: 1341000690 | B3: רווחה-מכרזים | F3: 0 | G3: 0
A4: 1342400420 | B4: טיפול בפרט ובמשפחה | F4: 1000 | G4: =F4+C4 -> 1000 | H4: 1047
A5: 1343500420 | B5: פעולות קהלתיות | F5: 2000 | G5: =F5+C5 -> 2000 | H5: 2131
A6: 1343523410 | B6: שרותים תומכים למפגר | F6: =100000/8*12+7000 -> 157000 | G6: =F6+C6 -> 157000 | H6: 154795
A7: 1345300930 | B7: שרותים תומכים למפגר | F7: 0 | G7: =F7+C7 -> 0 | H7: 7965
A8: 1343800420 | B8: השתת' הורים אחזקה | F8: =23000/8*12 -> 34500 | G8: =F8+C8 -> 34500 | H8: 20799
A9: 1343800421 | B9: פקוח וטפול אומנה | F9: 0 | G9: =F9+C9 -> 0
A10: 1344300420 | B10: אחזקת זקנים במעונות | F10: =328000/8*12 -> 492000 | G10: =F10+C10 -> 492000 | H10: 510398
A11: 1344300421 | B11: עזרה ביתית | F11: =15000/8*12 -> 22500 | G11: =F11+C11 -> 22500 | H11: 24931
A12: 1344324410 | B12: צרכים רפואיים | F12: 0 | G12: =F12+C12 -> 0
A13: 1344500420 | B13: מסגרת יומיות לזקן | F13: =5000*12 -> 60000 | G13: =F13+C13 -> 60000 | H13: 71052 | I13: חילוף מנהל
A14: 1345100420 | B14: נופשונים וקייטנות | F14: 1000 | G14: =F14+C14 -> 1000 | H14: 1000
A15: 1345300420 | B15: השתת' הורים-ארוחות | F15: 0 | G15: =F15+C15 -> 0
A16: 1345523410 | B16: שרותים תומכים למפגר | F16: =21000/8*12 -> 31500 | G16: =F16+C16 -> 31500 | H16: 31874
A17: 1346700420 | B17: מ.יום שיקומי לנכים | F17: =61000/8*12 -> 91500 | G17: =F17+C17 -> 91500 | H17: 91841
A18: 1346900420 | B18: שיקום-מרכז למשפחה | F18: 0 | G18: =F18+C18 -> 0
A19: 1349000422 | B19: פנימיה למפגרים | F19: 3000 | G19: =F19+C19 -> 3000 | H19: 4860
A20: 1349002420 | B20: נכים בקהילה עולים | F20: 4000 | G20: =F20+C20 -> 4000 | H20: 2799
A21: סה"כ | B21: עצמיות רווחה | C21: =SUM(C3:C20) -> 0 | G21: =SUM(G4:G20) -> 900000 | H21: =SUM(H4:H20) -> 925492
A22: [4] 80 | B22: תקבולים ממשרד הרווחה
A23: 1341000930 | B23: שכר עובדי לשכות | G23: =VLOOKUP(A23,'[2]מרכזי רווח עדכני סעיפים'!$A$4:$H$500,8,FALSE) -> 6428103
A24: 1341000933 | B24: פעולות ארגוניות | G24: =VLOOKUP(A24,'[2]מרכזי רווח עדכני סעיפים'!$A$4:$H$500,8,FALSE) -> 7500 | I24: אין פעילות
A25: 1341000934 | B25: כ"א לחינוך המיוחד | G25: =VLOOKUP(A25,'[2]מרכזי רווח עדכני סעיפים'!$A$4:$H$500,8,FALSE) -> 127498
A26: 1341000935 | B26: הערכות המחלקות לש"ח | I26: אין פעילות
A27: 1341000936 | B27: מחשוב מחלקות רווחה | G27: =VLOOKUP(A27,'[2]מרכזי רווח עדכני סעיפים'!$A$4:$H$500,8,FALSE) -> 24600
A28: 1341000937 | B28: בטחון עובדים-מאבטחים | G28: =VLOOKUP(A28,'[2]מרכזי רווח עדכני סעיפים'!$A$4:$H$500,8,FALSE) -> 15000
A29: 1341000938 | B29: נושמים לרווחה-כ"א | G29: =VLOOKUP(A29,'[2]מרכזי רווח עדכני סעיפים'!$A$4:$H$500,8,FALSE) -> 253200
A30: 1341000939 | B30: מחשוב רפורמה | I30: אין פעילות
A31: 1342200930 | B31: משפחות במצוקה בקהילה | G31: =VLOOKUP(A31,'[2]מרכזי רווח עדכני סעיפים'!$A$4:$H$500,8,FALSE) -> 126000
A32: 1342200931 | B32: טיפול באלכוהוליסטים | I32: אין פעילות
A33: 1342200933 | B33: סיוע למשפחות עם ילדים | G33: =VLOOKUP(A33,'[2]מרכזי רווח עדכני סעיפים'!$A$4:$H$500,8,FALSE) -> 112000
A34: 1342200934 | B34: מס. ארציות לדרי רחוב | G34: =VLOOKUP(A34,'[2]מרכזי רווח עדכני סעיפים'!$A$4:$H$500,8,FALSE) -> 141004.8
A35: 1342200936 | B35: מקלטים לנשים מוכות | G35: =VLOOKUP(A35,'[2]מרכזי רווח עדכני סעיפים'!$A$4:$H$500,8,FALSE) -> 75000
A36: 1342200937 | B36: טיפול בדרי רחוב | G36: =VLOOKUP(A36,'[2]מרכזי רווח עדכני סעיפים'!$A$4:$H$500,8,FALSE) -> 7500
A37: 1342200938 | B37: סיוע חד פעמי לחימום | I37: אין פעילות
A38: 1342200939 | B38: סיוע בהוצאות אבל | I38: אין פעילות
A39: 1342400931 | B39: תחנות לטיפול במשפחה | G39: =VLOOKUP(A39,'[2]מרכזי רווח עדכני סעיפים'!$A$4:$H$500,8,FALSE) -> 30000
A40: 1342400935 | B40: מרכזי טיפול באלימות | G40: =VLOOKUP(A40,'[2]מרכזי רווח עדכני סעיפים'!$A$4:$H$500,8,FALSE) -> 108000
A41: 1342400937 | B41: תכנית למניעת אלימות | G41: =VLOOKUP(A41,'[2]מרכזי רווח עדכני סעיפים'!$A$4:$H$500,8,FALSE) -> 9000
A42: 1342401930 | B42: ת. לאומית פרט ומשפחה | G42: =VLOOKUP(A42,'[2]מרכזי רווח עדכני סעיפים'!$A$4:$H$500,8,FALSE) -> 145800
A43: 1342401931 | B43: נושמים לרווחה | G43: =VLOOKUP(A43,'[2]מרכזי רווח עדכני סעיפים'!$A$4:$H$500,8,FALSE) -> 112500
A44: 1343500930 | B44: מ.חירום אקסטרניים | G44: =VLOOKUP(A44,'[2]מרכזי רווח עדכני סעיפים'!$A$4:$H$500,8,FALSE) -> 16413.84
A45: 1343500931 | B45: טיפול במשפחות אומנה | G45: =VLOOKUP(A45,'[2]מרכזי רווח עדכני סעיפים'!$A$4:$H$500,8,FALSE) -> 220870.8
A46: 1343500932 | B46: טיפול בילד בקהילה | G46: ='[2]מרכזי רווח עדכני סעיפים'!G78 -> 653346 | I46: נמשך מתא ולא מנוסחא
A47: 1343500934 | B47: ת.לאומית-ילד ונוער | G47: =VLOOKUP(A47,'[2]מרכזי רווח עדכני סעיפים'!$A$4:$H$500,8,FALSE) -> 385668
A48: 1343500935 | B48: מועדוניות משותפות | G48: =VLOOKUP(A48,'[2]מרכזי רווח עדכני סעיפים'!$A$4:$H$500,8,FALSE) -> 81168
A49: 1343500937 | B49: יצירת קשר הורים-ילדים | G49: =VLOOKUP(A49,'[2]מרכזי רווח עדכני סעיפים'!$A$4:$H$500,8,FALSE) -> 30000
A50: 1343500939 | B50: טיפול בפגיעת מיניות | G50: =VLOOKUP(A50,'[2]מרכזי רווח עדכני סעיפים'!$A$4:$H$500,8,FALSE) -> 120000
A51: 1343500940 | B51: בדיקות פסיכולוגיות | G51: =VLOOKUP(A51,'[2]מרכזי רווח עדכני סעיפים'!$A$4:$H$500,8,FALSE) -> 0 | I51: אין פעילות
A52: 1343500941 | B52: התנ.מינית לא מותאמת | G52: =VLOOKUP(A52,'[2]מרכזי רווח עדכני סעיפים'!$A$4:$H$500,8,FALSE) -> 0 | I52: אין פעילות
A54: 1343800930 | B54: אחזקת ילדים בפנימיות | G54: =VLOOKUP(A54,'[2]מרכזי רווח עדכני סעיפים'!$A$4:$H$500,8,FALSE) -> 4117340.2
A55: 1343800935 | B55: תכנית עם הפנים לקהילה | G55: =VLOOKUP(A55,'[2]מרכזי רווח עדכני סעיפים'!$A$4:$H$500,8,FALSE) -> 183870
A56: 1343900930 | B56: ילדים במעונות יום | G56: =VLOOKUP(A56,'[2]מרכזי רווח עדכני סעיפים'!$A$4:$H$500,8,FALSE) -> 2611159.2
A57: 1344300930 | B57: אחזקת זקנים במעונות | G57: =VLOOKUP(A57,'[2]מרכזי רווח עדכני סעיפים'!$A$4:$H$500,8,FALSE) -> 4303446.3
A58: 1344300932 | B58: נופשון לזקן | G58: =VLOOKUP(A58,'[2]מרכזי רווח עדכני סעיפים'!$A$4:$H$500,8,FALSE) -> 0 | I58: אין פעילות
A59: 1344400931 | B59: שירותים לניצולי שואה | G59: =VLOOKUP(A59,'[2]מרכזי רווח עדכני סעיפים'!$A$4:$H$500,8,FALSE) -> 100000
A60: 1344400932 | B60: טיפול בזקן בקהילה | G60: =VLOOKUP(A60,'[2]מרכזי רווח עדכני סעיפים'!$A$4:$H$500,8,FALSE) -> 154000
A61: 1344400933 | B61: טיפ.שיניים ומכ.לקשיש | G61: =VLOOKUP(A61,'[2]מרכזי רווח עדכני סעיפים'!$A$4:$H$500,8,FALSE) -> 0 | I61: אין פעילות
A62: 1344400934 | B62: מרכזי ועדות -חוק סיעוד | G62: =VLOOKUP(A62,'[2]מרכזי רווח עדכני סעיפים'!$A$4:$H$500,8,FALSE) -> 257156
A63: 1344400935 | B63: מועדונים לזקנים | G63: =VLOOKUP(A63,'[2]מרכזי רווח עדכני סעיפים'!$A$4:$H$500,8,FALSE) -> 22500
A64: 1344400936 | B64: מיגון וציוד ביתי | G64: =VLOOKUP(A64,'[2]מרכזי רווח עדכני סעיפים'!$A$4:$H$500,8,FALSE) -> 0 | I64: אין פעילות
A65: 1344400939 | B65: שכונה תומכת | G65: =VLOOKUP(A65,'[2]מרכזי רווח עדכני סעיפים'!$A$4:$H$500,8,FALSE) -> 315000
A66: 1344400943 | B66: סיוע לניצולי שואה | G66: =VLOOKUP(A66,'[2]מרכזי רווח עדכני סעיפים'!$A$4:$H$500,8,FALSE) -> 100000
A67: 1344400940 | B67: השתתפות בפעילות לקשישים | G67: =VLOOKUP(A67,'[2]מרכזי רווח עדכני סעיפים'!$A$4:$H$500,8,FALSE) -> 150000
A68: 1344400941 | B68: טיפול בזקנים בסיכון | G68: =VLOOKUP(A68,'[2]מרכזי רווח עדכני סעיפים'!$A$4:$H$500,8,FALSE) -> לילך תבדוק האם ההחזר יהיה בסעיף אחר?שכר?
A69: 1344500930 | B69: מסגרות יומיות לזקן | G69: =VLOOKUP(A69,'[2]מרכזי רווח עדכני סעיפים'!$A$4:$H$500,8,FALSE) -> 416000
A70: 1344500933 | B70: מועדון מופת | I70: אין פעילות
A71: 1344500934 | B71: מועדונים מועשרים | G71: =VLOOKUP(A71,'[2]מרכזי רווח עדכני סעיפים'!$A$4:$H$500,8,FALSE) -> 215468.4
A72: 1344500935 | B72: מופת ניצולי שואה | G72: =VLOOKUP(A72,'[2]מרכזי רווח עדכני סעיפים'!$A$4:$H$500,8,FALSE) -> 274093
A73: 1345100932 | B73: אחזקת אוטיסטים במסגר | G73: =VLOOKUP(A73,'[2]מרכזי רווח עדכני סעיפים'!$A$4:$H$500,8,FALSE) -> 1248480
A74: 1345100933 | B74: טיפול בהורים ובילדיה | G74: =VLOOKUP(A74,'[2]מרכזי רווח עדכני סעיפים'!$A$4:$H$500,8,FALSE) -> 57600
A75: 1345100934 | B75: נופשונים וקייטנות | G75: =VLOOKUP(A75,'[2]מרכזי רווח עדכני סעיפים'!$A$4:$H$500,8,FALSE) -> 7500
A76: 1345100935 | B76: משפחות אומנה למפגר | G76: =VLOOKUP(A76,'[2]מרכזי רווח עדכני סעיפים'!$A$4:$H$500,8,FALSE) -> 15440.76
A77: 1345100936 | B77: מ.יום שיקומי לאוטיסט | G77: =VLOOKUP(A77,'[2]מרכזי רווח עדכני סעיפים'!$A$4:$H$500,8,FALSE) -> 126300
A78: 1345100937 | B78: סביבה תומכת | G78: =VLOOKUP(A78,'[2]מרכזי רווח עדכני סעיפים'!$A$4:$H$500,8,FALSE) -> 0 | I78: אין פעילות
A79: 1345100938 | B79: מ.יום ותעסוקה לבוגרים | G79: =VLOOKUP(A79,'[2]מרכזי רווח עדכני סעיפים'!$A$4:$H$500,8,FALSE) -> 75536.957
A80: 1345100939 | B80: הסעות לאוטיסטים | G80: =VLOOKUP(A80,'[2]מרכזי רווח עדכני סעיפים'!$A$4:$H$500,8,FALSE) -> 15750
A81: 1345100940 | B81: סידור במעונות-מש"ה | G81: =VLOOKUP(A81,'[2]מרכזי רווח עדכני סעיפים'!$A$4:$H$500,8,FALSE) -> 9597690
A82: 1345100941 | B82: מעון ממשלתי -מש"ה
A83: 1345100942 | B83: מועדונ.לילדים ולבוגר | G83: =VLOOKUP(A83,'[2]מרכזי רווח עדכני סעיפים'!$A$4:$H$500,8,FALSE) -> 71544
A84: 1345100943 | B84: הפעלת מעונות ממשלתיים | G84: =VLOOKUP(A84,'[2]מרכזי רווח עדכני סעיפים'!$A$4:$H$500,7,FALSE) -> 2319786 | I84: יש לקבל השלמה
A85: 1345200930 | B85: מפגרים במעון אמוני | I85: אין פעילות
A86: 1345200932 | B86: מעשיים | G86: =VLOOKUP(A86,'[2]מרכזי רווח עדכני סעיפים'!$A$4:$H$500,8,FALSE) -> 564288.48
A87: 1345200936 | B87: מ.יום אימוני-מש"ה | G87: =VLOOKUP(A87,'[2]מרכזי רווח עדכני סעיפים'!$A$4:$H$500,8,FALSE) -> ללא פעילות | I87: אין פעילות
A88: 1345200937 | B88: מ.יום טיפולי-מש"ה | G88: =VLOOKUP(A88,'[2]מרכזי רווח עדכני סעיפים'!$A$4:$H$500,8,FALSE) -> 1210947
A89: 1345300931 | B89: נופשונים למפגר | G89: =VLOOKUP(A89,'[2]מרכזי רווח עדכני סעיפים'!$A$4:$H$500,8,FALSE) -> 21300
A90: 1345300933 | B90: מועדונים חברת.למפגר | I90: אין פעילות
A91: 1345300936 | B91: שירותים תומכים-מש"ה | G91: =VLOOKUP(A91,'[2]מרכזי רווח עדכני סעיפים'!$A$4:$H$500,8,FALSE) -> 57600
A92: 1345300937 | B92: הסעות למ.יום-מש"ה | G92: =VLOOKUP(A92,'[2]מרכזי רווח עדכני סעיפים'!$A$4:$H$500,8,FALSE) -> 252000
A93: 1345300938 | B93: מועדון חברתי-מש"ה | G93: =VLOOKUP(A93,'[2]מרכזי רווח עדכני סעיפים'!$A$4:$H$500,8,FALSE) -> 46955.7
A94: 1346100930 | B94: ילדים עוורים במוסדות | G94: =VLOOKUP(A94,'[2]מרכזי רווח עדכני סעיפים'!$A$4:$H$500,8,FALSE) -> 127519.38
A95: 1346300931 | B95: הדרכת עוור ובני ביתו | G95: =VLOOKUP(A95,'[2]מרכזי רווח עדכני סעיפים'!$A$4:$H$500,8,FALSE) -> 45000
A96: 1346300933 | B96: שיקום העוור בקהילה | G96: =VLOOKUP(A96,'[2]מרכזי רווח עדכני סעיפים'!$A$4:$H$500,8,FALSE) -> 6300
A97: 1346400930 | B97: מפעלי תעסוקה ומועדון | G97: =VLOOKUP(A97,'[2]מרכזי רווח עדכני סעיפים'!$A$4:$H$500,8,FALSE) -> 0
A98: 1346400931 | B98: מפעלי שיקום לעוור | I98: אין פעילות
A99: 1346500930 | B99: אחזקת נכים בפנימיות | G99: =VLOOKUP(A99,'[2]מרכזי רווח עדכני סעיפים'!$A$4:$H$500,8,FALSE) -> 3020220
A100: 1346600930 | B100: מס.יום לילד המוגבל | G100: =VLOOKUP(A100,'[2]מרכזי רווח עדכני סעיפים'!$A$4:$H$500,8,FALSE) -> 62263.656
A101: 1346600931 | B101: תעסוקה מוגנת למוגבל | G101: =VLOOKUP(A101,'[2]מרכזי רווח עדכני סעיפים'!$A$4:$H$500,8,FALSE) -> 167434.02
...
