Workbook

Sheet לעדכון ראובן
A1: כרטיס הנה"ח | B1: תאור | C1: הצעת תקציב 2013 | E1: ביצוע 2012 עד היום | F1: תקציב 2012 | G1: ביצוע 2011 | H1: ביצוע 2010
A2: [1] | B2: תקבולים
A3: [2] | B3: הכנסות לפני הנחות ארנונה וכיסוי גרעון נצבר
A4: [3] 10 | B4: ארנונה כללית
A5: 1111100100 | B5: ארנונה כללית | C5: =VLOOKUP(A5,#REF!,3,FALSE) -> #REF! | E5: =VLOOKUP(A5,'[1]תקציב 2012 נכון להיום'!$A$2:$E$1361,5,FALSE) -> 67773192 | F5: 89665000 | G5: 77454941 | H5: 75790667
A6: 1111200100 | B6: ארנונה כללית פיגורים | C6: =VLOOKUP(A6,#REF!,3,FALSE) -> #REF! | E6: =VLOOKUP(A6,'[1]תקציב 2012 נכון להיום'!$A$2:$E$1361,5,FALSE) -> 9168704 | F6: 10500000 | G6: 14886756 | H6: 12652936
A7: 1111300291 | B7: ארנונה השתתפות מטה אשר | C7: =VLOOKUP(A7,#REF!,3,FALSE) -> #REF! | E7: =VLOOKUP(A7,'[1]תקציב 2012 נכון להיום'!$A$2:$E$1361,5,FALSE) -> 206855.85 | F7: 500000 | G7: 380126.35 | H7: 361653
A8: 1111400100 | B8: ארנונה מרפאל | C8: =VLOOKUP(A8,#REF!,3,FALSE) -> #REF! | E8: =VLOOKUP(A8,'[1]תקציב 2012 נכון להיום'!$A$2:$E$1361,5,FALSE) -> 4666862 | F8: 4650000 | G8: 4573980.7 | H8: 4419695
C9: =VLOOKUP(A9,#REF!,3,FALSE) -> #REF!
A10: [3] 30 | B10: מפעל המים | C10: =VLOOKUP(A10,#REF!,3,FALSE) -> #REF!
A11: 1413100212 | B11: אגרת מים פיגורים | C11: =VLOOKUP(A11,#REF!,3,FALSE) -> #REF! | E11: =VLOOKUP(A11,'[1]תקציב 2012 נכון להיום'!$A$2:$E$1361,5,FALSE) -> 338191.83 | F11: 637000 | G11: 2909137.5 | H11: 2065786.1
C12: =VLOOKUP(A12,#REF!,3,FALSE) -> #REF!
C13: =VLOOKUP(A13,#REF!,3,FALSE) -> #REF!
A14: [4] 40 | B14: עצמיות חינוך | C14: =VLOOKUP(A14,#REF!,3,FALSE) -> #REF!
A15: 1312200440 | B15: חדר מלח מרכז לגיל הרך | C15: =VLOOKUP(A15,#REF!,3,FALSE) -> #REF! | E15: =VLOOKUP(A15,'[1]תקציב 2012 נכון להיום'!$A$2:$E$1361,5,FALSE) -> 18445 | F15: 0 | G15: 0 | H15: 0
A16: 1312200790 | B16: הגיל הרך-יעדים לצפון | C16: =VLOOKUP(A16,#REF!,3,FALSE) -> #REF! | E16: =VLOOKUP(A16,'[1]תקציב 2012 נכון להיום'!$A$2:$E$1361,5,FALSE) -> 0 | F16: 343460 | G16: 0 | H16: 188200
A17: 1312500440 | B17: פנימיות יום-גנ"י | C17: =VLOOKUP(A17,#REF!,3,FALSE) -> #REF! | E17: =VLOOKUP(A17,'[1]תקציב 2012 נכון להיום'!$A$2:$E$1361,5,FALSE) -> 627063 | F17: 932710 | G17: 960942.8 | H17: 640711
A18: 1312501440 | B18: הכנסות מהורים מילת | C18: =VLOOKUP(A18,#REF!,3,FALSE) -> #REF! | E18: =VLOOKUP(A18,'[1]תקציב 2012 נכון להיום'!$A$2:$E$1361,5,FALSE) -> 466243 | F18: 285000 | G18: 489055.8 | H18: 290900
A19: 1313201410 | B19: השתתפות אשלים | C19: =VLOOKUP(A19,#REF!,3,FALSE) -> #REF! | E19: =VLOOKUP(A19,'[1]תקציב 2012 נכון להיום'!$A$2:$E$1361,5,FALSE) -> 0 | F19: 50000 | G19: 0 | H19: 0
A20: 1313317410 | B20: ילדי חוץ | C20: =VLOOKUP(A20,#REF!,3,FALSE) -> #REF! | E20: =VLOOKUP(A20,'[1]תקציב 2012 נכון להיום'!$A$2:$E$1361,5,FALSE) -> 1163302 | F20: 1050000 | G20: 848711 | H20: 1128846.1
A21: 1315700700 | B21: השתתפות אורט מקיף ערבי | C21: =VLOOKUP(A21,#REF!,3,FALSE) -> #REF! | E21: =VLOOKUP(A21,'[1]תקציב 2012 נכון להיום'!$A$2:$E$1361,5,FALSE) -> 12000000 | F21: 12000000 | G21: 0 | H21: 0
A22: 1315777700 | B22: השתתפות אורט | C22: =VLOOKUP(A22,#REF!,3,FALSE) -> #REF! | E22: =VLOOKUP(A22,'[1]תקציב 2012 נכון להיום'!$A$2:$E$1361,5,FALSE) -> 16000000 | F22: 16000000 | G22: 0 | H22: 0
A23: 1315788700 | B23: השתתפות אמית | C23: =VLOOKUP(A23,#REF!,3,FALSE) -> #REF! | E23: =VLOOKUP(A23,'[1]תקציב 2012 נכון להיום'!$A$2:$E$1361,5,FALSE) -> 7000000 | F23: 7000000 | G23: 0 | H23: 0
A24: 1317500410 | B24: הכ.-בטוח תאונות אישיות | C24: =VLOOKUP(A24,#REF!,3,FALSE) -> #REF! | E24: =VLOOKUP(A24,'[1]תקציב 2012 נכון להיום'!$A$2:$E$1361,5,FALSE) -> 172998 | F24: 168500 | G24: 167462 | H24: 166941
A25: 1317950790 | B25: מרכז נוער ישובי/שכונתי התוכנית הלאומית-מש.חינוך | C25: =VLOOKUP(A25,#REF!,3,FALSE) -> #REF! | E25: =VLOOKUP(A25,'[1]תקציב 2012 נכון להיום'!$A$2:$E$1361,5,FALSE) -> 166666 | F25: 500000 | G25: 0 | H25: 451307.72
C26: =VLOOKUP(A26,#REF!,3,FALSE) -> #REF!
A27: [4] 50 | B27: עצמיות רווחה | C27: =VLOOKUP(A27,#REF!,3,FALSE) -> #REF!
A28: 1341000420 | B28: השתתפות שכר | C28: =VLOOKUP(A28,#REF!,3,FALSE) -> #REF! | E28: =VLOOKUP(A28,'[1]תקציב 2012 נכון להיום'!$A$2:$E$1361,5,FALSE) -> 116920.87 | F28: 95420 | G28: 25279.13 | H28: 0
A29: 1343523410 | B29: שרותים תומכים למפגר | C29: =VLOOKUP(A29,#REF!,3,FALSE) -> #REF! | E29: =VLOOKUP(A29,'[1]תקציב 2012 נכון להיום'!$A$2:$E$1361,5,FALSE) -> 59248 | F29: 50000 | G29: 66630 | H29: 63817
A30: 1343800420 | B30: השתת' הורים אחזקה | C30: =VLOOKUP(A30,#REF!,3,FALSE) -> #REF! | E30: =VLOOKUP(A30,'[1]תקציב 2012 נכון להיום'!$A$2:$E$1361,5,FALSE) -> 35408.5 | F30: 150000 | G30: 70086.5 | H30: 42542
A31: 1344300420 | B31: אחזקת זקנים במעונות | C31: =VLOOKUP(A31,#REF!,3,FALSE) -> #REF! | E31: =VLOOKUP(A31,'[1]תקציב 2012 נכון להיום'!$A$2:$E$1361,5,FALSE) -> 459039.1 | F31: 650000 | G31: 567850.1 | H31: 524148
A32: 1344300421 | B32: עזרה ביתית | C32: =VLOOKUP(A32,#REF!,3,FALSE) -> #REF! | E32: =VLOOKUP(A32,'[1]תקציב 2012 נכון להיום'!$A$2:$E$1361,5,FALSE) -> 7442 | F32: 10000 | G32: 13230.5 | H32: 12798.9
A33: 1344500420 | B33: מסגרת יומיות לזקן | C33: =VLOOKUP(A33,#REF!,3,FALSE) -> #REF! | E33: =VLOOKUP(A33,'[1]תקציב 2012 נכון להיום'!$A$2:$E$1361,5,FALSE) -> 68135 | F33: 85000 | G33: 79632 | H33: 99655
A34: 1345523410 | B34: שרותים תומכים למפגר | C34: =VLOOKUP(A34,#REF!,3,FALSE) -> #REF! | E34: =VLOOKUP(A34,'[1]תקציב 2012 נכון להיום'!$A$2:$E$1361,5,FALSE) -> 21469 | F34: 30000 | G34: 29012 | H34: 146306
A35: 1346700420 | B35: מ.יום שיקומי לנכים | C35: =VLOOKUP(A35,#REF!,3,FALSE) -> #REF! | E35: =VLOOKUP(A35,'[1]תקציב 2012 נכון להיום'!$A$2:$E$1361,5,FALSE) -> 29846 | F35: 40000 | G35: 58363 | H35: 61074.7
A36: 1348801420 | B36: חוסן העמותה לילדים בסיכון | C36: =VLOOKUP(A36,#REF!,3,FALSE) -> #REF! | E36: =VLOOKUP(A36,'[1]תקציב 2012 נכון להיום'!$A$2:$E$1361,5,FALSE) -> 60000 | F36: 142200 | G36: 22500 | H36: 0
C37: =VLOOKUP(A37,#REF!,3,FALSE) -> #REF!
A38: [4] 60 | B38: יתר עצמיות | C38: =VLOOKUP(A38,#REF!,3,FALSE) -> #REF!
A39: 1121000220 | B39: תעודות ואישורים | C39: =VLOOKUP(A39,#REF!,3,FALSE) -> #REF! | E39: =VLOOKUP(A39,'[1]תקציב 2012 נכון להיום'!$A$2:$E$1361,5,FALSE) -> 0 | F39: 18000 | G39: 124 | H39: 0
A40: 1122000220 | B40: אגרות רשיונות לשלטים | C40: =VLOOKUP(A40,#REF!,3,FALSE) -> #REF! | E40: =VLOOKUP(A40,'[1]תקציב 2012 נכון להיום'!$A$2:$E$1361,5,FALSE) -> 1190173.1 | F40: 1550000 | G40: 1351320.5 | H40: 1429238.2
...

Sheet שינויים פעולות כלליות
C2: 2013 | D2: 2012 | E2: הפרש
A3: סה"כ | B3: פעולות כלליות
A4: 1712300750 | B4: קליטת אשפה-עברון | C4: 6765000 | D4: =VLOOKUP(A4,'לעדכון ראובן'!$A$5:$F$1028,6,FALSE) -> 5450000 | E4: =C4-D4 -> 1315000
A5: 1811000440 | B5: ביטוח | C5: 1009230 | D5: =VLOOKUP(A5,'לעדכון ראובן'!$A$5:$F$1028,6,FALSE) -> 361064 | E5: =C5-D5 -> 648166
A6: 1712200751 | B6: נקיון רחובות | C6: 6000000 | D6: =VLOOKUP(A6,'לעדכון ראובן'!$A$5:$F$1028,6,FALSE) -> 5452000 | E6: =C6-D6 -> 548000
A7: 1767000440 | B7: ביטוח | C7: 1260690 | D7: =VLOOKUP(A7,'לעדכון ראובן'!$A$5:$F$1028,6,FALSE) -> 728479 | E7: =C7-D7 -> 532211
A8: 1623000750 | B8: גביה - קבלן -ארנונה | C8: 3300000 | D8: =VLOOKUP(A8,'לעדכון ראובן'!$A$5:$F$1028,6,FALSE) -> 2800000 | E8: =C8-D8 -> 500000
A9: 1743000770 | B9: דלק וחשמל לפעולות | C9: 2863823 | D9: =VLOOKUP(A9,'לעדכון ראובן'!$A$5:$F$1028,6,FALSE) -> 2380000 | E9: =C9-D9 -> 483823
A10: 1746000430 | B10: גנים-מאור,כח,חימום,מים | C10: 1300000 | D10: =VLOOKUP(A10,'לעדכון ראובן'!$A$5:$F$1028,6,FALSE) -> 970000 | E10: =C10-D10 -> 330000
A11: 1617000441 | B11: השתת' עצמית-חב' ביטוח | C11: 400000 | D11: =VLOOKUP(A11,'לעדכון ראובן'!$A$5:$F$1028,6,FALSE) -> 157000 | E11: =C11-D11 -> 243000
A12: 1711100980 | B12: הוצאות אחרות בלתי רגיל | C12: 294000 | D12: =VLOOKUP(A12,'לעדכון ראובן'!$A$5:$F$1028,6,FALSE) -> 104818 | E12: =C12-D12 -> 189182
A13: 1712300751 | B13: איסוף ופנוי מכולות | C13: 2016000 | D13: =VLOOKUP(A13,'לעדכון ראובן'!$A$5:$F$1028,6,FALSE) -> 1850000 | E13: =C13-D13 -> 166000
A14: 1617000750 | B14: יועמ"ש עבודות קבלניות | C14: 450000 | D14: =VLOOKUP(A14,'לעדכון ראובן'!$A$5:$F$1028,6,FALSE) -> 300000 | E14: =C14-D14 -> 150000
A15: 1712300752 | B15: תחנת מעבר דחסן | C15: 392000 | D15: =VLOOKUP(A15,'לעדכון ראובן'!$A$5:$F$1028,6,FALSE) -> 255000 | E15: =C15-D15 -> 137000
... A19: 1621500570 | B19: משכורת-מיכון ועיבוד נתונים | C19: 244000 | D19: =VLOOKUP(A19,'לעדכון ראובן'!$A$5:$F$1028,6,FALSE) -> 167760 | E19: =C19-D19 -> 76240
A20: 1623000530 | B20: רכב 36-959-79 ליסינג | C20: 69000 | E20: =C20-D20 -> 69000 | F20: מיכה
A21: 1731100530 | B21: רכב 87-836-72 | C21: 69000 | D21: =VLOOKUP(A21,'לעדכון ראובן'!$A$5:$F$1028,6,FALSE) -> 0 | E21: =C21-D21 -> 69000 | F21: איגור
A22: 1617000442 | B22: השתת' עצמית -תשלום לנפ | C22: 200000 | D22: =VLOOKUP(A22,'לעדכון ראובן'!$A$5:$F$1028,6,FALSE) -> 140000 | E22: =C22-D22 -> 60000
A23: 1746000751 | B23: גנים-גיזום- | C23: 150000 | D23: =VLOOKUP(A23,'לעדכון ראובן'!$A$5:$F$1028,6,FALSE) -> 100000 | E23: =C23-D23 -> 50000
A24: 1621300750 | B24: הנה"ח - עבודות קבלניות | C24: 1739000 | D24: =VLOOKUP(A24,'לעדכון ראובן'!$A$5:$F$1028,6,FALSE) -> 1695544 | E24: =C24-D24 -> 43456
A25: 1724000830 | B25: השתתפות באגוד ערים | C25: 1380000 | D25: =VLOOKUP(A25,'לעדכון ראובן'!$A$5:$F$1028,6,FALSE) -> 1338000 | E25: =C25-D25 -> 42000
A26: 1712309731 | B26: איסוזו 3116075 - ליסינג | C26: 80000 | D26: =VLOOKUP(A26,'לעדכון ראובן'!$A$5:$F$1028,6,FALSE) -> 40000 | E26: =C26-D26 -> 40000
A27: 1742000750 | B27: עבודות קבלניות | C27: 100000 | D27: =VLOOKUP(A27,'לעדכון ראובן'!$A$5:$F$1028,6,FALSE) -> 60000 | E27: =C27-D27 -> 40000
A28: 1746000750 | B28: גינון | C28: 3200000 | D28: =VLOOKUP(A28,'לעדכון ראובן'!$A$5:$F$1028,6,FALSE) -> 3163000 | E28: =C28-D28 -> 37000
A29: 1712300754 | B29: אוספי אשפה | C29: 240000 | D29: =VLOOKUP(A29,'לעדכון ראובן'!$A$5:$F$1028,6,FALSE) -> 210000 | E29: =C29-D29 -> 30000
A30: 1742000720 | B30: חמרים | C30: 100000 | D30: =VLOOKUP(A30,'לעדכון ראובן'!$A$5:$F$1028,6,FALSE) -> 70000 | E30: =C30-D30 -> 30000
A31: 1747200780 | B31: אחזקת חופי רחצה | C31: 870000 | D31: =VLOOKUP(A31,'לעדכון ראובן'!$A$5:$F$1028,6,FALSE) -> 840000 | E31: =C31-D31 -> 30000
A32: 1746100732 | B32: הוצ' רכב 25-723-63 | C32: 24000 | D32: =VLOOKUP(A32,'לעדכון ראובן'!$A$5:$F$1028,6,FALSE) -> 0 | E32: =C32-D32 -> 24000
A33: 1746100733 | B33: הוצ' רכב 25-724-63 | C33: 22000 | D33: =VLOOKUP(A33,'לעדכון ראובן'!$A$5:$F$1028,6,FALSE) -> 0 | E33: =C33-D33 -> 22000
... A445: 1712500751 | B445: אחזקת עיר עתיקה | C445: 450000 | D445: =VLOOKUP(A445,'לעדכון ראובן'!$A$5:$F$1028,6,FALSE) -> 630000 | E445: =C445-D445 -> -180000

Sheet גיליון2
A2: חדש | C2: ישן
A3: 1111100100 | B3: ארנונה כללית | C3: 1111100100 | D3: =VLOOKUP(A3,$C$3:$C$1296,1,FALSE) -> 1111100100
A4: 1111200100 | B4: ארנונה כללית פיגורים | C4: 1111200100 | D4: =VLOOKUP(A4,$C$3:$C$1296,1,FALSE) -> 1111200100
A5: 1111200216 | B5: הוצאות רישום ועיקול32- | C5: 1111200216 | D5: =VLOOKUP(A5,$C$3:$C$1296,1,FALSE) -> 1111200216
A6: 1111300291 | B6: ארנונה השתתפות מטה אשר | C6: 1111300291 | D6: =VLOOKUP(A6,$C$3:$C$1296,1,FALSE) -> 1111300291
A7: 1111400100 | B7: ארנונה מרפאל | C7: 1111400100 | D7: =VLOOKUP(A7,$C$3:$C$1296,1,FALSE) -> 1111400100
A8: 1113000290 | B8: הנחות מסים | D8: =VLOOKUP(A8,$C$3:$C$1296,1,FALSE) -> 1113000290
A9: 1121000220 | B9: ניהול תיקים,תעודות ואישורים | C9: 1113000290 | D9: =VLOOKUP(A9,$C$3:$C$1296,1,FALSE) -> 1121000220
A10: 1122000220 | B10: אגרות רשיונות לשלטים | D10: =VLOOKUP(A10,$C$3:$C$1296,1,FALSE) -> 1122000220
A11: 1122000221 | B11: אגרת שלטים פיגורים | C11: 1121000220 | D11: =VLOOKUP(A11,$C$3:$C$1296,1,FALSE) -> 1122000221
A12: 1123000220 | B12: הכנסות גביה מתאגיד מים | C12: 1122000220 | D12: =VLOOKUP(A12,$C$3:$C$1296,1,FALSE) -> #N/A
A13: 1124100220 | B13: מודעות על לוחות | C13: 1122000221 | D13: =VLOOKUP(A13,$C$3:$C$1296,1,FALSE) -> 1124100220
A14: 1129100220 | B14: הוצ.רישום ועיקול סוג ש | C14: 1124100220 | D14: =VLOOKUP(A14,$C$3:$C$1296,1,FALSE) -> 1129100220
A15: 1129100221 | B15: הכנסות גביה עיקול בנק_ | C15: 1129100220 | D15: =VLOOKUP(A15,$C$3:$C$1296,1,FALSE) -> 1129100221
A16: 1160000662 | B16: הכנסות מימון | C16: 1129100221 | D16: =VLOOKUP(A16,$C$3:$C$1296,1,FALSE) -> 1160000662
A17: 1191000910 | B17: מענק כללי_לאיזון | D17: =VLOOKUP(A17,$C$3:$C$1296,1,FALSE) -> 1191000910
A18: 1192000910 | B18: מענקים אחר' למשרד הפנים | C18: 1160000662 | D18: =VLOOKUP(A18,$C$3:$C$1296,1,FALSE) -> 1192000910
A19: 1212300292 | B19: החזרים תאגיד-ת.מ.י.ר פינוי ודמ"ש קרטון | D19: =VLOOKUP(A19,$C$3:$C$1296,1,FALSE) -> #N/A
A20: 1212300690 | B20: מכרזים-תברואה | C20: 1191000910 | D20: =VLOOKUP(A20,$C$3:$C$1296,1,FALSE) -> 1212300690
A21: 1212400220 | B21: אגרת נקוי חצרות | C21: 1192000910 | D21: =VLOOKUP(A21,$C$3:$C$1296,1,FALSE) -> 1212400220
A22: 1212400221 | B22: אג.נקוי חצרות פיגורים | D22: =VLOOKUP(A22,$C$3:$C$1296,1,FALSE) -> 1212400221
A23: 1213000220 | B23: למלאכה ותעשיה-רישוי עס | D23: =VLOOKUP(A23,$C$3:$C$1296,1,FALSE) -> 1213000220
A24: 1213000221 | B24: רוכלים | C24: 1212300690 | D24: =VLOOKUP(A24,$C$3:$C$1296,1,FALSE) -> 1213000221
A25: 1214200221 | B25: דמי בדיקת בשר קפוא | C25: 1212400220 | D25: =VLOOKUP(A25,$C$3:$C$1296,1,FALSE) -> 1214200221
A26: 1214200960 | B26: השתתפות מש.החקלאות סירוס חתולים | C26: 1212400221 | D26: =VLOOKUP(A26,$C$3:$C$1296,1,FALSE) -> 1214200960
A27: 1214201220 | B27: כללי וטרינר106- | C27: 1213000220 | D27: =VLOOKUP(A27,$C$3:$C$1296,1,FALSE) -> 1214201220
A28: 1214300220 | B28: דמי חיסון אגרות ושבבים | C28: 1213000221 | D28: =VLOOKUP(A28,$C$3:$C$1296,1,FALSE) -> 1214300220
A29: 1214301220 | B29: קנסות וטרינר109- | C29: 1214200221 | D29: =VLOOKUP(A29,$C$3:$C$1296,1,FALSE) -> 1214301220
A30: 1222000440 | B30: שמירה בטחונית | C30: 1214200960 | D30: =VLOOKUP(A30,$C$3:$C$1296,1,FALSE) -> 1222000440
A31: 1222000441 | B31: מנעולים עבור מקלטים משותפים | C31: 1214201220 | D31: =VLOOKUP(A31,$C$3:$C$1296,1,FALSE) -> 1222000441
A32: 1222000970 | B32: השתת.המשרד לביטחון פנים בשיטור קהילתי | C32: 1214300220 | D32: =VLOOKUP(A32,$C$3:$C$1296,1,FALSE) -> 1222000970
A33: 1222000971 | B33: השתתפות מש.הפנים באבטחת מאוימים | C33: 1214301220 | D33: =VLOOKUP(A33,$C$3:$C$1296,1,FALSE) -> 1222000971
A34: 1222100400 | B34: אג.שמירה פיגור | D34: =VLOOKUP(A34,$C$3:$C$1296,1,FALSE) -> 1222100400
A35: 1222100440 | B35: אגרת שמירה | D35: =VLOOKUP(A35,$C$3:$C$1296,1,FALSE) -> 1222100440
A36: 1222100910 | B36: השתת.משרד הפנים משא"ז | C36: 1222000440 | D36: =VLOOKUP(A36,$C$3:$C$1296,1,FALSE) -> 1222100910
A37: 1233000690 | B37: מתן מידע | C37: 1222000441 | D37: =VLOOKUP(A37,$C$3:$C$1296,1,FALSE) -> 1233000690
A38: 1233100220 | B38: אגרת רשיונות בניה | C38: 1222000970 | D38: =VLOOKUP(A38,$C$3:$C$1296,1,FALSE) -> 1233100220
A39: 1233200220 | B39: אגרת חפירה | C39: 1222000971 | D39: =VLOOKUP(A39,$C$3:$C$1296,1,FALSE) -> #N/A
A40: 1233200290 | B40: היטל השבחה_ס.ש757. | C40: 1222100400 | D40: =VLOOKUP(A40,$C$3:$C$1296,1,FALSE) -> 1233200290
A41: 1233200291 | B41: היטל סלילה למימון מלוות פיתוח | C41: 1222100440 | D41: =VLOOKUP(A41,$C$3:$C$1296,1,FALSE) -> 1233200291
...

Sheet גיליון3
A1: חדש
A2: 1111100100 | B2: ארנונה כללית | E2: 1111100100 | G2: =VLOOKUP(A2,$E$2:$E$1373,1,FALSE) -> 1111100100
A3: 1111200100 | B3: ארנונה כללית פיגורים | E3: 1111200100 | G3: =VLOOKUP(A3,$E$2:$E$1373,1,FALSE) -> 1111200100
A4: 1111200216 | B4: הוצאות רישום ועיקול32- | E4: 1111200216 | G4: =VLOOKUP(A4,$E$2:$E$1373,1,FALSE) -> 1111200216
A5: 1111300291 | B5: ארנונה השתתפות מטה אשר | E5: 1111300291 | G5: =VLOOKUP(A5,$E$2:$E$1373,1,FALSE) -> 1111300291
A6: 1111400100 | B6: ארנונה מרפאל | E6: 1111400100 | G6: =VLOOKUP(A6,$E$2:$E$1373,1,FALSE) -> 1111400100
A7: 1113000290 | B7: הנחות מסים | G7: =VLOOKUP(A7,$E$2:$E$1373,1,FALSE) -> 1113000290
A8: 1121000220 | B8: ניהול תיקים,תעודות ואישורים | E8: 1113000290 | G8: =VLOOKUP(A8,$E$2:$E$1373,1,FALSE) -> 1121000220
A9: 1122000220 | B9: אגרות רשיונות לשלטים | G9: =VLOOKUP(A9,$E$2:$E$1373,1,FALSE) -> 1122000220
A10: 1122000221 | B10: אגרת שלטים פיגורים | E10: 1121000220 | G10: =VLOOKUP(A10,$E$2:$E$1373,1,FALSE) -> 1122000221
A11: 1123000220 | B11: הכנסות גביה מתאגיד מים | E11: 1122000220 | G11: =VLOOKUP(A11,$E$2:$E$1373,1,FALSE) -> 1123000220
A12: 1124100220 | B12: מודעות על לוחות | E12: 1122000221 | G12: =VLOOKUP(A12,$E$2:$E$1373,1,FALSE) -> 1124100220
A13: 1129100220 | B13: הוצ.רישום ועיקול סוג ש | E13: 1123000220 | G13: =VLOOKUP(A13,$E$2:$E$1373,1,FALSE) -> 1129100220
A14: 1129100221 | B14: הכנסות גביה עיקול בנק_ | E14: 1124100220 | G14: =VLOOKUP(A14,$E$2:$E$1373,1,FALSE) -> 1129100221
A15: 1160000662 | B15: הכנסות מימון | E15: 1129100220 | G15: =VLOOKUP(A15,$E$2:$E$1373,1,FALSE) -> 1160000662
A16: 1191000910 | B16: מענק כללי_לאיזון | E16: 1129100221 | G16: =VLOOKUP(A16,$E$2:$E$1373,1,FALSE) -> 1191000910
A17: 1192000910 | B17: מענקים אחר' למשרד הפנים | G17: =VLOOKUP(A17,$E$2:$E$1373,1,FALSE) -> 1192000910
A18: 1212300292 | B18: החזרים תאגיד-ת.מ.י.ר פינוי ודמ"ש קרטון | E18: 1160000662 | G18: =VLOOKUP(A18,$E$2:$E$1373,1,FALSE) -> 1212300292
A19: 1212300690 | B19: מכרזים-תברואה | G19: =VLOOKUP(A19,$E$2:$E$1373,1,FALSE) -> 1212300690
A20: 1212400220 | B20: אגרת נקוי חצרות | E20: 1191000910 | G20: =VLOOKUP(A20,$E$2:$E$1373,1,FALSE) -> 1212400220
A21: 1212400221 | B21: אג.נקוי חצרות פיגורים | E21: 1192000910 | G21: =VLOOKUP(A21,$E$2:$E$1373,1,FALSE) -> 1212400221
A22: 1213000220 | B22: למלאכה ותעשיה-רישוי עס | G22: =VLOOKUP(A22,$E$2:$E$1373,1,FALSE) -> 1213000220
A23: 1213000221 | B23: רוכלים | G23: =VLOOKUP(A23,$E$2:$E$1373,1,FALSE) -> 1213000221
A24: 1214200221 | B24: דמי בדיקת בשר קפוא | E24: 1212300690 | G24: =VLOOKUP(A24,$E$2:$E$1373,1,FALSE) -> 1214200221
A25: 1214200960 | B25: השתתפות מש.החקלאות סירוס חתולים | E25: 1212300292 | G25: =VLOOKUP(A25,$E$2:$E$1373,1,FALSE) -> 1214200960
A26: 1214201220 | B26: כללי וטרינר106- | E26: 1212400220 | G26: =VLOOKUP(A26,$E$2:$E$1373,1,FALSE) -> 1214201220
A27: 1214300220 | B27: דמי חיסון אגרות ושבבים | E27: 1212400221 | G27: =VLOOKUP(A27,$E$2:$E$1373,1,FALSE) -> 1214300220
A28: 1214301220 | B28: קנסות וטרינר109- | E28: 1213000220 | G28: =VLOOKUP(A28,$E$2:$E$1373,1,FALSE) -> 1214301220
A29: 1222000440 | B29: שמירה בטחונית | E29: 1213000221 | G29: =VLOOKUP(A29,$E$2:$E$1373,1,FALSE) -> 1222000440
A30: 1222000441 | B30: מנעולים עבור מקלטים משותפים | E30: 1214200221 | G30: =VLOOKUP(A30,$E$2:$E$1373,1,FALSE) -> 1222000441
A31: 1222000970 | B31: השתת.המשרד לביטחון פנים בשיטור קהילתי | E31: 1214200960 | G31: =VLOOKUP(A31,$E$2:$E$1373,1,FALSE) -> 1222000970
A32: 1222000971 | B32: השתתפות מש.הפנים באבטחת מאוימים | E32: 1214201220 | G32: =VLOOKUP(A32,$E$2:$E$1373,1,FALSE) -> 1222000971
A33: 1222100400 | B33: אג.שמירה פיגור | E33: 1214300220 | G33: =VLOOKUP(A33,$E$2:$E$1373,1,FALSE) -> 1222100400
A34: 1222100440 | B34: אגרת שמירה | E34: 1214301220 | G34: =VLOOKUP(A34,$E$2:$E$1373,1,FALSE) -> 1222100440
A35: 1222100910 | B35: השתת.משרד הפנים משא"ז | G35: =VLOOKUP(A35,$E$2:$E$1373,1,FALSE) -> 1222100910
A36: 1233000690 | B36: מתן מידע | G36: =VLOOKUP(A36,$E$2:$E$1373,1,FALSE) -> 1233000690
A37: 1233100220 | B37: אגרת רשיונות בניה | E37: 1222000440 | G37: =VLOOKUP(A37,$E$2:$E$1373,1,FALSE) -> 1233100220
A38: 1233200220 | B38: אגרת חפירה | E38: 1222000441 | G38: =VLOOKUP(A38,$E$2:$E$1373,1,FALSE) -> 1233200220
A39: 1233200290 | B39: היטל השבחה_ס.ש757. | E39: 1222000970 | G39: =VLOOKUP(A39,$E$2:$E$1373,1,FALSE) -> 1233200290
A40: 1233200291 | B40: היטל סלילה למימון מלוות פיתוח | E40: 1222000971 | G40: =VLOOKUP(A40,$E$2:$E$1373,1,FALSE) -> 1233200291
...

Sheet טופס 2 לתקציב
C1: עריית עכו
C2: הצעת תקציב 2019
C3: תחילת מידע טבלה
B4: תחילת מידע צד ימין | D4: תקציב 2019 | F4: תקציב 2018 | H4: ביצוע 2017 | I4: סוף מידע צד שמאל
C5: הכנסות
C6: ארנונה כללית | D6: 142493.78 | F6: 131150.04 | H6: 127033.63
C7: מפעל המים | D7: 352.105 | F7: 418.5 | H7: 561.9316
C8: עצמיות חינוך | D8: 43824.76 | F8: 42855.94 | H8: 42192.398
C9: עצמיות רווחה | D9: 771.5 | F9: 900 | H9: 865.38678
C10: עצמיות אחר | D10: 49900.699 | F10: 57121.078 | H10: 33264.202
C11: סה"כ עצמיות | D11: 237342.84 | F11: 232445.55 | G11: 0 | H11: 203917.55
C12: תקבולים ממשרד החינוך | D12: 60974.717 | F12: 58853.686 | H12: 59684.61
C13: תקבולים ממשרד הרווחה | D13: 47874.503 | F13: 44485.991 | H13: 42994.623
C14: תקבולים ממשלתיים אחרים | D14: 3655 | F14: 3839.867 | H14: 9584.884
C15: מענק כללי לאיזון | D15: 50210 | F15: 50210 | H15: 50629.535
C16: מענקים אחרים ממש.הפנים | D16: 7846 | F16: 5827.888 | H16: 7902.237
C17: סה"כ תקבולי הממשלה | D17: 170560.22 | F17: 163217.43 | G17: 0 | H17: 170795.89
C18: תקבולים אחרים
C19: הכנסות ח"פ ובגין שנים קודמות | D19: 1000 | F19: 4509.209 | H19: 2943.0313
C20: הנחות בארנונה | D20: 30000 | F20: 28000 | H20: 27445.117
C21: הכנסה לכיסוי גירעון פורשים
C22: הכנסה מותנית
C23: ארנונה לכיסוי גרעון
C24: סה"כ הכנסות | D24: 438903.06 | F24: 428172.19 | G24: 0 | H24: 405101.58
C26: ‏הוצאות
C27: שכר כללי | D27: 53988.756 | F27: 54753.031 | H27: 50403.299
C28: פנסיונרים | D28: 34876.464 | F28: 33414.795 | H28: 33590.458
C29: פעולות כלליות | D29: 100705.42 | F29: 104309.23 | H29: 98248.982
C31: סה"כ כלליות | D31: 189570.64 | F31: 192477.06 | H31: 182242.74
C32: שכר עובדי חינוך | D32: 44783.868 | F32: 40746.348 | H32: 39504.648
C33: פעולות חינוך | D33: 89517.003 | F33: 87603.434 | H33: 82059.712
C34: סה"כ חינוך | D34: 134300.87 | F34: 128349.78 | H34: 121564.36
C35: שכר עובדי רווחה | D35: 15012.228 | F35: 15214.347 | H35: 13960.322
C36: פעולות רווחה | D36: 53786.567 | F36: 50032.721 | H36: 46279.103
C37: סה"כ רווחה | D37: 68798.795 | F37: 65247.068 | H37: 60239.425
C38: פרעון מלוות מים וביוב | D38: 1969.747 | F38: 2018.5423 | H38: 2126.291
C39: פרעון מלוות אחרות | D39: 11632.682 | F39: 9490.0772 | H39: 8826.9723
... C44: הנחות בארנונה | D44: 29000 | F44: 27150 | H44: 26504.299
C45: הוצאה לכיסוי גירעון נצבר
C46: הוצאה מותנית
...

Sheet עמוד 8
O1: תחילת מידע טבלה
N2: תחילת מידע צד ימין | P2: נוסחא | Q2: סוף מידע צד שמאל
O3: ארנונה כללית והנחות | P3: =('טופס 2 לתקציב'!D7+'טופס 2 לתקציב'!D6+'טופס 2 לתקציב'!D20)/'טופס 2 לתקציב'!D24 -> 0.39381334
O4: יתר עצמיות | P4: =('טופס 2 לתקציב'!D8+'טופס 2 לתקציב'!D9+'טופס 2 לתקציב'!D10)/'טופס 2 לתקציב'!D24 -> 0.21530257
O5: משרד החינוך | P5: ='טופס 2 לתקציב'!D12/'טופס 2 לתקציב'!D24 -> 0.13892525
O6: משרד הרווחה | P6: ='טופס 2 לתקציב'!D13/'טופס 2 לתקציב'!D24 -> 0.10907762
O7: תקבולים אחרים | P7: ='טופס 2 לתקציב'!D14/'טופס 2 לתקציב'!D24 -> 0.0083275792
O8: מענקים משרד הפנים | P8: =('טופס 2 לתקציב'!D15+'טופס 2 לתקציב'!D16)/'טופס 2 לתקציב'!D24 -> 0.13227522
O10: אחרים | P10: ='טופס 2 לתקציב'!D19/'טופס 2 לתקציב'!D24 -> 0.0022784074
O12: סוף מידע טבלה
P13: =SUM(P3:P11) -> 1
O14: מצורף גרף המציג את הנתונים המופיעים בטבלה
O15: סוף מידע

Sheet עמוד 9
P1: תחילת מידע טבלה
O2: תחילת מידע צד ימין | Q2: לעדכן | R2: סוף מידע צד שמאל
P3: הכנסות עצמיות | Q3: =('טופס 2 לתקציב'!D6+'טופס 2 לתקציב'!D7+'טופס 2 לתקציב'!D8+'טופס 2 לתקציב'!D9+'טופס 2 לתקציב'!D10+'טופס 2 לתקציב'!D19)/'טופס 2 לתקציב'!D24 -> 0.5430421
P4: הכנסות ממשלה | Q4: =1-Q3 -> 0.4569579
P5: סוף מידע טבלה
P6: מצורף גרף המציג את הנתונים המופיעים בטבלה
P7: סוף מידע

Sheet עמוד 10
M1: תחילת מידע טבלה
L2: תחילת מידע צד ימין | N2: 2019 | O2: 2017 | P2: סוף מידע צד שמאל
M3: ארנונה כללית | N3: ='טופס 2 לתקציב'!D6 -> 142493.78 | O3: ='טופס 2 לתקציב'!H6 -> 127033.63
M4: מים | N4: ='טופס 2 לתקציב'!D7 -> 352.105 | O4: ='טופס 2 לתקציב'!H7 -> 561.9316
M5: יתר עצמיות | N5: ='טופס 2 לתקציב'!D8+'טופס 2 לתקציב'!D9+'טופס 2 לתקציב'!D10 -> 94496.959 | O5: ='טופס 2 לתקציב'!H8+'טופס 2 לתקציב'!H9+'טופס 2 לתקציב'!H10+'טופס 2 לתקציב'!H18 -> 76321.987
M6: משרד החינוך | N6: ='טופס 2 לתקציב'!D12 -> 60974.717 | O6: ='טופס 2 לתקציב'!H12 -> 59684.61
M7: משרד הרווחה | N7: ='טופס 2 לתקציב'!D13 -> 47874.503 | O7: ='טופס 2 לתקציב'!H13 -> 42994.623
M8: תקבולים אחרים | N8: ='טופס 2 לתקציב'!D14 -> 3655 | O8: ='טופס 2 לתקציב'!H14 -> 9584.884
M9: מענק איזון כללי | N9: ='טופס 2 לתקציב'!D15 -> 50210 | O9: ='טופס 2 לתקציב'!H15 -> 50629.535
M10: מענקים אחרים | N10: ='טופס 2 לתקציב'!D16 -> 7846 | O10: ='טופס 2 לתקציב'!H16 -> 7902.237
M11: הכנסות חד פעמיות ובגין ש"ק | N11: ='טופס 2 לתקציב'!D19 -> 1000 | O11: ='טופס 2 לתקציב'!H19 -> 2943.0313
M12: סוף מידע טבלה
M13: מצורף גרף המציג את הנתונים המופיעים בטבלה
M14: סוף מידע

Sheet עמוד 11
N1: תחילת מידע טבלה
M2: תחילת מידע צד ימין | N2: שכר כללי | O2: ='טופס 2 לתקציב'!D27+'טופס 2 לתקציב'!D28 -> 88865.22 | P2: סוף מידע צד שמאל
N3: פעולות כלליות | O3: ='טופס 2 לתקציב'!D29 -> 100705.42
N5: שכר עובדי חינוך | O5: ='טופס 2 לתקציב'!D32 -> 44783.868
N6: פעולות חינוך | O6: ='טופס 2 לתקציב'!D33 -> 89517.003
N7: שכר עובדי רווחה | O7: ='טופס 2 לתקציב'!D35 -> 15012.228
N8: פעולות רווחה | O8: ='טופס 2 לתקציב'!D36 -> 53786.567
N9: פרעון מלוות מים וביוב | O9: ='טופס 2 לתקציב'!D38 -> 1969.747
N10: פרעון מלוות אחרות | O10: ='טופס 2 לתקציב'!D39 -> 11632.682
N11: הוצאות מימון | O11: ='טופס 2 לתקציב'!D41 -> 2028
N12: הנחות בארנונה | O12: ='טופס 2 לתקציב'!D44 -> 29000
N13: הוצאות ח"פ ובגין שנים קודמות | O13: ='טופס 2 לתקציב'!D42 -> 1602.329
N16: סה"כ הוצאות | O16: =SUM(O2:O14) -> 438903.06
N17: סוף מידע טבלה
N18: מצורף גרף המציג את הנתונים המופיעים בטבלה
N19: סוף מידע

Sheet עמוד 12
N1: תחילת מידע טבלה
M2: תחילת מידע צד ימין | N2: פעולות | O2: =P2/$P$7 -> 0.66128895 | P2: =P7-P3-P4-P5 -> 290241.74 | Q2: סוף מידע צד שמאל
N3: שכר כללי | O3: =P3/$P$7 -> 0.20247118 | P3: ='טופס 2 לתקציב'!D27+'טופס 2 לתקציב'!D28 -> 88865.22
N4: שכר רווחה | O4: =P4/$P$7 -> 0.034203972 | P4: ='טופס 2 לתקציב'!D35 -> 15012.228
N5: שכר חינוך | O5: =P5/$P$7 -> 0.1020359 | P5: ='טופס 2 לתקציב'!D32 -> 44783.868
O7: =SUM(O2:O6) -> 1 | P7: ='טופס 2 לתקציב'!D48 -> 438903.06
N8: סוף מידע טבלה
N9: מצורף גרף המציג את הנתונים המופיעים בטבלה
N10: סוף מידע

Sheet עמוד 13
K1: תחילת מידע טבלה
J2: תחילת מידע צד ימין | L2: תקציב 2019 | M2: ביצוע 2017 | N2: סוף מידע צד שמאל
K3: שכר כללי | L3: ='טופס 2 לתקציב'!D27+'טופס 2 לתקציב'!D28 -> 88865.22 | M3: ='טופס 2 לתקציב'!H27+'טופס 2 לתקציב'!H28 -> 83993.757
K4: פעולות כלליות | L4: ='טופס 2 לתקציב'!D29 -> 100705.42 | M4: ='טופס 2 לתקציב'!H29 -> 98248.982
K5: שכר עובדי חינוך | L5: ='טופס 2 לתקציב'!D32 -> 44783.868 | M5: ='טופס 2 לתקציב'!H32 -> 39504.648
K6: פעולות חינוך | L6: ='טופס 2 לתקציב'!D33 -> 89517.003 | M6: ='טופס 2 לתקציב'!H33 -> 82059.712
K7: שכר עובדי רווחה | L7: ='טופס 2 לתקציב'!D35 -> 15012.228 | M7: ='טופס 2 לתקציב'!H35 -> 13960.322
K8: פעולות רווחה | L8: ='טופס 2 לתקציב'!D36 -> 53786.567 | M8: ='טופס 2 לתקציב'!H36 -> 46279.103
K9: סה"כ פרעון מלוות | L9: ='טופס 2 לתקציב'!D38+'טופס 2 לתקציב'!D39 -> 13602.429 | M9: ='טופס 2 לתקציב'!H38+'טופס 2 לתקציב'!H39 -> 10953.263
K10: הוצאות מימון | L10: ='טופס 2 לתקציב'!D41 -> 2028 | M10: ='טופס 2 לתקציב'!H41 -> 2115.5284
K11: הוצאות ח"פ ושנים קודמות | L11: ='טופס 2 לתקציב'!D42 -> 1602.329 | M11: ='טופס 2 לתקציב'!H42 -> 1494.7408
K13: הנחות בארנונה | L13: ='טופס 2 לתקציב'!D44 -> 29000 | M13: ='טופס 2 לתקציב'!H44 -> 26504.299
K15: סה"כ הוצאות כולל מותנה | L15: =SUM(L3:L14) -> 438903.06 | M15: =SUM(M3:M14) -> 405114.36
K16: סוף מידע טבלה
K17: מצורף גרף המציג את הנתונים המופיעים בטבלה
K18: סוף מידע

Sheet שכר ומשרות לפי תקציב
F1: עריית עכו
E2: הצעת תקציב לשנת 2019
E4: שכר ומשרות לפי פרקי תקציב
C6: תחילת מידע טבלה
B7: תחילת מידע צד ימין | C7: מס' פרק | D7: שם הפרק | E7: ביצוע 2017 | G7: תקציב 2018 | I7: ביצוע משוער 2018 | K7: מסגרת תקציב לשנת 2019 | M7: סוף מידע צד שמאל
E8: מס' משרות | F8: עלויות שכר | G8: מס' משרות | H8: עלויות שכר | I8: מס' משרות | J8: עלויות שכר | K8: מס' משרות | L8: עלויות שכר
C10: 6 | D10: הנהלה וכלליות
C11: 61 | D11: נבחרים | E11: 3 | F11: 1922 | G11: 3 | H11: 1943 | I11: 3 | J11: 2122 | K11: 3 | L11: 2156
C12: 61 | D12: מנהל כללי | E12: 32.5 | F12: 7855 | G12: 32.5 | H12: 8087 | I12: =35.5-3 -> 32.5 | J12: 8152 | K12: 34 | L12: 7131
C13: 62 | D13: מנהל כספים | E13: 13.5 | F13: 3043 | G13: 14.5 | H13: 3367 | I13: 15.9 | J13: 3599 | K13: 16.5 | L13: 3775
D14: סה"כ הנהלה וכלליות | E14: =SUM(E11:E13) -> 49 | F14: =SUM(F11:F13) -> 12820 | G14: =SUM(G11:G13) -> 50 | H14: =SUM(H11:H13) -> 13397 | I14: =SUM(I11:I13) -> 51.4 | J14: =SUM(J11:J13) -> 13873 | K14: =SUM(K11:K13) -> 53.5 | L14: =SUM(L11:L13) -> 13062
C16: 7 | D16: שרותים מקומיים
C17: 71 | D17: תברואה | E17: 45 | F17: 7673 | G17: 51 | H17: 8404 | I17: 48.5 | J17: 8341 | K17: 49 | L17: 8674
C18: 72 | D18: שמירה וביטחון | E18: 22 | F18: 3575 | G18: 18 | H18: 2968 | I18: 21.5 | J18: 3496 | K18: 22.2 | L18: 3544
C19: 73 | D19: תכנון ובנין עיר | E19: 19 | F19: 4645 | G19: 22 | H19: 5489 | I19: 21.1 | J19: 5028 | K19: 22 | L19: 5306
C20: 74 | D20: נכסים ציבוריים | E20: 39 | F20: 6136 | G20: 42 | H20: 6659 | I20: 41.2 | J20: 6796 | K20: 39.8 | L20: 6424
C21: 76 | D21: שרותים עירוניים שונים | E21: 3 | F21: 534 | G21: 6.5 | H21: 1123 | I21: 4.9 | J21: 1050 | K21: 4.1 | L21: 944
C22: 78 | D22: פיקוח עירוני | E22: 15 | F22: 2904 | G22: 24.5 | H22: 4320 | I22: 19.5 | J22: 3432 | K22: 24.9 | L22: 3961
C23: 79 | D23: שירותים חקלאיים
D24: סה"כ שירותים מקומיים | E24: =SUM(E17:E23) -> 143 | F24: =SUM(F17:F23) -> 25467 | G24: =SUM(G17:G23) -> 164 | H24: =SUM(H17:H23) -> 28963 | I24: =SUM(I17:I23) -> 156.7 | J24: =SUM(J17:J23) -> 28143 | K24: =SUM(K17:K23) -> 162 | L24: =SUM(L17:L23) -> 28853
C26: 8 | D26: שרותים ממלכתיים
C27: 81 | D27: חינוך | E27: 342 | F27: 42361 | G27: 323 | H27: 43651 | I27: 339.7 | J27: 45707 | K27: =337+14 -> 351 | L27: 47873
C28: 82 | D28: תרבות | E28: 30 | F28: 4601 | G28: 30 | H28: 4816 | I28: 30.1 | J28: 4565 | K28: 27.6 | L28: 4540
C29: 83 | D29: בריאות
C30: 84 | D30: רווחה | E30: 83 | F30: 13960 | G30: 88 | H30: 15214 | I30: 83.1 | J30: 14327 | K30: =81.7+1 -> 82.7 | L30: 15012
C31: 85 | D31: דת
C32: 86 | D32: קליטת עליה | E32: 2 | F32: 463 | G32: 2 | H32: 461 | I32: 2 | J32: 496 | K32: 2 | L32: 513
C33: 87 | D33: איכות הסביבה
D34: סה"כ שירותים ממלכתיים | E34: =SUM(E27:E33) -> 457 | F34: =SUM(F27:F33) -> 61385 | G34: =SUM(G27:G33) -> 443 | H34: =SUM(H27:H33) -> 64142 | I34: =SUM(I27:I33) -> 454.9 | J34: =SUM(J27:J33) -> 65095 | K34: =SUM(K27:K33) -> 463.3 | L34: =SUM(L27:L33) -> 67938
C36: 9 | D36: מפעלים
C37: 91 | D37: מים | F37: 398
C38: 92 | D38: בתי מטבחיים
C39: 93 | D39: נכסים | E39: 21 | F39: 3798 | G39: 23 | H39: 4212 | I39: 22.2 | J39: 4176 | K39: 20.6 | L39: 3932
C40: 94 | D40: תחבורה
C41: 97 | D41: מפעלי ביוב
C42: 98 | D42: מפעלים אחרים | F42: 252 | H42: 280 | J42: 282 | L42: 270
D43: סה"כ מפעלים | E43: =SUM(E37:E42) -> 21 | F43: =SUM(F37:F42) -> 4448 | G43: =SUM(G37:G42) -> 23 | H43: =SUM(H37:H42) -> 4492 | I43: =SUM(I37:I42) -> 22.2 | J43: =SUM(J37:J42) -> 4458 | K43: =SUM(K37:K42) -> 20.6 | L43: =SUM(L37:L42) -> 4202
D44: גמלאים | E44: 244 | F44: 33339 | G44: 246 | H44: 33135 | I44: 244 | J44: 34221 | K44: 252.2 | L44: 34606
D45: סה"כ כללי | E45: =E44+E43+E34+E24+E14 -> 914 | F45: =F44+F43+F34+F24+F14 -> 137459 | G45: =G44+G43+G34+G24+G14 -> 926 | H45: =H44+H43+H34+H24+H14 -> 144129 | I45: =I44+I43+I34+I24+I14 -> 929.2 | J45: =J44+J43+J34+J24+J14 -> 145790 | K45: =K44+K43+K34+K24+K14 -> 951.6 | L45: =L44+L43+L34+L24+L14 -> 148661
C46: סוף מידע צד שמאל
...

Sheet ריכוז תקבולים ותשלומים
F1: עריית עכו
E2: הצעת תקציב לשנת 2019
D4: ריכוז תקבולים ותשלומים של התקציב הרגיל לפי פרקי תקציב
F5: באלפי ₪
C7: תחילת מידע טבלה
B8: תחילת מידע צד ימין | C8: מס' פרק | D8: שם הפרק | E8: תקבולים | G8: תשלומים | H8: תשלומים | K8: סוף מידע צד שמאל
E9: הצעה | F9: תקציב | G9: ביצוע | H9: הצעה | I9: תקציב | J9: ביצוע
E10: 2019 | F10: 2018 | G10: 2017 | H10: 2019 | I10: 2018 | J10: 2017
C11: 1 | D11: מיסים ומענקים
C12: 11 18 | D12: מסים ואגרות | E12: =('מפורט סעיפים'!F12+'מפורט סעיפים'!F14+'מפורט סעיפים'!F22+'מפורט סעיפים'!F24)/1000 -> 191634.65 | F12: =('מפורט סעיפים'!H12+'מפורט סעיפים'!H14+'מפורט סעיפים'!H22+'מפורט סעיפים'!H24)/1000 -> 178412.21 | G12: =('מפורט סעיפים'!J12+'מפורט סעיפים'!J14+'מפורט סעיפים'!J22+'מפורט סעיפים'!J24)/1000 -> 163159.58
C13: 19 | D13: מענקים | E13: ='מפורט סעיפים'!F27/1000 -> 58056 | F13: ='מפורט סעיפים'!H27/1000 -> 56037.888 | G13: ='מפורט סעיפים'!J27/1000 -> 58531.772
D15: סה"כ | E15: =SUM(E12:E13) -> 249690.65 | F15: =SUM(F12:F13) -> 234450.1 | G15: =SUM(G12:G13) -> 221691.35
C17: 6 | D17: הנהלה וכלליות
C18: 61 | D18: מנהל כללי | H18: ='מפורט סעיפים'!F451/1000 -> 14139.774 | I18: ='מפורט סעיפים'!H451/1000 -> 16129.084 | J18: ='מפורט סעיפים'!J451/1000 -> 14263.324
C19: 62 | D19: מנהל כספי | H19: ='מפורט סעיפים'!F507/1000 -> 13016.537 | I19: ='מפורט סעיפים'!H507/1000 -> 12162.342 | J19: ='מפורט סעיפים'!J507/1000 -> 12017.221
C20: 63 | D20: הוצאות מימון | H20: ='מפורט סעיפים'!F512/1000 -> 2028 | I20: ='מפורט סעיפים'!H512/1000 -> 2126.6667 | J20: ='מפורט סעיפים'!J512/1000 -> 2115.5284
C21: 64 | D21: פרעון מלוות | H21: ='מפורט סעיפים'!F522/1000 -> 13602.429 | I21: ='מפורט סעיפים'!H522/1000 -> 11508.619 | J21: ='מפורט סעיפים'!J522/1000 -> 10953.263
D22: סה"כ | E22: =SUM(E18:E21) -> 0 | F22: =SUM(F18:F21) -> 0 | G22: =SUM(G18:G21) -> 0 | H22: =SUM(H18:H21) -> 42786.741 | I22: =SUM(I18:I21) -> 41926.712 | J22: =SUM(J18:J21) -> 39349.337
D25: שרותים מקומיים
C26: 71/21 | D26: תברואה | E26: ='מפורט סעיפים'!F41/1000 -> 2007.6 | F26: ='מפורט סעיפים'!H41/1000 -> 1745.9037 | G26: ='מפורט סעיפים'!J41/1000 -> 1588.5025 | H26: ='מפורט סעיפים'!F620/1000 -> 38634.836 | I26: ='מפורט סעיפים'!H620/1000 -> 37713.87 | J26: ='מפורט סעיפים'!J620/1000 -> 34895.798
C27: 72/22 | D27: שמירה ובטחון | E27: ='מפורט סעיפים'!F50/1000 -> 4592.12 | F27: ='מפורט סעיפים'!H50/1000 -> 4468.591 | G27: ='מפורט סעיפים'!J50/1000 -> 3680.6095 | H27: ='מפורט סעיפים'!F660/1000 -> 5544.5064 | I27: ='מפורט סעיפים'!H660/1000 -> 5452.8373 | J27: ='מפורט סעיפים'!J660/1000 -> 8892.1126
C28: 73/23 | D28: תכנון ובנין עיר | E28: ='מפורט סעיפים'!F60/1000 -> 10778.968 | F28: ='מפורט סעיפים'!H60/1000 -> 17906.056 | G28: ='מפורט סעיפים'!J60/1000 -> 3587.6889 | H28: ='מפורט סעיפים'!F700/1000 -> 6140.863 | I28: ='מפורט סעיפים'!H700/1000 -> 6430.841 | J28: ='מפורט סעיפים'!J700/1000 -> 9927.8316
C29: 74/24 | D29: נכסים ציבוריים | E29: ='מפורט סעיפים'!F62/1000 -> 153 | F29: ='מפורט סעיפים'!H62/1000 -> 100 | G29: ='מפורט סעיפים'!J62/1000 -> 113.8329 | H29: ='מפורט סעיפים'!F780/1000 -> 25135.715 | I29: ='מפורט סעיפים'!H780/1000 -> 25264.444 | J29: ='מפורט סעיפים'!J780/1000 -> 20377.077
C30: 75/25 | D30: חגיגות וארועים | E30: ='מפורט סעיפים'!F65/1000 -> 440 | F30: ='מפורט סעיפים'!H65/1000 -> 800 | H30: ='מפורט סעיפים'!F800/1000 -> 6305.195 | I30: ='מפורט סעיפים'!H800/1000 -> 7237.121 | J30: ='מפורט סעיפים'!J800/1000 -> 3299.3895
C31: 76/26 | D31: שירותים שונים והשתת' | E31: ='מפורט סעיפים'!F72/1000 -> 615 | F31: ='מפורט סעיפים'!H72/1000 -> 734.68 | G31: ='מפורט סעיפים'!J72/1000 -> 691.73008 | H31: ='מפורט סעיפים'!F823/1000 -> 3655.4502 | I31: ='מפורט סעיפים'!H823/1000 -> 4164.7519 | J31: ='מפורט סעיפים'!J823/1000 -> 3467.9974
C32: 78/28 | D32: פיקוח עירוני | E32: ='מפורט סעיפים'!F76/1000 -> 700 | F32: ='מפורט סעיפים'!H76/1000 -> 530 | G32: ='מפורט סעיפים'!J76/1000 -> 558.69109 | H32: ='מפורט סעיפים'!F869/1000 -> 5080.4664 | I32: ='מפורט סעיפים'!H869/1000 -> 5865.4666 | J32: ='מפורט סעיפים'!J869/1000 -> 4223.2377
C33: 77/27 | D33: פיתוח כלכלי | H33: ='מפורט סעיפים'!F834/1000 -> 216.0264 | I33: ='מפורט סעיפים'!H834/1000 -> 426.762 | J33: ='מפורט סעיפים'!J834/1000 -> 527.9171
D34: סה"כ | E34: =SUM(E26:E33) -> 19286.688 | F34: =SUM(F26:F33) -> 26285.231 | G34: =SUM(G26:G33) -> 10221.055 | H34: =SUM(H26:H33) -> 90713.058 | I34: =SUM(I26:I33) -> 92556.093 | J34: =SUM(J26:J33) -> 85611.361
D37: שרותים ממלכתיים
C39: 81/31 | D39: חינוך | E39: ='מפורט סעיפים'!F138/1000 -> 104799.48 | F39: ='מפורט סעיפים'!H138/1000 -> 101709.63 | G39: ='מפורט סעיפים'!J138/1000 -> 101877.01 | H39: ='מפורט סעיפים'!F1015/1000 -> 138052.07 | I39: ='מפורט סעיפים'!H1015/1000 -> 132557.05 | J39: ='מפורט סעיפים'!J1015/1000 -> 125689.3
C40: 82/32 | D40: תרבות | E40: ='מפורט סעיפים'!F155/1000 -> 5686 | F40: ='מפורט סעיפים'!H155/1000 -> 5533.417 | G40: ='מפורט סעיפים'!J155/1000+'מפורט סעיפים'!J307/1000 -> 5315.8087 | H40: ='מפורט סעיפים'!F1097/1000 -> 21404.413 | I40: ='מפורט סעיפים'!H1097/1000 -> 22222.425 | J40: ='מפורט סעיפים'!J1097/1000 -> 20952.175
C41: 83/33 | D41: בריאות | H41: ='מפורט סעיפים'!F1099/1000 -> 180 | I41: ='מפורט סעיפים'!H1099/1000 -> 180 | J41: ='מפורט סעיפים'!J1099/1000 -> 180
C42: 84/34 | D42: רווחה | E42: ='מפורט סעיפים'!F303/1000 -> 48646.003 | F42: ='מפורט סעיפים'!H303/1000 -> 45385.991 | G42: ='מפורט סעיפים'!J303/1000 -> 43860.009 | H42: ='מפורט סעיפים'!F1279/1000 -> 68798.795 | I42: ='מפורט סעיפים'!H1279/1000 -> 65247.068 | J42: ='מפורט סעיפים'!J1279/1000 -> 60239.425
C43: 85/35 | D43: דת | H43: ='מפורט סעיפים'!F1286/1000 -> 2037.442 | I43: ='מפורט סעיפים'!H1286/1000 -> 1935.526 | J43: ='מפורט סעיפים'!J1286/1000 -> 1991.6237
C44: 86/36 | D44: קליטת עליה | E44: ='מפורט סעיפים'!F305/1000 -> 80 | F44: ='מפורט סעיפים'!H305/1000 -> 30 | G44: ='מפורט סעיפים'!J305/1000 -> 72.385 | H44: ='מפורט סעיפים'!F1297/1000 -> 1489.5238 | I44: ='מפורט סעיפים'!H1297/1000 -> 1343.144 | J44: ='מפורט סעיפים'!J1297/1000 -> 1117.9816
C45: 87/37 | D45: איכות הסביבה | H45: ='מפורט סעיפים'!F1299/1000 -> 188.825 | I45: ='מפורט סעיפים'!H1299/1000 -> 161.85 | J45: ='מפורט סעיפים'!J1299/1000 -> 162.15
D46: סה"כ | E46: =SUM(E39:E45) -> 159211.48 | F46: =SUM(F39:F45) -> 152659.03 | G46: =SUM(G39:G45) -> 151125.21 | H46: =SUM(H39:H45) -> 232151.07 | I46: =SUM(I39:I45) -> 223647.07 | J46: =SUM(J39:J45) -> 210332.66
D49: מפעלים
C50: 91/41 | D50: מים | E50: ='מפורט סעיפים'!F316/1000 -> 358.825 | F50: ='מפורט סעיפים'!H316/1000 -> 424 | G50: ='מפורט סעיפים'!J316/1000 -> 965.79531 | H50: ='מפורט סעיפים'!F1303/1000 -> 0 | I50: ='מפורט סעיפים'!H1303/1000 -> 0 | J50: ='מפורט סעיפים'!J1303/1000 -> 398.48001
C51: 93/43 | D51: נכסים | E51: ='מפורט סעיפים'!F325/1000 -> 2959.222 | F51: ='מפורט סעיפים'!H325/1000 -> 2482.332 | G51: ='מפורט סעיפים'!J325/1000 -> 2783.0758 | H51: ='מפורט סעיפים'!F1377/1000 -> 7669.2596 | I51: ='מפורט סעיפים'!H1377/1000 -> 8049.9093 | J51: ='מפורט סעיפים'!J1377/1000 -> 7722.8832
...

Sheet מפורט סעיפים
B3: עריית עכו | E3: הצעת תקציב לשנת 2019
B5: תחילת מידע טבלה
A6: תחילת מידע צד ימין | B6: סעיף תקציב | D6: שם סעיף | F6: תקציב 2019 | H6: תקציב 2018 | J6: ביצוע 2017 | K6: סוף מידע צד שמאל
B7: 1111100100 | D7: ארנונה כללית | F7: 130493777 | H7: 121650035 | J7: 1.155763e+08
B8: 1111200100 | D8: ארנונה כללית פיגורים | F8: 12000000 | H8: 9500000 | J8: 11457332
B9: 1111200216 | D9: הוצאות רישום ועיקול32- | F9: 210000 | H9: 404400 | J9: 437447.92
B10: 1111300291 | D10: ארנונה השתתפות מטה אשר | F10: 550000 | H10: 550000 | J10: 504038.64
B11: 1111400100 | D11: ארנונה מרפאל | F11: 12350000 | H11: 12350000 | J11: 4750000
D12: סה"כ פרק 1.111 ארנונה כללית | F12: 155603777 | G12: 0 | H12: 144454435 | I12: 0 | J12: 1.3272511e+08
B13: 1113000290 | D13: הנחות מסים | F13: 30000000 | H13: 28000000 | J13: 27445117
D14: סה"כ פרק 1.11 ארנונות | F14: 30000000 | G14: 0 | H14: 28000000 | I14: 0 | J14: 27445117
B15: 1121000220 | D15: ניהול תיקים,תעודות ואישורים | F15: 2000 | H15: 1890.46 | J15: 1755.92
B16: 1122000220 | D16: אגרות רשיונות לשלטים | F16: 1900000 | H16: 1700000 | J16: 1434143.6
B17: 1122000221 | D17: אגרת שלטים פיגורים | F17: 450000 | H17: 450000 | J17: 359852.15
B18: 1123000220 | D18: הכנסות גביה מתאגיד מים | F18: 0 | H18: 0 | J18: 0
B19: 1124100220 | D19: מודעות על לוחות | F19: 1000 | H19: 0 | J19: 0
B20: 1129100220 | D20: הוצ.רישום ועיקול סוג ש | F20: 135600 | H20: 254932.8 | J20: 305728.17
B21: 1129100221 | D21: הכנסות גביה עיקול בנק_ | F21: 782269 | H21: 780951.6 | J21: 881879.92
D22: סה"כ פרק 1.12 אגרות | F22: 3270869 | G22: 0 | H22: 3187774.9 | I22: 0 | J22: 2983359.8
B23: 1160000662 | D23: הכנסות מימון | F23: 2760000 | H23: 2770000 | J23: 5991.34
D24: סה"כ פרק 1.16 מימון | F24: 2760000 | G24: 0 | H24: 2770000 | I24: 0 | J24: 5991.34
B25: 1191000910 | D25: מענק איזון | F25: 50210000 | H25: 50210000 | J25: 50629535
B26: 1192000910 | D26: מענקים אחר' למשרד הפנים | F26: 7846000 | H26: 5827888 | J26: 7902237
D27: סה"כ פרק 1.19 מענקים כלליים | F27: 58056000 | G27: 0 | H27: 56037888 | I27: 0 | J27: 58531772
D28: סה"כ פרק 1.1 מיסים ומענק כללי | F28: 249690646 | G28: 0 | H28: 2.344501e+08 | I28: 0 | J28: 2.2169135e+08
B29: 1212300690 | D29: מכרזים-תברואה | F29: 0 | H29: 0 | J29: 0
B30: 1212300292 | D30: החזרים תאגיד-ת.מ.י.ר פינוי ודמ"ש קרטון | F30: 100800 | H30: 0 | J30: 0
B31: 1212400220 | D31: אגרת נקוי חצרות | F31: 1052000 | H31: 950000 | J31: 719243.8
B32: 1212400221 | D32: אג.נקוי חצרות פיגורים | F32: 200000 | H32: 250000 | J32: 211667.2
B33: 1213000220 | D33: למלאכה ותעשיה-רישוי עס | F33: 54000 | H33: 37666.8 | J33: 39653.3
B34: 1213000221 | D34: רוכלים | F34: 0 | H34: 0 | J34: 45
B35: 1214200221 | D35: דמי בדיקת בשר קפוא | F35: 210000 | H35: 135000 | J35: 250047
B36: 1214200960 | D36: השתתפות מש.החקלאות סירוס חתולים | F36: 200000 | H36: 200000 | J36: 200000
B37: 1214201220 | D37: כללי וטרינר106- | F37: 0 | H37: 0 | J37: 0
B38: 1214300220 | D38: דמי חיסון אגרות ושבבים | F38: 170800 | H38: 153289.33 | J38: 151222.43
B39: 1214301220 | D39: קנסות וטרינר109- | F39: 20000 | H39: 19947.6 | J39: 16623.8
D41: סה"כ פרק 1.21 תברואה | F41: 2007600 | G41: 0 | H41: 1745903.7 | I41: 0 | J41: 1588502.5
B42: 1222000440 | D42: שמירה בטחונית | F42: 35000 | H42: 35000 | J42: 29524
B43: 1222000441 | D43: מנעולים עבור מקלטים משותפים | F43: 0 | H43: 0 | J43: 1200
B44: 1222000970 | D44: השתתפות המשרד לביטחון פנים בשיטור קהילתי | F44: 0 | H44: 178751 | J44: 0
...

Sheet השתתפות בחינוך ורווחה
E2: שנת 2013
C3: גובה ארנונה | E3: =107600000 -> 107600000
C4: 35% למגורים | E4: =E3*0.35 -> 37660000
C6: השתתפות בחינוך בתקציב 2013 | E6: =#REF!*1000 -> #REF!
C7: השתתפות ברווחה בתקציב 2013 | E7: =#REF!*1000 -> #REF!
E8: =SUM(E6:E7) -> #REF!
C10: תרבות
C12: הכנסות | E12: =4941406-120000 -> 4821406
C13: הוצאות תרבות | E13: =2204500+17417406-10000-1000000-223769-169937-100000-120000-2300000-13309-17000-50000 -> 15617891
C14: השתתפות עירייה | E14: =E12-E13 -> -10796485
C16: נטו | E16: =E4+E8+E14 -> #REF!

Sheet גליון עזר חדש
C1: תקציב 2017 | D1: תקציב 2016 | E1: ביצוע 2016 | F1: ביצוע 2015 | G1: ביצוע 2014 | H1: ביצוע 2013
A2: 1111100100 | B2: ארנונה כללית | C2: =115800000-3824423+3824423+200000 -> 116000000 | D2: 108777825 | E2: 84699983 | F2: 1.0421972e+08 | G2: 99948887 | H2: 93658958
A3: 1111200100 | B3: ארנונה כללית פיגורים | C3: 9500000 | D3: 10700000 | E3: 8190846.9 | F3: 9580731.8 | G3: 14105709 | H3: 30162688
A4: 1111200216 | B4: הוצאות רישום ועיקול32- | C4: =184000/10*12 -> 220800 | D4: 150000 | E4: 169453.84 | F4: 130017.21 | G4: 116132 | H4: 31331.32
A5: 1111300291 | B5: ארנונה השתתפות מטה אשר | C5: 350000 | D5: 350000 | E5: 229660 | F5: 355348 | G5: 426316 | H5: 419635.96
A6: 1111400100 | B6: ארנונה מרפאל | C6: =4850000+7500000 -> 12350000 | D6: 4850000 | E6: 5771786 | F6: 4807627 | G6: 4810566.1 | H6: 4739242
A7: 1113000290 | B7: הנחות מסים | C7: 21000000 | D7: 20250000 | F7: 21805512 | G7: 20560742 | H7: 18475752
A8: 1121000220 | B8: ניהול תיקים,תעודות ואישורים | C8: 3500 | E8: 2290 | F8: 1530.94 | H8: 97
A9: 1122000220 | B9: אגרות רשיונות לשלטים | C9: 1600000 | D9: 1600000 | E9: 1240026.1 | F9: 1358807.1 | G9: 1419059.9 | H9: 1246440.6
A10: 1122000221 | B10: אגרת שלטים פיגורים | C10: 400000 | D10: 400000 | E10: 304924.13 | F10: 233869.6 | G10: 330171.6 | H10: 386624.33
A11: 1123000220 | B11: הכנסות גביה מתאגיד מים | H11: 330.6
A12: 1124100220 | B12: מודעות על לוחות | C12: 0 | D12: 1500 | E12: 97 | F12: 1792 | G12: 2595 | H12: 2822
A13: 1129100220 | B13: הוצ.רישום ועיקול סוג ש | C13: =118000/10*12 -> 141600 | D13: 150000 | E13: 111333.26 | F13: 93655.4 | G13: 153445.93 | H13: 28879.61
A14: 1129100221 | B14: הכנסות גביה עיקול בנק_ | C14: =569000/10*12 -> 682800 | D14: 600000 | E14: 537524.27 | F14: 484974.15 | G14: 641146.96 | H14: 738562.45
A15: 1160000662 | B15: הכנסות מימון | C15: =2105000+30000+2000000+190808-1000000 -> 3325808 | D15: 2314000 | E15: 1150164.6 | F15: 2777523.5 | G15: 3001817.7 | H15: 258665.72
A16: 1191000910 | B16: מענק כללי_לאיזון | C16: =45000000+1000000-1000000-2000000+100000 -> 43100000 | D16: 46380000 | E16: 30075523 | F16: 43541681 | G16: 41072234 | H16: 42394537
A17: 1192000910 | B17: מענקים אחר' למשרד הפנים | C17: =1500000+1000000*2/3+370000+21000*4+20000+11000+9000 -> 2660666.7 | D17: 1402322 | E17: 1370321 | F17: 2801927 | G17: 3346900 | H17: 1498728
A18: 1194000910 | B18: השתתפות מ. הפנים מ.מות
A19: 1194000912 | B19: פיצוי שחיקת שכר
A20: 1196000910 | B20: פיצוי בגין שחיקת מים
A21: 1196000920 | B21: הרשות לפיתוח הגליל
A22: 1212300241 | B22: פינוי אשפה קציני ים
A23: 1212300290 | B23: מכולות ופסולת
A24: 1212300690 | B24: מכרזים-תברואה | C24: 0 | E24: 2000 | F24: 5000 | G24: 34950 | H24: 16500
A25: 1212400220 | B25: אגרת נקוי חצרות | C25: =975000+25000 -> 1000000 | D25: 1048800 | E25: 682815.3 | F25: 609549.96 | G25: 555083.8 | H25: 523715.26
A26: 1212400221 | B26: אג.נקוי חצרות פיגורים | C26: =300000+25000 -> 325000 | D26: 160000 | E26: 252515.4 | F26: 273765.5 | G26: 259540.92 | H26: 239297.05
A27: 1212500920 | B27: מש.התיירות ניקיון ע"ע
A28: 1213000220 | B28: למלאכה ותעשיה-רישוי עס | C28: =38000/10*12 -> 45600 | D28: 42000 | E28: 38989.8 | F28: 40078.2 | G28: 34325 | H28: 50808.9
A29: 1213000221 | B29: רוכלים | H29: 342.7
A30: 1214200220 | B30: לכידת בעלי חיים107-
A31: 1214200221 | B31: דמי בדיקת בשר קפוא | C31: 100000 | D31: 80000 | E31: 80968 | F31: 80150 | G31: 45805 | H31: 52673
A32: 1214200490 | B32: לכידת סוסים
A33: 1214200960 | B33: השתתפות מש.החקלאות סירוס חתולים | C33: 200000 | D33: 300000 | F33: 200000 | G33: 200000 | H33: 400000
A34: 1214201220 | B34: כללי וטרינר106- | E34: 928
A35: 1214300220 | B35: דמי חיסון אגרות ושבבים | C35: =144000/11*12 -> 157090.91 | D35: 135000 | E35: 132193.25 | F35: 147337.58 | G35: 141765.11 | H35: 121723.37
A36: 1214300690 | B36: מלחמה בכלבת
A37: 1214300691 | B37: סימון שבבים אלקטרוניים
A38: 1214301220 | B38: קנסות וטרינר109- | C38: 18000 | D38: 12000 | E38: 13452.5 | F38: 11262.5 | G38: 19748.5 | H38: 15016.5
A39: 1215200910 | B39: השתתפות איכות הסביבה
A40: 1222000440 | B40: שמירה בטחונית | C40: =34000/9*12 -> 45333.333 | D40: 36000 | E40: 34150 | F40: 31817.5 | G40: 61859 | H40: 52809
...

Sheet גליון עזר 
A1: סעיף תקציב | B1: שם סעיף | C1: עבודה 2016 | D1: ביצוע 2015 | E1: תקציב 2015 | F1: ביצוע 2014 | G1: ביצוע 2013 | H1: ביצוע 2012 | I1: ביצוע 2011
A2: 1111100100 | B2: ארנונה כללית | C2: 104270000 | D2: 73035737 | E2: 104769525 | F2: 99948887 | G2: 93658958 | H2: 85325812 | I2: 77454941
A3: 1111200100 | B3: ארנונה כללית פיגורים | C3: 8500000 | D3: 7803061.4 | E3: 10000000 | F3: 14105709 | G3: 30162688 | H3: 16242584 | I3: 14886756
A4: 1111200216 | B4: הוצאות רישום ועיקול32- | C4: 120000 | D4: 100604.71 | E4: 75000 | F4: 116132 | G4: 31331.32 | H4: 168.2
A5: 1111300291 | B5: ארנונה השתתפות מטה אשר | C5: 380000 | D5: 103317 | E5: 430000 | F5: 426316 | G5: 419635.96 | H5: 393310.45 | I5: 380126.35
A6: 1111400100 | B6: ארנונה מרפאל | C6: 4850000 | D6: 4807627 | E6: 4850000 | F6: 4810566.1 | G6: 4739242 | H6: 4666862 | I6: 4573980.7
A7: 1113000290 | B7: הנחות מסים | C7: 19190000 | E7: 19190000 | F7: 20560742 | G7: 18475752 | H7: 18450000 | I7: 17847234
A8: 1121000220 | B8: ניהול תיקים,תעודות ואישורים | D8: 980 | G8: 97 | I8: 124
A9: 1122000220 | B9: אגרות רשיונות לשלטים | C9: 1450000 | D9: 1061245.9 | E9: 1580000 | F9: 1419059.9 | G9: 1246440.6 | H9: 1441839.4 | I9: 1351320.5
A10: 1122000221 | B10: אגרת שלטים פיגורים | C10: 250000 | D10: 205756 | E10: 380000 | F10: 330171.6 | G10: 386624.33 | H10: 89009.63
A11: 1123000220 | B11: הכנסות גביה מתאגיד מים | G11: 330.6 | I11: 886839.16
A12: 1124100220 | B12: מודעות על לוחות | C12: 3000 | D12: 1249 | E12: 3000 | F12: 2595 | G12: 2822 | H12: 3307 | I12: 2187
A13: 1129100220 | B13: הוצ.רישום ועיקול סוג ש | C13: 100000 | D13: 72274.4 | E13: 100000 | F13: 153445.93 | G13: 28879.61 | H13: 9191.89 | I13: 7345.96
A14: 1129100221 | B14: הכנסות גביה עיקול בנק_ | C14: 350000 | D14: 252203.15 | E14: 620000 | F14: 641146.96 | G14: 738562.45 | H14: 554781.39 | I14: 291375.12
A15: 1160000662 | B15: הכנסות מימון | C15: 2500000 | D15: 3999099 | E15: 5153000 | F15: 3001817.7 | G15: 258665.72 | H15: 2717063.4 | I15: 331473.2
A16: 1191000910 | B16: מענק כללי_לאיזון | C16: 42000000 | D16: 27334200 | E16: 41596000 | F16: 41072234 | G16: 42394537 | H16: 41051814 | I16: 36132087
A17: 1192000910 | B17: מענקים אחר' למשרד הפנים | C17: 1300000 | D17: 1461014 | E17: 3818000 | F17: 3346900 | G17: 1498728 | H17: 1299116 | I17: 1303642
A18: 1194000910 | B18: השתתפות מ. הפנים מ.מות
A19: 1194000912 | B19: פיצוי שחיקת שכר
A20: 1196000910 | B20: פיצוי בגין שחיקת מים
A21: 1196000920 | B21: הרשות לפיתוח הגליל
A22: 1212300241 | B22: פינוי אשפה קציני ים
A23: 1212300290 | B23: מכולות ופסולת
A24: 1212300690 | B24: מכרזים-תברואה | C24: 10000 | D24: 2000 | E24: 30000 | F24: 34950 | G24: 16500 | H24: 17000 | I24: 3000
A25: 1212400220 | B25: אגרת נקוי חצרות | C25: 700000 | D25: 489957.51 | E25: 800000 | F25: 555083.8 | G25: 523715.26 | H25: 656117.15 | I25: 538929.3
A26: 1212400221 | B26: אג.נקוי חצרות פיגורים | C26: 150000 | D26: 105693.9 | E26: 150000 | F26: 259540.92 | G26: 239297.05 | H26: 20045.96
A27: 1212500920 | B27: מש.התיירות ניקיון ע"ע | E27: 1150000
A28: 1213000220 | B28: למלאכה ותעשיה-רישוי עס | C28: 40000 | D28: 29502.6 | E28: 40000 | F28: 34325 | G28: 50808.9 | H28: 41533 | I28: 46022.59
A29: 1213000221 | B29: רוכלים | G29: 342.7
A30: 1214200220 | B30: לכידת בעלי חיים107-
A31: 1214200221 | B31: דמי בדיקת בשר קפוא | C31: 80000 | D31: 63717 | E31: 37000 | F31: 45805 | G31: 52673 | H31: 64995 | I31: 117237
A32: 1214200490 | B32: לכידת סוסים
A33: 1214200960 | B33: השתתפות מש.החקלאות סירוס חתולים | C33: 200000 | D33: 200000 | E33: 275000 | F33: 200000 | G33: 400000 | H33: 100000
A34: 1214201220 | B34: כללי וטרינר106- | I34: 210.5
A35: 1214300220 | B35: דמי חיסון אגרות ושבבים | C35: 130000 | D35: 95253.58 | E35: 130000 | F35: 141765.11 | G35: 121723.37 | H35: 114352 | I35: 119083.35
A36: 1214300690 | B36: מלחמה בכלבת
A37: 1214300691 | B37: סימון שבבים אלקטרוניים
A38: 1214301220 | B38: קנסות וטרינר109- | C38: 20000 | D38: 9837.5 | E38: 25000 | F38: 19748.5 | G38: 15016.5 | H38: 28053 | I38: 39774.5
A39: 1215200910 | B39: השתתפות איכות הסביבה
A40: 1222000440 | B40: שמירה בטחונית | C40: 35000 | D40: 23675 | E40: 65000 | F40: 61859 | G40: 52809 | H40: 48541 | I40: 9960
...

Sheet פירוט למחלקות
C2: פירוט תקציב לפי מחלקה (ללא שכר עבודה)
C4: 2017 | D4: 2016 | E4: הפרש | I4: פער בתקציב | J4: 7500000
A5: לשכה | C5: =SUM(#REF!) -> #REF! | D5: =SUM(#REF!) -> #REF! | E5: =D5-C5 -> #REF! | H5: =C5/$C$38 -> #REF! | J5: =-$J$4*H5 -> #REF!
A6: מבקר | C6: =SUM(#REF!) -> #REF! | D6: =SUM(#REF!) -> #REF! | E6: =D6-C6 -> #REF! | H6: =C6/$C$38 -> #REF! | J6: =-$J$4*H6 -> #REF!
A7: מנכ"ל | C7: =SUM(#REF!)+#REF!+#REF!+#REF! -> #REF! | D7: =SUM(#REF!)+#REF!+#REF!+#REF! -> #REF! | E7: =D7-C7 -> #REF! | H7: =C7/$C$38 -> #REF! | J7: =-$J$4*H7 -> #REF!
A8: הון אנושי | C8: =#REF! -> #REF! | D8: =#REF! -> #REF! | E8: =D8-C8 -> #REF! | H8: =C8/$C$38 -> #REF! | J8: =-$J$4*H8 -> #REF!
A9: מרכז צעירים | C9: =#REF!+#REF!+#REF!+#REF!+#REF!+#REF! -> #REF! | D9: =#REF!+#REF!+#REF!+#REF!+#REF!+#REF! -> #REF! | E9: =D9-C9 -> #REF! | H9: =C9/$C$38 -> #REF! | J9: =-$J$4*H9 -> #REF!
A10: דובר | C10: =SUM(#REF!)+#REF! -> #REF! | D10: =SUM(#REF!)+#REF! -> #REF! | E10: =D10-C10 -> #REF! | H10: =C10/$C$38 -> #REF! | J10: =-$J$4*H10 -> #REF!
A11: סמנכ"ל | C11: =SUM(#REF!) -> #REF! | D11: =SUM(#REF!) -> #REF! | E11: =D11-C11 -> #REF! | H11: =C11/$C$38 -> #REF! | J11: =-$J$4*H11 -> #REF!
A12: יועמ"ש | C12: =SUM(#REF!) -> #REF! | D12: =SUM(#REF!) -> #REF! | E12: =D12-C12 -> #REF! | H12: =C12/$C$38 -> #REF! | J12: =-$J$4*H12 -> #REF!
A13: גזבר | C13: =SUM(#REF!) -> #REF! | D13: =SUM(#REF!) -> #REF! | E13: =D13-C13 -> #REF! | H13: =C13/$C$38 -> #REF! | J13: =-$J$4*H13 -> #REF!
A14: הנה"ח | C14: =SUM(#REF!) -> #REF! | D14: =SUM(#REF!) -> #REF! | E14: =D14-C14 -> #REF! | H14: =C14/$C$38 -> #REF! | J14: =-$J$4*H14 -> #REF!
A15: שכר | C15: =SUM(#REF!) -> #REF! | D15: =SUM(#REF!) -> #REF! | E15: =D15-C15 -> #REF! | H15: =C15/$C$38 -> #REF! | J15: =-$J$4*H15 -> #REF!
A16: גביה | C16: =SUM(#REF!) -> #REF! | D16: =SUM(#REF!) -> #REF! | E16: =D16-C16 -> #REF! | H16: =C16/$C$38 -> #REF! | J16: =-$J$4*H16 -> #REF!
A17: תפעול כולל שוק | C17: =SUM(#REF!)+SUM(#REF!)+SUM(#REF!)+#REF! -> #REF! | D17: =SUM(#REF!)+SUM(#REF!)+SUM(#REF!)+#REF! -> #REF! | E17: =D17-C17 -> #REF! | H17: =C17/$C$38 -> #REF! | J17: =-$J$4*H17 -> #REF!
A18: רכב | C18: =SUM(#REF!) -> #REF! | D18: =SUM(#REF!) -> #REF! | E18: =D18-C18 -> #REF! | H18: =C18/$C$38 -> #REF! | J18: =-$J$4*H18 -> #REF!
A19: ביטחון ופיקוח | C19: =SUM(#REF!)+SUM(#REF!) -> #REF! | D19: =SUM(#REF!)+SUM(#REF!) -> #REF! | E19: =D19-C19 -> #REF! | H19: =C19/$C$38 -> #REF! | J19: =-$J$4*H19 -> #REF!
A20: הנדסה | C20: =SUM(#REF!)+SUM(#REF!)+#REF!+#REF!+#REF! -> #REF! | D20: =SUM(#REF!)+SUM(#REF!)+#REF!+#REF!+#REF! -> #REF! | E20: =D20-C20 -> #REF! | H20: =C20/$C$38 -> #REF! | J20: =-$J$4*H20 -> #REF!
A21: עוזר רה"ע | C21: =SUM(#REF!) -> #REF! | D21: =SUM(#REF!) -> #REF! | E21: =D21-C21 -> #REF! | H21: =C21/$C$38 -> #REF! | J21: =-$J$4*H21 -> #REF!
A22: ארועים ופעילויות תרבות | C22: =SUM(#REF!)+SUM(#REF!) -> #REF! | D22: =SUM(#REF!)+SUM(#REF!) -> #REF! | E22: =D22-C22 -> #REF! | H22: =C22/$C$38 -> #REF! | J22: =-$J$4*H22 -> #REF!
A23: מתנסים(ללא פעולות יעודיות) | C23: =SUM(#REF!) -> #REF! | D23: =SUM(#REF!) -> #REF! | E23: =D23-C23 -> #REF! | H23: =C23/$C$38 -> #REF! | J23: =-$J$4*H23 -> #REF!
A24: ספורט כולל תמיכות | C24: =SUM(#REF!) -> #REF! | D24: =SUM(#REF!) -> #REF! | E24: =D24-C24 -> #REF! | H24: =C24/$C$38 -> #REF! | J24: =-$J$4*H24 -> #REF!
A25: מוסדות מדינה | C25: =#REF!+#REF!+#REF!+#REF!+#REF!+#REF!+#REF!+#REF!+#REF!+#REF! -> #REF! | D25: =#REF!+#REF!+#REF!+#REF!+#REF!+#REF!+#REF!+#REF!+#REF!+#REF! -> #REF! | E25: =D25-C25 -> #REF! | H25: =C25/$C$38 -> #REF! | J25: =-$J$4*H25 -> #REF!
A26: מנהל חינוך | C26: =SUM(#REF!) -> #REF! | D26: =SUM(#REF!) -> #REF! | E26: =D26-C26 -> #REF! | H26: =C26/$C$38 -> #REF! | J26: =-$J$4*H26 -> #REF!
A27: ספריה | C27: =SUM(#REF!) -> #REF! | D27: =SUM(#REF!) -> #REF! | E27: =D27-C27 -> #REF! | H27: =C27/$C$38 -> #REF! | J27: =-$J$4*H27 -> #REF!
A28: תזמורת | C28: =SUM(#REF!) -> #REF! | D28: =SUM(#REF!) -> #REF! | E28: =D28-C28 -> #REF! | H28: =C28/$C$38 -> #REF! | J28: =-$J$4*H28 -> #REF!
A29: מוקד עירוני | C29: =SUM(#REF!) -> #REF! | D29: =SUM(#REF!) -> #REF! | E29: =D29-C29 -> #REF! | H29: =C29/$C$38 -> #REF! | J29: =-$J$4*H29 -> #REF!
A30: סעיפים שונים | C30: =SUM(#REF!)+#REF!+#REF!+#REF!+#REF!+#REF!+#REF!+#REF!+#REF! -> #REF! | D30: =SUM(#REF!)+#REF!+#REF!+#REF!+#REF!+#REF!+#REF!+#REF!+#REF! -> #REF! | E30: =D30-C30 -> #REF! | H30: =C30/$C$38 -> #REF! | J30: =-$J$4*H30 -> #REF!
A31: קליטה | C31: =SUM(#REF!) -> #REF! | D31: =SUM(#REF!) -> #REF! | E31: =D31-C31 -> #REF! | H31: =C31/$C$38 -> #REF! | J31: =-$J$4*H31 -> #REF!
A32: נכסים | C32: =SUM(#REF!) -> #REF! | D32: =SUM(#REF!) -> #REF! | E32: =D32-C32 -> #REF! | H32: =C32/$C$38 -> #REF! | J32: =-$J$4*H32 -> #REF!
A33: בית העירייה | C33: =SUM(#REF!)+SUM(#REF!) -> #REF! | D33: =SUM(#REF!)+SUM(#REF!) -> #REF! | E33: =D33-C33 -> #REF! | H33: =C33/$C$38 -> #REF! | J33: =-$J$4*H33 -> #REF!
A34: ממ"מ | C34: =SUM(#REF!) -> #REF! | D34: =SUM(#REF!) -> #REF! | E34: =D34-C34 -> #REF! | H34: =C34/$C$38 -> #REF! | J34: =-$J$4*H34 -> #REF!
A35: עמידר | C35: =#REF! -> #REF! | D35: =#REF! -> #REF! | E35: =D35-C35 -> #REF! | H35: =C35/$C$38 -> #REF! | J35: =-$J$4*H35 -> #REF!
C36: =SUM(C5:C35) -> #REF! | D36: =SUM(D5:D35) -> #REF! | E36: =SUM(E5:E35) -> #REF! | J36: =SUM(J5:J35) -> #REF!
B38: סך פעולות כלליות | C38: =#REF! -> #REF! | D38: =#REF! -> #REF!
C39: =C36-C38 -> #REF! | D39: =D36-D38 -> #REF!

Sheet 2017 עדכני
A1: כרטיס הנה"ח | B1: תאור | C1: תקציב שנתי מאושר | D1: תקציב יחסי | E1: ביצוע | F1: סטיה מהתקציב היחסי | G1: ביצוע 2016 | H1: ביצוע 2015
A2: [1] | B2: תקבולים
A3: [2] | B3: הכנסות לפני הנחות ארנונה וכיסוי גרעון נצבר
A4: [3] 10 | B4: ארנונה כללית
A5: 1111100100 | B5: ארנונה כללית | C5: 115068520 | D5: 115068520 | E5: 97636039 | F5: -17432481 | G5: 1.1203248e+08 | H5: 1.0421972e+08
A6: 1111200100 | B6: ארנונה כללית פיגורים | C6: 10649000 | D6: 10649000 | E6: 9212350.8 | F6: -1436649.1 | G6: 11201912 | H6: 9580731.8
A7: סה"כ | B7: ארנונה כללית | C7: 125717520 | D7: 125717520 | E7: 1.0684839e+08 | F7: -18869130 | G7: 1.2323439e+08 | H7: 1.1380045e+08
A8: [3] 30 | B8: מפעל המים
A9: 1413100212 | B9: אגרת מים פיגורים | C9: 420000 | D9: 420000 | E9: 388537 | F9: -31463 | G9: 496875.95 | H9: 477743.19
A10: 1413100216 | B10: אגרת חידוש חיבור30- | C10: 2000 | D10: 2000 | E10: 1056.8 | F10: -943.2 | G10: 2402.9 | H10: 1884.1
A11: 1413100217 | B11: היטל צריכה מים עודפת ס.ש.49 | C11: 2600 | D11: 2600 | E11: 6424.2 | F11: 3824.2 | G11: 2342.3 | H11: 1253.33
A12: סה"כ | B12: מפעל המים | C12: 424600 | D12: 424600 | E12: 396018 | F12: -28582 | G12: 501621.15 | H12: 480880.62
A13: [3] | B13: סה"כ הכנסות עצמיות
A14: [4] 40 | B14: עצמיות חינוך
A15: 1311000690 | B15: מכרזים | H15: 25570
A16: 1312200420 | B16: הכנסות מהורים-ביטוח תאונות אישיות | E16: 27398.9 | F16: 27398.9
A17: 1312200440 | B17: חדר מלח מרכז לגיל הרך | C17: 10000 | D17: 10000 | E17: 14730 | F17: 4730 | G17: 9739
A18: 1312200790 | B18: מרכז גיל הרך-דגם בן משרדי | C18: 129114 | D18: 129114 | E18: 121791 | F18: -7323 | G18: 170588 | H18: 195832
A19: 1312210420 | B19: הכנסות מהורים-סל תרבות | E19: 43931.2 | F19: 43931.2
A20: 1312500440 | B20: פנימיות יום-גנ"י | C20: 1969169 | D20: 1969169 | E20: 1595743.8 | F20: -373425.2 | G20: 2225134.8 | H20: 1757222.2
A21: 1312501440 | B21: הכנסות מהורים מילת | C21: 607790 | D21: 607790 | E21: 1504093.1 | F21: 896303.1 | G21: 669942.1 | H21: 484098.6
A22: 1313200410 | B22: השתת' הורים לבת'"ס | C22: 25000 | D22: 25000 | E22: 167532 | F22: 142532 | G22: 60520 | H22: 14600
A23: 1313317410 | B23: ילדי חוץ | C23: 1125000 | D23: 1125000 | E23: 693314.15 | F23: -431685.85 | G23: 727628 | H23: 1090662.1
A24: 1315700700 | B24: השתתפות אורט מקיף ערבי | C24: 14200000 | D24: 14200000 | E24: 14200002 | F24: 2 | G24: 14200000 | H24: 14200000
A25: 1315777700 | B25: השתתפות אורט | C25: 16000000 | D25: 16000000 | E25: 16000000 | G25: 15999997 | H25: 15999997
A26: 1315788700 | B26: השתתפות אמית | C26: 7000000 | D26: 7000000 | E26: 7000000 | G26: 7000000 | H26: 7000000
A27: 1317500410 | B27: הכ.-בטוח תאונות אישיות | C27: 350000 | D27: 350000 | E27: 162731.1 | F27: -187268.9 | G27: 246230 | H27: 361988
A28: 1317800440 | B28: הסעות חינוך מיוחד | H28: 3200
A29: 1317900790 | B29: מתאם סמים מס חוזה 123300 | C29: 36667 | D29: 36667 | E29: 40000 | F29: 3333 | G29: 22581 | H29: 40000
A30: 1317950790 | B30: מרכז נוער ישובי/שכונתי התוכנית הלאומית-מש.חינוך | C30: 513900 | D30: 513900 | E30: 293947 | F30: -219953 | G30: 584314 | H30: 389063
A31: סה"כ | B31: עצמיות חינוך | C31: 41966640 | D31: 41966640 | E31: 41865214 | F31: -101425.75 | G31: 41916674 | H31: 41562233
A32: [4] 50 | B32: עצמיות רווחה
A33: 1342400420 | B33: טיפול בפרט ובמשפחה | E33: 647 | F33: 647 | G33: 400
A34: 1343500420 | B34: פעולות קהלתיות | C34: 2000 | D34: 2000 | E34: 1606 | F34: -394 | G34: 1525 | H34: 2459
A35: 1343523410 | B35: שרותים תומכים למפגר | C35: 150200 | D35: 150200 | E35: 114158.93 | F35: -36041.07 | G35: 148474.5 | H35: 131781.5
A36: 1343800420 | B36: השתת' הורים אחזקה | C36: 48000 | D36: 48000 | E36: 17813 | F36: -30187 | G36: 46133 | H36: 53904.6
A37: 1343800421 | B37: פקוח וטפול אומנה | H37: 1246
A38: 1344300420 | B38: אחזקת זקנים במעונות | C38: 545333 | D38: 545333 | E38: 382591.9 | F38: -162741.1 | G38: 531606.3 | H38: 551985.1
A39: 1344300421 | B39: עזרה ביתית | C39: 31200 | D39: 31200 | E39: 19766 | F39: -11434 | G39: 32530 | H39: 33984
A40: 1344500420 | B40: מסגרת יומיות לזקן | C40: 100000 | D40: 100000 | E40: 17763 | F40: -82237 | G40: 66896 | H40: 38022
...

Sheet השוואה
A1: כרטיס הנה"ח | B1: תאור | C1: תקציב שנתי מאושר | D1: תקציב שהוטמע
A2: [1] | B2: תקבולים
A3: [2] | B3: הכנסות לפני הנחות ארנונה וכיסוי גרעון נצבר
A4: [3] 10 | B4: ארנונה כללית
A5: 1111100100 | B5: ארנונה כללית | C5: 115068520 | D5: =VLOOKUP(A5,#REF!,4,FALSE) -> #REF! | E5: =C5-D5 -> #REF!
A6: 1111200100 | B6: ארנונה כללית פיגורים | C6: 10649000 | D6: =VLOOKUP(A6,#REF!,4,FALSE) -> #REF! | E6: =C6-D6 -> #REF!
A7: סה"כ | B7: ארנונה כללית | C7: 125717520 | D7: =VLOOKUP(A7,#REF!,4,FALSE) -> #REF! | E7: =C7-D7 -> #REF!
A8: [3] 30 | B8: מפעל המים | D8: =VLOOKUP(A8,#REF!,4,FALSE) -> #REF! | E8: =C8-D8 -> #REF!
A9: 1413100212 | B9: אגרת מים פיגורים | C9: 420000 | D9: =VLOOKUP(A9,#REF!,4,FALSE) -> #REF! | E9: =C9-D9 -> #REF!
