Workbook

Sheet ריכוז האגפים
A6: תוכנית פיתוח לשנים 2018-2020
A8: ריכוז
A10: שם האגף | B10: סה"כ | C10: סה"כ מקורות מימון מובטחים או אפשריים
B11: עלות מוערכת | C11: סה"כ | D11: השתתפות הרשות | G11: סה"כ מימון | H11: גורמים חיצוניים
B12: של הפרויקט | C12: השתתפות | D12: סה"כ בקשות לשנים | G12: גורמים | H12: סה"כ בקשות לשנים
C13: הרשות | D13: 2018 | E13: 2019 | F13: 2020 | G13: חיצוניים | H13: 2018 | I13: 2019 | J13: 2020
A15: אגף ההנדסה | B15: ='אגף ההנדסה'!F61 -> 42874725 | C15: ='אגף ההנדסה'!G61 -> 21970000 | D15: ='אגף ההנדסה'!H61 -> 8410000 | E15: ='אגף ההנדסה'!I61 -> 7740000 | F15: ='אגף ההנדסה'!J61 -> 3820000 | G15: ='אגף ההנדסה'!K61 -> 19404725 | H15: ='אגף ההנדסה'!L61 -> 19404725 | I15: ='אגף ההנדסה'!M61 -> 0 | J15: ='אגף ההנדסה'!N61 -> 0
A16: מינהל החינוך | B16: ='מינהל חינוך'!G44 -> 34900000 | C16: ='מינהל חינוך'!H44 -> 30900000 | D16: ='מינהל חינוך'!I44 -> 15800000 | E16: ='מינהל חינוך'!J44 -> 16600000 | F16: ='מינהל חינוך'!K44 -> 0 | G16: ='מינהל חינוך'!L44 -> 4000000 | H16: ='מינהל חינוך'!M44 -> 4000000 | I16: ='מינהל חינוך'!N44 -> 0 | J16: ='מינהל חינוך'!O44 -> 0
A17: מנהל לוגיסטיקה וחירום | B17: ='אגף מינהל לוגיסטיקה'!G25 -> 36580000 | C17: ='אגף מינהל לוגיסטיקה'!H25 -> 36580000 | D17: ='אגף מינהל לוגיסטיקה'!I25 -> 9000000 | E17: ='אגף מינהל לוגיסטיקה'!J25 -> 27580000 | F17: ='אגף מינהל לוגיסטיקה'!K25 -> 0 | G17: ='אגף מינהל לוגיסטיקה'!L25 -> 0 | H17: ='אגף מינהל לוגיסטיקה'!M25 -> 0 | I17: ='אגף מינהל לוגיסטיקה'!N25 -> 0 | J17: ='אגף מינהל לוגיסטיקה'!O25 -> 0
A18: אגף הפיקוח | B18: ='אגף הפיקוח'!F21 -> 2750000 | C18: ='אגף הפיקוח'!G21 -> 2750000 | D18: ='אגף הפיקוח'!H21 -> 1000000 | E18: ='אגף הפיקוח'!I21 -> 1750000 | F18: ='אגף הפיקוח'!J21 -> 0 | G18: ='אגף הפיקוח'!K21 -> 0 | H18: ='אגף הפיקוח'!L21 -> 0 | I18: ='אגף הפיקוח'!M21 -> 0 | J18: ='אגף הפיקוח'!N21 -> 0
A19: האגף לאיכות הסביבה | B19: ='אגף לאיכות הסביבה'!F26 -> 17150000 | C19: ='אגף לאיכות הסביבה'!G26 -> 17150000 | D19: ='אגף לאיכות הסביבה'!H26 -> 4000000 | E19: ='אגף לאיכות הסביבה'!I26 -> 6800000 | F19: ='אגף לאיכות הסביבה'!J26 -> 6350000 | G19: ='אגף לאיכות הסביבה'!K26 -> 0 | H19: ='אגף לאיכות הסביבה'!L26 -> 0 | I19: ='אגף לאיכות הסביבה'!M26 -> 0 | J19: ='אגף לאיכות הסביבה'!N26 -> 0
A20: אגף הרווחה | B20: ='אגף הרווחה'!F24 -> 11012500 | C20: ='אגף הרווחה'!G24 -> 2112500 | D20: ='אגף הרווחה'!H24 -> 500000 | E20: ='אגף הרווחה'!I24 -> 1612500 | F20: ='אגף הרווחה'!J24 -> 0 | G20: ='אגף הרווחה'!K24 -> 8900000 | H20: ='אגף הרווחה'!L24 -> 8900000 | I20: ='אגף הרווחה'!M24 -> 0 | J20: ='אגף הרווחה'!N24 -> 0
A21: אגף אחזקה | B21: ='אגף אחזקה'!F23 -> 13150000 | C21: ='אגף אחזקה'!G23 -> 13150000 | D21: ='אגף אחזקה'!H23 -> 7800000 | E21: ='אגף אחזקה'!I23 -> 3850000 | F21: ='אגף אחזקה'!J23 -> 1500000 | G21: ='אגף אחזקה'!K23 -> 0 | H21: ='אגף אחזקה'!L23 -> 0 | I21: ='אגף אחזקה'!M23 -> 0 | J21: ='אגף אחזקה'!N23 -> 0
A22: חדשנות תקשורת ומערכות מידע | B22: ='מערכות מידע'!F32 -> 4072000 | C22: ='מערכות מידע'!G32 -> 3972000 | D22: ='מערכות מידע'!H32 -> 500000 | E22: ='מערכות מידע'!I32 -> 3472000 | F22: ='מערכות מידע'!J32 -> 0 | G22: ='מערכות מידע'!K32 -> 100000 | H22: ='מערכות מידע'!L32 -> 0 | I22: ='מערכות מידע'!M32 -> 0 | J22: ='מערכות מידע'!N32 -> 0
A23: חברות כיוונים | B23: ='חברות בת - כיוונים'!G30 -> 4886000 | C23: ='חברות בת - כיוונים'!H30 -> 4886000 | D23: ='חברות בת - כיוונים'!I30 -> 4000000 | E23: ='חברות בת - כיוונים'!J30 -> 886000 | F23: ='חברות בת - כיוונים'!K30 -> 0 | G23: ='חברות בת - כיוונים'!L30 -> 0 | H23: ='חברות בת - כיוונים'!M30 -> 0 | I23: ='חברות בת - כיוונים'!N30 -> 0 | J23: ='חברות בת - כיוונים'!O30 -> 0
A24: חברת יעדים | B24: ='יעדים וחכל'!G19 -> 27830000 | C24: ='יעדים וחכל'!H19 -> 800000 | D24: ='יעדים וחכל'!I19 -> 0 | E24: ='יעדים וחכל'!J19 -> 800000 | F24: ='יעדים וחכל'!K19 -> 0 | G24: ='יעדים וחכל'!L19 -> 27030000 | H24: ='יעדים וחכל'!M19 -> 7330000 | I24: ='יעדים וחכל'!N19 -> 19700000 | J24: ='יעדים וחכל'!O19 -> 0
A25: חכ"ל | B25: ='יעדים וחכל'!G26 -> 1100000 | C25: ='יעדים וחכל'!H26 -> 1100000 | D25: ='יעדים וחכל'!I26 -> 0 | E25: ='יעדים וחכל'!J26 -> 1100000 | F25: ='יעדים וחכל'!K26 -> 0 | G25: ='יעדים וחכל'!L26 -> 0 | H25: ='יעדים וחכל'!M26 -> 0 | I25: ='יעדים וחכל'!N26 -> 0 | J25: ='יעדים וחכל'!O26 -> 0
A26: הסכמי הגג | B26: =C26+G26 -> 1676755177 | C26: =SUM(D26:F26) -> 0 | D26: 0 | E26: 0 | F26: 0 | G26: =SUM(H26:J26) -> 1676755177 | H26: ='הסכמי גג'!I76 -> 605846000 | I26: ='הסכמי גג'!J76 -> 645236777 | J26: ='הסכמי גג'!K76 -> 425672400
A28: סה"כ תוכנית הפיתוח לשנים 2018-2020 | B28: =SUM(B15:B26) -> 1873060402 | C28: =SUM(C15:C26) -> 135370500 | D28: =SUM(D15:D26) -> 51010000 | E28: =SUM(E15:E26) -> 72190500 | F28: =SUM(F15:F26) -> 11670000 | G28: =SUM(G15:G26) -> 1736189902 | H28: =SUM(H15:H26) -> 645480725 | I28: =SUM(I15:I26) -> 664936777 | J28: =SUM(J15:J26) -> 425672400
A30: סה"כ תוכנית פיתוח לשנת 2018 | D30: =D28+H28 -> 696490725

Sheet אגף ההנדסה
A6: תוכנית פיתוח לשנים 2018-2020
A8: תחום | B8: מספר | C8: שם הפרויקט | D8: מועד התחלת | E8: משך ביצוע | F8: סה"כ | G8: סה"כ מקורות מימון מובטחים או אפשריים
B9: תב"ר | D9: ביצוע | E9: ביצוע | F9: עלות מוערכת | G9: סה"כ השתתפות | H9: השתתפות הרשות בפריסה שנתית | K9: סה"כ גורמים | L9: מימון גורמים חיצונים בפריסה שנתית
D10: (בפועל או מתוכנן) | E10: (בחודשים) | F10: של הפרויקט | G10: הרשות | H10: 2018 | I10: 2019 | J10: 2020 | K10: חיצוניים | L10: 2018 | M10: 2019 | N10: 2020
C12: אגף ההנדסה
A14: תחבורה | C14: תכנון רמזור צומת בית לחם ג'ו אלון | F14: =G14+K14 -> 150000 | G14: =SUM(H14:J14) -> 45000 | H14: =150000*0.3 -> 45000 | I14: 0 | J14: 0 | K14: =SUM(L14:N14) -> 105000 | L14: 105000 | M14: 0 | N14: 0
A15: תחבורה | C15: שינוי פרוגראמת 4 רמזורים ציר המשחררים | F15: =G15+K15 -> 200000 | G15: =SUM(H15:J15) -> 60000 | H15: =200000*0.3 -> 60000 | I15: 0 | J15: 0 | K15: =SUM(L15:N15) -> 140000 | L15: =200000*0.7 -> 140000 | M15: 0 | N15: 0
A16: תחבורה | C16: תכנון הסדרת ציר סנדרין בין בעלי התוספות עד יוספטל | F16: =G16+K16 -> 600000 | G16: =SUM(H16:J16) -> 180000 | H16: =600000*0.3 -> 180000 | I16: 0 | J16: 0 | K16: =SUM(L16:N16) -> 420000 | L16: =600000*0.7 -> 420000 | M16: 0 | N16: 0
A17: תחבורה | C17: תכנון שבילי אופניים ושינוי חתך שד' יעלים בין שד' המשחררים לרח' ש"י עגנון | F17: =G17+K17 -> 1000000 | G17: =SUM(H17:J17) -> 300000 | H17: 300000 | I17: 0 | J17: 0 | K17: =SUM(L17:N17) -> 700000 | L17: 700000 | M17: 0 | N17: 0
A18: תחבורה | C18: שינוי פרוגראמת 4 צמתים מרומזרים בציר רמב"ם | F18: =G18+K18 -> 400000 | G18: =SUM(H18:J18) -> 120000 | H18: 120000 | I18: 0 | J18: 0 | K18: =SUM(L18:N18) -> 280000 | L18: 280000 | M18: 0 | N18: 0
A19: תחבורה | C19: ביצוע מעגל תנועה בצומת מקור חיים - רוזנבלום | F19: =G19+K19 -> 1200000 | G19: =SUM(H19:J19) -> 360000 | H19: 360000 | I19: 0 | J19: 0 | K19: =SUM(L19:N19) -> 840000 | L19: 840000 | M19: 0 | N19: 0
A20: תחבורה | C20: תכנון שבילי אופניים ושינוי חתך רח' השלום בין הנדיב לוינגייט | F20: =G20+K20 -> 500000 | G20: =SUM(H20:J20) -> 150000 | H20: 150000 | I20: 0 | J20: 0 | K20: =SUM(L20:N20) -> 350000 | L20: 350000 | M20: 0 | N20: 0
A21: תחבורה | C21: תכנון שינוי חתך דרך חברון בין רח' בן גוריון עד לצומת חברון - חברון - שז"ר (שלב א') | F21: =G21+K21 -> 1500000 | G21: =SUM(H21:J21) -> 450000 | H21: 450000 | I21: 0 | J21: 0 | K21: =SUM(L21:N21) -> 1050000 | L21: 1050000 | M21: 0 | N21: 0
A22: תחבורה | C22: תכנון שינוי חתך דרך חברון בין צומת חברון - חברון- שז"ר לרח' רוטשילד (שלב ב') | F22: =G22+K22 -> 500000 | G22: =SUM(H22:J22) -> 150000 | H22: 150000 | I22: 0 | J22: 0 | K22: =SUM(L22:N22) -> 350000 | L22: 350000 | M22: 0 | N22: 0
A23: תחבורה | C23: תכנון מעגל תנועה בצומת גדעון האוזנר נחום שריג | F23: =G23+K23 -> 250000 | G23: =SUM(H23:J23) -> 75000 | H23: 75000 | I23: 0 | J23: 0 | K23: =SUM(L23:N23) -> 175000 | L23: 175000 | M23: 0 | N23: 0
A24: תחבורה | C24: תכנון שבילי אופניים ברח' חבצלת הנגב בין רח' הע"ל לאטד | F24: =G24+K24 -> 350000 | G24: =SUM(H24:J24) -> 105000 | H24: 105000 | I24: 0 | J24: 0 | K24: =SUM(L24:N24) -> 245000 | L24: 245000 | M24: 0 | N24: 0
A25: תחבורה | C25: תכנון מעגל תנועה ביהודה הלוי סמוך למקיף אמי"ת | F25: =G25+K25 -> 250000 | G25: =SUM(H25:J25) -> 75000 | H25: 75000 | I25: 0 | J25: 0 | K25: =SUM(L25:N25) -> 175000 | L25: 175000 | M25: 0 | N25: 0
A26: תחבורה | C26: דרך מצדה - גל ירוק ברמזורים | F26: =G26+K26 -> 500000 | G26: =SUM(H26:J26) -> 125000 | H26: 125000 | I26: 0 | J26: 0 | K26: =SUM(L26:N26) -> 375000 | L26: 375000 | M26: 0 | N26: 0
A27: תחבורה | C27: שינוי מעגל תנועה בכניסה למתחם תחנה מרכזית | F27: =G27+K27 -> 1700000 | G27: =SUM(H27:J27) -> 170000 | H27: 170000 | I27: 0 | J27: 0 | K27: =SUM(L27:N27) -> 1530000 | L27: 1530000 | M27: 0 | N27: 0
A28: תחבורה | C28: צומת לאונרד כהן שז"ר | F28: =G28+K28 -> 1000000 | G28: =SUM(H28:J28) -> 1000000 | H28: 1000000 | I28: 0 | J28: 0 | K28: =SUM(L28:N28) -> 0 | L28: 0 | M28: 0 | N28: 0
... A37: תחבורה | C37: ביצוע שבילי אופניים שד' בן גוריון | F37: =G37+K37 -> 2000000 | G37: =SUM(H37:J37) -> 0 | H37: 0 | I37: 0 | J37: 0 | K37: =SUM(L37:N37) -> 2000000 | L37: 2000000 | M37: 0 | N37: 0
A39: סה"כ פרויקטים תחבורתיים | F39: =SUM(F14:F38) -> 23594725 | G39: =SUM(G14:G38) -> 4190000 | H39: =SUM(H14:H38) -> 4190000 | I39: =SUM(I14:I38) -> 0 | J39: =SUM(J14:J38) -> 0 | K39: =SUM(K14:K38) -> 19404725 | L39: =SUM(L14:L38) -> 19404725 | M39: =SUM(M14:M38) -> 0 | N39: =SUM(N14:N38) -> 0
A41: תשתיות | C41: יישום החלטות ועדות תנועה + סמכויות ב-18 (2) | D41: מיידי | E41: 36 | F41: =G41+K41 -> 1500000 | G41: =SUM(H41:J41) -> 1500000 | H41: 0 | I41: 500000 | J41: =500000+500000 -> 1000000 | K41: =SUM(L41:N41) -> 0 | L41: 0 | M41: 0 | N41: 0
A42: תשתיות | B42: 3456 | C42: אגרת ניקוז | D42: מיידי | E42: 36 | F42: =G42+K42 -> 2460000 | G42: =SUM(H42:J42) -> 2460000 | H42: 820000 | I42: 820000 | J42: 820000 | K42: =SUM(L42:N42) -> 0 | L42: 0 | M42: 0 | N42: 0
A43: תשתיות | C43: החלפת פנסי רמזורים ללדים | D43: מיידי | E43: 12 | F43: =G43+K43 -> 270000 | G43: =SUM(H43:J43) -> 270000 | H43: 0 | I43: 270000 | J43: 0 | K43: =SUM(L43:N43) -> 0 | L43: 0 | M43: 0 | N43: 0
A44: תשתיות | C44: תקצוב מערכת חכמה לשדרוג הרמזורים | D44: מיידי | E44: 12 | F44: =G44+K44 -> 1200000 | G44: =SUM(H44:J44) -> 1200000 | H44: 0 | I44: 1200000 | J44: 0 | K44: =SUM(L44:N44) -> 0 | L44: 0 | M44: 0 | N44: 0
A45: תשתיות | C45: תכנון שינויים גיאומטריים בשלושה מעגלי תנועה בעיר (שינוי מחד נתיבי לדו נתיבי) | D45: מיידי | E45: 12 | F45: =G45+K45 -> 300000 | G45: =SUM(H45:J45) -> 300000 | H45: 0 | I45: 300000 | J45: 0 | K45: =SUM(L45:N45) -> 0 | L45: 0 | M45: 0 | N45: 0
A47: סה"כ תשתיות | F47: =SUM(F41:F46) -> 5730000 | G47: =SUM(G41:G43) -> 4230000 | H47: =SUM(H41:H43) -> 820000 | I47: =SUM(I41:I43) -> 1590000 | J47: =SUM(J41:J43) -> 1820000 | K47: =SUM(K41:K43) -> 0 | L47: =SUM(L41:L43) -> 0 | M47: =SUM(M41:M43) -> 0 | N47: =SUM(N41:N43) -> 0
A49: תכנון | B49: 3326 | C49: שמאויות לשם גביית היטלי השבחה | D49: מיידי | E49: 36 | F49: =G49+K49 -> 1200000 | G49: =SUM(H49:J49) -> 1200000 | H49: 400000 | I49: 400000 | J49: 400000 | K49: =SUM(L49:N49) -> 0 | L49: 0 | M49: 0 | N49: 0
A50: תכנון | C50: הכנת תשריטים - מדידות | D50: מיידי | E50: 36 | F50: =G50+K50 -> 600000 | G50: =SUM(H50:J50) -> 600000 | H50: 0 | I50: 300000 | J50: =150000+150000 -> 300000 | K50: =SUM(L50:N50) -> 0 | L50: 0 | M50: 0 | N50: 0
A51: תכנון | C51: הכנת שכבת מערכת תיעול עירונית | D51: מיידי | E51: 12 | F51: =G51+K51 -> 1500000 | G51: =SUM(H51:J51) -> 1500000 | H51: 0 | I51: 500000 | J51: =500000+500000 -> 1000000 | K51: =SUM(L51:N51) -> 0 | L51: 0 | M51: 0 | N51: 0
A52: תכנון | B52: 3566 | C52: קידום תב"עות בפרויקטים שונים | D52: מיידי | E52: 12 | F52: =G52+K52 -> 7800000 | G52: =SUM(H52:J52) -> 7800000 | H52: 3000000 | I52: 4800000 | J52: 0 | K52: =SUM(L52:N52) -> 0 | L52: 0 | M52: 0 | N52: 0
A54: סה"כ תכנון | F54: =SUM(F49:F53) -> 11100000 | G54: =SUM(G49:G53) -> 11100000 | H54: =SUM(H49:H53) -> 3400000 | I54: =SUM(I49:I53) -> 6000000 | J54: =SUM(J49:J53) -> 1700000 | K54: =SUM(K49:K53) -> 0 | M54: =SUM(M49:M53) -> 0 | N54: =SUM(N49:N53) -> 0
A56: מוסדות | B56: 3289 | C56: חיבור תשתיות למוסדות חינוך וציבור | D56: מיידי | E56: 36 | F56: =G56+K56 -> 2000000 | G56: =SUM(I56:J56) -> 2000000 | H56: 0 | I56: 1000000 | J56: =500000+500000 -> 1000000 | K56: =SUM(M56:N56) -> 0 | L56: 0 | M56: 0 | N56: 0
A57: כללי | B57: 3299 | C57: הריסת מיבנים מסוכנים בבעלות פרטית | D57: מיידי | E57: 36 | F57: =G57+K57 -> 450000 | G57: =SUM(I57:J57) -> 450000 | H57: 0 | I57: 150000 | J57: =150000+150000 -> 300000 | K57: =SUM(M57:N57) -> 0 | L57: 0 | M57: 0 | N57: 0
A59: סה"כ פרויקטים כלליים | F59: =SUM(F56:F58) -> 2450000 | G59: =SUM(G56:G58) -> 2450000 | H59: =SUM(H56:H58) -> 0 | I59: =SUM(I57:I58) -> 150000 | J59: =SUM(J57:J58) -> 300000 | K59: =SUM(K57:K58) -> 0 | L59: =SUM(L57:L58) -> 0 | M59: =SUM(M57:M58) -> 0 | N59: =SUM(N57:N58) -> 0
C61: סה"כ אגף ההנדסה | F61: =F39+F47+F54+F59 -> 42874725 | G61: =G39+G47+G54+G59 -> 21970000 | H61: =H39+H47+H54+H59 -> 8410000 | I61: =I39+I47+I54+I59 -> 7740000 | J61: =J39+J47+J54+J59 -> 3820000 | K61: =K39+K47+K54+K59 -> 19404725 | L61: =L39+L47+L54+L59 -> 19404725 | M61: =M39+M47+M54+M59 -> 0 | N61: =N39+N47+N54+N59 -> 0
H63: 5400000
H64: =H61-H63 -> 3010000

Sheet מינהל חינוך
A7: תוכנית פיתוח לשנים 2018-2020
B10: תחום | C10: מספר | D10: שם הפרויקט | E10: מועד התחלת | F10: משך ביצוע | G10: סה"כ | H10: סה"כ מקורות מימון מובטחים או אפשריים
A11: סטטוס | C11: תב"ר | E11: ביצוע | F11: ביצוע | G11: עלות מוערכת | H11: סה"כ השתתפות | I11: השתתפות הרשות בפריסה שנתית | L11: סה"כ גורמים | M11: מימון גורמים חיצונים בפריסה שנתית
E12: (בפועל או מתוכנן) | F12: (בחודשים) | G12: של הפרויקט | H12: הרשות | I12: 2018 | J12: 2019 | K12: 2020 | L12: חיצוניים | M12: 2018 | N12: 2019 | O12: 2020
D13: מינהל החינוך
B15: תשתיות | D15: החלפת מתקני משחק משטחי גומי והצללות | E15: מיידי | F15: 36 | G15: =H15+L15 -> 3000000 | H15: =SUM(I15:K15) -> 3000000 | I15: 2000000 | J15: 1000000 | K15: 0 | L15: =SUM(M15:O15) -> 0 | M15: 0 | N15: 0 | O15: 0
B16: תשתיות | D16: שדרוג מזגנים במוסדות חינוך | E16: מיידי | F16: 36 | G16: =H16+L16 -> 2000000 | H16: =SUM(I16:K16) -> 0 | I16: 0 | J16: 0 | K16: 0 | L16: =SUM(M16:O16) -> 2000000 | M16: 2000000 | N16: 0 | O16: 0
B17: תשתיות | D17: בדיקות וטיפול קונסטרוקציה במוסדות חינוך | E17: מיידי | F17: 36 | G17: =H17+L17 -> 200000 | H17: =SUM(I17:K17) -> 200000 | I17: 0 | J17: 200000 | K17: 0 | L17: =SUM(M17:O17) -> 0 | M17: 0 | N17: 0 | O17: 0
B18: תשתיות | D18: הסדרי תנועה ,תשתיות וחידוש סימונים בסמוך למוסדות חינוך/נשק וסע | E18: מיידי | F18: 12 | G18: =H18+L18 -> 500000 | H18: =SUM(I18:K18) -> 500000 | I18: 0 | J18: 500000 | K18: 0 | L18: =SUM(M18:O18) -> 0 | M18: 0 | N18: 0 | O18: 0
B19: תשתיות | D19: החלפה ותיקוני גדרות במוסדות חינוך | E19: מיידי | F19: 12 | G19: =H19+L19 -> 1000000 | H19: =SUM(I19:K19) -> 1000000 | I19: 0 | J19: 1000000 | K19: 0 | L19: =SUM(M19:O19) -> 0 | M19: 0 | N19: 0 | O19: 0
B20: תשתיות | D20: החלפה ניקוי מילוי וסינון חול במוס"ח | E20: מיידי | F20: 12 | G20: =H20+L20 -> 1000000 | H20: =SUM(I20:K20) -> 1000000 | I20: 0 | J20: 1000000 | K20: 0 | L20: =SUM(M20:O20) -> 0 | M20: 0 | N20: 0 | O20: 0
B21: תשתיות | D21: החלפת גופי תאורה במוס"ח | E21: מיידי | F21: 12 | G21: =H21+L21 -> 600000 | H21: =SUM(I21:K21) -> 600000 | I21: 0 | J21: 600000 | K21: 0 | L21: =SUM(M21:O21) -> 0 | M21: 0 | N21: 0 | O21: 0
B22: תשתיות | D22: שיפוץ ושדרוג אולמות הספורט במוס"ח | E22: מיידי | F22: 36 | G22: =H22+L22 -> 3800000 | H22: =SUM(I22:K22) -> 3800000 | I22: 1800000 | J22: 2000000 | K22: 0 | L22: =SUM(M22:O22) -> 0 | M22: 0 | N22: 0 | O22: 0
B23: תשתיות | D23: החלפת משטחי חול בגנים לדשא סינטטי | E23: מיידי | F23: 36 | G23: =H23+L23 -> 3000000 | H23: =SUM(I23:K23) -> 3000000 | I23: 0 | J23: 3000000 | K23: 0 | L23: =SUM(M23:O23) -> 0 | M23: 0 | N23: 0 | O23: 0
B24: תשתיות | D24: מיגון מזגנים ומערכות אזעקה | E24: מיידי | F24: 36 | G24: =H24+L24 -> 500000 | H24: =SUM(I24:K24) -> 500000 | I24: 0 | J24: 500000 | K24: 0 | L24: =SUM(M24:O24) -> 0 | M24: 0 | N24: 0 | O24: 0
B25: תשתיות | D25: שיפוץ והתאמות דני ילדים דובדבן | E25: מיידי | F25: 12 | G25: =H25+L25 -> 2000000 | H25: =SUM(I25:K25) -> 2000000 | I25: 0 | J25: 2000000 | K25: 0 | L25: =SUM(M25:O25) -> 0 | M25: 0 | N25: 0 | O25: 0
B26: תשתיות | D26: שיפוץ והתאמות מועדון רש"י ל 2 כיתות גן | E26: מיידי | F26: 12 | G26: =H26+L26 -> 1000000 | H26: =SUM(I26:K26) -> 1000000 | I26: 0 | J26: 1000000 | K26: 0 | L26: =SUM(M26:O26) -> 0 | M26: 0 | N26: 0 | O26: 0
... B28: תשתיות | D28: טיפול בבעיות קרינה במוסדות חינוך | E28: מיידי | F28: 12 | G28: =H28+L28 -> 1000000 | H28: =SUM(I28:K28) -> 1000000 | I28: 0 | J28: 1000000 | K28: 0 | L28: =SUM(M28:O28) -> 0 | M28: 0 | N28: 0 | O28: 0
B30: סה"כ תשתיות | G30: =SUM(G15:G28) -> 20100000 | H30: =SUM(H15:H28) -> 18100000 | I30: =SUM(I15:I28) -> 4300000 | J30: =SUM(J15:J28) -> 13800000 | K30: =SUM(K15:K28) -> 0 | L30: =SUM(L15:L28) -> 2000000 | M30: =SUM(M15:M28) -> 2000000 | N30: =SUM(N15:N28) -> 0 | O30: =SUM(O15:O28) -> 0
B32: הצטיידות | D32: שדרוג מגרשי ספורט והחלפת מתקני ספורט לא בטיחותיים | E32: מיידי | F32: 12 | G32: =H32+L32 -> 1500000 | H32: =SUM(I32:K32) -> 1500000 | I32: 1000000 | J32: 500000 | K32: 0 | L32: =SUM(M32:O32) -> 0 | M32: 0 | N32: 0 | O32: 0
B33: הצטיידות | D33: הצטיידות מוסדות חינוך חדשים | E33: מיידי | F33: 12 | G33: =H33+L33 -> 2000000 | H33: =SUM(I33:K33) -> 2000000 | I33: 500000 | J33: 1500000 | K33: 0 | L33: =SUM(M33:O33) -> 0 | M33: 0 | N33: 0 | O33: 0
B34: הצטיידות | D34: רכישת מתקני מים וקירור למוסדות חינוך | E34: מיידי | F34: 12 | G34: =H34+L34 -> 300000 | H34: =SUM(I34:K34) -> 300000 | I34: 0 | J34: 300000 | K34: 0 | L34: =SUM(M34:O34) -> 0 | M34: 0 | N34: 0 | O34: 0
B35: הצטיידות | D35: מיחשוב כולל תשתיות מוסדות חינוך | E35: מיידי | F35: 12 | G35: =H35+L35 -> 2000000 | H35: =SUM(I35:K35) -> 0 | I35: 0 | J35: 0 | K35: 0 | L35: =SUM(M35:O35) -> 2000000 | M35: 2000000 | N35: 0 | O35: 0
B37: סה"כ הצטיידות | G37: =SUM(G32:G35) -> 5800000 | H37: =SUM(H32:H35) -> 3800000 | I37: =SUM(I32:I35) -> 1500000 | J37: =SUM(J32:J35) -> 2300000 | K37: =SUM(K32:K35) -> 0 | L37: =SUM(L32:L35) -> 2000000 | M37: =SUM(M32:M35) -> 2000000 | N37: =SUM(N32:N35) -> 0 | O37: =SUM(O32:O35) -> 0
B39: מוסדות | D39: שיפוץ מוסדות חינוך | E39: מיידי | F39: 12 | G39: =H39+L39 -> 9000000 | H39: =SUM(I39:K39) -> 9000000 | I39: 8500000 | J39: 500000 | K39: 0 | L39: =SUM(M39:O39) -> 0 | M39: 0 | N39: 0 | O39: 0
B40: מוסדות | D40: שיפוץ מוסדות החינוך המיוחד | E40: מיידי | F40: 36 | G40: =H40+L40 -> 1500000 | H40: =SUM(I40:K40) -> 1500000 | I40: 1500000 | J40: 0 | K40: 0 | L40: =SUM(M40:O40) -> 0 | M40: 0 | N40: 0 | O40: 0
B42: סה"כ מוסדות | G42: =SUM(G39:G39) -> 9000000 | H42: =SUM(H39:H39) -> 9000000 | I42: =SUM(I39:I41) -> 10000000 | J42: =SUM(J39:J39) -> 500000 | K42: =SUM(K39:K39) -> 0 | L42: =SUM(L39:L39) -> 0 | M42: =SUM(M39:M39) -> 0 | N42: =SUM(N39:N39) -> 0 | O42: =SUM(O39:O39) -> 0
D44: סה"כ מינהל החינוך | G44: =G37+G30+G42 -> 34900000 | H44: =H37+H30+H42 -> 30900000 | I44: =I37+I30+I42 -> 15800000 | J44: =J37+J30+J42 -> 16600000 | K44: =K37+K30+K42 -> 0 | L44: =L37+L30+L42 -> 4000000 | M44: =M37+M30+M42 -> 4000000 | N44: =N37+N30+N42 -> 0 | O44: =O37+O30+O42 -> 0

Sheet אגף מינהל לוגיסטיקה
A7: תוכנית פיתוח לשנים 2018-2020
B10: תחום | C10: מספר | D10: שם הפרויקט | E10: מועד התחלת | F10: משך ביצוע | G10: סה"כ | H10: סה"כ מקורות מימון מובטחים או אפשריים
C11: תב"ר | E11: ביצוע | F11: ביצוע | G11: עלות מוערכת | H11: סה"כ השתתפות | I11: השתתפות הרשות בפריסה שנתית | L11: סה"כ גורמים | M11: מימון גורמים חיצונים בפריסה שנתית
E12: (בפועל או מתוכנן) | F12: (בחודשים) | G12: של הפרויקט | H12: הרשות | I12: 2018 | J12: 2019 | K12: 2020 | L12: חיצוניים | M12: 2018 | N12: 2019 | O12: 2020
D14: מנהל לוגיסטיקה וחירום
A16: כללי | B16: מוסדות | D16: התקנת מערכות ט.מ.ס | E16: מיידי | F16: 12 | G16: =H16+L16 -> 1000000 | H16: =SUM(I16:K16) -> 1000000 | I16: 0 | J16: 1000000 | K16: 0 | L16: =SUM(M16:O16) -> 0 | M16: 0 | N16: 0 | O16: 0
A17: כללי | B17: מוסדות | D17: רכישת מערכות קשר בחירום | E17: מיידי | F17: 36 | G17: =H17+L17 -> 720000 | H17: =SUM(I17:K17) -> 720000 | I17: 0 | J17: 720000 | K17: 0 | L17: =SUM(M17:O17) -> 0 | M17: 0 | N17: 0 | O17: 0
A18: כללי | B18: מוסדות | D18: התקנת תקני כיבוי אש במוסדות חינוך- בטיחות | E18: מיידי | F18: 12 | G18: =H18+L18 -> 17000000 | H18: =SUM(I18:K18) -> 17000000 | I18: 5000000 | J18: =9000000+3000000 -> 12000000 | K18: 0 | L18: =SUM(M18:O18) -> 0 | M18: 0 | N18: 0 | O18: 0
A19: כללי | B19: מוסדות | D19: הערכות לפתיחת שנת הלימודים בגני ילדים חדשים (התקנת מערכות ט.מ.ס + בטיחות +אזעקה) | E19: מיידי | F19: 12 | G19: =H19+L19 -> 2500000 | H19: =SUM(I19:K19) -> 2500000 | I19: 0 | J19: 2500000 | K19: 0 | L19: =SUM(M19:O19) -> 0 | M19: 0 | N19: 0 | O19: 0
A20: מוסדות | B20: מוסדות | C20: 1160 | D20: שיפוץ מוסדות העירייה (משאבי אנוש מינהל כספים והנדסה) | E20: מיידי | F20: 12 | G20: =H20+L20 -> 15000000 | H20: =SUM(I20:K20) -> 15000000 | I20: 4000000 | J20: 11000000 | K20: 0 | L20: =SUM(M20:O20) -> 0 | M20: 0 | N20: 0 | O20: 0
B21: מוסדות | D21: רכישת גנרטור חירום למתחם יעלים | E21: מיידי | F21: 12 | G21: =H21+L21 -> 360000 | H21: =SUM(I21:K21) -> 360000 | I21: 0 | J21: 360000 | K21: 0 | L21: =SUM(M21:O21) -> 0 | M21: 0 | N21: 0 | O21: 0
B23: סה"כ מוסדות | G23: =SUM(G16:G21) -> 36580000 | H23: =SUM(H16:H21) -> 36580000 | I23: =SUM(I16:I21) -> 9000000 | J23: =SUM(J16:J21) -> 27580000 | K23: =SUM(K16:K21) -> 0 | L23: =SUM(L16:L21) -> 0 | M23: =SUM(M16:M21) -> 0 | N23: =SUM(N16:N21) -> 0 | O23: =SUM(O16:O21) -> 0
D25: סה"כ מנהל לוגיסטיקה וחירום | G25: =G23 -> 36580000 | H25: =H23 -> 36580000 | I25: =I23 -> 9000000 | J25: =J23 -> 27580000 | K25: =K23 -> 0 | L25: =L23 -> 0 | M25: =M23 -> 0 | N25: =N23 -> 0 | O25: =O23 -> 0

Sheet אגף הפיקוח
A7: תוכנית פיתוח לשנים 2018-2020
A10: תחום | B10: מספר | C10: שם הפרויקט | D10: מועד התחלת | E10: משך ביצוע | F10: סה"כ | G10: סה"כ מקורות מימון מובטחים או אפשריים
B11: תב"ר | D11: ביצוע | E11: ביצוע | F11: עלות מוערכת | G11: סה"כ השתתפות | H11: השתתפות הרשות בפריסה שנתית | K11: סה"כ גורמים | L11: מימון גורמים חיצונים בפריסה שנתית
D12: (בפועל או מתוכנן) | E12: (בחודשים) | F12: של הפרויקט | G12: הרשות | H12: 2018 | I12: 2019 | J12: 2020 | K12: חיצוניים | L12: 2018 | M12: 2019 | N12: 2020
C14: אגף הפיקוח
A16: כללי | C16: הקמת נקודת שיטור ופיקוח בשכונות העיר | D16: בתכנון | E16: 12 | F16: =G16+K16 -> 1500000 | G16: =SUM(H16:J16) -> 1500000 | H16: 0 | I16: 1500000 | J16: 0 | K16: =SUM(L16:N16) -> 0 | L16: 0 | M16: 0 | N16: 0
A17: כללי | C17: הקמת מרכז שירות אחוד | D17: בתכנון | E17: 12 | F17: =G17+K17 -> 100000 | G17: =SUM(H17:J17) -> 100000 | H17: 0 | I17: 100000 | J17: 0 | K17: =SUM(L17:N17) -> 0 | L17: 0 | M17: 0 | N17: 0
A18: כללי | C18: רכישת 8-10 קלנועיות עבור ייעול פעילות סיורי מניעה ואכיפה בחניונים ובפארקים | D18: מיידי | E18: 12 | F18: =G18+K18 -> 150000 | G18: =SUM(H18:J18) -> 150000 | H18: 0 | I18: 150000 | J18: 0 | K18: =SUM(L18:N18) -> 0 | L18: 0 | M18: 0 | N18: 0
A19: כללי | C19: הסדרת חניות ברחבי העיר | D19: מיידי | E19: 12 | F19: =G19+K19 -> 1000000 | G19: =SUM(H19:J19) -> 1000000 | H19: 1000000 | I19: 0 | J19: 0 | K19: =SUM(L19:N19) -> 0 | L19: 0 | M19: 0 | N19: 0
C21: סה"כ אגף הפיקוח | F21: =SUM(F16:F20) -> 2750000 | G21: =SUM(G16:G20) -> 2750000 | H21: =SUM(H16:H20) -> 1000000 | I21: =SUM(I16:I20) -> 1750000 | J21: =SUM(J16:J20) -> 0 | K21: =SUM(K16:K20) -> 0 | L21: =SUM(L16:L20) -> 0 | M21: =SUM(M16:M20) -> 0 | N21: =SUM(N16:N20) -> 0

Sheet אגף לאיכות הסביבה
A6: תוכנית פיתוח לשנים 2018-2020
A10: תחום | B10: מספר | C10: שם הפרויקט | D10: מועד התחלת | E10: משך ביצוע | F10: סה"כ | G10: סה"כ מקורות מימון מובטחים או אפשריים
B11: תב"ר | D11: ביצוע | E11: ביצוע | F11: עלות מוערכת | G11: סה"כ השתתפות | H11: השתתפות הרשות בפריסה שנתית | K11: סה"כ גורמים | L11: מימון גורמים חיצונים בפריסה שנתית
D12: (בפועל או מתוכנן) | E12: (בחודשים) | F12: של הפרויקט | G12: הרשות | H12: 2018 | I12: 2019 | J12: 2020 | K12: חיצוניים | L12: 2018 | M12: 2019 | N12: 2020
C14: האגף לאיכות הסביבה
A16: ניקיון | C16: רכישת טמונים | D16: מיידי | E16: 36 | F16: =G16+K16 -> 15000000 | G16: =SUM(H16:J16) -> 15000000 | H16: 4000000 | I16: =5000000+500000 -> 5500000 | J16: =5000000+500000 -> 5500000 | K16: =SUM(L16:N16) -> 0 | L16: 0 | M16: 0 | N16: 0
A17: ניקיון | C17: חידוש כלי אצירה | D17: מיידי | E17: 36 | F17: =G17+K17 -> 1200000 | G17: =SUM(H17:J17) -> 1200000 | H17: 0 | I17: 600000 | J17: 600000 | K17: =SUM(L17:N17) -> 0 | L17: 0 | M17: 0 | N17: 0
A18: ניקיון | C18: רכישת מכולות רמסע | D18: מיידי | E18: 12 | F18: =G18+K18 -> 400000 | G18: =SUM(H18:J18) -> 400000 | H18: 0 | I18: 400000 | J18: 0 | K18: =SUM(L18:N18) -> 0 | L18: 0 | M18: 0 | N18: 0
A20: סה"כ ניקיון | F20: =SUM(F16:F18) -> 16600000 | G20: =SUM(G16:G18) -> 16600000 | H20: =SUM(H16:H18) -> 4000000 | I20: =SUM(I16:I18) -> 6500000 | J20: =SUM(J16:J18) -> 6100000 | K20: =SUM(K16:K18) -> 0 | L20: =SUM(L16:L18) -> 0 | M20: =SUM(M16:M18) -> 0 | N20: =SUM(N16:N18) -> 0
A22: בעלי חיים | C22: תכנון קרית בעלי חיים | D22: מיידי | E22: 24 | F22: =G22+K22 -> 250000 | G22: =SUM(H22:J22) -> 250000 | H22: 0 | I22: 150000 | J22: 100000 | K22: =SUM(L22:N22) -> 0 | L22: 0 | M22: 0 | N22: 0
A23: בעלי חיים | C23: שיפוץ תחנת הסגר | D23: מיידי | E23: 36 | F23: =G23+K23 -> 300000 | G23: =SUM(H23:J23) -> 300000 | H23: 0 | I23: 150000 | J23: 150000 | K23: =SUM(L23:N23) -> 0 | L23: 0 | M23: 0 | N23: 0
A24: סה"כ בעלי חיים | F24: =SUM(F22:F23) -> 550000 | G24: =SUM(G22:G23) -> 550000 | H24: =SUM(H22:H23) -> 0 | I24: =SUM(I22:I23) -> 300000 | J24: =SUM(J22:J23) -> 250000 | K24: =SUM(K22:K22) -> 0 | L24: =SUM(L22:L22) -> 0 | M24: =SUM(M22:M22) -> 0 | N24: =SUM(N22:N22) -> 0
C26: סה"כ אגף איכות הסביבה | F26: =F20+F24 -> 17150000 | G26: =G20+G24 -> 17150000 | H26: =H20+H24 -> 4000000 | I26: =I20+I24 -> 6800000 | J26: =J20+J24 -> 6350000 | K26: =K20+K24 -> 0 | L26: =L20+L24 -> 0 | M26: =M20+M24 -> 0 | N26: =N20+N24 -> 0

Sheet אגף הרווחה
A6: תוכנית פיתוח לשנים 2018-2020
A10: תחום | B10: מספר | C10: שם הפרויקט | D10: מועד התחלת | E10: משך ביצוע | F10: סה"כ | G10: סה"כ מקורות מימון מובטחים או אפשריים
B11: תב"ר | D11: ביצוע | E11: ביצוע | F11: עלות מוערכת | G11: סה"כ השתתפות | H11: השתתפות הרשות בפריסה שנתית | K11: סה"כ גורמים | L11: מימון גורמים חיצונים בפריסה שנתית
D12: (בפועל או מתוכנן) | E12: (בחודשים) | F12: של הפרויקט | G12: הרשות | H12: 2018 | I12: 2019 | J12: 2020 | K12: חיצוניים | L12: 2018 | M12: 2019 | N12: 2020
C14: אגף הרווחה
A16: מוסדות | C16: בניית מעון יום שיקומי לגיל הרך | D16: מיידי | E16: 12 | F16: =G16+K16 -> 6300000 | G16: =SUM(H16:J16) -> 0 | H16: 0 | I16: 0 | J16: 0 | K16: =SUM(L16:N16) -> 6300000 | L16: =2450000+3850000 -> 6300000 | M16: 0 | N16: 0
A17: מוסדות | C17: שיפוץ, הרחבה והצטיידות מבנה בית העיוור | D17: מיידי | E17: 12 | F17: =G17+K17 -> 3062500 | G17: =SUM(H17:J17) -> 612500 | H17: 0 | I17: 612500 | J17: 0 | K17: =SUM(L17:N17) -> 2450000 | L17: 2450000 | M17: 0 | N17: 0
A18: הצטיידות | C18: הצטיידות מרכז חוסן | D18: מיידי | E18: 12 | F18: =G18+K18 -> 150000 | G18: =SUM(H18:J18) -> 0 | H18: 0 | I18: 0 | J18: 0 | K18: =SUM(L18:N18) -> 150000 | L18: 150000 | M18: 0 | N18: 0
A19: הצטיידות | C19: הצטיידות עבור בית למשפחות מיוחדות | D19: מיידי | E19: 12 | F19: =G19+K19 -> 100000 | G19: =SUM(H19:J19) -> 100000 | H19: 0 | I19: 100000 | J19: 0 | K19: =SUM(L19:N19) -> 0 | L19: 0 | M19: 0 | N19: 0
A20: מוסדות | C20: שיפוץ והצטיידות בית חם לנערות בשכונה ד' | D20: מיידי | E20: 12 | F20: =G20+K20 -> 400000 | G20: =SUM(H20:J20) -> 400000 | H20: 0 | I20: 400000 | J20: 0 | K20: =SUM(L20:N20) -> 0 | L20: 0 | M20: 0 | N20: 0
A21: הצטיידות | C21: סריקת תיקי מטופלים במסגרת מעבר לתיק לקוח ממוחשב | D21: מיידי | E21: 12 | F21: =G21+K21 -> 500000 | G21: =SUM(H21:J21) -> 500000 | H21: 0 | I21: 500000 | J21: 0 | K21: =SUM(L21:N21) -> 0 | L21: 0 | M21: 0 | N21: 0
A22: הצטיידות | C22: מיחשוב אגף הרווחה | D22: מיידי | E22: 12 | F22: =G22+K22 -> 500000 | G22: =SUM(H22:J22) -> 500000 | H22: 500000 | I22: 0 | J22: 0 | K22: =SUM(L22:N22) -> 0 | L22: 0 | M22: 0 | N22: 0
C24: סה"כ אגף הרווחה | F24: =SUM(F16:F23) -> 11012500 | G24: =SUM(G16:G23) -> 2112500 | H24: =SUM(H16:H23) -> 500000 | I24: =SUM(I16:I23) -> 1612500 | J24: =SUM(J16:J23) -> 0 | K24: =SUM(K16:K23) -> 8900000 | L24: =SUM(L16:L23) -> 8900000 | M24: =SUM(M23:M23) -> 0 | N24: =SUM(N23:N23) -> 0

Sheet אגף אחזקה
A6: תוכנית פיתוח לשנים 2018-2020
A10: תחום | B10: מספר | C10: שם הפרויקט | D10: מועד התחלת | E10: משך ביצוע | F10: סה"כ | G10: סה"כ מקורות מימון מובטחים או אפשריים
B11: תב"ר | D11: ביצוע | E11: ביצוע | F11: עלות מוערכת | G11: סה"כ השתתפות | H11: השתתפות הרשות בפריסה שנתית | K11: סה"כ גורמים | L11: מימון גורמים חיצונים בפריסה שנתית
D12: (בפועל או מתוכנן) | E12: (בחודשים) | F12: של הפרויקט | G12: הרשות | H12: 2018 | I12: 2019 | J12: 2020 | K12: חיצוניים | L12: 2018 | M12: 2019 | N12: 2020
C14: אגף אחזקה
A16: תשתיות | C16: סימון כבישים + התקני בטיחות | D16: מיידי | E16: 36 | F16: =G16+K16 -> 2500000 | G16: =SUM(H16:J16) -> 2500000 | H16: 1000000 | I16: 1500000 | J16: 0 | K16: =SUM(L16:N16) -> 0 | L16: 0 | M16: 0 | N16: 0
A17: תשתיות | C17: אחזקת כבישים ומדרכות | D17: מיידי | E17: 36 | F17: =G17+K17 -> 3000000 | G17: =SUM(H17:J17) -> 3000000 | H17: 3000000 | I17: 0 | J17: 0 | K17: =SUM(L17:N17) -> 0 | L17: 0 | M17: 0 | N17: 0
A18: חזות העיר | C18: שיפור ושדרוג המרחב הציבורי | D18: מיידי | E18: 36 | F18: =G18+K18 -> 2000000 | G18: =SUM(H18:J18) -> 2000000 | H18: 2000000 | I18: 0 | J18: 0 | K18: =SUM(L18:N18) -> 0 | L18: 0 | M18: 0 | N18: 0
A19: תשתיות | C19: שיקום ושדרוג מזרקות ומצגי מים | D19: מיידי | E19: 36 | F19: =G19+K19 -> 4500000 | G19: =SUM(H19:J19) -> 4500000 | H19: 1000000 | I19: =1500000+500000 -> 2000000 | J19: 1500000 | K19: =SUM(L19:N19) -> 0 | L19: 0 | M19: 0 | N19: 0
A20: חזות העיר | C20: רכישת ספסלים ואשפתונים | D20: מיידי | E20: 36 | F20: =G20+K20 -> 1000000 | G20: =SUM(H20:J20) -> 1000000 | H20: 800000 | I20: 200000 | J20: 0 | K20: =SUM(L20:N20) -> 0 | L20: 0 | M20: 0 | N20: 0
A21: חזות העיר | C21: תמרורים סולאריים | D21: מיידי | E21: 36 | F21: =G21+K21 -> 150000 | G21: =SUM(H21:J21) -> 150000 | H21: 0 | I21: 150000 | J21: 0 | K21: =SUM(L21:N21) -> 0 | L21: 0 | M21: 0 | N21: 0
C23: סה"כ אגף אחזקה | F23: =SUM(F16:F22) -> 13150000 | G23: =SUM(G16:G22) -> 13150000 | H23: =SUM(H16:H22) -> 7800000 | I23: =SUM(I16:I22) -> 3850000 | J23: =SUM(J16:J22) -> 1500000 | K23: =SUM(K16:K22) -> 0 | L23: =SUM(L16:L22) -> 0 | M23: =SUM(M16:M22) -> 0 | N23: =SUM(N16:N22) -> 0

Sheet מערכות מידע
A6: תוכנית פיתוח לשנים 2018-2020
A9: תחום | B9: מספר | C9: שם הפרויקט | D9: מועד התחלת | E9: משך ביצוע | F9: סה"כ | G9: סה"כ מקורות מימון מובטחים או אפשריים
B10: תב"ר | D10: ביצוע | E10: ביצוע | F10: עלות מוערכת | G10: סה"כ השתתפות | H10: השתתפות הרשות בפריסה שנתית | K10: סה"כ גורמים | L10: מימון גורמים חיצונים בפריסה שנתית
D11: (בפועל או מתוכנן) | E11: (בחודשים) | F11: של הפרויקט | G11: הרשות | H11: 2018 | I11: 2019 | J11: 2020 | K11: חיצוניים | L11: 2018 | M11: 2019 | N11: 2020
C13: חדשנות תקשורת ומערכות מידע
A15: חדשנות תקשורת ומערכות מידע | B15: 1181 | C15: הקמת רשת אלחוטית באתרי העירייה | D15: מיידי | E15: 12 | F15: =G15+K15 -> 700000 | G15: =SUM(H15:J15) -> 700000 | H15: 0 | I15: 700000 | J15: 0 | K15: =SUM(L15:N15) -> 0 | L15: 0 | M15: 0 | N15: 0
A16: חדשנות תקשורת ומערכות מידע | B16: 1181 | C16: החלפת מרכזית הטלפוניה במוקד | D16: מיידי | E16: 12 | F16: =G16+K16 -> 400000 | G16: =SUM(H16:J16) -> 400000 | H16: 0 | I16: 400000 | J16: 0 | K16: =SUM(L16:N16) -> 0 | L16: 0 | M16: 0 | N16: 0
A17: חדשנות תקשורת ומערכות מידע | B17: 1181 | C17: רכישת מערכת help desk | D17: מיידי | E17: 12 | F17: =G17+K17 -> 100000 | G17: =SUM(H17:J17) -> 100000 | H17: 0 | I17: 100000 | J17: 0 | K17: =SUM(L17:N17) -> 0 | L17: 0 | M17: 0 | N17: 0
A18: חדשנות תקשורת ומערכות מידע | B18: 1181 | C18: שדרוג מרכזיה לגרסת breeze | D18: מיידי | E18: 12 | F18: =G18+K18 -> 200000 | G18: =SUM(H18:J18) -> 200000 | H18: 0 | I18: 200000 | J18: 0 | K18: =SUM(L18:N18) -> 0 | L18: 0 | M18: 0 | N18: 0
A19: חדשנות תקשורת ומערכות מידע | B19: 1181 | C19: החלפת יחידות ניתוב מרכזיות | D19: מיידי | E19: 12 | F19: =G19+K19 -> 105000 | G19: =SUM(H19:J19) -> 105000 | H19: 0 | I19: 105000 | J19: 0 | K19: =SUM(L19:N19) -> 0 | L19: 0 | M19: 0 | N19: 0
A20: רכישת מערכות הגנה | B20: 1184 | C20: פרויקט ifn משאבי אנוש | D20: מיידי | E20: 12 | F20: =G20+K20 -> 157000 | G20: =SUM(H20:J20) -> 157000 | H20: 0 | I20: 157000 | J20: 0 | K20: =SUM(L20:N20) -> 0 | L20: 0 | M20: 0 | N20: 0
A21: שדרוג מערכות מחשוב | B21: 1193 | C21: החלפת מתגי ליבה לרשת הארגון 1/3 מהמצאי | D21: מיידי | E21: 12 | F21: =G21+K21 -> 500000 | G21: =SUM(H21:J21) -> 500000 | H21: 0 | I21: 500000 | J21: 0 | K21: =SUM(L21:N21) -> 0 | L21: 0 | M21: 0 | N21: 0
A22: שדרוג מערכות מחשוב | B22: 1193 | C22: רכישת ציוד קצה (חומרה) למשתמשים ופיתוח מערכות ERP | D22: מיידי | E22: 12 | F22: =G22+K22 -> 600000 | G22: =SUM(H22:J22) -> 600000 | H22: 500000 | I22: 100000 | J22: 0 | K22: =SUM(L22:N22) -> 0 | L22: 0 | M22: 0 | N22: 0
A23: שדרוג מערכות מחשוב | B23: 1193 | C23: ממשק מרכזיה crm במסגרת קול קורא ישראל דיגיטלית | D23: מיידי | E23: 12 | F23: =G23+K23 -> 100000 | G23: =SUM(H23:J23) -> 40000 | H23: 0 | I23: 40000 | J23: 0 | K23: 60000 | L23: 0 | M23: 0 | N23: 0
A24: שדרוג מערכות מחשוב | B24: 1193 | C24: מערכת ניהול פרויקטים מקושרת תקציב | D24: מיידי | E24: 12 | F24: =G24+K24 -> 100000 | G24: =SUM(H24:J24) -> 60000 | H24: 0 | I24: 60000 | J24: 0 | K24: 40000 | L24: =M24+Q24 -> 0 | M24: =N24+R24 -> 0 | N24: =O24+S24 -> 0
A25: שדרוג מערכות מחשוב | B25: 1193 | C25: שדרוג תוכנתי לסביבת crm לגרסה עדכנית | D25: מיידי | E25: 12 | F25: =G25+K25 -> 350000 | G25: =SUM(H25:J25) -> 350000 | H25: 0 | I25: 350000 | J25: 0 | K25: =SUM(L25:N25) -> 0 | L25: 0 | M25: 0 | N25: 0
A26: שדרוג מערכות מחשוב | B26: 1193 | C26: שדרוג תשתית crm והגדלת שרידות | D26: מיידי | E26: 12 | F26: =G26+K26 -> 100000 | G26: =SUM(H26:J26) -> 100000 | H26: 0 | I26: 100000 | J26: 0 | K26: =SUM(L26:N26) -> 0 | L26: 0 | M26: 0 | N26: 0
A27: שדרוג מערכות מחשוב | B27: 1193 | C27: שדרוג מערכת סייעות | D27: מיידי | E27: 12 | F27: =G27+K27 -> 150000 | G27: =SUM(H27:J27) -> 150000 | H27: 0 | I27: 150000 | J27: 0 | K27: =SUM(L27:N27) -> 0 | L27: 0 | M27: 0 | N27: 0
A28: שדרוג מערכות מחשוב | B28: 1193 | C28: יועץ למערכת שכר | D28: מיידי | E28: 12 | F28: =G28+K28 -> 210000 | G28: =SUM(H28:J28) -> 210000 | H28: 0 | I28: 210000 | J28: 0 | K28: =SUM(L28:N28) -> 0 | L28: 0 | M28: 0 | N28: 0
A29: רכישת ציוד | B29: 1170 | C29: רכש טלפונים ניידים עובדי שטח בלבד | D29: מיידי | E29: 12 | F29: =G29+K29 -> 200000 | G29: =SUM(H29:J29) -> 200000 | H29: 0 | I29: 200000 | J29: 0 | K29: =SUM(L29:N29) -> 0 | L29: 0 | M29: 0 | N29: 0
A30: תכנון שרותי ייעוץ | B30: 1173 | C30: ייעוץ תבר | D30: מיידי | E30: 12 | F30: =G30+K30 -> 100000 | G30: =SUM(H30:J30) -> 100000 | H30: 0 | I30: 100000 | J30: 0 | K30: =SUM(L30:N30) -> 0 | L30: 0 | M30: 0 | N30: 0
C32: סה"כ חדשנות תקשורת ומערכות מידע | F32: =SUM(F15:F30) -> 4072000 | G32: =SUM(G15:G30) -> 3972000 | H32: =SUM(H15:H30) -> 500000 | I32: =SUM(I15:I30) -> 3472000 | J32: =SUM(J15:J30) -> 0 | K32: =SUM(K15:K30) -> 100000 | L32: =SUM(L15:L30) -> 0 | M32: =SUM(M15:M30) -> 0 | N32: =SUM(N15:N30) -> 0

Sheet חברות בת - כיוונים
B7: תוכנית פיתוח לשנים 2018-2020
B10: תחום | C10: מספר | D10: שם הפרויקט | E10: מועד התחלת | F10: משך ביצוע | G10: סה"כ | H10: סה"כ מקורות מימון מובטחים או אפשריים
A11: סטטוס | C11: תב"ר | E11: ביצוע | F11: ביצוע | G11: עלות מוערכת | H11: סה"כ השתתפות | I11: השתתפות הרשות בפריסה שנתית | L11: סה"כ גורמים | M11: מימון גורמים חיצונים בפריסה שנתית
E12: (בפועל או מתוכנן) | F12: (בחודשים) | G12: של הפרויקט | H12: הרשות | I12: 2018 | J12: 2019 | K12: 2020 | L12: חיצוניים | M12: 2018 | N12: 2019 | O12: 2020
D14: חברת כיוונים
B16: מוסדות כיוונים | D16: הצטיידות מתנ"ס חרדי | E16: מיידי | F16: 12 | G16: =H16+L16 -> 300000 | H16: =SUM(I16:K16) -> 300000 | I16: 0 | J16: 300000 | K16: 0 | L16: =SUM(M16:O16) -> 0 | M16: 0 | N16: 0 | O16: 0
B17: מוסדות כיוונים | D17: הצטיידות מתנ"ס נחל בקע | E17: מיידי | F17: 12 | G17: =H17+L17 -> 813000 | H17: =SUM(I17:K17) -> 813000 | I17: 813000 | J17: 0 | K17: 0 | L17: =SUM(M17:O17) -> 0 | M17: 0 | N17: 0 | O17: 0
B18: מוסדות כיוונים | D18: הצטיידות בית למחול | E18: מיידי | F18: 12 | G18: =H18+L18 -> 250000 | H18: =SUM(I18:K18) -> 250000 | I18: 250000 | J18: 0 | K18: 0 | L18: =SUM(M18:O18) -> 0 | M18: 0 | N18: 0 | O18: 0
B19: מוסדות כיוונים | D19: הצטיידות מעון יום רח' רוזנבלום | E19: מיידי | F19: 12 | G19: =H19+L19 -> 500000 | H19: =SUM(I19:K19) -> 500000 | I19: 500000 | J19: 0 | K19: 0 | L19: =SUM(M19:O19) -> 0 | M19: 0 | N19: 0 | O19: 0
B20: מוסדות כיוונים | D20: הצטיידות מעון יום רח' העלייה | E20: מיידי | F20: 12 | G20: =H20+L20 -> 500000 | H20: =SUM(I20:K20) -> 500000 | I20: 500000 | J20: 0 | K20: 0 | L20: =SUM(M20:O20) -> 0 | M20: 0 | N20: 0 | O20: 0
B21: מוסדות כיוונים | D21: הצטיידות הגג בטרנר | E21: מיידי | F21: 12 | G21: =H21+L21 -> 200000 | H21: =SUM(I21:K21) -> 200000 | I21: 200000 | J21: 0 | K21: 0 | L21: =SUM(M21:O21) -> 0 | M21: 0 | N21: 0 | O21: 0
B22: מוסדות כיוונים | D22: הצטיידות מרכז לגיל הרך פלח 5 | E22: מיידי | F22: 12 | G22: =H22+L22 -> 300000 | H22: =SUM(I22:K22) -> 300000 | I22: 0 | J22: 300000 | K22: 0 | L22: =SUM(M22:O22) -> 0 | M22: 0 | N22: 0 | O22: 0
B23: מוסדות כיוונים | D23: הצטיידות אולם ספורט נווה נוי | E23: מיידי | F23: 12 | G23: =H23+L23 -> 245000 | H23: =SUM(I23:K23) -> 245000 | I23: 245000 | J23: 0 | K23: 0 | L23: =SUM(M23:O23) -> 0 | M23: 0 | N23: 0 | O23: 0
B24: מוסדות כיוונים | D24: הצטיידות צלמניה | E24: מיידי | F24: 12 | G24: =H24+L24 -> 173000 | H24: =SUM(I24:K24) -> 173000 | I24: 173000 | J24: 0 | K24: 0 | L24: =SUM(M24:O24) -> 0 | M24: 0 | N24: 0 | O24: 0
B25: מוסדות כיוונים | D25: הצטיידות מרכז התחלות 60 + | E25: מיידי | F25: 12 | G25: =H25+L25 -> 200000 | H25: =SUM(I25:K25) -> 200000 | I25: 0 | J25: 200000 | K25: 0 | L25: =SUM(M25:O25) -> 0 | M25: 0 | N25: 0 | O25: 0
B26: מוסדות כיוונים | D26: הצטיידות ספורטק | E26: מיידי | F26: 12 | G26: =H26+L26 -> 1300000 | H26: =SUM(I26:K26) -> 1300000 | I26: =1300000-86000 -> 1214000 | J26: 86000 | K26: 0 | L26: =SUM(M26:O26) -> 0 | M26: 0 | N26: 0 | O26: 0
B27: מוסדות כיוונים | D27: הצטיידות מגרש בן גוריון | E27: מיידי | F27: 12 | G27: =H27+L27 -> 20000 | H27: =SUM(I27:K27) -> 20000 | I27: 20000 | J27: 0 | K27: 0 | L27: =SUM(M27:O27) -> 0 | M27: 0 | N27: 0 | O27: 0
B28: מוסדות כיוונים | D28: הצטיידות אולם ספורט רמות | E28: מיידי | F28: 12 | G28: =H28+L28 -> 85000 | H28: =SUM(I28:K28) -> 85000 | I28: 85000 | J28: 0 | K28: 0 | L28: =SUM(M28:O28) -> 0 | M28: 0 | N28: 0 | O28: 0
D30: סה"כ חברת כיוונים | G30: =SUM(G16:G29) -> 4886000 | H30: =SUM(H16:H29) -> 4886000 | I30: =SUM(I16:I29) -> 4000000 | J30: =SUM(J16:J29) -> 886000 | K30: =SUM(K16:K29) -> 0 | L30: =SUM(L16:L28) -> 0 | M30: =SUM(M16:M29) -> 0 | N30: =SUM(N16:N29) -> 0 | O30: =SUM(O16:O29) -> 0

Sheet יעדים וחכל
B7: תוכנית פיתוח לשנים 2018-2020
B10: תחום | C10: מספר | D10: שם הפרויקט | E10: מועד התחלת | F10: משך ביצוע | G10: סה"כ | H10: סה"כ מקורות מימון מובטחים או אפשריים
A11: סטטוס | C11: תב"ר | E11: ביצוע | F11: ביצוע | G11: עלות מוערכת | H11: סה"כ השתתפות | I11: השתתפות הרשות בפריסה שנתית | L11: סה"כ גורמים | M11: מימון גורמים חיצונים בפריסה שנתית
E12: (בפועל או מתוכנן) | F12: (בחודשים) | G12: של הפרויקט | H12: הרשות | I12: 2018 | J12: 2019 | K12: 2020 | L12: חיצוניים | M12: 2018 | N12: 2019 | O12: 2020
D13: חברת יעדים
B15: שווקים עירוניים | D15: עבודות בטיחות בשוק העירוני | E15: מיידי | F15: 12 | G15: =H15+L15 -> 500000 | H15: =SUM(I15:K15) -> 500000 | I15: 0 | J15: 500000 | K15: 0 | L15: =SUM(M15:O15) -> 0 | M15: 0 | N15: 0 | O15: 0
B16: אזורי תעשייה | D16: שילוט מכתשים צפון | E16: מיידי | F16: 12 | G16: =H16+L16 -> 150000 | H16: =SUM(I16:K16) -> 150000 | I16: 0 | J16: 150000 | K16: 0 | L16: =SUM(M16:O16) -> 0 | M16: 0 | N16: 0 | O16: 0
B17: אזורי תעשייה | D17: פנחס החוצב עתירות יידע ומכתשים צפון | E17: מיידי | F17: 12 | G17: =H17+L17 -> 27180000 | H17: =SUM(I17:K17) -> 150000 | I17: 0 | J17: 150000 | K17: 0 | L17: =SUM(M17:O17) -> 27030000 | M17: 7330000 | N17: 19700000 | O17: 0
D19: סה"כ חברת יעדים | G19: =SUM(G15:G18) -> 27830000 | H19: =SUM(H15:H18) -> 800000 | I19: =SUM(I15:I18) -> 0 | J19: =SUM(J15:J18) -> 800000 | K19: =SUM(K15:K18) -> 0 | L19: =SUM(L15:L18) -> 27030000 | M19: =SUM(M15:M18) -> 7330000 | N19: =SUM(N15:N18) -> 19700000 | O19: =SUM(O15:O18) -> 0
D21: החברה הכלכלית
B23: באר אברהם ומתחם הקטר | D23: התאמות נגישות ובטיחות | E23: מיידי | F23: 12 | G23: =H23+L23 -> 650000 | H23: =SUM(I23:K23) -> 650000 | I23: 0 | J23: 650000 | K23: 0 | L23: =SUM(M23:O23) -> 0 | M23: 0 | N23: 0 | O23: 0
B24: עיר עתיקה | D24: הגברת תאורה ברחובות העיר העתיקה | E24: מיידי | F24: 12 | G24: =H24+L24 -> 450000 | H24: =SUM(I24:K24) -> 450000 | I24: 0 | J24: 450000 | K24: 0 | L24: =SUM(M24:O24) -> 0 | M24: 0 | N24: 0 | O24: 0
D26: סה"כ חברה כלכלית | G26: =SUM(G23:G25) -> 1100000 | H26: =SUM(H23:H25) -> 1100000 | I26: =SUM(I23:I25) -> 0 | J26: =SUM(J23:J25) -> 1100000 | K26: =SUM(K23:K25) -> 0 | L26: =SUM(L23:L25) -> 0 | M26: =SUM(M23:M25) -> 0 | N26: =SUM(N23:N25) -> 0 | O26: =SUM(O23:O25) -> 0

Sheet הסכמי גג
A6: תוכנית פיתוח לשנים 2015-2019
A8: הסכמי הגג
A11: תחום | B11: אחראי | C11: תב"ר | D11: שם הפרוייקט | E11: מועד התחלת | F11: סה"כ עלות מוערכת | G11: סה"כ מימון | H11: סה"כ מקורות מימון מובטחים או אפשריים
E12: לביצוע | F12: של הפרויקט | G12: גורמים | H12: מימון גורמים חיצוניים בפריסה שנתית
E13: (בפועל או מתוכנן) | G13: חיצוניים | H13: תקציב קיים 2015-2017 | I13: 2018 | J13: 2019 | K13: 2020
A15: תשתיות על
A17: תשתיות | B17: מנהלת | C17: 8300 | D17: מובל ניקוז משד' בן גוריון עד וינגייט | E17: לביצוע | F17: =SUM(H17:K17) -> 35300000 | G17: =SUM(H17:K17) -> 35300000 | H17: 12861875 | I17: 10000000 | J17: 12438125 | K17: 0
A18: תשתיות | B18: חכ"ל | C18: 8305 | D18: סלילת רח' אפיקים בנגב | E18: לביצוע | F18: =SUM(H18:K18) -> 21630000 | G18: =SUM(H18:K18) -> 21630000 | H18: 4500000 | I18: 3053000 | J18: 10000000 | K18: 4077000
A19: תשתיות | B19: מנהלת | C19: 8306 | D19: שינוי חתך בשד' בן גוריון | E19: לביצוע | F19: =SUM(H19:K19) -> 46479527 | G19: =SUM(H19:K19) -> 46479527 | H19: 19000000 | I19: 10000000 | J19: 17479527 | K19: 0
A20: תשתיות | B20: חכ"ל | C20: 8309 | D20: עבודות פיתוח ותשתיות בשד' טוביהו מקטעים א'-ד' | E20: לתכנון | F20: =SUM(H20:K20) -> 68000000 | G20: =SUM(H20:K20) -> 68000000 | H20: 40211875 | I20: 0 | J20: 13649125 | K20: 14139000
A21: תשתיות | B21: חכ"ל | C21: 8312 | D21: השלמת פתוח טיילת נווה נוי | E21: לביצוע | F21: =SUM(H21:K21) -> 13000000 | G21: =SUM(H21:K21) -> 13000000 | H21: 3300000 | I21: 3700000 | J21: 6000000 | K21: 0
A22: תשתיות | B22: מנהלת | C22: 8313 | D22: שצ"פ יגאל אלון | E22: לביצוע | F22: =SUM(H22:K22) -> 40000000 | G22: =SUM(H22:K22) -> 40000000 | H22: 12000000 | I22: 10000000 | J22: 18000000 | K22: 0
A23: תשתיות | B23: מנהלת | C23: 8314 | D23: הקמת גשר מעל תוואי נחל ב"ש לחיבור שכונת הפארק | E23: לביצוע | F23: =SUM(H23:K23) -> 50000000 | G23: =SUM(H23:K23) -> 50000000 | H23: 5000000 | I23: 5000000 | J23: 20000000 | K23: 20000000
A24: תשתיות | B24: מנהלת | C24: 8316 | D24: תכנון וביצוע פארק המחצבה | E24: לביצוע | F24: =SUM(H24:K24) -> 30000000 | G24: =SUM(H24:K24) -> 30000000 | H24: 7200000 | I24: 10000000 | J24: 12800000 | K24: 0
A25: תשתיות | B25: מנהלת+הנדסה | C25: 8317 | D25: תכנון וביצוע הנגשות במרחב הציבורי | E25: לביצוע | F25: =SUM(H25:K25) -> 14700000 | G25: =SUM(H25:K25) -> 14700000 | H25: 1900000 | I25: =5800000+1000000 -> 6800000 | J25: 3000000 | K25: 3000000
A26: תשתיות | B26: חכ"ל/הנדסה | C26: 8321 | D26: השלמת תקציב מעגלי תנועה- כללי | E26: לתכנון | F26: =SUM(H26:K26) -> 21806400 | G26: =SUM(H26:K26) -> 21806400 | H26: 2000000 | I26: 5000000 | J26: 5000000 | K26: 9806400
A27: תשתיות | B27: חכ"ל | C27: 8322 | D27: מובל ניקוז בין הרחובות מקס נורדאו-רוטשילד | E27: לתכנון | F27: =SUM(H27:K27) -> 29754000 | G27: =SUM(H27:K27) -> 29754000 | H27: 1000000 | I27: 12000000 | J27: 16754000 | K27: 0
A28: תשתיות | B28: מנהלת | C28: - | D28: שינויים בחתכי הרחובות: דרך שמשון, אחימאיר, ששת הימים | E28: לתכנון | F28: =SUM(H28:K28) -> 13000000 | G28: =SUM(H28:K28) -> 13000000 | H28: 0 | I28: 2000000 | J28: 10000000 | K28: 1000000
A29: תשתיות | B29: מנהלת | C29: - | D29: חתך כביש דרך חברון (דרך נאוי) | E29: לתכנון | F29: =SUM(H29:K29) -> 14000000 | G29: =SUM(H29:K29) -> 14000000 | H29: 10000000 | I29: 4000000 | J29: 0 | K29: 0
A30: תשתיות | B30: איכות הסביבה | C30: - | D30: הנחת קווי קולחין על פי תכנית אב | E30: לתכנון | F30: =SUM(H30:K30) -> 13000000 | G30: =SUM(H30:K30) -> 13000000 | H30: 0 | I30: 2000000 | J30: 10000000 | K30: 1000000
A31: תשתיות | B31: מנהלת | C31: - | D31: פיתוח רחוב דוד חכם | E31: לתכנון | F31: =SUM(H31:K31) -> 20000000 | G31: =SUM(H31:K31) -> 20000000 | H31: 11500000 | I31: 8500000 | J31: 0 | K31: 0
A32: תשתיות | B32: מנהלת | C32: - | D32: פתוח שצ"פ לאורך כביש הגובל עם שכונת נווה מנחם ב' /כלניות | E32: לתכנון | F32: =SUM(H32:K32) -> 30000000 | G32: =SUM(H32:K32) -> 30000000 | H32: 0 | I32: 2500000 | J32: 10000000 | K32: =30000000-I32-J32 -> 17500000
A33: תשתיות | B33: חכ"ל | C33: - | D33: השלמות פיתוח שכונת נאות לון העמסה | E33: לביצוע | F33: =SUM(H33:K33) -> 49000000 | G33: =SUM(H33:K33) -> 49000000 | H33: 1000000 | I33: 10000000 | J33: 38000000 | K33: 0
A34: תשתיות | B34: חכ"ל | C34: - | D34: השלמת פתוח רחוב יהודה הלוי | E34: לתכנון | F34: =SUM(H34:K34) -> 13500000 | G34: =SUM(H34:K34) -> 13500000 | H34: 0 | I34: 5000000 | J34: 8500000 | K34: 0
A35: תשתיות | B35: גזברות | C35: 8318 | D35: פינוי וטיפול במגבלות הקיימות במתחם "חוות הגז" | E35: לתכנון | F35: =SUM(H35:K35) -> 17576250 | G35: =SUM(H35:K35) -> 17576250 | H35: 16576250 | I35: 1000000 | J35: 0 | K35: 0
D37: סה"כ פיתוח במסגרת תשתיות על | F37: =SUM(F17:F36) -> 540746177 | G37: =SUM(G17:G36) -> 540746177 | H37: =SUM(H17:H36) -> 148050000 | I37: =SUM(I17:I36) -> 110553000 | J37: =SUM(J17:J36) -> 211620777 | K37: =SUM(K17:K36) -> 70522400
A39: שכונות וותיקות
A40: הסכמי גג - תשתיות | B40: עירייה | D40: תכנון רח' המשחררים בין שד' רגר לשד' טוביהו | E40: מיידי | F40: =SUM(H40:K40) -> 1000000 | G40: =SUM(H40:K40) -> 1000000 | H40: 0 | I40: 1000000 | J40: 0 | K40: 0
A41: הסכמי גג - תשתיות | B41: עירייה | D41: רח' הדעת - תכנון | E41: מיידי | F41: =SUM(H41:K41) -> 800000 | G41: =SUM(H41:K41) -> 800000 | H41: 0 | I41: 800000 | J41: 0 | K41: 0
A42: הסכמי גג - תשתיות | B42: עירייה | D42: רח' בית אל - תכנון + ביצוע | E42: מיידי | F42: =SUM(H42:K42) -> 3500000 | G42: =SUM(H42:K42) -> 3500000 | H42: 0 | I42: 3500000 | J42: 0 | K42: 0
A43: הסכמי גג - תשתיות | B43: עירייה | D43: רח' הנדיב - תכנון+ביצוע | E43: מיידי | F43: =SUM(H43:K43) -> 1300000 | G43: =SUM(H43:K43) -> 1300000 | H43: 0 | I43: 1300000 | J43: 0 | K43: 0
A44: הסכמי גג - תשתיות | B44: עירייה | D44: החלפת פנסי תאורה ללדים (5) | E44: מיידי | F44: =SUM(H44:K44) -> 3000000 | G44: =SUM(H44:K44) -> 3000000 | H44: 0 | I44: 1000000 | J44: 1000000 | K44: 1000000
A45: הסכמי גג - תשתיות | B45: עירייה | D45: החלפת עמודים מסוכנים ברחבי העיר | E45: מיידי | F45: =SUM(H45:K45) -> 6000000 | G45: =SUM(H45:K45) -> 6000000 | H45: 0 | I45: 2000000 | J45: 2000000 | K45: 2000000
A46: הסכמי גג - תשתיות | B46: עירייה | D46: חידוש צבע בעמודי תאורה ברחבי העיר | E46: מיידי | F46: =SUM(H46:K46) -> 450000 | G46: =SUM(H46:K46) -> 450000 | H46: 0 | I46: 150000 | J46: 150000 | K46: 150000
A47: הסכמי גג - תשתיות | B47: עירייה | D47: הסדרת מדרכה ותאורה סביב מכללת ב"ש באזור תעשיה עמק שרה | E47: מיידי | F47: =SUM(H47:K47) -> 600000 | G47: =SUM(H47:K47) -> 600000 | H47: 0 | I47: 600000 | J47: 0 | K47: 0
A48: הסכמי גג - תשתיות | B48: עירייה | D48: פיתוח שכונות וותיקות - כללי | E48: מיידי | F48: =SUM(H48:K48) -> 173311625 | G48: =SUM(H48:K48) -> 173311625 | H48: 96331625 | I48: 38274000 | J48: 38706000 | K48: 0
D50: סה"כ פיתוח במסגרת שכונות ותיקות | F50: =SUM(F40:F49) -> 189961625 | G50: =SUM(G40:G49) -> 189961625 | H50: =SUM(H40:H49) -> 96331625 | I50: =SUM(I40:I49) -> 48624000 | J50: =SUM(J40:J49) -> 41856000 | K50: =SUM(K40:K49) -> 3150000
A52: הקמת מוסדות חינוך וציבור
A54: הקמת מוסדות חינוך וציבור במתחמים החדשים | D54: בניית מוסדות חינוך וציבור בשכונות חדשות | E54: לביצוע | F54: =SUM(H54:K54) -> 240054774 | G54: =SUM(H54:K54) -> 240054774 | H54: 89625774 | I54: 80669000 | J54: 69760000 | K54: 0
A55: הנגשת מוסדות חינוך וציבור | D55: הנגשת מוסדות עירוניים שונים | E55: מיידי | F55: =SUM(H55:K55) -> 6000000 | G55: =SUM(H55:K55) -> 6000000 | H55: 0 | I55: 2000000 | J55: 2000000 | K55: 2000000
...
